{"text_format":"1","workbook":"xlsx","n_sheets":6,"sheets":["Clients (Summary)","Clients (All)","Service Jobs","Clients without E-mail","Client Details","Options"],"not_rendered":{"charts":0,"images":1,"macros":1,"external_links":0,"defined_names":4,"comments":0,"pivot_tables":0},"unopened":[],"bounds":{"document_bytes":16777216,"sheet_cells":100000,"rows_first":2000,"rows_last":500,"rows_between":2000,"halvings":0,"cell_chars":16384,"cell_head_chars":4096},"cells_cut":0,"cells_raw":0,"read":"whole","date_system":"1900"}

{"sheet":"Clients (Summary)","index":0,"n_rows":4037,"n_cols":11,"rows_kept":4037,"cut":false,"hidden":false,"merged":[]}
["Name","Contact","Phone","Email","CustomFieldTitle","CustomFieldBusinessType","CustomFieldCounty","CustomFieldSource","DETAILS","QUOTE","FAX"]
["2G TechWorks, Inc. (Powell)","Andrew Powell"," 616-608-7734","andrew@2gtech.com","President","Supplier","Kent",null,{"$f":"HYPERLINK(\"#'Client Details'!$B$1\",\"Details\")","v":"Details"},{"$f":"HYPERLINK(Options!$B$1, \"Quote\")","v":"Quote"},{"$f":"HYPERLINK(Options!$B$2,\"Fax\")","v":"Fax"}]
["A & B Builders Plumbing-Mechanical",null,"616-437-6550",null,null,null,null,null,{"$f":"HYPERLINK(\"#'Client Details'!$B$1\",\"Details\")","v":"Details"},{"$f":"HYPERLINK(Options!$B$1, \"Quote\")","v":"Quote"},{"$f":"HYPERLINK(Options!$B$2,\"Fax\")","v":"Fax"}]
["A & B Packing Co.","Marv Ressor","269-621-3837",null,null,null,null,null,{"$f":"HYPERLINK(\"#'Client Details'!$B$1\",\"Details\")","v":"Details"},{"$f":"HYPERLINK(Options!$B$1, \"Quote\")","v":"Quote"},{"$f":"HYPERLINK(Options!$B$2,\"Fax\")","v":"Fax"}]
["A & R Erectors Inc.","Lisa","317-271-3429",null,null,null,null,null,{"$f":"HYPERLINK(\"#'Client Details'!$B$1\",\"Details\")","v":"Details"},{"$f":"HYPERLINK(Options!$B$1, \"Quote\")","v":"Quote"},{"$f":"HYPERLINK(Options!$B$2,\"Fax\")","v":"Fax"}]
["A & R Mechanical Services Inc. (Riker)","Rick Riker"," 616-235-7470",null,null,"Contractor General","Kent",null,{"$f":"HYPERLINK(\"#'Client Details'!$B$1\",\"Details\")","v":"Details"},{"$f":"HYPERLINK(Options!$B$1, \"Quote\")","v":"Quote"},{"$f":"HYPERLINK(Options!$B$2,\"Fax\")","v":"Fax"}]
["A&B Packing Company, Inc. (Barker)","Karen Barker"," 269-621-3837","karen.barker@abpacking.com","Office Manager","Manufacturer","Berrien",null,{"$f":"HYPERLINK(\"#'Client Details'!$B$1\",\"Details\")","v":"Details"},{"$f":"HYPERLINK(Options!$B$1, \"Quote\")","v":"Quote"},{"$f":"HYPERLINK(Options!$B$2,\"Fax\")","v":"Fax"}]
["A. Belloli & Sons","Tom Belloli","508-697-2301",null,null,null,null,null,{"$f":"HYPERLINK(\"#'Client Details'!$B$1\",\"Details\")","v":"Details"},{"$f":"HYPERLINK(Options!$B$1, \"Quote\")","v":"Quote"},{"$f":"HYPERLINK(Options!$B$2,\"Fax\")","v":"Fax"}]
["AAA Sling & Industrial Supply (Vant)","Dave Vant"," 616-530-0500",null,null,"Supplier","Kent",null,{"$f":"HYPERLINK(\"#'Client Details'!$B$1\",\"Details\")","v":"Details"},{"$f":"HYPERLINK(Options!$B$1, \"Quote\")","v":"Quote"},{"$f":"HYPERLINK(Options!$B$2,\"Fax\")","v":"Fax"}]
["AAA Sling Industrial Supply, Inc.",null,"616-530-0500",null,null,null,null,null,{"$f":"HYPERLINK(\"#'Client Details'!$B$1\",\"Details\")","v":"Details"},{"$f":"HYPERLINK(Options!$B$1, \"Quote\")","v":"Quote"},{"$f":"HYPERLINK(Options!$B$2,\"Fax\")","v":"Fax"}]
["Aaron Russell",null,null,null,null,null,null,null,{"$f":"HYPERLINK(\"#'Client Details'!$B$1\",\"Details\")","v":"Details"},{"$f":"HYPERLINK(Options!$B$1, \"Quote\")","v":"Quote"},{"$f":"HYPERLINK(Options!$B$2,\"Fax\")","v":"Fax"}]
["ABB, Inc.","Dawn Sielaff","248-391-9000","dawn.m.sielaff@us.abb.com",null,null,null,null,{"$f":"HYPERLINK(\"#'Client Details'!$B$1\",\"Details\")","v":"Details"},{"$f":"HYPERLINK(Options!$B$1, \"Quote\")","v":"Quote"},{"$f":"HYPERLINK(Options!$B$2,\"Fax\")","v":"Fax"}]
["Abbey Homes (Mitchell)","Lance Mitchell"," 248-819-0291","lmitchell@westminsterabbeyhomes.com","Superintendent","Contractor General","Washtenaw",null,{"$f":"HYPERLINK(\"#'Client Details'!$B$1\",\"Details\")","v":"Details"},{"$f":"HYPERLINK(Options!$B$1, \"Quote\")","v":"Quote"},{"$f":"HYPERLINK(Options!$B$2,\"Fax\")","v":"Fax"}]
["Abbott Laboratories (Craycraft)","David Craycraft"," 614-624-6105",null,null,"Chemical Pharmaceutical","Out of State",null,{"$f":"HYPERLINK(\"#'Client Details'!$B$1\",\"Details\")","v":"Details"},{"$f":"HYPERLINK(Options!$B$1, \"Quote\")","v":"Quote"},{"$f":"HYPERLINK(Options!$B$2,\"Fax\")","v":"Fax"}]
["Abbott Laboratories (Gabriel)","Glenn R. Gabriel"," 847-935-2845","glenn.gabriel@abbott.com","Sr. Environmental Engineer","Chemical Pharmaceutical","Out of State",null,{"$f":"HYPERLINK(\"#'Client Details'!$B$1\",\"Details\")","v":"Details"},{"$f":"HYPERLINK(Options!$B$1, \"Quote\")","v":"Quote"},{"$f":"HYPERLINK(Options!$B$2,\"Fax\")","v":"Fax"}]
["Abbott Laboratories, Ross Products Div. (","Bob Stuart"," 269-651-0384","robert.stuart@abbott.com",null,"Food","St. Joseph",null,{"$f":"HYPERLINK(\"#'Client Details'!$B$1\",\"Details\")","v":"Details"},{"$f":"HYPERLINK(Options!$B$1, \"Quote\")","v":"Quote"},{"$f":"HYPERLINK(Options!$B$2,\"Fax\")","v":"Fax"}]
["Abbott Laboratories, Ross Products Div.S","James Pocklington"," 269-651-0858","jim.pocklington@abbott.com","Maintenace Supervisor","Food","St. Joseph",null,{"$f":"HYPERLINK(\"#'Client Details'!$B$1\",\"Details\")","v":"Details"},{"$f":"HYPERLINK(Options!$B$1, \"Quote\")","v":"Quote"},{"$f":"HYPERLINK(Options!$B$2,\"Fax\")","v":"Fax"}]
["Abbott Nutrition","Terry","269-651-0645",null,null,null,null,null,{"$f":"HYPERLINK(\"#'Client Details'!$B$1\",\"Details\")","v":"Details"},{"$f":"HYPERLINK(Options!$B$1, \"Quote\")","v":"Quote"},{"$f":"HYPERLINK(Options!$B$2,\"Fax\")","v":"Fax"}]
["Abbott Nutrition (Richmond)","Renee Baker","765-935-8636",null,null,null,null,null,{"$f":"HYPERLINK(\"#'Client Details'!$B$1\",\"Details\")","v":"Details"},{"$f":"HYPERLINK(Options!$B$1, \"Quote\")","v":"Quote"},{"$f":"HYPERLINK(Options!$B$2,\"Fax\")","v":"Fax"}]
["Abco Safety","Norm Mitchell","513-772-6464",null,null,null,null,null,{"$f":"HYPERLINK(\"#'Client Details'!$B$1\",\"Details\")","v":"Details"},{"$f":"HYPERLINK(Options!$B$1, \"Quote\")","v":"Quote"},{"$f":"HYPERLINK(Options!$B$2,\"Fax\")","v":"Fax"}]
["ABCO Safety (Mitchell)","Norm Mitchell"," 513-772-6464","nmitchell@abcosafety.com",null,"Safety Supplier","Out of State",null,{"$f":"HYPERLINK(\"#'Client Details'!$B$1\",\"Details\")","v":"Details"},{"$f":"HYPERLINK(Options!$B$1, \"Quote\")","v":"Quote"},{"$f":"HYPERLINK(Options!$B$2,\"Fax\")","v":"Fax"}]
["Abonmarche Group, The (Walker)","Mark Walker"," 269-927-2295","mwalker@abonmarche.com","Regulatory Specialist","Contractor EH&S","Berrien",null,{"$f":"HYPERLINK(\"#'Client Details'!$B$1\",\"Details\")","v":"Details"},{"$f":"HYPERLINK(Options!$B$1, \"Quote\")","v":"Quote"},{"$f":"HYPERLINK(Options!$B$2,\"Fax\")","v":"Fax"}]
["ABS Americas Division",null,"440-895-8900",null,null,null,null,null,{"$f":"HYPERLINK(\"#'Client Details'!$B$1\",\"Details\")","v":"Details"},{"$f":"HYPERLINK(Options!$B$1, \"Quote\")","v":"Quote"},{"$f":"HYPERLINK(Options!$B$2,\"Fax\")","v":"Fax"}]
["ABS Americas Division (Wilson)","Sandy Wilson"," 440-895-8900","abscleveland@eagle.org",null,null,"Cuyahoga",null,{"$f":"HYPERLINK(\"#'Client Details'!$B$1\",\"Details\")","v":"Details"},{"$f":"HYPERLINK(Options!$B$1, \"Quote\")","v":"Quote"},{"$f":"HYPERLINK(Options!$B$2,\"Fax\")","v":"Fax"}]
["Absolute Safety Inc.","John & Vicky Stalmack","231-723-5191",null,null,null,null,null,{"$f":"HYPERLINK(\"#'Client Details'!$B$1\",\"Details\")","v":"Details"},{"$f":"HYPERLINK(Options!$B$1, \"Quote\")","v":"Quote"},{"$f":"HYPERLINK(Options!$B$2,\"Fax\")","v":"Fax"}]
["Access Business Group","Shelly Stephens","616-787-8343",null,null,null,null,null,{"$f":"HYPERLINK(\"#'Client Details'!$B$1\",\"Details\")","v":"Details"},{"$f":"HYPERLINK(Options!$B$1, \"Quote\")","v":"Quote"},{"$f":"HYPERLINK(Options!$B$2,\"Fax\")","v":"Fax"}]
["Access Insurance Agencies (Hoedeman)","Jack Hoedeman"," 616-245-5555","jack@accessgr.com",null,"Insurance","Kent",null,{"$f":"HYPERLINK(\"#'Client Details'!$B$1\",\"Details\")","v":"Details"},{"$f":"HYPERLINK(Options!$B$1, \"Quote\")","v":"Quote"},{"$f":"HYPERLINK(Options!$B$2,\"Fax\")","v":"Fax"}]
["Access Insurance Agencies (Mayne)","Sarah Mayne"," 616-245-5555",null,null,null,"Kent",null,{"$f":"HYPERLINK(\"#'Client Details'!$B$1\",\"Details\")","v":"Details"},{"$f":"HYPERLINK(Options!$B$1, \"Quote\")","v":"Quote"},{"$f":"HYPERLINK(Options!$B$2,\"Fax\")","v":"Fax"}]
["Access Safety LLC","Jeff Mather","616-696-1823 home",null,null,null,null,null,{"$f":"HYPERLINK(\"#'Client Details'!$B$1\",\"Details\")","v":"Details"},{"$f":"HYPERLINK(Options!$B$1, \"Quote\")","v":"Quote"},{"$f":"HYPERLINK(Options!$B$2,\"Fax\")","v":"Fax"}]
["Access Safety LLC (Mather)","Jeff Mather"," 616-696-3887","jeff@accesssafety.biz","Accident Prevention Consultant","Contractor EH&S","Kent",null,{"$f":"HYPERLINK(\"#'Client Details'!$B$1\",\"Details\")","v":"Details"},{"$f":"HYPERLINK(Options!$B$1, \"Quote\")","v":"Quote"},{"$f":"HYPERLINK(Options!$B$2,\"Fax\")","v":"Fax"}]
["Accident Fund (Leys)","Mary Leys"," 517-367-1413","maryl@accidentfund.com",null,"Insurance","Ingham",null,{"$f":"HYPERLINK(\"#'Client Details'!$B$1\",\"Details\")","v":"Details"},{"$f":"HYPERLINK(Options!$B$1, \"Quote\")","v":"Quote"},{"$f":"HYPERLINK(Options!$B$2,\"Fax\")","v":"Fax"}]
["Accident Fund (Quigley)","Kevin Quigley"," 616-662-0567","kevinq@accidentfund.com","Sr. Loss Prevention Consultant","Insurance","Ingham",null,{"$f":"HYPERLINK(\"#'Client Details'!$B$1\",\"Details\")","v":"Details"},{"$f":"HYPERLINK(Options!$B$1, \"Quote\")","v":"Quote"},{"$f":"HYPERLINK(Options!$B$2,\"Fax\")","v":"Fax"}]
["Accident Fund Insurance (Rabach)","Mike Rabach"," 231-773-6791","mike3r@accidentfund.com",null,"Insurance","Kent",null,{"$f":"HYPERLINK(\"#'Client Details'!$B$1\",\"Details\")","v":"Details"},{"$f":"HYPERLINK(Options!$B$1, \"Quote\")","v":"Quote"},{"$f":"HYPERLINK(Options!$B$2,\"Fax\")","v":"Fax"}]
["Accident Fund Insurance Company","Lou Ann Gill ext.1636","888-276-0327",null,null,null,null,null,{"$f":"HYPERLINK(\"#'Client Details'!$B$1\",\"Details\")","v":"Details"},{"$f":"HYPERLINK(Options!$B$1, \"Quote\")","v":"Quote"},{"$f":"HYPERLINK(Options!$B$2,\"Fax\")","v":"Fax"}]
["Accident Fund Insurance Company (Muskegon","Mike Rabach","231-773-6791",null,null,null,null,null,{"$f":"HYPERLINK(\"#'Client Details'!$B$1\",\"Details\")","v":"Details"},{"$f":"HYPERLINK(Options!$B$1, \"Quote\")","v":"Quote"},{"$f":"HYPERLINK(Options!$B$2,\"Fax\")","v":"Fax"}]
["AccuCal","Ed Sarin","989-302-1201","esarin@charter.net",null,null,null,null,{"$f":"HYPERLINK(\"#'Client Details'!$B$1\",\"Details\")","v":"Details"},{"$f":"HYPERLINK(Options!$B$1, \"Quote\")","v":"Quote"},{"$f":"HYPERLINK(Options!$B$2,\"Fax\")","v":"Fax"}]
["Accuform Industries, Inc","Nate Mattione","616-318-4766",null,null,null,null,null,{"$f":"HYPERLINK(\"#'Client Details'!$B$1\",\"Details\")","v":"Details"},{"$f":"HYPERLINK(Options!$B$1, \"Quote\")","v":"Quote"},{"$f":"HYPERLINK(Options!$B$2,\"Fax\")","v":"Fax"}]
["Accuform Industries, Inc. (Dunneback)","Scott Dunneback"," 616-363-3801","scott@accuformgr.com","Operations Manager","Manufacturer","Kent",null,{"$f":"HYPERLINK(\"#'Client Details'!$B$1\",\"Details\")","v":"Details"},{"$f":"HYPERLINK(Options!$B$1, \"Quote\")","v":"Quote"},{"$f":"HYPERLINK(Options!$B$2,\"Fax\")","v":"Fax"}]
["Accurate Safety","Nancy Lantz (A/P)","989-695-6446","tbrandle@accsafety.com",null,null,null,null,{"$f":"HYPERLINK(\"#'Client Details'!$B$1\",\"Details\")","v":"Details"},{"$f":"HYPERLINK(Options!$B$1, \"Quote\")","v":"Quote"},{"$f":"HYPERLINK(Options!$B$2,\"Fax\")","v":"Fax"}]
["Accurate Safety Distributors, Inc. (Tippm","Tom Tippman"," 800-292-8240","asd@mindnet.org","Sales Manager","Competitor","Saginaw",null,{"$f":"HYPERLINK(\"#'Client Details'!$B$1\",\"Details\")","v":"Details"},{"$f":"HYPERLINK(Options!$B$1, \"Quote\")","v":"Quote"},{"$f":"HYPERLINK(Options!$B$2,\"Fax\")","v":"Fax"}]
["Ace Steel (Pou)","Rudy Pou"," 269-792-0311",null,"President","Contractor General","Allegan",null,{"$f":"HYPERLINK(\"#'Client Details'!$B$1\",\"Details\")","v":"Details"},{"$f":"HYPERLINK(Options!$B$1, \"Quote\")","v":"Quote"},{"$f":"HYPERLINK(Options!$B$2,\"Fax\")","v":"Fax"}]
["Ace Steel Erection Inc.",null,"800-574-0311",null,null,null,null,null,{"$f":"HYPERLINK(\"#'Client Details'!$B$1\",\"Details\")","v":"Details"},{"$f":"HYPERLINK(Options!$B$1, \"Quote\")","v":"Quote"},{"$f":"HYPERLINK(Options!$B$2,\"Fax\")","v":"Fax"}]
["ACI (Goshi)","Rashesh Goshi"," 734-753-4642 108",null,null,"Other","Wayne",null,{"$f":"HYPERLINK(\"#'Client Details'!$B$1\",\"Details\")","v":"Details"},{"$f":"HYPERLINK(Options!$B$1, \"Quote\")","v":"Quote"},{"$f":"HYPERLINK(Options!$B$2,\"Fax\")","v":"Fax"}]
["ACME Ladder & Supply Co.","Acct Collette Bingham","800-445-7087",null,null,null,null,null,{"$f":"HYPERLINK(\"#'Client Details'!$B$1\",\"Details\")","v":"Details"},{"$f":"HYPERLINK(Options!$B$1, \"Quote\")","v":"Quote"},{"$f":"HYPERLINK(Options!$B$2,\"Fax\")","v":"Fax"}]
["ACME Ladder & Supply Co. (Szakal)","Pat Szakal"," 248-543-4420",null,null,"Competitor","Oakland",null,{"$f":"HYPERLINK(\"#'Client Details'!$B$1\",\"Details\")","v":"Details"},{"$f":"HYPERLINK(Options!$B$1, \"Quote\")","v":"Quote"},{"$f":"HYPERLINK(Options!$B$2,\"Fax\")","v":"Fax"}]
["Action Industrial Supply","Paul Wickland","231-727-2423",null,null,null,null,null,{"$f":"HYPERLINK(\"#'Client Details'!$B$1\",\"Details\")","v":"Details"},{"$f":"HYPERLINK(Options!$B$1, \"Quote\")","v":"Quote"},{"$f":"HYPERLINK(Options!$B$2,\"Fax\")","v":"Fax"}]
["Acuren Inspection","Kyle Kirby 269-377-9927","269-377-9927",null,null,null,null,null,{"$f":"HYPERLINK(\"#'Client Details'!$B$1\",\"Details\")","v":"Details"},{"$f":"HYPERLINK(Options!$B$1, \"Quote\")","v":"Quote"},{"$f":"HYPERLINK(Options!$B$2,\"Fax\")","v":"Fax"}]
["Ada Fire Department (Duvall)","Jim Duvall"," 616-676-2376","jduvall@ada.mi.us","Chief","Fire Department","Kent",null,{"$f":"HYPERLINK(\"#'Client Details'!$B$1\",\"Details\")","v":"Details"},{"$f":"HYPERLINK(Options!$B$1, \"Quote\")","v":"Quote"},{"$f":"HYPERLINK(Options!$B$2,\"Fax\")","v":"Fax"}]
["ADAC Plastics (Grand Rapids)","Lisa Purcell ext.5872 safety","231-777-2645","vmiller@adacautomotive.com",null,null,null,null,{"$f":"HYPERLINK(\"#'Client Details'!$B$1\",\"Details\")","v":"Details"},{"$f":"HYPERLINK(Options!$B$1, \"Quote\")","v":"Quote"},{"$f":"HYPERLINK(Options!$B$2,\"Fax\")","v":"Fax"}]
["ADAC Plastics (Muskegon)","Lisa Purcell ext.5872 safety","231-777-2645",null,null,null,null,null,{"$f":"HYPERLINK(\"#'Client Details'!$B$1\",\"Details\")","v":"Details"},{"$f":"HYPERLINK(Options!$B$1, \"Quote\")","v":"Quote"},{"$f":"HYPERLINK(Options!$B$2,\"Fax\")","v":"Fax"}]
["ADAC Plastics (Purcell)","Lisa Purcell"," 616-777-2645 5872","lpurcell@adacautomotive.com","EH&S Manager","Manufacturer","Kent",null,{"$f":"HYPERLINK(\"#'Client Details'!$B$1\",\"Details\")","v":"Details"},{"$f":"HYPERLINK(Options!$B$1, \"Quote\")","v":"Quote"},{"$f":"HYPERLINK(Options!$B$2,\"Fax\")","v":"Fax"}]
["ADAC Plastics (Rupert)","Jake Rupert"," 231-777-2645 5733","jrupert@adacautomotive.com","Health & Safety Coordinator","Manufacturer","Muskegon",null,{"$f":"HYPERLINK(\"#'Client Details'!$B$1\",\"Details\")","v":"Details"},{"$f":"HYPERLINK(Options!$B$1, \"Quote\")","v":"Quote"},{"$f":"HYPERLINK(Options!$B$2,\"Fax\")","v":"Fax"}]
["ADAC Plastics (Saranac)","Gene Getts","616-642-6411",null,null,null,null,null,{"$f":"HYPERLINK(\"#'Client Details'!$B$1\",\"Details\")","v":"Details"},{"$f":"HYPERLINK(Options!$B$1, \"Quote\")","v":"Quote"},{"$f":"HYPERLINK(Options!$B$2,\"Fax\")","v":"Fax"}]
["Adams Robinson (Shake)","Dennis Shake"," 937-274-5318","dshake@adamsrobinson.com","Safety Director","Contractor General","Out of State",null,{"$f":"HYPERLINK(\"#'Client Details'!$B$1\",\"Details\")","v":"Details"},{"$f":"HYPERLINK(Options!$B$1, \"Quote\")","v":"Quote"},{"$f":"HYPERLINK(Options!$B$2,\"Fax\")","v":"Fax"}]
["Adams Robinson Construction Co.",null,"937-274-5318",null,null,null,null,null,{"$f":"HYPERLINK(\"#'Client Details'!$B$1\",\"Details\")","v":"Details"},{"$f":"HYPERLINK(Options!$B$1, \"Quote\")","v":"Quote"},{"$f":"HYPERLINK(Options!$B$2,\"Fax\")","v":"Fax"}]
["AdaTownship Fire Department","Chief James Duvall","616-676-2376",null,null,null,null,null,{"$f":"HYPERLINK(\"#'Client Details'!$B$1\",\"Details\")","v":"Details"},{"$f":"HYPERLINK(Options!$B$1, \"Quote\")","v":"Quote"},{"$f":"HYPERLINK(Options!$B$2,\"Fax\")","v":"Fax"}]
["Adrian DPW, City of (Dersham)","Keith Dersham"," 517-264-4829",null,"City Engineer","Municipal, Cty","Lenawee",null,{"$f":"HYPERLINK(\"#'Client Details'!$B$1\",\"Details\")","v":"Details"},{"$f":"HYPERLINK(Options!$B$1, \"Quote\")","v":"Quote"},{"$f":"HYPERLINK(Options!$B$2,\"Fax\")","v":"Fax"}]
["Adrian Township Fire Department","Don Betz","517-265-1314",null,null,null,null,null,{"$f":"HYPERLINK(\"#'Client Details'!$B$1\",\"Details\")","v":"Details"},{"$f":"HYPERLINK(Options!$B$1, \"Quote\")","v":"Quote"},{"$f":"HYPERLINK(Options!$B$2,\"Fax\")","v":"Fax"}]
["Advance Security","Dave Balicki","616-774-4011",null,null,null,null,null,{"$f":"HYPERLINK(\"#'Client Details'!$B$1\",\"Details\")","v":"Details"},{"$f":"HYPERLINK(Options!$B$1, \"Quote\")","v":"Quote"},{"$f":"HYPERLINK(Options!$B$2,\"Fax\")","v":"Fax"}]
["Advanced Environmental Service (Boddy)","Andy Boddy"," 616-453-8586",null,null,"Contractor EH&S","Kent",null,{"$f":"HYPERLINK(\"#'Client Details'!$B$1\",\"Details\")","v":"Details"},{"$f":"HYPERLINK(Options!$B$1, \"Quote\")","v":"Quote"},{"$f":"HYPERLINK(Options!$B$2,\"Fax\")","v":"Fax"}]
["Advanced Supply Co.","Colleen Thompson","1-800-272-9004","ktynor@advanced supply.com",null,null,null,null,{"$f":"HYPERLINK(\"#'Client Details'!$B$1\",\"Details\")","v":"Details"},{"$f":"HYPERLINK(Options!$B$1, \"Quote\")","v":"Quote"},{"$f":"HYPERLINK(Options!$B$2,\"Fax\")","v":"Fax"}]
["Advanced Supply Company (Lehnerer)","Mike Lehnerer"," 800-272-9004","mlehnerer@advancedsupply.com",null,"Supplier","Out of State",null,{"$f":"HYPERLINK(\"#'Client Details'!$B$1\",\"Details\")","v":"Details"},{"$f":"HYPERLINK(Options!$B$1, \"Quote\")","v":"Quote"},{"$f":"HYPERLINK(Options!$B$2,\"Fax\")","v":"Fax"}]
["Advanced Supply Company (Thompson)","Colleen Thompson"," 800-272-9004","cthompson@advancedsupply.com",null,"Supplier","Out of State",null,{"$f":"HYPERLINK(\"#'Client Details'!$B$1\",\"Details\")","v":"Details"},{"$f":"HYPERLINK(Options!$B$1, \"Quote\")","v":"Quote"},{"$f":"HYPERLINK(Options!$B$2,\"Fax\")","v":"Fax"}]
["Advantage Cleaning Systems","Jeremy Churchill","616-826-5863 cell",null,null,null,null,null,{"$f":"HYPERLINK(\"#'Client Details'!$B$1\",\"Details\")","v":"Details"},{"$f":"HYPERLINK(Options!$B$1, \"Quote\")","v":"Quote"},{"$f":"HYPERLINK(Options!$B$2,\"Fax\")","v":"Fax"}]
["Advantage Cleaning Systems, Inc. (Churchi","Jeremy Churchill"," 888-204-4616",null,"Operations Manager","Contractor General","Kent",null,{"$f":"HYPERLINK(\"#'Client Details'!$B$1\",\"Details\")","v":"Details"},{"$f":"HYPERLINK(Options!$B$1, \"Quote\")","v":"Quote"},{"$f":"HYPERLINK(Options!$B$2,\"Fax\")","v":"Fax"}]
["Advantage Drain Cleaning (Gillons)","Ryan Gillons"," 269-945-0300",null,"President","Contractor General","Barry",null,{"$f":"HYPERLINK(\"#'Client Details'!$B$1\",\"Details\")","v":"Details"},{"$f":"HYPERLINK(Options!$B$1, \"Quote\")","v":"Quote"},{"$f":"HYPERLINK(Options!$B$2,\"Fax\")","v":"Fax"}]
["Advantage Drain Cleaning LLC","Ryan Gillons","(269) 945-0300 main",null,null,null,null,null,{"$f":"HYPERLINK(\"#'Client Details'!$B$1\",\"Details\")","v":"Details"},{"$f":"HYPERLINK(Options!$B$1, \"Quote\")","v":"Quote"},{"$f":"HYPERLINK(Options!$B$2,\"Fax\")","v":"Fax"}]
["AECOM (Bittenbender)","Brett Bittenbender"," 616.975.4665","Brett.Bittenbender@earthtech.com","Engineer","Engineering, Architecture","Kent",null,{"$f":"HYPERLINK(\"#'Client Details'!$B$1\",\"Details\")","v":"Details"},{"$f":"HYPERLINK(Options!$B$1, \"Quote\")","v":"Quote"},{"$f":"HYPERLINK(Options!$B$2,\"Fax\")","v":"Fax"}]
["AECOM (Grand Rapids)","Brett Bittenbender","616-940-4439",null,null,null,null,null,{"$f":"HYPERLINK(\"#'Client Details'!$B$1\",\"Details\")","v":"Details"},{"$f":"HYPERLINK(Options!$B$1, \"Quote\")","v":"Quote"},{"$f":"HYPERLINK(Options!$B$2,\"Fax\")","v":"Fax"}]
["AECOM (Hoare)","Brad Hoare"," 616-940-4364","brad.hoare@aecom.com",null,"Contractor","Kent",null,{"$f":"HYPERLINK(\"#'Client Details'!$B$1\",\"Details\")","v":"Details"},{"$f":"HYPERLINK(Options!$B$1, \"Quote\")","v":"Quote"},{"$f":"HYPERLINK(Options!$B$2,\"Fax\")","v":"Fax"}]
["AECOM (Hodgson)","Brett Hodgson",null,"brett.hodgson@aecom.com","Safety","Engineering, Architecture","Kent",null,{"$f":"HYPERLINK(\"#'Client Details'!$B$1\",\"Details\")","v":"Details"},{"$f":"HYPERLINK(Options!$B$1, \"Quote\")","v":"Quote"},{"$f":"HYPERLINK(Options!$B$2,\"Fax\")","v":"Fax"}]
["AECOM (Lansing)","Craig Simon",null,null,null,null,null,null,{"$f":"HYPERLINK(\"#'Client Details'!$B$1\",\"Details\")","v":"Details"},{"$f":"HYPERLINK(Options!$B$1, \"Quote\")","v":"Quote"},{"$f":"HYPERLINK(Options!$B$2,\"Fax\")","v":"Fax"}]
["AECOM (Lansing) (Simon)","Craig Simon",null,"craig.simon@aecom.com",null,"Contractor EH&S","Ingham",null,{"$f":"HYPERLINK(\"#'Client Details'!$B$1\",\"Details\")","v":"Details"},{"$f":"HYPERLINK(Options!$B$1, \"Quote\")","v":"Quote"},{"$f":"HYPERLINK(Options!$B$2,\"Fax\")","v":"Fax"}]
["AECOM (Nolan)","Kristopher Nolan"," 616-940-4272","kris.nolan@AECOM.com",null,"Engineering, Architecture","Kent",null,{"$f":"HYPERLINK(\"#'Client Details'!$B$1\",\"Details\")","v":"Details"},{"$f":"HYPERLINK(Options!$B$1, \"Quote\")","v":"Quote"},{"$f":"HYPERLINK(Options!$B$2,\"Fax\")","v":"Fax"}]
["AECOM (Partilla)","Ron Partilla"," 616-942-9600",null,"Department Head, Health and Sa","Contractor EH&S","Kent",null,{"$f":"HYPERLINK(\"#'Client Details'!$B$1\",\"Details\")","v":"Details"},{"$f":"HYPERLINK(Options!$B$1, \"Quote\")","v":"Quote"},{"$f":"HYPERLINK(Options!$B$2,\"Fax\")","v":"Fax"}]
["AECOM (Tolbert)","James Tolbert"," 616-940-4231","james.tolbert@aecom.com","Senior Project Director","Engineering, Architecture","Kent",null,{"$f":"HYPERLINK(\"#'Client Details'!$B$1\",\"Details\")","v":"Details"},{"$f":"HYPERLINK(Options!$B$1, \"Quote\")","v":"Quote"},{"$f":"HYPERLINK(Options!$B$2,\"Fax\")","v":"Fax"}]
["Aegis Safety Consulting, Inc. (Teat)","Gary Teat"," 616-784-6870","gteat@aegis-safety.com",null,"Contractor EH&S","Kent",null,{"$f":"HYPERLINK(\"#'Client Details'!$B$1\",\"Details\")","v":"Details"},{"$f":"HYPERLINK(Options!$B$1, \"Quote\")","v":"Quote"},{"$f":"HYPERLINK(Options!$B$2,\"Fax\")","v":"Fax"}]
["Aeriform Instruments (Emerick)","Duane Emerick"," 800-697-0333","duane@gasinstruments.com","President","Supplier","Out of State",null,{"$f":"HYPERLINK(\"#'Client Details'!$B$1\",\"Details\")","v":"Details"},{"$f":"HYPERLINK(Options!$B$1, \"Quote\")","v":"Quote"},{"$f":"HYPERLINK(Options!$B$2,\"Fax\")","v":"Fax"}]
["Aeriform Instruments, Inc.",null,null,null,null,null,null,null,{"$f":"HYPERLINK(\"#'Client Details'!$B$1\",\"Details\")","v":"Details"},{"$f":"HYPERLINK(Options!$B$1, \"Quote\")","v":"Quote"},{"$f":"HYPERLINK(Options!$B$2,\"Fax\")","v":"Fax"}]
["AES Equipment (Hofstra)","Tom  Hofstra"," 616-784-6683",null,null,"Contractor General","Kent",null,{"$f":"HYPERLINK(\"#'Client Details'!$B$1\",\"Details\")","v":"Details"},{"$f":"HYPERLINK(Options!$B$1, \"Quote\")","v":"Quote"},{"$f":"HYPERLINK(Options!$B$2,\"Fax\")","v":"Fax"}]
["AES Raptor (Vannatta)","Jeff Vannatta"," 888-990-2990","jeff@raptorsafety.com","VP, Safety & Training","Supplier","Out of State",null,{"$f":"HYPERLINK(\"#'Client Details'!$B$1\",\"Details\")","v":"Details"},{"$f":"HYPERLINK(Options!$B$1, \"Quote\")","v":"Quote"},{"$f":"HYPERLINK(Options!$B$2,\"Fax\")","v":"Fax"}]
["AFC","Jim/Cathy","800-952-3293",null,null,null,null,null,{"$f":"HYPERLINK(\"#'Client Details'!$B$1\",\"Details\")","v":"Details"},{"$f":"HYPERLINK(Options!$B$1, \"Quote\")","v":"Quote"},{"$f":"HYPERLINK(Options!$B$2,\"Fax\")","v":"Fax"}]
["AFC International, Inc. (Seneczko)","Jim Seneczko"," 800-952-3293","jseneczko@afcintl.com","Vice President","Representative","Out of State",null,{"$f":"HYPERLINK(\"#'Client Details'!$B$1\",\"Details\")","v":"Details"},{"$f":"HYPERLINK(Options!$B$1, \"Quote\")","v":"Quote"},{"$f":"HYPERLINK(Options!$B$2,\"Fax\")","v":"Fax"}]
["Affordable Window Tint","Robert McHolland","616-399-7048",null,null,null,null,null,{"$f":"HYPERLINK(\"#'Client Details'!$B$1\",\"Details\")","v":"Details"},{"$f":"HYPERLINK(Options!$B$1, \"Quote\")","v":"Quote"},{"$f":"HYPERLINK(Options!$B$2,\"Fax\")","v":"Fax"}]
["Affordable Window Tint (McHolland)","Robert McHolland"," 616-399-7048","theomi7@sbcglobal.net",null,"Competitor","Ottawa",null,{"$f":"HYPERLINK(\"#'Client Details'!$B$1\",\"Details\")","v":"Details"},{"$f":"HYPERLINK(Options!$B$1, \"Quote\")","v":"Quote"},{"$f":"HYPERLINK(Options!$B$2,\"Fax\")","v":"Fax"}]
["AFH Unlimited","Debbie","937-783-1133",null,null,null,null,null,{"$f":"HYPERLINK(\"#'Client Details'!$B$1\",\"Details\")","v":"Details"},{"$f":"HYPERLINK(Options!$B$1, \"Quote\")","v":"Quote"},{"$f":"HYPERLINK(Options!$B$2,\"Fax\")","v":"Fax"}]
["AGC Inc. (Morgan)","Jesse Morgan"," 616-842-1820 257","jmorgan@agc-inc.com","Operations Manager","Manufacturer","Ottawa",null,{"$f":"HYPERLINK(\"#'Client Details'!$B$1\",\"Details\")","v":"Details"},{"$f":"HYPERLINK(Options!$B$1, \"Quote\")","v":"Quote"},{"$f":"HYPERLINK(Options!$B$2,\"Fax\")","v":"Fax"}]
["Aggregate Industries (Holmes)","Brett Holmes"," 269-321-3836","brett.holmes@aggregate.com","Safety Advisor","Mining","Kalamazoo",null,{"$f":"HYPERLINK(\"#'Client Details'!$B$1\",\"Details\")","v":"Details"},{"$f":"HYPERLINK(Options!$B$1, \"Quote\")","v":"Quote"},{"$f":"HYPERLINK(Options!$B$2,\"Fax\")","v":"Fax"}]
["Agile Safety (Burnette)","Elizabeth Burnette"," 616-301-1402","elizabeth@agilesafety.com",null,"Representative","Kent",null,{"$f":"HYPERLINK(\"#'Client Details'!$B$1\",\"Details\")","v":"Details"},{"$f":"HYPERLINK(Options!$B$1, \"Quote\")","v":"Quote"},{"$f":"HYPERLINK(Options!$B$2,\"Fax\")","v":"Fax"}]
["Agile Safety (Covington)","Mickey Covington",null,"mickey@agilesafety.com",null,"Distributor","Out of State",null,{"$f":"HYPERLINK(\"#'Client Details'!$B$1\",\"Details\")","v":"Details"},{"$f":"HYPERLINK(Options!$B$1, \"Quote\")","v":"Quote"},{"$f":"HYPERLINK(Options!$B$2,\"Fax\")","v":"Fax"}]
["Agile Safety (In-House Use)",null,null,null,null,null,null,null,{"$f":"HYPERLINK(\"#'Client Details'!$B$1\",\"Details\")","v":"Details"},{"$f":"HYPERLINK(Options!$B$1, \"Quote\")","v":"Quote"},{"$f":"HYPERLINK(Options!$B$2,\"Fax\")","v":"Fax"}]
["Agile Safety LLC (Burnette)","Brandon Burnette"," 616-301-1402","brandon@agilesafety.com","President","Representative","Kent",null,{"$f":"HYPERLINK(\"#'Client Details'!$B$1\",\"Details\")","v":"Details"},{"$f":"HYPERLINK(Options!$B$1, \"Quote\")","v":"Quote"},{"$f":"HYPERLINK(Options!$B$2,\"Fax\")","v":"Fax"}]
["Agile Safety LLC (Hammond)","Chris Hammond"," 616-301-1402","chris@agilesafety.com","Service and Rental Manager","Representative","Kent",null,{"$f":"HYPERLINK(\"#'Client Details'!$B$1\",\"Details\")","v":"Details"},{"$f":"HYPERLINK(Options!$B$1, \"Quote\")","v":"Quote"},{"$f":"HYPERLINK(Options!$B$2,\"Fax\")","v":"Fax"}]
["Agile Safety LLC (Lemon)","Dan Lemon"," 616-301-1402","lemonchief@gmail.com","Sales Representative","Representative","Kent",null,{"$f":"HYPERLINK(\"#'Client Details'!$B$1\",\"Details\")","v":"Details"},{"$f":"HYPERLINK(Options!$B$1, \"Quote\")","v":"Quote"},{"$f":"HYPERLINK(Options!$B$2,\"Fax\")","v":"Fax"}]
["Agile Safety LLC (Ponte)","Grant Ponte"," 616-301-1402","grant@agilesafety.com",null,"Representative","Kent",null,{"$f":"HYPERLINK(\"#'Client Details'!$B$1\",\"Details\")","v":"Details"},{"$f":"HYPERLINK(Options!$B$1, \"Quote\")","v":"Quote"},{"$f":"HYPERLINK(Options!$B$2,\"Fax\")","v":"Fax"}]
["Agile Safety LLC (Smith)","Shaun Smith"," 616-301-1402","shaun@agilesafety.com",null,"Representative","Kent",null,{"$f":"HYPERLINK(\"#'Client Details'!$B$1\",\"Details\")","v":"Details"},{"$f":"HYPERLINK(Options!$B$1, \"Quote\")","v":"Quote"},{"$f":"HYPERLINK(Options!$B$2,\"Fax\")","v":"Fax"}]
["Agritek Inc. (Weerstra)","John Weerstra"," 616-786-9200",null,"Safety Director",null,"Ottawa",null,{"$f":"HYPERLINK(\"#'Client Details'!$B$1\",\"Details\")","v":"Details"},{"$f":"HYPERLINK(Options!$B$1, \"Quote\")","v":"Quote"},{"$f":"HYPERLINK(Options!$B$2,\"Fax\")","v":"Fax"}]
["Ahlgren, Perrault & Turner, P.A. (Ahlgren","John L. Ahlgren"," 603-431-4522","lawgren@nh.rcn.com","Attorney at Law","BBB Personal","Rockingham",null,{"$f":"HYPERLINK(\"#'Client Details'!$B$1\",\"Details\")","v":"Details"},{"$f":"HYPERLINK(Options!$B$1, \"Quote\")","v":"Quote"},{"$f":"HYPERLINK(Options!$B$2,\"Fax\")","v":"Fax"}]
["Air Handling Equipment Co., Inc. (Masters","Greg Masters"," 517-484-4604",null,null,"Supplier","Ingham",null,{"$f":"HYPERLINK(\"#'Client Details'!$B$1\",\"Details\")","v":"Details"},{"$f":"HYPERLINK(Options!$B$1, \"Quote\")","v":"Quote"},{"$f":"HYPERLINK(Options!$B$2,\"Fax\")","v":"Fax"}]
["Air Liquide - Calgaz (Dobbs)","Terry Dobbs"," 480-814-1178","terry.dobbs@airliquide.com","Region Sales Manager - Calgaz","Supplier","Out of State",null,{"$f":"HYPERLINK(\"#'Client Details'!$B$1\",\"Details\")","v":"Details"},{"$f":"HYPERLINK(Options!$B$1, \"Quote\")","v":"Quote"},{"$f":"HYPERLINK(Options!$B$2,\"Fax\")","v":"Fax"}]
["Air Liquide America - Calgaz (Baker)","George Baker"," 800-638-1197","george.baker@airliquide.com","Engineer","Supplier","Out of State",null,{"$f":"HYPERLINK(\"#'Client Details'!$B$1\",\"Details\")","v":"Details"},{"$f":"HYPERLINK(Options!$B$1, \"Quote\")","v":"Quote"},{"$f":"HYPERLINK(Options!$B$2,\"Fax\")","v":"Fax"}]
["Air Systems International, Inc. (Ellis)","Ray Ellis"," 800-866-8100","ray@airsystems.com","Sales Manager","Supplier","Out State",null,{"$f":"HYPERLINK(\"#'Client Details'!$B$1\",\"Details\")","v":"Details"},{"$f":"HYPERLINK(Options!$B$1, \"Quote\")","v":"Quote"},{"$f":"HYPERLINK(Options!$B$2,\"Fax\")","v":"Fax"}]
["AirGas Great Lakes","Jim Borland","810-730-3639","jim.borland@airgas.com",null,null,null,null,{"$f":"HYPERLINK(\"#'Client Details'!$B$1\",\"Details\")","v":"Details"},{"$f":"HYPERLINK(Options!$B$1, \"Quote\")","v":"Quote"},{"$f":"HYPERLINK(Options!$B$2,\"Fax\")","v":"Fax"}]
["Airgas Merchant Gases","Anita","330-454-1330",null,null,null,null,null,{"$f":"HYPERLINK(\"#'Client Details'!$B$1\",\"Details\")","v":"Details"},{"$f":"HYPERLINK(Options!$B$1, \"Quote\")","v":"Quote"},{"$f":"HYPERLINK(Options!$B$2,\"Fax\")","v":"Fax"}]
["AirGas Safety (Customer)","Cari Smitley x3620","800-445-3711","cari.smitley@airgas.com",null,null,null,null,{"$f":"HYPERLINK(\"#'Client Details'!$B$1\",\"Details\")","v":"Details"},{"$f":"HYPERLINK(Options!$B$1, \"Quote\")","v":"Quote"},{"$f":"HYPERLINK(Options!$B$2,\"Fax\")","v":"Fax"}]
["Airgas Safety (Mitchell)","Becky Mitchell"," 800-445-3711 3609",null,null,"Supplier","Out of State",null,{"$f":"HYPERLINK(\"#'Client Details'!$B$1\",\"Details\")","v":"Details"},{"$f":"HYPERLINK(Options!$B$1, \"Quote\")","v":"Quote"},{"$f":"HYPERLINK(Options!$B$2,\"Fax\")","v":"Fax"}]
["Albemarle Corporation","Lynda Antonson","269-637-8474","apinvoices@albemarle.com",null,null,null,null,{"$f":"HYPERLINK(\"#'Client Details'!$B$1\",\"Details\")","v":"Details"},{"$f":"HYPERLINK(Options!$B$1, \"Quote\")","v":"Quote"},{"$f":"HYPERLINK(Options!$B$2,\"Fax\")","v":"Fax"}]
["Albemarle Corporation (Grant)","Jeff Grant"," 269-637-8474","jeff.grant@dsm.com","EH&S Manager","Chemical Pharmaceutical","Van Buren",null,{"$f":"HYPERLINK(\"#'Client Details'!$B$1\",\"Details\")","v":"Details"},{"$f":"HYPERLINK(Options!$B$1, \"Quote\")","v":"Quote"},{"$f":"HYPERLINK(Options!$B$2,\"Fax\")","v":"Fax"}]
["Albemarle Corporation (Jordan)","Trayton Jordan"," 269-639-0120","trayton.jordan@albemarle.com",null,"Chemical Pharmaceutical","Van Buren",null,{"$f":"HYPERLINK(\"#'Client Details'!$B$1\",\"Details\")","v":"Details"},{"$f":"HYPERLINK(Options!$B$1, \"Quote\")","v":"Quote"},{"$f":"HYPERLINK(Options!$B$2,\"Fax\")","v":"Fax"}]
["Albemarle Corporation (Lang)","Chris Lang"," 269-637-8474","christopher.lang@dsm.com","EH&S","Chemical Pharmaceutical","Van Buren",null,{"$f":"HYPERLINK(\"#'Client Details'!$B$1\",\"Details\")","v":"Details"},{"$f":"HYPERLINK(Options!$B$1, \"Quote\")","v":"Quote"},{"$f":"HYPERLINK(Options!$B$2,\"Fax\")","v":"Fax"}]
["Albemarle Corporation (Mokma)","Jerry L. Mokma"," 269-637-8474","jerry.mokma@albemarle.com","Mainenance Supervisor",null,"Van Buren",null,{"$f":"HYPERLINK(\"#'Client Details'!$B$1\",\"Details\")","v":"Details"},{"$f":"HYPERLINK(Options!$B$1, \"Quote\")","v":"Quote"},{"$f":"HYPERLINK(Options!$B$2,\"Fax\")","v":"Fax"}]
["Alberici Constructors (Schneck)","Dave Schneck"," 734-261-2611",null,"Field Safety","Contractor General","Wayne",null,{"$f":"HYPERLINK(\"#'Client Details'!$B$1\",\"Details\")","v":"Details"},{"$f":"HYPERLINK(Options!$B$1, \"Quote\")","v":"Quote"},{"$f":"HYPERLINK(Options!$B$2,\"Fax\")","v":"Fax"}]
["Alcoa Automotive (McCarty)","John McCarty"," 616-842-3500 1104",null,"EH&S Manager","Steel","Muskegon",null,{"$f":"HYPERLINK(\"#'Client Details'!$B$1\",\"Details\")","v":"Details"},{"$f":"HYPERLINK(Options!$B$1, \"Quote\")","v":"Quote"},{"$f":"HYPERLINK(Options!$B$2,\"Fax\")","v":"Fax"}]
["Alcoa Closure Systems International","Sherry Allen (buyer)","765-364-6221",null,null,null,null,null,{"$f":"HYPERLINK(\"#'Client Details'!$B$1\",\"Details\")","v":"Details"},{"$f":"HYPERLINK(Options!$B$1, \"Quote\")","v":"Quote"},{"$f":"HYPERLINK(Options!$B$2,\"Fax\")","v":"Fax"}]
["Alcoa Closure Systems International (Robe","James C.W. Roberts"," 765-364-7387","jim.roberts@alcoa.com","EHS Manager","Steel","Out of State",null,{"$f":"HYPERLINK(\"#'Client Details'!$B$1\",\"Details\")","v":"Details"},{"$f":"HYPERLINK(Options!$B$1, \"Quote\")","v":"Quote"},{"$f":"HYPERLINK(Options!$B$2,\"Fax\")","v":"Fax"}]
["Alcoa Engineered Systems (Yankton, SD)","Katie Kehow (billing)","412-553-2360 Billing",null,null,null,null,null,{"$f":"HYPERLINK(\"#'Client Details'!$B$1\",\"Details\")","v":"Details"},{"$f":"HYPERLINK(Options!$B$1, \"Quote\")","v":"Quote"},{"$f":"HYPERLINK(Options!$B$2,\"Fax\")","v":"Fax"}]
["Alcoa Howment Castings (Copley)","Darryl Copley"," 231-894-7122","dcopley@howmet.com","Plant Engineer","Manufacturer","Muskegon",null,{"$f":"HYPERLINK(\"#'Client Details'!$B$1\",\"Details\")","v":"Details"},{"$f":"HYPERLINK(Options!$B$1, \"Quote\")","v":"Quote"},{"$f":"HYPERLINK(Options!$B$2,\"Fax\")","v":"Fax"}]
["Alcoa Howment Castings (Lindstrom)","Matthew L. Lindstrom"," 231-894-7639","mlindstrom@howmet.com","Manufacturing Engineer","Manufacturer","Muskegon",null,{"$f":"HYPERLINK(\"#'Client Details'!$B$1\",\"Details\")","v":"Details"},{"$f":"HYPERLINK(Options!$B$1, \"Quote\")","v":"Quote"},{"$f":"HYPERLINK(Options!$B$2,\"Fax\")","v":"Fax"}]
["Alcoa Howment Castings (Parrish)","Michael F. Parrish"," 231-894-7144","mparrish@howmet.com","Manufacturing Engineer","Manufacturer","Muskegon",null,{"$f":"HYPERLINK(\"#'Client Details'!$B$1\",\"Details\")","v":"Details"},{"$f":"HYPERLINK(Options!$B$1, \"Quote\")","v":"Quote"},{"$f":"HYPERLINK(Options!$B$2,\"Fax\")","v":"Fax"}]
["Alcoa Howment Castings (Seaver)","Gary Seaver"," 231-894-7682","gary.seaver@alcoa.com","Plant Engineer",null,"Muskegon",null,{"$f":"HYPERLINK(\"#'Client Details'!$B$1\",\"Details\")","v":"Details"},{"$f":"HYPERLINK(Options!$B$1, \"Quote\")","v":"Quote"},{"$f":"HYPERLINK(Options!$B$2,\"Fax\")","v":"Fax"}]
["Alcoa Howment Castings (Shepherd)","Bruce Shepherd"," 231-894-7554","bshepherd@howmet.com","EH&S Manager","Manufacturer","Muskegon",null,{"$f":"HYPERLINK(\"#'Client Details'!$B$1\",\"Details\")","v":"Details"},{"$f":"HYPERLINK(Options!$B$1, \"Quote\")","v":"Quote"},{"$f":"HYPERLINK(Options!$B$2,\"Fax\")","v":"Fax"}]
["Alcoa Yankton (Benson)","Dan Benson"," 605-668-2340","dan.j.benson@alcoa.com","EHS Coordinator","Steel","Out of State",null,{"$f":"HYPERLINK(\"#'Client Details'!$B$1\",\"Details\")","v":"Details"},{"$f":"HYPERLINK(Options!$B$1, \"Quote\")","v":"Quote"},{"$f":"HYPERLINK(Options!$B$2,\"Fax\")","v":"Fax"}]
["Aleris International, Inc. (Myers)","Brady Myers"," 517-279-4042","brady.myers@aleris.com","Safety Manager","Steel","Branch",null,{"$f":"HYPERLINK(\"#'Client Details'!$B$1\",\"Details\")","v":"Details"},{"$f":"HYPERLINK(Options!$B$1, \"Quote\")","v":"Quote"},{"$f":"HYPERLINK(Options!$B$2,\"Fax\")","v":"Fax"}]
["Alise Inc (Lynch)","Mick Lynch"," 269-329-1600","service@americanhydrogeology.com","President","Contractor EH&S","Kalamazoo",null,{"$f":"HYPERLINK(\"#'Client Details'!$B$1\",\"Details\")","v":"Details"},{"$f":"HYPERLINK(Options!$B$1, \"Quote\")","v":"Quote"},{"$f":"HYPERLINK(Options!$B$2,\"Fax\")","v":"Fax"}]
["Alise Inc (Rogers)","Michael Rogers"," 608-836-7200 4079","mike.rogers@americangirl.com","Facilities Manager","Manufacturer","Out of State",null,{"$f":"HYPERLINK(\"#'Client Details'!$B$1\",\"Details\")","v":"Details"},{"$f":"HYPERLINK(Options!$B$1, \"Quote\")","v":"Quote"},{"$f":"HYPERLINK(Options!$B$2,\"Fax\")","v":"Fax"}]
["ALJ International","Andrea Shane","260-623-3109","agshane@profigy.cit",null,null,null,null,{"$f":"HYPERLINK(\"#'Client Details'!$B$1\",\"Details\")","v":"Details"},{"$f":"HYPERLINK(Options!$B$1, \"Quote\")","v":"Quote"},{"$f":"HYPERLINK(Options!$B$2,\"Fax\")","v":"Fax"}]
["All Around Excavating","Chad Zerlaut","231-834-1729",null,null,null,null,null,{"$f":"HYPERLINK(\"#'Client Details'!$B$1\",\"Details\")","v":"Details"},{"$f":"HYPERLINK(Options!$B$1, \"Quote\")","v":"Quote"},{"$f":"HYPERLINK(Options!$B$2,\"Fax\")","v":"Fax"}]
["All Phase Hydraulic (Brandon)","Brandon"," 616-669-3975",null,"Safety/Operations",null,"Ottawa",null,{"$f":"HYPERLINK(\"#'Client Details'!$B$1\",\"Details\")","v":"Details"},{"$f":"HYPERLINK(Options!$B$1, \"Quote\")","v":"Quote"},{"$f":"HYPERLINK(Options!$B$2,\"Fax\")","v":"Fax"}]
["Allegan County Road Commission","Ken Glupker","269-673-2184 x233",null,null,null,null,null,{"$f":"HYPERLINK(\"#'Client Details'!$B$1\",\"Details\")","v":"Details"},{"$f":"HYPERLINK(Options!$B$1, \"Quote\")","v":"Quote"},{"$f":"HYPERLINK(Options!$B$2,\"Fax\")","v":"Fax"}]
["Allegan County Road Commission (Glupker)","Ken Glupker"," 269-673-2181 233","roadcom@alleganroads.org","Equipment Superintendent","Municipal, Cty","Allegan",null,{"$f":"HYPERLINK(\"#'Client Details'!$B$1\",\"Details\")","v":"Details"},{"$f":"HYPERLINK(Options!$B$1, \"Quote\")","v":"Quote"},{"$f":"HYPERLINK(Options!$B$2,\"Fax\")","v":"Fax"}]
["Allegan DPW, City of","Aaron Haskin","269-673-5511",null,null,null,null,null,{"$f":"HYPERLINK(\"#'Client Details'!$B$1\",\"Details\")","v":"Details"},{"$f":"HYPERLINK(Options!$B$1, \"Quote\")","v":"Quote"},{"$f":"HYPERLINK(Options!$B$2,\"Fax\")","v":"Fax"}]
["Allegan DPW, City of (Courtney)","Laurie Courtney"," 269-673-5511",null,"Stockkeeper","Municipal, Cty","Allegan",null,{"$f":"HYPERLINK(\"#'Client Details'!$B$1\",\"Details\")","v":"Details"},{"$f":"HYPERLINK(Options!$B$1, \"Quote\")","v":"Quote"},{"$f":"HYPERLINK(Options!$B$2,\"Fax\")","v":"Fax"}]
["Allegan DPW, City of (Haskin)","Aaron Haskin"," 269-673-5511","ahaskin@charterinternet.com","Director","Municipal, Cty","Allegan",null,{"$f":"HYPERLINK(\"#'Client Details'!$B$1\",\"Details\")","v":"Details"},{"$f":"HYPERLINK(Options!$B$1, \"Quote\")","v":"Quote"},{"$f":"HYPERLINK(Options!$B$2,\"Fax\")","v":"Fax"}]
["Allegan DPW, City of (Wilson)","Jerry Wilson"," 269-673-5511",null,null,"Municipal, Cty","Allegan",null,{"$f":"HYPERLINK(\"#'Client Details'!$B$1\",\"Details\")","v":"Details"},{"$f":"HYPERLINK(Options!$B$1, \"Quote\")","v":"Quote"},{"$f":"HYPERLINK(Options!$B$2,\"Fax\")","v":"Fax"}]
["Allegan Fire Department, City of (Day)","Rick Day"," 269-673-4459","allegan101@datawise.net","Fire Chief","Fire Department","Allegan",null,{"$f":"HYPERLINK(\"#'Client Details'!$B$1\",\"Details\")","v":"Details"},{"$f":"HYPERLINK(Options!$B$1, \"Quote\")","v":"Quote"},{"$f":"HYPERLINK(Options!$B$2,\"Fax\")","v":"Fax"}]
["Allegan Fire Department, City of (Luyk)","Shaun Luyk"," 269-673-4459","afd102@charterinternet.com",null,"Fire Department","Allegan",null,{"$f":"HYPERLINK(\"#'Client Details'!$B$1\",\"Details\")","v":"Details"},{"$f":"HYPERLINK(Options!$B$1, \"Quote\")","v":"Quote"},{"$f":"HYPERLINK(Options!$B$2,\"Fax\")","v":"Fax"}]
["Allegan Fire District","Chief Bruce Hoyer","269-673-4459",null,null,null,null,null,{"$f":"HYPERLINK(\"#'Client Details'!$B$1\",\"Details\")","v":"Details"},{"$f":"HYPERLINK(Options!$B$1, \"Quote\")","v":"Quote"},{"$f":"HYPERLINK(Options!$B$2,\"Fax\")","v":"Fax"}]
["Allegan Metal Finishing Company (AMFCO) (","Walter Bosnowski"," 269-673-6604",null,"President","Metal Finishing","Allegan",null,{"$f":"HYPERLINK(\"#'Client Details'!$B$1\",\"Details\")","v":"Details"},{"$f":"HYPERLINK(Options!$B$1, \"Quote\")","v":"Quote"},{"$f":"HYPERLINK(Options!$B$2,\"Fax\")","v":"Fax"}]
["Allegan Police Department (Gorr)","Ltnt. Dennis Gorr"," 269-673-2115",null,"Head of Police",null,"Allegan",null,{"$f":"HYPERLINK(\"#'Client Details'!$B$1\",\"Details\")","v":"Details"},{"$f":"HYPERLINK(Options!$B$1, \"Quote\")","v":"Quote"},{"$f":"HYPERLINK(Options!$B$2,\"Fax\")","v":"Fax"}]
["Allegan Wastewater Treatment, City of (Sw","Doug Sweeris"," 269-686-1117","alleganwwtp@gmail.com","Superintendent","Municipal, Cty","Allegan",null,{"$f":"HYPERLINK(\"#'Client Details'!$B$1\",\"Details\")","v":"Details"},{"$f":"HYPERLINK(Options!$B$1, \"Quote\")","v":"Quote"},{"$f":"HYPERLINK(Options!$B$2,\"Fax\")","v":"Fax"}]
["Allegan WWTP, City of",null,"269-686-1117",null,null,null,null,null,{"$f":"HYPERLINK(\"#'Client Details'!$B$1\",\"Details\")","v":"Details"},{"$f":"HYPERLINK(Options!$B$1, \"Quote\")","v":"Quote"},{"$f":"HYPERLINK(Options!$B$2,\"Fax\")","v":"Fax"}]
["Allegro Industries (Butler)","Susan Butler"," 800-622-3530",null,null,"Supplier","Out of State",null,{"$f":"HYPERLINK(\"#'Client Details'!$B$1\",\"Details\")","v":"Details"},{"$f":"HYPERLINK(Options!$B$1, \"Quote\")","v":"Quote"},{"$f":"HYPERLINK(Options!$B$2,\"Fax\")","v":"Fax"}]
["Allendale Charter Twp. Public Works Dept.","Chad Doornbos"," 616-895-5142","cdoornbos108@firehousemail.com","Technician","Municipal, Cty","Ottawa",null,{"$f":"HYPERLINK(\"#'Client Details'!$B$1\",\"Details\")","v":"Details"},{"$f":"HYPERLINK(Options!$B$1, \"Quote\")","v":"Quote"},{"$f":"HYPERLINK(Options!$B$2,\"Fax\")","v":"Fax"}]
["Allendale Charter Twp., Public Works","Nina Buist","616-895-5142",null,null,null,null,null,{"$f":"HYPERLINK(\"#'Client Details'!$B$1\",\"Details\")","v":"Details"},{"$f":"HYPERLINK(Options!$B$1, \"Quote\")","v":"Quote"},{"$f":"HYPERLINK(Options!$B$2,\"Fax\")","v":"Fax"}]
["Alliance Techsystems","Joe Brislin","540-639-7862","joseph.brislin@atk.com",null,null,null,null,{"$f":"HYPERLINK(\"#'Client Details'!$B$1\",\"Details\")","v":"Details"},{"$f":"HYPERLINK(Options!$B$1, \"Quote\")","v":"Quote"},{"$f":"HYPERLINK(Options!$B$2,\"Fax\")","v":"Fax"}]
["Alliant Energy Edgewater Generating Stati","Jerry Strouf"," 920-459-6171","jerrystrouf@alliantenergy.com",null,"Utility","Out of State",null,{"$f":"HYPERLINK(\"#'Client Details'!$B$1\",\"Details\")","v":"Details"},{"$f":"HYPERLINK(Options!$B$1, \"Quote\")","v":"Quote"},{"$f":"HYPERLINK(Options!$B$2,\"Fax\")","v":"Fax"}]
["Allied Electric, Inc.","Pat Sanford","616-791-1164","eogden@alliedelectric.com",null,null,null,null,{"$f":"HYPERLINK(\"#'Client Details'!$B$1\",\"Details\")","v":"Details"},{"$f":"HYPERLINK(Options!$B$1, \"Quote\")","v":"Quote"},{"$f":"HYPERLINK(Options!$B$2,\"Fax\")","v":"Fax"}]
["Allied Electric, Inc. (Fraam)","Dave Fraam"," 616-791-1164","dfraam@alliedelectricinc.com","Service Manager","Contractor Electrical","Kent",null,{"$f":"HYPERLINK(\"#'Client Details'!$B$1\",\"Details\")","v":"Details"},{"$f":"HYPERLINK(Options!$B$1, \"Quote\")","v":"Quote"},{"$f":"HYPERLINK(Options!$B$2,\"Fax\")","v":"Fax"}]
["Allied Electric, Inc. (Sanford)","Pat Sanford"," 616-791-1164","psanford@alliedelectricinc.com",null,"Contractor Electrical","Kent",null,{"$f":"HYPERLINK(\"#'Client Details'!$B$1\",\"Details\")","v":"Details"},{"$f":"HYPERLINK(Options!$B$1, \"Quote\")","v":"Quote"},{"$f":"HYPERLINK(Options!$B$2,\"Fax\")","v":"Fax"}]
["Allied Electric, Inc. (VanSweden)","Dan VanSweden"," 616-791-1164","dvansweden@alliedelectricinc.com","Service Director","Contractor Electrical","Kent",null,{"$f":"HYPERLINK(\"#'Client Details'!$B$1\",\"Details\")","v":"Details"},{"$f":"HYPERLINK(Options!$B$1, \"Quote\")","v":"Quote"},{"$f":"HYPERLINK(Options!$B$2,\"Fax\")","v":"Fax"}]
["Allied Environmental Services","Dan Clemens","419-227-4004",null,null,null,null,null,{"$f":"HYPERLINK(\"#'Client Details'!$B$1\",\"Details\")","v":"Details"},{"$f":"HYPERLINK(Options!$B$1, \"Quote\")","v":"Quote"},{"$f":"HYPERLINK(Options!$B$2,\"Fax\")","v":"Fax"}]
["Allied Mechanical Services, Inc. (DeJong)","Marty DeJong"," 269-344-0191","mdejong@alliedmechanical.com","Safety Manager","Contractor General","Kalamazoo",null,{"$f":"HYPERLINK(\"#'Client Details'!$B$1\",\"Details\")","v":"Details"},{"$f":"HYPERLINK(Options!$B$1, \"Quote\")","v":"Quote"},{"$f":"HYPERLINK(Options!$B$2,\"Fax\")","v":"Fax"}]
["Allied Mechanical Services, Inc. (Larsen)","Darrel Larsen"," 269-344-0191","dlarsen@alliedmechanical.com","Tool Shop Leader","Contractor General","Kalamazoo",null,{"$f":"HYPERLINK(\"#'Client Details'!$B$1\",\"Details\")","v":"Details"},{"$f":"HYPERLINK(Options!$B$1, \"Quote\")","v":"Quote"},{"$f":"HYPERLINK(Options!$B$2,\"Fax\")","v":"Fax"}]
["Allied Waste Services/Sunset Waste Servic","Sandy Josupiet"," 800-541-2916","sjosupiet@republicservices.com","Regional Safety Director","Waste Management","Muskegon",null,{"$f":"HYPERLINK(\"#'Client Details'!$B$1\",\"Details\")","v":"Details"},{"$f":"HYPERLINK(Options!$B$1, \"Quote\")","v":"Quote"},{"$f":"HYPERLINK(Options!$B$2,\"Fax\")","v":"Fax"}]
["Alloy Exchange (Thebo)","Greg Thebo"," 616-863-0640","greg@alloyexchangeinc.com","VP of Operations","Steel","Kent",null,{"$f":"HYPERLINK(\"#'Client Details'!$B$1\",\"Details\")","v":"Details"},{"$f":"HYPERLINK(Options!$B$1, \"Quote\")","v":"Quote"},{"$f":"HYPERLINK(Options!$B$2,\"Fax\")","v":"Fax"}]
["Allstate Electric, Inc. (Feyen)","Tim Feyen"," 616-669-2520","timfeyen@allstateelectric.net","Safety","Contractor Electrical","Kent",null,{"$f":"HYPERLINK(\"#'Client Details'!$B$1\",\"Details\")","v":"Details"},{"$f":"HYPERLINK(Options!$B$1, \"Quote\")","v":"Quote"},{"$f":"HYPERLINK(Options!$B$2,\"Fax\")","v":"Fax"}]
["Allstate Insurance (Hughes)","Kim Hughes"," 616-458-4995",null,"President","Insurance","Kent",null,{"$f":"HYPERLINK(\"#'Client Details'!$B$1\",\"Details\")","v":"Details"},{"$f":"HYPERLINK(Options!$B$1, \"Quote\")","v":"Quote"},{"$f":"HYPERLINK(Options!$B$2,\"Fax\")","v":"Fax"}]
["Alma College","Mark Cubberly","989-463-7362",null,null,null,null,null,{"$f":"HYPERLINK(\"#'Client Details'!$B$1\",\"Details\")","v":"Details"},{"$f":"HYPERLINK(Options!$B$1, \"Quote\")","v":"Quote"},{"$f":"HYPERLINK(Options!$B$2,\"Fax\")","v":"Fax"}]
["Alma College (Cubberly)","Mark Cubberly"," 989-463-7362",null,"Professor of Chemistry","School","Do Not Know",null,{"$f":"HYPERLINK(\"#'Client Details'!$B$1\",\"Details\")","v":"Details"},{"$f":"HYPERLINK(Options!$B$1, \"Quote\")","v":"Quote"},{"$f":"HYPERLINK(Options!$B$2,\"Fax\")","v":"Fax"}]
["Alma DPW, City of","Lee Coughlin","989-463-8670",null,null,null,null,null,{"$f":"HYPERLINK(\"#'Client Details'!$B$1\",\"Details\")","v":"Details"},{"$f":"HYPERLINK(Options!$B$1, \"Quote\")","v":"Quote"},{"$f":"HYPERLINK(Options!$B$2,\"Fax\")","v":"Fax"}]
["Alma DPW, City of (Coughlin)","Lee Coughlin"," 989-463-8670",null,"Superintendent","Municipal, Cty","Gratiot",null,{"$f":"HYPERLINK(\"#'Client Details'!$B$1\",\"Details\")","v":"Details"},{"$f":"HYPERLINK(Options!$B$1, \"Quote\")","v":"Quote"},{"$f":"HYPERLINK(Options!$B$2,\"Fax\")","v":"Fax"}]
["Alma Water Plant, City of (Pilmore)","Bill Pilmore"," 989-463-8349",null,"Superintendent","Municipal, Cty","Gratiot",null,{"$f":"HYPERLINK(\"#'Client Details'!$B$1\",\"Details\")","v":"Details"},{"$f":"HYPERLINK(Options!$B$1, \"Quote\")","v":"Quote"},{"$f":"HYPERLINK(Options!$B$2,\"Fax\")","v":"Fax"}]
["Alma WWTP, City of (Walworth)","Donald Walworth"," 989-463-6506","dwalworth@ci.alma.mi.us","Superintendent","Municipal, Cty","Gratiot",null,{"$f":"HYPERLINK(\"#'Client Details'!$B$1\",\"Details\")","v":"Details"},{"$f":"HYPERLINK(Options!$B$1, \"Quote\")","v":"Quote"},{"$f":"HYPERLINK(Options!$B$2,\"Fax\")","v":"Fax"}]
["Almond Products","Darrell Wyatt","616-844-1813",null,null,null,null,null,{"$f":"HYPERLINK(\"#'Client Details'!$B$1\",\"Details\")","v":"Details"},{"$f":"HYPERLINK(Options!$B$1, \"Quote\")","v":"Quote"},{"$f":"HYPERLINK(Options!$B$2,\"Fax\")","v":"Fax"}]
["Almond Products (Wyatt)","Darrell Wyatt"," 616-844-1813",null,"Maintenance Engineer","Manufacturer","Ottawa",null,{"$f":"HYPERLINK(\"#'Client Details'!$B$1\",\"Details\")","v":"Details"},{"$f":"HYPERLINK(Options!$B$1, \"Quote\")","v":"Quote"},{"$f":"HYPERLINK(Options!$B$2,\"Fax\")","v":"Fax"}]
["Aloha State Park",null,null,null,null,null,null,null,{"$f":"HYPERLINK(\"#'Client Details'!$B$1\",\"Details\")","v":"Details"},{"$f":"HYPERLINK(Options!$B$1, \"Quote\")","v":"Quote"},{"$f":"HYPERLINK(Options!$B$2,\"Fax\")","v":"Fax"}]
["Alpena Reginal Medical Center","Janine (purchasing)","989-591-7581",null,null,null,null,null,{"$f":"HYPERLINK(\"#'Client Details'!$B$1\",\"Details\")","v":"Details"},{"$f":"HYPERLINK(Options!$B$1, \"Quote\")","v":"Quote"},{"$f":"HYPERLINK(Options!$B$2,\"Fax\")","v":"Fax"}]
["Alpha Technologies of Northern Ireland, L","Liam Duffy"," 011-442-879418161","lduffy@alphatechs.com",null,"Contractor EH&S","Out of State",null,{"$f":"HYPERLINK(\"#'Client Details'!$B$1\",\"Details\")","v":"Details"},{"$f":"HYPERLINK(Options!$B$1, \"Quote\")","v":"Quote"},{"$f":"HYPERLINK(Options!$B$2,\"Fax\")","v":"Fax"}]
["Alpha Technology (Rauls)","Jody Rauls"," 517-546-9700 239","jrauls@altec-us.com",null,null,"Livingston",null,{"$f":"HYPERLINK(\"#'Client Details'!$B$1\",\"Details\")","v":"Details"},{"$f":"HYPERLINK(Options!$B$1, \"Quote\")","v":"Quote"},{"$f":"HYPERLINK(Options!$B$2,\"Fax\")","v":"Fax"}]
["Alro Steel Corporation (Stachlewitz)","Pat Stachlewitz"," 517-788-3290","pstachlewitz@alro.com",null,"Steel","Jackson",null,{"$f":"HYPERLINK(\"#'Client Details'!$B$1\",\"Details\")","v":"Details"},{"$f":"HYPERLINK(Options!$B$1, \"Quote\")","v":"Quote"},{"$f":"HYPERLINK(Options!$B$2,\"Fax\")","v":"Fax"}]
["Al's Excavating Inc. (Haverdink)","Dave Haverdink"," 269-751-5158",null,"Operations",null,"Ottawa",null,{"$f":"HYPERLINK(\"#'Client Details'!$B$1\",\"Details\")","v":"Details"},{"$f":"HYPERLINK(Options!$B$1, \"Quote\")","v":"Quote"},{"$f":"HYPERLINK(Options!$B$2,\"Fax\")","v":"Fax"}]
["Alstom power (Douglas)","Jill Douglas"," 269-687-2590",null,"Site Safety Manager","Utility","Kalamazoo",null,{"$f":"HYPERLINK(\"#'Client Details'!$B$1\",\"Details\")","v":"Details"},{"$f":"HYPERLINK(Options!$B$1, \"Quote\")","v":"Quote"},{"$f":"HYPERLINK(Options!$B$2,\"Fax\")","v":"Fax"}]
["Alternative Mechanical (Fahl)","Kevin Fahl"," 616-452-6554 21","kfahl@altmech.com",null,"Contractor General","Kent",null,{"$f":"HYPERLINK(\"#'Client Details'!$B$1\",\"Details\")","v":"Details"},{"$f":"HYPERLINK(Options!$B$1, \"Quote\")","v":"Quote"},{"$f":"HYPERLINK(Options!$B$2,\"Fax\")","v":"Fax"}]
["Alternative Mechanical (Ortega)","Richard Ortega"," 616-452-6554 24","rortega@altmech.com","President","Contractor General","Kent",null,{"$f":"HYPERLINK(\"#'Client Details'!$B$1\",\"Details\")","v":"Details"},{"$f":"HYPERLINK(Options!$B$1, \"Quote\")","v":"Quote"},{"$f":"HYPERLINK(Options!$B$2,\"Fax\")","v":"Fax"}]
["Alternative Mechanical LLC","Page Kelly x-20 Accting","616-452-6554",null,null,null,null,null,{"$f":"HYPERLINK(\"#'Client Details'!$B$1\",\"Details\")","v":"Details"},{"$f":"HYPERLINK(Options!$B$1, \"Quote\")","v":"Quote"},{"$f":"HYPERLINK(Options!$B$2,\"Fax\")","v":"Fax"}]
["Alticor -- Access Business Group (Hammer)","Lisa Hammer"," 616-787-1153","lisa_hammer@accessbusinessgroup.com",null,"Manufacturer","Kent",null,{"$f":"HYPERLINK(\"#'Client Details'!$B$1\",\"Details\")","v":"Details"},{"$f":"HYPERLINK(Options!$B$1, \"Quote\")","v":"Quote"},{"$f":"HYPERLINK(Options!$B$2,\"Fax\")","v":"Fax"}]
["Alticor -- Access Business Group (Heindlm","Joe Heindlmeyer"," 616-787-8434","joseph.heindlmeyer@alticor.com","Safety Manager","Manufacturer","Kent",null,{"$f":"HYPERLINK(\"#'Client Details'!$B$1\",\"Details\")","v":"Details"},{"$f":"HYPERLINK(Options!$B$1, \"Quote\")","v":"Quote"},{"$f":"HYPERLINK(Options!$B$2,\"Fax\")","v":"Fax"}]
["Alticor -- Access Business Group (Kunkle)","Robert Kunkle"," 616-787-5906","robert_kunkle@alticor.com","EH&S","Manufacturer","Kent",null,{"$f":"HYPERLINK(\"#'Client Details'!$B$1\",\"Details\")","v":"Details"},{"$f":"HYPERLINK(Options!$B$1, \"Quote\")","v":"Quote"},{"$f":"HYPERLINK(Options!$B$2,\"Fax\")","v":"Fax"}]
["Alticor -- Access Business Group (Neu)","Clark Neu"," 616-787-6214","clark_neu@accessbusinessgroup.com","Safety Coordinator, EH&S","Manufacturer","Kent",null,{"$f":"HYPERLINK(\"#'Client Details'!$B$1\",\"Details\")","v":"Details"},{"$f":"HYPERLINK(Options!$B$1, \"Quote\")","v":"Quote"},{"$f":"HYPERLINK(Options!$B$2,\"Fax\")","v":"Fax"}]
["Alticor -- Access Business Group (Stephen","Shelly Stephens"," 616-787-8343","shelly.stephens@alticor.com","Safety Coordinator","Manufacturer","Kent",null,{"$f":"HYPERLINK(\"#'Client Details'!$B$1\",\"Details\")","v":"Details"},{"$f":"HYPERLINK(Options!$B$1, \"Quote\")","v":"Quote"},{"$f":"HYPERLINK(Options!$B$2,\"Fax\")","v":"Fax"}]
["Alticor -- Access Business Group (Travers","Ross Traverse"," 616-787-7608","ross_traverse@accessbusinessgroup.com","Industrial Hygienist","Manufacturer","Kent",null,{"$f":"HYPERLINK(\"#'Client Details'!$B$1\",\"Details\")","v":"Details"},{"$f":"HYPERLINK(Options!$B$1, \"Quote\")","v":"Quote"},{"$f":"HYPERLINK(Options!$B$2,\"Fax\")","v":"Fax"}]
["Altron Automation, Inc. (McNees)","Ron McNees"," 616-662-7401",null,"President",null,"Ottawa",null,{"$f":"HYPERLINK(\"#'Client Details'!$B$1\",\"Details\")","v":"Details"},{"$f":"HYPERLINK(Options!$B$1, \"Quote\")","v":"Quote"},{"$f":"HYPERLINK(Options!$B$2,\"Fax\")","v":"Fax"}]
["American Autocoat (Antuma)","Kathy Antuma"," 616-669-9040",null,"Human Resources Director",null,"Ottawa",null,{"$f":"HYPERLINK(\"#'Client Details'!$B$1\",\"Details\")","v":"Details"},{"$f":"HYPERLINK(Options!$B$1, \"Quote\")","v":"Quote"},{"$f":"HYPERLINK(Options!$B$2,\"Fax\")","v":"Fax"}]
["American Axle & Manufacturing","Gerald Timmer","313-974-2860",null,null,null,null,null,{"$f":"HYPERLINK(\"#'Client Details'!$B$1\",\"Details\")","v":"Details"},{"$f":"HYPERLINK(Options!$B$1, \"Quote\")","v":"Quote"},{"$f":"HYPERLINK(Options!$B$2,\"Fax\")","v":"Fax"}]
["American Axle & Manufacturing (Howard)","Chaileta Howard"," 313-974-2454",null,"Purchasing Agent","Automotive","Wayne",null,{"$f":"HYPERLINK(\"#'Client Details'!$B$1\",\"Details\")","v":"Details"},{"$f":"HYPERLINK(Options!$B$1, \"Quote\")","v":"Quote"},{"$f":"HYPERLINK(Options!$B$2,\"Fax\")","v":"Fax"}]
["American Axle & Manufacturing (Timmer)","Gerry Timmer"," 269-278-0282","timmerg@aam.com","EH&S Manager","Automotive","St. Joseph",null,{"$f":"HYPERLINK(\"#'Client Details'!$B$1\",\"Details\")","v":"Details"},{"$f":"HYPERLINK(Options!$B$1, \"Quote\")","v":"Quote"},{"$f":"HYPERLINK(Options!$B$2,\"Fax\")","v":"Fax"}]
["American Board of Industrial Hygiene (O'D","Lynn O'Donnell"," 517-321-2638 16","abih@abih.org","Executive Director","Other","Ingham",null,{"$f":"HYPERLINK(\"#'Client Details'!$B$1\",\"Details\")","v":"Details"},{"$f":"HYPERLINK(Options!$B$1, \"Quote\")","v":"Quote"},{"$f":"HYPERLINK(Options!$B$2,\"Fax\")","v":"Fax"}]
["American Controls Inc.","Mark Murray","248-476-7782 x224",null,null,null,null,null,{"$f":"HYPERLINK(\"#'Client Details'!$B$1\",\"Details\")","v":"Details"},{"$f":"HYPERLINK(Options!$B$1, \"Quote\")","v":"Quote"},{"$f":"HYPERLINK(Options!$B$2,\"Fax\")","v":"Fax"}]
["American Electric Power (Swart)","Mark Swart"," 269-466-2879",null,"Safety & Health Specialist","Utility","Berrien",null,{"$f":"HYPERLINK(\"#'Client Details'!$B$1\",\"Details\")","v":"Details"},{"$f":"HYPERLINK(Options!$B$1, \"Quote\")","v":"Quote"},{"$f":"HYPERLINK(Options!$B$2,\"Fax\")","v":"Fax"}]
["American Electric Power Cook Plant","Randy Johns","269-465-5901",null,null,null,null,null,{"$f":"HYPERLINK(\"#'Client Details'!$B$1\",\"Details\")","v":"Details"},{"$f":"HYPERLINK(Options!$B$1, \"Quote\")","v":"Quote"},{"$f":"HYPERLINK(Options!$B$2,\"Fax\")","v":"Fax"}]
["American Electric Power Cook Plant (Johns","Randy Johns"," 269-465-5901","rrjohns@aep.com","Safety & Health Specialist","Utility","Berrien",null,{"$f":"HYPERLINK(\"#'Client Details'!$B$1\",\"Details\")","v":"Details"},{"$f":"HYPERLINK(Options!$B$1, \"Quote\")","v":"Quote"},{"$f":"HYPERLINK(Options!$B$2,\"Fax\")","v":"Fax"}]
["American Environmental Group (St. Johns)","Home Office - Main office in notes","330-659-5931",null,null,null,null,null,{"$f":"HYPERLINK(\"#'Client Details'!$B$1\",\"Details\")","v":"Details"},{"$f":"HYPERLINK(Options!$B$1, \"Quote\")","v":"Quote"},{"$f":"HYPERLINK(Options!$B$2,\"Fax\")","v":"Fax"}]
["American Hydrogeology",null,"269-329-1600",null,null,null,null,null,{"$f":"HYPERLINK(\"#'Client Details'!$B$1\",\"Details\")","v":"Details"},{"$f":"HYPERLINK(Options!$B$1, \"Quote\")","v":"Quote"},{"$f":"HYPERLINK(Options!$B$2,\"Fax\")","v":"Fax"}]
["American Hydrogeology Corporation (Mitche","Bill Mitchell"," 269-329-1600","service@americanhydrogeology.com",null,"Contractor EH&S","Kalamazoo",null,{"$f":"HYPERLINK(\"#'Client Details'!$B$1\",\"Details\")","v":"Details"},{"$f":"HYPERLINK(Options!$B$1, \"Quote\")","v":"Quote"},{"$f":"HYPERLINK(Options!$B$2,\"Fax\")","v":"Fax"}]
["American Mitsuba / CME Corp","Jerry Haines x-235","989-773-0377",null,null,null,null,null,{"$f":"HYPERLINK(\"#'Client Details'!$B$1\",\"Details\")","v":"Details"},{"$f":"HYPERLINK(Options!$B$1, \"Quote\")","v":"Quote"},{"$f":"HYPERLINK(Options!$B$2,\"Fax\")","v":"Fax"}]
["American Producers Supply","Dianna","740-354-3479",null,null,null,null,null,{"$f":"HYPERLINK(\"#'Client Details'!$B$1\",\"Details\")","v":"Details"},{"$f":"HYPERLINK(Options!$B$1, \"Quote\")","v":"Quote"},{"$f":"HYPERLINK(Options!$B$2,\"Fax\")","v":"Fax"}]
["American Rigger's Supply, Inc. (Knehans)","Jim Knehans"," 913-371-1357","jfk@kc.rr.com",null,"Competitor","Out of State",null,{"$f":"HYPERLINK(\"#'Client Details'!$B$1\",\"Details\")","v":"Details"},{"$f":"HYPERLINK(Options!$B$1, \"Quote\")","v":"Quote"},{"$f":"HYPERLINK(Options!$B$2,\"Fax\")","v":"Fax"}]
["American Seating",null,"616-732-6648",null,null,null,null,null,{"$f":"HYPERLINK(\"#'Client Details'!$B$1\",\"Details\")","v":"Details"},{"$f":"HYPERLINK(Options!$B$1, \"Quote\")","v":"Quote"},{"$f":"HYPERLINK(Options!$B$2,\"Fax\")","v":"Fax"}]
["American Seating Company (Geyer)","Thomas Geyer"," 616-732-6650","tgeyer@amseco.com","Environmental Engineer CIH","Furniture","Kent",null,{"$f":"HYPERLINK(\"#'Client Details'!$B$1\",\"Details\")","v":"Details"},{"$f":"HYPERLINK(Options!$B$1, \"Quote\")","v":"Quote"},{"$f":"HYPERLINK(Options!$B$2,\"Fax\")","v":"Fax"}]
["American Woodmark Co.","Joe Morgan","304-530-1100",null,null,null,null,null,{"$f":"HYPERLINK(\"#'Client Details'!$B$1\",\"Details\")","v":"Details"},{"$f":"HYPERLINK(Options!$B$1, \"Quote\")","v":"Quote"},{"$f":"HYPERLINK(Options!$B$2,\"Fax\")","v":"Fax"}]
["AMS Corp. (Kennedy)","Brian Kennedy"," 231-798-1111",null,"President",null,"Muskegon",null,{"$f":"HYPERLINK(\"#'Client Details'!$B$1\",\"Details\")","v":"Details"},{"$f":"HYPERLINK(Options!$B$1, \"Quote\")","v":"Quote"},{"$f":"HYPERLINK(Options!$B$2,\"Fax\")","v":"Fax"}]
["Analytical Testing & Consulting Services,","Doug Haase"," 269-664-6474","atcsinc@aol.com","Director","Contractor EH&S","Kalamazoo",null,{"$f":"HYPERLINK(\"#'Client Details'!$B$1\",\"Details\")","v":"Details"},{"$f":"HYPERLINK(Options!$B$1, \"Quote\")","v":"Quote"},{"$f":"HYPERLINK(Options!$B$2,\"Fax\")","v":"Fax"}]
["Anchorage Marine Service and Storage (Coo","Jim Cooper"," 616-399-6745",null,"Manager","Marine","Ottawa",null,{"$f":"HYPERLINK(\"#'Client Details'!$B$1\",\"Details\")","v":"Details"},{"$f":"HYPERLINK(Options!$B$1, \"Quote\")","v":"Quote"},{"$f":"HYPERLINK(Options!$B$2,\"Fax\")","v":"Fax"}]
["Anderson Building Materials (Shannon)","Shannon"," 269-983-5543","shannon@abmrack.com","Office Manager","Steel","Allegan",null,{"$f":"HYPERLINK(\"#'Client Details'!$B$1\",\"Details\")","v":"Details"},{"$f":"HYPERLINK(Options!$B$1, \"Quote\")","v":"Quote"},{"$f":"HYPERLINK(Options!$B$2,\"Fax\")","v":"Fax"}]
["Anderson Development Co. (Green)","Douglas Green"," 517-263-2121","doug.green@anddev.com",null,"Chemical Pharmaceutical","Lenawee",null,{"$f":"HYPERLINK(\"#'Client Details'!$B$1\",\"Details\")","v":"Details"},{"$f":"HYPERLINK(Options!$B$1, \"Quote\")","v":"Quote"},{"$f":"HYPERLINK(Options!$B$2,\"Fax\")","v":"Fax"}]
["Anderson Technologies (Prescott)","Paul Prescott"," 616-844-2505",null,"2nd Shift Manager Safety Buyer",null,"Ottawa",null,{"$f":"HYPERLINK(\"#'Client Details'!$B$1\",\"Details\")","v":"Details"},{"$f":"HYPERLINK(Options!$B$1, \"Quote\")","v":"Quote"},{"$f":"HYPERLINK(Options!$B$2,\"Fax\")","v":"Fax"}]
["Andy J. Egan Co. Inc.","Patrick Heffron","616-791-9952","ap@andyegan.com",null,null,null,null,{"$f":"HYPERLINK(\"#'Client Details'!$B$1\",\"Details\")","v":"Details"},{"$f":"HYPERLINK(Options!$B$1, \"Quote\")","v":"Quote"},{"$f":"HYPERLINK(Options!$B$2,\"Fax\")","v":"Fax"}]
["Andy J. Egan Co. Inc. (Hedberg)","Corey Hedberg"," 616-791-9952","hedbergc@andyegan.com","Group Manager","Contractor General","Kent",null,{"$f":"HYPERLINK(\"#'Client Details'!$B$1\",\"Details\")","v":"Details"},{"$f":"HYPERLINK(Options!$B$1, \"Quote\")","v":"Quote"},{"$f":"HYPERLINK(Options!$B$2,\"Fax\")","v":"Fax"}]
["Andy J. Egan Co. Inc. (Kamyszek)","Bob Kamyszek"," 616-791-9952","kamyszekb@andyegan.com","Equipment Manager","Contractor General","Kent",null,{"$f":"HYPERLINK(\"#'Client Details'!$B$1\",\"Details\")","v":"Details"},{"$f":"HYPERLINK(Options!$B$1, \"Quote\")","v":"Quote"},{"$f":"HYPERLINK(Options!$B$2,\"Fax\")","v":"Fax"}]
["Andy J. Egan Co. Inc. (VanAlstine)","Andy VanAlstine"," 616-791-9952","vanalstinea@andyegan.com","Equipment Manager","Contractor General","Kent",null,{"$f":"HYPERLINK(\"#'Client Details'!$B$1\",\"Details\")","v":"Details"},{"$f":"HYPERLINK(Options!$B$1, \"Quote\")","v":"Quote"},{"$f":"HYPERLINK(Options!$B$2,\"Fax\")","v":"Fax"}]
["Angel's Instrumentation","Adam Graham","757.558.2500 x101",null,null,null,null,null,{"$f":"HYPERLINK(\"#'Client Details'!$B$1\",\"Details\")","v":"Details"},{"$f":"HYPERLINK(Options!$B$1, \"Quote\")","v":"Quote"},{"$f":"HYPERLINK(Options!$B$2,\"Fax\")","v":"Fax"}]
["Angola WWTP, City of","Kurt Dowell","260-905-6153",null,null,null,null,null,{"$f":"HYPERLINK(\"#'Client Details'!$B$1\",\"Details\")","v":"Details"},{"$f":"HYPERLINK(Options!$B$1, \"Quote\")","v":"Quote"},{"$f":"HYPERLINK(Options!$B$2,\"Fax\")","v":"Fax"}]
["Anlaan Construction",null,"616-846-8442","hilarygrant@anlaan.com",null,null,null,null,{"$f":"HYPERLINK(\"#'Client Details'!$B$1\",\"Details\")","v":"Details"},{"$f":"HYPERLINK(Options!$B$1, \"Quote\")","v":"Quote"},{"$f":"HYPERLINK(Options!$B$2,\"Fax\")","v":"Fax"}]
["Anlaan Corporation (Arens)","Derrick Arens"," 616-846-8442 34","derrickarens@anlaan.com","Safety Buyer","Contractor General","Ottawa",null,{"$f":"HYPERLINK(\"#'Client Details'!$B$1\",\"Details\")","v":"Details"},{"$f":"HYPERLINK(Options!$B$1, \"Quote\")","v":"Quote"},{"$f":"HYPERLINK(Options!$B$2,\"Fax\")","v":"Fax"}]
["Anlaan Corporation (Baker)","Nick Baker"," 616-846-8442 15","nickbaker@anlaan.com","Project Manager & EEO Supervis","Contractor General","Ottawa",null,{"$f":"HYPERLINK(\"#'Client Details'!$B$1\",\"Details\")","v":"Details"},{"$f":"HYPERLINK(Options!$B$1, \"Quote\")","v":"Quote"},{"$f":"HYPERLINK(Options!$B$2,\"Fax\")","v":"Fax"}]
["Annex Design Service (Brent)","Pat Brent"," 586-254-5880","pbrent@annexdesignservice.com",null,"Engineering, Architecture","Macomb",null,{"$f":"HYPERLINK(\"#'Client Details'!$B$1\",\"Details\")","v":"Details"},{"$f":"HYPERLINK(Options!$B$1, \"Quote\")","v":"Quote"},{"$f":"HYPERLINK(Options!$B$2,\"Fax\")","v":"Fax"}]
["ANR Pipeline Co. (Cornelius)","Craig Cornelius"," 815-786-3422","craig.cornelius@elpaso.com",null,"Utility","Out of State",null,{"$f":"HYPERLINK(\"#'Client Details'!$B$1\",\"Details\")","v":"Details"},{"$f":"HYPERLINK(Options!$B$1, \"Quote\")","v":"Quote"},{"$f":"HYPERLINK(Options!$B$2,\"Fax\")","v":"Fax"}]
["ANR Pipeline Co. (Tweed)","David Tweed"," 309-667-4642","david.tweed@elpaso.com",null,"Utility","Out of State",null,{"$f":"HYPERLINK(\"#'Client Details'!$B$1\",\"Details\")","v":"Details"},{"$f":"HYPERLINK(Options!$B$1, \"Quote\")","v":"Quote"},{"$f":"HYPERLINK(Options!$B$2,\"Fax\")","v":"Fax"}]
["Aon Risk Services Central, Inc. (Lerg)","Charlie Lerg"," 616-336-5515","charles.lerg@aon.com",null,"Insurance","Kent",null,{"$f":"HYPERLINK(\"#'Client Details'!$B$1\",\"Details\")","v":"Details"},{"$f":"HYPERLINK(Options!$B$1, \"Quote\")","v":"Quote"},{"$f":"HYPERLINK(Options!$B$2,\"Fax\")","v":"Fax"}]
["Apex Environmental Services","Dan Richmond","734 422 5500","apexenvironmental@ameritech.net",null,null,null,null,{"$f":"HYPERLINK(\"#'Client Details'!$B$1\",\"Details\")","v":"Details"},{"$f":"HYPERLINK(Options!$B$1, \"Quote\")","v":"Quote"},{"$f":"HYPERLINK(Options!$B$2,\"Fax\")","v":"Fax"}]
["APL Logistics (Rohn)","Shelly Rohn"," 269-849-0200 219","susan_thornburg@apllogistics.com","Transportation Specialist",null,"Kalamazoo",null,{"$f":"HYPERLINK(\"#'Client Details'!$B$1\",\"Details\")","v":"Details"},{"$f":"HYPERLINK(Options!$B$1, \"Quote\")","v":"Quote"},{"$f":"HYPERLINK(Options!$B$2,\"Fax\")","v":"Fax"}]
["Applegate Inc. (Myers)","Gary Myers"," 517-783-2646","gmyers@applegateincjxn.com","Buyer","Contractor General","Jackson",null,{"$f":"HYPERLINK(\"#'Client Details'!$B$1\",\"Details\")","v":"Details"},{"$f":"HYPERLINK(Options!$B$1, \"Quote\")","v":"Quote"},{"$f":"HYPERLINK(Options!$B$2,\"Fax\")","v":"Fax"}]
["Applied Manufacturing Technologies"," Martin Bienasz","586-510-3121",null,null,null,null,null,{"$f":"HYPERLINK(\"#'Client Details'!$B$1\",\"Details\")","v":"Details"},{"$f":"HYPERLINK(Options!$B$1, \"Quote\")","v":"Quote"},{"$f":"HYPERLINK(Options!$B$2,\"Fax\")","v":"Fax"}]
["Applied Science and Technology (Penniman)","Don Penniman"," 616-957-5601 202","dpenniman@asti-env.com",null,"Contractor EH&S","Kent",null,{"$f":"HYPERLINK(\"#'Client Details'!$B$1\",\"Details\")","v":"Details"},{"$f":"HYPERLINK(Options!$B$1, \"Quote\")","v":"Quote"},{"$f":"HYPERLINK(Options!$B$2,\"Fax\")","v":"Fax"}]
["Approved Fire Protection",null,null,null,null,null,null,null,{"$f":"HYPERLINK(\"#'Client Details'!$B$1\",\"Details\")","v":"Details"},{"$f":"HYPERLINK(Options!$B$1, \"Quote\")","v":"Quote"},{"$f":"HYPERLINK(Options!$B$2,\"Fax\")","v":"Fax"}]
["Arborist Skills Inc. (Hineline)","Dave Hineline"," 800-469-9258",null,null,null,"Hillsdale",null,{"$f":"HYPERLINK(\"#'Client Details'!$B$1\",\"Details\")","v":"Details"},{"$f":"HYPERLINK(Options!$B$1, \"Quote\")","v":"Quote"},{"$f":"HYPERLINK(Options!$B$2,\"Fax\")","v":"Fax"}]
["Arcadis (Novi)",null,"248-994-2240","dale.arnett@arcadis-us.com",null,null,null,null,{"$f":"HYPERLINK(\"#'Client Details'!$B$1\",\"Details\")","v":"Details"},{"$f":"HYPERLINK(Options!$B$1, \"Quote\")","v":"Quote"},{"$f":"HYPERLINK(Options!$B$2,\"Fax\")","v":"Fax"}]
["Arcadis (Seidel)","Christian Seidel"," 248-994-2275","christian.seidel@arcadis-us.com",null,"Contractor EH&S","Oakland",null,{"$f":"HYPERLINK(\"#'Client Details'!$B$1\",\"Details\")","v":"Details"},{"$f":"HYPERLINK(Options!$B$1, \"Quote\")","v":"Quote"},{"$f":"HYPERLINK(Options!$B$2,\"Fax\")","v":"Fax"}]
["Arcadis US Inc.","Brian Hornyak",null,"accountspayable.administration@arcadis-us.com",null,null,null,null,{"$f":"HYPERLINK(\"#'Client Details'!$B$1\",\"Details\")","v":"Details"},{"$f":"HYPERLINK(Options!$B$1, \"Quote\")","v":"Quote"},{"$f":"HYPERLINK(Options!$B$2,\"Fax\")","v":"Fax"}]
["ArcelorMittal Tubular Products","David Liebert","419-342-1371",null,null,null,null,null,{"$f":"HYPERLINK(\"#'Client Details'!$B$1\",\"Details\")","v":"Details"},{"$f":"HYPERLINK(Options!$B$1, \"Quote\")","v":"Quote"},{"$f":"HYPERLINK(Options!$B$2,\"Fax\")","v":"Fax"}]
["Arcelormittal Tubular Products, Inc. (Lie","David Liebhart"," 419-342-1371","Steel","Purchasing","Manufacturer","Out of State",null,{"$f":"HYPERLINK(\"#'Client Details'!$B$1\",\"Details\")","v":"Details"},{"$f":"HYPERLINK(Options!$B$1, \"Quote\")","v":"Quote"},{"$f":"HYPERLINK(Options!$B$2,\"Fax\")","v":"Fax"}]
["Archer Daniels Midland (McGehee)","Maggie McGehee"," 217-451-4043","maggie_mcgehee@admworld.com","Safety Manager","Chemical Pharmaceutical","Out of State",null,{"$f":"HYPERLINK(\"#'Client Details'!$B$1\",\"Details\")","v":"Details"},{"$f":"HYPERLINK(Options!$B$1, \"Quote\")","v":"Quote"},{"$f":"HYPERLINK(Options!$B$2,\"Fax\")","v":"Fax"}]
["Argus - Hazco","Kevin Smith","586-840-3211","ksmith@argus-hazco.com",null,null,null,null,{"$f":"HYPERLINK(\"#'Client Details'!$B$1\",\"Details\")","v":"Details"},{"$f":"HYPERLINK(Options!$B$1, \"Quote\")","v":"Quote"},{"$f":"HYPERLINK(Options!$B$2,\"Fax\")","v":"Fax"}]
["Argus Hazco (Pervolarakis)","Dimitri Pervolarakis"," 586-840-3200","dimitri@argus-hazco.com",null,"Competitor","Macomb",null,{"$f":"HYPERLINK(\"#'Client Details'!$B$1\",\"Details\")","v":"Details"},{"$f":"HYPERLINK(Options!$B$1, \"Quote\")","v":"Quote"},{"$f":"HYPERLINK(Options!$B$2,\"Fax\")","v":"Fax"}]
["Arise Inc.","Allison Toensing","440-746-8880 Direct","allisontoensing@ariseinc.com",null,null,null,null,{"$f":"HYPERLINK(\"#'Client Details'!$B$1\",\"Details\")","v":"Details"},{"$f":"HYPERLINK(Options!$B$1, \"Quote\")","v":"Quote"},{"$f":"HYPERLINK(Options!$B$2,\"Fax\")","v":"Fax"}]
["Arkema Coatings Resins (Hartigh)","Mark Den Hartigh"," 616-243-4578 121","mark.denhartigh@arkema.com","Maintenance Manager","Chemical Pharmaceutical","Kent",null,{"$f":"HYPERLINK(\"#'Client Details'!$B$1\",\"Details\")","v":"Details"},{"$f":"HYPERLINK(Options!$B$1, \"Quote\")","v":"Quote"},{"$f":"HYPERLINK(Options!$B$2,\"Fax\")","v":"Fax"}]
["Arkema Inc.","Pat Harig","616-243-4578",null,null,null,null,null,{"$f":"HYPERLINK(\"#'Client Details'!$B$1\",\"Details\")","v":"Details"},{"$f":"HYPERLINK(Options!$B$1, \"Quote\")","v":"Quote"},{"$f":"HYPERLINK(Options!$B$2,\"Fax\")","v":"Fax"}]
["Armock Mechanical","Todd Tinicer",null,null,null,null,null,null,{"$f":"HYPERLINK(\"#'Client Details'!$B$1\",\"Details\")","v":"Details"},{"$f":"HYPERLINK(Options!$B$1, \"Quote\")","v":"Quote"},{"$f":"HYPERLINK(Options!$B$2,\"Fax\")","v":"Fax"}]
["Armock Mechanical Contractors (Mike)","Mike"," 616-887-0328",null,"Manager","Mechanical Contractor","Kent",null,{"$f":"HYPERLINK(\"#'Client Details'!$B$1\",\"Details\")","v":"Details"},{"$f":"HYPERLINK(Options!$B$1, \"Quote\")","v":"Quote"},{"$f":"HYPERLINK(Options!$B$2,\"Fax\")","v":"Fax"}]
["Armor Metal Group","Angela Meade","513-923-5828",null,null,null,null,null,{"$f":"HYPERLINK(\"#'Client Details'!$B$1\",\"Details\")","v":"Details"},{"$f":"HYPERLINK(Options!$B$1, \"Quote\")","v":"Quote"},{"$f":"HYPERLINK(Options!$B$2,\"Fax\")","v":"Fax"}]
["Armour Eckrich Meats, LLC","Kim Lowe","765-473-3086  x-272",null,null,null,null,null,{"$f":"HYPERLINK(\"#'Client Details'!$B$1\",\"Details\")","v":"Details"},{"$f":"HYPERLINK(Options!$B$1, \"Quote\")","v":"Quote"},{"$f":"HYPERLINK(Options!$B$2,\"Fax\")","v":"Fax"}]
["Armour-Eckrich Meats (Peru) (Aust)","Michael Aust"," 765-473-3086 270","michael.aust@armour-eckrich.com","Manager, Environmental Health","Food","Out of State",null,{"$f":"HYPERLINK(\"#'Client Details'!$B$1\",\"Details\")","v":"Details"},{"$f":"HYPERLINK(Options!$B$1, \"Quote\")","v":"Quote"},{"$f":"HYPERLINK(Options!$B$2,\"Fax\")","v":"Fax"}]
["Armstrong Egg Farms (Armstrong)","Ryan Armstrong",null,null,null,"Food","Out of State",null,{"$f":"HYPERLINK(\"#'Client Details'!$B$1\",\"Details\")","v":"Details"},{"$f":"HYPERLINK(Options!$B$1, \"Quote\")","v":"Quote"},{"$f":"HYPERLINK(Options!$B$2,\"Fax\")","v":"Fax"}]
["Armstrong Technical Services","Paul Armstrong","248-698-4842","armts@aol.com",null,null,null,null,{"$f":"HYPERLINK(\"#'Client Details'!$B$1\",\"Details\")","v":"Details"},{"$f":"HYPERLINK(Options!$B$1, \"Quote\")","v":"Quote"},{"$f":"HYPERLINK(Options!$B$2,\"Fax\")","v":"Fax"}]
["Arrow Roofing & Supply","Josh Neumann","616-247-4747",null,null,null,null,null,{"$f":"HYPERLINK(\"#'Client Details'!$B$1\",\"Details\")","v":"Details"},{"$f":"HYPERLINK(Options!$B$1, \"Quote\")","v":"Quote"},{"$f":"HYPERLINK(Options!$B$2,\"Fax\")","v":"Fax"}]
["Arrow Roofing & Supply, Inc. (Ring)","Tyler Ring"," 616-247-4747","arrowrfg@arrowroofing.com",null,"Contractor General","Kent",null,{"$f":"HYPERLINK(\"#'Client Details'!$B$1\",\"Details\")","v":"Details"},{"$f":"HYPERLINK(Options!$B$1, \"Quote\")","v":"Quote"},{"$f":"HYPERLINK(Options!$B$2,\"Fax\")","v":"Fax"}]
["Artex Labels and Graphics (Williams)","Kim Williams"," 616-748-9655",null,"Safety","Manufacturer","Ottawa",null,{"$f":"HYPERLINK(\"#'Client Details'!$B$1\",\"Details\")","v":"Details"},{"$f":"HYPERLINK(Options!$B$1, \"Quote\")","v":"Quote"},{"$f":"HYPERLINK(Options!$B$2,\"Fax\")","v":"Fax"}]
["Arvilla Oil Field Servece Co.","Dan Grimes","800-589-7776",null,null,null,null,null,{"$f":"HYPERLINK(\"#'Client Details'!$B$1\",\"Details\")","v":"Details"},{"$f":"HYPERLINK(Options!$B$1, \"Quote\")","v":"Quote"},{"$f":"HYPERLINK(Options!$B$2,\"Fax\")","v":"Fax"}]
["ArvinMeritor","Shery Joiner","248-435-1475",null,null,null,null,null,{"$f":"HYPERLINK(\"#'Client Details'!$B$1\",\"Details\")","v":"Details"},{"$f":"HYPERLINK(Options!$B$1, \"Quote\")","v":"Quote"},{"$f":"HYPERLINK(Options!$B$2,\"Fax\")","v":"Fax"}]
["ArvinMeritor (Joiner)","Sherry Joiner"," 248-435-1475","sherry.joiner@arvinmeritor.com","Health & Safety Manager","Automotive","Kent",null,{"$f":"HYPERLINK(\"#'Client Details'!$B$1\",\"Details\")","v":"Details"},{"$f":"HYPERLINK(Options!$B$1, \"Quote\")","v":"Quote"},{"$f":"HYPERLINK(Options!$B$2,\"Fax\")","v":"Fax"}]
["Asama Coldwater Manufacturing (Matthews)","Andrew Matthews"," 517-279-1090 115","andy_matthews@asamacm.com",null,"Automotive","Branch",null,{"$f":"HYPERLINK(\"#'Client Details'!$B$1\",\"Details\")","v":"Details"},{"$f":"HYPERLINK(Options!$B$1, \"Quote\")","v":"Quote"},{"$f":"HYPERLINK(Options!$B$2,\"Fax\")","v":"Fax"}]
["Asama Coldwater Mfg.","Andy Matthews x-115","517-279-1090","ap@asamacm.com",null,null,null,null,{"$f":"HYPERLINK(\"#'Client Details'!$B$1\",\"Details\")","v":"Details"},{"$f":"HYPERLINK(Options!$B$1, \"Quote\")","v":"Quote"},{"$f":"HYPERLINK(Options!$B$2,\"Fax\")","v":"Fax"}]
["Asbestos Abatement Inc. (Ranshaw)","Todd Ranshaw"," 517-323-0052","transhaw@asbestosabatementinc.com",null,"Contractor General","Ingham",null,{"$f":"HYPERLINK(\"#'Client Details'!$B$1\",\"Details\")","v":"Details"},{"$f":"HYPERLINK(Options!$B$1, \"Quote\")","v":"Quote"},{"$f":"HYPERLINK(Options!$B$2,\"Fax\")","v":"Fax"}]
["ASD, Inc.","Tom Tippman","989-695-6446",null,null,null,null,null,{"$f":"HYPERLINK(\"#'Client Details'!$B$1\",\"Details\")","v":"Details"},{"$f":"HYPERLINK(Options!$B$1, \"Quote\")","v":"Quote"},{"$f":"HYPERLINK(Options!$B$2,\"Fax\")","v":"Fax"}]
["Ash Stevens Inc.",null,null,null,null,null,null,null,{"$f":"HYPERLINK(\"#'Client Details'!$B$1\",\"Details\")","v":"Details"},{"$f":"HYPERLINK(Options!$B$1, \"Quote\")","v":"Quote"},{"$f":"HYPERLINK(Options!$B$2,\"Fax\")","v":"Fax"}]
["Ashland Inc. (Belleville, NJ)","Steve Buchanan",null,null,null,null,null,null,{"$f":"HYPERLINK(\"#'Client Details'!$B$1\",\"Details\")","v":"Details"},{"$f":"HYPERLINK(Options!$B$1, \"Quote\")","v":"Quote"},{"$f":"HYPERLINK(Options!$B$2,\"Fax\")","v":"Fax"}]
["Ashland Inc. (Buchanan)","Steve Buchanan"," 606-329-3952","spbuchanan@ashland.com",null,"Chemical Pharmaceutical","Out of State",null,{"$f":"HYPERLINK(\"#'Client Details'!$B$1\",\"Details\")","v":"Details"},{"$f":"HYPERLINK(Options!$B$1, \"Quote\")","v":"Quote"},{"$f":"HYPERLINK(Options!$B$2,\"Fax\")","v":"Fax"}]
["ASI Environmental Technologies, Inc. (War","Dave Warner"," 231-845-0371",null,"Project Manager","Environmental Engineering","Mason",null,{"$f":"HYPERLINK(\"#'Client Details'!$B$1\",\"Details\")","v":"Details"},{"$f":"HYPERLINK(Options!$B$1, \"Quote\")","v":"Quote"},{"$f":"HYPERLINK(Options!$B$2,\"Fax\")","v":"Fax"}]
["ASI Limited (Shultz)","Chris Shultz"," 317-290-0260","cshultz@asilimited.com","Safety Manager","Contractor General","Out of State",null,{"$f":"HYPERLINK(\"#'Client Details'!$B$1\",\"Details\")","v":"Details"},{"$f":"HYPERLINK(Options!$B$1, \"Quote\")","v":"Quote"},{"$f":"HYPERLINK(Options!$B$2,\"Fax\")","v":"Fax"}]
["ASI Ltd","Chris Shultz",null,"cshultz@asilimited.com",null,null,null,null,{"$f":"HYPERLINK(\"#'Client Details'!$B$1\",\"Details\")","v":"Details"},{"$f":"HYPERLINK(Options!$B$1, \"Quote\")","v":"Quote"},{"$f":"HYPERLINK(Options!$B$2,\"Fax\")","v":"Fax"}]
["ASIG -- Aircraft Service International Gr","Vitas Sprindys"," 734-942-3525","vitas.sprindys@asig.com","Area GSE Maintenance Manager","Contractor General","Wayne",null,{"$f":"HYPERLINK(\"#'Client Details'!$B$1\",\"Details\")","v":"Details"},{"$f":"HYPERLINK(Options!$B$1, \"Quote\")","v":"Quote"},{"$f":"HYPERLINK(Options!$B$2,\"Fax\")","v":"Fax"}]
["Asphalt Paving Inc. ()",null," 231-733-1409",null,null,"Contractor General","Muskegon",null,{"$f":"HYPERLINK(\"#'Client Details'!$B$1\",\"Details\")","v":"Details"},{"$f":"HYPERLINK(Options!$B$1, \"Quote\")","v":"Quote"},{"$f":"HYPERLINK(Options!$B$2,\"Fax\")","v":"Fax"}]
["Asphalt Sealcoating, Inc. (Dave)","Dave"," 616-842-0009",null,"Owner","Contractor General","Ottawa",null,{"$f":"HYPERLINK(\"#'Client Details'!$B$1\",\"Details\")","v":"Details"},{"$f":"HYPERLINK(Options!$B$1, \"Quote\")","v":"Quote"},{"$f":"HYPERLINK(Options!$B$2,\"Fax\")","v":"Fax"}]
["Assay Technology (Kirkpatrick)","Rena Kirkpatrick"," 800-833-1258 8112",null,null,"Supplier","Out of State",null,{"$f":"HYPERLINK(\"#'Client Details'!$B$1\",\"Details\")","v":"Details"},{"$f":"HYPERLINK(Options!$B$1, \"Quote\")","v":"Quote"},{"$f":"HYPERLINK(Options!$B$2,\"Fax\")","v":"Fax"}]
["Astbury Environmental Engineering Inc.","Mary Dunlap","317-472-0999","mwood@astburyenviro.com",null,null,null,null,{"$f":"HYPERLINK(\"#'Client Details'!$B$1\",\"Details\")","v":"Details"},{"$f":"HYPERLINK(Options!$B$1, \"Quote\")","v":"Quote"},{"$f":"HYPERLINK(Options!$B$2,\"Fax\")","v":"Fax"}]
["Astbury Environmental Engineering Inc. (D","Mary Dunlap"," 317-472-0999","mdunlap@astburyenviro.com",null,"Engineering, Architecture","Out of State",null,{"$f":"HYPERLINK(\"#'Client Details'!$B$1\",\"Details\")","v":"Details"},{"$f":"HYPERLINK(Options!$B$1, \"Quote\")","v":"Quote"},{"$f":"HYPERLINK(Options!$B$2,\"Fax\")","v":"Fax"}]
["ASTI Environmental","Gary Bindus","734-663-3200 ext228","cpeltier@asti-env.com",null,null,null,null,{"$f":"HYPERLINK(\"#'Client Details'!$B$1\",\"Details\")","v":"Details"},{"$f":"HYPERLINK(Options!$B$1, \"Quote\")","v":"Quote"},{"$f":"HYPERLINK(Options!$B$2,\"Fax\")","v":"Fax"}]
["ASU Group, The (Kaleefey)","Ed Kaleefey"," 616-677-2264","edw1745@asugroup.com","Sr. Loss Control Consultant","Insurance","Kent",null,{"$f":"HYPERLINK(\"#'Client Details'!$B$1\",\"Details\")","v":"Details"},{"$f":"HYPERLINK(Options!$B$1, \"Quote\")","v":"Quote"},{"$f":"HYPERLINK(Options!$B$2,\"Fax\")","v":"Fax"}]
["ATC Associates (Bradt)","Dana Bradt"," 616-698-3131","bradt19@atc-enviro.com","Project Manager","Contractor EH&S","Kent",null,{"$f":"HYPERLINK(\"#'Client Details'!$B$1\",\"Details\")","v":"Details"},{"$f":"HYPERLINK(Options!$B$1, \"Quote\")","v":"Quote"},{"$f":"HYPERLINK(Options!$B$2,\"Fax\")","v":"Fax"}]
["ATC Associates (Grand Rapids)",null,"616-698-3131",null,null,null,null,null,{"$f":"HYPERLINK(\"#'Client Details'!$B$1\",\"Details\")","v":"Details"},{"$f":"HYPERLINK(Options!$B$1, \"Quote\")","v":"Quote"},{"$f":"HYPERLINK(Options!$B$2,\"Fax\")","v":"Fax"}]
["ATC Associates (Lannon)","Mary Lannon"," 616-698-3131","lannon19@atc-enviro.com","Sr. Project Geologist","Contractor EH&S","Kent",null,{"$f":"HYPERLINK(\"#'Client Details'!$B$1\",\"Details\")","v":"Details"},{"$f":"HYPERLINK(Options!$B$1, \"Quote\")","v":"Quote"},{"$f":"HYPERLINK(Options!$B$2,\"Fax\")","v":"Fax"}]
["ATC Associates (Miller)","Sean Miller"," 616-698-3131","miller39@atc-enviro.com",null,"Contractor EH&S","Kent",null,{"$f":"HYPERLINK(\"#'Client Details'!$B$1\",\"Details\")","v":"Details"},{"$f":"HYPERLINK(Options!$B$1, \"Quote\")","v":"Quote"},{"$f":"HYPERLINK(Options!$B$2,\"Fax\")","v":"Fax"}]
["ATC Associates (Novi)",null,"248-669-5140","shimoda39@atcassociates.com",null,null,null,null,{"$f":"HYPERLINK(\"#'Client Details'!$B$1\",\"Details\")","v":"Details"},{"$f":"HYPERLINK(Options!$B$1, \"Quote\")","v":"Quote"},{"$f":"HYPERLINK(Options!$B$2,\"Fax\")","v":"Fax"}]
["ATC Associates (Rupnow)","Craig Rupnow"," 616-698-3131","rupnow39@atc-enviro.com","President","Contractor EH&S","Kent",null,{"$f":"HYPERLINK(\"#'Client Details'!$B$1\",\"Details\")","v":"Details"},{"$f":"HYPERLINK(Options!$B$1, \"Quote\")","v":"Quote"},{"$f":"HYPERLINK(Options!$B$2,\"Fax\")","v":"Fax"}]
["Atk Energetic Systems (Radford)",null,"540-639-7631 general",null,null,null,null,null,{"$f":"HYPERLINK(\"#'Client Details'!$B$1\",\"Details\")","v":"Details"},{"$f":"HYPERLINK(Options!$B$1, \"Quote\")","v":"Quote"},{"$f":"HYPERLINK(Options!$B$2,\"Fax\")","v":"Fax"}]
["Atlantic Commtec Corp.","David Fulford","757-572-9095",null,null,null,null,null,{"$f":"HYPERLINK(\"#'Client Details'!$B$1\",\"Details\")","v":"Details"},{"$f":"HYPERLINK(Options!$B$1, \"Quote\")","v":"Quote"},{"$f":"HYPERLINK(Options!$B$2,\"Fax\")","v":"Fax"}]
["Atlantic Union Resources (Prairie Island)","Dean Pryor",null,null,null,null,null,null,{"$f":"HYPERLINK(\"#'Client Details'!$B$1\",\"Details\")","v":"Details"},{"$f":"HYPERLINK(Options!$B$1, \"Quote\")","v":"Quote"},{"$f":"HYPERLINK(Options!$B$2,\"Fax\")","v":"Fax"}]
["Auburn Hills Fire Dept, City of",null,"248-370-9461","nwebb@auburnhills.org",null,null,null,null,{"$f":"HYPERLINK(\"#'Client Details'!$B$1\",\"Details\")","v":"Details"},{"$f":"HYPERLINK(Options!$B$1, \"Quote\")","v":"Quote"},{"$f":"HYPERLINK(Options!$B$2,\"Fax\")","v":"Fax"}]
["Austin AECOM AAC-MI, Inc.",null,"269-329-1170",null,null,null,null,null,{"$f":"HYPERLINK(\"#'Client Details'!$B$1\",\"Details\")","v":"Details"},{"$f":"HYPERLINK(Options!$B$1, \"Quote\")","v":"Quote"},{"$f":"HYPERLINK(Options!$B$2,\"Fax\")","v":"Fax"}]
["Austin Company, The (Kortz)","Leo Kortz"," 269-329-1170","leo.kortz@austin.aecom.com","Area Superintendent","Contractor General","Kalamazoo",null,{"$f":"HYPERLINK(\"#'Client Details'!$B$1\",\"Details\")","v":"Details"},{"$f":"HYPERLINK(Options!$B$1, \"Quote\")","v":"Quote"},{"$f":"HYPERLINK(Options!$B$2,\"Fax\")","v":"Fax"}]
["Austin Company, The (Lotz)","Steve Lotz"," 269-329-1170","steven.lotz@theaustin.com","Safety Director","Contractor General","Kalamazoo",null,{"$f":"HYPERLINK(\"#'Client Details'!$B$1\",\"Details\")","v":"Details"},{"$f":"HYPERLINK(Options!$B$1, \"Quote\")","v":"Quote"},{"$f":"HYPERLINK(Options!$B$2,\"Fax\")","v":"Fax"}]
["Austin Company, The (Oberholtzer)","Skip Oberholtzer"," 269-833-7938","paul.w.oberholtzer@pfizer.com",null,"Contractor General","Kalamazoo",null,{"$f":"HYPERLINK(\"#'Client Details'!$B$1\",\"Details\")","v":"Details"},{"$f":"HYPERLINK(Options!$B$1, \"Quote\")","v":"Quote"},{"$f":"HYPERLINK(Options!$B$2,\"Fax\")","v":"Fax"}]
["Austin Company, The (Pelletier)","Mike Pelletier"," 269-329-1170 18","michael.pelletier@austin.aecom.com","Buyer","Contractor General","Kalamazoo",null,{"$f":"HYPERLINK(\"#'Client Details'!$B$1\",\"Details\")","v":"Details"},{"$f":"HYPERLINK(Options!$B$1, \"Quote\")","v":"Quote"},{"$f":"HYPERLINK(Options!$B$2,\"Fax\")","v":"Fax"}]
["Austin Company, The (Rafferty)","Christy Rafferty"," 269-329-1170 19","Christy.rafferty@theaustin.com",null,"Contractor General","Kalamazoo",null,{"$f":"HYPERLINK(\"#'Client Details'!$B$1\",\"Details\")","v":"Details"},{"$f":"HYPERLINK(Options!$B$1, \"Quote\")","v":"Quote"},{"$f":"HYPERLINK(Options!$B$2,\"Fax\")","v":"Fax"}]
["Austin Company, The (Senske)","Jeff Senske"," 269-833-5282",null,"Safety Manager","Contractor General","Kalamazoo",null,{"$f":"HYPERLINK(\"#'Client Details'!$B$1\",\"Details\")","v":"Details"},{"$f":"HYPERLINK(Options!$B$1, \"Quote\")","v":"Quote"},{"$f":"HYPERLINK(Options!$B$2,\"Fax\")","v":"Fax"}]
["Auto Chassis International","Loic Morel (PO# guy)","248-458-1600",null,null,null,null,null,{"$f":"HYPERLINK(\"#'Client Details'!$B$1\",\"Details\")","v":"Details"},{"$f":"HYPERLINK(Options!$B$1, \"Quote\")","v":"Quote"},{"$f":"HYPERLINK(Options!$B$2,\"Fax\")","v":"Fax"}]
["Auto Control (Kerkstra)","Terry Kerkstra"," 616-669-3100",null,"Project Manager","Contractor Electrical","Kent",null,{"$f":"HYPERLINK(\"#'Client Details'!$B$1\",\"Details\")","v":"Details"},{"$f":"HYPERLINK(Options!$B$1, \"Quote\")","v":"Quote"},{"$f":"HYPERLINK(Options!$B$2,\"Fax\")","v":"Fax"}]
["Autocam Corporation",null,"616-698-0707",null,null,null,null,null,{"$f":"HYPERLINK(\"#'Client Details'!$B$1\",\"Details\")","v":"Details"},{"$f":"HYPERLINK(Options!$B$1, \"Quote\")","v":"Quote"},{"$f":"HYPERLINK(Options!$B$2,\"Fax\")","v":"Fax"}]
["Autocam Corporation (Van Putten)","Dave Van Putten"," 616-541-8171",null,"Safety Director","Automotive","Kent",null,{"$f":"HYPERLINK(\"#'Client Details'!$B$1\",\"Details\")","v":"Details"},{"$f":"HYPERLINK(Options!$B$1, \"Quote\")","v":"Quote"},{"$f":"HYPERLINK(Options!$B$2,\"Fax\")","v":"Fax"}]
["Autodie International, Inc. (Landino)","Mary Landino"," 616-356-1413","mary.landino@autodie-llc.com","Purchasing","Automotive","Kent",null,{"$f":"HYPERLINK(\"#'Client Details'!$B$1\",\"Details\")","v":"Details"},{"$f":"HYPERLINK(Options!$B$1, \"Quote\")","v":"Quote"},{"$f":"HYPERLINK(Options!$B$2,\"Fax\")","v":"Fax"}]
["AutoDie LLC",null,null,null,null,null,null,null,{"$f":"HYPERLINK(\"#'Client Details'!$B$1\",\"Details\")","v":"Details"},{"$f":"HYPERLINK(Options!$B$1, \"Quote\")","v":"Quote"},{"$f":"HYPERLINK(Options!$B$2,\"Fax\")","v":"Fax"}]
["Autoglass Technologies","Kevin D'Argenio","616-893-8105",null,null,null,null,null,{"$f":"HYPERLINK(\"#'Client Details'!$B$1\",\"Details\")","v":"Details"},{"$f":"HYPERLINK(Options!$B$1, \"Quote\")","v":"Quote"},{"$f":"HYPERLINK(Options!$B$2,\"Fax\")","v":"Fax"}]
["Autoglass Technologies, Inc. (D'Argenio)","Kevin D'Argenio"," 616-893-8105","autoglasstechnologies@hotmail.com","Co-Owner","Auto Glass Repair","Kent",null,{"$f":"HYPERLINK(\"#'Client Details'!$B$1\",\"Details\")","v":"Details"},{"$f":"HYPERLINK(Options!$B$1, \"Quote\")","v":"Quote"},{"$f":"HYPERLINK(Options!$B$2,\"Fax\")","v":"Fax"}]
["Automat Medicion SRL (Weinberg)","Alberto J. Weinberg"," 541-145-5500555","aweinberg@automat.com.ar","Socio Gerente",null,"Out of State",null,{"$f":"HYPERLINK(\"#'Client Details'!$B$1\",\"Details\")","v":"Details"},{"$f":"HYPERLINK(Options!$B$1, \"Quote\")","v":"Quote"},{"$f":"HYPERLINK(Options!$B$2,\"Fax\")","v":"Fax"}]
["Automatic Spring Products Corp. (Johnson)","Robin Johnson"," 616-842-7800","robinjohnson@automaticspring.com","Purchasing Agent","Manufacturer","Ottawa",null,{"$f":"HYPERLINK(\"#'Client Details'!$B$1\",\"Details\")","v":"Details"},{"$f":"HYPERLINK(Options!$B$1, \"Quote\")","v":"Quote"},{"$f":"HYPERLINK(Options!$B$2,\"Fax\")","v":"Fax"}]
["Automatic Spring Products Corp. (Van Dyke","Robert Van Dyke"," 616-842-7800 128","bobvandyke@automaticspring.com","Human Resources Manager","Manufacturer","Ottawa",null,{"$f":"HYPERLINK(\"#'Client Details'!$B$1\",\"Details\")","v":"Details"},{"$f":"HYPERLINK(Options!$B$1, \"Quote\")","v":"Quote"},{"$f":"HYPERLINK(Options!$B$2,\"Fax\")","v":"Fax"}]
["Automotive Component Holdings (Schmidt)","Jeff Schmidt"," 313-755-0855",null,null,"Automotive","Wayne",null,{"$f":"HYPERLINK(\"#'Client Details'!$B$1\",\"Details\")","v":"Details"},{"$f":"HYPERLINK(Options!$B$1, \"Quote\")","v":"Quote"},{"$f":"HYPERLINK(Options!$B$2,\"Fax\")","v":"Fax"}]
["Automotive Equipment Specialists",null,null,null,null,null,null,null,{"$f":"HYPERLINK(\"#'Client Details'!$B$1\",\"Details\")","v":"Details"},{"$f":"HYPERLINK(Options!$B$1, \"Quote\")","v":"Quote"},{"$f":"HYPERLINK(Options!$B$2,\"Fax\")","v":"Fax"}]
["Auto-Owners Insurance (Kittle)","Darlene Kittle"," 517-703-8964",null,null,"Insurance","Clinton",null,{"$f":"HYPERLINK(\"#'Client Details'!$B$1\",\"Details\")","v":"Details"},{"$f":"HYPERLINK(Options!$B$1, \"Quote\")","v":"Quote"},{"$f":"HYPERLINK(Options!$B$2,\"Fax\")","v":"Fax"}]
["Avery Dennison","Bob Potter","440-358-6954","bob.potter@averydennison.com",null,null,null,null,{"$f":"HYPERLINK(\"#'Client Details'!$B$1\",\"Details\")","v":"Details"},{"$f":"HYPERLINK(Options!$B$1, \"Quote\")","v":"Quote"},{"$f":"HYPERLINK(Options!$B$2,\"Fax\")","v":"Fax"}]
["Avon Protection Systems Inc.","Pete Swearengen","231-779-6253",null,null,null,null,null,{"$f":"HYPERLINK(\"#'Client Details'!$B$1\",\"Details\")","v":"Details"},{"$f":"HYPERLINK(Options!$B$1, \"Quote\")","v":"Quote"},{"$f":"HYPERLINK(Options!$B$2,\"Fax\")","v":"Fax"}]
["Avon Protection Systems Inc. (Swearengen)","Pete Swearengen"," 231-779-6253","pete.swearengen@avon-rubber.com",null,"Manufacturer","Wexford",null,{"$f":"HYPERLINK(\"#'Client Details'!$B$1\",\"Details\")","v":"Details"},{"$f":"HYPERLINK(Options!$B$1, \"Quote\")","v":"Quote"},{"$f":"HYPERLINK(Options!$B$2,\"Fax\")","v":"Fax"}]
["Award Window Cleaning Services","Mark Reinhart","616-241-6875",null,null,null,null,null,{"$f":"HYPERLINK(\"#'Client Details'!$B$1\",\"Details\")","v":"Details"},{"$f":"HYPERLINK(Options!$B$1, \"Quote\")","v":"Quote"},{"$f":"HYPERLINK(Options!$B$2,\"Fax\")","v":"Fax"}]
["Award Window Cleaning Services, Inc. (Rei","Mark Reinhardt"," 616-241-6875","m.reinhart@awardwindow.com",null,"Contractor General","Kent",null,{"$f":"HYPERLINK(\"#'Client Details'!$B$1\",\"Details\")","v":"Details"},{"$f":"HYPERLINK(Options!$B$1, \"Quote\")","v":"Quote"},{"$f":"HYPERLINK(Options!$B$2,\"Fax\")","v":"Fax"}]
["Axen North America, Inc. (Strasser)","Aida Strasser"," 609-987-3047","AStrasser@axensna.com",null,null,"Out of State",null,{"$f":"HYPERLINK(\"#'Client Details'!$B$1\",\"Details\")","v":"Details"},{"$f":"HYPERLINK(Options!$B$1, \"Quote\")","v":"Quote"},{"$f":"HYPERLINK(Options!$B$2,\"Fax\")","v":"Fax"}]
["Axens North America, Inc.",null,"609-243-8700",null,null,null,null,null,{"$f":"HYPERLINK(\"#'Client Details'!$B$1\",\"Details\")","v":"Details"},{"$f":"HYPERLINK(Options!$B$1, \"Quote\")","v":"Quote"},{"$f":"HYPERLINK(Options!$B$2,\"Fax\")","v":"Fax"}]
["Axios Incorporated (Westmaas)","Joel Westmaas"," 616.949.2525 31","jwestmaas@axiosincorporated.com",null,"Insurance","Kent",null,{"$f":"HYPERLINK(\"#'Client Details'!$B$1\",\"Details\")","v":"Details"},{"$f":"HYPERLINK(Options!$B$1, \"Quote\")","v":"Quote"},{"$f":"HYPERLINK(Options!$B$2,\"Fax\")","v":"Fax"}]
["Aztec Producing Co.","Mike Hershberger","231-723-4402",null,null,null,null,null,{"$f":"HYPERLINK(\"#'Client Details'!$B$1\",\"Details\")","v":"Details"},{"$f":"HYPERLINK(Options!$B$1, \"Quote\")","v":"Quote"},{"$f":"HYPERLINK(Options!$B$2,\"Fax\")","v":"Fax"}]
["Aztec Producing Co. (Hershberger)","Mike Hershberger"," 231-723-4402","pec@i2k.com",null,"Petroleum Related","Manistee",null,{"$f":"HYPERLINK(\"#'Client Details'!$B$1\",\"Details\")","v":"Details"},{"$f":"HYPERLINK(Options!$B$1, \"Quote\")","v":"Quote"},{"$f":"HYPERLINK(Options!$B$2,\"Fax\")","v":"Fax"}]
["B & B Electrical Contractors Inc.","Len Bal","906-774-9790",null,null,null,null,null,{"$f":"HYPERLINK(\"#'Client Details'!$B$1\",\"Details\")","v":"Details"},{"$f":"HYPERLINK(Options!$B$1, \"Quote\")","v":"Quote"},{"$f":"HYPERLINK(Options!$B$2,\"Fax\")","v":"Fax"}]
["B & B Yardscape","Brad Gillaspie","269-207-1763",null,null,null,null,null,{"$f":"HYPERLINK(\"#'Client Details'!$B$1\",\"Details\")","v":"Details"},{"$f":"HYPERLINK(Options!$B$1, \"Quote\")","v":"Quote"},{"$f":"HYPERLINK(Options!$B$2,\"Fax\")","v":"Fax"}]
["B & L Bolt, Inc.","Kevin Dieleman","616-248-3838",null,null,null,null,null,{"$f":"HYPERLINK(\"#'Client Details'!$B$1\",\"Details\")","v":"Details"},{"$f":"HYPERLINK(Options!$B$1, \"Quote\")","v":"Quote"},{"$f":"HYPERLINK(Options!$B$2,\"Fax\")","v":"Fax"}]
["B & V Mechanical (Ekkens)","David Ekkens"," 616-243-7222","dekkens@bvmechanical.com",null,"Contractor General","Kent",null,{"$f":"HYPERLINK(\"#'Client Details'!$B$1\",\"Details\")","v":"Details"},{"$f":"HYPERLINK(Options!$B$1, \"Quote\")","v":"Quote"},{"$f":"HYPERLINK(Options!$B$2,\"Fax\")","v":"Fax"}]
["B & V Mechanical, Inc. (Greenland)","Matthew Greenland"," 616-243-7222","mgreenland@bvmechanical.com","Service Manager","Contractor General","Kent",null,{"$f":"HYPERLINK(\"#'Client Details'!$B$1\",\"Details\")","v":"Details"},{"$f":"HYPERLINK(Options!$B$1, \"Quote\")","v":"Quote"},{"$f":"HYPERLINK(Options!$B$2,\"Fax\")","v":"Fax"}]
["B&B Water / Wastewater Consultants Inc. (","Joseph Baxter"," 269-877-4196",null,"Mechanical","Contractor General","Allegan",null,{"$f":"HYPERLINK(\"#'Client Details'!$B$1\",\"Details\")","v":"Details"},{"$f":"HYPERLINK(Options!$B$1, \"Quote\")","v":"Quote"},{"$f":"HYPERLINK(Options!$B$2,\"Fax\")","v":"Fax"}]
["B&V Mechanical",null,"616-243-7222",null,null,null,null,null,{"$f":"HYPERLINK(\"#'Client Details'!$B$1\",\"Details\")","v":"Details"},{"$f":"HYPERLINK(Options!$B$1, \"Quote\")","v":"Quote"},{"$f":"HYPERLINK(Options!$B$2,\"Fax\")","v":"Fax"}]
["B.L.D.I.","Joe Berlin","616-459-3737","operations@bldi.com",null,null,null,null,{"$f":"HYPERLINK(\"#'Client Details'!$B$1\",\"Details\")","v":"Details"},{"$f":"HYPERLINK(Options!$B$1, \"Quote\")","v":"Quote"},{"$f":"HYPERLINK(Options!$B$2,\"Fax\")","v":"Fax"}]
["Babcock and Wilcox Const. (Monroe)","Ryan Beisert","734-384-1195",null,null,null,null,null,{"$f":"HYPERLINK(\"#'Client Details'!$B$1\",\"Details\")","v":"Details"},{"$f":"HYPERLINK(Options!$B$1, \"Quote\")","v":"Quote"},{"$f":"HYPERLINK(Options!$B$2,\"Fax\")","v":"Fax"}]
["Babcock and Wilcox Const. (W. Olive)","Brent West","616-738-5425",null,null,null,null,null,{"$f":"HYPERLINK(\"#'Client Details'!$B$1\",\"Details\")","v":"Details"},{"$f":"HYPERLINK(Options!$B$1, \"Quote\")","v":"Quote"},{"$f":"HYPERLINK(Options!$B$2,\"Fax\")","v":"Fax"}]
["Babcock and Wilcox Const. (Winfield)","Danny Steddum","304-759-3494",null,null,null,null,null,{"$f":"HYPERLINK(\"#'Client Details'!$B$1\",\"Details\")","v":"Details"},{"$f":"HYPERLINK(Options!$B$1, \"Quote\")","v":"Quote"},{"$f":"HYPERLINK(Options!$B$2,\"Fax\")","v":"Fax"}]
["Babcock and Wilcox Construction (Jenerou)","Bill Jenerou"," 906-286-0068","wmjenerou@babcock.com","Safety Supervisor","Contractor General","Out of State",null,{"$f":"HYPERLINK(\"#'Client Details'!$B$1\",\"Details\")","v":"Details"},{"$f":"HYPERLINK(Options!$B$1, \"Quote\")","v":"Quote"},{"$f":"HYPERLINK(Options!$B$2,\"Fax\")","v":"Fax"}]
["Babcock and Wilcox Construction (Steddum)","Danny Steddum"," 304-759-2799","drsteddum@babcock.com",null,"Contractor General","Out of State",null,{"$f":"HYPERLINK(\"#'Client Details'!$B$1\",\"Details\")","v":"Details"},{"$f":"HYPERLINK(Options!$B$1, \"Quote\")","v":"Quote"},{"$f":"HYPERLINK(Options!$B$2,\"Fax\")","v":"Fax"}]
["Babcock and Wilcox Construction (Wolf)","Gary Wolf"," 304-759-2799",null,"Campbell Plant Site Safety Man","Contractor General","Out of State",null,{"$f":"HYPERLINK(\"#'Client Details'!$B$1\",\"Details\")","v":"Details"},{"$f":"HYPERLINK(Options!$B$1, \"Quote\")","v":"Quote"},{"$f":"HYPERLINK(Options!$B$2,\"Fax\")","v":"Fax"}]
["Bacou-Dalloz (Ruszkowski)","Marty Ruszkowski"," 574-277-2153","mruszkowski@bacou-dalloz.com","Territory Sales Manager","Supplier","Out State",null,{"$f":"HYPERLINK(\"#'Client Details'!$B$1\",\"Details\")","v":"Details"},{"$f":"HYPERLINK(Options!$B$1, \"Quote\")","v":"Quote"},{"$f":"HYPERLINK(Options!$B$2,\"Fax\")","v":"Fax"}]
["Bacou-Dalloz (Verschure)","Lane Verschure"," 616-949-7822","lverschure@bacou-dalloz.com","Respirator and Gas Detection S","Supplier","Out State",null,{"$f":"HYPERLINK(\"#'Client Details'!$B$1\",\"Details\")","v":"Details"},{"$f":"HYPERLINK(Options!$B$1, \"Quote\")","v":"Quote"},{"$f":"HYPERLINK(Options!$B$2,\"Fax\")","v":"Fax"}]
["Badger Daylighting (Platt)","Bill Platt"," 403-506-9986","bplatt@badgerinc.com","Safety Manager","Manufacturer","Out of State",null,{"$f":"HYPERLINK(\"#'Client Details'!$B$1\",\"Details\")","v":"Details"},{"$f":"HYPERLINK(Options!$B$1, \"Quote\")","v":"Quote"},{"$f":"HYPERLINK(Options!$B$2,\"Fax\")","v":"Fax"}]
["BAE Industries (Mieczkowski)","Chris Mieczkowski"," 586-531-8673","cmieczkowski@baeind.com",null,"Automotive","Macomb",null,{"$f":"HYPERLINK(\"#'Client Details'!$B$1\",\"Details\")","v":"Details"},{"$f":"HYPERLINK(Options!$B$1, \"Quote\")","v":"Quote"},{"$f":"HYPERLINK(Options!$B$2,\"Fax\")","v":"Fax"}]
["Bailey Excavating & Grading (Vanarsdal)","Wendy Vanarsdal"," 269-349-1585",null,"Safety Director","Contractor, Excavator","Kalamazoo",null,{"$f":"HYPERLINK(\"#'Client Details'!$B$1\",\"Details\")","v":"Details"},{"$f":"HYPERLINK(Options!$B$1, \"Quote\")","v":"Quote"},{"$f":"HYPERLINK(Options!$B$2,\"Fax\")","v":"Fax"}]
["Baker Industrial Equipment","Mark Chilcoat","330-928-8877",null,null,null,null,null,{"$f":"HYPERLINK(\"#'Client Details'!$B$1\",\"Details\")","v":"Details"},{"$f":"HYPERLINK(Options!$B$1, \"Quote\")","v":"Quote"},{"$f":"HYPERLINK(Options!$B$2,\"Fax\")","v":"Fax"}]
["Baker Tent Rental (Baker)","Steve Baker"," 616-454-8505",null,null,"Other","Kent",null,{"$f":"HYPERLINK(\"#'Client Details'!$B$1\",\"Details\")","v":"Details"},{"$f":"HYPERLINK(Options!$B$1, \"Quote\")","v":"Quote"},{"$f":"HYPERLINK(Options!$B$2,\"Fax\")","v":"Fax"}]
["Baldwin Wallace",null,null,null,null,null,null,null,{"$f":"HYPERLINK(\"#'Client Details'!$B$1\",\"Details\")","v":"Details"},{"$f":"HYPERLINK(Options!$B$1, \"Quote\")","v":"Quote"},{"$f":"HYPERLINK(Options!$B$2,\"Fax\")","v":"Fax"}]
["Balkema Excavating (Balkema)","Jeff Balkema"," 269-345-5289","jbalkema@balkemaexc.com",null,"Contractor, Excavator","Kalamazoo",null,{"$f":"HYPERLINK(\"#'Client Details'!$B$1\",\"Details\")","v":"Details"},{"$f":"HYPERLINK(Options!$B$1, \"Quote\")","v":"Quote"},{"$f":"HYPERLINK(Options!$B$2,\"Fax\")","v":"Fax"}]
["Ball Corporation (Findlay)",null,null,null,null,null,null,null,{"$f":"HYPERLINK(\"#'Client Details'!$B$1\",\"Details\")","v":"Details"},{"$f":"HYPERLINK(Options!$B$1, \"Quote\")","v":"Quote"},{"$f":"HYPERLINK(Options!$B$2,\"Fax\")","v":"Fax"}]
["Bangor, City of (Selden)","Michael Selden"," 269-427-5831","bangormi@btc-bci.com","City Manager","Municipal, Cty","Van Buren",null,{"$f":"HYPERLINK(\"#'Client Details'!$B$1\",\"Details\")","v":"Details"},{"$f":"HYPERLINK(Options!$B$1, \"Quote\")","v":"Quote"},{"$f":"HYPERLINK(Options!$B$2,\"Fax\")","v":"Fax"}]
["Banks Hardwoods",null,"269-483-2323",null,null,null,null,null,{"$f":"HYPERLINK(\"#'Client Details'!$B$1\",\"Details\")","v":"Details"},{"$f":"HYPERLINK(Options!$B$1, \"Quote\")","v":"Quote"},{"$f":"HYPERLINK(Options!$B$2,\"Fax\")","v":"Fax"}]
["Barberton Fire Department (Evans)","Dennis Evans"," 330-606-1970","bfdhazmat@aol.com",null,"Fire Department","Out of State",null,{"$f":"HYPERLINK(\"#'Client Details'!$B$1\",\"Details\")","v":"Details"},{"$f":"HYPERLINK(Options!$B$1, \"Quote\")","v":"Quote"},{"$f":"HYPERLINK(Options!$B$2,\"Fax\")","v":"Fax"}]
["Barberton Fire Dept.",null,"330-848-6732","bfdhazmat@yahoo.com",null,null,null,null,{"$f":"HYPERLINK(\"#'Client Details'!$B$1\",\"Details\")","v":"Details"},{"$f":"HYPERLINK(Options!$B$1, \"Quote\")","v":"Quote"},{"$f":"HYPERLINK(Options!$B$2,\"Fax\")","v":"Fax"}]
["Barnes & Thornburg LLP (Lawless)","Don Lawless"," 616-742-3994","dlawless@btlaw.com",null,null,"Kent",null,{"$f":"HYPERLINK(\"#'Client Details'!$B$1\",\"Details\")","v":"Details"},{"$f":"HYPERLINK(Options!$B$1, \"Quote\")","v":"Quote"},{"$f":"HYPERLINK(Options!$B$2,\"Fax\")","v":"Fax"}]
["Barton Malow (Shooltz)","Patrick Shooltz"," 734-615-6115","patrick.shooltz@bartonmalow.com","Safety & Health Specialist","Contractor General","Wayne",null,{"$f":"HYPERLINK(\"#'Client Details'!$B$1\",\"Details\")","v":"Details"},{"$f":"HYPERLINK(Options!$B$1, \"Quote\")","v":"Quote"},{"$f":"HYPERLINK(Options!$B$2,\"Fax\")","v":"Fax"}]
["Bata Plastics","Barb Hammond Accounting","616-452-5300",null,null,null,null,null,{"$f":"HYPERLINK(\"#'Client Details'!$B$1\",\"Details\")","v":"Details"},{"$f":"HYPERLINK(Options!$B$1, \"Quote\")","v":"Quote"},{"$f":"HYPERLINK(Options!$B$2,\"Fax\")","v":"Fax"}]
["Bata Plastics, Inc. (Vis)","Eugene Vis"," 616-452-5300","eugenevis@bataplastics.com","Production Manager","Plastics","Kent",null,{"$f":"HYPERLINK(\"#'Client Details'!$B$1\",\"Details\")","v":"Details"},{"$f":"HYPERLINK(Options!$B$1, \"Quote\")","v":"Quote"},{"$f":"HYPERLINK(Options!$B$2,\"Fax\")","v":"Fax"}]
["Bathmasters (Yemc)","Kathy Yemc"," 616-698-6776",null,null,"Contractor General","Kent",null,{"$f":"HYPERLINK(\"#'Client Details'!$B$1\",\"Details\")","v":"Details"},{"$f":"HYPERLINK(Options!$B$1, \"Quote\")","v":"Quote"},{"$f":"HYPERLINK(Options!$B$2,\"Fax\")","v":"Fax"}]
["Batteries Plus (Schmuldt)","Dick Schmuldt"," 616-575-0500",null,null,"Supplier","Kent",null,{"$f":"HYPERLINK(\"#'Client Details'!$B$1\",\"Details\")","v":"Details"},{"$f":"HYPERLINK(Options!$B$1, \"Quote\")","v":"Quote"},{"$f":"HYPERLINK(Options!$B$2,\"Fax\")","v":"Fax"}]
["Battle Creek DPW, City of (Clark)","Jerome Clark"," 269-966-3507",null,"Director, Streets Department","Municipal, Cty","Calhoun",null,{"$f":"HYPERLINK(\"#'Client Details'!$B$1\",\"Details\")","v":"Details"},{"$f":"HYPERLINK(Options!$B$1, \"Quote\")","v":"Quote"},{"$f":"HYPERLINK(Options!$B$2,\"Fax\")","v":"Fax"}]
["Battle Creek DPW, City of (DeLong)","Larry DeLong"," 269-966-3513",null,"Director, WWTP","Municipal, Cty","Calhoun",null,{"$f":"HYPERLINK(\"#'Client Details'!$B$1\",\"Details\")","v":"Details"},{"$f":"HYPERLINK(Options!$B$1, \"Quote\")","v":"Quote"},{"$f":"HYPERLINK(Options!$B$2,\"Fax\")","v":"Fax"}]
["Battle Creek DPW, City of (Rich)","Dave Rich"," 269-966-3507",null,"Director, Water Treatment and","Municipal, Cty","Calhoun",null,{"$f":"HYPERLINK(\"#'Client Details'!$B$1\",\"Details\")","v":"Details"},{"$f":"HYPERLINK(Options!$B$1, \"Quote\")","v":"Quote"},{"$f":"HYPERLINK(Options!$B$2,\"Fax\")","v":"Fax"}]
["Battle Creek Police Dept.","Sgt. Matt Robinson","269-966-3322",null,null,null,null,null,{"$f":"HYPERLINK(\"#'Client Details'!$B$1\",\"Details\")","v":"Details"},{"$f":"HYPERLINK(Options!$B$1, \"Quote\")","v":"Quote"},{"$f":"HYPERLINK(Options!$B$2,\"Fax\")","v":"Fax"}]
["Battle Creek, City of (McKenzie)","Scott McKenzie"," 269-966-3407",null,"Risk Manager","Municipal, Cty","Calhoun",null,{"$f":"HYPERLINK(\"#'Client Details'!$B$1\",\"Details\")","v":"Details"},{"$f":"HYPERLINK(Options!$B$1, \"Quote\")","v":"Quote"},{"$f":"HYPERLINK(Options!$B$2,\"Fax\")","v":"Fax"}]
["Bauer Sheet Metal & Fabrication, Inc. (Se","Ron Sejat"," 231-773-3244",null,null,"Manufacturer","Muskegon",null,{"$f":"HYPERLINK(\"#'Client Details'!$B$1\",\"Details\")","v":"Details"},{"$f":"HYPERLINK(Options!$B$1, \"Quote\")","v":"Quote"},{"$f":"HYPERLINK(Options!$B$2,\"Fax\")","v":"Fax"}]
["Bayer Crop Science","Kelly Mathews","231-719-3000 General","kelly.mathews@bayer.com",null,null,null,null,{"$f":"HYPERLINK(\"#'Client Details'!$B$1\",\"Details\")","v":"Details"},{"$f":"HYPERLINK(Options!$B$1, \"Quote\")","v":"Quote"},{"$f":"HYPERLINK(Options!$B$2,\"Fax\")","v":"Fax"}]
["Bayer Crop Science (Doctor)","Larry Doctor"," 231-719-3000","larry.doctor@bayercropscience.com","EH&S Manager","Chemical Pharmaceutical","Muskegon",null,{"$f":"HYPERLINK(\"#'Client Details'!$B$1\",\"Details\")","v":"Details"},{"$f":"HYPERLINK(Options!$B$1, \"Quote\")","v":"Quote"},{"$f":"HYPERLINK(Options!$B$2,\"Fax\")","v":"Fax"}]
["Bayer Crop Science (Kurburski)","Ron Kurburski"," 231-719-3000","ron.kurburski@bayercropscience.com","Electrical Technician","Chemical Pharmaceutical","Muskegon",null,{"$f":"HYPERLINK(\"#'Client Details'!$B$1\",\"Details\")","v":"Details"},{"$f":"HYPERLINK(Options!$B$1, \"Quote\")","v":"Quote"},{"$f":"HYPERLINK(Options!$B$2,\"Fax\")","v":"Fax"}]
["Bayer Crop Science (McCann)","Bob McCann"," 231-719-3000","bob.mccann@bayercropscience.com","Safety Director",null,"Muskegon",null,{"$f":"HYPERLINK(\"#'Client Details'!$B$1\",\"Details\")","v":"Details"},{"$f":"HYPERLINK(Options!$B$1, \"Quote\")","v":"Quote"},{"$f":"HYPERLINK(Options!$B$2,\"Fax\")","v":"Fax"}]
["Bayer Crop Science (Vangills)","Kim Vangills"," 231-719-3000",null,"Storekeeper","Chemical Pharmaceutical","Muskegon",null,{"$f":"HYPERLINK(\"#'Client Details'!$B$1\",\"Details\")","v":"Details"},{"$f":"HYPERLINK(Options!$B$1, \"Quote\")","v":"Quote"},{"$f":"HYPERLINK(Options!$B$2,\"Fax\")","v":"Fax"}]
["Bazen Electric (Lenkiewicz)","Dan Lenkiewicz"," 616-458-7210","danlen@bazenelectric.com",null,"Contractor Electrical","Kent",null,{"$f":"HYPERLINK(\"#'Client Details'!$B$1\",\"Details\")","v":"Details"},{"$f":"HYPERLINK(Options!$B$1, \"Quote\")","v":"Quote"},{"$f":"HYPERLINK(Options!$B$2,\"Fax\")","v":"Fax"}]
["Bazen Electric Company",null,"616-458-7210",null,null,null,null,null,{"$f":"HYPERLINK(\"#'Client Details'!$B$1\",\"Details\")","v":"Details"},{"$f":"HYPERLINK(Options!$B$1, \"Quote\")","v":"Quote"},{"$f":"HYPERLINK(Options!$B$2,\"Fax\")","v":"Fax"}]
["BCN Services (Porterfield)","Tracie M. Porterfield"," 734-994-4100",null,"Benefits Specialist",null,"N/A",null,{"$f":"HYPERLINK(\"#'Client Details'!$B$1\",\"Details\")","v":"Details"},{"$f":"HYPERLINK(Options!$B$1, \"Quote\")","v":"Quote"},{"$f":"HYPERLINK(Options!$B$2,\"Fax\")","v":"Fax"}]
["BDN Industrial Hygiene Consultants, Inc.","Julie R Callaway","269-329-1237",null,null,null,null,null,{"$f":"HYPERLINK(\"#'Client Details'!$B$1\",\"Details\")","v":"Details"},{"$f":"HYPERLINK(Options!$B$1, \"Quote\")","v":"Quote"},{"$f":"HYPERLINK(Options!$B$2,\"Fax\")","v":"Fax"}]
["BDN Industrial Hygiene Consultants, Inc.","Julie R. Callaway"," 269-329-1237","jcallaway@bdnihc.com","Chief Operations Officer","Contractor EH&S","Kalamazoo",null,{"$f":"HYPERLINK(\"#'Client Details'!$B$1\",\"Details\")","v":"Details"},{"$f":"HYPERLINK(Options!$B$1, \"Quote\")","v":"Quote"},{"$f":"HYPERLINK(Options!$B$2,\"Fax\")","v":"Fax"}]
["BDN Industrial Hygiene Consultants, Inc.","Julie R. Callaway"," 269-329-1237","jcallaway@bdnihc.com","Chief Operations Officer","Contractor EH&S","Kalamazoo",null,{"$f":"HYPERLINK(\"#'Client Details'!$B$1\",\"Details\")","v":"Details"},{"$f":"HYPERLINK(Options!$B$1, \"Quote\")","v":"Quote"},{"$f":"HYPERLINK(Options!$B$2,\"Fax\")","v":"Fax"}]
["BDN Industrial Hygiene Consultants, Inc.","Julie R. Callaway"," 269-329-1237","jcallaway@bdnihc.com","Chief Operations Officer","Contractor EH&S","Kalamazoo",null,{"$f":"HYPERLINK(\"#'Client Details'!$B$1\",\"Details\")","v":"Details"},{"$f":"HYPERLINK(Options!$B$1, \"Quote\")","v":"Quote"},{"$f":"HYPERLINK(Options!$B$2,\"Fax\")","v":"Fax"}]
["Beacon Recycling, Inc. (Bulthuis)","Steven Bulthuis"," 231-727-0722",null,"Owner (Primary)","Recycling","Muskegon",null,{"$f":"HYPERLINK(\"#'Client Details'!$B$1\",\"Details\")","v":"Details"},{"$f":"HYPERLINK(Options!$B$1, \"Quote\")","v":"Quote"},{"$f":"HYPERLINK(Options!$B$2,\"Fax\")","v":"Fax"}]
["Beaver Tree Services (Milker)","Carl Milker"," 231-652-7274",null,"Owner","Contractor General","Muskegon",null,{"$f":"HYPERLINK(\"#'Client Details'!$B$1\",\"Details\")","v":"Details"},{"$f":"HYPERLINK(Options!$B$1, \"Quote\")","v":"Quote"},{"$f":"HYPERLINK(Options!$B$2,\"Fax\")","v":"Fax"}]
["Beck Industrial Painting","Gayl Beck","616-895-6405",null,null,null,null,null,{"$f":"HYPERLINK(\"#'Client Details'!$B$1\",\"Details\")","v":"Details"},{"$f":"HYPERLINK(Options!$B$1, \"Quote\")","v":"Quote"},{"$f":"HYPERLINK(Options!$B$2,\"Fax\")","v":"Fax"}]
["Beck Industrial Painting (Beck)","Gayl Beck"," 616-895-6405","beckindpainting@aol.com","Owner/Co-Owner","Painting","Ottawa",null,{"$f":"HYPERLINK(\"#'Client Details'!$B$1\",\"Details\")","v":"Details"},{"$f":"HYPERLINK(Options!$B$1, \"Quote\")","v":"Quote"},{"$f":"HYPERLINK(Options!$B$2,\"Fax\")","v":"Fax"}]
["Bedford Public Schools","Chris Ray","734-850-6061","rayc@bedford.k12.mi.us",null,null,null,null,{"$f":"HYPERLINK(\"#'Client Details'!$B$1\",\"Details\")","v":"Details"},{"$f":"HYPERLINK(Options!$B$1, \"Quote\")","v":"Quote"},{"$f":"HYPERLINK(Options!$B$2,\"Fax\")","v":"Fax"}]
["Beech & Rich (Hegner)","Jeanita Hegner"," 269-968-8012",null,null,"Contractor General","Calhoun",null,{"$f":"HYPERLINK(\"#'Client Details'!$B$1\",\"Details\")","v":"Details"},{"$f":"HYPERLINK(Options!$B$1, \"Quote\")","v":"Quote"},{"$f":"HYPERLINK(Options!$B$2,\"Fax\")","v":"Fax"}]
["Beech & Rich Inc.","Helen Glover","269-968-8012",null,null,null,null,null,{"$f":"HYPERLINK(\"#'Client Details'!$B$1\",\"Details\")","v":"Details"},{"$f":"HYPERLINK(Options!$B$1, \"Quote\")","v":"Quote"},{"$f":"HYPERLINK(Options!$B$2,\"Fax\")","v":"Fax"}]
["Behr Industries Corporation (Gillette)","Mark Gillette"," 616-802-4125","mark.gillette@behrind.com",null,"Automotive","Kent",null,{"$f":"HYPERLINK(\"#'Client Details'!$B$1\",\"Details\")","v":"Details"},{"$f":"HYPERLINK(Options!$B$1, \"Quote\")","v":"Quote"},{"$f":"HYPERLINK(Options!$B$2,\"Fax\")","v":"Fax"}]
["Belding DPW, City of (Thomas)","Ernie Thomas"," 616-794-1340",null,"Director","Municipal, Cty","Ionia",null,{"$f":"HYPERLINK(\"#'Client Details'!$B$1\",\"Details\")","v":"Details"},{"$f":"HYPERLINK(Options!$B$1, \"Quote\")","v":"Quote"},{"$f":"HYPERLINK(Options!$B$2,\"Fax\")","v":"Fax"}]
["Belding Fire Department, City of (Moore)","Gregg Moore"," 616-794-1900 208",null,null,"Municipal, Cty","Ionia",null,{"$f":"HYPERLINK(\"#'Client Details'!$B$1\",\"Details\")","v":"Details"},{"$f":"HYPERLINK(Options!$B$1, \"Quote\")","v":"Quote"},{"$f":"HYPERLINK(Options!$B$2,\"Fax\")","v":"Fax"}]
["Belmont County Emergency Manageement Agcy","Becky Horne","740-695-5984",null,null,null,null,null,{"$f":"HYPERLINK(\"#'Client Details'!$B$1\",\"Details\")","v":"Details"},{"$f":"HYPERLINK(Options!$B$1, \"Quote\")","v":"Quote"},{"$f":"HYPERLINK(Options!$B$2,\"Fax\")","v":"Fax"}]
["Benchmark Environmental Consultants","Christopher Gray","214-363-5996",null,null,null,null,null,{"$f":"HYPERLINK(\"#'Client Details'!$B$1\",\"Details\")","v":"Details"},{"$f":"HYPERLINK(Options!$B$1, \"Quote\")","v":"Quote"},{"$f":"HYPERLINK(Options!$B$2,\"Fax\")","v":"Fax"}]
["Benny Lanni",null,null,null,null,null,null,null,{"$f":"HYPERLINK(\"#'Client Details'!$B$1\",\"Details\")","v":"Details"},{"$f":"HYPERLINK(Options!$B$1, \"Quote\")","v":"Quote"},{"$f":"HYPERLINK(Options!$B$2,\"Fax\")","v":"Fax"}]
["Benteler Automotive - Goshen (Good)","Greg Good"," 574-537-2887","greg.good@benteler.com",null,"Automotive","Out of State",null,{"$f":"HYPERLINK(\"#'Client Details'!$B$1\",\"Details\")","v":"Details"},{"$f":"HYPERLINK(Options!$B$1, \"Quote\")","v":"Quote"},{"$f":"HYPERLINK(Options!$B$2,\"Fax\")","v":"Fax"}]
["Benteler Automotive (Goshen)","Greg Good","574-537-2887",null,null,null,null,null,{"$f":"HYPERLINK(\"#'Client Details'!$B$1\",\"Details\")","v":"Details"},{"$f":"HYPERLINK(Options!$B$1, \"Quote\")","v":"Quote"},{"$f":"HYPERLINK(Options!$B$2,\"Fax\")","v":"Fax"}]
["Benteler Automotive (GR)","David Strand","269-665-6005","accounts.payable@benteler.com",null,null,null,null,{"$f":"HYPERLINK(\"#'Client Details'!$B$1\",\"Details\")","v":"Details"},{"$f":"HYPERLINK(Options!$B$1, \"Quote\")","v":"Quote"},{"$f":"HYPERLINK(Options!$B$2,\"Fax\")","v":"Fax"}]
["Benteler Automotive (Miedema)","Nick Miedema"," 616-475-5935","nick.miedema@benteler.com","Safety and Loss Control Specia","Automotive","Kent",null,{"$f":"HYPERLINK(\"#'Client Details'!$B$1\",\"Details\")","v":"Details"},{"$f":"HYPERLINK(Options!$B$1, \"Quote\")","v":"Quote"},{"$f":"HYPERLINK(Options!$B$2,\"Fax\")","v":"Fax"}]
["Benteler Automotive (Opelika)","Dan Sartin","334-364-1860",null,null,null,null,null,{"$f":"HYPERLINK(\"#'Client Details'!$B$1\",\"Details\")","v":"Details"},{"$f":"HYPERLINK(Options!$B$1, \"Quote\")","v":"Quote"},{"$f":"HYPERLINK(Options!$B$2,\"Fax\")","v":"Fax"}]
["Benteler Automotive (Petzold)","Scott Petzold"," 616-246-5484","petzolds@benteler.com","Safety and Loss Control Manage","Automotive","Kent",null,{"$f":"HYPERLINK(\"#'Client Details'!$B$1\",\"Details\")","v":"Details"},{"$f":"HYPERLINK(Options!$B$1, \"Quote\")","v":"Quote"},{"$f":"HYPERLINK(Options!$B$2,\"Fax\")","v":"Fax"}]
["Benteler Automotive Opalika (Letson)","Stephen Letson"," 334-364-1596","stephen.letson@benteler.com",null,"Automotive","Out of State",null,{"$f":"HYPERLINK(\"#'Client Details'!$B$1\",\"Details\")","v":"Details"},{"$f":"HYPERLINK(Options!$B$1, \"Quote\")","v":"Quote"},{"$f":"HYPERLINK(Options!$B$2,\"Fax\")","v":"Fax"}]
["Bentley Publishers",null,null,null,null,null,null,null,{"$f":"HYPERLINK(\"#'Client Details'!$B$1\",\"Details\")","v":"Details"},{"$f":"HYPERLINK(Options!$B$1, \"Quote\")","v":"Quote"},{"$f":"HYPERLINK(Options!$B$2,\"Fax\")","v":"Fax"}]
["Benton Charter Township Water Plant","Stewart Beach","269-925-7284",null,null,null,null,null,{"$f":"HYPERLINK(\"#'Client Details'!$B$1\",\"Details\")","v":"Details"},{"$f":"HYPERLINK(Options!$B$1, \"Quote\")","v":"Quote"},{"$f":"HYPERLINK(Options!$B$2,\"Fax\")","v":"Fax"}]
["Benton Harbor - St. Joseph WWTP (Farley)","Chris Farley"," 269-983-7719 34","cfarley@qtm.net","Maintenance Supervisor","Municipal, Cty","Berrien",null,{"$f":"HYPERLINK(\"#'Client Details'!$B$1\",\"Details\")","v":"Details"},{"$f":"HYPERLINK(Options!$B$1, \"Quote\")","v":"Quote"},{"$f":"HYPERLINK(Options!$B$2,\"Fax\")","v":"Fax"}]
["Benton Harbor - St. Joseph WWTP (Lynch)","Tim Lynch"," 269-983-7719","tlynch@qtm.net","Plant Manager","Municipal, Cty","Berrien",null,{"$f":"HYPERLINK(\"#'Client Details'!$B$1\",\"Details\")","v":"Details"},{"$f":"HYPERLINK(Options!$B$1, \"Quote\")","v":"Quote"},{"$f":"HYPERLINK(Options!$B$2,\"Fax\")","v":"Fax"}]
["Benton Harbor DPW","Alfeda Randolph","269-927-8445",null,null,null,null,null,{"$f":"HYPERLINK(\"#'Client Details'!$B$1\",\"Details\")","v":"Details"},{"$f":"HYPERLINK(Options!$B$1, \"Quote\")","v":"Quote"},{"$f":"HYPERLINK(Options!$B$2,\"Fax\")","v":"Fax"}]
["Benton Harbor DPW (Randolph)","Alfreda Randolph"," 269-927-8445","alfreda8345@sbcglobal.net","Administrative Assistant",null,"Berrien",null,{"$f":"HYPERLINK(\"#'Client Details'!$B$1\",\"Details\")","v":"Details"},{"$f":"HYPERLINK(Options!$B$1, \"Quote\")","v":"Quote"},{"$f":"HYPERLINK(Options!$B$2,\"Fax\")","v":"Fax"}]
["Benton Harbor Water Plant, City of (Fowle","Robert Fowler"," 269-927-8471",null,null,"Municipal, Cty","Berrien",null,{"$f":"HYPERLINK(\"#'Client Details'!$B$1\",\"Details\")","v":"Details"},{"$f":"HYPERLINK(Options!$B$1, \"Quote\")","v":"Quote"},{"$f":"HYPERLINK(Options!$B$2,\"Fax\")","v":"Fax"}]
["Benton Harbor/ St. Joseph WWTP",null,"269-983-7719",null,null,null,null,null,{"$f":"HYPERLINK(\"#'Client Details'!$B$1\",\"Details\")","v":"Details"},{"$f":"HYPERLINK(Options!$B$1, \"Quote\")","v":"Quote"},{"$f":"HYPERLINK(Options!$B$2,\"Fax\")","v":"Fax"}]
["Benzie County Road Commission (Demerly)","Ben Demerly"," 231-325-3051",null,"Shop Foreman","Municipal, Cty","Benzie",null,{"$f":"HYPERLINK(\"#'Client Details'!$B$1\",\"Details\")","v":"Details"},{"$f":"HYPERLINK(Options!$B$1, \"Quote\")","v":"Quote"},{"$f":"HYPERLINK(Options!$B$2,\"Fax\")","v":"Fax"}]
["Berends, Hendricks & Stuit",null,"616-261-7336","KRoehling@bhsins.com",null,null,null,null,{"$f":"HYPERLINK(\"#'Client Details'!$B$1\",\"Details\")","v":"Details"},{"$f":"HYPERLINK(Options!$B$1, \"Quote\")","v":"Quote"},{"$f":"HYPERLINK(Options!$B$2,\"Fax\")","v":"Fax"}]
["Berlin Raceway (Lane)","Scott Lane"," 616-677-5000 11","slane@berlinraceway.com","President","Other","Kent",null,{"$f":"HYPERLINK(\"#'Client Details'!$B$1\",\"Details\")","v":"Details"},{"$f":"HYPERLINK(Options!$B$1, \"Quote\")","v":"Quote"},{"$f":"HYPERLINK(Options!$B$2,\"Fax\")","v":"Fax"}]
["Berlin-Orange Fire Department","Matt Bennett","616-292-6333",null,null,null,null,null,{"$f":"HYPERLINK(\"#'Client Details'!$B$1\",\"Details\")","v":"Details"},{"$f":"HYPERLINK(Options!$B$1, \"Quote\")","v":"Quote"},{"$f":"HYPERLINK(Options!$B$2,\"Fax\")","v":"Fax"}]
["Berry Plastics (Okoniewski)","Michael Okoniewski"," 269-435-2425 409",null,null,"Paper","Out of State",null,{"$f":"HYPERLINK(\"#'Client Details'!$B$1\",\"Details\")","v":"Details"},{"$f":"HYPERLINK(Options!$B$1, \"Quote\")","v":"Quote"},{"$f":"HYPERLINK(Options!$B$2,\"Fax\")","v":"Fax"}]
["Betsie Lake Utilities Authority","Ernest Elliott","231.352.9804",null,null,null,null,null,{"$f":"HYPERLINK(\"#'Client Details'!$B$1\",\"Details\")","v":"Details"},{"$f":"HYPERLINK(Options!$B$1, \"Quote\")","v":"Quote"},{"$f":"HYPERLINK(Options!$B$2,\"Fax\")","v":"Fax"}]
["Betsie Lake Utilities Authority (Elliott)","Ernest Elliott"," 231-352-9804",null,"Superintendent","Municipal, Cty","Benzie",null,{"$f":"HYPERLINK(\"#'Client Details'!$B$1\",\"Details\")","v":"Details"},{"$f":"HYPERLINK(Options!$B$1, \"Quote\")","v":"Quote"},{"$f":"HYPERLINK(Options!$B$2,\"Fax\")","v":"Fax"}]
["Better Bolting","Mike Perry","616-301-2454",null,null,null,null,null,{"$f":"HYPERLINK(\"#'Client Details'!$B$1\",\"Details\")","v":"Details"},{"$f":"HYPERLINK(Options!$B$1, \"Quote\")","v":"Quote"},{"$f":"HYPERLINK(Options!$B$2,\"Fax\")","v":"Fax"}]
["Betz Industries (Tellefsen)","William Tellefsen"," 616-453-4429","betzind@aol.com","Quality / Technical Manager","Steel","Kent",null,{"$f":"HYPERLINK(\"#'Client Details'!$B$1\",\"Details\")","v":"Details"},{"$f":"HYPERLINK(Options!$B$1, \"Quote\")","v":"Quote"},{"$f":"HYPERLINK(Options!$B$2,\"Fax\")","v":"Fax"}]
["BGI Inc.","Trudy McEachern","781-891-9380",null,null,null,null,null,{"$f":"HYPERLINK(\"#'Client Details'!$B$1\",\"Details\")","v":"Details"},{"$f":"HYPERLINK(Options!$B$1, \"Quote\")","v":"Quote"},{"$f":"HYPERLINK(Options!$B$2,\"Fax\")","v":"Fax"}]
["BGL Asset Services","Bob Meyers","989-772-9111",null,null,null,null,null,{"$f":"HYPERLINK(\"#'Client Details'!$B$1\",\"Details\")","v":"Details"},{"$f":"HYPERLINK(Options!$B$1, \"Quote\")","v":"Quote"},{"$f":"HYPERLINK(Options!$B$2,\"Fax\")","v":"Fax"}]
["Big Rapids City Garage, City of","Van Johnson","231-796-8998",null,null,null,null,null,{"$f":"HYPERLINK(\"#'Client Details'!$B$1\",\"Details\")","v":"Details"},{"$f":"HYPERLINK(Options!$B$1, \"Quote\")","v":"Quote"},{"$f":"HYPERLINK(Options!$B$2,\"Fax\")","v":"Fax"}]
["Big Rapids City Garage, City of (Johnson)","Van Johnson"," 231-796-8998","vjohnson@ci.big-rapids.mi.us","Superintendent","Municipal, Cty","Mecosta",null,{"$f":"HYPERLINK(\"#'Client Details'!$B$1\",\"Details\")","v":"Details"},{"$f":"HYPERLINK(Options!$B$1, \"Quote\")","v":"Quote"},{"$f":"HYPERLINK(Options!$B$2,\"Fax\")","v":"Fax"}]
["Big Rapids Clean Water Plant, City of","Jack Fraser","231-796-8483",null,null,null,null,null,{"$f":"HYPERLINK(\"#'Client Details'!$B$1\",\"Details\")","v":"Details"},{"$f":"HYPERLINK(Options!$B$1, \"Quote\")","v":"Quote"},{"$f":"HYPERLINK(Options!$B$2,\"Fax\")","v":"Fax"}]
["Big Rapids Water Treatment Plant, City of","Carmen Johnson","231-796-6231","cjohnson@netonecom.net",null,null,null,null,{"$f":"HYPERLINK(\"#'Client Details'!$B$1\",\"Details\")","v":"Details"},{"$f":"HYPERLINK(Options!$B$1, \"Quote\")","v":"Quote"},{"$f":"HYPERLINK(Options!$B$2,\"Fax\")","v":"Fax"}]
["Big Rapids WWTP, City of (Fraser)","Jack Fraser"," 231-796-8483","jfraser@ci.big-rapids.mi.us","Plant Manager","Municipal, Cty","Mecosta",null,{"$f":"HYPERLINK(\"#'Client Details'!$B$1\",\"Details\")","v":"Details"},{"$f":"HYPERLINK(Options!$B$1, \"Quote\")","v":"Quote"},{"$f":"HYPERLINK(Options!$B$2,\"Fax\")","v":"Fax"}]
["Bill Bosch",null,null,null,null,null,null,null,{"$f":"HYPERLINK(\"#'Client Details'!$B$1\",\"Details\")","v":"Details"},{"$f":"HYPERLINK(Options!$B$1, \"Quote\")","v":"Quote"},{"$f":"HYPERLINK(Options!$B$2,\"Fax\")","v":"Fax"}]
["Bill's Custom Fab, Inc.","Jessica Accounting","989-772-5817",null,null,null,null,null,{"$f":"HYPERLINK(\"#'Client Details'!$B$1\",\"Details\")","v":"Details"},{"$f":"HYPERLINK(Options!$B$1, \"Quote\")","v":"Quote"},{"$f":"HYPERLINK(Options!$B$2,\"Fax\")","v":"Fax"}]
["BILZ Plumbing and Mechanical (Downs)","Dan Downs"," 616-842-1336",null,"President","Contractor General","Ottawa",null,{"$f":"HYPERLINK(\"#'Client Details'!$B$1\",\"Details\")","v":"Details"},{"$f":"HYPERLINK(Options!$B$1, \"Quote\")","v":"Quote"},{"$f":"HYPERLINK(Options!$B$2,\"Fax\")","v":"Fax"}]
["Biolab Chemtura","Steven Marr","517-265-6138",null,null,null,null,null,{"$f":"HYPERLINK(\"#'Client Details'!$B$1\",\"Details\")","v":"Details"},{"$f":"HYPERLINK(Options!$B$1, \"Quote\")","v":"Quote"},{"$f":"HYPERLINK(Options!$B$2,\"Fax\")","v":"Fax"}]
["BioLab Chemtura (Marr)","Steven Marr"," 517-265-6138 253","steven.marr@chemtua.com","Facilities & Materials Special","Chemical Pharmaceutical","Lenawee",null,{"$f":"HYPERLINK(\"#'Client Details'!$B$1\",\"Details\")","v":"Details"},{"$f":"HYPERLINK(Options!$B$1, \"Quote\")","v":"Quote"},{"$f":"HYPERLINK(Options!$B$2,\"Fax\")","v":"Fax"}]
["Bios International Corporation (Padden)","Lauren Padden"," 800-663-4977","padl@biosint.com","Sales Manager","Supplier","Out of State",null,{"$f":"HYPERLINK(\"#'Client Details'!$B$1\",\"Details\")","v":"Details"},{"$f":"HYPERLINK(Options!$B$1, \"Quote\")","v":"Quote"},{"$f":"HYPERLINK(Options!$B$2,\"Fax\")","v":"Fax"}]
["Biotec, Inc.","Colleen Hulst (Buyer)","616-772-2133",null,null,null,null,null,{"$f":"HYPERLINK(\"#'Client Details'!$B$1\",\"Details\")","v":"Details"},{"$f":"HYPERLINK(Options!$B$1, \"Quote\")","v":"Quote"},{"$f":"HYPERLINK(Options!$B$2,\"Fax\")","v":"Fax"}]
["Biotech Agronomics","Rick cabot",null,"rcabot@biotechag.com",null,null,null,null,{"$f":"HYPERLINK(\"#'Client Details'!$B$1\",\"Details\")","v":"Details"},{"$f":"HYPERLINK(Options!$B$1, \"Quote\")","v":"Quote"},{"$f":"HYPERLINK(Options!$B$2,\"Fax\")","v":"Fax"}]
["BioTech Agronomics, Inc. (Bonney)","Kevin Bonney"," 231-325-5011","info@biotechag.com","President","Contractor General","Benzie",null,{"$f":"HYPERLINK(\"#'Client Details'!$B$1\",\"Details\")","v":"Details"},{"$f":"HYPERLINK(Options!$B$1, \"Quote\")","v":"Quote"},{"$f":"HYPERLINK(Options!$B$2,\"Fax\")","v":"Fax"}]
["Birds Eye Foods (Rybarczyk)","Bill Rybarczyk"," 269-561-8211 234",null,"EH&S","Food","Allegan",null,{"$f":"HYPERLINK(\"#'Client Details'!$B$1\",\"Details\")","v":"Details"},{"$f":"HYPERLINK(Options!$B$1, \"Quote\")","v":"Quote"},{"$f":"HYPERLINK(Options!$B$2,\"Fax\")","v":"Fax"}]
["Birks Works Environmental",null,"313-891-1310",null,null,null,null,null,{"$f":"HYPERLINK(\"#'Client Details'!$B$1\",\"Details\")","v":"Details"},{"$f":"HYPERLINK(Options!$B$1, \"Quote\")","v":"Quote"},{"$f":"HYPERLINK(Options!$B$2,\"Fax\")","v":"Fax"}]
["Bittersweet Ski Area (Denhardy)","Dave Denhardy"," 269-694-2032",null,"Lift Operations and Maintenanc","Ski Area","Allegan",null,{"$f":"HYPERLINK(\"#'Client Details'!$B$1\",\"Details\")","v":"Details"},{"$f":"HYPERLINK(Options!$B$1, \"Quote\")","v":"Quote"},{"$f":"HYPERLINK(Options!$B$2,\"Fax\")","v":"Fax"}]
["BKB Construction, Inc.","Acct: Barb Kushner","920-829-5925","bkushner@bkbconst.com",null,null,null,null,{"$f":"HYPERLINK(\"#'Client Details'!$B$1\",\"Details\")","v":"Details"},{"$f":"HYPERLINK(Options!$B$1, \"Quote\")","v":"Quote"},{"$f":"HYPERLINK(Options!$B$2,\"Fax\")","v":"Fax"}]
["Black River Builders (Novak)","Joe Novak","(616) 748-9120",null,"Owner","Contractor General","Allegan",null,{"$f":"HYPERLINK(\"#'Client Details'!$B$1\",\"Details\")","v":"Details"},{"$f":"HYPERLINK(Options!$B$1, \"Quote\")","v":"Quote"},{"$f":"HYPERLINK(Options!$B$2,\"Fax\")","v":"Fax"}]
["BlackBerry Window & Door Systems","Accting - Pam","269-353-8850","joejoe61280@yahoo.com",null,null,null,null,{"$f":"HYPERLINK(\"#'Client Details'!$B$1\",\"Details\")","v":"Details"},{"$f":"HYPERLINK(Options!$B$1, \"Quote\")","v":"Quote"},{"$f":"HYPERLINK(Options!$B$2,\"Fax\")","v":"Fax"}]
["Blackmer","Leisha McClelland","616-241-1611",null,null,null,null,null,{"$f":"HYPERLINK(\"#'Client Details'!$B$1\",\"Details\")","v":"Details"},{"$f":"HYPERLINK(Options!$B$1, \"Quote\")","v":"Quote"},{"$f":"HYPERLINK(Options!$B$2,\"Fax\")","v":"Fax"}]
["Blackmer (Dennis)","Denny Dennis"," 616-248-9264 9214","dennis@blackmer.com","Tooling & Fixture Designer","Manufacturer","Kent",null,{"$f":"HYPERLINK(\"#'Client Details'!$B$1\",\"Details\")","v":"Details"},{"$f":"HYPERLINK(Options!$B$1, \"Quote\")","v":"Quote"},{"$f":"HYPERLINK(Options!$B$2,\"Fax\")","v":"Fax"}]
["Blarney Castle Oil Company (Griffis)","Tracy Griffis"," 231-864-3111 105",null,"Health and Safety/Management","Petroleum Related","Manistee",null,{"$f":"HYPERLINK(\"#'Client Details'!$B$1\",\"Details\")","v":"Details"},{"$f":"HYPERLINK(Options!$B$1, \"Quote\")","v":"Quote"},{"$f":"HYPERLINK(Options!$B$2,\"Fax\")","v":"Fax"}]
["BLD Products Ltd. (Marshall)","Gale Marshall"," 616-395-5611",null,"Safety Coordinator","Automotive","Ottawa",null,{"$f":"HYPERLINK(\"#'Client Details'!$B$1\",\"Details\")","v":"Details"},{"$f":"HYPERLINK(Options!$B$1, \"Quote\")","v":"Quote"},{"$f":"HYPERLINK(Options!$B$2,\"Fax\")","v":"Fax"}]
["BLDI (Berlin)","Joseph Berlin"," 616-459-3737","jberlin@bldi.com","President","Contractor EH&S","Kent",null,{"$f":"HYPERLINK(\"#'Client Details'!$B$1\",\"Details\")","v":"Details"},{"$f":"HYPERLINK(Options!$B$1, \"Quote\")","v":"Quote"},{"$f":"HYPERLINK(Options!$B$2,\"Fax\")","v":"Fax"}]
["BLDI (Mark)","Joseph J. Mark"," 616-459-3737","jmark@bldi.com","Vice President","Contractor EH&S","Kent",null,{"$f":"HYPERLINK(\"#'Client Details'!$B$1\",\"Details\")","v":"Details"},{"$f":"HYPERLINK(Options!$B$1, \"Quote\")","v":"Quote"},{"$f":"HYPERLINK(Options!$B$2,\"Fax\")","v":"Fax"}]
["Bliss Clearing Niagara (Roger)","Carol Roger"," 269-948-5859","crog@bcn-usa.com","Human Resources Director","Automotive","Barry",null,{"$f":"HYPERLINK(\"#'Client Details'!$B$1\",\"Details\")","v":"Details"},{"$f":"HYPERLINK(Options!$B$1, \"Quote\")","v":"Quote"},{"$f":"HYPERLINK(Options!$B$2,\"Fax\")","v":"Fax"}]
["Blue Rhino - Corporate (Rhoades)","Jill Rhoades"," 336-659-6733","jrhoades@bluerhino.com","Safety Director","Manufacturer","Out of State",null,{"$f":"HYPERLINK(\"#'Client Details'!$B$1\",\"Details\")","v":"Details"},{"$f":"HYPERLINK(Options!$B$1, \"Quote\")","v":"Quote"},{"$f":"HYPERLINK(Options!$B$2,\"Fax\")","v":"Fax"}]
["Blue Rhino (Centralia)","Ray Helms","360-669-0043 x102","thelms@bluerhino.com",null,null,null,null,{"$f":"HYPERLINK(\"#'Client Details'!$B$1\",\"Details\")","v":"Details"},{"$f":"HYPERLINK(Options!$B$1, \"Quote\")","v":"Quote"},{"$f":"HYPERLINK(Options!$B$2,\"Fax\")","v":"Fax"}]
["Blue Rhino (Channohon)","Hersch Collins ext.4","815-521-2970",null,null,null,null,null,{"$f":"HYPERLINK(\"#'Client Details'!$B$1\",\"Details\")","v":"Details"},{"$f":"HYPERLINK(Options!$B$1, \"Quote\")","v":"Quote"},{"$f":"HYPERLINK(Options!$B$2,\"Fax\")","v":"Fax"}]
["Blue Rhino (Hamptonville)","Chris Moxley","336-468-8010",null,null,null,null,null,{"$f":"HYPERLINK(\"#'Client Details'!$B$1\",\"Details\")","v":"Details"},{"$f":"HYPERLINK(Options!$B$1, \"Quote\")","v":"Quote"},{"$f":"HYPERLINK(Options!$B$2,\"Fax\")","v":"Fax"}]
["Blue Rhino (Henderson)","John Lewis","303-289-9126",null,null,null,null,null,{"$f":"HYPERLINK(\"#'Client Details'!$B$1\",\"Details\")","v":"Details"},{"$f":"HYPERLINK(Options!$B$1, \"Quote\")","v":"Quote"},{"$f":"HYPERLINK(Options!$B$2,\"Fax\")","v":"Fax"}]
["Blue Rhino (Hutchins)","Jim Magrath","214-254-8191",null,null,null,null,null,{"$f":"HYPERLINK(\"#'Client Details'!$B$1\",\"Details\")","v":"Details"},{"$f":"HYPERLINK(Options!$B$1, \"Quote\")","v":"Quote"},{"$f":"HYPERLINK(Options!$B$2,\"Fax\")","v":"Fax"}]
["Blue Rhino (Kansas City)","Josh McLeod",null,null,null,null,null,null,{"$f":"HYPERLINK(\"#'Client Details'!$B$1\",\"Details\")","v":"Details"},{"$f":"HYPERLINK(Options!$B$1, \"Quote\")","v":"Quote"},{"$f":"HYPERLINK(Options!$B$2,\"Fax\")","v":"Fax"}]
["Blue Rhino (Rubidoux)","Steve Holmes","951-321-4720",null,null,null,null,null,{"$f":"HYPERLINK(\"#'Client Details'!$B$1\",\"Details\")","v":"Details"},{"$f":"HYPERLINK(Options!$B$1, \"Quote\")","v":"Quote"},{"$f":"HYPERLINK(Options!$B$2,\"Fax\")","v":"Fax"}]
["Blue Rhino (Tavares)",null,"352-343-1762",null,null,null,null,null,{"$f":"HYPERLINK(\"#'Client Details'!$B$1\",\"Details\")","v":"Details"},{"$f":"HYPERLINK(Options!$B$1, \"Quote\")","v":"Quote"},{"$f":"HYPERLINK(Options!$B$2,\"Fax\")","v":"Fax"}]
["Boar's Head Provisions (Boomgard)","Bill Boomgard"," 616-394-4746",null,"Safety","Food","Ottawa",null,{"$f":"HYPERLINK(\"#'Client Details'!$B$1\",\"Details\")","v":"Details"},{"$f":"HYPERLINK(Options!$B$1, \"Quote\")","v":"Quote"},{"$f":"HYPERLINK(Options!$B$2,\"Fax\")","v":"Fax"}]
["Boar's Head Provisions (Krevda)","David Krevda"," 616-394-4746","david.krevda@boarshead.com","Safety Director","Food","Ottawa",null,{"$f":"HYPERLINK(\"#'Client Details'!$B$1\",\"Details\")","v":"Details"},{"$f":"HYPERLINK(Options!$B$1, \"Quote\")","v":"Quote"},{"$f":"HYPERLINK(Options!$B$2,\"Fax\")","v":"Fax"}]
["Bob's Roofing, Inc. (Landis)","Pat Landis"," 231-894-5627",null,"Safety","Contractor General","Muskegon",null,{"$f":"HYPERLINK(\"#'Client Details'!$B$1\",\"Details\")","v":"Details"},{"$f":"HYPERLINK(Options!$B$1, \"Quote\")","v":"Quote"},{"$f":"HYPERLINK(Options!$B$2,\"Fax\")","v":"Fax"}]
["Boc Linde (South Bend)","Jim Copenhaver","574.234.4887",null,null,null,null,null,{"$f":"HYPERLINK(\"#'Client Details'!$B$1\",\"Details\")","v":"Details"},{"$f":"HYPERLINK(Options!$B$1, \"Quote\")","v":"Quote"},{"$f":"HYPERLINK(Options!$B$2,\"Fax\")","v":"Fax"}]
["Bond Construction Inc. (Nickels)","Delmer H. Nickels"," 616-241-6500",null,"President","Contractor General","Kent",null,{"$f":"HYPERLINK(\"#'Client Details'!$B$1\",\"Details\")","v":"Details"},{"$f":"HYPERLINK(Options!$B$1, \"Quote\")","v":"Quote"},{"$f":"HYPERLINK(Options!$B$2,\"Fax\")","v":"Fax"}]
["Bonus Environmental","Gary \"Jeff\" Walworth","989-779-7686","jsalmon@bonusenvironmental.com",null,null,null,null,{"$f":"HYPERLINK(\"#'Client Details'!$B$1\",\"Details\")","v":"Details"},{"$f":"HYPERLINK(Options!$B$1, \"Quote\")","v":"Quote"},{"$f":"HYPERLINK(Options!$B$2,\"Fax\")","v":"Fax"}]
["Bonus Environmental (Salmon)","Jeremiah Salmon"," 989-779-7686","jsalmon@bonusenvironmental.com","Principal","Contractor EH&S","Isabella",null,{"$f":"HYPERLINK(\"#'Client Details'!$B$1\",\"Details\")","v":"Details"},{"$f":"HYPERLINK(Options!$B$1, \"Quote\")","v":"Quote"},{"$f":"HYPERLINK(Options!$B$2,\"Fax\")","v":"Fax"}]
["Borculo Polishing Inc.","Michael Biesbrock","616-772-6568",null,null,null,null,null,{"$f":"HYPERLINK(\"#'Client Details'!$B$1\",\"Details\")","v":"Details"},{"$f":"HYPERLINK(Options!$B$1, \"Quote\")","v":"Quote"},{"$f":"HYPERLINK(Options!$B$2,\"Fax\")","v":"Fax"}]
["Borculo Polishing Inc. (Biesbrock)","Michael Biesbrock"," 616-772-6568",null,"Operations Manager","Manufacturer","Ottawa",null,{"$f":"HYPERLINK(\"#'Client Details'!$B$1\",\"Details\")","v":"Details"},{"$f":"HYPERLINK(Options!$B$1, \"Quote\")","v":"Quote"},{"$f":"HYPERLINK(Options!$B$2,\"Fax\")","v":"Fax"}]
["Borg Warner (Homa)","Jeff Homa"," 231-779-7678","jhoma@borgwarner.com",null,"Manufacturer","Wexford",null,{"$f":"HYPERLINK(\"#'Client Details'!$B$1\",\"Details\")","v":"Details"},{"$f":"HYPERLINK(Options!$B$1, \"Quote\")","v":"Quote"},{"$f":"HYPERLINK(Options!$B$2,\"Fax\")","v":"Fax"}]
["BorgWarner Thermal Systems","Jeff Homa","231-779-7562",null,null,null,null,null,{"$f":"HYPERLINK(\"#'Client Details'!$B$1\",\"Details\")","v":"Details"},{"$f":"HYPERLINK(Options!$B$1, \"Quote\")","v":"Quote"},{"$f":"HYPERLINK(Options!$B$2,\"Fax\")","v":"Fax"}]
["Borisch Manufacturing Corporation","Michael Halm","616-554-9820",null,null,null,null,null,{"$f":"HYPERLINK(\"#'Client Details'!$B$1\",\"Details\")","v":"Details"},{"$f":"HYPERLINK(Options!$B$1, \"Quote\")","v":"Quote"},{"$f":"HYPERLINK(Options!$B$2,\"Fax\")","v":"Fax"}]
["Borisch Manufacturing Corporation (Griffe","Nathan Griffen"," 616-554-9820 1155","nateg@borisch.com","Tool Crib Clerk","Manufacturer","Kent",null,{"$f":"HYPERLINK(\"#'Client Details'!$B$1\",\"Details\")","v":"Details"},{"$f":"HYPERLINK(Options!$B$1, \"Quote\")","v":"Quote"},{"$f":"HYPERLINK(Options!$B$2,\"Fax\")","v":"Fax"}]
["Borisch Manufacturing Corporation (Halm)","Michael Halm"," 616-554-9820 1032","michaelh@borisch.com","Safety Manager","Manufacturer","Kent",null,{"$f":"HYPERLINK(\"#'Client Details'!$B$1\",\"Details\")","v":"Details"},{"$f":"HYPERLINK(Options!$B$1, \"Quote\")","v":"Quote"},{"$f":"HYPERLINK(Options!$B$2,\"Fax\")","v":"Fax"}]
["Bornor Restoration Inc.","Bill Bornor","517-482-1625","billb@bornor.com",null,null,null,null,{"$f":"HYPERLINK(\"#'Client Details'!$B$1\",\"Details\")","v":"Details"},{"$f":"HYPERLINK(Options!$B$1, \"Quote\")","v":"Quote"},{"$f":"HYPERLINK(Options!$B$2,\"Fax\")","v":"Fax"}]
["Bornor Restoration, Inc. (Bornor)","Bill Bornor"," 517-482-1625","billb@bornor.com",null,"Contractor General","Ingham",null,{"$f":"HYPERLINK(\"#'Client Details'!$B$1\",\"Details\")","v":"Details"},{"$f":"HYPERLINK(Options!$B$1, \"Quote\")","v":"Quote"},{"$f":"HYPERLINK(Options!$B$2,\"Fax\")","v":"Fax"}]
["Borroughs Corporation (Gill)","Greg Gill"," 800-748-0227","ggill@borroughs.com","EH&S Manager","Manufacturer","Kalamazoo",null,{"$f":"HYPERLINK(\"#'Client Details'!$B$1\",\"Details\")","v":"Details"},{"$f":"HYPERLINK(Options!$B$1, \"Quote\")","v":"Quote"},{"$f":"HYPERLINK(Options!$B$2,\"Fax\")","v":"Fax"}]
["Bosch Mechanical Contractors",null,"616-453-5483",null,null,null,null,null,{"$f":"HYPERLINK(\"#'Client Details'!$B$1\",\"Details\")","v":"Details"},{"$f":"HYPERLINK(Options!$B$1, \"Quote\")","v":"Quote"},{"$f":"HYPERLINK(Options!$B$2,\"Fax\")","v":"Fax"}]
["Bosch Reman North (Dunn)","Dan Dunn"," 616-541-1103",null,null,"Automotive","Kent",null,{"$f":"HYPERLINK(\"#'Client Details'!$B$1\",\"Details\")","v":"Details"},{"$f":"HYPERLINK(Options!$B$1, \"Quote\")","v":"Quote"},{"$f":"HYPERLINK(Options!$B$2,\"Fax\")","v":"Fax"}]
["Bouma Corporation",null,"616-538-3600","accountspayable@boumacorp.com",null,null,null,null,{"$f":"HYPERLINK(\"#'Client Details'!$B$1\",\"Details\")","v":"Details"},{"$f":"HYPERLINK(Options!$B$1, \"Quote\")","v":"Quote"},{"$f":"HYPERLINK(Options!$B$2,\"Fax\")","v":"Fax"}]
["Bouma Corporation, The (Euker)","Michelle Euker"," 616-538-3600","meuker@boumacorp.com","Cost Accountant","Contractor General","Kent",null,{"$f":"HYPERLINK(\"#'Client Details'!$B$1\",\"Details\")","v":"Details"},{"$f":"HYPERLINK(Options!$B$1, \"Quote\")","v":"Quote"},{"$f":"HYPERLINK(Options!$B$2,\"Fax\")","v":"Fax"}]
["Bouwens Construction (Bouwens)","Jim Bouwens"," 616-392-5500",null,"President","Contractor General","Ottawa",null,{"$f":"HYPERLINK(\"#'Client Details'!$B$1\",\"Details\")","v":"Details"},{"$f":"HYPERLINK(Options!$B$1, \"Quote\")","v":"Quote"},{"$f":"HYPERLINK(Options!$B$2,\"Fax\")","v":"Fax"}]
["Bowker's Fiberglass (Bowker)","Martin Bowker"," 616-218-1683","martin@bowkersfiberglass.com","Owner","Marine Repair","Ottawa",null,{"$f":"HYPERLINK(\"#'Client Details'!$B$1\",\"Details\")","v":"Details"},{"$f":"HYPERLINK(Options!$B$1, \"Quote\")","v":"Quote"},{"$f":"HYPERLINK(Options!$B$2,\"Fax\")","v":"Fax"}]
["Bowling Green Fire Dept., City of","Doug Isaacson","419-352-3106","disaacson@bgohio.org",null,null,null,null,{"$f":"HYPERLINK(\"#'Client Details'!$B$1\",\"Details\")","v":"Details"},{"$f":"HYPERLINK(Options!$B$1, \"Quote\")","v":"Quote"},{"$f":"HYPERLINK(Options!$B$2,\"Fax\")","v":"Fax"}]
["BP Pipeline (Taylor)","Mike Baum",null,null,null,null,null,null,{"$f":"HYPERLINK(\"#'Client Details'!$B$1\",\"Details\")","v":"Details"},{"$f":"HYPERLINK(Options!$B$1, \"Quote\")","v":"Quote"},{"$f":"HYPERLINK(Options!$B$2,\"Fax\")","v":"Fax"}]
["BP Product N.A. (Granger)",null,"574-272-2800","jeff.lizzi@bp.com",null,null,null,null,{"$f":"HYPERLINK(\"#'Client Details'!$B$1\",\"Details\")","v":"Details"},{"$f":"HYPERLINK(Options!$B$1, \"Quote\")","v":"Quote"},{"$f":"HYPERLINK(Options!$B$2,\"Fax\")","v":"Fax"}]
["BP Products NA (Furr)","Gary Furr"," 517-536-8627","furrgr@bp.com",null,"Petroleum Related","Out of State",null,{"$f":"HYPERLINK(\"#'Client Details'!$B$1\",\"Details\")","v":"Details"},{"$f":"HYPERLINK(Options!$B$1, \"Quote\")","v":"Quote"},{"$f":"HYPERLINK(Options!$B$2,\"Fax\")","v":"Fax"}]
["BP Products NA (Napoleon)","Gary Furr","517-536-8627",null,null,null,null,null,{"$f":"HYPERLINK(\"#'Client Details'!$B$1\",\"Details\")","v":"Details"},{"$f":"HYPERLINK(Options!$B$1, \"Quote\")","v":"Quote"},{"$f":"HYPERLINK(Options!$B$2,\"Fax\")","v":"Fax"}]
["BP&R Engineering (Brechting)","Mike Brechting"," 616-392-9785","mbrechting@bpreng.com",null,"Engineering, Architecture","Ottawa",null,{"$f":"HYPERLINK(\"#'Client Details'!$B$1\",\"Details\")","v":"Details"},{"$f":"HYPERLINK(Options!$B$1, \"Quote\")","v":"Quote"},{"$f":"HYPERLINK(Options!$B$2,\"Fax\")","v":"Fax"}]
["BR Metal Products (Klintworth)","Marlene Klintworth"," 616-842-2140",null,"Purchasing Agent","Manufacturer","Ottawa",null,{"$f":"HYPERLINK(\"#'Client Details'!$B$1\",\"Details\")","v":"Details"},{"$f":"HYPERLINK(Options!$B$1, \"Quote\")","v":"Quote"},{"$f":"HYPERLINK(Options!$B$2,\"Fax\")","v":"Fax"}]
["Bradford Company (Gilbert)","Don Gilbert"," 616-399-3000",null,"Safety Advisor",null,"Ottawa",null,{"$f":"HYPERLINK(\"#'Client Details'!$B$1\",\"Details\")","v":"Details"},{"$f":"HYPERLINK(Options!$B$1, \"Quote\")","v":"Quote"},{"$f":"HYPERLINK(Options!$B$2,\"Fax\")","v":"Fax"}]
["Bradford White (Boyea)","Ralph Boyea"," 269-795-3364","rboyea@bradfordwhite.com","Plant Engineer","Manufacturer","Kent",null,{"$f":"HYPERLINK(\"#'Client Details'!$B$1\",\"Details\")","v":"Details"},{"$f":"HYPERLINK(Options!$B$1, \"Quote\")","v":"Quote"},{"$f":"HYPERLINK(Options!$B$2,\"Fax\")","v":"Fax"}]
["Bradford White (Norris)","Kim Norris"," 269-795-3364",null,"Safety Director","Manufacturer","Kent",null,{"$f":"HYPERLINK(\"#'Client Details'!$B$1\",\"Details\")","v":"Details"},{"$f":"HYPERLINK(Options!$B$1, \"Quote\")","v":"Quote"},{"$f":"HYPERLINK(Options!$B$2,\"Fax\")","v":"Fax"}]
["Bradford White Middleville",null,"269-795-3364","LBiermacher@bradfordwhite.com",null,null,null,null,{"$f":"HYPERLINK(\"#'Client Details'!$B$1\",\"Details\")","v":"Details"},{"$f":"HYPERLINK(Options!$B$1, \"Quote\")","v":"Quote"},{"$f":"HYPERLINK(Options!$B$2,\"Fax\")","v":"Fax"}]
["Bradley Corporation (Porte)","Lorri Porte"," 800-272-3539 6017",null,"Emergency Fixtures Rep","Supplier","N/A",null,{"$f":"HYPERLINK(\"#'Client Details'!$B$1\",\"Details\")","v":"Details"},{"$f":"HYPERLINK(Options!$B$1, \"Quote\")","v":"Quote"},{"$f":"HYPERLINK(Options!$B$2,\"Fax\")","v":"Fax"}]
["Branch County Road Commission","Kevin","517-278-2022",null,null,null,null,null,{"$f":"HYPERLINK(\"#'Client Details'!$B$1\",\"Details\")","v":"Details"},{"$f":"HYPERLINK(Options!$B$1, \"Quote\")","v":"Quote"},{"$f":"HYPERLINK(Options!$B$2,\"Fax\")","v":"Fax"}]
["Branch County Road Commission (Losinski)","Richard Losinski"," 517-278-2022","bcrclosinski@cbpu.com","Superintendent","Municipal, Cty","Branch",null,{"$f":"HYPERLINK(\"#'Client Details'!$B$1\",\"Details\")","v":"Details"},{"$f":"HYPERLINK(Options!$B$1, \"Quote\")","v":"Quote"},{"$f":"HYPERLINK(Options!$B$2,\"Fax\")","v":"Fax"}]
["Brandon Burnette (home)","Brandon",null,null,null,null,null,null,{"$f":"HYPERLINK(\"#'Client Details'!$B$1\",\"Details\")","v":"Details"},{"$f":"HYPERLINK(Options!$B$1, \"Quote\")","v":"Quote"},{"$f":"HYPERLINK(Options!$B$2,\"Fax\")","v":"Fax"}]
["Bredeweg & Zylstra, PLC (Franken)","Joshua Franken"," 616-698-2000",null,null,"Accountant","Kent",null,{"$f":"HYPERLINK(\"#'Client Details'!$B$1\",\"Details\")","v":"Details"},{"$f":"HYPERLINK(Options!$B$1, \"Quote\")","v":"Quote"},{"$f":"HYPERLINK(Options!$B$2,\"Fax\")","v":"Fax"}]
["Bredeweg & Zylstra, PLC (Zylstra)","David Zylstra"," 616-698-2000","dzylstra@bzcpas.com","CPA","Accountant","Kent",null,{"$f":"HYPERLINK(\"#'Client Details'!$B$1\",\"Details\")","v":"Details"},{"$f":"HYPERLINK(Options!$B$1, \"Quote\")","v":"Quote"},{"$f":"HYPERLINK(Options!$B$2,\"Fax\")","v":"Fax"}]
["Brenner Excavating","Kevin Brenner","269-793-7531",null,null,null,null,null,{"$f":"HYPERLINK(\"#'Client Details'!$B$1\",\"Details\")","v":"Details"},{"$f":"HYPERLINK(Options!$B$1, \"Quote\")","v":"Quote"},{"$f":"HYPERLINK(Options!$B$2,\"Fax\")","v":"Fax"}]
["Brenner Excavating (Brenner)","Kevin Brenner"," 269-793-7531",null,"Owner","Contractor, Excavator","Allegan",null,{"$f":"HYPERLINK(\"#'Client Details'!$B$1\",\"Details\")","v":"Details"},{"$f":"HYPERLINK(Options!$B$1, \"Quote\")","v":"Quote"},{"$f":"HYPERLINK(Options!$B$2,\"Fax\")","v":"Fax"}]
["Brenner Oil Company",null,"616-399-0919",null,null,null,null,null,{"$f":"HYPERLINK(\"#'Client Details'!$B$1\",\"Details\")","v":"Details"},{"$f":"HYPERLINK(Options!$B$1, \"Quote\")","v":"Quote"},{"$f":"HYPERLINK(Options!$B$2,\"Fax\")","v":"Fax"}]
["Brenner Oil Company (Stefanovsky)","Joe Stefanovsky"," 616-399-0919","joes@brenneroil.com","President","Petroleum Related","Ottawa",null,{"$f":"HYPERLINK(\"#'Client Details'!$B$1\",\"Details\")","v":"Details"},{"$f":"HYPERLINK(Options!$B$1, \"Quote\")","v":"Quote"},{"$f":"HYPERLINK(Options!$B$2,\"Fax\")","v":"Fax"}]
["Brenner Oil Company (Willcutt)","Don Willcutt"," 616-399-0919","donw@brenneroil.com <donw@brenneroil.com>","Safety and Compliance Director","Petroleum Related","Ottawa",null,{"$f":"HYPERLINK(\"#'Client Details'!$B$1\",\"Details\")","v":"Details"},{"$f":"HYPERLINK(Options!$B$1, \"Quote\")","v":"Quote"},{"$f":"HYPERLINK(Options!$B$2,\"Fax\")","v":"Fax"}]
["Brewster Dairy, Inc.","x-3348","330-767-3492",null,null,null,null,null,{"$f":"HYPERLINK(\"#'Client Details'!$B$1\",\"Details\")","v":"Details"},{"$f":"HYPERLINK(Options!$B$1, \"Quote\")","v":"Quote"},{"$f":"HYPERLINK(Options!$B$2,\"Fax\")","v":"Fax"}]
["Brian Bean - Independent Contractor","Brian Bean","330-364-9761","peb6beans@aol.com",null,null,null,null,{"$f":"HYPERLINK(\"#'Client Details'!$B$1\",\"Details\")","v":"Details"},{"$f":"HYPERLINK(Options!$B$1, \"Quote\")","v":"Quote"},{"$f":"HYPERLINK(Options!$B$2,\"Fax\")","v":"Fax"}]
["Brilliance Audio","Randy Amos","616-935-1747","ramos@brillianceaudio.com",null,null,null,null,{"$f":"HYPERLINK(\"#'Client Details'!$B$1\",\"Details\")","v":"Details"},{"$f":"HYPERLINK(Options!$B$1, \"Quote\")","v":"Quote"},{"$f":"HYPERLINK(Options!$B$2,\"Fax\")","v":"Fax"}]
["Brilliance Audio (Bies)","Doug Bies"," 616-846-5256","dbies@brillianceaudio.com","Safety/Plant Manager","Audio CD Manufacturing","Ottawa",null,{"$f":"HYPERLINK(\"#'Client Details'!$B$1\",\"Details\")","v":"Details"},{"$f":"HYPERLINK(Options!$B$1, \"Quote\")","v":"Quote"},{"$f":"HYPERLINK(Options!$B$2,\"Fax\")","v":"Fax"}]
["Brilliance Audio (Wing)","Dave Wing"," 616-846-5256 747","dwing@brillianceaudio.com","Maintenance Supervisor","Audio Books/CD","Ottawa",null,{"$f":"HYPERLINK(\"#'Client Details'!$B$1\",\"Details\")","v":"Details"},{"$f":"HYPERLINK(Options!$B$1, \"Quote\")","v":"Quote"},{"$f":"HYPERLINK(Options!$B$2,\"Fax\")","v":"Fax"}]
["Brinkmann Constructors (Myatt)","Tim Myatt"," 636-537-9700","tmyatt@askbrinkmann.com","Safety Director","Contractor General","Out of State",null,{"$f":"HYPERLINK(\"#'Client Details'!$B$1\",\"Details\")","v":"Details"},{"$f":"HYPERLINK(Options!$B$1, \"Quote\")","v":"Quote"},{"$f":"HYPERLINK(Options!$B$2,\"Fax\")","v":"Fax"}]
["Brinks","Paul J. Stephenson","616-735-3942",null,null,null,null,null,{"$f":"HYPERLINK(\"#'Client Details'!$B$1\",\"Details\")","v":"Details"},{"$f":"HYPERLINK(Options!$B$1, \"Quote\")","v":"Quote"},{"$f":"HYPERLINK(Options!$B$2,\"Fax\")","v":"Fax"}]
["Broadwing Communications (Furniss)","Mike Furniss"," 734-528-9327","mike.furniss@broadwing.com","Director Field Operations","Contractor General","Washtenaw",null,{"$f":"HYPERLINK(\"#'Client Details'!$B$1\",\"Details\")","v":"Details"},{"$f":"HYPERLINK(Options!$B$1, \"Quote\")","v":"Quote"},{"$f":"HYPERLINK(Options!$B$2,\"Fax\")","v":"Fax"}]
["Broder and Sachse Co.","Ron Carlson","248-321-4513","rcarlson@brodersachse.com",null,null,null,null,{"$f":"HYPERLINK(\"#'Client Details'!$B$1\",\"Details\")","v":"Details"},{"$f":"HYPERLINK(Options!$B$1, \"Quote\")","v":"Quote"},{"$f":"HYPERLINK(Options!$B$2,\"Fax\")","v":"Fax"}]
["Brown City Area Fire & Rescue","Jim Groat","cell: 810-656-6907",null,null,null,null,null,{"$f":"HYPERLINK(\"#'Client Details'!$B$1\",\"Details\")","v":"Details"},{"$f":"HYPERLINK(Options!$B$1, \"Quote\")","v":"Quote"},{"$f":"HYPERLINK(Options!$B$2,\"Fax\")","v":"Fax"}]
["Brown Corporation of Ionia, Inc. (Lewis)","Brad Lewis"," 616-527-1600 448","blewis@browncorp.com","Mainenance Supervisor","Manufacturer","Ionia",null,{"$f":"HYPERLINK(\"#'Client Details'!$B$1\",\"Details\")","v":"Details"},{"$f":"HYPERLINK(Options!$B$1, \"Quote\")","v":"Quote"},{"$f":"HYPERLINK(Options!$B$2,\"Fax\")","v":"Fax"}]
["Bruce Miller",null,null,null,null,null,null,null,{"$f":"HYPERLINK(\"#'Client Details'!$B$1\",\"Details\")","v":"Details"},{"$f":"HYPERLINK(Options!$B$1, \"Quote\")","v":"Quote"},{"$f":"HYPERLINK(Options!$B$2,\"Fax\")","v":"Fax"}]
["Bruckner Supply Co. (Allvac NC)",null,"516-479-3884",null,null,null,null,null,{"$f":"HYPERLINK(\"#'Client Details'!$B$1\",\"Details\")","v":"Details"},{"$f":"HYPERLINK(Options!$B$1, \"Quote\")","v":"Quote"},{"$f":"HYPERLINK(Options!$B$2,\"Fax\")","v":"Fax"}]
["Bruckner Supply Co. (Dana / Toledo)",null,"561-999-9767",null,null,null,null,null,{"$f":"HYPERLINK(\"#'Client Details'!$B$1\",\"Details\")","v":"Details"},{"$f":"HYPERLINK(Options!$B$1, \"Quote\")","v":"Quote"},{"$f":"HYPERLINK(Options!$B$2,\"Fax\")","v":"Fax"}]
["Bruckner Supply Co. (Port Washington)","Richard Patwell","516-484-6070",null,null,null,null,null,{"$f":"HYPERLINK(\"#'Client Details'!$B$1\",\"Details\")","v":"Details"},{"$f":"HYPERLINK(Options!$B$1, \"Quote\")","v":"Quote"},{"$f":"HYPERLINK(Options!$B$2,\"Fax\")","v":"Fax"}]
["Buck Construction (Buck)","Jeff Buck"," 231-727-2719",null,"Owner","Contractor General","Muskegon",null,{"$f":"HYPERLINK(\"#'Client Details'!$B$1\",\"Details\")","v":"Details"},{"$f":"HYPERLINK(Options!$B$1, \"Quote\")","v":"Quote"},{"$f":"HYPERLINK(Options!$B$2,\"Fax\")","v":"Fax"}]
["Buckeye Construction","Tim Wade","616-855-4191",null,null,null,null,null,{"$f":"HYPERLINK(\"#'Client Details'!$B$1\",\"Details\")","v":"Details"},{"$f":"HYPERLINK(Options!$B$1, \"Quote\")","v":"Quote"},{"$f":"HYPERLINK(Options!$B$2,\"Fax\")","v":"Fax"}]
["Buckeye Construction LLP (Wade)","Tim Wade"," 616-855-4191","tim.wade@buckeyeconstructionllp.com","Project Manager","Contractor General","Kent",null,{"$f":"HYPERLINK(\"#'Client Details'!$B$1\",\"Details\")","v":"Details"},{"$f":"HYPERLINK(Options!$B$1, \"Quote\")","v":"Quote"},{"$f":"HYPERLINK(Options!$B$2,\"Fax\")","v":"Fax"}]
["Buckeye Partners, LP (Wagner)","Pierce Wagner"," 484-232-4427","pwagner@buckeye.com",null,"Petroleum Related","Out of State",null,{"$f":"HYPERLINK(\"#'Client Details'!$B$1\",\"Details\")","v":"Details"},{"$f":"HYPERLINK(Options!$B$1, \"Quote\")","v":"Quote"},{"$f":"HYPERLINK(Options!$B$2,\"Fax\")","v":"Fax"}]
["Buckeye Pipeline","Pat Carroll","574-299-1641",null,null,null,null,null,{"$f":"HYPERLINK(\"#'Client Details'!$B$1\",\"Details\")","v":"Details"},{"$f":"HYPERLINK(Options!$B$1, \"Quote\")","v":"Quote"},{"$f":"HYPERLINK(Options!$B$2,\"Fax\")","v":"Fax"}]
["Buckeye Terminals LLC (Granger)",null,"574-272-2800",null,null,null,null,null,{"$f":"HYPERLINK(\"#'Client Details'!$B$1\",\"Details\")","v":"Details"},{"$f":"HYPERLINK(Options!$B$1, \"Quote\")","v":"Quote"},{"$f":"HYPERLINK(Options!$B$2,\"Fax\")","v":"Fax"}]
["Buckeye Terminals LLC (Neff)","Robert Neff"," 574-272-2800 110","raneff@buckeye.com",null,"Petroleum Related","Out of State",null,{"$f":"HYPERLINK(\"#'Client Details'!$B$1\",\"Details\")","v":"Details"},{"$f":"HYPERLINK(Options!$B$1, \"Quote\")","v":"Quote"},{"$f":"HYPERLINK(Options!$B$2,\"Fax\")","v":"Fax"}]
["Buckley Fire Department (Guernsey)","Elmer Guernsey"," 231-269-3702","buckfire@acegroup.cc","Chief","Fire Department","Wexford",null,{"$f":"HYPERLINK(\"#'Client Details'!$B$1\",\"Details\")","v":"Details"},{"$f":"HYPERLINK(Options!$B$1, \"Quote\")","v":"Quote"},{"$f":"HYPERLINK(Options!$B$2,\"Fax\")","v":"Fax"}]
["Buckley Fire Dept.","Elmer Guernsey","231-269-3702",null,null,null,null,null,{"$f":"HYPERLINK(\"#'Client Details'!$B$1\",\"Details\")","v":"Details"},{"$f":"HYPERLINK(Options!$B$1, \"Quote\")","v":"Quote"},{"$f":"HYPERLINK(Options!$B$2,\"Fax\")","v":"Fax"}]
["Build LLC (Williams)","Matt Williams"," 616-459-2485","marae02@msn.com",null,"Contractor General","Kent",null,{"$f":"HYPERLINK(\"#'Client Details'!$B$1\",\"Details\")","v":"Details"},{"$f":"HYPERLINK(Options!$B$1, \"Quote\")","v":"Quote"},{"$f":"HYPERLINK(Options!$B$2,\"Fax\")","v":"Fax"}]
["Buist Electric","Brent Brinks","616-878-3315",null,null,null,null,null,{"$f":"HYPERLINK(\"#'Client Details'!$B$1\",\"Details\")","v":"Details"},{"$f":"HYPERLINK(Options!$B$1, \"Quote\")","v":"Quote"},{"$f":"HYPERLINK(Options!$B$2,\"Fax\")","v":"Fax"}]
["Buist Electric Co. (Brinks)","Brent Brinks"," 616-583-5200","bbrinks@buistelectric.com","Safety Director","Contractor Electrical","Kent",null,{"$f":"HYPERLINK(\"#'Client Details'!$B$1\",\"Details\")","v":"Details"},{"$f":"HYPERLINK(Options!$B$1, \"Quote\")","v":"Quote"},{"$f":"HYPERLINK(Options!$B$2,\"Fax\")","v":"Fax"}]
["Buist Electric Co. (Van Solkema)","Craig Van Solkema"," 616-878-3315","crvansolkema@buistelectric.com","Stores","Contractor Electrical","Kent",null,{"$f":"HYPERLINK(\"#'Client Details'!$B$1\",\"Details\")","v":"Details"},{"$f":"HYPERLINK(Options!$B$1, \"Quote\")","v":"Quote"},{"$f":"HYPERLINK(Options!$B$2,\"Fax\")","v":"Fax"}]
["Bultema Brothers Road Contractors Inc.","Steve Bultema","616-455-2240",null,null,null,null,null,{"$f":"HYPERLINK(\"#'Client Details'!$B$1\",\"Details\")","v":"Details"},{"$f":"HYPERLINK(Options!$B$1, \"Quote\")","v":"Quote"},{"$f":"HYPERLINK(Options!$B$2,\"Fax\")","v":"Fax"}]
["Bultema Brothers Road Contractors, Inc. (","Steve Bultema"," 616-455-2240",null,"Owner","Contractor General","Kent",null,{"$f":"HYPERLINK(\"#'Client Details'!$B$1\",\"Details\")","v":"Details"},{"$f":"HYPERLINK(Options!$B$1, \"Quote\")","v":"Quote"},{"$f":"HYPERLINK(Options!$B$2,\"Fax\")","v":"Fax"}]
["Bureau Veritas MI","Marilyn Priddy","269-429-7617",null,null,null,null,null,{"$f":"HYPERLINK(\"#'Client Details'!$B$1\",\"Details\")","v":"Details"},{"$f":"HYPERLINK(Options!$B$1, \"Quote\")","v":"Quote"},{"$f":"HYPERLINK(Options!$B$2,\"Fax\")","v":"Fax"}]
["Bureau Veritas N.A. - Hartford (Bennett)","Mike Bennett"," 314-269-4054","mike.bennett@us.bureauveritas.com",null,"Contractor EH&S","Out of State",null,{"$f":"HYPERLINK(\"#'Client Details'!$B$1\",\"Details\")","v":"Details"},{"$f":"HYPERLINK(Options!$B$1, \"Quote\")","v":"Quote"},{"$f":"HYPERLINK(Options!$B$2,\"Fax\")","v":"Fax"}]
["Bureau Veritas N.A. - St. Louis Field Off","Aaron Smith"," 618-476-1516","asmith@claytongrp.com",null,"Contractor EH&S","Out of State",null,{"$f":"HYPERLINK(\"#'Client Details'!$B$1\",\"Details\")","v":"Details"},{"$f":"HYPERLINK(Options!$B$1, \"Quote\")","v":"Quote"},{"$f":"HYPERLINK(Options!$B$2,\"Fax\")","v":"Fax"}]
["Bureau Veritas N.A. (Hoekman)","Brett Hoekman"," 630-795-3217",null,"Field Operations","Contractor EH&S","Out of State",null,{"$f":"HYPERLINK(\"#'Client Details'!$B$1\",\"Details\")","v":"Details"},{"$f":"HYPERLINK(Options!$B$1, \"Quote\")","v":"Quote"},{"$f":"HYPERLINK(Options!$B$2,\"Fax\")","v":"Fax"}]
["Bureau Veritas NATLSCO (Pressnell)","Matt Pressnell"," 800-806-5887",null,"Marketing Manager","Supplier","Out of State",null,{"$f":"HYPERLINK(\"#'Client Details'!$B$1\",\"Details\")","v":"Details"},{"$f":"HYPERLINK(Options!$B$1, \"Quote\")","v":"Quote"},{"$f":"HYPERLINK(Options!$B$2,\"Fax\")","v":"Fax"}]
["Bureau Veritas NATLSCO (Ruthe)","Kim Ruthe"," 888-576-7522 3322","kruthe@natlsco.com","Marketing Manager","Supplier","Out of State",null,{"$f":"HYPERLINK(\"#'Client Details'!$B$1\",\"Details\")","v":"Details"},{"$f":"HYPERLINK(Options!$B$1, \"Quote\")","v":"Quote"},{"$f":"HYPERLINK(Options!$B$2,\"Fax\")","v":"Fax"}]
["Burgess Concrete Const.","Albert Croenewald","616-877-0008",null,null,null,null,null,{"$f":"HYPERLINK(\"#'Client Details'!$B$1\",\"Details\")","v":"Details"},{"$f":"HYPERLINK(Options!$B$1, \"Quote\")","v":"Quote"},{"$f":"HYPERLINK(Options!$B$2,\"Fax\")","v":"Fax"}]
["Burgess Concrete Construction, Inc. (Groe","Albert Groenewold"," 616-877-0008 24","agroenewold@burgessconcrete.com","Project Manager","Contractor General","Allegan",null,{"$f":"HYPERLINK(\"#'Client Details'!$B$1\",\"Details\")","v":"Details"},{"$f":"HYPERLINK(Options!$B$1, \"Quote\")","v":"Quote"},{"$f":"HYPERLINK(Options!$B$2,\"Fax\")","v":"Fax"}]
["Burgrabbe Masonry, Inc. (Schepers)","Scott Schepers"," 616-794-0351",null,null,"Contractor General","Ionia",null,{"$f":"HYPERLINK(\"#'Client Details'!$B$1\",\"Details\")","v":"Details"},{"$f":"HYPERLINK(Options!$B$1, \"Quote\")","v":"Quote"},{"$f":"HYPERLINK(Options!$B$2,\"Fax\")","v":"Fax"}]
["Burkhardt Ridge","Michael Chosid","517-404-7284",null,null,null,null,null,{"$f":"HYPERLINK(\"#'Client Details'!$B$1\",\"Details\")","v":"Details"},{"$f":"HYPERLINK(Options!$B$1, \"Quote\")","v":"Quote"},{"$f":"HYPERLINK(Options!$B$2,\"Fax\")","v":"Fax"}]
["Burnette Foods (Sherman)","Bill Sherman Jr"," 269-621-3181",null,"Plant Manager","Food","Kalamazoo",null,{"$f":"HYPERLINK(\"#'Client Details'!$B$1\",\"Details\")","v":"Details"},{"$f":"HYPERLINK(Options!$B$1, \"Quote\")","v":"Quote"},{"$f":"HYPERLINK(Options!$B$2,\"Fax\")","v":"Fax"}]
["Burnside Industries (VanderWal)","Wendy VanderWal"," 231-798-3394 417","wvanderwal@burnside-mfg.com","HR","Manufacturer","Ottawa",null,{"$f":"HYPERLINK(\"#'Client Details'!$B$1\",\"Details\")","v":"Details"},{"$f":"HYPERLINK(Options!$B$1, \"Quote\")","v":"Quote"},{"$f":"HYPERLINK(Options!$B$2,\"Fax\")","v":"Fax"}]
["Busscher Construction (Busscher)","Kim Busscher"," 269-857-1222",null,"Owner","Contractor General","Ottawa",null,{"$f":"HYPERLINK(\"#'Client Details'!$B$1\",\"Details\")","v":"Details"},{"$f":"HYPERLINK(Options!$B$1, \"Quote\")","v":"Quote"},{"$f":"HYPERLINK(Options!$B$2,\"Fax\")","v":"Fax"}]
["Busscher's Septic Tank Services ()",null," 616-392-9653",null,null,"Septic Tanks and Plumbing","Ottawa",null,{"$f":"HYPERLINK(\"#'Client Details'!$B$1\",\"Details\")","v":"Details"},{"$f":"HYPERLINK(Options!$B$1, \"Quote\")","v":"Quote"},{"$f":"HYPERLINK(Options!$B$2,\"Fax\")","v":"Fax"}]
["BW by Honeywell",null,null,null,null,null,null,null,{"$f":"HYPERLINK(\"#'Client Details'!$B$1\",\"Details\")","v":"Details"},{"$f":"HYPERLINK(Options!$B$1, \"Quote\")","v":"Quote"},{"$f":"HYPERLINK(Options!$B$2,\"Fax\")","v":"Fax"}]
["BW Technologies (Heckathorn)","Dennis Heckathorn",null,"dennis.heckathorn@honeywell.com","Regional Manager","Supplier","Out of State",null,{"$f":"HYPERLINK(\"#'Client Details'!$B$1\",\"Details\")","v":"Details"},{"$f":"HYPERLINK(Options!$B$1, \"Quote\")","v":"Quote"},{"$f":"HYPERLINK(Options!$B$2,\"Fax\")","v":"Fax"}]
["Byrnes Sales Associates (Wolf)","Bob Wolf"," 248-344-0069","bobw@bsarep.com","Representative","Representative","Oakland",null,{"$f":"HYPERLINK(\"#'Client Details'!$B$1\",\"Details\")","v":"Details"},{"$f":"HYPERLINK(Options!$B$1, \"Quote\")","v":"Quote"},{"$f":"HYPERLINK(Options!$B$2,\"Fax\")","v":"Fax"}]
["Byron Andres",null,null,null,null,null,null,null,{"$f":"HYPERLINK(\"#'Client Details'!$B$1\",\"Details\")","v":"Details"},{"$f":"HYPERLINK(Options!$B$1, \"Quote\")","v":"Quote"},{"$f":"HYPERLINK(Options!$B$2,\"Fax\")","v":"Fax"}]
["Byron-Gaines Utility Authority","Dan Van Dyke","616-971-0002","km.balfoort@bgua.org",null,null,null,null,{"$f":"HYPERLINK(\"#'Client Details'!$B$1\",\"Details\")","v":"Details"},{"$f":"HYPERLINK(Options!$B$1, \"Quote\")","v":"Quote"},{"$f":"HYPERLINK(Options!$B$2,\"Fax\")","v":"Fax"}]
["Byron-Gaines Utility Authority (Van Dyke)","Dan Van Dyke"," 616-971-0002","dl.vandyke@bgua.org","Manager","Municipal, Cty","Kent",null,{"$f":"HYPERLINK(\"#'Client Details'!$B$1\",\"Details\")","v":"Details"},{"$f":"HYPERLINK(Options!$B$1, \"Quote\")","v":"Quote"},{"$f":"HYPERLINK(Options!$B$2,\"Fax\")","v":"Fax"}]
["C & I  Electric","Jim Erndteman","231-843-5343",null,null,null,null,null,{"$f":"HYPERLINK(\"#'Client Details'!$B$1\",\"Details\")","v":"Details"},{"$f":"HYPERLINK(Options!$B$1, \"Quote\")","v":"Quote"},{"$f":"HYPERLINK(Options!$B$2,\"Fax\")","v":"Fax"}]
["C & I  Electric (Erndteman)","Jim Erndteman"," 231-843-5343","ciertie@t-one.net",null,"Contractor Electrical","Mason",null,{"$f":"HYPERLINK(\"#'Client Details'!$B$1\",\"Details\")","v":"Details"},{"$f":"HYPERLINK(Options!$B$1, \"Quote\")","v":"Quote"},{"$f":"HYPERLINK(Options!$B$2,\"Fax\")","v":"Fax"}]
["C & S Electric Service (Becky)","Becky"," 616-842-3340",null,null,"Contractor Electrical","Ottawa",null,{"$f":"HYPERLINK(\"#'Client Details'!$B$1\",\"Details\")","v":"Details"},{"$f":"HYPERLINK(Options!$B$1, \"Quote\")","v":"Quote"},{"$f":"HYPERLINK(Options!$B$2,\"Fax\")","v":"Fax"}]
["C J Mahan (Herron)","Matthew Herron"," 614-277-4523","mherron@cjmahan.com",null,"Contractor General","Out of State",null,{"$f":"HYPERLINK(\"#'Client Details'!$B$1\",\"Details\")","v":"Details"},{"$f":"HYPERLINK(Options!$B$1, \"Quote\")","v":"Quote"},{"$f":"HYPERLINK(Options!$B$2,\"Fax\")","v":"Fax"}]
["C&C Enterprised, Inc.","Jan Noble","989-772-5059",null,null,null,null,null,{"$f":"HYPERLINK(\"#'Client Details'!$B$1\",\"Details\")","v":"Details"},{"$f":"HYPERLINK(Options!$B$1, \"Quote\")","v":"Quote"},{"$f":"HYPERLINK(Options!$B$2,\"Fax\")","v":"Fax"}]
["C&K Industrial Service (Antos)","Marty Antos",null,"mantos@ckindustrial.com","Project Manager","Contractor General","Out of State",null,{"$f":"HYPERLINK(\"#'Client Details'!$B$1\",\"Details\")","v":"Details"},{"$f":"HYPERLINK(Options!$B$1, \"Quote\")","v":"Quote"},{"$f":"HYPERLINK(Options!$B$2,\"Fax\")","v":"Fax"}]
["C.C. Johnson & Malhotra (Sabin)","Bruce Sabin"," 616-940-2007 102","BSabin@CCJM.COM",null,"Engineering, Architecture","Kent",null,{"$f":"HYPERLINK(\"#'Client Details'!$B$1\",\"Details\")","v":"Details"},{"$f":"HYPERLINK(Options!$B$1, \"Quote\")","v":"Quote"},{"$f":"HYPERLINK(Options!$B$2,\"Fax\")","v":"Fax"}]
["C.D. Barnes Associates, Inc.","Dick Bruff","616-299-0628",null,null,null,null,null,{"$f":"HYPERLINK(\"#'Client Details'!$B$1\",\"Details\")","v":"Details"},{"$f":"HYPERLINK(Options!$B$1, \"Quote\")","v":"Quote"},{"$f":"HYPERLINK(Options!$B$2,\"Fax\")","v":"Fax"}]
["C.I.R.",null,"248-446-9975",null,null,null,null,null,{"$f":"HYPERLINK(\"#'Client Details'!$B$1\",\"Details\")","v":"Details"},{"$f":"HYPERLINK(Options!$B$1, \"Quote\")","v":"Quote"},{"$f":"HYPERLINK(Options!$B$2,\"Fax\")","v":"Fax"}]
["Cadillac DPW, City of (Foster)","Dan Foster"," 616-775-7671",null,"Supervisor","Municipal, Cty","Wexford",null,{"$f":"HYPERLINK(\"#'Client Details'!$B$1\",\"Details\")","v":"Details"},{"$f":"HYPERLINK(Options!$B$1, \"Quote\")","v":"Quote"},{"$f":"HYPERLINK(Options!$B$2,\"Fax\")","v":"Fax"}]
["Cadillac Water Services, City of","Brian Cardinal","231-775-7671",null,null,null,null,null,{"$f":"HYPERLINK(\"#'Client Details'!$B$1\",\"Details\")","v":"Details"},{"$f":"HYPERLINK(Options!$B$1, \"Quote\")","v":"Quote"},{"$f":"HYPERLINK(Options!$B$2,\"Fax\")","v":"Fax"}]
["Cadillac Water Services, City of (Cardina","Brian Cardinal"," 231-775-7671",null,"Supervisor","Municipal, Cty","Wexford",null,{"$f":"HYPERLINK(\"#'Client Details'!$B$1\",\"Details\")","v":"Details"},{"$f":"HYPERLINK(Options!$B$1, \"Quote\")","v":"Quote"},{"$f":"HYPERLINK(Options!$B$2,\"Fax\")","v":"Fax"}]
["Cadillac WWTP, City of (Dietlin)","Jeff Dietlin"," 616-775-2841",null,"Supervisor","Municipal, Cty","Wexford",null,{"$f":"HYPERLINK(\"#'Client Details'!$B$1\",\"Details\")","v":"Details"},{"$f":"HYPERLINK(Options!$B$1, \"Quote\")","v":"Quote"},{"$f":"HYPERLINK(Options!$B$2,\"Fax\")","v":"Fax"}]
["Cal Chlor (Jareousel)","John Jareousel"," 231-843-1147",null,"Safety Manager","Chemical Pharmaceutical","Dry Chemical Processing and Sh",null,{"$f":"HYPERLINK(\"#'Client Details'!$B$1\",\"Details\")","v":"Details"},{"$f":"HYPERLINK(Options!$B$1, \"Quote\")","v":"Quote"},{"$f":"HYPERLINK(Options!$B$2,\"Fax\")","v":"Fax"}]
["Caledonia Township Fire Department (Fenne","Kyle Fennell"," 616-891-0140","kfennell@caledoniatownship.org",null,"Fire Department","Kent",null,{"$f":"HYPERLINK(\"#'Client Details'!$B$1\",\"Details\")","v":"Details"},{"$f":"HYPERLINK(Options!$B$1, \"Quote\")","v":"Quote"},{"$f":"HYPERLINK(Options!$B$2,\"Fax\")","v":"Fax"}]
["Caledonia Twp. Fire Dept.","Kyle Fennell","616-891-0140",null,null,null,null,null,{"$f":"HYPERLINK(\"#'Client Details'!$B$1\",\"Details\")","v":"Details"},{"$f":"HYPERLINK(Options!$B$1, \"Quote\")","v":"Quote"},{"$f":"HYPERLINK(Options!$B$2,\"Fax\")","v":"Fax"}]
["Calvin College","Heather Chapman","616-526-8591",null,null,null,null,null,{"$f":"HYPERLINK(\"#'Client Details'!$B$1\",\"Details\")","v":"Details"},{"$f":"HYPERLINK(Options!$B$1, \"Quote\")","v":"Quote"},{"$f":"HYPERLINK(Options!$B$2,\"Fax\")","v":"Fax"}]
["Calvin College (Chapman)","Heather Chapman"," 616-526-8591","hlc5@calvin.edu","EHS Manager","School","Kent",null,{"$f":"HYPERLINK(\"#'Client Details'!$B$1\",\"Details\")","v":"Details"},{"$f":"HYPERLINK(Options!$B$1, \"Quote\")","v":"Quote"},{"$f":"HYPERLINK(Options!$B$2,\"Fax\")","v":"Fax"}]
["Cameron Brothers, Inc. (Sherry)","Sherry"," 231-464-5801",null,"Office Manager","Contractor General","Manistee",null,{"$f":"HYPERLINK(\"#'Client Details'!$B$1\",\"Details\")","v":"Details"},{"$f":"HYPERLINK(Options!$B$1, \"Quote\")","v":"Quote"},{"$f":"HYPERLINK(Options!$B$2,\"Fax\")","v":"Fax"}]
["Cameron Mechanical Services (Coraopolis)","Rob Burns","724-273-9300 general",null,null,null,null,null,{"$f":"HYPERLINK(\"#'Client Details'!$B$1\",\"Details\")","v":"Details"},{"$f":"HYPERLINK(Options!$B$1, \"Quote\")","v":"Quote"},{"$f":"HYPERLINK(Options!$B$2,\"Fax\")","v":"Fax"}]
["Camp & Cruise (Covell)","Dick Covell"," 616-677-1274",null,"Manager","Automotive","Kent",null,{"$f":"HYPERLINK(\"#'Client Details'!$B$1\",\"Details\")","v":"Details"},{"$f":"HYPERLINK(Options!$B$1, \"Quote\")","v":"Quote"},{"$f":"HYPERLINK(Options!$B$2,\"Fax\")","v":"Fax"}]
["Camp Cruise","Dick Covell","616-677-1274",null,null,null,null,null,{"$f":"HYPERLINK(\"#'Client Details'!$B$1\",\"Details\")","v":"Details"},{"$f":"HYPERLINK(Options!$B$1, \"Quote\")","v":"Quote"},{"$f":"HYPERLINK(Options!$B$2,\"Fax\")","v":"Fax"}]
["Campbell Group, The (Vander Hill)","Steve Vander Hill"," 616-541-1297","svanderhill@acrisure.com",null,"Insurance","Kent",null,{"$f":"HYPERLINK(\"#'Client Details'!$B$1\",\"Details\")","v":"Details"},{"$f":"HYPERLINK(Options!$B$1, \"Quote\")","v":"Quote"},{"$f":"HYPERLINK(Options!$B$2,\"Fax\")","v":"Fax"}]
["Campbell Inc.","Justin Van Der Sall","419-476-4444",null,null,null,null,null,{"$f":"HYPERLINK(\"#'Client Details'!$B$1\",\"Details\")","v":"Details"},{"$f":"HYPERLINK(Options!$B$1, \"Quote\")","v":"Quote"},{"$f":"HYPERLINK(Options!$B$2,\"Fax\")","v":"Fax"}]
["Campbell Inc. (Van Der Sall)","Justin Van Der Sall"," 419-476-4444","jimmyw@campbellinc.com",null,"Food","Out of State",null,{"$f":"HYPERLINK(\"#'Client Details'!$B$1\",\"Details\")","v":"Details"},{"$f":"HYPERLINK(Options!$B$1, \"Quote\")","v":"Quote"},{"$f":"HYPERLINK(Options!$B$2,\"Fax\")","v":"Fax"}]
["Camtech Industrial Service","Greg Carson","419-832-1118","carsong@verizon.net",null,null,null,null,{"$f":"HYPERLINK(\"#'Client Details'!$B$1\",\"Details\")","v":"Details"},{"$f":"HYPERLINK(Options!$B$1, \"Quote\")","v":"Quote"},{"$f":"HYPERLINK(Options!$B$2,\"Fax\")","v":"Fax"}]
["Camus Water Technologies","Don Houston","231-788-4934",null,null,null,null,null,{"$f":"HYPERLINK(\"#'Client Details'!$B$1\",\"Details\")","v":"Details"},{"$f":"HYPERLINK(Options!$B$1, \"Quote\")","v":"Quote"},{"$f":"HYPERLINK(Options!$B$2,\"Fax\")","v":"Fax"}]
["Camus Water Technologies (Houston)","Don Houston"," 231-788-4934","d.houston@adventgrp.com","Site Manager","Chemical Pharmaceutical","Muskegon",null,{"$f":"HYPERLINK(\"#'Client Details'!$B$1\",\"Details\")","v":"Details"},{"$f":"HYPERLINK(Options!$B$1, \"Quote\")","v":"Quote"},{"$f":"HYPERLINK(Options!$B$2,\"Fax\")","v":"Fax"}]
["Canada Ministry of Labor (Gill)","Aaron Gill"," 604-713-0373","agill@eao-bc.org",null,"State","Out of State",null,{"$f":"HYPERLINK(\"#'Client Details'!$B$1\",\"Details\")","v":"Details"},{"$f":"HYPERLINK(Options!$B$1, \"Quote\")","v":"Quote"},{"$f":"HYPERLINK(Options!$B$2,\"Fax\")","v":"Fax"}]
["Cannon Muskegon Corp.","Andy Whitlock","231-759-2800",null,null,null,null,null,{"$f":"HYPERLINK(\"#'Client Details'!$B$1\",\"Details\")","v":"Details"},{"$f":"HYPERLINK(Options!$B$1, \"Quote\")","v":"Quote"},{"$f":"HYPERLINK(Options!$B$2,\"Fax\")","v":"Fax"}]
["Cannon Muskegon Corporation (Whitlock)","Andrew Whitlock"," 231-759-2800","awhitlock@canmkg.com",null,"Manufacturer","Muskegon",null,{"$f":"HYPERLINK(\"#'Client Details'!$B$1\",\"Details\")","v":"Details"},{"$f":"HYPERLINK(Options!$B$1, \"Quote\")","v":"Quote"},{"$f":"HYPERLINK(Options!$B$2,\"Fax\")","v":"Fax"}]
["Cannonsburg Ski Area (Miller)","Nick Miller"," 616-874-6711",null,"Lift Operations and Maintenanc","Ski Area","Kent",null,{"$f":"HYPERLINK(\"#'Client Details'!$B$1\",\"Details\")","v":"Details"},{"$f":"HYPERLINK(Options!$B$1, \"Quote\")","v":"Quote"},{"$f":"HYPERLINK(Options!$B$2,\"Fax\")","v":"Fax"}]
["Capital Normal University","Tao Tang","716-741-2586",null,null,null,null,null,{"$f":"HYPERLINK(\"#'Client Details'!$B$1\",\"Details\")","v":"Details"},{"$f":"HYPERLINK(Options!$B$1, \"Quote\")","v":"Quote"},{"$f":"HYPERLINK(Options!$B$2,\"Fax\")","v":"Fax"}]
["Capital Technologies International (Galla","Michael Gallagher"," 412-268-1186","mikeg@capital-technologies.com","Purchasing Manager","Other","Out of State",null,{"$f":"HYPERLINK(\"#'Client Details'!$B$1\",\"Details\")","v":"Details"},{"$f":"HYPERLINK(Options!$B$1, \"Quote\")","v":"Quote"},{"$f":"HYPERLINK(Options!$B$2,\"Fax\")","v":"Fax"}]
["Capitol Barricading","Diana Folleth","517-372-1291",null,null,null,null,null,{"$f":"HYPERLINK(\"#'Client Details'!$B$1\",\"Details\")","v":"Details"},{"$f":"HYPERLINK(Options!$B$1, \"Quote\")","v":"Quote"},{"$f":"HYPERLINK(Options!$B$2,\"Fax\")","v":"Fax"}]
["Capitol Barricading (Folleph)","Diana Folleph"," 517-372-1291",null,"Purchasing/Office Manager","Contractor General","Lansing",null,{"$f":"HYPERLINK(\"#'Client Details'!$B$1\",\"Details\")","v":"Details"},{"$f":"HYPERLINK(Options!$B$1, \"Quote\")","v":"Quote"},{"$f":"HYPERLINK(Options!$B$2,\"Fax\")","v":"Fax"}]
["CAPP Inc.","Mark Donato","610.394.1101",null,null,null,null,null,{"$f":"HYPERLINK(\"#'Client Details'!$B$1\",\"Details\")","v":"Details"},{"$f":"HYPERLINK(Options!$B$1, \"Quote\")","v":"Quote"},{"$f":"HYPERLINK(Options!$B$2,\"Fax\")","v":"Fax"}]
["Capsugel (Greenwood)",null,"864-223-2270",null,null,null,null,null,{"$f":"HYPERLINK(\"#'Client Details'!$B$1\",\"Details\")","v":"Details"},{"$f":"HYPERLINK(Options!$B$1, \"Quote\")","v":"Quote"},{"$f":"HYPERLINK(Options!$B$2,\"Fax\")","v":"Fax"}]
["Carbon Green (Bosch)","Bill Bosch"," 616-374-3623","bbosch@cgbioenergy.com","EHS Manager","Chemical Pharmaceutical","Ionia",null,{"$f":"HYPERLINK(\"#'Client Details'!$B$1\",\"Details\")","v":"Details"},{"$f":"HYPERLINK(Options!$B$1, \"Quote\")","v":"Quote"},{"$f":"HYPERLINK(Options!$B$2,\"Fax\")","v":"Fax"}]
["Carbon Green (Hoppes)","Sara Hoppes"," 616-374-3601","shoppes@cgbioenergy.com",null,"Chemical Pharmaceutical","Ionia",null,{"$f":"HYPERLINK(\"#'Client Details'!$B$1\",\"Details\")","v":"Details"},{"$f":"HYPERLINK(Options!$B$1, \"Quote\")","v":"Quote"},{"$f":"HYPERLINK(Options!$B$2,\"Fax\")","v":"Fax"}]
["Carbon Green (Rugg)","Willis Rugg"," 616-374-3624","wrugg@cgbioenergy.com",null,"Chemical Pharmaceutical","Ionia",null,{"$f":"HYPERLINK(\"#'Client Details'!$B$1\",\"Details\")","v":"Details"},{"$f":"HYPERLINK(Options!$B$1, \"Quote\")","v":"Quote"},{"$f":"HYPERLINK(Options!$B$2,\"Fax\")","v":"Fax"}]
["Carbon Green (Stank)","Victor Stank"," 616-374-3625","vstank@cgbioenergy.com",null,"Chemical Pharmaceutical","Ionia",null,{"$f":"HYPERLINK(\"#'Client Details'!$B$1\",\"Details\")","v":"Details"},{"$f":"HYPERLINK(Options!$B$1, \"Quote\")","v":"Quote"},{"$f":"HYPERLINK(Options!$B$2,\"Fax\")","v":"Fax"}]
["Carbon Green BioEnergy, LLC","Caroline","616-374-4000","carmbruster@cgbioenergy.com",null,null,null,null,{"$f":"HYPERLINK(\"#'Client Details'!$B$1\",\"Details\")","v":"Details"},{"$f":"HYPERLINK(Options!$B$1, \"Quote\")","v":"Quote"},{"$f":"HYPERLINK(Options!$B$2,\"Fax\")","v":"Fax"}]
["Cardinal Environmental","Patty Deblaey","800-413-7225","pdeblaey@cardinalenvironmental.com",null,null,null,null,{"$f":"HYPERLINK(\"#'Client Details'!$B$1\",\"Details\")","v":"Details"},{"$f":"HYPERLINK(Options!$B$1, \"Quote\")","v":"Quote"},{"$f":"HYPERLINK(Options!$B$2,\"Fax\")","v":"Fax"}]
["Cardinal Environmental (Deblaey)","Patty Deblaey"," 920-413-7225","pdeblaey@cardinalenvironmental.com",null,"Contractor EH&S","Out of State",null,{"$f":"HYPERLINK(\"#'Client Details'!$B$1\",\"Details\")","v":"Details"},{"$f":"HYPERLINK(Options!$B$1, \"Quote\")","v":"Quote"},{"$f":"HYPERLINK(Options!$B$2,\"Fax\")","v":"Fax"}]
["Cargill Inc. (Harrisonburg)","Bob Evans","540-568-1463",null,null,null,null,null,{"$f":"HYPERLINK(\"#'Client Details'!$B$1\",\"Details\")","v":"Details"},{"$f":"HYPERLINK(Options!$B$1, \"Quote\")","v":"Quote"},{"$f":"HYPERLINK(Options!$B$2,\"Fax\")","v":"Fax"}]
["Cargill Inc. (Kennedy)",null,"716-665-6570",null,null,null,null,null,{"$f":"HYPERLINK(\"#'Client Details'!$B$1\",\"Details\")","v":"Details"},{"$f":"HYPERLINK(Options!$B$1, \"Quote\")","v":"Quote"},{"$f":"HYPERLINK(Options!$B$2,\"Fax\")","v":"Fax"}]
["Cargill Inc.(Batavia)","Tim LeClair","585-345-1160",null,null,null,null,null,{"$f":"HYPERLINK(\"#'Client Details'!$B$1\",\"Details\")","v":"Details"},{"$f":"HYPERLINK(Options!$B$1, \"Quote\")","v":"Quote"},{"$f":"HYPERLINK(Options!$B$2,\"Fax\")","v":"Fax"}]
["Cargill, Inc. - Wyalusing (Girven)","Eric Girven"," 570-746-3000 7784","eric_girven@cargill.com",null,"Food","Out of State",null,{"$f":"HYPERLINK(\"#'Client Details'!$B$1\",\"Details\")","v":"Details"},{"$f":"HYPERLINK(Options!$B$1, \"Quote\")","v":"Quote"},{"$f":"HYPERLINK(Options!$B$2,\"Fax\")","v":"Fax"}]
["Cargill, Inc. (Landauer)","Eric Landauer"," 402-533-4100 1869","eric_landauer@cargill.com","Operations","Food","Out of State",null,{"$f":"HYPERLINK(\"#'Client Details'!$B$1\",\"Details\")","v":"Details"},{"$f":"HYPERLINK(Options!$B$1, \"Quote\")","v":"Quote"},{"$f":"HYPERLINK(Options!$B$2,\"Fax\")","v":"Fax"}]
["CarMax","Kim Watkins","888-601-5567",null,null,null,null,null,{"$f":"HYPERLINK(\"#'Client Details'!$B$1\",\"Details\")","v":"Details"},{"$f":"HYPERLINK(Options!$B$1, \"Quote\")","v":"Quote"},{"$f":"HYPERLINK(Options!$B$2,\"Fax\")","v":"Fax"}]
["Carnegie Mellon (Portnoff)","Marc Portnoff"," 412-268-3495","mp1a@andrew.cmu.edu","Co-Director & Senior Scientist","School","Out of State",null,{"$f":"HYPERLINK(\"#'Client Details'!$B$1\",\"Details\")","v":"Details"},{"$f":"HYPERLINK(Options!$B$1, \"Quote\")","v":"Quote"},{"$f":"HYPERLINK(Options!$B$2,\"Fax\")","v":"Fax"}]
["Carpenters Local 1836","Bill McAlister","479-967-4240",null,null,null,null,null,{"$f":"HYPERLINK(\"#'Client Details'!$B$1\",\"Details\")","v":"Details"},{"$f":"HYPERLINK(Options!$B$1, \"Quote\")","v":"Quote"},{"$f":"HYPERLINK(Options!$B$2,\"Fax\")","v":"Fax"}]
["Carry Manufacturing Inc","Jean","989-659-3500",null,null,null,null,null,{"$f":"HYPERLINK(\"#'Client Details'!$B$1\",\"Details\")","v":"Details"},{"$f":"HYPERLINK(Options!$B$1, \"Quote\")","v":"Quote"},{"$f":"HYPERLINK(Options!$B$2,\"Fax\")","v":"Fax"}]
["Carstensen Contracting Inc.","Kevin Green","402-373-2261",null,null,null,null,null,{"$f":"HYPERLINK(\"#'Client Details'!$B$1\",\"Details\")","v":"Details"},{"$f":"HYPERLINK(Options!$B$1, \"Quote\")","v":"Quote"},{"$f":"HYPERLINK(Options!$B$2,\"Fax\")","v":"Fax"}]
["Carstensen Contracting Inc. (Green)","Kevin Green"," 507-825-2026","kgreen@ccimn.net",null,"Contractor General","Out of State",null,{"$f":"HYPERLINK(\"#'Client Details'!$B$1\",\"Details\")","v":"Details"},{"$f":"HYPERLINK(Options!$B$1, \"Quote\")","v":"Quote"},{"$f":"HYPERLINK(Options!$B$2,\"Fax\")","v":"Fax"}]
["Cascade Die Casting -Great Lakes Div.","Anne Snider","616-887-1771",null,null,null,null,null,{"$f":"HYPERLINK(\"#'Client Details'!$B$1\",\"Details\")","v":"Details"},{"$f":"HYPERLINK(Options!$B$1, \"Quote\")","v":"Quote"},{"$f":"HYPERLINK(Options!$B$2,\"Fax\")","v":"Fax"}]
["Cascade Die Casting Group (Atlantic Div.)","Anthony Blakely","336-882-0186 x1253",null,null,null,null,null,{"$f":"HYPERLINK(\"#'Client Details'!$B$1\",\"Details\")","v":"Details"},{"$f":"HYPERLINK(Options!$B$1, \"Quote\")","v":"Quote"},{"$f":"HYPERLINK(Options!$B$2,\"Fax\")","v":"Fax"}]
["Cascade Die Casting Group (S. Division)","Paul Dieterle","616-281-1660",null,null,null,null,null,{"$f":"HYPERLINK(\"#'Client Details'!$B$1\",\"Details\")","v":"Details"},{"$f":"HYPERLINK(Options!$B$1, \"Quote\")","v":"Quote"},{"$f":"HYPERLINK(Options!$B$2,\"Fax\")","v":"Fax"}]
["Cascade Die Casting Group Services (Diete","Paul Dieterle"," 616-281-1660 105","pdieterle@cascade-cdc.com","VP, Human Resources","Manufacturer","Kent",null,{"$f":"HYPERLINK(\"#'Client Details'!$B$1\",\"Details\")","v":"Details"},{"$f":"HYPERLINK(Options!$B$1, \"Quote\")","v":"Quote"},{"$f":"HYPERLINK(Options!$B$2,\"Fax\")","v":"Fax"}]
["Cascade Die Casting Mid-State Division","Dave Timmer","616-455-4010 ext. 21","dtimmer@cascade-cdc.com",null,null,null,null,{"$f":"HYPERLINK(\"#'Client Details'!$B$1\",\"Details\")","v":"Details"},{"$f":"HYPERLINK(Options!$B$1, \"Quote\")","v":"Quote"},{"$f":"HYPERLINK(Options!$B$2,\"Fax\")","v":"Fax"}]
["Cascade Die Casting Mid-State Division (T","Dave Timmer"," 616-455-4010 21",null,null,"Manufacturer","Kent",null,{"$f":"HYPERLINK(\"#'Client Details'!$B$1\",\"Details\")","v":"Details"},{"$f":"HYPERLINK(Options!$B$1, \"Quote\")","v":"Quote"},{"$f":"HYPERLINK(Options!$B$2,\"Fax\")","v":"Fax"}]
["Cascade Engineering","Kristine Nietering","616-975-4800",null,null,null,null,null,{"$f":"HYPERLINK(\"#'Client Details'!$B$1\",\"Details\")","v":"Details"},{"$f":"HYPERLINK(Options!$B$1, \"Quote\")","v":"Quote"},{"$f":"HYPERLINK(Options!$B$2,\"Fax\")","v":"Fax"}]
["Cascade Engineering (Nietering)","Kristine Nietering"," 616-975-4800 4933","nieteringk@cascadeng.com",null,"Plastics","Kent",null,{"$f":"HYPERLINK(\"#'Client Details'!$B$1\",\"Details\")","v":"Details"},{"$f":"HYPERLINK(Options!$B$1, \"Quote\")","v":"Quote"},{"$f":"HYPERLINK(Options!$B$2,\"Fax\")","v":"Fax"}]
["Cascade Township Fire Department (Bennett","Steve Bennett"," 616-949-1320","primetraxvideo@hotmail.com","Firefighter","Fire Department","Kent",null,{"$f":"HYPERLINK(\"#'Client Details'!$B$1\",\"Details\")","v":"Details"},{"$f":"HYPERLINK(Options!$B$1, \"Quote\")","v":"Quote"},{"$f":"HYPERLINK(Options!$B$2,\"Fax\")","v":"Fax"}]
["Cascade Township Fire Department (Sigg)","John Sigg"," 616-949-1320","jsigg@cascadetwp.com","Chief","Fire Department","Kent",null,{"$f":"HYPERLINK(\"#'Client Details'!$B$1\",\"Details\")","v":"Details"},{"$f":"HYPERLINK(Options!$B$1, \"Quote\")","v":"Quote"},{"$f":"HYPERLINK(Options!$B$2,\"Fax\")","v":"Fax"}]
["Cascade Township Fire Dept","Steve Bennett","616-949-1320",null,null,null,null,null,{"$f":"HYPERLINK(\"#'Client Details'!$B$1\",\"Details\")","v":"Details"},{"$f":"HYPERLINK(Options!$B$1, \"Quote\")","v":"Quote"},{"$f":"HYPERLINK(Options!$B$2,\"Fax\")","v":"Fax"}]
["Casella USA (Selwyn)","Bob Selwyn"," 800-366-2966","bobselwyn@casellausa.com","V.P. Sales & Marketing","Supplier","Out of State",null,{"$f":"HYPERLINK(\"#'Client Details'!$B$1\",\"Details\")","v":"Details"},{"$f":"HYPERLINK(Options!$B$1, \"Quote\")","v":"Quote"},{"$f":"HYPERLINK(Options!$B$2,\"Fax\")","v":"Fax"}]
["Cavcon, Inc. (Campbell)","Chuck Campbell"," 304-342-0385","chuck@cavconinc.com",null,"Competitor","Out of State",null,{"$f":"HYPERLINK(\"#'Client Details'!$B$1\",\"Details\")","v":"Details"},{"$f":"HYPERLINK(Options!$B$1, \"Quote\")","v":"Quote"},{"$f":"HYPERLINK(Options!$B$2,\"Fax\")","v":"Fax"}]
["CD Barnes Associates Inc. (Schottke)","Jennifer Schottke"," 616-241-4491","jen@cdbarnes.com","Marketing & Business Developme","Contractor General","Kent",null,{"$f":"HYPERLINK(\"#'Client Details'!$B$1\",\"Details\")","v":"Details"},{"$f":"HYPERLINK(Options!$B$1, \"Quote\")","v":"Quote"},{"$f":"HYPERLINK(Options!$B$2,\"Fax\")","v":"Fax"}]
["CDP Engineers","Steve Green","859-264-7500",null,null,null,null,null,{"$f":"HYPERLINK(\"#'Client Details'!$B$1\",\"Details\")","v":"Details"},{"$f":"HYPERLINK(Options!$B$1, \"Quote\")","v":"Quote"},{"$f":"HYPERLINK(Options!$B$2,\"Fax\")","v":"Fax"}]
["CDR Pigments & Dispersions","Dolores Peters","616-392-1370  x5467",null,null,null,null,null,{"$f":"HYPERLINK(\"#'Client Details'!$B$1\",\"Details\")","v":"Details"},{"$f":"HYPERLINK(Options!$B$1, \"Quote\")","v":"Quote"},{"$f":"HYPERLINK(Options!$B$2,\"Fax\")","v":"Fax"}]
["CE Wilder Road Service Center","Rob Giorgis",null,null,null,null,null,null,{"$f":"HYPERLINK(\"#'Client Details'!$B$1\",\"Details\")","v":"Details"},{"$f":"HYPERLINK(Options!$B$1, \"Quote\")","v":"Quote"},{"$f":"HYPERLINK(Options!$B$2,\"Fax\")","v":"Fax"}]
["Cecil Shoaf (Gene)","Cecil Shoaf (Gene)","765-477-4817","shoaf_cecil_e@lilly.com",null,null,null,null,{"$f":"HYPERLINK(\"#'Client Details'!$B$1\",\"Details\")","v":"Details"},{"$f":"HYPERLINK(Options!$B$1, \"Quote\")","v":"Quote"},{"$f":"HYPERLINK(Options!$B$2,\"Fax\")","v":"Fax"}]
["Cedar Crest Dairy (Boes)","John Boes"," 616-669-5170",null,"Manager","Food Distribution","Ottawa",null,{"$f":"HYPERLINK(\"#'Client Details'!$B$1\",\"Details\")","v":"Details"},{"$f":"HYPERLINK(Options!$B$1, \"Quote\")","v":"Quote"},{"$f":"HYPERLINK(Options!$B$2,\"Fax\")","v":"Fax"}]
["Cedar Springs Fire Dept., City of (Scholz","Traverse Scholz"," 616-734-2589",null,"Firefighter","Fire Department","Kent",null,{"$f":"HYPERLINK(\"#'Client Details'!$B$1\",\"Details\")","v":"Details"},{"$f":"HYPERLINK(Options!$B$1, \"Quote\")","v":"Quote"},{"$f":"HYPERLINK(Options!$B$2,\"Fax\")","v":"Fax"}]
["Celmore Plastics Ltd.","Ryan Hatfield","740-397-0790",null,null,null,null,null,{"$f":"HYPERLINK(\"#'Client Details'!$B$1\",\"Details\")","v":"Details"},{"$f":"HYPERLINK(Options!$B$1, \"Quote\")","v":"Quote"},{"$f":"HYPERLINK(Options!$B$2,\"Fax\")","v":"Fax"}]
["Centennial Coatings (Vane)","Pual Mac Vane"," 616-748-9410",null,"President",null,"Ottawa",null,{"$f":"HYPERLINK(\"#'Client Details'!$B$1\",\"Details\")","v":"Details"},{"$f":"HYPERLINK(Options!$B$1, \"Quote\")","v":"Quote"},{"$f":"HYPERLINK(Options!$B$2,\"Fax\")","v":"Fax"}]
["Central Michigan University","John Dillon","989-774-6555",null,null,null,null,null,{"$f":"HYPERLINK(\"#'Client Details'!$B$1\",\"Details\")","v":"Details"},{"$f":"HYPERLINK(Options!$B$1, \"Quote\")","v":"Quote"},{"$f":"HYPERLINK(Options!$B$2,\"Fax\")","v":"Fax"}]
["Central Michigan University (Dillon)","John Dillon"," 989-774-6555","dillo1je@cmich.edu","Architecture Trades Supervisor","University","Isabella",null,{"$f":"HYPERLINK(\"#'Client Details'!$B$1\",\"Details\")","v":"Details"},{"$f":"HYPERLINK(Options!$B$1, \"Quote\")","v":"Quote"},{"$f":"HYPERLINK(Options!$B$2,\"Fax\")","v":"Fax"}]
["Central Michigan University (Walton)","Jennifer Walton"," 989-774-4189",null,"Safety Coordinator","University","Isabella",null,{"$f":"HYPERLINK(\"#'Client Details'!$B$1\",\"Details\")","v":"Details"},{"$f":"HYPERLINK(Options!$B$1, \"Quote\")","v":"Quote"},{"$f":"HYPERLINK(Options!$B$2,\"Fax\")","v":"Fax"}]
["Century A&E","Bob Arbetman","616-456-5227",null,null,null,null,null,{"$f":"HYPERLINK(\"#'Client Details'!$B$1\",\"Details\")","v":"Details"},{"$f":"HYPERLINK(Options!$B$1, \"Quote\")","v":"Quote"},{"$f":"HYPERLINK(Options!$B$2,\"Fax\")","v":"Fax"}]
["Century A&E (Rose)","William T. Rose"," 616-456-5227","wrose@centuryae.com","Partner","Engineering, Architecture","Kent",null,{"$f":"HYPERLINK(\"#'Client Details'!$B$1\",\"Details\")","v":"Details"},{"$f":"HYPERLINK(Options!$B$1, \"Quote\")","v":"Quote"},{"$f":"HYPERLINK(Options!$B$2,\"Fax\")","v":"Fax"}]
["Century Floorspace (DeVries)","Mel DeVries"," 616-988-4524","mdevries@centuryfloorspace.com","Account Manager",null,"Kent",null,{"$f":"HYPERLINK(\"#'Client Details'!$B$1\",\"Details\")","v":"Details"},{"$f":"HYPERLINK(Options!$B$1, \"Quote\")","v":"Quote"},{"$f":"HYPERLINK(Options!$B$2,\"Fax\")","v":"Fax"}]
["Century Sun Metal Treating","David Query","231-941-7800",null,null,null,null,null,{"$f":"HYPERLINK(\"#'Client Details'!$B$1\",\"Details\")","v":"Details"},{"$f":"HYPERLINK(Options!$B$1, \"Quote\")","v":"Quote"},{"$f":"HYPERLINK(Options!$B$2,\"Fax\")","v":"Fax"}]
["Certified Sheet Metal","Andy Kanaar","616-791-6900","drussell@certifiedsheetmetal.com",null,null,null,null,{"$f":"HYPERLINK(\"#'Client Details'!$B$1\",\"Details\")","v":"Details"},{"$f":"HYPERLINK(Options!$B$1, \"Quote\")","v":"Quote"},{"$f":"HYPERLINK(Options!$B$2,\"Fax\")","v":"Fax"}]
["Certified Sheet Metal (Kanaar)","Andy Kanaar"," 616-791-6900 303","akanaar@certifiedsheetmetal.com","Operations Manager","Contractor General","Kent",null,{"$f":"HYPERLINK(\"#'Client Details'!$B$1\",\"Details\")","v":"Details"},{"$f":"HYPERLINK(Options!$B$1, \"Quote\")","v":"Quote"},{"$f":"HYPERLINK(Options!$B$2,\"Fax\")","v":"Fax"}]
["Certified Sheet Metal (Regan)","George Regan"," 616-791-6900","gregan@certifiedsheetmetal.com","Project Manager","Contractor General","Kent",null,{"$f":"HYPERLINK(\"#'Client Details'!$B$1\",\"Details\")","v":"Details"},{"$f":"HYPERLINK(Options!$B$1, \"Quote\")","v":"Quote"},{"$f":"HYPERLINK(Options!$B$2,\"Fax\")","v":"Fax"}]
["CH2M Hill","Steve Beck","304-482-7919",null,null,null,null,null,{"$f":"HYPERLINK(\"#'Client Details'!$B$1\",\"Details\")","v":"Details"},{"$f":"HYPERLINK(Options!$B$1, \"Quote\")","v":"Quote"},{"$f":"HYPERLINK(Options!$B$2,\"Fax\")","v":"Fax"}]
["CH2M Hill (Beck)","Steven Beck"," 414-272-2426","sbeck@ch2m.com","EH&S Manager","Engineering, Architecture","Out of State",null,{"$f":"HYPERLINK(\"#'Client Details'!$B$1\",\"Details\")","v":"Details"},{"$f":"HYPERLINK(Options!$B$1, \"Quote\")","v":"Quote"},{"$f":"HYPERLINK(Options!$B$2,\"Fax\")","v":"Fax"}]
["CH2M Hill (Besuner)","Paige Besuner",null,"paige.besuner@ch2m.com","Project Manager","Engineering, Architecture","Out of State",null,{"$f":"HYPERLINK(\"#'Client Details'!$B$1\",\"Details\")","v":"Details"},{"$f":"HYPERLINK(Options!$B$1, \"Quote\")","v":"Quote"},{"$f":"HYPERLINK(Options!$B$2,\"Fax\")","v":"Fax"}]
["CH2M Hill (Verbrugge)","James D. Verbrugge",null,"jverbrugge@ch2m.com","EH&S","Engineering, Architecture","Out of State",null,{"$f":"HYPERLINK(\"#'Client Details'!$B$1\",\"Details\")","v":"Details"},{"$f":"HYPERLINK(Options!$B$1, \"Quote\")","v":"Quote"},{"$f":"HYPERLINK(Options!$B$2,\"Fax\")","v":"Fax"}]
["CH2M Hill (W. Allis WI)","John Meidl","720-286-2051",null,null,null,null,null,{"$f":"HYPERLINK(\"#'Client Details'!$B$1\",\"Details\")","v":"Details"},{"$f":"HYPERLINK(Options!$B$1, \"Quote\")","v":"Quote"},{"$f":"HYPERLINK(Options!$B$2,\"Fax\")","v":"Fax"}]
["CH2MHill (Okemos)","Brian Constant (buyer)","720-286-3117",null,null,null,null,null,{"$f":"HYPERLINK(\"#'Client Details'!$B$1\",\"Details\")","v":"Details"},{"$f":"HYPERLINK(Options!$B$1, \"Quote\")","v":"Quote"},{"$f":"HYPERLINK(Options!$B$2,\"Fax\")","v":"Fax"}]
["Chain of Lakes Sewer Authority","Scott Wilson","231-652-2848",null,null,null,null,null,{"$f":"HYPERLINK(\"#'Client Details'!$B$1\",\"Details\")","v":"Details"},{"$f":"HYPERLINK(Options!$B$1, \"Quote\")","v":"Quote"},{"$f":"HYPERLINK(Options!$B$2,\"Fax\")","v":"Fax"}]
["Challenge Machinery (German)","Bob German"," 231-799-8484",null,"Safety","Manufacturer","Muskegon",null,{"$f":"HYPERLINK(\"#'Client Details'!$B$1\",\"Details\")","v":"Details"},{"$f":"HYPERLINK(Options!$B$1, \"Quote\")","v":"Quote"},{"$f":"HYPERLINK(Options!$B$2,\"Fax\")","v":"Fax"}]
["Challenge Manufacturing",null,"616-735-6500","mschwartz@challenge-mfg.com",null,null,null,null,{"$f":"HYPERLINK(\"#'Client Details'!$B$1\",\"Details\")","v":"Details"},{"$f":"HYPERLINK(Options!$B$1, \"Quote\")","v":"Quote"},{"$f":"HYPERLINK(Options!$B$2,\"Fax\")","v":"Fax"}]
["Charles F. Mann Paint Co.","Becky Jackson","800-920-6266",null,null,null,null,null,{"$f":"HYPERLINK(\"#'Client Details'!$B$1\",\"Details\")","v":"Details"},{"$f":"HYPERLINK(Options!$B$1, \"Quote\")","v":"Quote"},{"$f":"HYPERLINK(Options!$B$2,\"Fax\")","v":"Fax"}]
["Charles River Laboratories","Keith Horn ext. 12","269-327-4248",null,null,null,null,null,{"$f":"HYPERLINK(\"#'Client Details'!$B$1\",\"Details\")","v":"Details"},{"$f":"HYPERLINK(Options!$B$1, \"Quote\")","v":"Quote"},{"$f":"HYPERLINK(Options!$B$2,\"Fax\")","v":"Fax"}]
["Charles River Laboratories (Horn)","Keith Horn"," 269-327-4248 12","keith.horn@crl.com","Manager of Plant Engineering","Chemical Pharmaceutical","Kalamazoo",null,{"$f":"HYPERLINK(\"#'Client Details'!$B$1\",\"Details\")","v":"Details"},{"$f":"HYPERLINK(Options!$B$1, \"Quote\")","v":"Quote"},{"$f":"HYPERLINK(Options!$B$2,\"Fax\")","v":"Fax"}]
["Charles River Laboratories (Nelson)","Joel Nelson"," 269-327-4248","jnelson@criver.com","Mainenance Supervisor","Chemical Pharmaceutical","Kalamazoo",null,{"$f":"HYPERLINK(\"#'Client Details'!$B$1\",\"Details\")","v":"Details"},{"$f":"HYPERLINK(Options!$B$1, \"Quote\")","v":"Quote"},{"$f":"HYPERLINK(Options!$B$2,\"Fax\")","v":"Fax"}]
["Charlevoix Electric / Water Dept.",null,"231-547-3273",null,null,null,null,null,{"$f":"HYPERLINK(\"#'Client Details'!$B$1\",\"Details\")","v":"Details"},{"$f":"HYPERLINK(Options!$B$1, \"Quote\")","v":"Quote"},{"$f":"HYPERLINK(Options!$B$2,\"Fax\")","v":"Fax"}]
["Charlevoix WTP / WWTP, City of (Creswell)","Sam Creswell"," 231-547-3256","chxwtp@unnet.com","Superintendent","Municipal, Cty","Charelvoix",null,{"$f":"HYPERLINK(\"#'Client Details'!$B$1\",\"Details\")","v":"Details"},{"$f":"HYPERLINK(Options!$B$1, \"Quote\")","v":"Quote"},{"$f":"HYPERLINK(Options!$B$2,\"Fax\")","v":"Fax"}]
["Chelsea Milling (Hein)","Ken Hein"," 734-475-1361","ken.hein@chelseamilling.com",null,"Food","Washtenaw",null,{"$f":"HYPERLINK(\"#'Client Details'!$B$1\",\"Details\")","v":"Details"},{"$f":"HYPERLINK(Options!$B$1, \"Quote\")","v":"Quote"},{"$f":"HYPERLINK(Options!$B$2,\"Fax\")","v":"Fax"}]
["Chemviron Midwest (Dale)","Nathan Dale"," 734-437-9074","nathand@chemviron.com",null,"Contractor EH&S","UNSURE",null,{"$f":"HYPERLINK(\"#'Client Details'!$B$1\",\"Details\")","v":"Details"},{"$f":"HYPERLINK(Options!$B$1, \"Quote\")","v":"Quote"},{"$f":"HYPERLINK(Options!$B$2,\"Fax\")","v":"Fax"}]
["Chemviron Midwest (O'Brian)","Kevin O'Brian"," 734-437-9074","kevino@chemviron",null,"Contractor EH&S","UNSURE",null,{"$f":"HYPERLINK(\"#'Client Details'!$B$1\",\"Details\")","v":"Details"},{"$f":"HYPERLINK(Options!$B$1, \"Quote\")","v":"Quote"},{"$f":"HYPERLINK(Options!$B$2,\"Fax\")","v":"Fax"}]
["Chemviron Midwest Inc.","Kevin O'Brien","734-437-9074","nathand@chemviron.com",null,null,null,null,{"$f":"HYPERLINK(\"#'Client Details'!$B$1\",\"Details\")","v":"Details"},{"$f":"HYPERLINK(Options!$B$1, \"Quote\")","v":"Quote"},{"$f":"HYPERLINK(Options!$B$2,\"Fax\")","v":"Fax"}]
["Cherry Growers Inc. (Gallop)","Ron Gallop"," 231-276-9241",null,"Plant Manager",null,"Grand Traverse",null,{"$f":"HYPERLINK(\"#'Client Details'!$B$1\",\"Details\")","v":"Details"},{"$f":"HYPERLINK(Options!$B$1, \"Quote\")","v":"Quote"},{"$f":"HYPERLINK(Options!$B$2,\"Fax\")","v":"Fax"}]
["Chevron Environmental Management Company","Mark Stella"," 713-432-2643","markstella@chevron.com",null,"Petroleum Related","Out of State",null,{"$f":"HYPERLINK(\"#'Client Details'!$B$1\",\"Details\")","v":"Details"},{"$f":"HYPERLINK(Options!$B$1, \"Quote\")","v":"Quote"},{"$f":"HYPERLINK(Options!$B$2,\"Fax\")","v":"Fax"}]
["Chevron Environmental Management Company","Mark Stella"," 713-432-2643","markstella@chevron.com",null,"Petroleum Related","Out of State",null,{"$f":"HYPERLINK(\"#'Client Details'!$B$1\",\"Details\")","v":"Details"},{"$f":"HYPERLINK(Options!$B$1, \"Quote\")","v":"Quote"},{"$f":"HYPERLINK(Options!$B$2,\"Fax\")","v":"Fax"}]
["Chevron Environmental Management Company","Mark Stella"," 713-432-2643","markstella@chevron.com",null,"Petroleum Related","Out of State",null,{"$f":"HYPERLINK(\"#'Client Details'!$B$1\",\"Details\")","v":"Details"},{"$f":"HYPERLINK(Options!$B$1, \"Quote\")","v":"Quote"},{"$f":"HYPERLINK(Options!$B$2,\"Fax\")","v":"Fax"}]
["Choctaw-Kaul","Choctaw-Kaul","313-895-3165 x158",null,null,null,null,null,{"$f":"HYPERLINK(\"#'Client Details'!$B$1\",\"Details\")","v":"Details"},{"$f":"HYPERLINK(Options!$B$1, \"Quote\")","v":"Quote"},{"$f":"HYPERLINK(Options!$B$2,\"Fax\")","v":"Fax"}]
["Choctaw-Kaul Distribution Company (Hawkin","Melissa Hawkins"," 313-894-9494","mhawkins@choctawkaul.com",null,"Competitor","Wayne",null,{"$f":"HYPERLINK(\"#'Client Details'!$B$1\",\"Details\")","v":"Details"},{"$f":"HYPERLINK(Options!$B$1, \"Quote\")","v":"Quote"},{"$f":"HYPERLINK(Options!$B$2,\"Fax\")","v":"Fax"}]
["Choctaw-Kaul Distribution Company (Kocsis","Jerry Kocsis"," 313-895-3587","jkocsis@choctawkaul.com","Buyer","Competitor","Wayne",null,{"$f":"HYPERLINK(\"#'Client Details'!$B$1\",\"Details\")","v":"Details"},{"$f":"HYPERLINK(Options!$B$1, \"Quote\")","v":"Quote"},{"$f":"HYPERLINK(Options!$B$2,\"Fax\")","v":"Fax"}]
["Chris Hammond (CUSTOMER)",null,null,null,null,null,null,null,{"$f":"HYPERLINK(\"#'Client Details'!$B$1\",\"Details\")","v":"Details"},{"$f":"HYPERLINK(Options!$B$1, \"Quote\")","v":"Quote"},{"$f":"HYPERLINK(Options!$B$2,\"Fax\")","v":"Fax"}]
["Christie Construction (Christie)","Scott Christie"," 616-773-5464",null,"Owner's Son","Construction","Allegan",null,{"$f":"HYPERLINK(\"#'Client Details'!$B$1\",\"Details\")","v":"Details"},{"$f":"HYPERLINK(Options!$B$1, \"Quote\")","v":"Quote"},{"$f":"HYPERLINK(Options!$B$2,\"Fax\")","v":"Fax"}]
["Christman Company, The (Staley)","Don Staley"," 517-482-1488","don.staley@christmanco.com","Safety Manager","Contractor General","Ingham",null,{"$f":"HYPERLINK(\"#'Client Details'!$B$1\",\"Details\")","v":"Details"},{"$f":"HYPERLINK(Options!$B$1, \"Quote\")","v":"Quote"},{"$f":"HYPERLINK(Options!$B$2,\"Fax\")","v":"Fax"}]
["Christman Construction(Grand Rapids)","Kerrie Battige","616-608-0262",null,null,null,null,null,{"$f":"HYPERLINK(\"#'Client Details'!$B$1\",\"Details\")","v":"Details"},{"$f":"HYPERLINK(Options!$B$1, \"Quote\")","v":"Quote"},{"$f":"HYPERLINK(Options!$B$2,\"Fax\")","v":"Fax"}]
["Christman Constructors (Lansing)","Andy Bellmore","517 482 1488",null,null,null,null,null,{"$f":"HYPERLINK(\"#'Client Details'!$B$1\",\"Details\")","v":"Details"},{"$f":"HYPERLINK(Options!$B$1, \"Quote\")","v":"Quote"},{"$f":"HYPERLINK(Options!$B$2,\"Fax\")","v":"Fax"}]
["Christman Constructors, Inc. (Bellmore)","Andrew Bellmore"," 517-482-0554","andy.bellmore@constructorsonline.com","Stores","Contractor General","Ingham",null,{"$f":"HYPERLINK(\"#'Client Details'!$B$1\",\"Details\")","v":"Details"},{"$f":"HYPERLINK(Options!$B$1, \"Quote\")","v":"Quote"},{"$f":"HYPERLINK(Options!$B$2,\"Fax\")","v":"Fax"}]
["Chukwu Williams",null,null,null,null,null,null,null,{"$f":"HYPERLINK(\"#'Client Details'!$B$1\",\"Details\")","v":"Details"},{"$f":"HYPERLINK(Options!$B$1, \"Quote\")","v":"Quote"},{"$f":"HYPERLINK(Options!$B$2,\"Fax\")","v":"Fax"}]
["Cintas Corporation (Kentwood) (Curry)","Toby Curry"," 616-942-9225 3107","curryt@cintas.com","Maintenance Engineer","Other","Kent",null,{"$f":"HYPERLINK(\"#'Client Details'!$B$1\",\"Details\")","v":"Details"},{"$f":"HYPERLINK(Options!$B$1, \"Quote\")","v":"Quote"},{"$f":"HYPERLINK(Options!$B$2,\"Fax\")","v":"Fax"}]
["Cintas Corporation (Walker)",null,"616-791-6300",null,null,null,null,null,{"$f":"HYPERLINK(\"#'Client Details'!$B$1\",\"Details\")","v":"Details"},{"$f":"HYPERLINK(Options!$B$1, \"Quote\")","v":"Quote"},{"$f":"HYPERLINK(Options!$B$2,\"Fax\")","v":"Fax"}]
["Cintas Corporation (Walker) (Parkhurst)","Jim Parkhurst"," 616-791-6300 225",null,"Chief Maintenance Engineer","Other","Walker",null,{"$f":"HYPERLINK(\"#'Client Details'!$B$1\",\"Details\")","v":"Details"},{"$f":"HYPERLINK(Options!$B$1, \"Quote\")","v":"Quote"},{"$f":"HYPERLINK(Options!$B$2,\"Fax\")","v":"Fax"}]
["Circuit Electric Company ()",null," 616-878-4343",null,null,"Contractor Electrical","Kent",null,{"$f":"HYPERLINK(\"#'Client Details'!$B$1\",\"Details\")","v":"Details"},{"$f":"HYPERLINK(Options!$B$1, \"Quote\")","v":"Quote"},{"$f":"HYPERLINK(Options!$B$2,\"Fax\")","v":"Fax"}]
["Citgo Buckeye (Stein)","Bill Stein"," 616-842-9040 1","wstein@citgo.com",null,"Petroleum Distribution","Ottawa",null,{"$f":"HYPERLINK(\"#'Client Details'!$B$1\",\"Details\")","v":"Details"},{"$f":"HYPERLINK(Options!$B$1, \"Quote\")","v":"Quote"},{"$f":"HYPERLINK(Options!$B$2,\"Fax\")","v":"Fax"}]
["Citgo Petroleum (Tallmadge OH)","Chris Mercier","330-633-4954",null,null,null,null,null,{"$f":"HYPERLINK(\"#'Client Details'!$B$1\",\"Details\")","v":"Details"},{"$f":"HYPERLINK(Options!$B$1, \"Quote\")","v":"Quote"},{"$f":"HYPERLINK(Options!$B$2,\"Fax\")","v":"Fax"}]
["Citgo Petroleum Corp. (Baltimore)","Robert Truax","410-355-6500",null,null,null,null,null,{"$f":"HYPERLINK(\"#'Client Details'!$B$1\",\"Details\")","v":"Details"},{"$f":"HYPERLINK(Options!$B$1, \"Quote\")","v":"Quote"},{"$f":"HYPERLINK(Options!$B$2,\"Fax\")","v":"Fax"}]
["Citgo Petroleum Corp. (Ferrysburg)",null,"616-842-9040","wstein@citgo.com",null,null,null,null,{"$f":"HYPERLINK(\"#'Client Details'!$B$1\",\"Details\")","v":"Details"},{"$f":"HYPERLINK(Options!$B$1, \"Quote\")","v":"Quote"},{"$f":"HYPERLINK(Options!$B$2,\"Fax\")","v":"Fax"}]
["Citgo Petroleum Corp. (Oregon OH)","Rick Bauer","419-654-7902",null,null,null,null,null,{"$f":"HYPERLINK(\"#'Client Details'!$B$1\",\"Details\")","v":"Details"},{"$f":"HYPERLINK(Options!$B$1, \"Quote\")","v":"Quote"},{"$f":"HYPERLINK(Options!$B$2,\"Fax\")","v":"Fax"}]
["Citgo Petroleum Corporation (Snouffer)","Chad Snouffer"," 616-842-9040","csnouff@citgo.com","Assistant Terminal Manager",null,"Ottawa",null,{"$f":"HYPERLINK(\"#'Client Details'!$B$1\",\"Details\")","v":"Details"},{"$f":"HYPERLINK(Options!$B$1, \"Quote\")","v":"Quote"},{"$f":"HYPERLINK(Options!$B$2,\"Fax\")","v":"Fax"}]
["Citgo Petrolium Corp. (Buckeye Terminals)",null,null,null,null,null,null,null,{"$f":"HYPERLINK(\"#'Client Details'!$B$1\",\"Details\")","v":"Details"},{"$f":"HYPERLINK(Options!$B$1, \"Quote\")","v":"Quote"},{"$f":"HYPERLINK(Options!$B$2,\"Fax\")","v":"Fax"}]
["Citgo Petrolium Corp. (Dublin)","Chad Snouffer","614-889-9461",null,null,null,null,null,{"$f":"HYPERLINK(\"#'Client Details'!$B$1\",\"Details\")","v":"Details"},{"$f":"HYPERLINK(Options!$B$1, \"Quote\")","v":"Quote"},{"$f":"HYPERLINK(Options!$B$2,\"Fax\")","v":"Fax"}]
["City Of Fennville (Tuhacek)","Gary Tuhacek"," 269-561-2444","fenncity@datawise.net","Superintendent","Municipal, Cty","Allegan",null,{"$f":"HYPERLINK(\"#'Client Details'!$B$1\",\"Details\")","v":"Details"},{"$f":"HYPERLINK(Options!$B$1, \"Quote\")","v":"Quote"},{"$f":"HYPERLINK(Options!$B$2,\"Fax\")","v":"Fax"}]
["City Service, Etna Supply","Brian Waters",null,null,null,null,null,null,{"$f":"HYPERLINK(\"#'Client Details'!$B$1\",\"Details\")","v":"Details"},{"$f":"HYPERLINK(Options!$B$1, \"Quote\")","v":"Quote"},{"$f":"HYPERLINK(Options!$B$2,\"Fax\")","v":"Fax"}]
["City Services, Etna Supply (Waters)","Brian Waters"," 616-813-4841","bwaters@etnasupply.com",null,"Contractor General","Kent",null,{"$f":"HYPERLINK(\"#'Client Details'!$B$1\",\"Details\")","v":"Details"},{"$f":"HYPERLINK(Options!$B$1, \"Quote\")","v":"Quote"},{"$f":"HYPERLINK(Options!$B$2,\"Fax\")","v":"Fax"}]
["CJ Mahan Construction","Steve Roberts",null,"sroberts@cjmahan.com",null,null,null,null,{"$f":"HYPERLINK(\"#'Client Details'!$B$1\",\"Details\")","v":"Details"},{"$f":"HYPERLINK(Options!$B$1, \"Quote\")","v":"Quote"},{"$f":"HYPERLINK(Options!$B$2,\"Fax\")","v":"Fax"}]
["CKI Inc",null,"616-791-8708",null,null,null,null,null,{"$f":"HYPERLINK(\"#'Client Details'!$B$1\",\"Details\")","v":"Details"},{"$f":"HYPERLINK(Options!$B$1, \"Quote\")","v":"Quote"},{"$f":"HYPERLINK(Options!$B$2,\"Fax\")","v":"Fax"}]
["Clark Excavation Company (Kreiner)","Wayne Kreiner"," 517-322-0370",null,"Safety Manager","Contractor, Excavator","Ingham",null,{"$f":"HYPERLINK(\"#'Client Details'!$B$1\",\"Details\")","v":"Details"},{"$f":"HYPERLINK(Options!$B$1, \"Quote\")","v":"Quote"},{"$f":"HYPERLINK(Options!$B$2,\"Fax\")","v":"Fax"}]
["Clark Township WWTP (Landreville)","James Landreville"," 906-484-2026","clarktwpwwtp@easternup.net","Manager","Municipal, Cty","Mackinac",null,{"$f":"HYPERLINK(\"#'Client Details'!$B$1\",\"Details\")","v":"Details"},{"$f":"HYPERLINK(Options!$B$1, \"Quote\")","v":"Quote"},{"$f":"HYPERLINK(Options!$B$2,\"Fax\")","v":"Fax"}]
["Clarksville Fire Dept / Campbell Twp FD","Bob Cronk","616-693-2133 station",null,null,null,null,null,{"$f":"HYPERLINK(\"#'Client Details'!$B$1\",\"Details\")","v":"Details"},{"$f":"HYPERLINK(Options!$B$1, \"Quote\")","v":"Quote"},{"$f":"HYPERLINK(Options!$B$2,\"Fax\")","v":"Fax"}]
["Clarksville Fire Dept/Campbell TWSHP (Cro","Bob Cronk"," 616-693-2133",null,null,null,"Ionia",null,{"$f":"HYPERLINK(\"#'Client Details'!$B$1\",\"Details\")","v":"Details"},{"$f":"HYPERLINK(Options!$B$1, \"Quote\")","v":"Quote"},{"$f":"HYPERLINK(Options!$B$2,\"Fax\")","v":"Fax"}]
["Clean Air","Benito Faccini","954-390-7499",null,null,null,null,null,{"$f":"HYPERLINK(\"#'Client Details'!$B$1\",\"Details\")","v":"Details"},{"$f":"HYPERLINK(Options!$B$1, \"Quote\")","v":"Quote"},{"$f":"HYPERLINK(Options!$B$2,\"Fax\")","v":"Fax"}]
["Clean Source","Ted Brummel","616-457-1903",null,null,null,null,null,{"$f":"HYPERLINK(\"#'Client Details'!$B$1\",\"Details\")","v":"Details"},{"$f":"HYPERLINK(Options!$B$1, \"Quote\")","v":"Quote"},{"$f":"HYPERLINK(Options!$B$2,\"Fax\")","v":"Fax"}]
["Clean Source, The (Brummel)","Ted Brummel"," 616-457-1903","thecleansource@hotmail.com","Manager","Contractor General","Ottawa",null,{"$f":"HYPERLINK(\"#'Client Details'!$B$1\",\"Details\")","v":"Details"},{"$f":"HYPERLINK(Options!$B$1, \"Quote\")","v":"Quote"},{"$f":"HYPERLINK(Options!$B$2,\"Fax\")","v":"Fax"}]
["Clifford Buck Construction Company, Inc.","Robert Herrmann"," 231-726-4913","cbuck1@fte.net","Project Manager",null,"Muskegon",null,{"$f":"HYPERLINK(\"#'Client Details'!$B$1\",\"Details\")","v":"Details"},{"$f":"HYPERLINK(Options!$B$1, \"Quote\")","v":"Quote"},{"$f":"HYPERLINK(Options!$B$2,\"Fax\")","v":"Fax"}]
["Clifford Buck Construction Company, Inc.","Robert Herrmann"," 231-726-4913","cbuck1@fte.net","Project Manager",null,"Muskegon",null,{"$f":"HYPERLINK(\"#'Client Details'!$B$1\",\"Details\")","v":"Details"},{"$f":"HYPERLINK(Options!$B$1, \"Quote\")","v":"Quote"},{"$f":"HYPERLINK(Options!$B$2,\"Fax\")","v":"Fax"}]
["Clifford Buck Construction Company, Inc.","Robert Herrmann"," 231-726-4913","cbuck1@fte.net","Project Manager",null,"Muskegon",null,{"$f":"HYPERLINK(\"#'Client Details'!$B$1\",\"Details\")","v":"Details"},{"$f":"HYPERLINK(Options!$B$1, \"Quote\")","v":"Quote"},{"$f":"HYPERLINK(Options!$B$2,\"Fax\")","v":"Fax"}]
["Cliffs Michigan Mining Company (Norback)","Tom Norback"," 906-475-3583","thomas.norback@cliffsnr.com",null,"Mining","Marquette",null,{"$f":"HYPERLINK(\"#'Client Details'!$B$1\",\"Details\")","v":"Details"},{"$f":"HYPERLINK(Options!$B$1, \"Quote\")","v":"Quote"},{"$f":"HYPERLINK(Options!$B$2,\"Fax\")","v":"Fax"}]
["Cliffs Michigan Operation (1-Empire Mine)","James Dial","906-475-3647",null,null,null,null,null,{"$f":"HYPERLINK(\"#'Client Details'!$B$1\",\"Details\")","v":"Details"},{"$f":"HYPERLINK(Options!$B$1, \"Quote\")","v":"Quote"},{"$f":"HYPERLINK(Options!$B$2,\"Fax\")","v":"Fax"}]
["Cliffs Natural Resources (Kemp)","Peter Kemp"," 218-744-7826","pete.kemp@cliffsnr.com","Manager Mine Maintenance","Mining","Out of State",null,{"$f":"HYPERLINK(\"#'Client Details'!$B$1\",\"Details\")","v":"Details"},{"$f":"HYPERLINK(Options!$B$1, \"Quote\")","v":"Quote"},{"$f":"HYPERLINK(Options!$B$2,\"Fax\")","v":"Fax"}]
["Clio Area Fire Department","Gary M. Domerese","810-686-7676",null,null,null,null,null,{"$f":"HYPERLINK(\"#'Client Details'!$B$1\",\"Details\")","v":"Details"},{"$f":"HYPERLINK(Options!$B$1, \"Quote\")","v":"Quote"},{"$f":"HYPERLINK(Options!$B$2,\"Fax\")","v":"Fax"}]
["Closure Systems (Crawfordsville)","Sherry Allen","765-364-6221","Sherry.allen@alcoa.com",null,null,null,null,{"$f":"HYPERLINK(\"#'Client Details'!$B$1\",\"Details\")","v":"Details"},{"$f":"HYPERLINK(Options!$B$1, \"Quote\")","v":"Quote"},{"$f":"HYPERLINK(Options!$B$2,\"Fax\")","v":"Fax"}]
["Clyde Union","Gipp Klein","269-966-4685",null,null,null,null,null,{"$f":"HYPERLINK(\"#'Client Details'!$B$1\",\"Details\")","v":"Details"},{"$f":"HYPERLINK(Options!$B$1, \"Quote\")","v":"Quote"},{"$f":"HYPERLINK(Options!$B$2,\"Fax\")","v":"Fax"}]
["ClydeUnion (Klein)","Gipp Klein"," 269-966-4685","gklein@clydeunion.com","EHS & Facilities Manager","Manufacturer","Calhoun",null,{"$f":"HYPERLINK(\"#'Client Details'!$B$1\",\"Details\")","v":"Details"},{"$f":"HYPERLINK(Options!$B$1, \"Quote\")","v":"Quote"},{"$f":"HYPERLINK(Options!$B$2,\"Fax\")","v":"Fax"}]
["CM Resources, Inc. (Pfizer Kzoo)","Tasha Mazo","269-833-5223",null,null,null,null,null,{"$f":"HYPERLINK(\"#'Client Details'!$B$1\",\"Details\")","v":"Details"},{"$f":"HYPERLINK(Options!$B$1, \"Quote\")","v":"Quote"},{"$f":"HYPERLINK(Options!$B$2,\"Fax\")","v":"Fax"}]
["CMD Corporation (Nackers)","Gregory Nackers"," 920-380-8319","greg.nackers@cmd-corp.com","Sr. Electrical Engineer","Manufacturer","Out of State",null,{"$f":"HYPERLINK(\"#'Client Details'!$B$1\",\"Details\")","v":"Details"},{"$f":"HYPERLINK(Options!$B$1, \"Quote\")","v":"Quote"},{"$f":"HYPERLINK(Options!$B$2,\"Fax\")","v":"Fax"}]
["CME Mitsuba Corp (Haines)","Jerry Haines"," 989-773-0377 235","j-haines@cme.americanmitsuba.com","Safety Manager","Automotive","Isabella",null,{"$f":"HYPERLINK(\"#'Client Details'!$B$1\",\"Details\")","v":"Details"},{"$f":"HYPERLINK(Options!$B$1, \"Quote\")","v":"Quote"},{"$f":"HYPERLINK(Options!$B$2,\"Fax\")","v":"Fax"}]
["CNA","Kellie Baker","616-450-1461","kellie.baker@cna.com",null,null,null,null,{"$f":"HYPERLINK(\"#'Client Details'!$B$1\",\"Details\")","v":"Details"},{"$f":"HYPERLINK(Options!$B$1, \"Quote\")","v":"Quote"},{"$f":"HYPERLINK(Options!$B$2,\"Fax\")","v":"Fax"}]
["Coastal Container (Tammy)","Tammy"," 616-355-9800",null,"EHS & Facilities Manager",null,"Ottawa",null,{"$f":"HYPERLINK(\"#'Client Details'!$B$1\",\"Details\")","v":"Details"},{"$f":"HYPERLINK(Options!$B$1, \"Quote\")","v":"Quote"},{"$f":"HYPERLINK(Options!$B$2,\"Fax\")","v":"Fax"}]
["Coca-Cola Bottling Company of Michigan (M","Sherry Moore"," 616-234-0639","shemoore@cokecce.com",null,"Food","Kent",null,{"$f":"HYPERLINK(\"#'Client Details'!$B$1\",\"Details\")","v":"Details"},{"$f":"HYPERLINK(Options!$B$1, \"Quote\")","v":"Quote"},{"$f":"HYPERLINK(Options!$B$2,\"Fax\")","v":"Fax"}]
["Coca-Cola Company",null,"269-657-8567 Main",null,null,null,null,null,{"$f":"HYPERLINK(\"#'Client Details'!$B$1\",\"Details\")","v":"Details"},{"$f":"HYPERLINK(Options!$B$1, \"Quote\")","v":"Quote"},{"$f":"HYPERLINK(Options!$B$2,\"Fax\")","v":"Fax"}]
["Coca-Cola Company (Chao)","Choeung Chao"," 269-657-8563","cchao@coca-cola.com","Calibration Specialist","Other","Van Buren",null,{"$f":"HYPERLINK(\"#'Client Details'!$B$1\",\"Details\")","v":"Details"},{"$f":"HYPERLINK(Options!$B$1, \"Quote\")","v":"Quote"},{"$f":"HYPERLINK(Options!$B$2,\"Fax\")","v":"Fax"}]
["Coca-Cola Company (Fields)","Dan Fields"," 269-657-8437","dfields@na.ko.com","Safety, Environmental & Securi","Other","Van Buren",null,{"$f":"HYPERLINK(\"#'Client Details'!$B$1\",\"Details\")","v":"Details"},{"$f":"HYPERLINK(Options!$B$1, \"Quote\")","v":"Quote"},{"$f":"HYPERLINK(Options!$B$2,\"Fax\")","v":"Fax"}]
["Coca-Cola Company (Young)","Steve Young"," 269-657-8567",null,"Maintenance Planner","Other","Van Buren",null,{"$f":"HYPERLINK(\"#'Client Details'!$B$1\",\"Details\")","v":"Details"},{"$f":"HYPERLINK(Options!$B$1, \"Quote\")","v":"Quote"},{"$f":"HYPERLINK(Options!$B$2,\"Fax\")","v":"Fax"}]
["Code Red Safety (Shanley)","Meg Shanley"," 800-499-5253","mshanley@gas-monitor.net",null,"Supplier","N/A",null,{"$f":"HYPERLINK(\"#'Client Details'!$B$1\",\"Details\")","v":"Details"},{"$f":"HYPERLINK(Options!$B$1, \"Quote\")","v":"Quote"},{"$f":"HYPERLINK(Options!$B$2,\"Fax\")","v":"Fax"}]
["Coldwater Board of Public Utilities (Spit","Tom Spitzner"," 517-279-4805","returned","Water Supervisor","Municipal, Cty","Branch",null,{"$f":"HYPERLINK(\"#'Client Details'!$B$1\",\"Details\")","v":"Details"},{"$f":"HYPERLINK(Options!$B$1, \"Quote\")","v":"Quote"},{"$f":"HYPERLINK(Options!$B$2,\"Fax\")","v":"Fax"}]
["Coldwater Board of Public Utilities (Wood","Dave Woodman"," 517-279-9531",null,"WWTP Supervisor","Municipal, Cty","Branch",null,{"$f":"HYPERLINK(\"#'Client Details'!$B$1\",\"Details\")","v":"Details"},{"$f":"HYPERLINK(Options!$B$1, \"Quote\")","v":"Quote"},{"$f":"HYPERLINK(Options!$B$2,\"Fax\")","v":"Fax"}]
["Coldwater DMS, City of","Dave Sattler","517-279-7770",null,null,null,null,null,{"$f":"HYPERLINK(\"#'Client Details'!$B$1\",\"Details\")","v":"Details"},{"$f":"HYPERLINK(Options!$B$1, \"Quote\")","v":"Quote"},{"$f":"HYPERLINK(Options!$B$2,\"Fax\")","v":"Fax"}]
["Coldwater Fire Department, City of (Sherm","Rich Sherman"," 517-278-4177","rsherman@coldwater.org",null,"Municipal, Cty","Branch",null,{"$f":"HYPERLINK(\"#'Client Details'!$B$1\",\"Details\")","v":"Details"},{"$f":"HYPERLINK(Options!$B$1, \"Quote\")","v":"Quote"},{"$f":"HYPERLINK(Options!$B$2,\"Fax\")","v":"Fax"}]
["Coldwater Police Department","Mark Bartell","517-278-4525",null,null,null,null,null,{"$f":"HYPERLINK(\"#'Client Details'!$B$1\",\"Details\")","v":"Details"},{"$f":"HYPERLINK(Options!$B$1, \"Quote\")","v":"Quote"},{"$f":"HYPERLINK(Options!$B$2,\"Fax\")","v":"Fax"}]
["Coldwater Police Department, City of (Bar","Mark Bartell"," 517-278-4525","mbartell@coldwater.org",null,"Municipal, Cty","Branch",null,{"$f":"HYPERLINK(\"#'Client Details'!$B$1\",\"Details\")","v":"Details"},{"$f":"HYPERLINK(Options!$B$1, \"Quote\")","v":"Quote"},{"$f":"HYPERLINK(Options!$B$2,\"Fax\")","v":"Fax"}]
["Cole's Quality Foods, Inc.","Diana Gaulting","231-332-6993",null,null,null,null,null,{"$f":"HYPERLINK(\"#'Client Details'!$B$1\",\"Details\")","v":"Details"},{"$f":"HYPERLINK(Options!$B$1, \"Quote\")","v":"Quote"},{"$f":"HYPERLINK(Options!$B$2,\"Fax\")","v":"Fax"}]
["Cole's Quality Foods, Inc. (Gaultney)","Diana Gaultney"," 231-722-1651","dgaultney@coles.com","Safety Coordinator","Food","Muskegon",null,{"$f":"HYPERLINK(\"#'Client Details'!$B$1\",\"Details\")","v":"Details"},{"$f":"HYPERLINK(Options!$B$1, \"Quote\")","v":"Quote"},{"$f":"HYPERLINK(Options!$B$2,\"Fax\")","v":"Fax"}]
["Coloma Frozen Foods (Ostyn)","Denny Ostyn"," 269-944-1431",null,"Plant Mgr",null,"Allegan",null,{"$f":"HYPERLINK(\"#'Client Details'!$B$1\",\"Details\")","v":"Details"},{"$f":"HYPERLINK(Options!$B$1, \"Quote\")","v":"Quote"},{"$f":"HYPERLINK(Options!$B$2,\"Fax\")","v":"Fax"}]
["Coloma Frozen Foods (Smith)","Brian Smith"," 269-849-0500 122","brian@colomafrozen.com","Plant Manager",null,"Kalamazoo",null,{"$f":"HYPERLINK(\"#'Client Details'!$B$1\",\"Details\")","v":"Details"},{"$f":"HYPERLINK(Options!$B$1, \"Quote\")","v":"Quote"},{"$f":"HYPERLINK(Options!$B$2,\"Fax\")","v":"Fax"}]
["Columbia Gas Transmission (Charleston)","Larry Gerwig","cell 304-543-1414",null,null,null,null,null,{"$f":"HYPERLINK(\"#'Client Details'!$B$1\",\"Details\")","v":"Details"},{"$f":"HYPERLINK(Options!$B$1, \"Quote\")","v":"Quote"},{"$f":"HYPERLINK(Options!$B$2,\"Fax\")","v":"Fax"}]
["Columbia Gas Transmission (Lucas)","Marty Sloan","419-892-8912",null,null,null,null,null,{"$f":"HYPERLINK(\"#'Client Details'!$B$1\",\"Details\")","v":"Details"},{"$f":"HYPERLINK(Options!$B$1, \"Quote\")","v":"Quote"},{"$f":"HYPERLINK(Options!$B$2,\"Fax\")","v":"Fax"}]
["Columbia Gas Transmission (Pikeville)",null,null,null,null,null,null,null,{"$f":"HYPERLINK(\"#'Client Details'!$B$1\",\"Details\")","v":"Details"},{"$f":"HYPERLINK(Options!$B$1, \"Quote\")","v":"Quote"},{"$f":"HYPERLINK(Options!$B$2,\"Fax\")","v":"Fax"}]
["Columbia Gas Transmission (Smithfield)",null,"304-334-4106 General",null,null,null,null,null,{"$f":"HYPERLINK(\"#'Client Details'!$B$1\",\"Details\")","v":"Details"},{"$f":"HYPERLINK(Options!$B$1, \"Quote\")","v":"Quote"},{"$f":"HYPERLINK(Options!$B$2,\"Fax\")","v":"Fax"}]
["Columbia Gas Transmission (Sugar Grove)","Alan Man","740-746-9105",null,null,null,null,null,{"$f":"HYPERLINK(\"#'Client Details'!$B$1\",\"Details\")","v":"Details"},{"$f":"HYPERLINK(Options!$B$1, \"Quote\")","v":"Quote"},{"$f":"HYPERLINK(Options!$B$2,\"Fax\")","v":"Fax"}]
["Columbia Township Fire Department (Gruber","Farley Gruber"," 269-434-6266","firechief@columbiatwp.com","Fire Chief","Fire Department","Van Buren",null,{"$f":"HYPERLINK(\"#'Client Details'!$B$1\",\"Details\")","v":"Details"},{"$f":"HYPERLINK(Options!$B$1, \"Quote\")","v":"Quote"},{"$f":"HYPERLINK(Options!$B$2,\"Fax\")","v":"Fax"}]
["ColumbiaGas Transmission(Lanum Compresor)","Curtis Edelman","304-984-4611",null,null,null,null,null,{"$f":"HYPERLINK(\"#'Client Details'!$B$1\",\"Details\")","v":"Details"},{"$f":"HYPERLINK(Options!$B$1, \"Quote\")","v":"Quote"},{"$f":"HYPERLINK(Options!$B$2,\"Fax\")","v":"Fax"}]
["Commerce Controls Incorporated (Zitterman","Jerry Zitterman"," 248-476-1442 101","jpzitterman@commercecontrols.com",null,"Manufacturer","Oakland",null,{"$f":"HYPERLINK(\"#'Client Details'!$B$1\",\"Details\")","v":"Details"},{"$f":"HYPERLINK(Options!$B$1, \"Quote\")","v":"Quote"},{"$f":"HYPERLINK(Options!$B$2,\"Fax\")","v":"Fax"}]
["Commercial Alliance (Thelen)","Ed Thelen"," 517-622-6760","EThelen@commercialalliance.biz",null,"BBB Personal","Ingham",null,{"$f":"HYPERLINK(\"#'Client Details'!$B$1\",\"Details\")","v":"Details"},{"$f":"HYPERLINK(Options!$B$1, \"Quote\")","v":"Quote"},{"$f":"HYPERLINK(Options!$B$2,\"Fax\")","v":"Fax"}]
["Commercial Contractors Inc. (Sharky)","Sandy Sharky"," 616-850-1276",null,"Vice President","Contractor General","Ottawa",null,{"$f":"HYPERLINK(\"#'Client Details'!$B$1\",\"Details\")","v":"Details"},{"$f":"HYPERLINK(Options!$B$1, \"Quote\")","v":"Quote"},{"$f":"HYPERLINK(Options!$B$2,\"Fax\")","v":"Fax"}]
["Commercial Diving & Marine Services, Inc.","Wayne Brusate"," 810-987-8898",null,"President","Contractor General","St. Clair",null,{"$f":"HYPERLINK(\"#'Client Details'!$B$1\",\"Details\")","v":"Details"},{"$f":"HYPERLINK(Options!$B$1, \"Quote\")","v":"Quote"},{"$f":"HYPERLINK(Options!$B$2,\"Fax\")","v":"Fax"}]
["Commercial Storage & Interiors  (CSI) (Pe","Sandy Pena","408 986-0136","sandy@csandi.com","President","Supplier","Out of State",null,{"$f":"HYPERLINK(\"#'Client Details'!$B$1\",\"Details\")","v":"Details"},{"$f":"HYPERLINK(Options!$B$1, \"Quote\")","v":"Quote"},{"$f":"HYPERLINK(Options!$B$2,\"Fax\")","v":"Fax"}]
["Commonwealth Constractors Inc. (Main)","Sean Lucas","864-770-3262",null,null,null,null,null,{"$f":"HYPERLINK(\"#'Client Details'!$B$1\",\"Details\")","v":"Details"},{"$f":"HYPERLINK(Options!$B$1, \"Quote\")","v":"Quote"},{"$f":"HYPERLINK(Options!$B$2,\"Fax\")","v":"Fax"}]
["Commonwealth Constructors (Mayo)","Michael Mayo"," 904-588-5795","psillc@charter.net",null,"Contractor General","Out of State",null,{"$f":"HYPERLINK(\"#'Client Details'!$B$1\",\"Details\")","v":"Details"},{"$f":"HYPERLINK(Options!$B$1, \"Quote\")","v":"Quote"},{"$f":"HYPERLINK(Options!$B$2,\"Fax\")","v":"Fax"}]
["Commonwealth Contractors (Plum Point)","Jerome Trierweiler","812-877-4820 x-17",null,null,null,null,null,{"$f":"HYPERLINK(\"#'Client Details'!$B$1\",\"Details\")","v":"Details"},{"$f":"HYPERLINK(Options!$B$1, \"Quote\")","v":"Quote"},{"$f":"HYPERLINK(Options!$B$2,\"Fax\")","v":"Fax"}]
["Commonwealth Contractors (Terra Haute)","Jerome Trierweiler x-17","812-877-4820","jtrierweiler@comdynam.com",null,null,null,null,{"$f":"HYPERLINK(\"#'Client Details'!$B$1\",\"Details\")","v":"Details"},{"$f":"HYPERLINK(Options!$B$1, \"Quote\")","v":"Quote"},{"$f":"HYPERLINK(Options!$B$2,\"Fax\")","v":"Fax"}]
["Compton Inc.","Stan Compton","269-637-5188",null,null,null,null,null,{"$f":"HYPERLINK(\"#'Client Details'!$B$1\",\"Details\")","v":"Details"},{"$f":"HYPERLINK(Options!$B$1, \"Quote\")","v":"Quote"},{"$f":"HYPERLINK(Options!$B$2,\"Fax\")","v":"Fax"}]
["Compton, Inc. (Compton)","Stan Compton"," 269-637-5188","stancompton2002@yahoo.com","President","Contractor EH&S","Van Buren",null,{"$f":"HYPERLINK(\"#'Client Details'!$B$1\",\"Details\")","v":"Details"},{"$f":"HYPERLINK(Options!$B$1, \"Quote\")","v":"Quote"},{"$f":"HYPERLINK(Options!$B$2,\"Fax\")","v":"Fax"}]
["Con Agra Foods","Bill Decker","616-494-1309",null,null,null,null,null,{"$f":"HYPERLINK(\"#'Client Details'!$B$1\",\"Details\")","v":"Details"},{"$f":"HYPERLINK(Options!$B$1, \"Quote\")","v":"Quote"},{"$f":"HYPERLINK(Options!$B$2,\"Fax\")","v":"Fax"}]
["Con Agra Foods, Inc. (Morral)",null,"740-465-3912",null,null,null,null,null,{"$f":"HYPERLINK(\"#'Client Details'!$B$1\",\"Details\")","v":"Details"},{"$f":"HYPERLINK(Options!$B$1, \"Quote\")","v":"Quote"},{"$f":"HYPERLINK(Options!$B$2,\"Fax\")","v":"Fax"}]
["ConAgra Dairy Foods (Allison)","Greg Allison"," 616-392-2359","greg.allison@conagrafoods.com","Maintenance Manager","Food","Ottawa",null,{"$f":"HYPERLINK(\"#'Client Details'!$B$1\",\"Details\")","v":"Details"},{"$f":"HYPERLINK(Options!$B$1, \"Quote\")","v":"Quote"},{"$f":"HYPERLINK(Options!$B$2,\"Fax\")","v":"Fax"}]
["ConAgra Foods, Inc. (Dunn)","Tina Dunn"," 740-465-5356","tina.dunn@conagrafoods.com",null,"Food","Out of State",null,{"$f":"HYPERLINK(\"#'Client Details'!$B$1\",\"Details\")","v":"Details"},{"$f":"HYPERLINK(Options!$B$1, \"Quote\")","v":"Quote"},{"$f":"HYPERLINK(Options!$B$2,\"Fax\")","v":"Fax"}]
["Connan Inc.","MariJo Turner - Accounts Payable","616-772-5454",null,null,null,null,null,{"$f":"HYPERLINK(\"#'Client Details'!$B$1\",\"Details\")","v":"Details"},{"$f":"HYPERLINK(Options!$B$1, \"Quote\")","v":"Quote"},{"$f":"HYPERLINK(Options!$B$2,\"Fax\")","v":"Fax"}]
["Connan, Inc. (Bekius)","Kevin Bekius"," 616-772-5454","kevinb@charterinternet.com",null,"Contractor General","Ottawa",null,{"$f":"HYPERLINK(\"#'Client Details'!$B$1\",\"Details\")","v":"Details"},{"$f":"HYPERLINK(Options!$B$1, \"Quote\")","v":"Quote"},{"$f":"HYPERLINK(Options!$B$2,\"Fax\")","v":"Fax"}]
["Conneaut Telephone Co.","Don Zappittelli","440-593-7140 General",null,null,null,null,null,{"$f":"HYPERLINK(\"#'Client Details'!$B$1\",\"Details\")","v":"Details"},{"$f":"HYPERLINK(Options!$B$1, \"Quote\")","v":"Quote"},{"$f":"HYPERLINK(Options!$B$2,\"Fax\")","v":"Fax"}]
["ConocoPhillips (Barksdale)","Chad Barksdale"," 580-767-2007","chad.e.barksdale@conocophillips.com","Contractor Coordinator","Petroleum Related","Out of State",null,{"$f":"HYPERLINK(\"#'Client Details'!$B$1\",\"Details\")","v":"Details"},{"$f":"HYPERLINK(Options!$B$1, \"Quote\")","v":"Quote"},{"$f":"HYPERLINK(Options!$B$2,\"Fax\")","v":"Fax"}]
["Consol Energy","Debora Kosmack",null,null,null,null,null,null,{"$f":"HYPERLINK(\"#'Client Details'!$B$1\",\"Details\")","v":"Details"},{"$f":"HYPERLINK(Options!$B$1, \"Quote\")","v":"Quote"},{"$f":"HYPERLINK(Options!$B$2,\"Fax\")","v":"Fax"}]
["Consol Energy (Kosmack)","Deborah Kosmack"," 412-854-6592",null,null,"Utility","Out of State",null,{"$f":"HYPERLINK(\"#'Client Details'!$B$1\",\"Details\")","v":"Details"},{"$f":"HYPERLINK(Options!$B$1, \"Quote\")","v":"Quote"},{"$f":"HYPERLINK(Options!$B$2,\"Fax\")","v":"Fax"}]
["Consolidated Electric Company (McCambridg","Bob McCambridge"," 616-366-0111",null,null,"Contractor Electrical","Kent",null,{"$f":"HYPERLINK(\"#'Client Details'!$B$1\",\"Details\")","v":"Details"},{"$f":"HYPERLINK(Options!$B$1, \"Quote\")","v":"Quote"},{"$f":"HYPERLINK(Options!$B$2,\"Fax\")","v":"Fax"}]
["Construction Equipment","Scott Wagner","419-625-7192",null,null,null,null,null,{"$f":"HYPERLINK(\"#'Client Details'!$B$1\",\"Details\")","v":"Details"},{"$f":"HYPERLINK(Options!$B$1, \"Quote\")","v":"Quote"},{"$f":"HYPERLINK(Options!$B$2,\"Fax\")","v":"Fax"}]
["Constructors Incorporated (Beyer)","Kim Beyer"," 616-791-7000 12","info@constructorsinc.com","President","Contractor General","Kent",null,{"$f":"HYPERLINK(\"#'Client Details'!$B$1\",\"Details\")","v":"Details"},{"$f":"HYPERLINK(Options!$B$1, \"Quote\")","v":"Quote"},{"$f":"HYPERLINK(Options!$B$2,\"Fax\")","v":"Fax"}]
["Consumers Concrete Corporation","Lisa Boreham","269-342-0136",null,null,null,null,null,{"$f":"HYPERLINK(\"#'Client Details'!$B$1\",\"Details\")","v":"Details"},{"$f":"HYPERLINK(Options!$B$1, \"Quote\")","v":"Quote"},{"$f":"HYPERLINK(Options!$B$2,\"Fax\")","v":"Fax"}]
["Consumers Concrete Corporation (Warner)","Mike Warner"," 269-342-0136","ibwarner@consumersconcrete.com","Safety Director","Manufacturer","Kalamazoo",null,{"$f":"HYPERLINK(\"#'Client Details'!$B$1\",\"Details\")","v":"Details"},{"$f":"HYPERLINK(Options!$B$1, \"Quote\")","v":"Quote"},{"$f":"HYPERLINK(Options!$B$2,\"Fax\")","v":"Fax"}]
["Consumers Energy (Ballinger)","Corey Ballinger"," 269-337-2305","ceballinger@cmsenergy.com",null,"Utility","Macomb",null,{"$f":"HYPERLINK(\"#'Client Details'!$B$1\",\"Details\")","v":"Details"},{"$f":"HYPERLINK(Options!$B$1, \"Quote\")","v":"Quote"},{"$f":"HYPERLINK(Options!$B$2,\"Fax\")","v":"Fax"}]
["Consumers Energy (Battle Creek)",null,null,null,null,null,null,null,{"$f":"HYPERLINK(\"#'Client Details'!$B$1\",\"Details\")","v":"Details"},{"$f":"HYPERLINK(Options!$B$1, \"Quote\")","v":"Quote"},{"$f":"HYPERLINK(Options!$B$2,\"Fax\")","v":"Fax"}]
["Consumers Energy (Bavin)","John Bavin"," 517-788-1527","jpbavin@cmsenergy.com","Corporate Industrial Hygienist","Utility","Jackson",null,{"$f":"HYPERLINK(\"#'Client Details'!$B$1\",\"Details\")","v":"Details"},{"$f":"HYPERLINK(Options!$B$1, \"Quote\")","v":"Quote"},{"$f":"HYPERLINK(Options!$B$2,\"Fax\")","v":"Fax"}]
["Consumers Energy (BC Cobb)","Kevin Gillish","231-727-6231",null,null,null,null,null,{"$f":"HYPERLINK(\"#'Client Details'!$B$1\",\"Details\")","v":"Details"},{"$f":"HYPERLINK(Options!$B$1, \"Quote\")","v":"Quote"},{"$f":"HYPERLINK(Options!$B$2,\"Fax\")","v":"Fax"}]
["Consumers Energy (Big Rock Point)","Karl Ulbrich","231-547-8299","kjulbrich@cmsenergy.com",null,null,null,null,{"$f":"HYPERLINK(\"#'Client Details'!$B$1\",\"Details\")","v":"Details"},{"$f":"HYPERLINK(Options!$B$1, \"Quote\")","v":"Quote"},{"$f":"HYPERLINK(Options!$B$2,\"Fax\")","v":"Fax"}]
["Consumers Energy (Boyne City)","Loren Barnes","517-788-2511",null,null,null,null,null,{"$f":"HYPERLINK(\"#'Client Details'!$B$1\",\"Details\")","v":"Details"},{"$f":"HYPERLINK(Options!$B$1, \"Quote\")","v":"Quote"},{"$f":"HYPERLINK(Options!$B$2,\"Fax\")","v":"Fax"}]
["Consumers Energy (Brady)","Tim Brady",null,"trbrady@cmsenergy.com","Tool Committee","Utility","Kalamazoo",null,{"$f":"HYPERLINK(\"#'Client Details'!$B$1\",\"Details\")","v":"Details"},{"$f":"HYPERLINK(Options!$B$1, \"Quote\")","v":"Quote"},{"$f":"HYPERLINK(Options!$B$2,\"Fax\")","v":"Fax"}]
["Consumers Energy (Campbell)","Karen Spychalski","616-738-3307",null,null,null,null,null,{"$f":"HYPERLINK(\"#'Client Details'!$B$1\",\"Details\")","v":"Details"},{"$f":"HYPERLINK(Options!$B$1, \"Quote\")","v":"Quote"},{"$f":"HYPERLINK(Options!$B$2,\"Fax\")","v":"Fax"}]
["Consumers Energy (Corporate)",null,null,null,null,null,null,null,{"$f":"HYPERLINK(\"#'Client Details'!$B$1\",\"Details\")","v":"Details"},{"$f":"HYPERLINK(Options!$B$1, \"Quote\")","v":"Quote"},{"$f":"HYPERLINK(Options!$B$2,\"Fax\")","v":"Fax"}]
["Consumers Energy (Croton)","S. H. Hadley",null,null,null,null,null,null,{"$f":"HYPERLINK(\"#'Client Details'!$B$1\",\"Details\")","v":"Details"},{"$f":"HYPERLINK(Options!$B$1, \"Quote\")","v":"Quote"},{"$f":"HYPERLINK(Options!$B$2,\"Fax\")","v":"Fax"}]
["Consumers Energy (Flint)","AG Barrett(buyer)","517-788-2511","daparisho@cmsenergy.com",null,null,null,null,{"$f":"HYPERLINK(\"#'Client Details'!$B$1\",\"Details\")","v":"Details"},{"$f":"HYPERLINK(Options!$B$1, \"Quote\")","v":"Quote"},{"$f":"HYPERLINK(Options!$B$2,\"Fax\")","v":"Fax"}]
["Consumers Energy (Grand Rapids)","Ken Czekaj","616-538-7000",null,null,null,null,null,{"$f":"HYPERLINK(\"#'Client Details'!$B$1\",\"Details\")","v":"Details"},{"$f":"HYPERLINK(Options!$B$1, \"Quote\")","v":"Quote"},{"$f":"HYPERLINK(Options!$B$2,\"Fax\")","v":"Fax"}]
["Consumers Energy (Hudgens)","Josh Hudgens"," 517-788-1385","jkhudgens@cmsenergy.com","Buyer","Utility","Jackson",null,{"$f":"HYPERLINK(\"#'Client Details'!$B$1\",\"Details\")","v":"Details"},{"$f":"HYPERLINK(Options!$B$1, \"Quote\")","v":"Quote"},{"$f":"HYPERLINK(Options!$B$2,\"Fax\")","v":"Fax"}]
["Consumers Energy (Jackson)","Richard E. Loughlin (Dick)","517-788-0569",null,null,null,null,null,{"$f":"HYPERLINK(\"#'Client Details'!$B$1\",\"Details\")","v":"Details"},{"$f":"HYPERLINK(Options!$B$1, \"Quote\")","v":"Quote"},{"$f":"HYPERLINK(Options!$B$2,\"Fax\")","v":"Fax"}]
["Consumers Energy (Kalamazoo)","Rick Reeves",null,null,null,null,null,null,{"$f":"HYPERLINK(\"#'Client Details'!$B$1\",\"Details\")","v":"Details"},{"$f":"HYPERLINK(Options!$B$1, \"Quote\")","v":"Quote"},{"$f":"HYPERLINK(Options!$B$2,\"Fax\")","v":"Fax"}]
["Consumers Energy (Kandil)","Amro Kandil"," 517-788-1445","ahkandil@cmsenergy.com",null,"Utility","Jackson",null,{"$f":"HYPERLINK(\"#'Client Details'!$B$1\",\"Details\")","v":"Details"},{"$f":"HYPERLINK(Options!$B$1, \"Quote\")","v":"Quote"},{"$f":"HYPERLINK(Options!$B$2,\"Fax\")","v":"Fax"}]
["Consumers Energy (Kruske)","Michael E. Kruske"," 989-667-5216","mekruske@cmsenergy.com","Health Safety Environmental In","Utility","Bay",null,{"$f":"HYPERLINK(\"#'Client Details'!$B$1\",\"Details\")","v":"Details"},{"$f":"HYPERLINK(Options!$B$1, \"Quote\")","v":"Quote"},{"$f":"HYPERLINK(Options!$B$2,\"Fax\")","v":"Fax"}]
["Consumers Energy (LaBaza)","Mark LaBaza"," 616-530-4446","mjlabaza@cmsenergy.com","Sr. Consultant, Corporate Safe","Utility","Kent",null,{"$f":"HYPERLINK(\"#'Client Details'!$B$1\",\"Details\")","v":"Details"},{"$f":"HYPERLINK(Options!$B$1, \"Quote\")","v":"Quote"},{"$f":"HYPERLINK(Options!$B$2,\"Fax\")","v":"Fax"}]
["Consumers Energy (Livonia)","MP Weese (buyer)","517-788-2539",null,null,null,null,null,{"$f":"HYPERLINK(\"#'Client Details'!$B$1\",\"Details\")","v":"Details"},{"$f":"HYPERLINK(Options!$B$1, \"Quote\")","v":"Quote"},{"$f":"HYPERLINK(Options!$B$2,\"Fax\")","v":"Fax"}]
["Consumers Energy (Loughlin)","Richard E. Loughlin"," 517-788-0569","reloughlin@cmsenergy.com","Superintendent","Utility","Jackson",null,{"$f":"HYPERLINK(\"#'Client Details'!$B$1\",\"Details\")","v":"Details"},{"$f":"HYPERLINK(Options!$B$1, \"Quote\")","v":"Quote"},{"$f":"HYPERLINK(Options!$B$2,\"Fax\")","v":"Fax"}]
["Consumers Energy (Ludington)","Marlene Burnham","231-843-5241",null,null,null,null,null,{"$f":"HYPERLINK(\"#'Client Details'!$B$1\",\"Details\")","v":"Details"},{"$f":"HYPERLINK(Options!$B$1, \"Quote\")","v":"Quote"},{"$f":"HYPERLINK(Options!$B$2,\"Fax\")","v":"Fax"}]
["Consumers Energy (Lugten)","Jerry L. Lugten"," 517-374-2312","jllugten@cmsenergy.com","Substation Operations Superint","Utility","Ingham",null,{"$f":"HYPERLINK(\"#'Client Details'!$B$1\",\"Details\")","v":"Details"},{"$f":"HYPERLINK(Options!$B$1, \"Quote\")","v":"Quote"},{"$f":"HYPERLINK(Options!$B$2,\"Fax\")","v":"Fax"}]
["Consumers Energy (Mt. Morris)","A. G. Barrett","517-788-2511",null,null,null,null,null,{"$f":"HYPERLINK(\"#'Client Details'!$B$1\",\"Details\")","v":"Details"},{"$f":"HYPERLINK(Options!$B$1, \"Quote\")","v":"Quote"},{"$f":"HYPERLINK(Options!$B$2,\"Fax\")","v":"Fax"}]
["Consumers Energy (Oscoda)","Suzane Pate","517-788-2248",null,null,null,null,null,{"$f":"HYPERLINK(\"#'Client Details'!$B$1\",\"Details\")","v":"Details"},{"$f":"HYPERLINK(Options!$B$1, \"Quote\")","v":"Quote"},{"$f":"HYPERLINK(Options!$B$2,\"Fax\")","v":"Fax"}]
["Consumers Energy (Riendeau)","Helen L. Riendeau"," 517-374-2464","hlriendeau@cmsenergy.com","Electric Field Manager","Utility","Ingham",null,{"$f":"HYPERLINK(\"#'Client Details'!$B$1\",\"Details\")","v":"Details"},{"$f":"HYPERLINK(Options!$B$1, \"Quote\")","v":"Quote"},{"$f":"HYPERLINK(Options!$B$2,\"Fax\")","v":"Fax"}]
["Consumers Energy (Saginaw)","Pat Murphy","989-791-5768",null,null,null,null,null,{"$f":"HYPERLINK(\"#'Client Details'!$B$1\",\"Details\")","v":"Details"},{"$f":"HYPERLINK(Options!$B$1, \"Quote\")","v":"Quote"},{"$f":"HYPERLINK(Options!$B$2,\"Fax\")","v":"Fax"}]
["Consumers Energy (Taylor)","Thomas Taylor"," 517-788-0675","jtaylor@cmsenergy.com","Director of Safety and Health","Utility","Jackson",null,{"$f":"HYPERLINK(\"#'Client Details'!$B$1\",\"Details\")","v":"Details"},{"$f":"HYPERLINK(Options!$B$1, \"Quote\")","v":"Quote"},{"$f":"HYPERLINK(Options!$B$2,\"Fax\")","v":"Fax"}]
["Consumers Energy (Tippy Dam)","Suzanne Pate","231-779-5510",null,null,null,null,null,{"$f":"HYPERLINK(\"#'Client Details'!$B$1\",\"Details\")","v":"Details"},{"$f":"HYPERLINK(Options!$B$1, \"Quote\")","v":"Quote"},{"$f":"HYPERLINK(Options!$B$2,\"Fax\")","v":"Fax"}]
["Consumers Energy (Trail Street)","Roger Dayton",null,null,null,null,null,null,{"$f":"HYPERLINK(\"#'Client Details'!$B$1\",\"Details\")","v":"Details"},{"$f":"HYPERLINK(Options!$B$1, \"Quote\")","v":"Quote"},{"$f":"HYPERLINK(Options!$B$2,\"Fax\")","v":"Fax"}]
["Consumers Energy (Walker)","Karen Walker"," 517-768-3120",null,null,null,"Jackson",null,{"$f":"HYPERLINK(\"#'Client Details'!$B$1\",\"Details\")","v":"Details"},{"$f":"HYPERLINK(Options!$B$1, \"Quote\")","v":"Quote"},{"$f":"HYPERLINK(Options!$B$2,\"Fax\")","v":"Fax"}]
["Consumers Energy (Whiting)","Rachelle Collins","734-848-2668",null,null,null,null,null,{"$f":"HYPERLINK(\"#'Client Details'!$B$1\",\"Details\")","v":"Details"},{"$f":"HYPERLINK(Options!$B$1, \"Quote\")","v":"Quote"},{"$f":"HYPERLINK(Options!$B$2,\"Fax\")","v":"Fax"}]
["Consumers Energy (Wright)","Amy Wright"," 517-788-1150",null,"Buyer","Utility","Jackson",null,{"$f":"HYPERLINK(\"#'Client Details'!$B$1\",\"Details\")","v":"Details"},{"$f":"HYPERLINK(Options!$B$1, \"Quote\")","v":"Quote"},{"$f":"HYPERLINK(Options!$B$2,\"Fax\")","v":"Fax"}]
["Consumers Energy BC Cobb (Burmeister)","Kurt Burmeister"," 231-727-6206",null,"Outage Safety Coordinator","Utility","Muskegon",null,{"$f":"HYPERLINK(\"#'Client Details'!$B$1\",\"Details\")","v":"Details"},{"$f":"HYPERLINK(Options!$B$1, \"Quote\")","v":"Quote"},{"$f":"HYPERLINK(Options!$B$2,\"Fax\")","v":"Fax"}]
["Consumers Energy BC Cobb (Coombs)","Alan Coombs"," 231-727-6216","adcoombs@cmsenergy.com","Production Engineer","Utility","Muskegon",null,{"$f":"HYPERLINK(\"#'Client Details'!$B$1\",\"Details\")","v":"Details"},{"$f":"HYPERLINK(Options!$B$1, \"Quote\")","v":"Quote"},{"$f":"HYPERLINK(Options!$B$2,\"Fax\")","v":"Fax"}]
["Consumers Energy BC Cobb (Durand)","Jason Durand"," 231-727-6218","jrdurand@cmsenergy.com","Maintenance Supervisor","Utility","Muskegon",null,{"$f":"HYPERLINK(\"#'Client Details'!$B$1\",\"Details\")","v":"Details"},{"$f":"HYPERLINK(Options!$B$1, \"Quote\")","v":"Quote"},{"$f":"HYPERLINK(Options!$B$2,\"Fax\")","v":"Fax"}]
["Consumers Energy BC Cobb (Gillish)","Kevin Gillish"," 231-727-6231","kgillish@cmsenergy.com","Electrical Maintenance / I&C S","Utility","Muskegon",null,{"$f":"HYPERLINK(\"#'Client Details'!$B$1\",\"Details\")","v":"Details"},{"$f":"HYPERLINK(Options!$B$1, \"Quote\")","v":"Quote"},{"$f":"HYPERLINK(Options!$B$2,\"Fax\")","v":"Fax"}]
["Consumers Energy BC Cobb (Jacobsen)","Paul Jacobsen"," 231-727-","pdjacobsen@cmsenergy.com","Maintenance Supervisor",null,"Muskegon",null,{"$f":"HYPERLINK(\"#'Client Details'!$B$1\",\"Details\")","v":"Details"},{"$f":"HYPERLINK(Options!$B$1, \"Quote\")","v":"Quote"},{"$f":"HYPERLINK(Options!$B$2,\"Fax\")","v":"Fax"}]
["Consumers Energy BC Cobb (Lambert)","Mark Lambert"," 231-727-6206","mrlambert@cmsenergy.com","Mainenance Superintendent","Utility","Muskegon",null,{"$f":"HYPERLINK(\"#'Client Details'!$B$1\",\"Details\")","v":"Details"},{"$f":"HYPERLINK(Options!$B$1, \"Quote\")","v":"Quote"},{"$f":"HYPERLINK(Options!$B$2,\"Fax\")","v":"Fax"}]
["Consumers Energy BC Cobb (Rowland)","Kevin Rowland"," 231-727-6316","klrowland@cmsenergy.com",null,"Utility","Muskegon",null,{"$f":"HYPERLINK(\"#'Client Details'!$B$1\",\"Details\")","v":"Details"},{"$f":"HYPERLINK(Options!$B$1, \"Quote\")","v":"Quote"},{"$f":"HYPERLINK(Options!$B$2,\"Fax\")","v":"Fax"}]
["Consumers Energy BC Cobb (Sarki)","Tim Sarki"," 231-727-6100","tjsarki@cmsenergy.com","Mechanic, Union President","PoWER","Muskegon",null,{"$f":"HYPERLINK(\"#'Client Details'!$B$1\",\"Details\")","v":"Details"},{"$f":"HYPERLINK(Options!$B$1, \"Quote\")","v":"Quote"},{"$f":"HYPERLINK(Options!$B$2,\"Fax\")","v":"Fax"}]
["Consumers Energy BC Cobb (Schmoekel)","Dan Schmoekel"," 231-727-6321","daschmoekel@cmsenergy.com","Mechanical Maintenance Supervi",null,"Muskegon",null,{"$f":"HYPERLINK(\"#'Client Details'!$B$1\",\"Details\")","v":"Details"},{"$f":"HYPERLINK(Options!$B$1, \"Quote\")","v":"Quote"},{"$f":"HYPERLINK(Options!$B$2,\"Fax\")","v":"Fax"}]
["Consumers Energy BC Cobb (Zimmerman)","Dan Zimmerman"," 231-727-6233",null,"Stores Supervisor","Utility","Muskegon",null,{"$f":"HYPERLINK(\"#'Client Details'!$B$1\",\"Details\")","v":"Details"},{"$f":"HYPERLINK(Options!$B$1, \"Quote\")","v":"Quote"},{"$f":"HYPERLINK(Options!$B$2,\"Fax\")","v":"Fax"}]
["Consumers Energy Campbell (Christensen)","Evan Christensen"," 616-738-5111","elchristensen@cmsenergy.com","Maintenance Supervisor","Utility","Ottawa",null,{"$f":"HYPERLINK(\"#'Client Details'!$B$1\",\"Details\")","v":"Details"},{"$f":"HYPERLINK(Options!$B$1, \"Quote\")","v":"Quote"},{"$f":"HYPERLINK(Options!$B$2,\"Fax\")","v":"Fax"}]
["Consumers Energy Campbell (Dekker)","Terry Dekker"," 616-738-3242",null,"Fall Protection Contact","POWER","Ottawa",null,{"$f":"HYPERLINK(\"#'Client Details'!$B$1\",\"Details\")","v":"Details"},{"$f":"HYPERLINK(Options!$B$1, \"Quote\")","v":"Quote"},{"$f":"HYPERLINK(Options!$B$2,\"Fax\")","v":"Fax"}]
["Consumers Energy Campbell (Henry)","Kristin Henry"," 616-738-3269","kristin_henry@cmsenergy.com","Purchasing Agent","Utility","Ottawa",null,{"$f":"HYPERLINK(\"#'Client Details'!$B$1\",\"Details\")","v":"Details"},{"$f":"HYPERLINK(Options!$B$1, \"Quote\")","v":"Quote"},{"$f":"HYPERLINK(Options!$B$2,\"Fax\")","v":"Fax"}]
["Consumers Energy Campbell (Hice)","Don Hice"," 616-738-3478","ddhice@cmsenergy.com","Business Manager","Utility","Ottawa",null,{"$f":"HYPERLINK(\"#'Client Details'!$B$1\",\"Details\")","v":"Details"},{"$f":"HYPERLINK(Options!$B$1, \"Quote\")","v":"Quote"},{"$f":"HYPERLINK(Options!$B$2,\"Fax\")","v":"Fax"}]
["Consumers Energy Campbell (McBride)","Tim McBride"," 616-738-3261","trmcbride@cmsenergy.com","Performance Supervisor","Utility","Ottawa",null,{"$f":"HYPERLINK(\"#'Client Details'!$B$1\",\"Details\")","v":"Details"},{"$f":"HYPERLINK(Options!$B$1, \"Quote\")","v":"Quote"},{"$f":"HYPERLINK(Options!$B$2,\"Fax\")","v":"Fax"}]
["Consumers Energy Campbell (Odegma)","Tim Odegma"," 616-738-3262",null,"EH&S",null,"Ottawa",null,{"$f":"HYPERLINK(\"#'Client Details'!$B$1\",\"Details\")","v":"Details"},{"$f":"HYPERLINK(Options!$B$1, \"Quote\")","v":"Quote"},{"$f":"HYPERLINK(Options!$B$2,\"Fax\")","v":"Fax"}]
["Consumers Energy Campbell (Sarki)","Rob Sarki"," 616-738-3250",null,"Maintenance Lead",null,"Ottawa",null,{"$f":"HYPERLINK(\"#'Client Details'!$B$1\",\"Details\")","v":"Details"},{"$f":"HYPERLINK(Options!$B$1, \"Quote\")","v":"Quote"},{"$f":"HYPERLINK(Options!$B$2,\"Fax\")","v":"Fax"}]
["Consumers Energy Campbell (Schmiedeknecht","Lee Schmiedeknecht"," 616-738-3349",null,"Fuel Handling Manager","Utility","Ottawa",null,{"$f":"HYPERLINK(\"#'Client Details'!$B$1\",\"Details\")","v":"Details"},{"$f":"HYPERLINK(Options!$B$1, \"Quote\")","v":"Quote"},{"$f":"HYPERLINK(Options!$B$2,\"Fax\")","v":"Fax"}]
["Consumers Energy Campbell (Slinkard)","John Slinkard"," 616-738-5111","jdslinkard@cmsenergy.com","Maintenance","PoWER","Ottawa",null,{"$f":"HYPERLINK(\"#'Client Details'!$B$1\",\"Details\")","v":"Details"},{"$f":"HYPERLINK(Options!$B$1, \"Quote\")","v":"Quote"},{"$f":"HYPERLINK(Options!$B$2,\"Fax\")","v":"Fax"}]
["Consumers Energy Campbell (Vandermolen)","Terry Vandermolen"," 616-738-3495","tlvandermolen@cmsenergy.comx","Electrical Supervisor","Utility","Ottawa",null,{"$f":"HYPERLINK(\"#'Client Details'!$B$1\",\"Details\")","v":"Details"},{"$f":"HYPERLINK(Options!$B$1, \"Quote\")","v":"Quote"},{"$f":"HYPERLINK(Options!$B$2,\"Fax\")","v":"Fax"}]
["Consumers Energy Campbell 1 & 2 (Pellegro","Rick Pellegrom"," 616-738-3255",null,"Maintenance Supervisor","Utility","Ottawa",null,{"$f":"HYPERLINK(\"#'Client Details'!$B$1\",\"Details\")","v":"Details"},{"$f":"HYPERLINK(Options!$B$1, \"Quote\")","v":"Quote"},{"$f":"HYPERLINK(Options!$B$2,\"Fax\")","v":"Fax"}]
["Consumers Energy Campbell 1&2 (McWilliams","Dan McWilliams"," 616-738-3317","damcwilliams@cmsenergy.com","Buyer","Utility","Ottawa",null,{"$f":"HYPERLINK(\"#'Client Details'!$B$1\",\"Details\")","v":"Details"},{"$f":"HYPERLINK(Options!$B$1, \"Quote\")","v":"Quote"},{"$f":"HYPERLINK(Options!$B$2,\"Fax\")","v":"Fax"}]
["Consumers Energy Campbell 3 (Casey)","Shaun Casey"," 616-738-3251","smcasey@cmsenergy.com","Maintenance Lead","Utility","Ottawa",null,{"$f":"HYPERLINK(\"#'Client Details'!$B$1\",\"Details\")","v":"Details"},{"$f":"HYPERLINK(Options!$B$1, \"Quote\")","v":"Quote"},{"$f":"HYPERLINK(Options!$B$2,\"Fax\")","v":"Fax"}]
["Consumers Energy Campbell 3 (Foster)","George Foster"," 616-738-3319","grfoster@cmsenergy.com","Buyer","Utility","Ottawa",null,{"$f":"HYPERLINK(\"#'Client Details'!$B$1\",\"Details\")","v":"Details"},{"$f":"HYPERLINK(Options!$B$1, \"Quote\")","v":"Quote"},{"$f":"HYPERLINK(Options!$B$2,\"Fax\")","v":"Fax"}]
["Consumers Energy Campbell 3 (Kalkman)","Renee Kalkman"," 616-738-5490","rakalkman@cmsenergy.com","Site Safety Manager",null,"Ottawa",null,{"$f":"HYPERLINK(\"#'Client Details'!$B$1\",\"Details\")","v":"Details"},{"$f":"HYPERLINK(Options!$B$1, \"Quote\")","v":"Quote"},{"$f":"HYPERLINK(Options!$B$2,\"Fax\")","v":"Fax"}]
["Consumers Energy Campbell 3 (Kaufman)","Bill Kaufman"," 616-738-3267",null,null,null,"Ottawa",null,{"$f":"HYPERLINK(\"#'Client Details'!$B$1\",\"Details\")","v":"Details"},{"$f":"HYPERLINK(Options!$B$1, \"Quote\")","v":"Quote"},{"$f":"HYPERLINK(Options!$B$2,\"Fax\")","v":"Fax"}]
["Consumers Energy Campbell 3 (Laferge)","Stacy Laferge"," 616-738-5138",null,"Environmental Health Manager",null,"Ottawa",null,{"$f":"HYPERLINK(\"#'Client Details'!$B$1\",\"Details\")","v":"Details"},{"$f":"HYPERLINK(Options!$B$1, \"Quote\")","v":"Quote"},{"$f":"HYPERLINK(Options!$B$2,\"Fax\")","v":"Fax"}]
["Consumers Energy Campbell 3 (Oegama)","Tim Oegama"," 616-738-3262","tdoegama@cmsenergy.com","EH&S","Utility","Ottawa",null,{"$f":"HYPERLINK(\"#'Client Details'!$B$1\",\"Details\")","v":"Details"},{"$f":"HYPERLINK(Options!$B$1, \"Quote\")","v":"Quote"},{"$f":"HYPERLINK(Options!$B$2,\"Fax\")","v":"Fax"}]
["Consumers Energy Campbell 3 (Rochow)","Garrick Rochow"," 616-738-3297","gjrochow@cmsenergy.com","Site Production Manager","Utility","Ottawa",null,{"$f":"HYPERLINK(\"#'Client Details'!$B$1\",\"Details\")","v":"Details"},{"$f":"HYPERLINK(Options!$B$1, \"Quote\")","v":"Quote"},{"$f":"HYPERLINK(Options!$B$2,\"Fax\")","v":"Fax"}]
["Consumers Energy Hydro Operations (Pate)","Suzanne Pate"," 231-779-5510","sjpate@cmsenergy.com","Regulatory & Emergency Plannin","Utility","Wexford",null,{"$f":"HYPERLINK(\"#'Client Details'!$B$1\",\"Details\")","v":"Details"},{"$f":"HYPERLINK(Options!$B$1, \"Quote\")","v":"Quote"},{"$f":"HYPERLINK(Options!$B$2,\"Fax\")","v":"Fax"}]
["Consumers Energy Kalamazoo Service Center","Peter Pryson"," 269-337-2309","pspryson@cmsenergy.com",null,"Utility","Kalamazoo",null,{"$f":"HYPERLINK(\"#'Client Details'!$B$1\",\"Details\")","v":"Details"},{"$f":"HYPERLINK(Options!$B$1, \"Quote\")","v":"Quote"},{"$f":"HYPERLINK(Options!$B$2,\"Fax\")","v":"Fax"}]
["Consumers Energy Karn 1 & 2 (Macomber)","Jim Macomber"," 989-891-3144","jwmacomb@cmsenergy.com","Safety Committee Chairperson","Utility","Do Not Know",null,{"$f":"HYPERLINK(\"#'Client Details'!$B$1\",\"Details\")","v":"Details"},{"$f":"HYPERLINK(Options!$B$1, \"Quote\")","v":"Quote"},{"$f":"HYPERLINK(Options!$B$2,\"Fax\")","v":"Fax"}]
["Consumers Energy Karn 1 & 2 (Robishaw)","Ron Robishaw"," 989-891-3174",null,"Maintenance Lead","Utility","Bay",null,{"$f":"HYPERLINK(\"#'Client Details'!$B$1\",\"Details\")","v":"Details"},{"$f":"HYPERLINK(Options!$B$1, \"Quote\")","v":"Quote"},{"$f":"HYPERLINK(Options!$B$2,\"Fax\")","v":"Fax"}]
["Consumers Energy Ludington (Axdorff)","William Axdorff"," 231-843-5241","wjaxdorff@cmsenergy.com","O&M Supt. / Plant Engineer","Utility","Mason",null,{"$f":"HYPERLINK(\"#'Client Details'!$B$1\",\"Details\")","v":"Details"},{"$f":"HYPERLINK(Options!$B$1, \"Quote\")","v":"Quote"},{"$f":"HYPERLINK(Options!$B$2,\"Fax\")","v":"Fax"}]
["Consumers Energy Ludington (Krieger)","Dan Krieger"," 231-843-5241","dpkrieger@cmsenergy.com","Operations and Maintenance Sup","Utility","Mason",null,{"$f":"HYPERLINK(\"#'Client Details'!$B$1\",\"Details\")","v":"Details"},{"$f":"HYPERLINK(Options!$B$1, \"Quote\")","v":"Quote"},{"$f":"HYPERLINK(Options!$B$2,\"Fax\")","v":"Fax"}]
["Consumers Energy Ludington (Olson)","Andy Olson"," 231-843-5215",null,"Operator/Engineer","Utility/Power","Mason",null,{"$f":"HYPERLINK(\"#'Client Details'!$B$1\",\"Details\")","v":"Details"},{"$f":"HYPERLINK(Options!$B$1, \"Quote\")","v":"Quote"},{"$f":"HYPERLINK(Options!$B$2,\"Fax\")","v":"Fax"}]
["Consumers Energy Ludington (Richards)","Larry Richards"," 231-843-5215","ldrichards@cmsenergy.com",null,"Utility","Mason",null,{"$f":"HYPERLINK(\"#'Client Details'!$B$1\",\"Details\")","v":"Details"},{"$f":"HYPERLINK(Options!$B$1, \"Quote\")","v":"Quote"},{"$f":"HYPERLINK(Options!$B$2,\"Fax\")","v":"Fax"}]
["Consumers Energy Ludington Hydro (Beyer)","Mike Beyer"," 231-843-5251","mjbeyer@cmsenergy.com","Sr. Technical Analyst","Utility","Mason",null,{"$f":"HYPERLINK(\"#'Client Details'!$B$1\",\"Details\")","v":"Details"},{"$f":"HYPERLINK(Options!$B$1, \"Quote\")","v":"Quote"},{"$f":"HYPERLINK(Options!$B$2,\"Fax\")","v":"Fax"}]
["Consumers Energy Manistee Service Center","Jeff Kelley",null,null,null,"Utility","Mason",null,{"$f":"HYPERLINK(\"#'Client Details'!$B$1\",\"Details\")","v":"Details"},{"$f":"HYPERLINK(Options!$B$1, \"Quote\")","v":"Quote"},{"$f":"HYPERLINK(Options!$B$2,\"Fax\")","v":"Fax"}]
["Consumers Energy Manistee Service Center","Jeff Kelley",null,null,null,"Utility","Mason",null,{"$f":"HYPERLINK(\"#'Client Details'!$B$1\",\"Details\")","v":"Details"},{"$f":"HYPERLINK(Options!$B$1, \"Quote\")","v":"Quote"},{"$f":"HYPERLINK(Options!$B$2,\"Fax\")","v":"Fax"}]
["Consumers Energy Manistee Service Center","Jeff Kelley",null,null,null,"Utility","Mason",null,{"$f":"HYPERLINK(\"#'Client Details'!$B$1\",\"Details\")","v":"Details"},{"$f":"HYPERLINK(Options!$B$1, \"Quote\")","v":"Quote"},{"$f":"HYPERLINK(Options!$B$2,\"Fax\")","v":"Fax"}]
["Consumers Energy Marysville (Wesch)","John Wesch"," 810-388-2108",null,"Safety Director","Utility","St. Clair",null,{"$f":"HYPERLINK(\"#'Client Details'!$B$1\",\"Details\")","v":"Details"},{"$f":"HYPERLINK(Options!$B$1, \"Quote\")","v":"Quote"},{"$f":"HYPERLINK(Options!$B$2,\"Fax\")","v":"Fax"}]
["Consumers Energy Purchasing (Barrett)","Andy Barrett"," 517-768-2511","agbarrett@cmsenergy.com","Supply Chain Analyst","Utility","Jackson",null,{"$f":"HYPERLINK(\"#'Client Details'!$B$1\",\"Details\")","v":"Details"},{"$f":"HYPERLINK(Options!$B$1, \"Quote\")","v":"Quote"},{"$f":"HYPERLINK(Options!$B$2,\"Fax\")","v":"Fax"}]
["Consumers Energy Sparta Service Center (B","Don Bucholtz"," 616-606-6103","djbucholtz@cmsenergy.com","Supervisor","Consumers Service","Kent",null,{"$f":"HYPERLINK(\"#'Client Details'!$B$1\",\"Details\")","v":"Details"},{"$f":"HYPERLINK(Options!$B$1, \"Quote\")","v":"Quote"},{"$f":"HYPERLINK(Options!$B$2,\"Fax\")","v":"Fax"}]
["Consumers Energy Sub Metro (Czekaj)","Ken Czekaj"," 616-530-4419","kmczekaj@cmsenergy.com",null,"Utility","Kent",null,{"$f":"HYPERLINK(\"#'Client Details'!$B$1\",\"Details\")","v":"Details"},{"$f":"HYPERLINK(Options!$B$1, \"Quote\")","v":"Quote"},{"$f":"HYPERLINK(Options!$B$2,\"Fax\")","v":"Fax"}]
["Consumers Energy Trail Street (Dayton)","Roger Dayton"," 517-788-2319","radayton@cmsenergy.com","Technician","Utility","Jackson",null,{"$f":"HYPERLINK(\"#'Client Details'!$B$1\",\"Details\")","v":"Details"},{"$f":"HYPERLINK(Options!$B$1, \"Quote\")","v":"Quote"},{"$f":"HYPERLINK(Options!$B$2,\"Fax\")","v":"Fax"}]
["Consumers Energy Trail Street (Sawyer)","Robert Sawyer"," 517-788-8917",null,"Operations Supervisor","Utility","Jackson",null,{"$f":"HYPERLINK(\"#'Client Details'!$B$1\",\"Details\")","v":"Details"},{"$f":"HYPERLINK(Options!$B$1, \"Quote\")","v":"Quote"},{"$f":"HYPERLINK(Options!$B$2,\"Fax\")","v":"Fax"}]
["Consumers Energy Whiting (Sims)","Lance Sims"," 734-848-2647","dmsims@cmsenergy.com",null,"Utility","Monroe",null,{"$f":"HYPERLINK(\"#'Client Details'!$B$1\",\"Details\")","v":"Details"},{"$f":"HYPERLINK(Options!$B$1, \"Quote\")","v":"Quote"},{"$f":"HYPERLINK(Options!$B$2,\"Fax\")","v":"Fax"}]
["Consumers Energy Zeeland Power (Anderson)","Cory Anderson"," 616-772-6641",null,"O&M Supt. / Plant Engineer",null,"Ottawa",null,{"$f":"HYPERLINK(\"#'Client Details'!$B$1\",\"Details\")","v":"Details"},{"$f":"HYPERLINK(Options!$B$1, \"Quote\")","v":"Quote"},{"$f":"HYPERLINK(Options!$B$2,\"Fax\")","v":"Fax"}]
["Consumers Energy Zeeland Power (Freese)","Scott Freese"," 616-772-6641","scott.freese@mirant.com",null,"Utility","Ottawa",null,{"$f":"HYPERLINK(\"#'Client Details'!$B$1\",\"Details\")","v":"Details"},{"$f":"HYPERLINK(Options!$B$1, \"Quote\")","v":"Quote"},{"$f":"HYPERLINK(Options!$B$2,\"Fax\")","v":"Fax"}]
["Consumers Energy Zeeland Power (Heeres)","Gordon Heeres"," 616-772-6641","gordon.heeres@mirant.com",null,"Utility","Ottawa",null,{"$f":"HYPERLINK(\"#'Client Details'!$B$1\",\"Details\")","v":"Details"},{"$f":"HYPERLINK(Options!$B$1, \"Quote\")","v":"Quote"},{"$f":"HYPERLINK(Options!$B$2,\"Fax\")","v":"Fax"}]
["Consumers Energy Zeeland Power (Keefe)","George Keefe"," 616-772-6641",null,"Plant Manager",null,"Ottawa",null,{"$f":"HYPERLINK(\"#'Client Details'!$B$1\",\"Details\")","v":"Details"},{"$f":"HYPERLINK(Options!$B$1, \"Quote\")","v":"Quote"},{"$f":"HYPERLINK(Options!$B$2,\"Fax\")","v":"Fax"}]
["Consumers Energy Zeeland Power (Manning)","J. Homer Manning III"," 616-237-4004","jhmanning@cmsenergy.com","EH&S Specialist","Utility","Ottawa",null,{"$f":"HYPERLINK(\"#'Client Details'!$B$1\",\"Details\")","v":"Details"},{"$f":"HYPERLINK(Options!$B$1, \"Quote\")","v":"Quote"},{"$f":"HYPERLINK(Options!$B$2,\"Fax\")","v":"Fax"}]
["Consumers Energy, Hoyt Street (Philips)","Robert"," 231-727-6525","rwphilips@cmsenergy.com","Sr. Safety & Health Consultant","Utility","Jackson",null,{"$f":"HYPERLINK(\"#'Client Details'!$B$1\",\"Details\")","v":"Details"},{"$f":"HYPERLINK(Options!$B$1, \"Quote\")","v":"Quote"},{"$f":"HYPERLINK(Options!$B$2,\"Fax\")","v":"Fax"}]
["Consumers Energy, Hoyt Street (Reinhardt)","Tom Reinhardt"," 231-727-6500","tmreinhardt@cmsenergy.com","Trainer","Utility","Muskegon",null,{"$f":"HYPERLINK(\"#'Client Details'!$B$1\",\"Details\")","v":"Details"},{"$f":"HYPERLINK(Options!$B$1, \"Quote\")","v":"Quote"},{"$f":"HYPERLINK(Options!$B$2,\"Fax\")","v":"Fax"}]
["Conti Corporation (Gonzalez)","Aldo Gonzalez"," 908-791-4825","agonzalez@conticorp.com",null,"Contractor General","Out of State",null,{"$f":"HYPERLINK(\"#'Client Details'!$B$1\",\"Details\")","v":"Details"},{"$f":"HYPERLINK(Options!$B$1, \"Quote\")","v":"Quote"},{"$f":"HYPERLINK(Options!$B$2,\"Fax\")","v":"Fax"}]
["Continental Dairy (Loyd)","Carl Loyd"," 616-837-7641 314","cloyd@csfacilitiesllc.com",null,"Food","Ottawa",null,{"$f":"HYPERLINK(\"#'Client Details'!$B$1\",\"Details\")","v":"Details"},{"$f":"HYPERLINK(Options!$B$1, \"Quote\")","v":"Quote"},{"$f":"HYPERLINK(Options!$B$2,\"Fax\")","v":"Fax"}]
["Controlled Tooling Systems Inc.",null,"616-784-7513",null,null,null,null,null,{"$f":"HYPERLINK(\"#'Client Details'!$B$1\",\"Details\")","v":"Details"},{"$f":"HYPERLINK(Options!$B$1, \"Quote\")","v":"Quote"},{"$f":"HYPERLINK(Options!$B$2,\"Fax\")","v":"Fax"}]
["Controlled Tooling Systems Inc. (Deeds)","Cory Deeds"," 616-453-0954","cdeeds@toolingsystemsgroup.com",null,"Engineering, Architecture","Kent",null,{"$f":"HYPERLINK(\"#'Client Details'!$B$1\",\"Details\")","v":"Details"},{"$f":"HYPERLINK(Options!$B$1, \"Quote\")","v":"Quote"},{"$f":"HYPERLINK(Options!$B$2,\"Fax\")","v":"Fax"}]
["Controlled Tooling Systems Inc. (McHenry)","Mike McHenry"," 616-453-0954","mmchenry@toolingsystemsgroup.com","Senior Controls Engineer","Engineering, Architecture","Kent",null,{"$f":"HYPERLINK(\"#'Client Details'!$B$1\",\"Details\")","v":"Details"},{"$f":"HYPERLINK(Options!$B$1, \"Quote\")","v":"Quote"},{"$f":"HYPERLINK(Options!$B$2,\"Fax\")","v":"Fax"}]
["Cook Inlet Pipe Line Co.","Mike Patterson","907-776-6800 x103",null,null,null,null,null,{"$f":"HYPERLINK(\"#'Client Details'!$B$1\",\"Details\")","v":"Details"},{"$f":"HYPERLINK(Options!$B$1, \"Quote\")","v":"Quote"},{"$f":"HYPERLINK(Options!$B$2,\"Fax\")","v":"Fax"}]
["Cook Inlet Pipe Line Company (Patterson)","Michael Patterson"," 907-776-6800 103","pattersonm@unocal.com","Sr. Advising HES Specialist","Petroleum Related","Out of State",null,{"$f":"HYPERLINK(\"#'Client Details'!$B$1\",\"Details\")","v":"Details"},{"$f":"HYPERLINK(Options!$B$1, \"Quote\")","v":"Quote"},{"$f":"HYPERLINK(Options!$B$2,\"Fax\")","v":"Fax"}]
["Cook Inlet Pipe Line Company-Drift River","Michael Patterson","907-776-6800 x103",null,null,null,null,null,{"$f":"HYPERLINK(\"#'Client Details'!$B$1\",\"Details\")","v":"Details"},{"$f":"HYPERLINK(Options!$B$1, \"Quote\")","v":"Quote"},{"$f":"HYPERLINK(Options!$B$2,\"Fax\")","v":"Fax"}]
["Cook-Devos",null,null,null,null,null,null,null,{"$f":"HYPERLINK(\"#'Client Details'!$B$1\",\"Details\")","v":"Details"},{"$f":"HYPERLINK(Options!$B$1, \"Quote\")","v":"Quote"},{"$f":"HYPERLINK(Options!$B$2,\"Fax\")","v":"Fax"}]
["Cooper Farms (Fort Recovery)","Lisa Timmerman","419-375-4116 General",null,null,null,null,null,{"$f":"HYPERLINK(\"#'Client Details'!$B$1\",\"Details\")","v":"Details"},{"$f":"HYPERLINK(Options!$B$1, \"Quote\")","v":"Quote"},{"$f":"HYPERLINK(Options!$B$2,\"Fax\")","v":"Fax"}]
["Cooper-Standard Automotive","Crystal Augustine","989-732-0175","caaugustine@cooperstandard.com",null,null,null,null,{"$f":"HYPERLINK(\"#'Client Details'!$B$1\",\"Details\")","v":"Details"},{"$f":"HYPERLINK(Options!$B$1, \"Quote\")","v":"Quote"},{"$f":"HYPERLINK(Options!$B$2,\"Fax\")","v":"Fax"}]
["Coopersville Polkton Fire Department (Wal","Lee Waldie"," 616-997-5847",null,"Fire Chief","Fire Department","Ottawa",null,{"$f":"HYPERLINK(\"#'Client Details'!$B$1\",\"Details\")","v":"Details"},{"$f":"HYPERLINK(Options!$B$1, \"Quote\")","v":"Quote"},{"$f":"HYPERLINK(Options!$B$2,\"Fax\")","v":"Fax"}]
["Coopersville WWTP","Steve Luke","616-997-9731",null,null,null,null,null,{"$f":"HYPERLINK(\"#'Client Details'!$B$1\",\"Details\")","v":"Details"},{"$f":"HYPERLINK(Options!$B$1, \"Quote\")","v":"Quote"},{"$f":"HYPERLINK(Options!$B$2,\"Fax\")","v":"Fax"}]
["Coopersville WWTP (Luke)","Steve Luke"," 616-997-9731",null,"Supervisor",null,"Ottawa",null,{"$f":"HYPERLINK(\"#'Client Details'!$B$1\",\"Details\")","v":"Details"},{"$f":"HYPERLINK(Options!$B$1, \"Quote\")","v":"Quote"},{"$f":"HYPERLINK(Options!$B$2,\"Fax\")","v":"Fax"}]
["Coopersville, City of (Luke)","Steve Luke"," 616-997-9731","sluke@cityofcoopersville.com","Superintendent WWTP",null,"Ottawa",null,{"$f":"HYPERLINK(\"#'Client Details'!$B$1\",\"Details\")","v":"Details"},{"$f":"HYPERLINK(Options!$B$1, \"Quote\")","v":"Quote"},{"$f":"HYPERLINK(Options!$B$2,\"Fax\")","v":"Fax"}]
["Coopersville, City of (Ortquist)","Ken Ortquist"," 616-997-9731","kortq.comuist@cityofcoopersville","Superintendent DPW",null,"Ottawa",null,{"$f":"HYPERLINK(\"#'Client Details'!$B$1\",\"Details\")","v":"Details"},{"$f":"HYPERLINK(Options!$B$1, \"Quote\")","v":"Quote"},{"$f":"HYPERLINK(Options!$B$2,\"Fax\")","v":"Fax"}]
["Coopersville, City of (Pelkey)","Stephanie Pelkey"," 616-997-9731","spelkey@cityofcoopersville.com","City Clerk","Municipal, Cty","Ottawa",null,{"$f":"HYPERLINK(\"#'Client Details'!$B$1\",\"Details\")","v":"Details"},{"$f":"HYPERLINK(Options!$B$1, \"Quote\")","v":"Quote"},{"$f":"HYPERLINK(Options!$B$2,\"Fax\")","v":"Fax"}]
["Cornerstone Safety of Sargent Electric (N","Joe Nichols"," 412-394-7603","jnichols@sargent.com",null,"Competitor","Out of State",null,{"$f":"HYPERLINK(\"#'Client Details'!$B$1\",\"Details\")","v":"Details"},{"$f":"HYPERLINK(Options!$B$1, \"Quote\")","v":"Quote"},{"$f":"HYPERLINK(Options!$B$2,\"Fax\")","v":"Fax"}]
["Cornerstone Safety Products","Joe Nichols","412-394-7603 Joe",null,null,null,null,null,{"$f":"HYPERLINK(\"#'Client Details'!$B$1\",\"Details\")","v":"Details"},{"$f":"HYPERLINK(Options!$B$1, \"Quote\")","v":"Quote"},{"$f":"HYPERLINK(Options!$B$2,\"Fax\")","v":"Fax"}]
["CoroTech Co.","Jeff Dills","616-456-5552",null,null,null,null,null,{"$f":"HYPERLINK(\"#'Client Details'!$B$1\",\"Details\")","v":"Details"},{"$f":"HYPERLINK(Options!$B$1, \"Quote\")","v":"Quote"},{"$f":"HYPERLINK(Options!$B$2,\"Fax\")","v":"Fax"}]
["CoroTech Co. - (FRP)","Ken Kensington","616-456-5552",null,null,null,null,null,{"$f":"HYPERLINK(\"#'Client Details'!$B$1\",\"Details\")","v":"Details"},{"$f":"HYPERLINK(Options!$B$1, \"Quote\")","v":"Quote"},{"$f":"HYPERLINK(Options!$B$2,\"Fax\")","v":"Fax"}]
["CoroTech Co. (Dills)","Jeff Dills"," 616-456-5552","jdills@corotech.com",null,"Contractor General","Kent",null,{"$f":"HYPERLINK(\"#'Client Details'!$B$1\",\"Details\")","v":"Details"},{"$f":"HYPERLINK(Options!$B$1, \"Quote\")","v":"Quote"},{"$f":"HYPERLINK(Options!$B$2,\"Fax\")","v":"Fax"}]
["Correct Mechanical Services (Moelker)","Russ Moelker"," 616-534-6719",null,null,null,"Ottawa",null,{"$f":"HYPERLINK(\"#'Client Details'!$B$1\",\"Details\")","v":"Details"},{"$f":"HYPERLINK(Options!$B$1, \"Quote\")","v":"Quote"},{"$f":"HYPERLINK(Options!$B$2,\"Fax\")","v":"Fax"}]
["CorrPro Companies, Inc.","Mike Celasko","330-723-5082 x-1359",null,null,null,null,null,{"$f":"HYPERLINK(\"#'Client Details'!$B$1\",\"Details\")","v":"Details"},{"$f":"HYPERLINK(Options!$B$1, \"Quote\")","v":"Quote"},{"$f":"HYPERLINK(Options!$B$2,\"Fax\")","v":"Fax"}]
["CorrPro Companies, Inc. (Brabson)","Todd Brabson"," 330-723-5082 1399","tbrabson@corrpro.com",null,null,"Out of State",null,{"$f":"HYPERLINK(\"#'Client Details'!$B$1\",\"Details\")","v":"Details"},{"$f":"HYPERLINK(Options!$B$1, \"Quote\")","v":"Quote"},{"$f":"HYPERLINK(Options!$B$2,\"Fax\")","v":"Fax"}]
["CorrPro Companies, Inc. (Celasko)","Mike Celasko"," 330-723-5082 1351",null,null,"Contractor General","Out of State",null,{"$f":"HYPERLINK(\"#'Client Details'!$B$1\",\"Details\")","v":"Details"},{"$f":"HYPERLINK(Options!$B$1, \"Quote\")","v":"Quote"},{"$f":"HYPERLINK(Options!$B$2,\"Fax\")","v":"Fax"}]
["Country Fresh  A Dean Foods Company (O'Co","Dick O'Connell"," 616-243-0173 2324","dick_oconnell@deanfoods.com",null,"Food","Kent",null,{"$f":"HYPERLINK(\"#'Client Details'!$B$1\",\"Details\")","v":"Details"},{"$f":"HYPERLINK(Options!$B$1, \"Quote\")","v":"Quote"},{"$f":"HYPERLINK(Options!$B$2,\"Fax\")","v":"Fax"}]
["Country Fresh, Inc.","Gail","514-5343",null,null,null,null,null,{"$f":"HYPERLINK(\"#'Client Details'!$B$1\",\"Details\")","v":"Details"},{"$f":"HYPERLINK(Options!$B$1, \"Quote\")","v":"Quote"},{"$f":"HYPERLINK(Options!$B$2,\"Fax\")","v":"Fax"}]
["Country Fresh, Inc. (Flint)","Ed Groth","810-232-9193 x1165",null,null,null,null,null,{"$f":"HYPERLINK(\"#'Client Details'!$B$1\",\"Details\")","v":"Details"},{"$f":"HYPERLINK(Options!$B$1, \"Quote\")","v":"Quote"},{"$f":"HYPERLINK(Options!$B$2,\"Fax\")","v":"Fax"}]
["Countryfresh (Flint)","Ed Groth","810-232-9193",null,null,null,null,null,{"$f":"HYPERLINK(\"#'Client Details'!$B$1\",\"Details\")","v":"Details"},{"$f":"HYPERLINK(Options!$B$1, \"Quote\")","v":"Quote"},{"$f":"HYPERLINK(Options!$B$2,\"Fax\")","v":"Fax"}]
["County of Ottawa Emergency Response (Phil","Dianne Phillips"," 616-738-4051","dphillips@miottawa.org","LEPC Coordinator","Municipal, Cty Pub Safety","Ottawa",null,{"$f":"HYPERLINK(\"#'Client Details'!$B$1\",\"Details\")","v":"Details"},{"$f":"HYPERLINK(Options!$B$1, \"Quote\")","v":"Quote"},{"$f":"HYPERLINK(Options!$B$2,\"Fax\")","v":"Fax"}]
["Covance (Hover)","Steve Hover"," 269-375-0482 25",null,null,null,"Kalamazoo",null,{"$f":"HYPERLINK(\"#'Client Details'!$B$1\",\"Details\")","v":"Details"},{"$f":"HYPERLINK(Options!$B$1, \"Quote\")","v":"Quote"},{"$f":"HYPERLINK(Options!$B$2,\"Fax\")","v":"Fax"}]
["Covanta Energy","Andy Pelton","235-3210 work",null,null,null,null,null,{"$f":"HYPERLINK(\"#'Client Details'!$B$1\",\"Details\")","v":"Details"},{"$f":"HYPERLINK(Options!$B$1, \"Quote\")","v":"Quote"},{"$f":"HYPERLINK(Options!$B$2,\"Fax\")","v":"Fax"}]
["Covanta Kent, Inc. (Houn)","Mark Houn"," 616-235-3210","mhoun@covantaenergy.com","Safety Coordinator","Utility","Kent",null,{"$f":"HYPERLINK(\"#'Client Details'!$B$1\",\"Details\")","v":"Details"},{"$f":"HYPERLINK(Options!$B$1, \"Quote\")","v":"Quote"},{"$f":"HYPERLINK(Options!$B$2,\"Fax\")","v":"Fax"}]
["Covanta Kent, Inc. (Kent)","Brian Kent"," 616-235-3210","bkent@covantaenergy.com","Facility Manager","Utility","Kent",null,{"$f":"HYPERLINK(\"#'Client Details'!$B$1\",\"Details\")","v":"Details"},{"$f":"HYPERLINK(Options!$B$1, \"Quote\")","v":"Quote"},{"$f":"HYPERLINK(Options!$B$2,\"Fax\")","v":"Fax"}]
["Covert Generating Company (Ray)","Bucky Ray"," 269-764-3804","bray@tpfholdings.com","EH&S","Utility","Allegan",null,{"$f":"HYPERLINK(\"#'Client Details'!$B$1\",\"Details\")","v":"Details"},{"$f":"HYPERLINK(Options!$B$1, \"Quote\")","v":"Quote"},{"$f":"HYPERLINK(Options!$B$2,\"Fax\")","v":"Fax"}]
["Covert Generating Facility, Div. of NAES",null,"269-764-3800",null,null,null,null,null,{"$f":"HYPERLINK(\"#'Client Details'!$B$1\",\"Details\")","v":"Details"},{"$f":"HYPERLINK(Options!$B$1, \"Quote\")","v":"Quote"},{"$f":"HYPERLINK(Options!$B$2,\"Fax\")","v":"Fax"}]
["Covert Twp Fire Department (Florey)","Dawn Florey"," 269-764-1768","dtflorey@hotmail.com",null,null,"Allegan",null,{"$f":"HYPERLINK(\"#'Client Details'!$B$1\",\"Details\")","v":"Details"},{"$f":"HYPERLINK(Options!$B$1, \"Quote\")","v":"Quote"},{"$f":"HYPERLINK(Options!$B$2,\"Fax\")","v":"Fax"}]
["CRA Services Conestoga-Rovers (Bauman)","Waye Bauman"," 269-344-1230","wbauman@craworld.com","National Construction Manager","Contractor EH&S","Kalamazoo",null,{"$f":"HYPERLINK(\"#'Client Details'!$B$1\",\"Details\")","v":"Details"},{"$f":"HYPERLINK(Options!$B$1, \"Quote\")","v":"Quote"},{"$f":"HYPERLINK(Options!$B$2,\"Fax\")","v":"Fax"}]
["Cranberry Twp. Volunteer Fire Co.","Chris DeCree","724-776-1196",null,null,null,null,null,{"$f":"HYPERLINK(\"#'Client Details'!$B$1\",\"Details\")","v":"Details"},{"$f":"HYPERLINK(Options!$B$1, \"Quote\")","v":"Quote"},{"$f":"HYPERLINK(Options!$B$2,\"Fax\")","v":"Fax"}]
["Creme Curls Bakery Inc. (Bierling)","Gary Bierling"," 616-699-6240",null,"Safety & Compliance Manager","Food","Ottawa",null,{"$f":"HYPERLINK(\"#'Client Details'!$B$1\",\"Details\")","v":"Details"},{"$f":"HYPERLINK(Options!$B$1, \"Quote\")","v":"Quote"},{"$f":"HYPERLINK(Options!$B$2,\"Fax\")","v":"Fax"}]
["Cripps Fontaine Excavating, Inc. (Fontain","Curt Fontaine"," 269-342-1088",null,"Safety Manager","Contractor, Excavator","Kalamazoo",null,{"$f":"HYPERLINK(\"#'Client Details'!$B$1\",\"Details\")","v":"Details"},{"$f":"HYPERLINK(Options!$B$1, \"Quote\")","v":"Quote"},{"$f":"HYPERLINK(Options!$B$2,\"Fax\")","v":"Fax"}]
["Cromwell Mechanical, LLC","Bob Conkey","216-373-7378","bob@cromwellmechanical.com",null,null,null,null,{"$f":"HYPERLINK(\"#'Client Details'!$B$1\",\"Details\")","v":"Details"},{"$f":"HYPERLINK(Options!$B$1, \"Quote\")","v":"Quote"},{"$f":"HYPERLINK(Options!$B$2,\"Fax\")","v":"Fax"}]
["Crooksville Fire Department","Chief Fred Redfern","740-982-3081",null,null,null,null,null,{"$f":"HYPERLINK(\"#'Client Details'!$B$1\",\"Details\")","v":"Details"},{"$f":"HYPERLINK(Options!$B$1, \"Quote\")","v":"Quote"},{"$f":"HYPERLINK(Options!$B$2,\"Fax\")","v":"Fax"}]
["Crooksville Fire Department (Redfern)","Fred Redfern"," 740-982-3081",null,"Fire Chief","Fire Department","Out of State",null,{"$f":"HYPERLINK(\"#'Client Details'!$B$1\",\"Details\")","v":"Details"},{"$f":"HYPERLINK(Options!$B$1, \"Quote\")","v":"Quote"},{"$f":"HYPERLINK(Options!$B$2,\"Fax\")","v":"Fax"}]
["Crossroads Charter Academy","Trudi Green","231-796-61471",null,null,null,null,null,{"$f":"HYPERLINK(\"#'Client Details'!$B$1\",\"Details\")","v":"Details"},{"$f":"HYPERLINK(Options!$B$1, \"Quote\")","v":"Quote"},{"$f":"HYPERLINK(Options!$B$2,\"Fax\")","v":"Fax"}]
["Croswell WWTP, City of","Dave Steele","810-679-2459",null,null,null,null,null,{"$f":"HYPERLINK(\"#'Client Details'!$B$1\",\"Details\")","v":"Details"},{"$f":"HYPERLINK(Options!$B$1, \"Quote\")","v":"Quote"},{"$f":"HYPERLINK(Options!$B$2,\"Fax\")","v":"Fax"}]
["Croswell WWTP, City of (Steele)","Dave Steele"," 810-679-2459","wwtp4@sbcglobal.net",null,"Municipal, Cty","Sanilac",null,{"$f":"HYPERLINK(\"#'Client Details'!$B$1\",\"Details\")","v":"Details"},{"$f":"HYPERLINK(Options!$B$1, \"Quote\")","v":"Quote"},{"$f":"HYPERLINK(Options!$B$2,\"Fax\")","v":"Fax"}]
["Crystal Mountain Resort","Pam Dunham ext.3500","800-968-7686",null,null,null,null,null,{"$f":"HYPERLINK(\"#'Client Details'!$B$1\",\"Details\")","v":"Details"},{"$f":"HYPERLINK(Options!$B$1, \"Quote\")","v":"Quote"},{"$f":"HYPERLINK(Options!$B$2,\"Fax\")","v":"Fax"}]
["CSM Group (Klok)","Dave Klok"," 269-746-5600",null,null,"Contractor EH&S","Kalamazoo",null,{"$f":"HYPERLINK(\"#'Client Details'!$B$1\",\"Details\")","v":"Details"},{"$f":"HYPERLINK(Options!$B$1, \"Quote\")","v":"Quote"},{"$f":"HYPERLINK(Options!$B$2,\"Fax\")","v":"Fax"}]
["CTI - Capital Technologies International","John Rodaitis","412-805-0590",null,null,null,null,null,{"$f":"HYPERLINK(\"#'Client Details'!$B$1\",\"Details\")","v":"Details"},{"$f":"HYPERLINK(Options!$B$1, \"Quote\")","v":"Quote"},{"$f":"HYPERLINK(Options!$B$2,\"Fax\")","v":"Fax"}]
["CTS Construction","Donnie Oakes","513-489-8290","doakes@ctstelecomm.com",null,null,null,null,{"$f":"HYPERLINK(\"#'Client Details'!$B$1\",\"Details\")","v":"Details"},{"$f":"HYPERLINK(Options!$B$1, \"Quote\")","v":"Quote"},{"$f":"HYPERLINK(Options!$B$2,\"Fax\")","v":"Fax"}]
["CTS Construction (Oakes)","Donnie Oakes"," 513-489-8290","doakes@ctstelecomm.com",null,"Contractor Electrical","Out of State",null,{"$f":"HYPERLINK(\"#'Client Details'!$B$1\",\"Details\")","v":"Details"},{"$f":"HYPERLINK(Options!$B$1, \"Quote\")","v":"Quote"},{"$f":"HYPERLINK(Options!$B$2,\"Fax\")","v":"Fax"}]
["CTS Construction (Thornville)","Donnie Oaks","740-323-9435 thnville",null,null,null,null,null,{"$f":"HYPERLINK(\"#'Client Details'!$B$1\",\"Details\")","v":"Details"},{"$f":"HYPERLINK(Options!$B$1, \"Quote\")","v":"Quote"},{"$f":"HYPERLINK(Options!$B$2,\"Fax\")","v":"Fax"}]
["Cumberland Trail Fire Destrict #4","Ken Saffell","740-695-5147",null,null,null,null,null,{"$f":"HYPERLINK(\"#'Client Details'!$B$1\",\"Details\")","v":"Details"},{"$f":"HYPERLINK(Options!$B$1, \"Quote\")","v":"Quote"},{"$f":"HYPERLINK(Options!$B$2,\"Fax\")","v":"Fax"}]
["Cummins & Barnard (Bergdolt)","Steve Bergdolt"," 734-761-9130","sbergdolt@cummins-barnard.com",null,"Engineering, Architecture","Washtenaw",null,{"$f":"HYPERLINK(\"#'Client Details'!$B$1\",\"Details\")","v":"Details"},{"$f":"HYPERLINK(Options!$B$1, \"Quote\")","v":"Quote"},{"$f":"HYPERLINK(Options!$B$2,\"Fax\")","v":"Fax"}]
["Curries Company (Neuwohner)","Jeff Neuwohner"," 866-350-1938 702","jeff.neuwohner@doorgroup.com",null,"Manufacturer","Out of State",null,{"$f":"HYPERLINK(\"#'Client Details'!$B$1\",\"Details\")","v":"Details"},{"$f":"HYPERLINK(Options!$B$1, \"Quote\")","v":"Quote"},{"$f":"HYPERLINK(Options!$B$2,\"Fax\")","v":"Fax"}]
["CURRIES Division of AADG Inc.","Jeff Neuwohner","866-350-1938",null,null,null,null,null,{"$f":"HYPERLINK(\"#'Client Details'!$B$1\",\"Details\")","v":"Details"},{"$f":"HYPERLINK(Options!$B$1, \"Quote\")","v":"Quote"},{"$f":"HYPERLINK(Options!$B$2,\"Fax\")","v":"Fax"}]
["Custom Rooling Systems, Inc. (Bouwkamp)","John Bouwkamp"," 616-748-9880",null,"President",null,"Ottawa",null,{"$f":"HYPERLINK(\"#'Client Details'!$B$1\",\"Details\")","v":"Details"},{"$f":"HYPERLINK(Options!$B$1, \"Quote\")","v":"Quote"},{"$f":"HYPERLINK(Options!$B$2,\"Fax\")","v":"Fax"}]
["Custom Tooling Systems, Inc. (Runyon)","Tom Runyon"," 616-748-9881",null,"Safety","Manufacturer","Ottawa",null,{"$f":"HYPERLINK(\"#'Client Details'!$B$1\",\"Details\")","v":"Details"},{"$f":"HYPERLINK(Options!$B$1, \"Quote\")","v":"Quote"},{"$f":"HYPERLINK(Options!$B$2,\"Fax\")","v":"Fax"}]
["Cutlerville Fire Department (Jansen)","Russ Jansen"," 616-455-7670","duttonfire@yahoo.com","Fire Chief","Fire Department","Kent",null,{"$f":"HYPERLINK(\"#'Client Details'!$B$1\",\"Details\")","v":"Details"},{"$f":"HYPERLINK(Options!$B$1, \"Quote\")","v":"Quote"},{"$f":"HYPERLINK(Options!$B$2,\"Fax\")","v":"Fax"}]
["CWC Textron","Pat Runyan",null,null,null,null,null,null,{"$f":"HYPERLINK(\"#'Client Details'!$B$1\",\"Details\")","v":"Details"},{"$f":"HYPERLINK(Options!$B$1, \"Quote\")","v":"Quote"},{"$f":"HYPERLINK(Options!$B$2,\"Fax\")","v":"Fax"}]
["Cytec Engineered Materials","Linda Abruntilla(Sr Buyer)","714-666-4301","Linda.Abruntilla@cytec.com",null,null,null,null,{"$f":"HYPERLINK(\"#'Client Details'!$B$1\",\"Details\")","v":"Details"},{"$f":"HYPERLINK(Options!$B$1, \"Quote\")","v":"Quote"},{"$f":"HYPERLINK(Options!$B$2,\"Fax\")","v":"Fax"}]
["Cytec Engineered Materials (Rooney)","Russ Rooney"," 714-688-4472","Russell.Rooney@cytec.com","Operations Manager","Chemical Pharmaceutical","Out of State",null,{"$f":"HYPERLINK(\"#'Client Details'!$B$1\",\"Details\")","v":"Details"},{"$f":"HYPERLINK(Options!$B$1, \"Quote\")","v":"Quote"},{"$f":"HYPERLINK(Options!$B$2,\"Fax\")","v":"Fax"}]
["Cytec Industries Inc. (Kalamazoo)","E. Daniel Traugott","269-385-1243",null,null,null,null,null,{"$f":"HYPERLINK(\"#'Client Details'!$B$1\",\"Details\")","v":"Details"},{"$f":"HYPERLINK(Options!$B$1, \"Quote\")","v":"Quote"},{"$f":"HYPERLINK(Options!$B$2,\"Fax\")","v":"Fax"}]
["Cytec Industries Inc. (Traugott)","E. Daniel Traugott"," 269-385-1243",null,"Compliance Manager","Chemical Pharmaceutical","Van Buren",null,{"$f":"HYPERLINK(\"#'Client Details'!$B$1\",\"Details\")","v":"Details"},{"$f":"HYPERLINK(Options!$B$1, \"Quote\")","v":"Quote"},{"$f":"HYPERLINK(Options!$B$2,\"Fax\")","v":"Fax"}]
["D & K Engineering","Hilary O'Malley","616/453-2324",null,null,null,null,null,{"$f":"HYPERLINK(\"#'Client Details'!$B$1\",\"Details\")","v":"Details"},{"$f":"HYPERLINK(Options!$B$1, \"Quote\")","v":"Quote"},{"$f":"HYPERLINK(Options!$B$2,\"Fax\")","v":"Fax"}]
["D & W Mechanical","Dennis Flynn","231-941-1215",null,null,null,null,null,{"$f":"HYPERLINK(\"#'Client Details'!$B$1\",\"Details\")","v":"Details"},{"$f":"HYPERLINK(Options!$B$1, \"Quote\")","v":"Quote"},{"$f":"HYPERLINK(Options!$B$2,\"Fax\")","v":"Fax"}]
["D. A. Dodd  Mechanical","Justin Steinbeck","269-926-7873",null,null,null,null,null,{"$f":"HYPERLINK(\"#'Client Details'!$B$1\",\"Details\")","v":"Details"},{"$f":"HYPERLINK(Options!$B$1, \"Quote\")","v":"Quote"},{"$f":"HYPERLINK(Options!$B$2,\"Fax\")","v":"Fax"}]
["D.A.Dodd Mechanical (Boldt)","Jason Boldt"," 269-926-7873",null,"Operations Manager","Mechanical","Oceana",null,{"$f":"HYPERLINK(\"#'Client Details'!$B$1\",\"Details\")","v":"Details"},{"$f":"HYPERLINK(Options!$B$1, \"Quote\")","v":"Quote"},{"$f":"HYPERLINK(Options!$B$2,\"Fax\")","v":"Fax"}]
["D.A.Dodd Mechanical (Steinbeck)","Justin Steinbeck"," 269-926-7873","justins@dadodd.com","Site Supervisor","Mechanical","Oceana",null,{"$f":"HYPERLINK(\"#'Client Details'!$B$1\",\"Details\")","v":"Details"},{"$f":"HYPERLINK(Options!$B$1, \"Quote\")","v":"Quote"},{"$f":"HYPERLINK(Options!$B$2,\"Fax\")","v":"Fax"}]
["D.C. Cook Nuclear Power Plant (Harner)","John Harner"," 269-465-5901 2102",null,"EH&S Manager","Utility","Berrien",null,{"$f":"HYPERLINK(\"#'Client Details'!$B$1\",\"Details\")","v":"Details"},{"$f":"HYPERLINK(Options!$B$1, \"Quote\")","v":"Quote"},{"$f":"HYPERLINK(Options!$B$2,\"Fax\")","v":"Fax"}]
["D.C. Cook Nuclear Power Plant (Schalk)","Bill Schalk"," 269-465-6101",null,"General Contact","Utility","Berrien",null,{"$f":"HYPERLINK(\"#'Client Details'!$B$1\",\"Details\")","v":"Details"},{"$f":"HYPERLINK(Options!$B$1, \"Quote\")","v":"Quote"},{"$f":"HYPERLINK(Options!$B$2,\"Fax\")","v":"Fax"}]
["D.C. Cook Nuclear Power Plant (Woods)","Larry Woods"," 269-465-5901",null,"Safety Director","Utility","Berrien",null,{"$f":"HYPERLINK(\"#'Client Details'!$B$1\",\"Details\")","v":"Details"},{"$f":"HYPERLINK(Options!$B$1, \"Quote\")","v":"Quote"},{"$f":"HYPERLINK(Options!$B$2,\"Fax\")","v":"Fax"}]
["Dahti Technologies","Joe Ward","616-866-1489",null,null,null,null,null,{"$f":"HYPERLINK(\"#'Client Details'!$B$1\",\"Details\")","v":"Details"},{"$f":"HYPERLINK(Options!$B$1, \"Quote\")","v":"Quote"},{"$f":"HYPERLINK(Options!$B$2,\"Fax\")","v":"Fax"}]
["Daimler Chrysler Kenosha Engine Plant (Me","Jean Melvin"," 262-658-7737","jm66@dcx.com",null,"Automotive","Out of State",null,{"$f":"HYPERLINK(\"#'Client Details'!$B$1\",\"Details\")","v":"Details"},{"$f":"HYPERLINK(Options!$B$1, \"Quote\")","v":"Quote"},{"$f":"HYPERLINK(Options!$B$2,\"Fax\")","v":"Fax"}]
["Dake Corporation (Lindel)","Lanny Lindel"," 616-842-7110",null,"EH&S","Manufacturer","Ottawa",null,{"$f":"HYPERLINK(\"#'Client Details'!$B$1\",\"Details\")","v":"Details"},{"$f":"HYPERLINK(Options!$B$1, \"Quote\")","v":"Quote"},{"$f":"HYPERLINK(Options!$B$2,\"Fax\")","v":"Fax"}]
["Dale W. Hubbard Inc.","Brad Grahame","269-345-6000",null,null,null,null,null,{"$f":"HYPERLINK(\"#'Client Details'!$B$1\",\"Details\")","v":"Details"},{"$f":"HYPERLINK(Options!$B$1, \"Quote\")","v":"Quote"},{"$f":"HYPERLINK(Options!$B$2,\"Fax\")","v":"Fax"}]
["Damascus Township F.D.","Joel Ward","419-748-8777","dtfr700@bright.net",null,null,null,null,{"$f":"HYPERLINK(\"#'Client Details'!$B$1\",\"Details\")","v":"Details"},{"$f":"HYPERLINK(Options!$B$1, \"Quote\")","v":"Quote"},{"$f":"HYPERLINK(Options!$B$2,\"Fax\")","v":"Fax"}]
["Dan Hoe Excavating, Inc. (Maike)","Rich Maike"," 616-994-6388","richdanhoe@chartermi.net","Project Manager","Contractor, Excavator","Ottawa",null,{"$f":"HYPERLINK(\"#'Client Details'!$B$1\",\"Details\")","v":"Details"},{"$f":"HYPERLINK(Options!$B$1, \"Quote\")","v":"Quote"},{"$f":"HYPERLINK(Options!$B$2,\"Fax\")","v":"Fax"}]
["Dan Lemon",null,null,null,null,null,null,null,{"$f":"HYPERLINK(\"#'Client Details'!$B$1\",\"Details\")","v":"Details"},{"$f":"HYPERLINK(Options!$B$1, \"Quote\")","v":"Quote"},{"$f":"HYPERLINK(Options!$B$2,\"Fax\")","v":"Fax"}]
["Dan Lemon (Customer)",null,null,null,null,null,null,null,{"$f":"HYPERLINK(\"#'Client Details'!$B$1\",\"Details\")","v":"Details"},{"$f":"HYPERLINK(Options!$B$1, \"Quote\")","v":"Quote"},{"$f":"HYPERLINK(Options!$B$2,\"Fax\")","v":"Fax"}]
["Dan Valley Excavating","Tony Woodmansee","269-795-9321",null,null,null,null,null,{"$f":"HYPERLINK(\"#'Client Details'!$B$1\",\"Details\")","v":"Details"},{"$f":"HYPERLINK(Options!$B$1, \"Quote\")","v":"Quote"},{"$f":"HYPERLINK(Options!$B$2,\"Fax\")","v":"Fax"}]
["Dan Valley Excavating (Woodmansee)","Tony Woodmansee"," 269-795-9321",null,null,"Contractor, Excavator","Kent",null,{"$f":"HYPERLINK(\"#'Client Details'!$B$1\",\"Details\")","v":"Details"},{"$f":"HYPERLINK(Options!$B$1, \"Quote\")","v":"Quote"},{"$f":"HYPERLINK(Options!$B$2,\"Fax\")","v":"Fax"}]
["Dan Vos Construction Company","Dan Woltjer","616-676-9169",null,null,null,null,null,{"$f":"HYPERLINK(\"#'Client Details'!$B$1\",\"Details\")","v":"Details"},{"$f":"HYPERLINK(Options!$B$1, \"Quote\")","v":"Quote"},{"$f":"HYPERLINK(Options!$B$2,\"Fax\")","v":"Fax"}]
["Dan Vos Construction Company (Ellens)","Brad Ellens"," 616-676-9169","brade@danvoscc.com",null,"Contractor General","Kent",null,{"$f":"HYPERLINK(\"#'Client Details'!$B$1\",\"Details\")","v":"Details"},{"$f":"HYPERLINK(Options!$B$1, \"Quote\")","v":"Quote"},{"$f":"HYPERLINK(Options!$B$2,\"Fax\")","v":"Fax"}]
["Dan Vos Construction Company (Kuhlman)","Brian Kuhlman"," 616-676-9169","briank@danvoscc.com","Safety & Health Specialist","Contractor General","Kent",null,{"$f":"HYPERLINK(\"#'Client Details'!$B$1\",\"Details\")","v":"Details"},{"$f":"HYPERLINK(Options!$B$1, \"Quote\")","v":"Quote"},{"$f":"HYPERLINK(Options!$B$2,\"Fax\")","v":"Fax"}]
["Dan Vos Construction Company (Mattson)","Jonathan Mattson"," 616-676-9169","jonathanm@danvoscc.com",null,"Contractor General","Kent",null,{"$f":"HYPERLINK(\"#'Client Details'!$B$1\",\"Details\")","v":"Details"},{"$f":"HYPERLINK(Options!$B$1, \"Quote\")","v":"Quote"},{"$f":"HYPERLINK(Options!$B$2,\"Fax\")","v":"Fax"}]
["Dan Vos Construction Company (Nederveld)","Paul Nederveld"," 616-425-2883","pauln@danvoscc.com",null,"Contractor General","Kent",null,{"$f":"HYPERLINK(\"#'Client Details'!$B$1\",\"Details\")","v":"Details"},{"$f":"HYPERLINK(Options!$B$1, \"Quote\")","v":"Quote"},{"$f":"HYPERLINK(Options!$B$2,\"Fax\")","v":"Fax"}]
["Dan Vos Construction Company (Tiffany)","Lon Tiffany"," 616-676-9169","lont@danvoscc.com",null,"Contractor General","Kent",null,{"$f":"HYPERLINK(\"#'Client Details'!$B$1\",\"Details\")","v":"Details"},{"$f":"HYPERLINK(Options!$B$1, \"Quote\")","v":"Quote"},{"$f":"HYPERLINK(Options!$B$2,\"Fax\")","v":"Fax"}]
["Dan Vos Construction Company (Visser)","Ron Visser"," 616-676-9169","ronv@danvoscc.com",null,"Contractor General","Kent",null,{"$f":"HYPERLINK(\"#'Client Details'!$B$1\",\"Details\")","v":"Details"},{"$f":"HYPERLINK(Options!$B$1, \"Quote\")","v":"Quote"},{"$f":"HYPERLINK(Options!$B$2,\"Fax\")","v":"Fax"}]
["Daniel Kloosterman",null,null,null,null,null,null,null,{"$f":"HYPERLINK(\"#'Client Details'!$B$1\",\"Details\")","v":"Details"},{"$f":"HYPERLINK(Options!$B$1, \"Quote\")","v":"Quote"},{"$f":"HYPERLINK(Options!$B$2,\"Fax\")","v":"Fax"}]
["Daniel Safety Products (Daniel)","Mary Ann Daniel"," 800-910-3891",null,null,"Supplier","Out of State",null,{"$f":"HYPERLINK(\"#'Client Details'!$B$1\",\"Details\")","v":"Details"},{"$f":"HYPERLINK(Options!$B$1, \"Quote\")","v":"Quote"},{"$f":"HYPERLINK(Options!$B$2,\"Fax\")","v":"Fax"}]
["Daniel T Holman",null,null,null,null,null,null,null,{"$f":"HYPERLINK(\"#'Client Details'!$B$1\",\"Details\")","v":"Details"},{"$f":"HYPERLINK(Options!$B$1, \"Quote\")","v":"Quote"},{"$f":"HYPERLINK(Options!$B$2,\"Fax\")","v":"Fax"}]
["Darigold (Whitlock)","Andrew Whitlock"," 360-325-6555","andrew.whitlock@darigold.com","EH & S Manager","Food","Out of State",null,{"$f":"HYPERLINK(\"#'Client Details'!$B$1\",\"Details\")","v":"Details"},{"$f":"HYPERLINK(Options!$B$1, \"Quote\")","v":"Quote"},{"$f":"HYPERLINK(Options!$B$2,\"Fax\")","v":"Fax"}]
["Darling International (Chehowski)","Troy Chehowski"," 517-279-9731",null,"Garage Manager","Other","Branch",null,{"$f":"HYPERLINK(\"#'Client Details'!$B$1\",\"Details\")","v":"Details"},{"$f":"HYPERLINK(Options!$B$1, \"Quote\")","v":"Quote"},{"$f":"HYPERLINK(Options!$B$2,\"Fax\")","v":"Fax"}]
["Data Speed Inc.","Paul Fleck","248-828-8201",null,null,null,null,null,{"$f":"HYPERLINK(\"#'Client Details'!$B$1\",\"Details\")","v":"Details"},{"$f":"HYPERLINK(Options!$B$1, \"Quote\")","v":"Quote"},{"$f":"HYPERLINK(Options!$B$2,\"Fax\")","v":"Fax"}]
["Dave Cole Decorators","Larry","616-887-9465",null,null,null,null,null,{"$f":"HYPERLINK(\"#'Client Details'!$B$1\",\"Details\")","v":"Details"},{"$f":"HYPERLINK(Options!$B$1, \"Quote\")","v":"Quote"},{"$f":"HYPERLINK(Options!$B$2,\"Fax\")","v":"Fax"}]
["Dave Cole Decorators (Rosebrook)","Larry Rosebrook"," 616-887-9465","bob@dcd-inc.com","Safety Director","Contractor General","Kent",null,{"$f":"HYPERLINK(\"#'Client Details'!$B$1\",\"Details\")","v":"Details"},{"$f":"HYPERLINK(Options!$B$1, \"Quote\")","v":"Quote"},{"$f":"HYPERLINK(Options!$B$2,\"Fax\")","v":"Fax"}]
["Dave's Dozing (Wiersma)","Ray Wiersma"," 616-877-4882","tom@davesdozing.com",null,"Contractor, Excavator","Allegan",null,{"$f":"HYPERLINK(\"#'Client Details'!$B$1\",\"Details\")","v":"Details"},{"$f":"HYPERLINK(Options!$B$1, \"Quote\")","v":"Quote"},{"$f":"HYPERLINK(Options!$B$2,\"Fax\")","v":"Fax"}]
["Dave's Dozing, Inc.","Ray Wiersma","616-877-4882",null,null,null,null,null,{"$f":"HYPERLINK(\"#'Client Details'!$B$1\",\"Details\")","v":"Details"},{"$f":"HYPERLINK(Options!$B$1, \"Quote\")","v":"Quote"},{"$f":"HYPERLINK(Options!$B$2,\"Fax\")","v":"Fax"}]
["Davidson Plyforms, Inc.","Steve Kilbourn","616-956-0033",null,null,null,null,null,{"$f":"HYPERLINK(\"#'Client Details'!$B$1\",\"Details\")","v":"Details"},{"$f":"HYPERLINK(Options!$B$1, \"Quote\")","v":"Quote"},{"$f":"HYPERLINK(Options!$B$2,\"Fax\")","v":"Fax"}]
["Davidson Plyforms, Inc. (Kilbourn)","Steve Kilbourn"," 616-956-0033","skilbourn@plyforms.com",null,"Furniture","Kent",null,{"$f":"HYPERLINK(\"#'Client Details'!$B$1\",\"Details\")","v":"Details"},{"$f":"HYPERLINK(Options!$B$1, \"Quote\")","v":"Quote"},{"$f":"HYPERLINK(Options!$B$2,\"Fax\")","v":"Fax"}]
["Davidson Plyforms, Inc. (Vruggink)","Curt Vruggink"," 616-956-0033 370",null,null,"Furniture","Kent",null,{"$f":"HYPERLINK(\"#'Client Details'!$B$1\",\"Details\")","v":"Details"},{"$f":"HYPERLINK(Options!$B$1, \"Quote\")","v":"Quote"},{"$f":"HYPERLINK(Options!$B$2,\"Fax\")","v":"Fax"}]
["Davis Construction","Heather Hendges","517-322-3800 Lansing",null,null,null,null,null,{"$f":"HYPERLINK(\"#'Client Details'!$B$1\",\"Details\")","v":"Details"},{"$f":"HYPERLINK(Options!$B$1, \"Quote\")","v":"Quote"},{"$f":"HYPERLINK(Options!$B$2,\"Fax\")","v":"Fax"}]
["Davis Construction Company (Dunsmore)","Dean Dunsmore"," 517-322-3800",null,"Superintendent","Contractor General","Ingham",null,{"$f":"HYPERLINK(\"#'Client Details'!$B$1\",\"Details\")","v":"Details"},{"$f":"HYPERLINK(Options!$B$1, \"Quote\")","v":"Quote"},{"$f":"HYPERLINK(Options!$B$2,\"Fax\")","v":"Fax"}]
["Davis Construction Company (Hendges)","Heather Hendges"," 517-322-3800","heatherhendges@voyager.net","Safety Director","Contractor General","Ingham",null,{"$f":"HYPERLINK(\"#'Client Details'!$B$1\",\"Details\")","v":"Details"},{"$f":"HYPERLINK(Options!$B$1, \"Quote\")","v":"Quote"},{"$f":"HYPERLINK(Options!$B$2,\"Fax\")","v":"Fax"}]
["Davis Construction Company (Schafer)","Tim Schafer"," 616-456-0059",null,null,"Contractor General","Kent",null,{"$f":"HYPERLINK(\"#'Client Details'!$B$1\",\"Details\")","v":"Details"},{"$f":"HYPERLINK(Options!$B$1, \"Quote\")","v":"Quote"},{"$f":"HYPERLINK(Options!$B$2,\"Fax\")","v":"Fax"}]
["Davon Manufacturing (Davon)","Jeremy Davon"," 616-896-7888",null,"Owner's Son","Manufacturer","Ottawa",null,{"$f":"HYPERLINK(\"#'Client Details'!$B$1\",\"Details\")","v":"Details"},{"$f":"HYPERLINK(Options!$B$1, \"Quote\")","v":"Quote"},{"$f":"HYPERLINK(Options!$B$2,\"Fax\")","v":"Fax"}]
["Dawn Food Products","Bob Hite","517-789-4445",null,null,null,null,null,{"$f":"HYPERLINK(\"#'Client Details'!$B$1\",\"Details\")","v":"Details"},{"$f":"HYPERLINK(Options!$B$1, \"Quote\")","v":"Quote"},{"$f":"HYPERLINK(Options!$B$2,\"Fax\")","v":"Fax"}]
["Dawn Food Products (Hite)","Bob Hite"," 517-789-4445","bhite@dawnfoods.com","Safety Director","Food","Jackson",null,{"$f":"HYPERLINK(\"#'Client Details'!$B$1\",\"Details\")","v":"Details"},{"$f":"HYPERLINK(Options!$B$1, \"Quote\")","v":"Quote"},{"$f":"HYPERLINK(Options!$B$2,\"Fax\")","v":"Fax"}]
["Dawson Associates, Inc.",null,"770-963-0207",null,null,null,null,null,{"$f":"HYPERLINK(\"#'Client Details'!$B$1\",\"Details\")","v":"Details"},{"$f":"HYPERLINK(Options!$B$1, \"Quote\")","v":"Quote"},{"$f":"HYPERLINK(Options!$B$2,\"Fax\")","v":"Fax"}]
["Dawson Associates, Inc. (Bragg)","Andy Bragg"," 800-282-4782","a.bragg@dawsonassoc.com","V.P. Sales and Operations","Supplier","Out of State",null,{"$f":"HYPERLINK(\"#'Client Details'!$B$1\",\"Details\")","v":"Details"},{"$f":"HYPERLINK(Options!$B$1, \"Quote\")","v":"Quote"},{"$f":"HYPERLINK(Options!$B$2,\"Fax\")","v":"Fax"}]
["Day & Zimmermann NPS","Dean","573-220-6971 cell",null,null,null,null,null,{"$f":"HYPERLINK(\"#'Client Details'!$B$1\",\"Details\")","v":"Details"},{"$f":"HYPERLINK(Options!$B$1, \"Quote\")","v":"Quote"},{"$f":"HYPERLINK(Options!$B$2,\"Fax\")","v":"Fax"}]
["Day & Zimmermann NPS (Main)","Gary Lewis","740-598-7148",null,null,null,null,null,{"$f":"HYPERLINK(\"#'Client Details'!$B$1\",\"Details\")","v":"Details"},{"$f":"HYPERLINK(Options!$B$1, \"Quote\")","v":"Quote"},{"$f":"HYPERLINK(Options!$B$2,\"Fax\")","v":"Fax"}]
["Day & Zimmermann NPS (Rogers)","Ben Rogers"," 269-764-3039",null,null,"Contractor General","Do Not Know",null,{"$f":"HYPERLINK(\"#'Client Details'!$B$1\",\"Details\")","v":"Details"},{"$f":"HYPERLINK(Options!$B$1, \"Quote\")","v":"Quote"},{"$f":"HYPERLINK(Options!$B$2,\"Fax\")","v":"Fax"}]
["DayGlo","Eugene Crnjac","216-391-7070",null,null,null,null,null,{"$f":"HYPERLINK(\"#'Client Details'!$B$1\",\"Details\")","v":"Details"},{"$f":"HYPERLINK(Options!$B$1, \"Quote\")","v":"Quote"},{"$f":"HYPERLINK(Options!$B$2,\"Fax\")","v":"Fax"}]
["Dayton Bd of  Power & Light (Dayton)","Garry Tindall","937-549-2641",null,null,null,null,null,{"$f":"HYPERLINK(\"#'Client Details'!$B$1\",\"Details\")","v":"Details"},{"$f":"HYPERLINK(Options!$B$1, \"Quote\")","v":"Quote"},{"$f":"HYPERLINK(Options!$B$2,\"Fax\")","v":"Fax"}]
["Dayton Power and Light Co.(Aberdeen)","Mary Maher","937-549-2641",null,null,null,null,null,{"$f":"HYPERLINK(\"#'Client Details'!$B$1\",\"Details\")","v":"Details"},{"$f":"HYPERLINK(Options!$B$1, \"Quote\")","v":"Quote"},{"$f":"HYPERLINK(Options!$B$2,\"Fax\")","v":"Fax"}]
["DBI Sala Capital Safety (Bryant)","Charley Bryant"," 800-328-6146","cbryant@capitalsafety.com",null,"Supplier","Out of State",null,{"$f":"HYPERLINK(\"#'Client Details'!$B$1\",\"Details\")","v":"Details"},{"$f":"HYPERLINK(Options!$B$1, \"Quote\")","v":"Quote"},{"$f":"HYPERLINK(Options!$B$2,\"Fax\")","v":"Fax"}]
["DBI Sala Capital Safety UCL (Holden)","Rick Holden"," 800-455-9673","rickh.unique@mts.net","Central Region Territory Manag","Supplier","Out State",null,{"$f":"HYPERLINK(\"#'Client Details'!$B$1\",\"Details\")","v":"Details"},{"$f":"HYPERLINK(Options!$B$1, \"Quote\")","v":"Quote"},{"$f":"HYPERLINK(Options!$B$2,\"Fax\")","v":"Fax"}]
["De Jager Construction Inc.","John Slendebroek","530-0060",null,null,null,null,null,{"$f":"HYPERLINK(\"#'Client Details'!$B$1\",\"Details\")","v":"Details"},{"$f":"HYPERLINK(Options!$B$1, \"Quote\")","v":"Quote"},{"$f":"HYPERLINK(Options!$B$2,\"Fax\")","v":"Fax"}]
["De Jager Construction Inc. (Slendebroek)","John Slendebroek"," 616-530-0060","bids@dejagerconstruction.com","Safety Manager","Contractor General","Kent",null,{"$f":"HYPERLINK(\"#'Client Details'!$B$1\",\"Details\")","v":"Details"},{"$f":"HYPERLINK(Options!$B$1, \"Quote\")","v":"Quote"},{"$f":"HYPERLINK(Options!$B$2,\"Fax\")","v":"Fax"}]
["De Young Builders LLC (Nyland)","Steve Nyland"," 616-392-7225","M_DeYoung_Builders@SBCGlobal.net","Operations Manager","Contractor General","Ottawa",null,{"$f":"HYPERLINK(\"#'Client Details'!$B$1\",\"Details\")","v":"Details"},{"$f":"HYPERLINK(Options!$B$1, \"Quote\")","v":"Quote"},{"$f":"HYPERLINK(Options!$B$2,\"Fax\")","v":"Fax"}]
["DEA - Pittsburgh District Office","Andrew Petyak","412-777-6966","andrew.j.petyak@usdoj.gov",null,null,null,null,{"$f":"HYPERLINK(\"#'Client Details'!$B$1\",\"Details\")","v":"Details"},{"$f":"HYPERLINK(Options!$B$1, \"Quote\")","v":"Quote"},{"$f":"HYPERLINK(Options!$B$2,\"Fax\")","v":"Fax"}]
["DEA - Pittsburgh District Office (Petyak)","Andrew Petyak"," 412-777-6966",null,null,"Federal","Out of State",null,{"$f":"HYPERLINK(\"#'Client Details'!$B$1\",\"Details\")","v":"Details"},{"$f":"HYPERLINK(Options!$B$1, \"Quote\")","v":"Quote"},{"$f":"HYPERLINK(Options!$B$2,\"Fax\")","v":"Fax"}]
["Dean Boiler, Inc.","Ed Koert","616-784-2696",null,null,null,null,null,{"$f":"HYPERLINK(\"#'Client Details'!$B$1\",\"Details\")","v":"Details"},{"$f":"HYPERLINK(Options!$B$1, \"Quote\")","v":"Quote"},{"$f":"HYPERLINK(Options!$B$2,\"Fax\")","v":"Fax"}]
["Dean Boiler, Inc. (Koert)","Ed Koert"," 616-784-2696","ekoert@deanboiler.com",null,"Contractor General","Kent",null,{"$f":"HYPERLINK(\"#'Client Details'!$B$1\",\"Details\")","v":"Details"},{"$f":"HYPERLINK(Options!$B$1, \"Quote\")","v":"Quote"},{"$f":"HYPERLINK(Options!$B$2,\"Fax\")","v":"Fax"}]
["Dean Flego",null,"631-925-6231","Dflego@aol.com",null,null,null,null,{"$f":"HYPERLINK(\"#'Client Details'!$B$1\",\"Details\")","v":"Details"},{"$f":"HYPERLINK(Options!$B$1, \"Quote\")","v":"Quote"},{"$f":"HYPERLINK(Options!$B$2,\"Fax\")","v":"Fax"}]
["DeAngelo Brothers Inc.",null,"217-423-0455",null,null,null,null,null,{"$f":"HYPERLINK(\"#'Client Details'!$B$1\",\"Details\")","v":"Details"},{"$f":"HYPERLINK(Options!$B$1, \"Quote\")","v":"Quote"},{"$f":"HYPERLINK(Options!$B$2,\"Fax\")","v":"Fax"}]
["Debouter Vance P CPA PC (Debouter)","Vance Debouter"," 440-774-6400",null,"CPA",null,"N/A",null,{"$f":"HYPERLINK(\"#'Client Details'!$B$1\",\"Details\")","v":"Details"},{"$f":"HYPERLINK(Options!$B$1, \"Quote\")","v":"Quote"},{"$f":"HYPERLINK(Options!$B$2,\"Fax\")","v":"Fax"}]
["DECC Co.",null,"616-245-0431",null,null,null,null,null,{"$f":"HYPERLINK(\"#'Client Details'!$B$1\",\"Details\")","v":"Details"},{"$f":"HYPERLINK(Options!$B$1, \"Quote\")","v":"Quote"},{"$f":"HYPERLINK(Options!$B$2,\"Fax\")","v":"Fax"}]
["DECC Co. (Kooy)","Kim Kooy"," 616-588-2821","kkooy@decc.com",null,"Manufacturer","Kent",null,{"$f":"HYPERLINK(\"#'Client Details'!$B$1\",\"Details\")","v":"Details"},{"$f":"HYPERLINK(Options!$B$1, \"Quote\")","v":"Quote"},{"$f":"HYPERLINK(Options!$B$2,\"Fax\")","v":"Fax"}]
["Deiters & Helmers Electirc Inc. (Deiters)","Tim Deiters"," 616-842-9222",null,null,null,"Muskegon",null,{"$f":"HYPERLINK(\"#'Client Details'!$B$1\",\"Details\")","v":"Details"},{"$f":"HYPERLINK(Options!$B$1, \"Quote\")","v":"Quote"},{"$f":"HYPERLINK(Options!$B$2,\"Fax\")","v":"Fax"}]
["Delete this customer",null,"814-965-5691",null,null,null,null,null,{"$f":"HYPERLINK(\"#'Client Details'!$B$1\",\"Details\")","v":"Details"},{"$f":"HYPERLINK(Options!$B$1, \"Quote\")","v":"Quote"},{"$f":"HYPERLINK(Options!$B$2,\"Fax\")","v":"Fax"}]
["Delhi Charter Township (Woodard)","Larry Woodard"," 517-699-3874",null,"Superintendent & Safety Coordi","Municipal, Cty","Ingham",null,{"$f":"HYPERLINK(\"#'Client Details'!$B$1\",\"Details\")","v":"Details"},{"$f":"HYPERLINK(Options!$B$1, \"Quote\")","v":"Quote"},{"$f":"HYPERLINK(Options!$B$2,\"Fax\")","v":"Fax"}]
["Delisle Associates Ltd.","Beverly Delisle","269-373-4500",null,null,null,null,null,{"$f":"HYPERLINK(\"#'Client Details'!$B$1\",\"Details\")","v":"Details"},{"$f":"HYPERLINK(Options!$B$1, \"Quote\")","v":"Quote"},{"$f":"HYPERLINK(Options!$B$2,\"Fax\")","v":"Fax"}]
["DeLisle Associates Ltd. (Burch)","Jeffery Burch"," 269-373-4500 161","jeffb@delisleassociatesltd.com","Director of Training","Contractor EH&S","Kalamazoo",null,{"$f":"HYPERLINK(\"#'Client Details'!$B$1\",\"Details\")","v":"Details"},{"$f":"HYPERLINK(Options!$B$1, \"Quote\")","v":"Quote"},{"$f":"HYPERLINK(Options!$B$2,\"Fax\")","v":"Fax"}]
["DeLisle Associates Ltd. (DiPasquale)","Dan DiPasquale"," 269-373-4500",null,null,"Contractor EH&S","Kalamazoo",null,{"$f":"HYPERLINK(\"#'Client Details'!$B$1\",\"Details\")","v":"Details"},{"$f":"HYPERLINK(Options!$B$1, \"Quote\")","v":"Quote"},{"$f":"HYPERLINK(Options!$B$2,\"Fax\")","v":"Fax"}]
["DeLisle Associates Ltd. (Millgard)","Greg Millgard"," 269-373-4500 120",null,"Field Operations Manager","Contractor EH&S","Kalamazoo",null,{"$f":"HYPERLINK(\"#'Client Details'!$B$1\",\"Details\")","v":"Details"},{"$f":"HYPERLINK(Options!$B$1, \"Quote\")","v":"Quote"},{"$f":"HYPERLINK(Options!$B$2,\"Fax\")","v":"Fax"}]
["Delphi Corp. (Warren, OH)","John Janis","330-240-8545 cell","john.janis@delphi.com",null,null,null,null,{"$f":"HYPERLINK(\"#'Client Details'!$B$1\",\"Details\")","v":"Details"},{"$f":"HYPERLINK(Options!$B$1, \"Quote\")","v":"Quote"},{"$f":"HYPERLINK(Options!$B$2,\"Fax\")","v":"Fax"}]
["Delray Mechanical","Paul Nagel","313-843-5330","nagel@tir.com",null,null,null,null,{"$f":"HYPERLINK(\"#'Client Details'!$B$1\",\"Details\")","v":"Details"},{"$f":"HYPERLINK(Options!$B$1, \"Quote\")","v":"Quote"},{"$f":"HYPERLINK(Options!$B$2,\"Fax\")","v":"Fax"}]
["Delta Consultants","Jason Phillips","800-477-7411","jphillips@deltaenv.com",null,null,null,null,{"$f":"HYPERLINK(\"#'Client Details'!$B$1\",\"Details\")","v":"Details"},{"$f":"HYPERLINK(Options!$B$1, \"Quote\")","v":"Quote"},{"$f":"HYPERLINK(Options!$B$2,\"Fax\")","v":"Fax"}]
["Delta Environmental Consultants (Phillips","Jason Phillips"," 800-447-7411","jphillips@deltaenv.com","Staff Engineer","Contractor EH&S","Oakland",null,{"$f":"HYPERLINK(\"#'Client Details'!$B$1\",\"Details\")","v":"Details"},{"$f":"HYPERLINK(Options!$B$1, \"Quote\")","v":"Quote"},{"$f":"HYPERLINK(Options!$B$2,\"Fax\")","v":"Fax"}]
["Dematic Corp. (Sissell)","Stephfan Sissell"," 616-913-6531","stephfan.sissell@rapistan.com","Corporate Safety Specialist","Manufacturer","Kent",null,{"$f":"HYPERLINK(\"#'Client Details'!$B$1\",\"Details\")","v":"Details"},{"$f":"HYPERLINK(Options!$B$1, \"Quote\")","v":"Quote"},{"$f":"HYPERLINK(Options!$B$2,\"Fax\")","v":"Fax"}]
["Dematic Corp. (Van Slooten)","Tom Van Slooten"," 616-913-6349","thomas.vanslooten@siemens.com","Commodity Manager","Manufacturer","Kent",null,{"$f":"HYPERLINK(\"#'Client Details'!$B$1\",\"Details\")","v":"Details"},{"$f":"HYPERLINK(Options!$B$1, \"Quote\")","v":"Quote"},{"$f":"HYPERLINK(Options!$B$2,\"Fax\")","v":"Fax"}]
["Denso International America, Inc.","Karen Croly(Buyer)","248-372-8200",null,null,null,null,null,{"$f":"HYPERLINK(\"#'Client Details'!$B$1\",\"Details\")","v":"Details"},{"$f":"HYPERLINK(Options!$B$1, \"Quote\")","v":"Quote"},{"$f":"HYPERLINK(Options!$B$2,\"Fax\")","v":"Fax"}]
["Denso Manufacturing (Carter)","Robert Carter"," 870-622-9535","robert_carter@denso-diam.com",null,"Automotive","Out of State",null,{"$f":"HYPERLINK(\"#'Client Details'!$B$1\",\"Details\")","v":"Details"},{"$f":"HYPERLINK(Options!$B$1, \"Quote\")","v":"Quote"},{"$f":"HYPERLINK(Options!$B$2,\"Fax\")","v":"Fax"}]
["Denso Manufacturing (Darga)","Kate Darga"," 248-372-8392","kathryn_darga@denso-diam.com",null,"Automotive","Oakland",null,{"$f":"HYPERLINK(\"#'Client Details'!$B$1\",\"Details\")","v":"Details"},{"$f":"HYPERLINK(Options!$B$1, \"Quote\")","v":"Quote"},{"$f":"HYPERLINK(Options!$B$2,\"Fax\")","v":"Fax"}]
["Denso Manufacturing (Godin)","Gary Godin"," 248-372-8239","gary_godin@denso-diam.com","Senior Environmental Engineer","Automotive","Oakland",null,{"$f":"HYPERLINK(\"#'Client Details'!$B$1\",\"Details\")","v":"Details"},{"$f":"HYPERLINK(Options!$B$1, \"Quote\")","v":"Quote"},{"$f":"HYPERLINK(Options!$B$2,\"Fax\")","v":"Fax"}]
["Denso Manufacturing (Jakubiak)","Paul Jakubiak"," 269-565-8727","Paul_Jakubiak@denso-diam.com","Senior Specialist","Automotive","Calhoun",null,{"$f":"HYPERLINK(\"#'Client Details'!$B$1\",\"Details\")","v":"Details"},{"$f":"HYPERLINK(Options!$B$1, \"Quote\")","v":"Quote"},{"$f":"HYPERLINK(Options!$B$2,\"Fax\")","v":"Fax"}]
["Denso Manufacturing (Kilbride)","Melissa Kilbride"," 248-372-8238","melissa_kilbride@denso-diam.com","Safety Engineer","Automotive","Oakland",null,{"$f":"HYPERLINK(\"#'Client Details'!$B$1\",\"Details\")","v":"Details"},{"$f":"HYPERLINK(Options!$B$1, \"Quote\")","v":"Quote"},{"$f":"HYPERLINK(Options!$B$2,\"Fax\")","v":"Fax"}]
["Denso Manufacturing (LeForge)","Scott LeForge"," 269-565-8729","scott_leforge@denso-diam.com",null,"Automotive","Calhoun",null,{"$f":"HYPERLINK(\"#'Client Details'!$B$1\",\"Details\")","v":"Details"},{"$f":"HYPERLINK(Options!$B$1, \"Quote\")","v":"Quote"},{"$f":"HYPERLINK(Options!$B$2,\"Fax\")","v":"Fax"}]
["Denso Manufacturing (Osceola - AR)","Terri Meadow (Purchasing)","870-622-9535",null,null,null,null,null,{"$f":"HYPERLINK(\"#'Client Details'!$B$1\",\"Details\")","v":"Details"},{"$f":"HYPERLINK(Options!$B$1, \"Quote\")","v":"Quote"},{"$f":"HYPERLINK(Options!$B$2,\"Fax\")","v":"Fax"}]
["Denso Manufacturing (Smith)","Jody Smith"," 269-565-8562","jody_smith@denso-diam.com","Advanced Environmental Enginee","Automotive","Calhoun",null,{"$f":"HYPERLINK(\"#'Client Details'!$B$1\",\"Details\")","v":"Details"},{"$f":"HYPERLINK(Options!$B$1, \"Quote\")","v":"Quote"},{"$f":"HYPERLINK(Options!$B$2,\"Fax\")","v":"Fax"}]
["Denso Manufacturing (Southfield)","Melissa Kilbride MC4330","248-372-8238",null,null,null,null,null,{"$f":"HYPERLINK(\"#'Client Details'!$B$1\",\"Details\")","v":"Details"},{"$f":"HYPERLINK(Options!$B$1, \"Quote\")","v":"Quote"},{"$f":"HYPERLINK(Options!$B$2,\"Fax\")","v":"Fax"}]
["Denso Manufacturing (Walter)","Bob Walter",null,"bob_walter@denso-diam.com","Facilities Manager","Automotive","Calhoun",null,{"$f":"HYPERLINK(\"#'Client Details'!$B$1\",\"Details\")","v":"Details"},{"$f":"HYPERLINK(Options!$B$1, \"Quote\")","v":"Quote"},{"$f":"HYPERLINK(Options!$B$2,\"Fax\")","v":"Fax"}]
["Denso Manufacturing (Webb)","Jeff Webb"," 269-565-8731","jeff_webb@denso-diam.com",null,"Automotive","Calhoun",null,{"$f":"HYPERLINK(\"#'Client Details'!$B$1\",\"Details\")","v":"Details"},{"$f":"HYPERLINK(Options!$B$1, \"Quote\")","v":"Quote"},{"$f":"HYPERLINK(Options!$B$2,\"Fax\")","v":"Fax"}]
["Denso Manufacturing DMMI (Williams)","Tom Williams",null,"tom_williams@denso-diam.com","Quality Section Leader","Automotive","Calhoun",null,{"$f":"HYPERLINK(\"#'Client Details'!$B$1\",\"Details\")","v":"Details"},{"$f":"HYPERLINK(Options!$B$1, \"Quote\")","v":"Quote"},{"$f":"HYPERLINK(Options!$B$2,\"Fax\")","v":"Fax"}]
["Denso Manufacturing Michigan, Inc.","Scott","269-565-8729",null,null,null,null,null,{"$f":"HYPERLINK(\"#'Client Details'!$B$1\",\"Details\")","v":"Details"},{"$f":"HYPERLINK(Options!$B$1, \"Quote\")","v":"Quote"},{"$f":"HYPERLINK(Options!$B$2,\"Fax\")","v":"Fax"}]
["Deshler FD","Doug Powell","419-278-3771",null,null,null,null,null,{"$f":"HYPERLINK(\"#'Client Details'!$B$1\",\"Details\")","v":"Details"},{"$f":"HYPERLINK(Options!$B$1, \"Quote\")","v":"Quote"},{"$f":"HYPERLINK(Options!$B$2,\"Fax\")","v":"Fax"}]
["Detroit Diesel Reman North (Severns)","Ralph Severns"," 616-541-1114","rsever01@ddrn.detroitdiesel.com","Environmental and Facilities M","Automotive","Kent",null,{"$f":"HYPERLINK(\"#'Client Details'!$B$1\",\"Details\")","v":"Details"},{"$f":"HYPERLINK(Options!$B$1, \"Quote\")","v":"Quote"},{"$f":"HYPERLINK(Options!$B$2,\"Fax\")","v":"Fax"}]
["Detroit Diesel Reman-North","Ralph Severns",null,null,null,null,null,null,{"$f":"HYPERLINK(\"#'Client Details'!$B$1\",\"Details\")","v":"Details"},{"$f":"HYPERLINK(Options!$B$1, \"Quote\")","v":"Quote"},{"$f":"HYPERLINK(Options!$B$2,\"Fax\")","v":"Fax"}]
["DeVries Construction (Lameyer)","John Lameyer"," 616-454-1446",null,null,"Contractor General","Kent",null,{"$f":"HYPERLINK(\"#'Client Details'!$B$1\",\"Details\")","v":"Details"},{"$f":"HYPERLINK(Options!$B$1, \"Quote\")","v":"Quote"},{"$f":"HYPERLINK(Options!$B$2,\"Fax\")","v":"Fax"}]
["DeVries Property Ventures, LLC (Tinney)","Chris Tinney",null,null,null,"Contractor General","Kent",null,{"$f":"HYPERLINK(\"#'Client Details'!$B$1\",\"Details\")","v":"Details"},{"$f":"HYPERLINK(Options!$B$1, \"Quote\")","v":"Quote"},{"$f":"HYPERLINK(Options!$B$2,\"Fax\")","v":"Fax"}]
["DeWeerd & Van Dyke (Pyle)","Mark Pyle"," 616-669-6740",null,"Safety",null,"Ottawa",null,{"$f":"HYPERLINK(\"#'Client Details'!$B$1\",\"Details\")","v":"Details"},{"$f":"HYPERLINK(Options!$B$1, \"Quote\")","v":"Quote"},{"$f":"HYPERLINK(Options!$B$2,\"Fax\")","v":"Fax"}]
["Deweerdt Poultry Farm","Steve DeWeerdt","269-751-6941",null,null,null,null,null,{"$f":"HYPERLINK(\"#'Client Details'!$B$1\",\"Details\")","v":"Details"},{"$f":"HYPERLINK(Options!$B$1, \"Quote\")","v":"Quote"},{"$f":"HYPERLINK(Options!$B$2,\"Fax\")","v":"Fax"}]
["DeWind Dewatering","Lee DeHaan","616-875-7580",null,null,null,null,null,{"$f":"HYPERLINK(\"#'Client Details'!$B$1\",\"Details\")","v":"Details"},{"$f":"HYPERLINK(Options!$B$1, \"Quote\")","v":"Quote"},{"$f":"HYPERLINK(Options!$B$2,\"Fax\")","v":"Fax"}]
["DeWind Dewatering (DeHaan)","Lee DeHaan"," 616-786-9681",null,"Storekeeper","Contractor, Excavator","Ottawa",null,{"$f":"HYPERLINK(\"#'Client Details'!$B$1\",\"Details\")","v":"Details"},{"$f":"HYPERLINK(Options!$B$1, \"Quote\")","v":"Quote"},{"$f":"HYPERLINK(Options!$B$2,\"Fax\")","v":"Fax"}]
["Dexter Axle (Parks)","Larry Parks"," 260-636-2195","lparks@dexteraxle.com","Industrial Safety Engineer","Automotive","Out of State",null,{"$f":"HYPERLINK(\"#'Client Details'!$B$1\",\"Details\")","v":"Details"},{"$f":"HYPERLINK(Options!$B$1, \"Quote\")","v":"Quote"},{"$f":"HYPERLINK(Options!$B$2,\"Fax\")","v":"Fax"}]
["Dexter Axle Company","Sue Harlan","260-636-2195",null,null,null,null,null,{"$f":"HYPERLINK(\"#'Client Details'!$B$1\",\"Details\")","v":"Details"},{"$f":"HYPERLINK(Options!$B$1, \"Quote\")","v":"Quote"},{"$f":"HYPERLINK(Options!$B$2,\"Fax\")","v":"Fax"}]
["DHE Plumbing & Mechanical","Nathan Heyboer (owner)","616-896-8414",null,null,null,null,null,{"$f":"HYPERLINK(\"#'Client Details'!$B$1\",\"Details\")","v":"Details"},{"$f":"HYPERLINK(Options!$B$1, \"Quote\")","v":"Quote"},{"$f":"HYPERLINK(Options!$B$2,\"Fax\")","v":"Fax"}]
["DHE Plumbing & Mechanical (Heyboer)","Nate Heyboer"," 616-896-8414","nate@dheplumbing.com",null,"Contractor General","Kent",null,{"$f":"HYPERLINK(\"#'Client Details'!$B$1\",\"Details\")","v":"Details"},{"$f":"HYPERLINK(Options!$B$1, \"Quote\")","v":"Quote"},{"$f":"HYPERLINK(Options!$B$2,\"Fax\")","v":"Fax"}]
["Diamond Concrete Sawing (Diekevers)","Mike Diekevers"," 616-245-3100",null,null,"Contractor, Excavator","Kent",null,{"$f":"HYPERLINK(\"#'Client Details'!$B$1\",\"Details\")","v":"Details"},{"$f":"HYPERLINK(Options!$B$1, \"Quote\")","v":"Quote"},{"$f":"HYPERLINK(Options!$B$2,\"Fax\")","v":"Fax"}]
["Diamond Drilling","Don Borgic","616-245-3100",null,null,null,null,null,{"$f":"HYPERLINK(\"#'Client Details'!$B$1\",\"Details\")","v":"Details"},{"$f":"HYPERLINK(Options!$B$1, \"Quote\")","v":"Quote"},{"$f":"HYPERLINK(Options!$B$2,\"Fax\")","v":"Fax"}]
["Dienetics (Overholt)","Tony Overholt"," 616-667-1600",null,"Safety",null,"Ottawa",null,{"$f":"HYPERLINK(\"#'Client Details'!$B$1\",\"Details\")","v":"Details"},{"$f":"HYPERLINK(Options!$B$1, \"Quote\")","v":"Quote"},{"$f":"HYPERLINK(Options!$B$2,\"Fax\")","v":"Fax"}]
["Dietel Welding",null,"231-287-8630",null,null,null,null,null,{"$f":"HYPERLINK(\"#'Client Details'!$B$1\",\"Details\")","v":"Details"},{"$f":"HYPERLINK(Options!$B$1, \"Quote\")","v":"Quote"},{"$f":"HYPERLINK(Options!$B$2,\"Fax\")","v":"Fax"}]
["Dimension Four Painting, Inc. (Lawie)","Shelley Lawie"," 231-798-2474",null,"Field Supervisor/Co-Owner","Painting","Muskegon",null,{"$f":"HYPERLINK(\"#'Client Details'!$B$1\",\"Details\")","v":"Details"},{"$f":"HYPERLINK(Options!$B$1, \"Quote\")","v":"Quote"},{"$f":"HYPERLINK(Options!$B$2,\"Fax\")","v":"Fax"}]
["Display Pack","Andrew Montgomery","616-574-6169",null,null,null,null,null,{"$f":"HYPERLINK(\"#'Client Details'!$B$1\",\"Details\")","v":"Details"},{"$f":"HYPERLINK(Options!$B$1, \"Quote\")","v":"Quote"},{"$f":"HYPERLINK(Options!$B$2,\"Fax\")","v":"Fax"}]
["Display Pack (Montgomery)","Andrew Montgomery"," 616-574-6169","amontgomery@displaypack.com","Safety Director","Manufacturer","Kent",null,{"$f":"HYPERLINK(\"#'Client Details'!$B$1\",\"Details\")","v":"Details"},{"$f":"HYPERLINK(Options!$B$1, \"Quote\")","v":"Quote"},{"$f":"HYPERLINK(Options!$B$2,\"Fax\")","v":"Fax"}]
["Diversified Machine (Twa)","Mary Twa"," 231-894-9051",null,null,null,"Muskegon",null,{"$f":"HYPERLINK(\"#'Client Details'!$B$1\",\"Details\")","v":"Details"},{"$f":"HYPERLINK(Options!$B$1, \"Quote\")","v":"Quote"},{"$f":"HYPERLINK(Options!$B$2,\"Fax\")","v":"Fax"}]
["Diversified Mechanical Services, Inc.","Timothy P O'Hara","616-785-2735",null,null,null,null,null,{"$f":"HYPERLINK(\"#'Client Details'!$B$1\",\"Details\")","v":"Details"},{"$f":"HYPERLINK(Options!$B$1, \"Quote\")","v":"Quote"},{"$f":"HYPERLINK(Options!$B$2,\"Fax\")","v":"Fax"}]
["Diversified Mechanical Services, Inc. (O'","Timothy O'Hara"," 616-785-2735","tim@diversifiedmechanical.com",null,"Contractor General","Kent",null,{"$f":"HYPERLINK(\"#'Client Details'!$B$1\",\"Details\")","v":"Details"},{"$f":"HYPERLINK(Options!$B$1, \"Quote\")","v":"Quote"},{"$f":"HYPERLINK(Options!$B$2,\"Fax\")","v":"Fax"}]
["Dixon Engineering","Eric Binkowski","616.374.3221",null,null,null,null,null,{"$f":"HYPERLINK(\"#'Client Details'!$B$1\",\"Details\")","v":"Details"},{"$f":"HYPERLINK(Options!$B$1, \"Quote\")","v":"Quote"},{"$f":"HYPERLINK(Options!$B$2,\"Fax\")","v":"Fax"}]
["Dixon Engineering, Inc. (Binkowski)","Eric Binkowski"," 616-374-3221 309",null,null,"Contractor General","Ionia",null,{"$f":"HYPERLINK(\"#'Client Details'!$B$1\",\"Details\")","v":"Details"},{"$f":"HYPERLINK(Options!$B$1, \"Quote\")","v":"Quote"},{"$f":"HYPERLINK(Options!$B$2,\"Fax\")","v":"Fax"}]
["Dixon Environmental, Inc.","Jim Dixon","616-742-5511",null,null,null,null,null,{"$f":"HYPERLINK(\"#'Client Details'!$B$1\",\"Details\")","v":"Details"},{"$f":"HYPERLINK(Options!$B$1, \"Quote\")","v":"Quote"},{"$f":"HYPERLINK(Options!$B$2,\"Fax\")","v":"Fax"}]
["Dixon Environmental, Inc. (Dixon)","Jim Dixon"," 616-742-5511","jdixon@dixonenv.com","President","Contractor EH&S","Kent",null,{"$f":"HYPERLINK(\"#'Client Details'!$B$1\",\"Details\")","v":"Details"},{"$f":"HYPERLINK(Options!$B$1, \"Quote\")","v":"Quote"},{"$f":"HYPERLINK(Options!$B$2,\"Fax\")","v":"Fax"}]
["DL Morse & Associates Inc.","Dan Morse",null,null,null,null,null,null,{"$f":"HYPERLINK(\"#'Client Details'!$B$1\",\"Details\")","v":"Details"},{"$f":"HYPERLINK(Options!$B$1, \"Quote\")","v":"Quote"},{"$f":"HYPERLINK(Options!$B$2,\"Fax\")","v":"Fax"}]
["DLZ Michigan Inc. (Stieber)","Elizabeth Stieber"," 517-393-6800","estieber@dlzcorp.com",null,"Contractor EH&S","Ingham",null,{"$f":"HYPERLINK(\"#'Client Details'!$B$1\",\"Details\")","v":"Details"},{"$f":"HYPERLINK(Options!$B$1, \"Quote\")","v":"Quote"},{"$f":"HYPERLINK(Options!$B$2,\"Fax\")","v":"Fax"}]
["DLZ Michigan, Inc.","Elizabeth Stieber","517-393-6800",null,null,null,null,null,{"$f":"HYPERLINK(\"#'Client Details'!$B$1\",\"Details\")","v":"Details"},{"$f":"HYPERLINK(Options!$B$1, \"Quote\")","v":"Quote"},{"$f":"HYPERLINK(Options!$B$2,\"Fax\")","v":"Fax"}]
["Doran Lefaive","Doran Lefaive","269-377-2284",null,null,null,null,null,{"$f":"HYPERLINK(\"#'Client Details'!$B$1\",\"Details\")","v":"Details"},{"$f":"HYPERLINK(Options!$B$1, \"Quote\")","v":"Quote"},{"$f":"HYPERLINK(Options!$B$2,\"Fax\")","v":"Fax"}]
["Double L Enterprises (Lohman)","Kevin Lohman"," 231-894-5988",null,null,null,"Muskegon",null,{"$f":"HYPERLINK(\"#'Client Details'!$B$1\",\"Details\")","v":"Details"},{"$f":"HYPERLINK(Options!$B$1, \"Quote\")","v":"Quote"},{"$f":"HYPERLINK(Options!$B$2,\"Fax\")","v":"Fax"}]
["Double O Incorporated (Otis)","Mike Otis"," 616-878-3998","mikeo@doubleoincorporated",null,"Contractor General","Kalamazoo",null,{"$f":"HYPERLINK(\"#'Client Details'!$B$1\",\"Details\")","v":"Details"},{"$f":"HYPERLINK(Options!$B$1, \"Quote\")","v":"Quote"},{"$f":"HYPERLINK(Options!$B$2,\"Fax\")","v":"Fax"}]
["Douglas DPW (Rodgers)","Max Rodgers"," 269-857-2763",null,"Superintendent","Municipal, Cty","Allegan",null,{"$f":"HYPERLINK(\"#'Client Details'!$B$1\",\"Details\")","v":"Details"},{"$f":"HYPERLINK(Options!$B$1, \"Quote\")","v":"Quote"},{"$f":"HYPERLINK(Options!$B$2,\"Fax\")","v":"Fax"}]
["Douglas DPW, City of","Max Rodgers","269-857-2763","mrodgers@ci.douglas.mi.us",null,null,null,null,{"$f":"HYPERLINK(\"#'Client Details'!$B$1\",\"Details\")","v":"Details"},{"$f":"HYPERLINK(Options!$B$1, \"Quote\")","v":"Quote"},{"$f":"HYPERLINK(Options!$B$2,\"Fax\")","v":"Fax"}]
["Douglas Safety Systems","Cheryl Rahl","989-687-7600",null,null,null,null,null,{"$f":"HYPERLINK(\"#'Client Details'!$B$1\",\"Details\")","v":"Details"},{"$f":"HYPERLINK(Options!$B$1, \"Quote\")","v":"Quote"},{"$f":"HYPERLINK(Options!$B$2,\"Fax\")","v":"Fax"}]
["Doumouras (Doumouras)","Jim Doumouras"," 847-583-0967","jamesihsuperman@aol.com","Safety Manager","Contractor General","Out of State",null,{"$f":"HYPERLINK(\"#'Client Details'!$B$1\",\"Details\")","v":"Details"},{"$f":"HYPERLINK(Options!$B$1, \"Quote\")","v":"Quote"},{"$f":"HYPERLINK(Options!$B$2,\"Fax\")","v":"Fax"}]
["Dow Chemical","Amanda Mickler","989-638-2226",null,null,null,null,null,{"$f":"HYPERLINK(\"#'Client Details'!$B$1\",\"Details\")","v":"Details"},{"$f":"HYPERLINK(Options!$B$1, \"Quote\")","v":"Quote"},{"$f":"HYPERLINK(Options!$B$2,\"Fax\")","v":"Fax"}]
["Dow Chemical Co./Occichem Corporation (Gl","Jim Glover"," 231-845-4474",null,"EH&S","Chemical Pharmaceutical","Mason",null,{"$f":"HYPERLINK(\"#'Client Details'!$B$1\",\"Details\")","v":"Details"},{"$f":"HYPERLINK(Options!$B$1, \"Quote\")","v":"Quote"},{"$f":"HYPERLINK(Options!$B$2,\"Fax\")","v":"Fax"}]
["Dow Chemical Company (Ryder)","Mike Ryder"," 231-845-4390",null,"EH&S","Chemical Pharmaceutical","Mason",null,{"$f":"HYPERLINK(\"#'Client Details'!$B$1\",\"Details\")","v":"Details"},{"$f":"HYPERLINK(Options!$B$1, \"Quote\")","v":"Quote"},{"$f":"HYPERLINK(Options!$B$2,\"Fax\")","v":"Fax"}]
["Dow Corning (Behmlander)","Doug Behmlander"," 989-496-7049","doug.behmlander@dowcorning.com","Safety & Loss Prevention Offic","Chemical Pharmaceutical","Bay",null,{"$f":"HYPERLINK(\"#'Client Details'!$B$1\",\"Details\")","v":"Details"},{"$f":"HYPERLINK(Options!$B$1, \"Quote\")","v":"Quote"},{"$f":"HYPERLINK(Options!$B$2,\"Fax\")","v":"Fax"}]
["Dow Corning (Hayward)","David Hayward"," 989-496-7110","david.hayward@dowcorning.com",null,"Chemical Pharmaceutical","Bay",null,{"$f":"HYPERLINK(\"#'Client Details'!$B$1\",\"Details\")","v":"Details"},{"$f":"HYPERLINK(Options!$B$1, \"Quote\")","v":"Quote"},{"$f":"HYPERLINK(Options!$B$2,\"Fax\")","v":"Fax"}]
["Dow Corning (Midland)","Ethan Good","989-496-4514",null,null,null,null,null,{"$f":"HYPERLINK(\"#'Client Details'!$B$1\",\"Details\")","v":"Details"},{"$f":"HYPERLINK(Options!$B$1, \"Quote\")","v":"Quote"},{"$f":"HYPERLINK(Options!$B$2,\"Fax\")","v":"Fax"}]
["Dow Corning Corporation (Whelton)","Michael D. Whelton"," 989-496-7007","m.whelton@dowcorning.com","Michigan Area Safety","Chemical Pharmaceutical","Bay",null,{"$f":"HYPERLINK(\"#'Client Details'!$B$1\",\"Details\")","v":"Details"},{"$f":"HYPERLINK(Options!$B$1, \"Quote\")","v":"Quote"},{"$f":"HYPERLINK(Options!$B$2,\"Fax\")","v":"Fax"}]
["Down Syndrome Association fo West Mi",null,null,null,null,null,null,null,{"$f":"HYPERLINK(\"#'Client Details'!$B$1\",\"Details\")","v":"Details"},{"$f":"HYPERLINK(Options!$B$1, \"Quote\")","v":"Quote"},{"$f":"HYPERLINK(Options!$B$2,\"Fax\")","v":"Fax"}]
["Down Under Municipal Services",null,"269-344-0127  X-207",null,null,null,null,null,{"$f":"HYPERLINK(\"#'Client Details'!$B$1\",\"Details\")","v":"Details"},{"$f":"HYPERLINK(Options!$B$1, \"Quote\")","v":"Quote"},{"$f":"HYPERLINK(Options!$B$2,\"Fax\")","v":"Fax"}]
["Down Under Municipal Services (Draft)","Tim Draft"," 269-344-0127","tdraft@downundermunicipal.com","Client Services Manager","Contractor General","Kalamazoo",null,{"$f":"HYPERLINK(\"#'Client Details'!$B$1\",\"Details\")","v":"Details"},{"$f":"HYPERLINK(Options!$B$1, \"Quote\")","v":"Quote"},{"$f":"HYPERLINK(Options!$B$2,\"Fax\")","v":"Fax"}]
["Down Under Municipal Services (Lang)","Ken Lang"," 269-344-0127 207","ken@downundermunicipal.com",null,"Contractor General","Kalamazoo",null,{"$f":"HYPERLINK(\"#'Client Details'!$B$1\",\"Details\")","v":"Details"},{"$f":"HYPERLINK(Options!$B$1, \"Quote\")","v":"Quote"},{"$f":"HYPERLINK(Options!$B$2,\"Fax\")","v":"Fax"}]
["Downtown Alliance","Lonnie Theobold","616-477-3788",null,null,null,null,null,{"$f":"HYPERLINK(\"#'Client Details'!$B$1\",\"Details\")","v":"Details"},{"$f":"HYPERLINK(Options!$B$1, \"Quote\")","v":"Quote"},{"$f":"HYPERLINK(Options!$B$2,\"Fax\")","v":"Fax"}]
["Draeger Safety, Inc. (Hickman)","Joe Hickman"," 800-922-5518 209","joe.hickman@draeger.com",null,"Supplier","Out of State",null,{"$f":"HYPERLINK(\"#'Client Details'!$B$1\",\"Details\")","v":"Details"},{"$f":"HYPERLINK(Options!$B$1, \"Quote\")","v":"Quote"},{"$f":"HYPERLINK(Options!$B$2,\"Fax\")","v":"Fax"}]
["Draeger Safety, Inc. (Warn)","Russell Warn"," 800-858-1737","russell.warn@draeger.com","Regional Sales Manager","Supplier","Oakland",null,{"$f":"HYPERLINK(\"#'Client Details'!$B$1\",\"Details\")","v":"Details"},{"$f":"HYPERLINK(Options!$B$1, \"Quote\")","v":"Quote"},{"$f":"HYPERLINK(Options!$B$2,\"Fax\")","v":"Fax"}]
["Driesenga & Associates, Inc. (Holland)","Dan Marlor","616-396-0255",null,null,null,null,null,{"$f":"HYPERLINK(\"#'Client Details'!$B$1\",\"Details\")","v":"Details"},{"$f":"HYPERLINK(Options!$B$1, \"Quote\")","v":"Quote"},{"$f":"HYPERLINK(Options!$B$2,\"Fax\")","v":"Fax"}]
["DRS Technologies Inc.","Greg Beane",null,null,null,null,null,null,{"$f":"HYPERLINK(\"#'Client Details'!$B$1\",\"Details\")","v":"Details"},{"$f":"HYPERLINK(Options!$B$1, \"Quote\")","v":"Quote"},{"$f":"HYPERLINK(Options!$B$2,\"Fax\")","v":"Fax"}]
["DRS Technologies Inc. (Beane)","Greg Beane"," 859-393-0552","gbeane@drs-ssi.com",null,"Manufacturer","Out of State",null,{"$f":"HYPERLINK(\"#'Client Details'!$B$1\",\"Details\")","v":"Details"},{"$f":"HYPERLINK(Options!$B$1, \"Quote\")","v":"Quote"},{"$f":"HYPERLINK(Options!$B$2,\"Fax\")","v":"Fax"}]
["DSSI","Daren Cabble","248-208-8358",null,null,null,null,null,{"$f":"HYPERLINK(\"#'Client Details'!$B$1\",\"Details\")","v":"Details"},{"$f":"HYPERLINK(Options!$B$1, \"Quote\")","v":"Quote"},{"$f":"HYPERLINK(Options!$B$2,\"Fax\")","v":"Fax"}]
["DTE Energy (Alpena)","Steve Kaminski","989-354-2797",null,null,null,null,null,{"$f":"HYPERLINK(\"#'Client Details'!$B$1\",\"Details\")","v":"Details"},{"$f":"HYPERLINK(Options!$B$1, \"Quote\")","v":"Quote"},{"$f":"HYPERLINK(Options!$B$2,\"Fax\")","v":"Fax"}]
["DTE Energy (Big Rapids)","Mike Newman","231-592-3277",null,null,null,null,null,{"$f":"HYPERLINK(\"#'Client Details'!$B$1\",\"Details\")","v":"Details"},{"$f":"HYPERLINK(Options!$B$1, \"Quote\")","v":"Quote"},{"$f":"HYPERLINK(Options!$B$2,\"Fax\")","v":"Fax"}]
["DTE Energy (Cadillac)","Matt Logan","231-463-5860",null,null,null,null,null,{"$f":"HYPERLINK(\"#'Client Details'!$B$1\",\"Details\")","v":"Details"},{"$f":"HYPERLINK(Options!$B$1, \"Quote\")","v":"Quote"},{"$f":"HYPERLINK(Options!$B$2,\"Fax\")","v":"Fax"}]
["DTE Energy (Grand Rapids)","Jim Schultz","632-2694",null,null,null,null,null,{"$f":"HYPERLINK(\"#'Client Details'!$B$1\",\"Details\")","v":"Details"},{"$f":"HYPERLINK(Options!$B$1, \"Quote\")","v":"Quote"},{"$f":"HYPERLINK(Options!$B$2,\"Fax\")","v":"Fax"}]
["DTE Energy (Grayling)","Aaron Millikin","989-348-2112",null,null,null,null,null,{"$f":"HYPERLINK(\"#'Client Details'!$B$1\",\"Details\")","v":"Details"},{"$f":"HYPERLINK(Options!$B$1, \"Quote\")","v":"Quote"},{"$f":"HYPERLINK(Options!$B$2,\"Fax\")","v":"Fax"}]
["DTE Energy (Kalkaska)","Safety First",null,null,null,null,null,null,{"$f":"HYPERLINK(\"#'Client Details'!$B$1\",\"Details\")","v":"Details"},{"$f":"HYPERLINK(Options!$B$1, \"Quote\")","v":"Quote"},{"$f":"HYPERLINK(Options!$B$2,\"Fax\")","v":"Fax"}]
["DTE Energy (Ludington)","Stephen Lipps","231-757-3731",null,null,null,null,null,{"$f":"HYPERLINK(\"#'Client Details'!$B$1\",\"Details\")","v":"Details"},{"$f":"HYPERLINK(Options!$B$1, \"Quote\")","v":"Quote"},{"$f":"HYPERLINK(Options!$B$2,\"Fax\")","v":"Fax"}]
["DTE Energy (Mt. Pleasant)","Rick Krell","989-330-7492",null,null,null,null,null,{"$f":"HYPERLINK(\"#'Client Details'!$B$1\",\"Details\")","v":"Details"},{"$f":"HYPERLINK(Options!$B$1, \"Quote\")","v":"Quote"},{"$f":"HYPERLINK(Options!$B$2,\"Fax\")","v":"Fax"}]
["DTE Energy (Tawas)","Jere Sieloff","989-362-3011","sieloffj@dteenergy.com",null,null,null,null,{"$f":"HYPERLINK(\"#'Client Details'!$B$1\",\"Details\")","v":"Details"},{"$f":"HYPERLINK(Options!$B$1, \"Quote\")","v":"Quote"},{"$f":"HYPERLINK(Options!$B$2,\"Fax\")","v":"Fax"}]
["DTE Energy MichCon (Banks)","Karen Banks"," 231-592-3277","banksk@dteenergy.com",null,"Utility","Mecosta",null,{"$f":"HYPERLINK(\"#'Client Details'!$B$1\",\"Details\")","v":"Details"},{"$f":"HYPERLINK(Options!$B$1, \"Quote\")","v":"Quote"},{"$f":"HYPERLINK(Options!$B$2,\"Fax\")","v":"Fax"}]
["DTE Energy MichCon (Flemings)","Robert Flemings"," 616-632-2673","flemingsr@dteenergy.com","Manager","Utility","Kent",null,{"$f":"HYPERLINK(\"#'Client Details'!$B$1\",\"Details\")","v":"Details"},{"$f":"HYPERLINK(Options!$B$1, \"Quote\")","v":"Quote"},{"$f":"HYPERLINK(Options!$B$2,\"Fax\")","v":"Fax"}]
["DTE Energy MichCon (Newman)","Mike Newman"," 231-592-3278","newmanm@dteenergy.com",null,"Utility","Mecosta",null,{"$f":"HYPERLINK(\"#'Client Details'!$B$1\",\"Details\")","v":"Details"},{"$f":"HYPERLINK(Options!$B$1, \"Quote\")","v":"Quote"},{"$f":"HYPERLINK(Options!$B$2,\"Fax\")","v":"Fax"}]
["DTE Energy MichCon (Simmons)","Robert Simmons"," 616-632-2644","simmonsrm@dteenergy.com","Environmental Engineer","Utility","Kent",null,{"$f":"HYPERLINK(\"#'Client Details'!$B$1\",\"Details\")","v":"Details"},{"$f":"HYPERLINK(Options!$B$1, \"Quote\")","v":"Quote"},{"$f":"HYPERLINK(Options!$B$2,\"Fax\")","v":"Fax"}]
["DTR Industries",null,"419-358-2121",null,null,null,null,null,{"$f":"HYPERLINK(\"#'Client Details'!$B$1\",\"Details\")","v":"Details"},{"$f":"HYPERLINK(Options!$B$1, \"Quote\")","v":"Quote"},{"$f":"HYPERLINK(Options!$B$2,\"Fax\")","v":"Fax"}]
["DTR Industries, Inc (Jones)","Laura Jones"," 419-358-2121","ljones@dtroh.com","Safety Coordinator","Manufacturer","Out of State",null,{"$f":"HYPERLINK(\"#'Client Details'!$B$1\",\"Details\")","v":"Details"},{"$f":"HYPERLINK(Options!$B$1, \"Quote\")","v":"Quote"},{"$f":"HYPERLINK(Options!$B$2,\"Fax\")","v":"Fax"}]
["Du Pont (Bean)","Tammy Bean"," 256-878-1981",null,null,"Supplier","N/A",null,{"$f":"HYPERLINK(\"#'Client Details'!$B$1\",\"Details\")","v":"Details"},{"$f":"HYPERLINK(Options!$B$1, \"Quote\")","v":"Quote"},{"$f":"HYPERLINK(Options!$B$2,\"Fax\")","v":"Fax"}]
["Dubric Equipment","Jon Couturier","800-848-0022","jcouturier@dubric.com",null,null,null,null,{"$f":"HYPERLINK(\"#'Client Details'!$B$1\",\"Details\")","v":"Details"},{"$f":"HYPERLINK(Options!$B$1, \"Quote\")","v":"Quote"},{"$f":"HYPERLINK(Options!$B$2,\"Fax\")","v":"Fax"}]
["Duke Energy (Ashpabula, OH)","Andy Cranfill","440-994-1550",null,null,null,null,null,{"$f":"HYPERLINK(\"#'Client Details'!$B$1\",\"Details\")","v":"Details"},{"$f":"HYPERLINK(Options!$B$1, \"Quote\")","v":"Quote"},{"$f":"HYPERLINK(Options!$B$2,\"Fax\")","v":"Fax"}]
["Duke Energy Field Services","Robert Ratkus","724-643-2151",null,null,null,null,null,{"$f":"HYPERLINK(\"#'Client Details'!$B$1\",\"Details\")","v":"Details"},{"$f":"HYPERLINK(Options!$B$1, \"Quote\")","v":"Quote"},{"$f":"HYPERLINK(Options!$B$2,\"Fax\")","v":"Fax"}]
["Duncan Aviation - Battle Creek (Jones)","Mack Jones"," 269-969-8400","mack_jones@duncanaviation.com",null,null,"Calhoun",null,{"$f":"HYPERLINK(\"#'Client Details'!$B$1\",\"Details\")","v":"Details"},{"$f":"HYPERLINK(Options!$B$1, \"Quote\")","v":"Quote"},{"$f":"HYPERLINK(Options!$B$2,\"Fax\")","v":"Fax"}]
["Duncan Industrial Solutions","Jill Veen","231-894-7019",null,null,null,null,null,{"$f":"HYPERLINK(\"#'Client Details'!$B$1\",\"Details\")","v":"Details"},{"$f":"HYPERLINK(Options!$B$1, \"Quote\")","v":"Quote"},{"$f":"HYPERLINK(Options!$B$2,\"Fax\")","v":"Fax"}]
["Duperon Corporation","Beth Powers","989-754-8800",null,null,null,null,null,{"$f":"HYPERLINK(\"#'Client Details'!$B$1\",\"Details\")","v":"Details"},{"$f":"HYPERLINK(Options!$B$1, \"Quote\")","v":"Quote"},{"$f":"HYPERLINK(Options!$B$2,\"Fax\")","v":"Fax"}]
["Duperon Corporation (Powers)","Beth Powers"," 989-548-800","bpowers@duperon.com","Project Manager","Contractor General","Saginaw",null,{"$f":"HYPERLINK(\"#'Client Details'!$B$1\",\"Details\")","v":"Details"},{"$f":"HYPERLINK(Options!$B$1, \"Quote\")","v":"Quote"},{"$f":"HYPERLINK(Options!$B$2,\"Fax\")","v":"Fax"}]
["DuPont (Richmond)","Dan Pezzat","804-383-3920",null,null,null,null,null,{"$f":"HYPERLINK(\"#'Client Details'!$B$1\",\"Details\")","v":"Details"},{"$f":"HYPERLINK(Options!$B$1, \"Quote\")","v":"Quote"},{"$f":"HYPERLINK(Options!$B$2,\"Fax\")","v":"Fax"}]
["DuPont Personal Protection (Wilson)","Kevin Wilson"," 843-335-5907",null,"Inside Sales","Supplier","Wayne",null,{"$f":"HYPERLINK(\"#'Client Details'!$B$1\",\"Details\")","v":"Details"},{"$f":"HYPERLINK(Options!$B$1, \"Quote\")","v":"Quote"},{"$f":"HYPERLINK(Options!$B$2,\"Fax\")","v":"Fax"}]
["Dura Automotive Systems, Inc (Baker)","Jill Baker"," 231-587-0269",null,"Purchasing Agent",null,"Antrim",null,{"$f":"HYPERLINK(\"#'Client Details'!$B$1\",\"Details\")","v":"Details"},{"$f":"HYPERLINK(Options!$B$1, \"Quote\")","v":"Quote"},{"$f":"HYPERLINK(Options!$B$2,\"Fax\")","v":"Fax"}]
["Dura Automotive Systems, Inc. (Kentwood)","Jim Kemp","616-957-9544",null,null,null,null,null,{"$f":"HYPERLINK(\"#'Client Details'!$B$1\",\"Details\")","v":"Details"},{"$f":"HYPERLINK(Options!$B$1, \"Quote\")","v":"Quote"},{"$f":"HYPERLINK(Options!$B$2,\"Fax\")","v":"Fax"}]
["Dura Automotive Systems, Inc. (Mancelona)","Jill Baker","231-587-0279",null,null,null,null,null,{"$f":"HYPERLINK(\"#'Client Details'!$B$1\",\"Details\")","v":"Details"},{"$f":"HYPERLINK(Options!$B$1, \"Quote\")","v":"Quote"},{"$f":"HYPERLINK(Options!$B$2,\"Fax\")","v":"Fax"}]
["Durkin Equipment Company",null,"314-432-2040",null,null,null,null,null,{"$f":"HYPERLINK(\"#'Client Details'!$B$1\",\"Details\")","v":"Details"},{"$f":"HYPERLINK(Options!$B$1, \"Quote\")","v":"Quote"},{"$f":"HYPERLINK(Options!$B$2,\"Fax\")","v":"Fax"}]
["Dutton Fire Department (Jansen)","Russ Jansen"," 616-541-0119","duttonfire@yahoo.com","Fire Chief","Fire Department","Kent",null,{"$f":"HYPERLINK(\"#'Client Details'!$B$1\",\"Details\")","v":"Details"},{"$f":"HYPERLINK(Options!$B$1, \"Quote\")","v":"Quote"},{"$f":"HYPERLINK(Options!$B$2,\"Fax\")","v":"Fax"}]
["Dutton Fire Dept.","Chief Russ Jansen","616-541-0119",null,null,null,null,null,{"$f":"HYPERLINK(\"#'Client Details'!$B$1\",\"Details\")","v":"Details"},{"$f":"HYPERLINK(Options!$B$1, \"Quote\")","v":"Quote"},{"$f":"HYPERLINK(Options!$B$2,\"Fax\")","v":"Fax"}]
["DVK Construction, Inc.","Tony Roussey","616-698-6810",null,null,null,null,null,{"$f":"HYPERLINK(\"#'Client Details'!$B$1\",\"Details\")","v":"Details"},{"$f":"HYPERLINK(Options!$B$1, \"Quote\")","v":"Quote"},{"$f":"HYPERLINK(Options!$B$2,\"Fax\")","v":"Fax"}]
["DVK Construction, Inc. (Unknown)","Unknown"," 616-698-6810","ken@dvkinc.com",null,"Contractor General","Kent",null,{"$f":"HYPERLINK(\"#'Client Details'!$B$1\",\"Details\")","v":"Details"},{"$f":"HYPERLINK(Options!$B$1, \"Quote\")","v":"Quote"},{"$f":"HYPERLINK(Options!$B$2,\"Fax\")","v":"Fax"}]
["DVT Electric","Jim Warners","616-538-0039",null,null,null,null,null,{"$f":"HYPERLINK(\"#'Client Details'!$B$1\",\"Details\")","v":"Details"},{"$f":"HYPERLINK(Options!$B$1, \"Quote\")","v":"Quote"},{"$f":"HYPERLINK(Options!$B$2,\"Fax\")","v":"Fax"}]
["DVT Electric (Warners)","Jim Warners"," 616-538-0039","jim@dvtelectric.com",null,"Contractor Electrical","Kent",null,{"$f":"HYPERLINK(\"#'Client Details'!$B$1\",\"Details\")","v":"Details"},{"$f":"HYPERLINK(Options!$B$1, \"Quote\")","v":"Quote"},{"$f":"HYPERLINK(Options!$B$2,\"Fax\")","v":"Fax"}]
["DW Hill Inc.","Matt Grifford","810-765-5238",null,null,null,null,null,{"$f":"HYPERLINK(\"#'Client Details'!$B$1\",\"Details\")","v":"Details"},{"$f":"HYPERLINK(Options!$B$1, \"Quote\")","v":"Quote"},{"$f":"HYPERLINK(Options!$B$2,\"Fax\")","v":"Fax"}]
["Dykema Excavating","Gary Woodruff","616-363-6895",null,null,null,null,null,{"$f":"HYPERLINK(\"#'Client Details'!$B$1\",\"Details\")","v":"Details"},{"$f":"HYPERLINK(Options!$B$1, \"Quote\")","v":"Quote"},{"$f":"HYPERLINK(Options!$B$2,\"Fax\")","v":"Fax"}]
["Dykema Excavators, Inc.","Gary Woodruff","616-363-6895",null,null,null,null,null,{"$f":"HYPERLINK(\"#'Client Details'!$B$1\",\"Details\")","v":"Details"},{"$f":"HYPERLINK(Options!$B$1, \"Quote\")","v":"Quote"},{"$f":"HYPERLINK(Options!$B$2,\"Fax\")","v":"Fax"}]
["Dykema Excavators, Inc. (Sikkema)","Dave Sikkema"," 616-363-8989",null,"Purchasing","Contractor, Excavator","Kent",null,{"$f":"HYPERLINK(\"#'Client Details'!$B$1\",\"Details\")","v":"Details"},{"$f":"HYPERLINK(Options!$B$1, \"Quote\")","v":"Quote"},{"$f":"HYPERLINK(Options!$B$2,\"Fax\")","v":"Fax"}]
["Dykema Excavators, Inc. (Woodruff)","Gary Woodruff"," 616-363-6895","gwoodruff@dykemaexcavators.com","Safety Manager","Contractor, Excavator","Kent",null,{"$f":"HYPERLINK(\"#'Client Details'!$B$1\",\"Details\")","v":"Details"},{"$f":"HYPERLINK(Options!$B$1, \"Quote\")","v":"Quote"},{"$f":"HYPERLINK(Options!$B$2,\"Fax\")","v":"Fax"}]
["Dynamic Conveyor Corp. (Thomas)","Rick Thomas"," 231-798-1483",null,"Purchasing Agent","Manufacturer","Muskegon",null,{"$f":"HYPERLINK(\"#'Client Details'!$B$1\",\"Details\")","v":"Details"},{"$f":"HYPERLINK(Options!$B$1, \"Quote\")","v":"Quote"},{"$f":"HYPERLINK(Options!$B$2,\"Fax\")","v":"Fax"}]
["Dynamic Sales & Marketing (Turner)","Bob Turner"," 630-876-8850","dynamicsalesinc@aol.com",null,"Representative","Out of State",null,{"$f":"HYPERLINK(\"#'Client Details'!$B$1\",\"Details\")","v":"Details"},{"$f":"HYPERLINK(Options!$B$1, \"Quote\")","v":"Quote"},{"$f":"HYPERLINK(Options!$B$2,\"Fax\")","v":"Fax"}]
["E & R Industrial Sales","Pat  or Nancy","586-795-2400",null,null,null,null,null,{"$f":"HYPERLINK(\"#'Client Details'!$B$1\",\"Details\")","v":"Details"},{"$f":"HYPERLINK(Options!$B$1, \"Quote\")","v":"Quote"},{"$f":"HYPERLINK(Options!$B$2,\"Fax\")","v":"Fax"}]
["E. P. S. Engineered Protection Systems (N","Gerald Nelson"," 800-966-9199","gnelson@epssecurity.com",null,"Contractor General","Kent",null,{"$f":"HYPERLINK(\"#'Client Details'!$B$1\",\"Details\")","v":"Details"},{"$f":"HYPERLINK(Options!$B$1, \"Quote\")","v":"Quote"},{"$f":"HYPERLINK(Options!$B$2,\"Fax\")","v":"Fax"}]
["E.K. Blessing Co. Inc","Keith Reitz","574-293-0833","kreitz@ekblessing.com",null,null,null,null,{"$f":"HYPERLINK(\"#'Client Details'!$B$1\",\"Details\")","v":"Details"},{"$f":"HYPERLINK(Options!$B$1, \"Quote\")","v":"Quote"},{"$f":"HYPERLINK(Options!$B$2,\"Fax\")","v":"Fax"}]
["E.R.M. - Holland (Adams)","Rob Adams"," 616-738-7390","rob.adams@erm.com",null,"Contractor EH&S","Ottawa",null,{"$f":"HYPERLINK(\"#'Client Details'!$B$1\",\"Details\")","v":"Details"},{"$f":"HYPERLINK(Options!$B$1, \"Quote\")","v":"Quote"},{"$f":"HYPERLINK(Options!$B$2,\"Fax\")","v":"Fax"}]
["E.R.M. - Holland (Beck)","Mike Beck"," 616-738-7320","mike.beck@erm.com",null,"Contractor EH&S","Ottawa",null,{"$f":"HYPERLINK(\"#'Client Details'!$B$1\",\"Details\")","v":"Details"},{"$f":"HYPERLINK(Options!$B$1, \"Quote\")","v":"Quote"},{"$f":"HYPERLINK(Options!$B$2,\"Fax\")","v":"Fax"}]
["E.R.M. - Holland (O'Connell)","Thomas P. O'Connell, P.E."," 616-738-7340","tomas.o'connell@erm.com",null,"Contractor EH&S","Ottawa",null,{"$f":"HYPERLINK(\"#'Client Details'!$B$1\",\"Details\")","v":"Details"},{"$f":"HYPERLINK(Options!$B$1, \"Quote\")","v":"Quote"},{"$f":"HYPERLINK(Options!$B$2,\"Fax\")","v":"Fax"}]
["E.R.M. - Holland (Sterkenburg)","Paul Sterkenburg"," 616-738-7351","paul.sterkenburg@erm.com","Project Manager","Contractor EH&S","Ottawa",null,{"$f":"HYPERLINK(\"#'Client Details'!$B$1\",\"Details\")","v":"Details"},{"$f":"HYPERLINK(Options!$B$1, \"Quote\")","v":"Quote"},{"$f":"HYPERLINK(Options!$B$2,\"Fax\")","v":"Fax"}]
["E.R.M. - Holland (Weber)","Chad Weber"," 616-738-7341","chad.weber@erm.com",null,"Contractor EH&S","Ottawa",null,{"$f":"HYPERLINK(\"#'Client Details'!$B$1\",\"Details\")","v":"Details"},{"$f":"HYPERLINK(Options!$B$1, \"Quote\")","v":"Quote"},{"$f":"HYPERLINK(Options!$B$2,\"Fax\")","v":"Fax"}]
["E.S.H., Inc.","Beth Fuselier","866-836-3800",null,null,null,null,null,{"$f":"HYPERLINK(\"#'Client Details'!$B$1\",\"Details\")","v":"Details"},{"$f":"HYPERLINK(Options!$B$1, \"Quote\")","v":"Quote"},{"$f":"HYPERLINK(Options!$B$2,\"Fax\")","v":"Fax"}]
["Eagle Alloy (Velez)","Lisa Velez"," 231-788-7012","lvelez@eaglealloy.com","HR","Manufacturer","Muskegon",null,{"$f":"HYPERLINK(\"#'Client Details'!$B$1\",\"Details\")","v":"Details"},{"$f":"HYPERLINK(Options!$B$1, \"Quote\")","v":"Quote"},{"$f":"HYPERLINK(Options!$B$2,\"Fax\")","v":"Fax"}]
["Eagle Aluminum Cast Products","Doug Schlattman","231-726-4290",null,null,null,null,null,{"$f":"HYPERLINK(\"#'Client Details'!$B$1\",\"Details\")","v":"Details"},{"$f":"HYPERLINK(Options!$B$1, \"Quote\")","v":"Quote"},{"$f":"HYPERLINK(Options!$B$2,\"Fax\")","v":"Fax"}]
["Eagle Environmental (Sherman)","Art Sherman"," 847-400-5351","ajseagle@tds.net",null,"Contractor EH&S","Out of State",null,{"$f":"HYPERLINK(\"#'Client Details'!$B$1\",\"Details\")","v":"Details"},{"$f":"HYPERLINK(Options!$B$1, \"Quote\")","v":"Quote"},{"$f":"HYPERLINK(Options!$B$2,\"Fax\")","v":"Fax"}]
["Eagle Fabrication & Repair","John Bradbury","419-898-1369",null,null,null,null,null,{"$f":"HYPERLINK(\"#'Client Details'!$B$1\",\"Details\")","v":"Details"},{"$f":"HYPERLINK(Options!$B$1, \"Quote\")","v":"Quote"},{"$f":"HYPERLINK(Options!$B$2,\"Fax\")","v":"Fax"}]
["Eagle Mountain Environmental","Tara Schmidt","724-473-8601",null,null,null,null,null,{"$f":"HYPERLINK(\"#'Client Details'!$B$1\",\"Details\")","v":"Details"},{"$f":"HYPERLINK(Options!$B$1, \"Quote\")","v":"Quote"},{"$f":"HYPERLINK(Options!$B$2,\"Fax\")","v":"Fax"}]
["Eagle Tec Inc. (Savara)","John Savara"," 616-285-8888","jsavara@aol.com",null,"Representative","Kent",null,{"$f":"HYPERLINK(\"#'Client Details'!$B$1\",\"Details\")","v":"Details"},{"$f":"HYPERLINK(Options!$B$1, \"Quote\")","v":"Quote"},{"$f":"HYPERLINK(Options!$B$2,\"Fax\")","v":"Fax"}]
["Earthtech (Grand Rapids/Nolan)","Kristopher Nolan","616-940-4272",null,null,null,null,null,{"$f":"HYPERLINK(\"#'Client Details'!$B$1\",\"Details\")","v":"Details"},{"$f":"HYPERLINK(Options!$B$1, \"Quote\")","v":"Quote"},{"$f":"HYPERLINK(Options!$B$2,\"Fax\")","v":"Fax"}]
["Earthtech (Leslie)","Nick Hautamaki","517-589-5700",null,null,null,null,null,{"$f":"HYPERLINK(\"#'Client Details'!$B$1\",\"Details\")","v":"Details"},{"$f":"HYPERLINK(Options!$B$1, \"Quote\")","v":"Quote"},{"$f":"HYPERLINK(Options!$B$2,\"Fax\")","v":"Fax"}]
["Earthtech (Okmulgee)","Mike Moore","918-756-1408",null,null,null,null,null,{"$f":"HYPERLINK(\"#'Client Details'!$B$1\",\"Details\")","v":"Details"},{"$f":"HYPERLINK(Options!$B$1, \"Quote\")","v":"Quote"},{"$f":"HYPERLINK(Options!$B$2,\"Fax\")","v":"Fax"}]
["Earthtech (Portland)","Lonny Freed","517-647-6926",null,null,null,null,null,{"$f":"HYPERLINK(\"#'Client Details'!$B$1\",\"Details\")","v":"Details"},{"$f":"HYPERLINK(Options!$B$1, \"Quote\")","v":"Quote"},{"$f":"HYPERLINK(Options!$B$2,\"Fax\")","v":"Fax"}]
["Earthtech (SHVUA)","Dave Hemsworth",null,null,null,null,null,null,{"$f":"HYPERLINK(\"#'Client Details'!$B$1\",\"Details\")","v":"Details"},{"$f":"HYPERLINK(Options!$B$1, \"Quote\")","v":"Quote"},{"$f":"HYPERLINK(Options!$B$2,\"Fax\")","v":"Fax"}]
["Earthtech (Warren)","Krista Sheldon",null,null,null,null,null,null,{"$f":"HYPERLINK(\"#'Client Details'!$B$1\",\"Details\")","v":"Details"},{"$f":"HYPERLINK(Options!$B$1, \"Quote\")","v":"Quote"},{"$f":"HYPERLINK(Options!$B$2,\"Fax\")","v":"Fax"}]
["East Coast Repair & Fabrication","Paul Grenier","757-455-9600","plgrenier@yahoo.com",null,null,null,null,{"$f":"HYPERLINK(\"#'Client Details'!$B$1\",\"Details\")","v":"Details"},{"$f":"HYPERLINK(Options!$B$1, \"Quote\")","v":"Quote"},{"$f":"HYPERLINK(Options!$B$2,\"Fax\")","v":"Fax"}]
["East Grand Rapids DPW, City of","Bill Morey","616-940-4870",null,null,null,null,null,{"$f":"HYPERLINK(\"#'Client Details'!$B$1\",\"Details\")","v":"Details"},{"$f":"HYPERLINK(Options!$B$1, \"Quote\")","v":"Quote"},{"$f":"HYPERLINK(Options!$B$2,\"Fax\")","v":"Fax"}]
["East Grand Rapids DPW, City of (Stehouwer","James Stehouwer"," 616-940-4870","jstehouwer@eastgr.org","Streets & Utilities Foreman","Municipal, Cty","Kent",null,{"$f":"HYPERLINK(\"#'Client Details'!$B$1\",\"Details\")","v":"Details"},{"$f":"HYPERLINK(Options!$B$1, \"Quote\")","v":"Quote"},{"$f":"HYPERLINK(Options!$B$2,\"Fax\")","v":"Fax"}]
["East Grand Rapids DPW, City of (Terbeck)","Terry Terbeck"," 616-940-4870",null,null,"Municipal, Cty","Kent",null,{"$f":"HYPERLINK(\"#'Client Details'!$B$1\",\"Details\")","v":"Details"},{"$f":"HYPERLINK(Options!$B$1, \"Quote\")","v":"Quote"},{"$f":"HYPERLINK(Options!$B$2,\"Fax\")","v":"Fax"}]
["East Grand Rapids DPW, City of (VanVels)","Leah VanVels"," 616-949-1750",null,"Grounds Maintenance Supervisor","Municipal, Cty","Kent",null,{"$f":"HYPERLINK(\"#'Client Details'!$B$1\",\"Details\")","v":"Details"},{"$f":"HYPERLINK(Options!$B$1, \"Quote\")","v":"Quote"},{"$f":"HYPERLINK(Options!$B$2,\"Fax\")","v":"Fax"}]
["East Grand Rapids Public Safety, City of","Charles Lark"," 616-949-7010","clark@eastgr.org","Support Services Commander","Municipal, Cty","Kent",null,{"$f":"HYPERLINK(\"#'Client Details'!$B$1\",\"Details\")","v":"Details"},{"$f":"HYPERLINK(Options!$B$1, \"Quote\")","v":"Quote"},{"$f":"HYPERLINK(Options!$B$2,\"Fax\")","v":"Fax"}]
["East Grand Rapids Public Safety, City of","Charles Lark"," 616-949-7010","clark@eastgr.org","Support Services Commander","Municipal, Cty","Kent",null,{"$f":"HYPERLINK(\"#'Client Details'!$B$1\",\"Details\")","v":"Details"},{"$f":"HYPERLINK(Options!$B$1, \"Quote\")","v":"Quote"},{"$f":"HYPERLINK(Options!$B$2,\"Fax\")","v":"Fax"}]
["East Grand Rapids Public Safety, City of","Charles Lark"," 616-949-7010","clark@eastgr.org","Support Services Commander","Municipal, Cty","Kent",null,{"$f":"HYPERLINK(\"#'Client Details'!$B$1\",\"Details\")","v":"Details"},{"$f":"HYPERLINK(Options!$B$1, \"Quote\")","v":"Quote"},{"$f":"HYPERLINK(Options!$B$2,\"Fax\")","v":"Fax"}]
["East Grand Rapids, Parks and Rec. City of","Pat Skunda","949-1750",null,null,null,null,null,{"$f":"HYPERLINK(\"#'Client Details'!$B$1\",\"Details\")","v":"Details"},{"$f":"HYPERLINK(Options!$B$1, \"Quote\")","v":"Quote"},{"$f":"HYPERLINK(Options!$B$2,\"Fax\")","v":"Fax"}]
["East Jordan Iron Works","Mike Vander Moelen","616-538-2040",null,null,null,null,null,{"$f":"HYPERLINK(\"#'Client Details'!$B$1\",\"Details\")","v":"Details"},{"$f":"HYPERLINK(Options!$B$1, \"Quote\")","v":"Quote"},{"$f":"HYPERLINK(Options!$B$2,\"Fax\")","v":"Fax"}]
["East Jordan Iron Works (Doebel)","John Doebel"," 231-536-4560","jdoebel@ejiw.com",null,"Steel","Charlevoix",null,{"$f":"HYPERLINK(\"#'Client Details'!$B$1\",\"Details\")","v":"Details"},{"$f":"HYPERLINK(Options!$B$1, \"Quote\")","v":"Quote"},{"$f":"HYPERLINK(Options!$B$2,\"Fax\")","v":"Fax"}]
["East Muskegon Roofing and Sheet Metal","Ben Kanaar x2230","231-744-2461","kmead@eastmuskegon.com.",null,null,null,null,{"$f":"HYPERLINK(\"#'Client Details'!$B$1\",\"Details\")","v":"Details"},{"$f":"HYPERLINK(Options!$B$1, \"Quote\")","v":"Quote"},{"$f":"HYPERLINK(Options!$B$2,\"Fax\")","v":"Fax"}]
["East Muskegon Roofing and Sheet Metal (Ka","Ben Kanaar"," 231-744-2461 2230","bkanaar@eastmuskegon.com",null,"Contractor General","Muskegon",null,{"$f":"HYPERLINK(\"#'Client Details'!$B$1\",\"Details\")","v":"Details"},{"$f":"HYPERLINK(Options!$B$1, \"Quote\")","v":"Quote"},{"$f":"HYPERLINK(Options!$B$2,\"Fax\")","v":"Fax"}]
["East Tawas City Fire Department","Ron Klinger","989-362-3685",null,null,null,null,null,{"$f":"HYPERLINK(\"#'Client Details'!$B$1\",\"Details\")","v":"Details"},{"$f":"HYPERLINK(Options!$B$1, \"Quote\")","v":"Quote"},{"$f":"HYPERLINK(Options!$B$2,\"Fax\")","v":"Fax"}]
["Eaton Rapids Police Department (Eddy)","Kim Eddy"," 517-663-8118 8136","keddy@ci.eaton-rapids.mi.us",null,"Municipal, Cty","Eaton",null,{"$f":"HYPERLINK(\"#'Client Details'!$B$1\",\"Details\")","v":"Details"},{"$f":"HYPERLINK(Options!$B$1, \"Quote\")","v":"Quote"},{"$f":"HYPERLINK(Options!$B$2,\"Fax\")","v":"Fax"}]
["eBAY Sales",null,null,null,null,null,null,null,{"$f":"HYPERLINK(\"#'Client Details'!$B$1\",\"Details\")","v":"Details"},{"$f":"HYPERLINK(Options!$B$1, \"Quote\")","v":"Quote"},{"$f":"HYPERLINK(Options!$B$2,\"Fax\")","v":"Fax"}]
["EC Enterprise (Pinney)","Diane Pinney"," 616-243-2257",null,null,"Manufacturer","Kent",null,{"$f":"HYPERLINK(\"#'Client Details'!$B$1\",\"Details\")","v":"Details"},{"$f":"HYPERLINK(Options!$B$1, \"Quote\")","v":"Quote"},{"$f":"HYPERLINK(Options!$B$2,\"Fax\")","v":"Fax"}]
["Ecosystems Strategies Inc. (Rider)","Colleen Rider"," 845-452-1658","colleen@ecosystemsstrategies.com",null,null,"Out of State",null,{"$f":"HYPERLINK(\"#'Client Details'!$B$1\",\"Details\")","v":"Details"},{"$f":"HYPERLINK(Options!$B$1, \"Quote\")","v":"Quote"},{"$f":"HYPERLINK(Options!$B$2,\"Fax\")","v":"Fax"}]
["ECS&R","Gus Hegner","814-425-7773","gushegner@ecsr.net",null,null,null,null,{"$f":"HYPERLINK(\"#'Client Details'!$B$1\",\"Details\")","v":"Details"},{"$f":"HYPERLINK(Options!$B$1, \"Quote\")","v":"Quote"},{"$f":"HYPERLINK(Options!$B$2,\"Fax\")","v":"Fax"}]
["ECS&R (Hegner)","Gus Hegner"," 814-425-7773","g_hegner@yahoo.com","Regulatory Specialist",null,"Out of State",null,{"$f":"HYPERLINK(\"#'Client Details'!$B$1\",\"Details\")","v":"Details"},{"$f":"HYPERLINK(Options!$B$1, \"Quote\")","v":"Quote"},{"$f":"HYPERLINK(Options!$B$2,\"Fax\")","v":"Fax"}]
["Edw. C. Levy Co. (Wagaman)","Terry Wagaman"," 313-429-2327",null,"EH&S Manager","Contractor General","Wayne",null,{"$f":"HYPERLINK(\"#'Client Details'!$B$1\",\"Details\")","v":"Details"},{"$f":"HYPERLINK(Options!$B$1, \"Quote\")","v":"Quote"},{"$f":"HYPERLINK(Options!$B$2,\"Fax\")","v":"Fax"}]
["Edy's Grand Ice Cream (McElroy)","Joe McElroy"," 260-483-3102","joe.mcelroy@us.nestle.com",null,"Food","Allen",null,{"$f":"HYPERLINK(\"#'Client Details'!$B$1\",\"Details\")","v":"Details"},{"$f":"HYPERLINK(Options!$B$1, \"Quote\")","v":"Quote"},{"$f":"HYPERLINK(Options!$B$2,\"Fax\")","v":"Fax"}]
["Egelston Dept of Parks","Herb Schaeffer",null,null,null,null,null,null,{"$f":"HYPERLINK(\"#'Client Details'!$B$1\",\"Details\")","v":"Details"},{"$f":"HYPERLINK(Options!$B$1, \"Quote\")","v":"Quote"},{"$f":"HYPERLINK(Options!$B$2,\"Fax\")","v":"Fax"}]
["Egelston DPW","Larry Rushack","231-788-3729",null,null,null,null,null,{"$f":"HYPERLINK(\"#'Client Details'!$B$1\",\"Details\")","v":"Details"},{"$f":"HYPERLINK(Options!$B$1, \"Quote\")","v":"Quote"},{"$f":"HYPERLINK(Options!$B$2,\"Fax\")","v":"Fax"}]
["Egelston DPW (Schaeffer)","Herb Schaeffer"," 231-788-3729","hshafer@egelstontwp.org","Maintenance Lead","Municipal, Cty","Muskegon",null,{"$f":"HYPERLINK(\"#'Client Details'!$B$1\",\"Details\")","v":"Details"},{"$f":"HYPERLINK(Options!$B$1, \"Quote\")","v":"Quote"},{"$f":"HYPERLINK(Options!$B$2,\"Fax\")","v":"Fax"}]
["EHS Compliance Resource","Jim Clark","989-345-7233",null,null,null,null,null,{"$f":"HYPERLINK(\"#'Client Details'!$B$1\",\"Details\")","v":"Details"},{"$f":"HYPERLINK(Options!$B$1, \"Quote\")","v":"Quote"},{"$f":"HYPERLINK(Options!$B$2,\"Fax\")","v":"Fax"}]
["EI (Cook)","J. Lindsay Cook"," 919-657-7500 246","cook@ei1.com",null,"Contractor EH&S","Out of State",null,{"$f":"HYPERLINK(\"#'Client Details'!$B$1\",\"Details\")","v":"Details"},{"$f":"HYPERLINK(Options!$B$1, \"Quote\")","v":"Quote"},{"$f":"HYPERLINK(Options!$B$2,\"Fax\")","v":"Fax"}]
["Eikenhout (Meekhof)","Mark Meekhof"," 616-459-4523",null,null,"Contractor General","Kent",null,{"$f":"HYPERLINK(\"#'Client Details'!$B$1\",\"Details\")","v":"Details"},{"$f":"HYPERLINK(Options!$B$1, \"Quote\")","v":"Quote"},{"$f":"HYPERLINK(Options!$B$2,\"Fax\")","v":"Fax"}]
["Elan Nutrition (Diehl)","Mike Diehl"," 616-464-3041","mdiehl@elannutrition.com","R&D, Associate Process Enginee","Food","Kent",null,{"$f":"HYPERLINK(\"#'Client Details'!$B$1\",\"Details\")","v":"Details"},{"$f":"HYPERLINK(Options!$B$1, \"Quote\")","v":"Quote"},{"$f":"HYPERLINK(Options!$B$2,\"Fax\")","v":"Fax"}]
["Elberta, Village of ()",null," 231-352-4071","fredum@villageofelberta.org","Village Superintendent","Municipal, Cty","Benzie",null,{"$f":"HYPERLINK(\"#'Client Details'!$B$1\",\"Details\")","v":"Details"},{"$f":"HYPERLINK(Options!$B$1, \"Quote\")","v":"Quote"},{"$f":"HYPERLINK(Options!$B$2,\"Fax\")","v":"Fax"}]
["Electronic Safety of Houston, Inc. (Carme","Carmen"," 281-930-8880","carmen@gas-monitors.com",null,"Supplier","Out State",null,{"$f":"HYPERLINK(\"#'Client Details'!$B$1\",\"Details\")","v":"Details"},{"$f":"HYPERLINK(Options!$B$1, \"Quote\")","v":"Quote"},{"$f":"HYPERLINK(Options!$B$2,\"Fax\")","v":"Fax"}]
["Electronic Safety of Houston, Inc. (Jense","David Jensen"," 866-836-3800","david@gas-monitors.com","President","Supplier","Out State",null,{"$f":"HYPERLINK(\"#'Client Details'!$B$1\",\"Details\")","v":"Details"},{"$f":"HYPERLINK(Options!$B$1, \"Quote\")","v":"Quote"},{"$f":"HYPERLINK(Options!$B$2,\"Fax\")","v":"Fax"}]
["ELIZABETH BURNETTE (CUSTOMER)",null,null,null,null,null,null,null,{"$f":"HYPERLINK(\"#'Client Details'!$B$1\",\"Details\")","v":"Details"},{"$f":"HYPERLINK(Options!$B$1, \"Quote\")","v":"Quote"},{"$f":"HYPERLINK(Options!$B$2,\"Fax\")","v":"Fax"}]
["Elmridge Construction (White)","Jim White"," 616-453-6379",null,null,"Contractor General","Kent",null,{"$f":"HYPERLINK(\"#'Client Details'!$B$1\",\"Details\")","v":"Details"},{"$f":"HYPERLINK(Options!$B$1, \"Quote\")","v":"Quote"},{"$f":"HYPERLINK(Options!$B$2,\"Fax\")","v":"Fax"}]
["Elvex Corporation (Westerdal)","Roland Westerdal"," 203-743-2488","roland@elvex.com","President","Supplier","Out of State",null,{"$f":"HYPERLINK(\"#'Client Details'!$B$1\",\"Details\")","v":"Details"},{"$f":"HYPERLINK(Options!$B$1, \"Quote\")","v":"Quote"},{"$f":"HYPERLINK(Options!$B$2,\"Fax\")","v":"Fax"}]
["Elzinga & Volkers","Bob Gleck","616-392-2383 General",null,null,null,null,null,{"$f":"HYPERLINK(\"#'Client Details'!$B$1\",\"Details\")","v":"Details"},{"$f":"HYPERLINK(Options!$B$1, \"Quote\")","v":"Quote"},{"$f":"HYPERLINK(Options!$B$2,\"Fax\")","v":"Fax"}]
["Elzinga and Volkers, Inc. (Brown)","Dan Brown"," 616-392-2383",null,"Site Manager","Contractor/Builder","Ottawa",null,{"$f":"HYPERLINK(\"#'Client Details'!$B$1\",\"Details\")","v":"Details"},{"$f":"HYPERLINK(Options!$B$1, \"Quote\")","v":"Quote"},{"$f":"HYPERLINK(Options!$B$2,\"Fax\")","v":"Fax"}]
["Elzinga and Volkers, Inc. (DeCloux)","Guy DeCloux"," 616-392-2383",null,"Safety","Contractor General","Ottawa",null,{"$f":"HYPERLINK(\"#'Client Details'!$B$1\",\"Details\")","v":"Details"},{"$f":"HYPERLINK(Options!$B$1, \"Quote\")","v":"Quote"},{"$f":"HYPERLINK(Options!$B$2,\"Fax\")","v":"Fax"}]
["Elzinger & Volkers (Bobeldyk)","Mark Bobeldyk"," 616-392-2383",null,"Area Superintendent, Safety","Contractor General","Ottawa",null,{"$f":"HYPERLINK(\"#'Client Details'!$B$1\",\"Details\")","v":"Details"},{"$f":"HYPERLINK(Options!$B$1, \"Quote\")","v":"Quote"},{"$f":"HYPERLINK(Options!$B$2,\"Fax\")","v":"Fax"}]
["Elzinger & Volkers (DeJonge)","Tom DeJonge"," 616-392-2383","tdejonge@elzinga-volkers.com","Warehouse Manager","Contractor","Ottawa",null,{"$f":"HYPERLINK(\"#'Client Details'!$B$1\",\"Details\")","v":"Details"},{"$f":"HYPERLINK(Options!$B$1, \"Quote\")","v":"Quote"},{"$f":"HYPERLINK(Options!$B$2,\"Fax\")","v":"Fax"}]
["Emerald Spa Corporation (Busscher)","Steve Busscher"," 616-698-2601 113","sbusscher@emeraldspa.com","Plant Manager","Manufacturer","Kent",null,{"$f":"HYPERLINK(\"#'Client Details'!$B$1\",\"Details\")","v":"Details"},{"$f":"HYPERLINK(Options!$B$1, \"Quote\")","v":"Quote"},{"$f":"HYPERLINK(Options!$B$2,\"Fax\")","v":"Fax"}]
["Emergency Response & Training Solutions","Clay Richter","440-543-2400 x304",null,null,null,null,null,{"$f":"HYPERLINK(\"#'Client Details'!$B$1\",\"Details\")","v":"Details"},{"$f":"HYPERLINK(Options!$B$1, \"Quote\")","v":"Quote"},{"$f":"HYPERLINK(Options!$B$2,\"Fax\")","v":"Fax"}]
["Emergency Response & Training Solutions (","Jerry Miller"," 440-543-2400","jerrtmiller@comcast.net",null,"Contractor EH&S","Out of State",null,{"$f":"HYPERLINK(\"#'Client Details'!$B$1\",\"Details\")","v":"Details"},{"$f":"HYPERLINK(Options!$B$1, \"Quote\")","v":"Quote"},{"$f":"HYPERLINK(Options!$B$2,\"Fax\")","v":"Fax"}]
["Emergency Vehicle (Burns)","Tammy Burns"," 616-225-9200","tammy@evsinc.org",null,"Fire Department","Kent",null,{"$f":"HYPERLINK(\"#'Client Details'!$B$1\",\"Details\")","v":"Details"},{"$f":"HYPERLINK(Options!$B$1, \"Quote\")","v":"Quote"},{"$f":"HYPERLINK(Options!$B$2,\"Fax\")","v":"Fax"}]
["Emergency Vehicle Services","Tammy Burns","616-225-9200",null,null,null,null,null,{"$f":"HYPERLINK(\"#'Client Details'!$B$1\",\"Details\")","v":"Details"},{"$f":"HYPERLINK(Options!$B$1, \"Quote\")","v":"Quote"},{"$f":"HYPERLINK(Options!$B$2,\"Fax\")","v":"Fax"}]
["Emergent Biosolutions (Hawkins-Badge)","Anne Hawkins-Badge"," 517-327-6807","hawkinsbadgea@ebsi.com","Senior EHS Manager","Chemical Pharmaceutical","Ingham",null,{"$f":"HYPERLINK(\"#'Client Details'!$B$1\",\"Details\")","v":"Details"},{"$f":"HYPERLINK(Options!$B$1, \"Quote\")","v":"Quote"},{"$f":"HYPERLINK(Options!$B$2,\"Fax\")","v":"Fax"}]
["Emergent Biosolutions (Thompson)","Angela Thompson"," 517-327-1640","thompsona@ebsi.com","Senior Buyer","Chemical Pharmaceutical","Ingham",null,{"$f":"HYPERLINK(\"#'Client Details'!$B$1\",\"Details\")","v":"Details"},{"$f":"HYPERLINK(Options!$B$1, \"Quote\")","v":"Quote"},{"$f":"HYPERLINK(Options!$B$2,\"Fax\")","v":"Fax"}]
["Empire Company Inc. (Coates)","Paul Coates"," 616-772-7272",null,"Safety",null,"Ottawa",null,{"$f":"HYPERLINK(\"#'Client Details'!$B$1\",\"Details\")","v":"Details"},{"$f":"HYPERLINK(Options!$B$1, \"Quote\")","v":"Quote"},{"$f":"HYPERLINK(Options!$B$2,\"Fax\")","v":"Fax"}]
["Empire Refactory Services",null,"616-261-1546",null,null,null,null,null,{"$f":"HYPERLINK(\"#'Client Details'!$B$1\",\"Details\")","v":"Details"},{"$f":"HYPERLINK(Options!$B$1, \"Quote\")","v":"Quote"},{"$f":"HYPERLINK(Options!$B$2,\"Fax\")","v":"Fax"}]
["Employers Association of West Michigan (S","Cheryl Swineheart"," 231-759-0916","cswineheart@eawm.net","President / CEO","Other","Muskegon",null,{"$f":"HYPERLINK(\"#'Client Details'!$B$1\",\"Details\")","v":"Details"},{"$f":"HYPERLINK(Options!$B$1, \"Quote\")","v":"Quote"},{"$f":"HYPERLINK(Options!$B$2,\"Fax\")","v":"Fax"}]
["Employment Traditions",null,"616-891-7808","mlabron@employmenttraditions.com",null,null,null,null,{"$f":"HYPERLINK(\"#'Client Details'!$B$1\",\"Details\")","v":"Details"},{"$f":"HYPERLINK(Options!$B$1, \"Quote\")","v":"Quote"},{"$f":"HYPERLINK(Options!$B$2,\"Fax\")","v":"Fax"}]
["Employment Traditions (Hill)","Steve Vander Hill"," 616-891-6287","svanderhill@employmenttraditions.com",null,"Insurance","Kent",null,{"$f":"HYPERLINK(\"#'Client Details'!$B$1\",\"Details\")","v":"Details"},{"$f":"HYPERLINK(Options!$B$1, \"Quote\")","v":"Quote"},{"$f":"HYPERLINK(Options!$B$2,\"Fax\")","v":"Fax"}]
["Enbridge Energy","Dennis Esterline","517-260-0735",null,null,null,null,null,{"$f":"HYPERLINK(\"#'Client Details'!$B$1\",\"Details\")","v":"Details"},{"$f":"HYPERLINK(Options!$B$1, \"Quote\")","v":"Quote"},{"$f":"HYPERLINK(Options!$B$2,\"Fax\")","v":"Fax"}]
["Enercon (Balloun)","Dan Balloun"," 269-764-2484","dball92@entergy.com",null,"Utility","Van Buren",null,{"$f":"HYPERLINK(\"#'Client Details'!$B$1\",\"Details\")","v":"Details"},{"$f":"HYPERLINK(Options!$B$1, \"Quote\")","v":"Quote"},{"$f":"HYPERLINK(Options!$B$2,\"Fax\")","v":"Fax"}]
["Enerpipe Ltd. (Munith)",null,null,null,null,null,null,null,{"$f":"HYPERLINK(\"#'Client Details'!$B$1\",\"Details\")","v":"Details"},{"$f":"HYPERLINK(Options!$B$1, \"Quote\")","v":"Quote"},{"$f":"HYPERLINK(Options!$B$2,\"Fax\")","v":"Fax"}]
["Engine Power Components",null,"616-846-0110",null,null,null,null,null,{"$f":"HYPERLINK(\"#'Client Details'!$B$1\",\"Details\")","v":"Details"},{"$f":"HYPERLINK(Options!$B$1, \"Quote\")","v":"Quote"},{"$f":"HYPERLINK(Options!$B$2,\"Fax\")","v":"Fax"}]
["Engine Power Components (Deans)","Jude Deans"," 616-846-0110",null,null,"Automotive","Muskegon",null,{"$f":"HYPERLINK(\"#'Client Details'!$B$1\",\"Details\")","v":"Details"},{"$f":"HYPERLINK(Options!$B$1, \"Quote\")","v":"Quote"},{"$f":"HYPERLINK(Options!$B$2,\"Fax\")","v":"Fax"}]
["Engineering Design Solutions, PLC (Ahmed)","Irfan Ahmed"," 269-352-1765","iahmed@enggdesigns.com","President","Engineering, Architecture","Kalamazoo",null,{"$f":"HYPERLINK(\"#'Client Details'!$B$1\",\"Details\")","v":"Details"},{"$f":"HYPERLINK(Options!$B$1, \"Quote\")","v":"Quote"},{"$f":"HYPERLINK(Options!$B$2,\"Fax\")","v":"Fax"}]
["Entergy (Killona)","Jeff Seeber",null,null,null,null,null,null,{"$f":"HYPERLINK(\"#'Client Details'!$B$1\",\"Details\")","v":"Details"},{"$f":"HYPERLINK(Options!$B$1, \"Quote\")","v":"Quote"},{"$f":"HYPERLINK(Options!$B$2,\"Fax\")","v":"Fax"}]
["Entergy (Riverbend Station)","Jacque R. Courville",null,null,null,null,null,null,{"$f":"HYPERLINK(\"#'Client Details'!$B$1\",\"Details\")","v":"Details"},{"$f":"HYPERLINK(Options!$B$1, \"Quote\")","v":"Quote"},{"$f":"HYPERLINK(Options!$B$2,\"Fax\")","v":"Fax"}]
["Entergy Indian Point","Thomas Mitchell","914-734-5764","tmitche@entergy.com",null,null,null,null,{"$f":"HYPERLINK(\"#'Client Details'!$B$1\",\"Details\")","v":"Details"},{"$f":"HYPERLINK(Options!$B$1, \"Quote\")","v":"Quote"},{"$f":"HYPERLINK(Options!$B$2,\"Fax\")","v":"Fax"}]
["Entergy Indian Point (Mitchell)","Thomas Mitchell"," 914-734-5764","tmitche@entergy.com",null,"Utility","Out of State",null,{"$f":"HYPERLINK(\"#'Client Details'!$B$1\",\"Details\")","v":"Details"},{"$f":"HYPERLINK(Options!$B$1, \"Quote\")","v":"Quote"},{"$f":"HYPERLINK(Options!$B$2,\"Fax\")","v":"Fax"}]
["Entergy Killona (Seeber)","Jeff Seeber",null,"jseeber@entergy.com",null,"Utility","Out of State",null,{"$f":"HYPERLINK(\"#'Client Details'!$B$1\",\"Details\")","v":"Details"},{"$f":"HYPERLINK(Options!$B$1, \"Quote\")","v":"Quote"},{"$f":"HYPERLINK(Options!$B$2,\"Fax\")","v":"Fax"}]
["Entergy Palisades","Paul Johnson","269-764-2610",null,null,null,null,null,{"$f":"HYPERLINK(\"#'Client Details'!$B$1\",\"Details\")","v":"Details"},{"$f":"HYPERLINK(Options!$B$1, \"Quote\")","v":"Quote"},{"$f":"HYPERLINK(Options!$B$2,\"Fax\")","v":"Fax"}]
["Entergy Palisades (Beilfuss)","Vern Beilfuss"," 269-764-2673","vbeilfu@entergy.com",null,"Utility","Van Buren",null,{"$f":"HYPERLINK(\"#'Client Details'!$B$1\",\"Details\")","v":"Details"},{"$f":"HYPERLINK(Options!$B$1, \"Quote\")","v":"Quote"},{"$f":"HYPERLINK(Options!$B$2,\"Fax\")","v":"Fax"}]
["Entergy Palisades (Couturier)","Debra Couturier"," 269-764-2360",null,"Buyer","Utility","Van Buren",null,{"$f":"HYPERLINK(\"#'Client Details'!$B$1\",\"Details\")","v":"Details"},{"$f":"HYPERLINK(Options!$B$1, \"Quote\")","v":"Quote"},{"$f":"HYPERLINK(Options!$B$2,\"Fax\")","v":"Fax"}]
["Entergy Palisades (Cowan)","David Cowan"," 269-764-2412","dcowan@entergy.com",null,"Utility","Van Buren",null,{"$f":"HYPERLINK(\"#'Client Details'!$B$1\",\"Details\")","v":"Details"},{"$f":"HYPERLINK(Options!$B$1, \"Quote\")","v":"Quote"},{"$f":"HYPERLINK(Options!$B$2,\"Fax\")","v":"Fax"}]
["Entergy Palisades (Crocker)","Timothy Crocker"," 269-764-2856","tcrocke@entergy.com",null,"Utility","Van Buren",null,{"$f":"HYPERLINK(\"#'Client Details'!$B$1\",\"Details\")","v":"Details"},{"$f":"HYPERLINK(Options!$B$1, \"Quote\")","v":"Quote"},{"$f":"HYPERLINK(Options!$B$2,\"Fax\")","v":"Fax"}]
["Entergy Palisades (Daggett)","Greg Daggett"," 269-764-2488",null,null,"Utility","Van Buren",null,{"$f":"HYPERLINK(\"#'Client Details'!$B$1\",\"Details\")","v":"Details"},{"$f":"HYPERLINK(Options!$B$1, \"Quote\")","v":"Quote"},{"$f":"HYPERLINK(Options!$B$2,\"Fax\")","v":"Fax"}]
["Entergy Palisades (Dalrymple)","James Dalrymple"," 269-764-2176","jdalrym@entergy.com","Maintenance M&TE","Utility","Van Buren",null,{"$f":"HYPERLINK(\"#'Client Details'!$B$1\",\"Details\")","v":"Details"},{"$f":"HYPERLINK(Options!$B$1, \"Quote\")","v":"Quote"},{"$f":"HYPERLINK(Options!$B$2,\"Fax\")","v":"Fax"}]
["Entergy Palisades (Fordham)","Anthony Fordham"," 269-764-2858","afordha@entergy.com",null,"Utility","Van Buren",null,{"$f":"HYPERLINK(\"#'Client Details'!$B$1\",\"Details\")","v":"Details"},{"$f":"HYPERLINK(Options!$B$1, \"Quote\")","v":"Quote"},{"$f":"HYPERLINK(Options!$B$2,\"Fax\")","v":"Fax"}]
["Entergy Palisades (Gosler)","Jason Gosler"," 269-764-2161","jgosler@entergy.com",null,"Utility","Van Buren",null,{"$f":"HYPERLINK(\"#'Client Details'!$B$1\",\"Details\")","v":"Details"},{"$f":"HYPERLINK(Options!$B$1, \"Quote\")","v":"Quote"},{"$f":"HYPERLINK(Options!$B$2,\"Fax\")","v":"Fax"}]
["Entergy Palisades (Grimes)","Tim Grimes"," 269-764-2000 2466","tgrimes@entergy.com",null,"Utility","Van Buren",null,{"$f":"HYPERLINK(\"#'Client Details'!$B$1\",\"Details\")","v":"Details"},{"$f":"HYPERLINK(Options!$B$1, \"Quote\")","v":"Quote"},{"$f":"HYPERLINK(Options!$B$2,\"Fax\")","v":"Fax"}]
["Entergy Palisades (Hager)","Joe Hager"," 269-764-2536",null,"Industrial Hygienist","Utility","Van Buren",null,{"$f":"HYPERLINK(\"#'Client Details'!$B$1\",\"Details\")","v":"Details"},{"$f":"HYPERLINK(Options!$B$1, \"Quote\")","v":"Quote"},{"$f":"HYPERLINK(Options!$B$2,\"Fax\")","v":"Fax"}]
["Entergy Palisades (Hartmann)","Jean Hartmann"," 269-764-2922","jhartm5@entergy.com",null,"Utility","Van Buren",null,{"$f":"HYPERLINK(\"#'Client Details'!$B$1\",\"Details\")","v":"Details"},{"$f":"HYPERLINK(Options!$B$1, \"Quote\")","v":"Quote"},{"$f":"HYPERLINK(Options!$B$2,\"Fax\")","v":"Fax"}]
["Entergy Palisades (Helms)","Jennifer Helms"," 269-764-2000","JHELMS1@entergy.com","Warehouse Manager","Utility","Van Buren",null,{"$f":"HYPERLINK(\"#'Client Details'!$B$1\",\"Details\")","v":"Details"},{"$f":"HYPERLINK(Options!$B$1, \"Quote\")","v":"Quote"},{"$f":"HYPERLINK(Options!$B$2,\"Fax\")","v":"Fax"}]
["Entergy Palisades (Huss)","Ed Huss"," 269-764-2912","ed.huss@entergy.com","Purchasing and Inventory Manag","Utility","Van Buren",null,{"$f":"HYPERLINK(\"#'Client Details'!$B$1\",\"Details\")","v":"Details"},{"$f":"HYPERLINK(Options!$B$1, \"Quote\")","v":"Quote"},{"$f":"HYPERLINK(Options!$B$2,\"Fax\")","v":"Fax"}]
["Entergy Palisades (Johnson)","Paul L. Johnson"," 269-764-2610","pjohns4@entergy.com","Manager, Safety & Health","Utility","Van Buren",null,{"$f":"HYPERLINK(\"#'Client Details'!$B$1\",\"Details\")","v":"Details"},{"$f":"HYPERLINK(Options!$B$1, \"Quote\")","v":"Quote"},{"$f":"HYPERLINK(Options!$B$2,\"Fax\")","v":"Fax"}]
["Entergy Palisades (Kasishke)","John Kasishke"," 269-764-2360","jkasish@entergy.com","Procurement Specialist","Utility","Van Buren",null,{"$f":"HYPERLINK(\"#'Client Details'!$B$1\",\"Details\")","v":"Details"},{"$f":"HYPERLINK(Options!$B$1, \"Quote\")","v":"Quote"},{"$f":"HYPERLINK(Options!$B$2,\"Fax\")","v":"Fax"}]
["Entergy Palisades (Lasota)","Brian Lasota"," 269-764-2888","blasota@entergy.com","Manager","Utility","Van Buren",null,{"$f":"HYPERLINK(\"#'Client Details'!$B$1\",\"Details\")","v":"Details"},{"$f":"HYPERLINK(Options!$B$1, \"Quote\")","v":"Quote"},{"$f":"HYPERLINK(Options!$B$2,\"Fax\")","v":"Fax"}]
["Entergy Palisades (Lyon)","Alan Lyon"," 269-764-2921","alyon@entergy.com",null,"Utility","Van Buren",null,{"$f":"HYPERLINK(\"#'Client Details'!$B$1\",\"Details\")","v":"Details"},{"$f":"HYPERLINK(Options!$B$1, \"Quote\")","v":"Quote"},{"$f":"HYPERLINK(Options!$B$2,\"Fax\")","v":"Fax"}]
["Entergy Palisades (Nicholson)","Tim Nicholson"," 269-764-2000 2341","tnicho1@entergy.com","Buyer/Stores","Utility","Van Buren",null,{"$f":"HYPERLINK(\"#'Client Details'!$B$1\",\"Details\")","v":"Details"},{"$f":"HYPERLINK(Options!$B$1, \"Quote\")","v":"Quote"},{"$f":"HYPERLINK(Options!$B$2,\"Fax\")","v":"Fax"}]
["Entergy Palisades (Plachta)","Chris Plachta"," 269-764-2199","cplacht@entergy.com","QA Specialist IV","Utility","Van Buren",null,{"$f":"HYPERLINK(\"#'Client Details'!$B$1\",\"Details\")","v":"Details"},{"$f":"HYPERLINK(Options!$B$1, \"Quote\")","v":"Quote"},{"$f":"HYPERLINK(Options!$B$2,\"Fax\")","v":"Fax"}]
["Entergy Palisades (Pyne)","Michael Pyne"," 269-764-2115","mpyne@entergy.com",null,"Utility","Van Buren",null,{"$f":"HYPERLINK(\"#'Client Details'!$B$1\",\"Details\")","v":"Details"},{"$f":"HYPERLINK(Options!$B$1, \"Quote\")","v":"Quote"},{"$f":"HYPERLINK(Options!$B$2,\"Fax\")","v":"Fax"}]
["Entergy Palisades (Rawlins)","David Rawlins"," 269-764-2412","drawlin@entergy.com",null,"Utility","Van Buren",null,{"$f":"HYPERLINK(\"#'Client Details'!$B$1\",\"Details\")","v":"Details"},{"$f":"HYPERLINK(Options!$B$1, \"Quote\")","v":"Quote"},{"$f":"HYPERLINK(Options!$B$2,\"Fax\")","v":"Fax"}]
["Entergy Palisades (Ridley)","Karyn J. Ridley"," 269-764-2290","kridley@entergy.com","Plant Safety Coordinator / Hea","Utility","Van Buren",null,{"$f":"HYPERLINK(\"#'Client Details'!$B$1\",\"Details\")","v":"Details"},{"$f":"HYPERLINK(Options!$B$1, \"Quote\")","v":"Quote"},{"$f":"HYPERLINK(Options!$B$2,\"Fax\")","v":"Fax"}]
["Entergy Palisades (Watkins)","Doug Watkins"," 269-764-3267","dwatki1@entergy.com",null,"Utility","Van Buren",null,{"$f":"HYPERLINK(\"#'Client Details'!$B$1\",\"Details\")","v":"Details"},{"$f":"HYPERLINK(Options!$B$1, \"Quote\")","v":"Quote"},{"$f":"HYPERLINK(Options!$B$2,\"Fax\")","v":"Fax"}]
["Entergy River Bend Station (Courville)","Jacque Courville",null,"jcourv1@entergy.com",null,"Utility","Out of State",null,{"$f":"HYPERLINK(\"#'Client Details'!$B$1\",\"Details\")","v":"Details"},{"$f":"HYPERLINK(Options!$B$1, \"Quote\")","v":"Quote"},{"$f":"HYPERLINK(Options!$B$2,\"Fax\")","v":"Fax"}]
["Entergy Vermont Yankee (Mulverhill)","Chad Mulverhill"," 802-258-5664","cmulver@entergy.com",null,"Utility","Out of State",null,{"$f":"HYPERLINK(\"#'Client Details'!$B$1\",\"Details\")","v":"Details"},{"$f":"HYPERLINK(Options!$B$1, \"Quote\")","v":"Quote"},{"$f":"HYPERLINK(Options!$B$2,\"Fax\")","v":"Fax"}]
["EnviroDesign, Inc.","Terry Check","770-346-0207","tcheck@envirodesign.com",null,null,null,null,{"$f":"HYPERLINK(\"#'Client Details'!$B$1\",\"Details\")","v":"Details"},{"$f":"HYPERLINK(Options!$B$1, \"Quote\")","v":"Quote"},{"$f":"HYPERLINK(Options!$B$2,\"Fax\")","v":"Fax"}]
["Enviro-Flow Company",null,"740-819-0176",null,null,null,null,null,{"$f":"HYPERLINK(\"#'Client Details'!$B$1\",\"Details\")","v":"Details"},{"$f":"HYPERLINK(Options!$B$1, \"Quote\")","v":"Quote"},{"$f":"HYPERLINK(Options!$B$2,\"Fax\")","v":"Fax"}]
["Envirologic Technologies (Stegink)","Dave Stegink"," 269-342-1100","dstegink@envirologic.com",null,"Contractor EH&S","Kalamazoo",null,{"$f":"HYPERLINK(\"#'Client Details'!$B$1\",\"Details\")","v":"Details"},{"$f":"HYPERLINK(Options!$B$1, \"Quote\")","v":"Quote"},{"$f":"HYPERLINK(Options!$B$2,\"Fax\")","v":"Fax"}]
["Environment Safety & Health",null,"517-622-1890",null,null,null,null,null,{"$f":"HYPERLINK(\"#'Client Details'!$B$1\",\"Details\")","v":"Details"},{"$f":"HYPERLINK(Options!$B$1, \"Quote\")","v":"Quote"},{"$f":"HYPERLINK(Options!$B$2,\"Fax\")","v":"Fax"}]
["Environmental Coordination Svc & Recyclin","Gus Hegner","814-425-7773",null,null,null,null,null,{"$f":"HYPERLINK(\"#'Client Details'!$B$1\",\"Details\")","v":"Details"},{"$f":"HYPERLINK(Options!$B$1, \"Quote\")","v":"Quote"},{"$f":"HYPERLINK(Options!$B$2,\"Fax\")","v":"Fax"}]
["Environmental Installation Services, Inc.","Bob Peterson","616-248-2702",null,null,null,null,null,{"$f":"HYPERLINK(\"#'Client Details'!$B$1\",\"Details\")","v":"Details"},{"$f":"HYPERLINK(Options!$B$1, \"Quote\")","v":"Quote"},{"$f":"HYPERLINK(Options!$B$2,\"Fax\")","v":"Fax"}]
["Environmental Partners (Horne)","Mark Horne"," 616-928-9128","mark.horne@enviro-partners.com",null,"Contractor EH&S","Ottawa",null,{"$f":"HYPERLINK(\"#'Client Details'!$B$1\",\"Details\")","v":"Details"},{"$f":"HYPERLINK(Options!$B$1, \"Quote\")","v":"Quote"},{"$f":"HYPERLINK(Options!$B$2,\"Fax\")","v":"Fax"}]
["Environmental Partners, Inc.",null,"616-928-9128",null,null,null,null,null,{"$f":"HYPERLINK(\"#'Client Details'!$B$1\",\"Details\")","v":"Details"},{"$f":"HYPERLINK(Options!$B$1, \"Quote\")","v":"Quote"},{"$f":"HYPERLINK(Options!$B$2,\"Fax\")","v":"Fax"}]
["Environmental Quality Company (Andersen)","David Andersen",null,"david.andersen@eqonline.com",null,"Chemical Pharmaceutical","Wayne",null,{"$f":"HYPERLINK(\"#'Client Details'!$B$1\",\"Details\")","v":"Details"},{"$f":"HYPERLINK(Options!$B$1, \"Quote\")","v":"Quote"},{"$f":"HYPERLINK(Options!$B$2,\"Fax\")","v":"Fax"}]
["Environmental Recycling Group","Rick Schmehil","800-459-0021",null,null,null,null,null,{"$f":"HYPERLINK(\"#'Client Details'!$B$1\",\"Details\")","v":"Details"},{"$f":"HYPERLINK(Options!$B$1, \"Quote\")","v":"Quote"},{"$f":"HYPERLINK(Options!$B$2,\"Fax\")","v":"Fax"}]
["Environmental Waste & Recovery Svs.","Tim O'Leary","616-520-1352 cell tim","toleary@mpioil.com",null,null,null,null,{"$f":"HYPERLINK(\"#'Client Details'!$B$1\",\"Details\")","v":"Details"},{"$f":"HYPERLINK(Options!$B$1, \"Quote\")","v":"Quote"},{"$f":"HYPERLINK(Options!$B$2,\"Fax\")","v":"Fax"}]
["EOCT (Kahn)","Clark Kahn"," 269-383-6960","kahntest@kalamazoo.net","President","Contractor EH&S","Kalamazoo",null,{"$f":"HYPERLINK(\"#'Client Details'!$B$1\",\"Details\")","v":"Details"},{"$f":"HYPERLINK(Options!$B$1, \"Quote\")","v":"Quote"},{"$f":"HYPERLINK(Options!$B$2,\"Fax\")","v":"Fax"}]
["Epicenter Design",null,null,null,null,null,null,null,{"$f":"HYPERLINK(\"#'Client Details'!$B$1\",\"Details\")","v":"Details"},{"$f":"HYPERLINK(Options!$B$1, \"Quote\")","v":"Quote"},{"$f":"HYPERLINK(Options!$B$2,\"Fax\")","v":"Fax"}]
["ERB Industries, Inc. (Meier)","Paul Meier"," 800-800-6522 339","pmeier@e-erb.com","National Sales Manager","Supplier","Out of State",null,{"$f":"HYPERLINK(\"#'Client Details'!$B$1\",\"Details\")","v":"Details"},{"$f":"HYPERLINK(Options!$B$1, \"Quote\")","v":"Quote"},{"$f":"HYPERLINK(Options!$B$2,\"Fax\")","v":"Fax"}]
["Erhardt Construction","Adam Reeves","616-676-1222",null,null,null,null,null,{"$f":"HYPERLINK(\"#'Client Details'!$B$1\",\"Details\")","v":"Details"},{"$f":"HYPERLINK(Options!$B$1, \"Quote\")","v":"Quote"},{"$f":"HYPERLINK(Options!$B$2,\"Fax\")","v":"Fax"}]
["Erhardt Construction (Dean)","Bob Dean"," 616-451-3671",null,"Superintendent","Contractor General","Kent",null,{"$f":"HYPERLINK(\"#'Client Details'!$B$1\",\"Details\")","v":"Details"},{"$f":"HYPERLINK(Options!$B$1, \"Quote\")","v":"Quote"},{"$f":"HYPERLINK(Options!$B$2,\"Fax\")","v":"Fax"}]
["Erhardt Construction (Felt)","Mark Felt"," 616-676-1222","mfelt@Erhardtcc.com",null,"Contractor General","Kent",null,{"$f":"HYPERLINK(\"#'Client Details'!$B$1\",\"Details\")","v":"Details"},{"$f":"HYPERLINK(Options!$B$1, \"Quote\")","v":"Quote"},{"$f":"HYPERLINK(Options!$B$2,\"Fax\")","v":"Fax"}]
["Erhardt Construction (Smith)","Matt Smith"," 616-676-1222","msmith@erhardtcc.com",null,"Contractor General","Kent",null,{"$f":"HYPERLINK(\"#'Client Details'!$B$1\",\"Details\")","v":"Details"},{"$f":"HYPERLINK(Options!$B$1, \"Quote\")","v":"Quote"},{"$f":"HYPERLINK(Options!$B$2,\"Fax\")","v":"Fax"}]
["Erhardt Construction (Town)","Taggart Town"," 616-676-1222 20","ttown@erhardtcc.com","Vice President Field Operation","Contractor General","Kent",null,{"$f":"HYPERLINK(\"#'Client Details'!$B$1\",\"Details\")","v":"Details"},{"$f":"HYPERLINK(Options!$B$1, \"Quote\")","v":"Quote"},{"$f":"HYPERLINK(Options!$B$2,\"Fax\")","v":"Fax"}]
["Erhardt Construction (Van Beek)","Don Van Beek"," 616-451-9481",null,"Superintendent","Contractor General","Kent",null,{"$f":"HYPERLINK(\"#'Client Details'!$B$1\",\"Details\")","v":"Details"},{"$f":"HYPERLINK(Options!$B$1, \"Quote\")","v":"Quote"},{"$f":"HYPERLINK(Options!$B$2,\"Fax\")","v":"Fax"}]
["Eric Rodriguez","Eric",null,null,null,null,null,null,{"$f":"HYPERLINK(\"#'Client Details'!$B$1\",\"Details\")","v":"Details"},{"$f":"HYPERLINK(Options!$B$1, \"Quote\")","v":"Quote"},{"$f":"HYPERLINK(Options!$B$2,\"Fax\")","v":"Fax"}]
["Erickson Electric Service, Inc. (Erickson","Tom Erickson"," 616-842-3706","terickson@ericksonelec.com","President","Contractor Electrical","Ottawa",null,{"$f":"HYPERLINK(\"#'Client Details'!$B$1\",\"Details\")","v":"Details"},{"$f":"HYPERLINK(Options!$B$1, \"Quote\")","v":"Quote"},{"$f":"HYPERLINK(Options!$B$2,\"Fax\")","v":"Fax"}]
["Erickson's Inc. (Hartwell)","Henry Hartwell"," 231-744-1686",null,"Safety Manager",null,"Muskegon",null,{"$f":"HYPERLINK(\"#'Client Details'!$B$1\",\"Details\")","v":"Details"},{"$f":"HYPERLINK(Options!$B$1, \"Quote\")","v":"Quote"},{"$f":"HYPERLINK(Options!$B$2,\"Fax\")","v":"Fax"}]
["Erie Press Systems",null,"814-455-3941",null,null,null,null,null,{"$f":"HYPERLINK(\"#'Client Details'!$B$1\",\"Details\")","v":"Details"},{"$f":"HYPERLINK(Options!$B$1, \"Quote\")","v":"Quote"},{"$f":"HYPERLINK(Options!$B$2,\"Fax\")","v":"Fax"}]
["ERM (Holland)",null,"616-399-3500","ERMNorthernDivisionAP@erm.com",null,null,null,null,{"$f":"HYPERLINK(\"#'Client Details'!$B$1\",\"Details\")","v":"Details"},{"$f":"HYPERLINK(Options!$B$1, \"Quote\")","v":"Quote"},{"$f":"HYPERLINK(Options!$B$2,\"Fax\")","v":"Fax"}]
["ERM (St. Paul)","Lindsey Iredale","651-846-2870",null,null,null,null,null,{"$f":"HYPERLINK(\"#'Client Details'!$B$1\",\"Details\")","v":"Details"},{"$f":"HYPERLINK(Options!$B$1, \"Quote\")","v":"Quote"},{"$f":"HYPERLINK(Options!$B$2,\"Fax\")","v":"Fax"}]
["Ershigs Inc (Crist)",null,"360-305-7597",null,null,null,null,null,{"$f":"HYPERLINK(\"#'Client Details'!$B$1\",\"Details\")","v":"Details"},{"$f":"HYPERLINK(Options!$B$1, \"Quote\")","v":"Quote"},{"$f":"HYPERLINK(Options!$B$2,\"Fax\")","v":"Fax"}]
["Ershigs Inc (Grand Bay)",null,null,null,null,null,null,null,{"$f":"HYPERLINK(\"#'Client Details'!$B$1\",\"Details\")","v":"Details"},{"$f":"HYPERLINK(Options!$B$1, \"Quote\")","v":"Quote"},{"$f":"HYPERLINK(Options!$B$2,\"Fax\")","v":"Fax"}]
["Ershigs Inc. (Aberdeen)",null,null,null,null,null,null,null,{"$f":"HYPERLINK(\"#'Client Details'!$B$1\",\"Details\")","v":"Details"},{"$f":"HYPERLINK(Options!$B$1, \"Quote\")","v":"Quote"},{"$f":"HYPERLINK(Options!$B$2,\"Fax\")","v":"Fax"}]
["Ershigs Inc. (AEP Clifty Creek)",null,"360-305-7597 cell",null,null,null,null,null,{"$f":"HYPERLINK(\"#'Client Details'!$B$1\",\"Details\")","v":"Details"},{"$f":"HYPERLINK(Options!$B$1, \"Quote\")","v":"Quote"},{"$f":"HYPERLINK(Options!$B$2,\"Fax\")","v":"Fax"}]
["Ershigs Inc. (AEP Conesville)",null,"360-305-7597",null,null,null,null,null,{"$f":"HYPERLINK(\"#'Client Details'!$B$1\",\"Details\")","v":"Details"},{"$f":"HYPERLINK(Options!$B$1, \"Quote\")","v":"Quote"},{"$f":"HYPERLINK(Options!$B$2,\"Fax\")","v":"Fax"}]
["Ershigs Inc. (Bellingham)","Kim Stephan","360-733-2620 office",null,null,null,null,null,{"$f":"HYPERLINK(\"#'Client Details'!$B$1\",\"Details\")","v":"Details"},{"$f":"HYPERLINK(Options!$B$1, \"Quote\")","v":"Quote"},{"$f":"HYPERLINK(Options!$B$2,\"Fax\")","v":"Fax"}]
["Ershigs Inc. (Brilliant)",null,"740-598-7160",null,null,null,null,null,{"$f":"HYPERLINK(\"#'Client Details'!$B$1\",\"Details\")","v":"Details"},{"$f":"HYPERLINK(Options!$B$1, \"Quote\")","v":"Quote"},{"$f":"HYPERLINK(Options!$B$2,\"Fax\")","v":"Fax"}]
["Ershigs Inc. (Bucks)",null,null,null,null,null,null,null,{"$f":"HYPERLINK(\"#'Client Details'!$B$1\",\"Details\")","v":"Details"},{"$f":"HYPERLINK(Options!$B$1, \"Quote\")","v":"Quote"},{"$f":"HYPERLINK(Options!$B$2,\"Fax\")","v":"Fax"}]
["Ershigs Inc. (Cliffside)",null,"828-657-2402",null,null,null,null,null,{"$f":"HYPERLINK(\"#'Client Details'!$B$1\",\"Details\")","v":"Details"},{"$f":"HYPERLINK(Options!$B$1, \"Quote\")","v":"Quote"},{"$f":"HYPERLINK(Options!$B$2,\"Fax\")","v":"Fax"}]
["Ershigs Inc. (Clinton)",null,"865-945-3745",null,null,null,null,null,{"$f":"HYPERLINK(\"#'Client Details'!$B$1\",\"Details\")","v":"Details"},{"$f":"HYPERLINK(Options!$B$1, \"Quote\")","v":"Quote"},{"$f":"HYPERLINK(Options!$B$2,\"Fax\")","v":"Fax"}]
["Ershigs Inc. (Crsap)",null,null,null,null,null,null,null,{"$f":"HYPERLINK(\"#'Client Details'!$B$1\",\"Details\")","v":"Details"},{"$f":"HYPERLINK(Options!$B$1, \"Quote\")","v":"Quote"},{"$f":"HYPERLINK(Options!$B$2,\"Fax\")","v":"Fax"}]
["Ershigs Inc. (East Palatka)","Mary Bovard (Purchasing)","251-865-0912",null,null,null,null,null,{"$f":"HYPERLINK(\"#'Client Details'!$B$1\",\"Details\")","v":"Details"},{"$f":"HYPERLINK(Options!$B$1, \"Quote\")","v":"Quote"},{"$f":"HYPERLINK(Options!$B$2,\"Fax\")","v":"Fax"}]
["Ershigs Inc. (Evans)","Kendra Hersman","360-305-7597",null,null,null,null,null,{"$f":"HYPERLINK(\"#'Client Details'!$B$1\",\"Details\")","v":"Details"},{"$f":"HYPERLINK(Options!$B$1, \"Quote\")","v":"Quote"},{"$f":"HYPERLINK(Options!$B$2,\"Fax\")","v":"Fax"}]
["Ershigs Inc. (Harriman)","Darrell Allen","228-239-0051",null,null,null,null,null,{"$f":"HYPERLINK(\"#'Client Details'!$B$1\",\"Details\")","v":"Details"},{"$f":"HYPERLINK(Options!$B$1, \"Quote\")","v":"Quote"},{"$f":"HYPERLINK(Options!$B$2,\"Fax\")","v":"Fax"}]
["Ershigs Inc. (Huntington)","Mark Chaffins","360-296-0192",null,null,null,null,null,{"$f":"HYPERLINK(\"#'Client Details'!$B$1\",\"Details\")","v":"Details"},{"$f":"HYPERLINK(Options!$B$1, \"Quote\")","v":"Quote"},{"$f":"HYPERLINK(Options!$B$2,\"Fax\")","v":"Fax"}]
["Ershigs Inc. (Indianapolis)",null,null,null,null,null,null,null,{"$f":"HYPERLINK(\"#'Client Details'!$B$1\",\"Details\")","v":"Details"},{"$f":"HYPERLINK(Options!$B$1, \"Quote\")","v":"Quote"},{"$f":"HYPERLINK(Options!$B$2,\"Fax\")","v":"Fax"}]
["Ershigs Inc. (Kemmerer)","Mark Chaffins","360-296-0192","mchaffins@ershigs.com",null,null,null,null,{"$f":"HYPERLINK(\"#'Client Details'!$B$1\",\"Details\")","v":"Details"},{"$f":"HYPERLINK(Options!$B$1, \"Quote\")","v":"Quote"},{"$f":"HYPERLINK(Options!$B$2,\"Fax\")","v":"Fax"}]
["Ershigs Inc. (Kyger Creek)","Kendra Hersman","360-305-7597",null,null,null,null,null,{"$f":"HYPERLINK(\"#'Client Details'!$B$1\",\"Details\")","v":"Details"},{"$f":"HYPERLINK(Options!$B$1, \"Quote\")","v":"Quote"},{"$f":"HYPERLINK(Options!$B$2,\"Fax\")","v":"Fax"}]
["Ershigs Inc. (Manchester)","Brian Dever","937-549-3035","mchaffins@ershigs.com",null,null,null,null,{"$f":"HYPERLINK(\"#'Client Details'!$B$1\",\"Details\")","v":"Details"},{"$f":"HYPERLINK(Options!$B$1, \"Quote\")","v":"Quote"},{"$f":"HYPERLINK(Options!$B$2,\"Fax\")","v":"Fax"}]
["Ershigs Inc. (New Haven)","Sandy Brackins","360-254-8208","sbrackins@ershings.com",null,null,null,null,{"$f":"HYPERLINK(\"#'Client Details'!$B$1\",\"Details\")","v":"Details"},{"$f":"HYPERLINK(Options!$B$1, \"Quote\")","v":"Quote"},{"$f":"HYPERLINK(Options!$B$2,\"Fax\")","v":"Fax"}]
["Ershigs Inc. (Stratton)",null,"740-537-9122",null,null,null,null,null,{"$f":"HYPERLINK(\"#'Client Details'!$B$1\",\"Details\")","v":"Details"},{"$f":"HYPERLINK(Options!$B$1, \"Quote\")","v":"Quote"},{"$f":"HYPERLINK(Options!$B$2,\"Fax\")","v":"Fax"}]
["Ershigs Inc. (Vancouver)","Sandy Brackins ext.224","360-254-8208",null,null,null,null,null,{"$f":"HYPERLINK(\"#'Client Details'!$B$1\",\"Details\")","v":"Details"},{"$f":"HYPERLINK(Options!$B$1, \"Quote\")","v":"Quote"},{"$f":"HYPERLINK(Options!$B$2,\"Fax\")","v":"Fax"}]
["Ershigs Inc. (Walluala)",null,null,null,null,null,null,null,{"$f":"HYPERLINK(\"#'Client Details'!$B$1\",\"Details\")","v":"Details"},{"$f":"HYPERLINK(Options!$B$1, \"Quote\")","v":"Quote"},{"$f":"HYPERLINK(Options!$B$2,\"Fax\")","v":"Fax"}]
["Ershigs Inc. (Willow Island)","Mark Daley",null,null,null,null,null,null,{"$f":"HYPERLINK(\"#'Client Details'!$B$1\",\"Details\")","v":"Details"},{"$f":"HYPERLINK(Options!$B$1, \"Quote\")","v":"Quote"},{"$f":"HYPERLINK(Options!$B$2,\"Fax\")","v":"Fax"}]
["Ershigs Inc. (Winfield)",null,null,null,null,null,null,null,{"$f":"HYPERLINK(\"#'Client Details'!$B$1\",\"Details\")","v":"Details"},{"$f":"HYPERLINK(Options!$B$1, \"Quote\")","v":"Quote"},{"$f":"HYPERLINK(Options!$B$2,\"Fax\")","v":"Fax"}]
["Ershigs Inc.(Pullman Power)","Sandy Brackin",null,null,null,null,null,null,{"$f":"HYPERLINK(\"#'Client Details'!$B$1\",\"Details\")","v":"Details"},{"$f":"HYPERLINK(Options!$B$1, \"Quote\")","v":"Quote"},{"$f":"HYPERLINK(Options!$B$2,\"Fax\")","v":"Fax"}]
["Ershigs, Inc. (Brackins)","Sandy Brackins"," 360-254-8208","sbrackins@ershigs.com",null,"Contractor General","Out of State",null,{"$f":"HYPERLINK(\"#'Client Details'!$B$1\",\"Details\")","v":"Details"},{"$f":"HYPERLINK(Options!$B$1, \"Quote\")","v":"Quote"},{"$f":"HYPERLINK(Options!$B$2,\"Fax\")","v":"Fax"}]
["Ershigs, Inc. (Chaffins)","Mark Chaffins"," 360-296-0192","MChaffins@ershigs.com","Sr. Field Safety Manager","Contractor General","Out of State",null,{"$f":"HYPERLINK(\"#'Client Details'!$B$1\",\"Details\")","v":"Details"},{"$f":"HYPERLINK(Options!$B$1, \"Quote\")","v":"Quote"},{"$f":"HYPERLINK(Options!$B$2,\"Fax\")","v":"Fax"}]
["Ershigs, Inc. (Chambers)","Bruce Chambers"," 251-865-0912","BChambers@ershigs.com",null,"Contractor General","Out of State",null,{"$f":"HYPERLINK(\"#'Client Details'!$B$1\",\"Details\")","v":"Details"},{"$f":"HYPERLINK(Options!$B$1, \"Quote\")","v":"Quote"},{"$f":"HYPERLINK(Options!$B$2,\"Fax\")","v":"Fax"}]
["Erwin Quarder","Ron Roys","616-575-1616",null,null,null,null,null,{"$f":"HYPERLINK(\"#'Client Details'!$B$1\",\"Details\")","v":"Details"},{"$f":"HYPERLINK(Options!$B$1, \"Quote\")","v":"Quote"},{"$f":"HYPERLINK(Options!$B$2,\"Fax\")","v":"Fax"}]
["Erwin Quarder (Roys)","Ron Roys"," 616-575-1600 223","rroys@quarder.com","Materials Manager","Plastics","Kent",null,{"$f":"HYPERLINK(\"#'Client Details'!$B$1\",\"Details\")","v":"Details"},{"$f":"HYPERLINK(Options!$B$1, \"Quote\")","v":"Quote"},{"$f":"HYPERLINK(Options!$B$2,\"Fax\")","v":"Fax"}]
["ESCO Company (Ego)","Max Ego"," 231-727-6410",null,"Safety Contact","Chemical Pharmaceutical","Muskegon",null,{"$f":"HYPERLINK(\"#'Client Details'!$B$1\",\"Details\")","v":"Details"},{"$f":"HYPERLINK(Options!$B$1, \"Quote\")","v":"Quote"},{"$f":"HYPERLINK(Options!$B$2,\"Fax\")","v":"Fax"}]
["Espec (Jaglowski)","Chuck Jaglowski"," 616-896-6100 6159",null,"Plant Manager","Manufacturer","Ottawa",null,{"$f":"HYPERLINK(\"#'Client Details'!$B$1\",\"Details\")","v":"Details"},{"$f":"HYPERLINK(Options!$B$1, \"Quote\")","v":"Quote"},{"$f":"HYPERLINK(Options!$B$2,\"Fax\")","v":"Fax"}]
["Espec (Wychers)","Dale Wychers"," 616-896-6100",null,"Safety Director",null,"Ottawa",null,{"$f":"HYPERLINK(\"#'Client Details'!$B$1\",\"Details\")","v":"Details"},{"$f":"HYPERLINK(Options!$B$1, \"Quote\")","v":"Quote"},{"$f":"HYPERLINK(Options!$B$2,\"Fax\")","v":"Fax"}]
["Euclid Chemical Co. (Babcock)","Matt Babcock",null,"mbabcock@euclidchemical.com",null,"Chemical Pharmaceutical","Out of State",null,{"$f":"HYPERLINK(\"#'Client Details'!$B$1\",\"Details\")","v":"Details"},{"$f":"HYPERLINK(Options!$B$1, \"Quote\")","v":"Quote"},{"$f":"HYPERLINK(Options!$B$2,\"Fax\")","v":"Fax"}]
["Euroway Engineering Inc. (Tseng)","Boris Tseng"," 886-424-726110","euroway-boris@umail.hinet.net","Sales Engineer",null,"Out of State",null,{"$f":"HYPERLINK(\"#'Client Details'!$B$1\",\"Details\")","v":"Details"},{"$f":"HYPERLINK(Options!$B$1, \"Quote\")","v":"Quote"},{"$f":"HYPERLINK(Options!$B$2,\"Fax\")","v":"Fax"}]
["Everett's Landscape Managemanet","Julie Ardner/Brian Diemer","616-698-8064",null,null,null,null,null,{"$f":"HYPERLINK(\"#'Client Details'!$B$1\",\"Details\")","v":"Details"},{"$f":"HYPERLINK(Options!$B$1, \"Quote\")","v":"Quote"},{"$f":"HYPERLINK(Options!$B$2,\"Fax\")","v":"Fax"}]
["Everett's Landscape Management, Inc. (Die","Brian Diemer"," 616-698-8064","brian23@everettslandscape.com",null,"Contractor General","Kent",null,{"$f":"HYPERLINK(\"#'Client Details'!$B$1\",\"Details\")","v":"Details"},{"$f":"HYPERLINK(Options!$B$1, \"Quote\")","v":"Quote"},{"$f":"HYPERLINK(Options!$B$2,\"Fax\")","v":"Fax"}]
["Excel Electric",null,"616-532-9575",null,null,null,null,null,{"$f":"HYPERLINK(\"#'Client Details'!$B$1\",\"Details\")","v":"Details"},{"$f":"HYPERLINK(Options!$B$1, \"Quote\")","v":"Quote"},{"$f":"HYPERLINK(Options!$B$2,\"Fax\")","v":"Fax"}]
["Excela Health Latrobe Hospital (Herskovit","Kevin Herskovitz"," 724-575-3669",null,null,"Hospital, Health Care","Out of State",null,{"$f":"HYPERLINK(\"#'Client Details'!$B$1\",\"Details\")","v":"Details"},{"$f":"HYPERLINK(Options!$B$1, \"Quote\")","v":"Quote"},{"$f":"HYPERLINK(Options!$B$2,\"Fax\")","v":"Fax"}]
["Executive Threads (Dykstra)","Robert Dykstra"," 616-247-7801","support@perfectpunch.net",null,"Supplier","Kent",null,{"$f":"HYPERLINK(\"#'Client Details'!$B$1\",\"Details\")","v":"Details"},{"$f":"HYPERLINK(Options!$B$1, \"Quote\")","v":"Quote"},{"$f":"HYPERLINK(Options!$B$2,\"Fax\")","v":"Fax"}]
["Extendicare/Tendercare","Don Barnes","616-532-6343",null,null,null,null,null,{"$f":"HYPERLINK(\"#'Client Details'!$B$1\",\"Details\")","v":"Details"},{"$f":"HYPERLINK(Options!$B$1, \"Quote\")","v":"Quote"},{"$f":"HYPERLINK(Options!$B$2,\"Fax\")","v":"Fax"}]
["Extruded Metals (Choate)","Robert Choate"," 616-794-4866","bchoate@extrudedmetals.com","Safety Manager","Manufacturer","Ionia",null,{"$f":"HYPERLINK(\"#'Client Details'!$B$1\",\"Details\")","v":"Details"},{"$f":"HYPERLINK(Options!$B$1, \"Quote\")","v":"Quote"},{"$f":"HYPERLINK(Options!$B$2,\"Fax\")","v":"Fax"}]
["Exxel Engineering","Bob Van Laar","616-2912282",null,null,null,null,null,{"$f":"HYPERLINK(\"#'Client Details'!$B$1\",\"Details\")","v":"Details"},{"$f":"HYPERLINK(Options!$B$1, \"Quote\")","v":"Quote"},{"$f":"HYPERLINK(Options!$B$2,\"Fax\")","v":"Fax"}]
["Exxel Engineering (VanLaar)","Bob VanLaar"," 616-291-2282",null,null,"Engineering, Architecture","Kent",null,{"$f":"HYPERLINK(\"#'Client Details'!$B$1\",\"Details\")","v":"Details"},{"$f":"HYPERLINK(Options!$B$1, \"Quote\")","v":"Quote"},{"$f":"HYPERLINK(Options!$B$2,\"Fax\")","v":"Fax"}]
["F.P. Greenhouses (Fischer)","Bob Fischer",null,null,"Co-Owner","Nursery","Muskegon",null,{"$f":"HYPERLINK(\"#'Client Details'!$B$1\",\"Details\")","v":"Details"},{"$f":"HYPERLINK(Options!$B$1, \"Quote\")","v":"Quote"},{"$f":"HYPERLINK(Options!$B$2,\"Fax\")","v":"Fax"}]
["FAA (Belleville MI)","Ned Gibson","810-630-8416",null,null,null,null,null,{"$f":"HYPERLINK(\"#'Client Details'!$B$1\",\"Details\")","v":"Details"},{"$f":"HYPERLINK(Options!$B$1, \"Quote\")","v":"Quote"},{"$f":"HYPERLINK(Options!$B$2,\"Fax\")","v":"Fax"}]
["FAA (GreenBay)","Ned Gibson","810-630-8416",null,null,null,null,null,{"$f":"HYPERLINK(\"#'Client Details'!$B$1\",\"Details\")","v":"Details"},{"$f":"HYPERLINK(Options!$B$1, \"Quote\")","v":"Quote"},{"$f":"HYPERLINK(Options!$B$2,\"Fax\")","v":"Fax"}]
["Fab-Lite, Inc. (Hayes)","Christine Hayes"," 231-723-9700","chayes@fablite.com","Safety/HR","Cabinet Makers","Manistee",null,{"$f":"HYPERLINK(\"#'Client Details'!$B$1\",\"Details\")","v":"Details"},{"$f":"HYPERLINK(Options!$B$1, \"Quote\")","v":"Quote"},{"$f":"HYPERLINK(Options!$B$2,\"Fax\")","v":"Fax"}]
["Fagerdala USA - Marysville, Inc.",null,"810-388-9881",null,null,null,null,null,{"$f":"HYPERLINK(\"#'Client Details'!$B$1\",\"Details\")","v":"Details"},{"$f":"HYPERLINK(Options!$B$1, \"Quote\")","v":"Quote"},{"$f":"HYPERLINK(Options!$B$2,\"Fax\")","v":"Fax"}]
["Fagerdala USA - Marysville, Inc. (Landsch","Paul Landschoot"," 810-388-9881 115","plandschoot@fagerdala.com",null,"Manufacturer","St. Clair",null,{"$f":"HYPERLINK(\"#'Client Details'!$B$1\",\"Details\")","v":"Details"},{"$f":"HYPERLINK(Options!$B$1, \"Quote\")","v":"Quote"},{"$f":"HYPERLINK(Options!$B$2,\"Fax\")","v":"Fax"}]
["Fairmont Minerals Standard Sand (Closs)","Roy Closs"," 616-846-1400",null,"Plant Superintendent","Mining","Ottawa",null,{"$f":"HYPERLINK(\"#'Client Details'!$B$1\",\"Details\")","v":"Details"},{"$f":"HYPERLINK(Options!$B$1, \"Quote\")","v":"Quote"},{"$f":"HYPERLINK(Options!$B$2,\"Fax\")","v":"Fax"}]
["Fairmount Minerals (Chapman)","Chris Chapman"," 616-842-5080","cchapman@fairmountminerals.com","Safety","Mining","Ottawa",null,{"$f":"HYPERLINK(\"#'Client Details'!$B$1\",\"Details\")","v":"Details"},{"$f":"HYPERLINK(Options!$B$1, \"Quote\")","v":"Quote"},{"$f":"HYPERLINK(Options!$B$2,\"Fax\")","v":"Fax"}]
["Fairmount Minerals (Slater)","Alan Slater"," 616-842-5080 3",null,"Supervisor","Mining","Ottawa",null,{"$f":"HYPERLINK(\"#'Client Details'!$B$1\",\"Details\")","v":"Details"},{"$f":"HYPERLINK(Options!$B$1, \"Quote\")","v":"Quote"},{"$f":"HYPERLINK(Options!$B$2,\"Fax\")","v":"Fax"}]
["FallTech Alexander Andrew, Inc. (Kemp)","John Kemp"," 800-719-4619","golfjohn@aol.com","Region Sales Manager","Supplier","Out of State",null,{"$f":"HYPERLINK(\"#'Client Details'!$B$1\",\"Details\")","v":"Details"},{"$f":"HYPERLINK(Options!$B$1, \"Quote\")","v":"Quote"},{"$f":"HYPERLINK(Options!$B$2,\"Fax\")","v":"Fax"}]
["Farmers' Implement, LLC",null,"262-629-4104",null,null,null,null,null,{"$f":"HYPERLINK(\"#'Client Details'!$B$1\",\"Details\")","v":"Details"},{"$f":"HYPERLINK(Options!$B$1, \"Quote\")","v":"Quote"},{"$f":"HYPERLINK(Options!$B$2,\"Fax\")","v":"Fax"}]
["Fastenal (Ludington, MI)","Ted Morehouse","231-843-8788",null,null,null,null,null,{"$f":"HYPERLINK(\"#'Client Details'!$B$1\",\"Details\")","v":"Details"},{"$f":"HYPERLINK(Options!$B$1, \"Quote\")","v":"Quote"},{"$f":"HYPERLINK(Options!$B$2,\"Fax\")","v":"Fax"}]
["Fastenal Co. (Fond Du Lac, WI)",null,"920-929-6595",null,null,null,null,null,{"$f":"HYPERLINK(\"#'Client Details'!$B$1\",\"Details\")","v":"Details"},{"$f":"HYPERLINK(Options!$B$1, \"Quote\")","v":"Quote"},{"$f":"HYPERLINK(Options!$B$2,\"Fax\")","v":"Fax"}]
["FCCI Insurance Group (Hudson)","Linda Hudson"," 269-321-0103","lhudson@fcci-group.com","Loss Control Consultant","Insurance","Kalamazoo",null,{"$f":"HYPERLINK(\"#'Client Details'!$B$1\",\"Details\")","v":"Details"},{"$f":"HYPERLINK(Options!$B$1, \"Quote\")","v":"Quote"},{"$f":"HYPERLINK(Options!$B$2,\"Fax\")","v":"Fax"}]
["Federal Aviation Administration, US (Gibs","Ned Gibson"," 810-630-8416","ned.gibson@faa.gov",null,"Other","Genesee",null,{"$f":"HYPERLINK(\"#'Client Details'!$B$1\",\"Details\")","v":"Details"},{"$f":"HYPERLINK(Options!$B$1, \"Quote\")","v":"Quote"},{"$f":"HYPERLINK(Options!$B$2,\"Fax\")","v":"Fax"}]
["Federal Correctional Institution (Elkton)",null,"330-420-6200",null,null,null,null,null,{"$f":"HYPERLINK(\"#'Client Details'!$B$1\",\"Details\")","v":"Details"},{"$f":"HYPERLINK(Options!$B$1, \"Quote\")","v":"Quote"},{"$f":"HYPERLINK(Options!$B$2,\"Fax\")","v":"Fax"}]
["federal mogul",null,null,null,null,null,null,null,{"$f":"HYPERLINK(\"#'Client Details'!$B$1\",\"Details\")","v":"Details"},{"$f":"HYPERLINK(Options!$B$1, \"Quote\")","v":"Quote"},{"$f":"HYPERLINK(Options!$B$2,\"Fax\")","v":"Fax"}]
["Federal-Mogul (Cambridge)",null,"740-432-2393",null,null,null,null,null,{"$f":"HYPERLINK(\"#'Client Details'!$B$1\",\"Details\")","v":"Details"},{"$f":"HYPERLINK(Options!$B$1, \"Quote\")","v":"Quote"},{"$f":"HYPERLINK(Options!$B$2,\"Fax\")","v":"Fax"}]
["Federal-Mogul (Greenville)","Garry Foerster","616-754-1284",null,null,null,null,null,{"$f":"HYPERLINK(\"#'Client Details'!$B$1\",\"Details\")","v":"Details"},{"$f":"HYPERLINK(Options!$B$1, \"Quote\")","v":"Quote"},{"$f":"HYPERLINK(Options!$B$2,\"Fax\")","v":"Fax"}]
["Federal-Mogul (Southfield)","Cindy Narasco","248-354-6745",null,null,null,null,null,{"$f":"HYPERLINK(\"#'Client Details'!$B$1\",\"Details\")","v":"Details"},{"$f":"HYPERLINK(Options!$B$1, \"Quote\")","v":"Quote"},{"$f":"HYPERLINK(Options!$B$2,\"Fax\")","v":"Fax"}]
["Federal-Mogul (Sparta)",null,null,null,null,null,null,null,{"$f":"HYPERLINK(\"#'Client Details'!$B$1\",\"Details\")","v":"Details"},{"$f":"HYPERLINK(Options!$B$1, \"Quote\")","v":"Quote"},{"$f":"HYPERLINK(Options!$B$2,\"Fax\")","v":"Fax"}]
["Federal-Mogul Corp. (DeVault)","Kathy Jo DeVault"," 616-887-6431","kathy.devault@federalmogul.com","Safety Director","Automotive","Kent",null,{"$f":"HYPERLINK(\"#'Client Details'!$B$1\",\"Details\")","v":"Details"},{"$f":"HYPERLINK(Options!$B$1, \"Quote\")","v":"Quote"},{"$f":"HYPERLINK(Options!$B$2,\"Fax\")","v":"Fax"}]
["Federal-Mogul Corp. (Foerster)","Gary Foerster"," 616-887-6431","gary.foerster@federalmogul.com","Safety Director","Automotive","Kent",null,{"$f":"HYPERLINK(\"#'Client Details'!$B$1\",\"Details\")","v":"Details"},{"$f":"HYPERLINK(Options!$B$1, \"Quote\")","v":"Quote"},{"$f":"HYPERLINK(Options!$B$2,\"Fax\")","v":"Fax"}]
["FedEx (Brown)","Lisa Brown"," 800-448-9961 9557",null,"Account Representative","Supplier","Out of State",null,{"$f":"HYPERLINK(\"#'Client Details'!$B$1\",\"Details\")","v":"Details"},{"$f":"HYPERLINK(Options!$B$1, \"Quote\")","v":"Quote"},{"$f":"HYPERLINK(Options!$B$2,\"Fax\")","v":"Fax"}]
["Felco Contractors","Jeff Felinski","231-759-0924","felcocontractors@verison.net",null,null,null,null,{"$f":"HYPERLINK(\"#'Client Details'!$B$1\",\"Details\")","v":"Details"},{"$f":"HYPERLINK(Options!$B$1, \"Quote\")","v":"Quote"},{"$f":"HYPERLINK(Options!$B$2,\"Fax\")","v":"Fax"}]
["Felco Contractors (Felinski)","Jeff Felinski"," 231-759-0924",null,"President","Contractor General","Muskegon",null,{"$f":"HYPERLINK(\"#'Client Details'!$B$1\",\"Details\")","v":"Details"},{"$f":"HYPERLINK(Options!$B$1, \"Quote\")","v":"Quote"},{"$f":"HYPERLINK(Options!$B$2,\"Fax\")","v":"Fax"}]
["Fenton, City of","Steve Guy","810-629-2261","sguy@cityoffenton.org",null,null,null,null,{"$f":"HYPERLINK(\"#'Client Details'!$B$1\",\"Details\")","v":"Details"},{"$f":"HYPERLINK(Options!$B$1, \"Quote\")","v":"Quote"},{"$f":"HYPERLINK(Options!$B$2,\"Fax\")","v":"Fax"}]
["Fernandez Builbers (Fernandez)","Leo Fernandez"," 269-561-5239",null,"Owner","Building","Allegan",null,{"$f":"HYPERLINK(\"#'Client Details'!$B$1\",\"Details\")","v":"Details"},{"$f":"HYPERLINK(Options!$B$1, \"Quote\")","v":"Quote"},{"$f":"HYPERLINK(Options!$B$2,\"Fax\")","v":"Fax"}]
["Ferris State University (Bula)","Roger M. Bula"," 231-591-5933","bular@ferris.edu","Environmental Engineer","School","Mecosta",null,{"$f":"HYPERLINK(\"#'Client Details'!$B$1\",\"Details\")","v":"Details"},{"$f":"HYPERLINK(Options!$B$1, \"Quote\")","v":"Quote"},{"$f":"HYPERLINK(Options!$B$2,\"Fax\")","v":"Fax"}]
["Ferris State University (General Svc Bld)",null,null,"bular@ferris.edu",null,null,null,null,{"$f":"HYPERLINK(\"#'Client Details'!$B$1\",\"Details\")","v":"Details"},{"$f":"HYPERLINK(Options!$B$1, \"Quote\")","v":"Quote"},{"$f":"HYPERLINK(Options!$B$2,\"Fax\")","v":"Fax"}]
["Ferris State University (McKay)","Mike McKay"," 231-591-2147","mckaym@ferris.edu","Safety Manager","School","Mecosta",null,{"$f":"HYPERLINK(\"#'Client Details'!$B$1\",\"Details\")","v":"Details"},{"$f":"HYPERLINK(Options!$B$1, \"Quote\")","v":"Quote"},{"$f":"HYPERLINK(Options!$B$2,\"Fax\")","v":"Fax"}]
["Ferris State University EH&S Mgmt. (McCor","Brad McCormick"," 231-591-2278","mccormib@ferris.edu","Associate Professor","School","Mecosta",null,{"$f":"HYPERLINK(\"#'Client Details'!$B$1\",\"Details\")","v":"Details"},{"$f":"HYPERLINK(Options!$B$1, \"Quote\")","v":"Quote"},{"$f":"HYPERLINK(Options!$B$2,\"Fax\")","v":"Fax"}]
["Ferris State University EH&S Mgmt. (Rodab","Gary Rodabaugh"," 231-591-2308","rodabaugh@ferris.edu","Professor","School","Mecosta",null,{"$f":"HYPERLINK(\"#'Client Details'!$B$1\",\"Details\")","v":"Details"},{"$f":"HYPERLINK(Options!$B$1, \"Quote\")","v":"Quote"},{"$f":"HYPERLINK(Options!$B$2,\"Fax\")","v":"Fax"}]
["Ferrysburg DPW","George Dunnings","616-842-5803",null,null,null,null,null,{"$f":"HYPERLINK(\"#'Client Details'!$B$1\",\"Details\")","v":"Details"},{"$f":"HYPERLINK(Options!$B$1, \"Quote\")","v":"Quote"},{"$f":"HYPERLINK(Options!$B$2,\"Fax\")","v":"Fax"}]
["Ferrysburg DPW (Dunning)","George Dunning"," 616-842-5803",null,"Superintendent","Municipal, Cty","Ottawa",null,{"$f":"HYPERLINK(\"#'Client Details'!$B$1\",\"Details\")","v":"Details"},{"$f":"HYPERLINK(Options!$B$1, \"Quote\")","v":"Quote"},{"$f":"HYPERLINK(Options!$B$2,\"Fax\")","v":"Fax"}]
["Fettig Labs",null,"616-245-3000",null,null,null,null,null,{"$f":"HYPERLINK(\"#'Client Details'!$B$1\",\"Details\")","v":"Details"},{"$f":"HYPERLINK(Options!$B$1, \"Quote\")","v":"Quote"},{"$f":"HYPERLINK(Options!$B$2,\"Fax\")","v":"Fax"}]
["Feyen Zylstra (Grand Rapids)","Vern 224-7128","616-224-7133",null,null,null,null,null,{"$f":"HYPERLINK(\"#'Client Details'!$B$1\",\"Details\")","v":"Details"},{"$f":"HYPERLINK(Options!$B$1, \"Quote\")","v":"Quote"},{"$f":"HYPERLINK(Options!$B$2,\"Fax\")","v":"Fax"}]
["Feyen Zylstra (Traverse City)",null,"231-486-8803",null,null,null,null,null,{"$f":"HYPERLINK(\"#'Client Details'!$B$1\",\"Details\")","v":"Details"},{"$f":"HYPERLINK(Options!$B$1, \"Quote\")","v":"Quote"},{"$f":"HYPERLINK(Options!$B$2,\"Fax\")","v":"Fax"}]
["Feyen-Zylstra (Buursma)","George Buursma"," 616-224-7114",null,null,"Contractor Electrical","Kent",null,{"$f":"HYPERLINK(\"#'Client Details'!$B$1\",\"Details\")","v":"Details"},{"$f":"HYPERLINK(Options!$B$1, \"Quote\")","v":"Quote"},{"$f":"HYPERLINK(Options!$B$2,\"Fax\")","v":"Fax"}]
["Feyen-Zylstra (McGarvey)","Doug McGarvey"," 616-224-7133","dougm@fzcorp.com","Warehouse Manager","Contractor Electrical","Kent",null,{"$f":"HYPERLINK(\"#'Client Details'!$B$1\",\"Details\")","v":"Details"},{"$f":"HYPERLINK(Options!$B$1, \"Quote\")","v":"Quote"},{"$f":"HYPERLINK(Options!$B$2,\"Fax\")","v":"Fax"}]
["FHC Franklin Holwerda Company (Appleyard)","Brent Appleyard"," 616-538-3231",null,null,"Contractor General","Kent",null,{"$f":"HYPERLINK(\"#'Client Details'!$B$1\",\"Details\")","v":"Details"},{"$f":"HYPERLINK(Options!$B$1, \"Quote\")","v":"Quote"},{"$f":"HYPERLINK(Options!$B$2,\"Fax\")","v":"Fax"}]
["FHC Franklin Holwerda Company (Kiliszewsk","Eric Kiliszewski"," 616-538-3231","eric@franklinholwerda.com","Director of Support Services","Contractor General","Kent",null,{"$f":"HYPERLINK(\"#'Client Details'!$B$1\",\"Details\")","v":"Details"},{"$f":"HYPERLINK(Options!$B$1, \"Quote\")","v":"Quote"},{"$f":"HYPERLINK(Options!$B$2,\"Fax\")","v":"Fax"}]
["FiberTeq","Mike Yusko","217-443-3955 x2716",null,null,null,null,null,{"$f":"HYPERLINK(\"#'Client Details'!$B$1\",\"Details\")","v":"Details"},{"$f":"HYPERLINK(Options!$B$1, \"Quote\")","v":"Quote"},{"$f":"HYPERLINK(Options!$B$2,\"Fax\")","v":"Fax"}]
["FiberTeq (Yusko)","Mike Yusko"," 217-443-3955 2716","mike.yusko@fiberteq.com",null,"Manufacturer","Vermilion",null,{"$f":"HYPERLINK(\"#'Client Details'!$B$1\",\"Details\")","v":"Details"},{"$f":"HYPERLINK(Options!$B$1, \"Quote\")","v":"Quote"},{"$f":"HYPERLINK(Options!$B$2,\"Fax\")","v":"Fax"}]
["Field Environmental Instruments",null,"800-393-4009",null,null,null,null,null,{"$f":"HYPERLINK(\"#'Client Details'!$B$1\",\"Details\")","v":"Details"},{"$f":"HYPERLINK(Options!$B$1, \"Quote\")","v":"Quote"},{"$f":"HYPERLINK(Options!$B$2,\"Fax\")","v":"Fax"}]
["Field's Fire Protection, Inc.","Jeff Goss","616-453-2200",null,null,null,null,null,{"$f":"HYPERLINK(\"#'Client Details'!$B$1\",\"Details\")","v":"Details"},{"$f":"HYPERLINK(Options!$B$1, \"Quote\")","v":"Quote"},{"$f":"HYPERLINK(Options!$B$2,\"Fax\")","v":"Fax"}]
["Fifth Third Bank (Boss)","William Boss"," 616-653-5080","bill.boss@53.com",null,"Supplier","Kent",null,{"$f":"HYPERLINK(\"#'Client Details'!$B$1\",\"Details\")","v":"Details"},{"$f":"HYPERLINK(Options!$B$1, \"Quote\")","v":"Quote"},{"$f":"HYPERLINK(Options!$B$2,\"Fax\")","v":"Fax"}]
["Fifth Third Bank (Olson)","Karen Olson"," 616-653-5006","karen.olson@53.com","Assistant Vice President","BBB Personal","Kent",null,{"$f":"HYPERLINK(\"#'Client Details'!$B$1\",\"Details\")","v":"Details"},{"$f":"HYPERLINK(Options!$B$1, \"Quote\")","v":"Quote"},{"$f":"HYPERLINK(Options!$B$2,\"Fax\")","v":"Fax"}]
["Fifth Third Bank (Sorsen)","Ben Sorsen"," 616-653-5393","ben.sorsen@53.com","Commercial Real Estate","Supplier","Kent",null,{"$f":"HYPERLINK(\"#'Client Details'!$B$1\",\"Details\")","v":"Details"},{"$f":"HYPERLINK(Options!$B$1, \"Quote\")","v":"Quote"},{"$f":"HYPERLINK(Options!$B$2,\"Fax\")","v":"Fax"}]
["Filter & Coating Technology","Brad Davis/Scott Foley","616-784-3228",null,null,null,null,null,{"$f":"HYPERLINK(\"#'Client Details'!$B$1\",\"Details\")","v":"Details"},{"$f":"HYPERLINK(Options!$B$1, \"Quote\")","v":"Quote"},{"$f":"HYPERLINK(Options!$B$2,\"Fax\")","v":"Fax"}]
["Firestone (Jordan)","Paul Jordan"," 515-208-8481","jordanpaul@firestoneag.com",null,"Manufacturer","Out of State",null,{"$f":"HYPERLINK(\"#'Client Details'!$B$1\",\"Details\")","v":"Details"},{"$f":"HYPERLINK(Options!$B$1, \"Quote\")","v":"Quote"},{"$f":"HYPERLINK(Options!$B$2,\"Fax\")","v":"Fax"}]
["First Companies","Craig Schroeder","616-698-5000",null,null,null,null,null,{"$f":"HYPERLINK(\"#'Client Details'!$B$1\",\"Details\")","v":"Details"},{"$f":"HYPERLINK(Options!$B$1, \"Quote\")","v":"Quote"},{"$f":"HYPERLINK(Options!$B$2,\"Fax\")","v":"Fax"}]
["First United Methodist Church","Patsy McGillivray","451-2879",null,null,null,null,null,{"$f":"HYPERLINK(\"#'Client Details'!$B$1\",\"Details\")","v":"Details"},{"$f":"HYPERLINK(Options!$B$1, \"Quote\")","v":"Quote"},{"$f":"HYPERLINK(Options!$B$2,\"Fax\")","v":"Fax"}]
["Fishbeck, Thompson, Carr & Huber (Alati)","Anthony Alati"," 248-324-2090","apalati@ftch.com","Geologist","Engineering, Architecture","Oakland",null,{"$f":"HYPERLINK(\"#'Client Details'!$B$1\",\"Details\")","v":"Details"},{"$f":"HYPERLINK(Options!$B$1, \"Quote\")","v":"Quote"},{"$f":"HYPERLINK(Options!$B$2,\"Fax\")","v":"Fax"}]
["Fishbeck, Thompson, Carr & Huber (Campbel","Todd Campbell"," 269-375-1356","tccampbell@ftch.com","Geologist","Engineering, Architecture","Kent",null,{"$f":"HYPERLINK(\"#'Client Details'!$B$1\",\"Details\")","v":"Details"},{"$f":"HYPERLINK(Options!$B$1, \"Quote\")","v":"Quote"},{"$f":"HYPERLINK(Options!$B$2,\"Fax\")","v":"Fax"}]
["Fishbeck, Thompson, Carr & Huber (Carr)","Chuck Carr"," 517-627-1141","cscarr@ftch.com","Inspector","Engineering, Architecture","Ingham",null,{"$f":"HYPERLINK(\"#'Client Details'!$B$1\",\"Details\")","v":"Details"},{"$f":"HYPERLINK(Options!$B$1, \"Quote\")","v":"Quote"},{"$f":"HYPERLINK(Options!$B$2,\"Fax\")","v":"Fax"}]
["Fishbeck, Thompson, Carr & Huber (Colvin)","Michael Colvin"," 616-464-3729","mdcolvin@ftch.com","Senior Project Manager","Engineering, Architecture","Kent",null,{"$f":"HYPERLINK(\"#'Client Details'!$B$1\",\"Details\")","v":"Details"},{"$f":"HYPERLINK(Options!$B$1, \"Quote\")","v":"Quote"},{"$f":"HYPERLINK(Options!$B$2,\"Fax\")","v":"Fax"}]
["Fishbeck, Thompson, Carr & Huber (Kimber)","Eric Kimber"," 616-464-3752","ejkimber@ftch.com","Hydrogeologist","Engineering, Architecture","Kent",null,{"$f":"HYPERLINK(\"#'Client Details'!$B$1\",\"Details\")","v":"Details"},{"$f":"HYPERLINK(Options!$B$1, \"Quote\")","v":"Quote"},{"$f":"HYPERLINK(Options!$B$2,\"Fax\")","v":"Fax"}]
["Fishbeck, Thompson, Carr & Huber (Koops)","Paul Koops"," 616-464-3868","pekoops@ftch.com",null,"Engineering, Architecture","Kent",null,{"$f":"HYPERLINK(\"#'Client Details'!$B$1\",\"Details\")","v":"Details"},{"$f":"HYPERLINK(Options!$B$1, \"Quote\")","v":"Quote"},{"$f":"HYPERLINK(Options!$B$2,\"Fax\")","v":"Fax"}]
["Fishbeck, Thompson, Carr & Huber (Peuler)","Brad Peuler"," 269-375-3824","bdpeuler@ftch.com",null,"Engineering, Architecture","Kent",null,{"$f":"HYPERLINK(\"#'Client Details'!$B$1\",\"Details\")","v":"Details"},{"$f":"HYPERLINK(Options!$B$1, \"Quote\")","v":"Quote"},{"$f":"HYPERLINK(Options!$B$2,\"Fax\")","v":"Fax"}]
["Fishbeck, Thompson, Carr & Huber (Platte)","Joe Platte"," 616-464-3937","jrplatte@ftch.com","Senior Civil Engineer","Engineering, Architecture","Kent",null,{"$f":"HYPERLINK(\"#'Client Details'!$B$1\",\"Details\")","v":"Details"},{"$f":"HYPERLINK(Options!$B$1, \"Quote\")","v":"Quote"},{"$f":"HYPERLINK(Options!$B$2,\"Fax\")","v":"Fax"}]
["Fishbeck, Thompson, Carr & Huber (Van Put","Judy Van Putten"," 616-575-3824","jevanputten@ftch.com","Purchasing Agent","Engineering, Architecture","Kent",null,{"$f":"HYPERLINK(\"#'Client Details'!$B$1\",\"Details\")","v":"Details"},{"$f":"HYPERLINK(Options!$B$1, \"Quote\")","v":"Quote"},{"$f":"HYPERLINK(Options!$B$2,\"Fax\")","v":"Fax"}]
["Fishbeck, Thompson, Carr & Huber (Yowaish","James Yowaish"," 616-464-3777","jyowaish@ftch.com","Facilities Supervisor","Engineering, Architecture","Kent",null,{"$f":"HYPERLINK(\"#'Client Details'!$B$1\",\"Details\")","v":"Details"},{"$f":"HYPERLINK(Options!$B$1, \"Quote\")","v":"Quote"},{"$f":"HYPERLINK(Options!$B$2,\"Fax\")","v":"Fax"}]
["Fisher Safety Store",null,"419-697-4855","dawn.halka@thermorfisher.com",null,null,null,null,{"$f":"HYPERLINK(\"#'Client Details'!$B$1\",\"Details\")","v":"Details"},{"$f":"HYPERLINK(Options!$B$1, \"Quote\")","v":"Quote"},{"$f":"HYPERLINK(Options!$B$2,\"Fax\")","v":"Fax"}]
["Fit Testing Services, Inc. (Marshall)","David Marshall"," 616-464-1118","dmarshall@fittestservices.com",null,"Fire Department","Kent",null,{"$f":"HYPERLINK(\"#'Client Details'!$B$1\",\"Details\")","v":"Details"},{"$f":"HYPERLINK(Options!$B$1, \"Quote\")","v":"Quote"},{"$f":"HYPERLINK(Options!$B$2,\"Fax\")","v":"Fax"}]
["Flat Rock Fire Department","Chief William Vack","734-789-2338","firechief@flatrockmi.org",null,null,null,null,{"$f":"HYPERLINK(\"#'Client Details'!$B$1\",\"Details\")","v":"Details"},{"$f":"HYPERLINK(Options!$B$1, \"Quote\")","v":"Quote"},{"$f":"HYPERLINK(Options!$B$2,\"Fax\")","v":"Fax"}]
["Fleet Engineers Inc. (Dewitt)","Mark Dewitt"," 231-777-2537 305","mdewitt@fleetengineers.com","Personnel Manager","Automotive",null,null,{"$f":"HYPERLINK(\"#'Client Details'!$B$1\",\"Details\")","v":"Details"},{"$f":"HYPERLINK(Options!$B$1, \"Quote\")","v":"Quote"},{"$f":"HYPERLINK(Options!$B$2,\"Fax\")","v":"Fax"}]
["Fleis & Vandenbrink Engineering, Inc.","Kabitha Ambikadevi","616-977-1000 x-131",null,null,null,null,null,{"$f":"HYPERLINK(\"#'Client Details'!$B$1\",\"Details\")","v":"Details"},{"$f":"HYPERLINK(Options!$B$1, \"Quote\")","v":"Quote"},{"$f":"HYPERLINK(Options!$B$2,\"Fax\")","v":"Fax"}]
["Fleis & Vandenbrink Engineering, Inc. (Fl","Larry J. Fleis"," 616-942-3612","lfleis@fveng.com","President","Engineering, Architecture","Kent",null,{"$f":"HYPERLINK(\"#'Client Details'!$B$1\",\"Details\")","v":"Details"},{"$f":"HYPERLINK(Options!$B$1, \"Quote\")","v":"Quote"},{"$f":"HYPERLINK(Options!$B$2,\"Fax\")","v":"Fax"}]
["Fleis & Vandenbrink Engineering, Inc. (Gr","Richard Grant"," 616-977-1000","rgrant@fveng.com","Engineer","Engineering, Architecture","Kent",null,{"$f":"HYPERLINK(\"#'Client Details'!$B$1\",\"Details\")","v":"Details"},{"$f":"HYPERLINK(Options!$B$1, \"Quote\")","v":"Quote"},{"$f":"HYPERLINK(Options!$B$2,\"Fax\")","v":"Fax"}]
["Fleis & Vandenbrink Engineering, Inc. (Ri","Brian Rice"," 616-977-1000","brice@fveng.com","Environmental Engineer","Engineering, Architecture","Kent",null,{"$f":"HYPERLINK(\"#'Client Details'!$B$1\",\"Details\")","v":"Details"},{"$f":"HYPERLINK(Options!$B$1, \"Quote\")","v":"Quote"},{"$f":"HYPERLINK(Options!$B$2,\"Fax\")","v":"Fax"}]
["Fleiss & Vanderbrink Engineering, Inc. (G","Gregory Ginebaugh"," 616-977-1000","gginebaugh@fveng.com",null,"Engineering, Architecture","Kent",null,{"$f":"HYPERLINK(\"#'Client Details'!$B$1\",\"Details\")","v":"Details"},{"$f":"HYPERLINK(Options!$B$1, \"Quote\")","v":"Quote"},{"$f":"HYPERLINK(Options!$B$2,\"Fax\")","v":"Fax"}]
["Flint Group Pigments (Blystra)","Mike Blystra"," 616-393-5397","mike.blystra@pigments.flintgrp.com","EH&S","Manufacturer","Ottawa",null,{"$f":"HYPERLINK(\"#'Client Details'!$B$1\",\"Details\")","v":"Details"},{"$f":"HYPERLINK(Options!$B$1, \"Quote\")","v":"Quote"},{"$f":"HYPERLINK(Options!$B$2,\"Fax\")","v":"Fax"}]
["Foley's Pump Service","Tom Newman","800-528-7018","tom@foleyspump.com",null,null,null,null,{"$f":"HYPERLINK(\"#'Client Details'!$B$1\",\"Details\")","v":"Details"},{"$f":"HYPERLINK(Options!$B$1, \"Quote\")","v":"Quote"},{"$f":"HYPERLINK(Options!$B$2,\"Fax\")","v":"Fax"}]
["Forberg Scientific","Safety First Customer",null,null,null,null,null,null,{"$f":"HYPERLINK(\"#'Client Details'!$B$1\",\"Details\")","v":"Details"},{"$f":"HYPERLINK(Options!$B$1, \"Quote\")","v":"Quote"},{"$f":"HYPERLINK(Options!$B$2,\"Fax\")","v":"Fax"}]
["Ford Motor Company",null,null,null,null,null,null,null,{"$f":"HYPERLINK(\"#'Client Details'!$B$1\",\"Details\")","v":"Details"},{"$f":"HYPERLINK(Options!$B$1, \"Quote\")","v":"Quote"},{"$f":"HYPERLINK(Options!$B$2,\"Fax\")","v":"Fax"}]
["Ford Motor Company (Bradley)","John Bradley"," 313-322-3930","jbradle1@ford.com",null,"Automotive","Wayne",null,{"$f":"HYPERLINK(\"#'Client Details'!$B$1\",\"Details\")","v":"Details"},{"$f":"HYPERLINK(Options!$B$1, \"Quote\")","v":"Quote"},{"$f":"HYPERLINK(Options!$B$2,\"Fax\")","v":"Fax"}]
["Ford Motor Company (Burns)","Gordon Burns",null,"gburns3@ford.com","EMR / EHS / QEMS Rep. & Progra","Automotive","Wayne",null,{"$f":"HYPERLINK(\"#'Client Details'!$B$1\",\"Details\")","v":"Details"},{"$f":"HYPERLINK(Options!$B$1, \"Quote\")","v":"Quote"},{"$f":"HYPERLINK(Options!$B$2,\"Fax\")","v":"Fax"}]
["Ford Motor Company (Taylor)","Jim Taylor"," 313-220-0055","jtayl292@ford.com",null,"Automotive","Wayne",null,{"$f":"HYPERLINK(\"#'Client Details'!$B$1\",\"Details\")","v":"Details"},{"$f":"HYPERLINK(Options!$B$1, \"Quote\")","v":"Quote"},{"$f":"HYPERLINK(Options!$B$2,\"Fax\")","v":"Fax"}]
["Foremost Insurance Group","Pete Murrey","616-956-8195",null,null,null,null,null,{"$f":"HYPERLINK(\"#'Client Details'!$B$1\",\"Details\")","v":"Details"},{"$f":"HYPERLINK(Options!$B$1, \"Quote\")","v":"Quote"},{"$f":"HYPERLINK(Options!$B$2,\"Fax\")","v":"Fax"}]
["Fortis Metal Works","Marisol Corona","602-242-1200",null,null,null,null,null,{"$f":"HYPERLINK(\"#'Client Details'!$B$1\",\"Details\")","v":"Details"},{"$f":"HYPERLINK(Options!$B$1, \"Quote\")","v":"Quote"},{"$f":"HYPERLINK(Options!$B$2,\"Fax\")","v":"Fax"}]
["Fortuna Energy","George Hardin","hm-607-583-4401",null,null,null,null,null,{"$f":"HYPERLINK(\"#'Client Details'!$B$1\",\"Details\")","v":"Details"},{"$f":"HYPERLINK(Options!$B$1, \"Quote\")","v":"Quote"},{"$f":"HYPERLINK(Options!$B$2,\"Fax\")","v":"Fax"}]
["Four Winns (Mulder)","Barb Mulder"," 231-775-1351",null,"EH&S Manager","Manufacturer","Wexford",null,{"$f":"HYPERLINK(\"#'Client Details'!$B$1\",\"Details\")","v":"Details"},{"$f":"HYPERLINK(Options!$B$1, \"Quote\")","v":"Quote"},{"$f":"HYPERLINK(Options!$B$2,\"Fax\")","v":"Fax"}]
["Fox Construction Co., Inc. (Fox)","James Fox"," 616-897-4536",null,null,"Contractor General","Kent",null,{"$f":"HYPERLINK(\"#'Client Details'!$B$1\",\"Details\")","v":"Details"},{"$f":"HYPERLINK(Options!$B$1, \"Quote\")","v":"Quote"},{"$f":"HYPERLINK(Options!$B$2,\"Fax\")","v":"Fax"}]
["Fox Manufacturing (Fox)","Steve Fox"," 586-468-1421","foxman@i-is.com","President","Manufacturer","Wayne",null,{"$f":"HYPERLINK(\"#'Client Details'!$B$1\",\"Details\")","v":"Details"},{"$f":"HYPERLINK(Options!$B$1, \"Quote\")","v":"Quote"},{"$f":"HYPERLINK(Options!$B$2,\"Fax\")","v":"Fax"}]
["Fox River Water Reclamation District (Sey","Judie Seyller",null,"jseyller@frwrd.com",null,"Municipal, Cty","Out of State",null,{"$f":"HYPERLINK(\"#'Client Details'!$B$1\",\"Details\")","v":"Details"},{"$f":"HYPERLINK(Options!$B$1, \"Quote\")","v":"Quote"},{"$f":"HYPERLINK(Options!$B$2,\"Fax\")","v":"Fax"}]
["Franklin Holwerda Company (FHC)","Eric Kiliszewski","616-538-3231","rwhitten@franklinholwerda.com",null,null,null,null,{"$f":"HYPERLINK(\"#'Client Details'!$B$1\",\"Details\")","v":"Details"},{"$f":"HYPERLINK(Options!$B$1, \"Quote\")","v":"Quote"},{"$f":"HYPERLINK(Options!$B$2,\"Fax\")","v":"Fax"}]
["Free Spirit Ent. (Larry)","Larry"," 231-739-2124",null,"Safety/Management",null,"Muskegon",null,{"$f":"HYPERLINK(\"#'Client Details'!$B$1\",\"Details\")","v":"Details"},{"$f":"HYPERLINK(Options!$B$1, \"Quote\")","v":"Quote"},{"$f":"HYPERLINK(Options!$B$2,\"Fax\")","v":"Fax"}]
["Fremont DPW (Hettinger)","Brian Hettinger"," 231-924-2101",null,"Superintendent","Municipal, Cty","Lake",null,{"$f":"HYPERLINK(\"#'Client Details'!$B$1\",\"Details\")","v":"Details"},{"$f":"HYPERLINK(Options!$B$1, \"Quote\")","v":"Quote"},{"$f":"HYPERLINK(Options!$B$2,\"Fax\")","v":"Fax"}]
["Frisby Aerospace, Inc.",null,"336-766-9036",null,null,null,null,null,{"$f":"HYPERLINK(\"#'Client Details'!$B$1\",\"Details\")","v":"Details"},{"$f":"HYPERLINK(Options!$B$1, \"Quote\")","v":"Quote"},{"$f":"HYPERLINK(Options!$B$2,\"Fax\")","v":"Fax"}]
["Fruitport Charter Township",null,"231-865-3158",null,null,null,null,null,{"$f":"HYPERLINK(\"#'Client Details'!$B$1\",\"Details\")","v":"Details"},{"$f":"HYPERLINK(Options!$B$1, \"Quote\")","v":"Quote"},{"$f":"HYPERLINK(Options!$B$2,\"Fax\")","v":"Fax"}]
["Fruitport Charter Township Water (Alder)","Bob Alder"," 231-865-3158",null,"Supervisor","Municipal, Cty","Muskegon",null,{"$f":"HYPERLINK(\"#'Client Details'!$B$1\",\"Details\")","v":"Details"},{"$f":"HYPERLINK(Options!$B$1, \"Quote\")","v":"Quote"},{"$f":"HYPERLINK(Options!$B$2,\"Fax\")","v":"Fax"}]
["Fruitport Charter Township Water (Farrah)","Matt Farrah"," 231-865-3158","mfarrah@fruitporttownship.com","Superintendent","DPW","Muskegon",null,{"$f":"HYPERLINK(\"#'Client Details'!$B$1\",\"Details\")","v":"Details"},{"$f":"HYPERLINK(Options!$B$1, \"Quote\")","v":"Quote"},{"$f":"HYPERLINK(Options!$B$2,\"Fax\")","v":"Fax"}]
["Fruitport Charter Township Water (Hilliar","Dale Hilliard"," 231-865-3158","dhilliard@fruitporttownship.com","Utility Foreman","Municipal, Cty","Muskegon",null,{"$f":"HYPERLINK(\"#'Client Details'!$B$1\",\"Details\")","v":"Details"},{"$f":"HYPERLINK(Options!$B$1, \"Quote\")","v":"Quote"},{"$f":"HYPERLINK(Options!$B$2,\"Fax\")","v":"Fax"}]
["Fruitport Charter Township Water (Lee)","Dale Lee"," 231-865-3158","dlee@fruitporttownship.com","Supervisor","Municipal, Cty","Muskegon",null,{"$f":"HYPERLINK(\"#'Client Details'!$B$1\",\"Details\")","v":"Details"},{"$f":"HYPERLINK(Options!$B$1, \"Quote\")","v":"Quote"},{"$f":"HYPERLINK(Options!$B$2,\"Fax\")","v":"Fax"}]
["FTC&H - (Farmington Hills)","Judy VanPuten","616-464-3937","Lora Sage",null,null,null,null,{"$f":"HYPERLINK(\"#'Client Details'!$B$1\",\"Details\")","v":"Details"},{"$f":"HYPERLINK(Options!$B$1, \"Quote\")","v":"Quote"},{"$f":"HYPERLINK(Options!$B$2,\"Fax\")","v":"Fax"}]
["FTC&H - (G.R.)",null,null,null,null,null,null,null,{"$f":"HYPERLINK(\"#'Client Details'!$B$1\",\"Details\")","v":"Details"},{"$f":"HYPERLINK(Options!$B$1, \"Quote\")","v":"Quote"},{"$f":"HYPERLINK(Options!$B$2,\"Fax\")","v":"Fax"}]
["FTC&H - (Kzoo)","Todd Campbell","269-375-1356",null,null,null,null,null,{"$f":"HYPERLINK(\"#'Client Details'!$B$1\",\"Details\")","v":"Details"},{"$f":"HYPERLINK(Options!$B$1, \"Quote\")","v":"Quote"},{"$f":"HYPERLINK(Options!$B$2,\"Fax\")","v":"Fax"}]
["Fuel Systems LLC","Pat Day","616-735-0300",null,null,null,null,null,{"$f":"HYPERLINK(\"#'Client Details'!$B$1\",\"Details\")","v":"Details"},{"$f":"HYPERLINK(Options!$B$1, \"Quote\")","v":"Quote"},{"$f":"HYPERLINK(Options!$B$2,\"Fax\")","v":"Fax"}]
["Furmaite","John Waters","800-666-1390",null,null,null,null,null,{"$f":"HYPERLINK(\"#'Client Details'!$B$1\",\"Details\")","v":"Details"},{"$f":"HYPERLINK(Options!$B$1, \"Quote\")","v":"Quote"},{"$f":"HYPERLINK(Options!$B$2,\"Fax\")","v":"Fax"}]
["Future Environmental, Inc.","Craig Haisma (regional Mngr)","866-579-6900","futureenv@yahoo.com",null,null,null,null,{"$f":"HYPERLINK(\"#'Client Details'!$B$1\",\"Details\")","v":"Details"},{"$f":"HYPERLINK(Options!$B$1, \"Quote\")","v":"Quote"},{"$f":"HYPERLINK(Options!$B$2,\"Fax\")","v":"Fax"}]
["G. Freeland Roofing","Maria Pleiness","231-845-6322",null,null,null,null,null,{"$f":"HYPERLINK(\"#'Client Details'!$B$1\",\"Details\")","v":"Details"},{"$f":"HYPERLINK(Options!$B$1, \"Quote\")","v":"Quote"},{"$f":"HYPERLINK(Options!$B$2,\"Fax\")","v":"Fax"}]
["G. Freeland Roofing Systems, Inc. (Freela","Gordy Freeland"," 231-845-6322",null,"Owner","Contractor General","Mason",null,{"$f":"HYPERLINK(\"#'Client Details'!$B$1\",\"Details\")","v":"Details"},{"$f":"HYPERLINK(Options!$B$1, \"Quote\")","v":"Quote"},{"$f":"HYPERLINK(Options!$B$2,\"Fax\")","v":"Fax"}]
["Gabriel  Performance Products",null,null,null,null,null,null,null,{"$f":"HYPERLINK(\"#'Client Details'!$B$1\",\"Details\")","v":"Details"},{"$f":"HYPERLINK(Options!$B$1, \"Quote\")","v":"Quote"},{"$f":"HYPERLINK(Options!$B$2,\"Fax\")","v":"Fax"}]
["Gale Roofing (Darryl)","Darryl"," 231-873-5289",null,null,"Contractor General","Oceana",null,{"$f":"HYPERLINK(\"#'Client Details'!$B$1\",\"Details\")","v":"Details"},{"$f":"HYPERLINK(Options!$B$1, \"Quote\")","v":"Quote"},{"$f":"HYPERLINK(Options!$B$2,\"Fax\")","v":"Fax"}]
["Gannett Fleming, Inc.","Tony & Matt Miller","608-836-1500",null,null,null,null,null,{"$f":"HYPERLINK(\"#'Client Details'!$B$1\",\"Details\")","v":"Details"},{"$f":"HYPERLINK(Options!$B$1, \"Quote\")","v":"Quote"},{"$f":"HYPERLINK(Options!$B$2,\"Fax\")","v":"Fax"}]
["Gary Wozniak","Gary Wozniak","269-567-3613",null,null,null,null,null,{"$f":"HYPERLINK(\"#'Client Details'!$B$1\",\"Details\")","v":"Details"},{"$f":"HYPERLINK(Options!$B$1, \"Quote\")","v":"Quote"},{"$f":"HYPERLINK(Options!$B$2,\"Fax\")","v":"Fax"}]
["GCA Service Group","Harmony Amant x-234","630-629-4044 Acct.",null,null,null,null,null,{"$f":"HYPERLINK(\"#'Client Details'!$B$1\",\"Details\")","v":"Details"},{"$f":"HYPERLINK(Options!$B$1, \"Quote\")","v":"Quote"},{"$f":"HYPERLINK(Options!$B$2,\"Fax\")","v":"Fax"}]
["GDK Construction",null,"616-355-0300",null,null,null,null,null,{"$f":"HYPERLINK(\"#'Client Details'!$B$1\",\"Details\")","v":"Details"},{"$f":"HYPERLINK(Options!$B$1, \"Quote\")","v":"Quote"},{"$f":"HYPERLINK(Options!$B$2,\"Fax\")","v":"Fax"}]
["GDK Construction Company (Faber)","Lindsay Faber"," 616-355-0300","LINDSAY@GDKCONSTRUCTION.COM",null,"Contractor General","Kent",null,{"$f":"HYPERLINK(\"#'Client Details'!$B$1\",\"Details\")","v":"Details"},{"$f":"HYPERLINK(Options!$B$1, \"Quote\")","v":"Quote"},{"$f":"HYPERLINK(Options!$B$2,\"Fax\")","v":"Fax"}]
["GDK Construction Company (Knoll)","Lisa Knoll"," 616-355-0300",null,"Project Manager Assistant","Contractor General","Kent",null,{"$f":"HYPERLINK(\"#'Client Details'!$B$1\",\"Details\")","v":"Details"},{"$f":"HYPERLINK(Options!$B$1, \"Quote\")","v":"Quote"},{"$f":"HYPERLINK(Options!$B$2,\"Fax\")","v":"Fax"}]
["GE (Morrison, IL)",null,"815-772-1365",null,null,null,null,null,{"$f":"HYPERLINK(\"#'Client Details'!$B$1\",\"Details\")","v":"Details"},{"$f":"HYPERLINK(Options!$B$1, \"Quote\")","v":"Quote"},{"$f":"HYPERLINK(Options!$B$2,\"Fax\")","v":"Fax"}]
["GE Aviation (Biaglow)","Jim Biaglow"," 802-773-9121 1644","jim.biaglow@ge.com",null,"Manufacturer","Out of State",null,{"$f":"HYPERLINK(\"#'Client Details'!$B$1\",\"Details\")","v":"Details"},{"$f":"HYPERLINK(Options!$B$1, \"Quote\")","v":"Quote"},{"$f":"HYPERLINK(Options!$B$2,\"Fax\")","v":"Fax"}]
["GE Energy (Cincinnati) (Ursuliak)","John Ursuliak"," 513-682-6471","john.ursuliak@ge.com","Field Engineer",null,"Out of State",null,{"$f":"HYPERLINK(\"#'Client Details'!$B$1\",\"Details\")","v":"Details"},{"$f":"HYPERLINK(Options!$B$1, \"Quote\")","v":"Quote"},{"$f":"HYPERLINK(Options!$B$2,\"Fax\")","v":"Fax"}]
["GE Energy (Cincinnati, OH)",null,null,null,null,null,null,null,{"$f":"HYPERLINK(\"#'Client Details'!$B$1\",\"Details\")","v":"Details"},{"$f":"HYPERLINK(Options!$B$1, \"Quote\")","v":"Quote"},{"$f":"HYPERLINK(Options!$B$2,\"Fax\")","v":"Fax"}]
["GE Energy (Holland, MI)","Gondon Heeres","248-262-2715",null,null,null,null,null,{"$f":"HYPERLINK(\"#'Client Details'!$B$1\",\"Details\")","v":"Details"},{"$f":"HYPERLINK(Options!$B$1, \"Quote\")","v":"Quote"},{"$f":"HYPERLINK(Options!$B$2,\"Fax\")","v":"Fax"}]
["GE Energy (Lima OH)","John Ursuliak","513-417-5259",null,null,null,null,null,{"$f":"HYPERLINK(\"#'Client Details'!$B$1\",\"Details\")","v":"Details"},{"$f":"HYPERLINK(Options!$B$1, \"Quote\")","v":"Quote"},{"$f":"HYPERLINK(Options!$B$2,\"Fax\")","v":"Fax"}]
["GE Equipment Services (Powell)","Michael Powell"," 616-534-3756","michael.powell2@ge.com",null,"Automotive","Kent",null,{"$f":"HYPERLINK(\"#'Client Details'!$B$1\",\"Details\")","v":"Details"},{"$f":"HYPERLINK(Options!$B$1, \"Quote\")","v":"Quote"},{"$f":"HYPERLINK(Options!$B$2,\"Fax\")","v":"Fax"}]
["GE Lighting Inc. (Conneaut, OH)","Stan Palagyi - Maint. Mgr.","440-593-1156","michael.mccroskey@ge.com",null,null,null,null,{"$f":"HYPERLINK(\"#'Client Details'!$B$1\",\"Details\")","v":"Details"},{"$f":"HYPERLINK(Options!$B$1, \"Quote\")","v":"Quote"},{"$f":"HYPERLINK(Options!$B$2,\"Fax\")","v":"Fax"}]
["GE Lighting Inc. (McCroskey)","Michael McCroskey"," 440-593-1156 223","michael.mccroskey@ge.com",null,"Manufacturer","Out of State",null,{"$f":"HYPERLINK(\"#'Client Details'!$B$1\",\"Details\")","v":"Details"},{"$f":"HYPERLINK(Options!$B$1, \"Quote\")","v":"Quote"},{"$f":"HYPERLINK(Options!$B$2,\"Fax\")","v":"Fax"}]
["GE Lighting Inc. (Palagyi)","Stan Palagyi"," 440-593-1156 224",null,"Maintenance Manager","Manufacturer","Out of State",null,{"$f":"HYPERLINK(\"#'Client Details'!$B$1\",\"Details\")","v":"Details"},{"$f":"HYPERLINK(Options!$B$1, \"Quote\")","v":"Quote"},{"$f":"HYPERLINK(Options!$B$2,\"Fax\")","v":"Fax"}]
["GE LNP Plastics (Daniels)","Bill Daniels",null,"bill.daniels@ge.com","EHS Manager","Plastics","Out of State",null,{"$f":"HYPERLINK(\"#'Client Details'!$B$1\",\"Details\")","v":"Details"},{"$f":"HYPERLINK(Options!$B$1, \"Quote\")","v":"Quote"},{"$f":"HYPERLINK(Options!$B$2,\"Fax\")","v":"Fax"}]
["GE Power Systems (Burns)","Todd Burns"," 330-622-8910","william.burns@ge.com",null,"Manufacturer","Out of State",null,{"$f":"HYPERLINK(\"#'Client Details'!$B$1\",\"Details\")","v":"Details"},{"$f":"HYPERLINK(Options!$B$1, \"Quote\")","v":"Quote"},{"$f":"HYPERLINK(Options!$B$2,\"Fax\")","v":"Fax"}]
["GE Power Systems (Tallmadge, OH)","Todd Burns","330-622-8910",null,null,null,null,null,{"$f":"HYPERLINK(\"#'Client Details'!$B$1\",\"Details\")","v":"Details"},{"$f":"HYPERLINK(Options!$B$1, \"Quote\")","v":"Quote"},{"$f":"HYPERLINK(Options!$B$2,\"Fax\")","v":"Fax"}]
["Gebben's Concrete, Inc. (Mast)","Kelly Mast"," 616-772-6172",null,"Estimator",null,"Ottawa",null,{"$f":"HYPERLINK(\"#'Client Details'!$B$1\",\"Details\")","v":"Details"},{"$f":"HYPERLINK(Options!$B$1, \"Quote\")","v":"Quote"},{"$f":"HYPERLINK(Options!$B$2,\"Fax\")","v":"Fax"}]
["General Chemical (Lineske)","Lloyd Lineske"," 601-799-2380","llineske@genchemcorp.com",null,"Chemical Pharmaceutical","Out of State",null,{"$f":"HYPERLINK(\"#'Client Details'!$B$1\",\"Details\")","v":"Details"},{"$f":"HYPERLINK(Options!$B$1, \"Quote\")","v":"Quote"},{"$f":"HYPERLINK(Options!$B$2,\"Fax\")","v":"Fax"}]
["General Chemical (Samantha)","Samantha"," 231-723-6266",null,"Plant Manager","Chemical Pharmaceutical","Mason",null,{"$f":"HYPERLINK(\"#'Client Details'!$B$1\",\"Details\")","v":"Details"},{"$f":"HYPERLINK(Options!$B$1, \"Quote\")","v":"Quote"},{"$f":"HYPERLINK(Options!$B$2,\"Fax\")","v":"Fax"}]
["General Mills Hannibal (Klueppel)","Janet Klueppel"," 573-231-3417","Janet.Klueppel@genmills.com","Safety Manager","Food","Out of State",null,{"$f":"HYPERLINK(\"#'Client Details'!$B$1\",\"Details\")","v":"Details"},{"$f":"HYPERLINK(Options!$B$1, \"Quote\")","v":"Quote"},{"$f":"HYPERLINK(Options!$B$2,\"Fax\")","v":"Fax"}]
["General Mills Yoplait (Dawson)","Jim Dawson"," 231-832-6218 287","jim.dawson@genmills.com","Plant Engineer","Food","Osceola",null,{"$f":"HYPERLINK(\"#'Client Details'!$B$1\",\"Details\")","v":"Details"},{"$f":"HYPERLINK(Options!$B$1, \"Quote\")","v":"Quote"},{"$f":"HYPERLINK(Options!$B$2,\"Fax\")","v":"Fax"}]
["General Mills Yoplait (Vennix)","Chris Vennix"," 231-832-6287 287","chris.vennix@genmills.com","Safety Manager","Food","Osceola",null,{"$f":"HYPERLINK(\"#'Client Details'!$B$1\",\"Details\")","v":"Details"},{"$f":"HYPERLINK(Options!$B$1, \"Quote\")","v":"Quote"},{"$f":"HYPERLINK(Options!$B$2,\"Fax\")","v":"Fax"}]
["General Motors (Hoffman)","Michael Hoffman"," 248-753-2833","michael.hoffman@gm.com","Sr. Project Engineer","Automotive","Oakland",null,{"$f":"HYPERLINK(\"#'Client Details'!$B$1\",\"Details\")","v":"Details"},{"$f":"HYPERLINK(Options!$B$1, \"Quote\")","v":"Quote"},{"$f":"HYPERLINK(Options!$B$2,\"Fax\")","v":"Fax"}]
["General Motors Anderson (McEntire)","George McEntire"," 765-730-6064","gnmcentire@aol.com",null,"Automotive","Out of State",null,{"$f":"HYPERLINK(\"#'Client Details'!$B$1\",\"Details\")","v":"Details"},{"$f":"HYPERLINK(Options!$B$1, \"Quote\")","v":"Quote"},{"$f":"HYPERLINK(Options!$B$2,\"Fax\")","v":"Fax"}]
["General Motors Corp. (Grand Rapids)","Keith Welcher","616-246-3009",null,null,null,null,null,{"$f":"HYPERLINK(\"#'Client Details'!$B$1\",\"Details\")","v":"Details"},{"$f":"HYPERLINK(Options!$B$1, \"Quote\")","v":"Quote"},{"$f":"HYPERLINK(Options!$B$2,\"Fax\")","v":"Fax"}]
["General Motors Corp. (Pontiac)","Ray Reid","248.830.8096",null,null,null,null,null,{"$f":"HYPERLINK(\"#'Client Details'!$B$1\",\"Details\")","v":"Details"},{"$f":"HYPERLINK(Options!$B$1, \"Quote\")","v":"Quote"},{"$f":"HYPERLINK(Options!$B$2,\"Fax\")","v":"Fax"}]
["General Motors Corp. (Proving Ground)","Dawn Gallinger","248-685-5178",null,null,null,null,null,{"$f":"HYPERLINK(\"#'Client Details'!$B$1\",\"Details\")","v":"Details"},{"$f":"HYPERLINK(Options!$B$1, \"Quote\")","v":"Quote"},{"$f":"HYPERLINK(Options!$B$2,\"Fax\")","v":"Fax"}]
["General Motors Corp. (Whie Marsh)","Patrick Law","443-425-1447",null,null,null,null,null,{"$f":"HYPERLINK(\"#'Client Details'!$B$1\",\"Details\")","v":"Details"},{"$f":"HYPERLINK(Options!$B$1, \"Quote\")","v":"Quote"},{"$f":"HYPERLINK(Options!$B$2,\"Fax\")","v":"Fax"}]
["General Motors Corporation Proving Ground","John Moses"," 248-685-6549","john.a.moses@gm.com",null,"Automotive","Oakland",null,{"$f":"HYPERLINK(\"#'Client Details'!$B$1\",\"Details\")","v":"Details"},{"$f":"HYPERLINK(Options!$B$1, \"Quote\")","v":"Quote"},{"$f":"HYPERLINK(Options!$B$2,\"Fax\")","v":"Fax"}]
["General Motors Powertrain (Chambers)","Mark Chambers"," 989-757-1855","mark.chambers@gm.com","UAW IH Technician","Automotive","Saginaw",null,{"$f":"HYPERLINK(\"#'Client Details'!$B$1\",\"Details\")","v":"Details"},{"$f":"HYPERLINK(Options!$B$1, \"Quote\")","v":"Quote"},{"$f":"HYPERLINK(Options!$B$2,\"Fax\")","v":"Fax"}]
["Genesee County Drain Commission",null,"810-732-7870",null,null,null,null,null,{"$f":"HYPERLINK(\"#'Client Details'!$B$1\",\"Details\")","v":"Details"},{"$f":"HYPERLINK(Options!$B$1, \"Quote\")","v":"Quote"},{"$f":"HYPERLINK(Options!$B$2,\"Fax\")","v":"Fax"}]
["Genesis Air",null,"616-874-9536",null,null,null,null,null,{"$f":"HYPERLINK(\"#'Client Details'!$B$1\",\"Details\")","v":"Details"},{"$f":"HYPERLINK(Options!$B$1, \"Quote\")","v":"Quote"},{"$f":"HYPERLINK(Options!$B$2,\"Fax\")","v":"Fax"}]
["Gentex Corp. (East Riley St.)","Brenda Wisniewski","616-772-1590",null,null,null,null,null,{"$f":"HYPERLINK(\"#'Client Details'!$B$1\",\"Details\")","v":"Details"},{"$f":"HYPERLINK(Options!$B$1, \"Quote\")","v":"Quote"},{"$f":"HYPERLINK(Options!$B$2,\"Fax\")","v":"Fax"}]
["Gentex Corp. (N. Centenial)","Tom Kelly","616-772-1800",null,null,null,null,null,{"$f":"HYPERLINK(\"#'Client Details'!$B$1\",\"Details\")","v":"Details"},{"$f":"HYPERLINK(Options!$B$1, \"Quote\")","v":"Quote"},{"$f":"HYPERLINK(Options!$B$2,\"Fax\")","v":"Fax"}]
["Gentex Corp. (North State St.)","Bill Bryker","616-772-1590",null,null,null,null,null,{"$f":"HYPERLINK(\"#'Client Details'!$B$1\",\"Details\")","v":"Details"},{"$f":"HYPERLINK(Options!$B$1, \"Quote\")","v":"Quote"},{"$f":"HYPERLINK(Options!$B$2,\"Fax\")","v":"Fax"}]
["Gentex Corporation (Bryker)","Bill Bryker"," 616-772-1590 664","billb@gentex.com","Synthetic Chemistry Lab Manage","Automotive","Ottawa",null,{"$f":"HYPERLINK(\"#'Client Details'!$B$1\",\"Details\")","v":"Details"},{"$f":"HYPERLINK(Options!$B$1, \"Quote\")","v":"Quote"},{"$f":"HYPERLINK(Options!$B$2,\"Fax\")","v":"Fax"}]
["Gentex Corporation (Wisniewski)","Brenda Wisniewski"," 616-772-1590 4748","bwisniewski@gentex.com","Safety / Security Administrato","Automotive","Ottawa",null,{"$f":"HYPERLINK(\"#'Client Details'!$B$1\",\"Details\")","v":"Details"},{"$f":"HYPERLINK(Options!$B$1, \"Quote\")","v":"Quote"},{"$f":"HYPERLINK(Options!$B$2,\"Fax\")","v":"Fax"}]
["Genzink Steel (Rollins)","Sue Rollins"," 616-392-1437",null,"Safety Manager",null,"Ottawa",null,{"$f":"HYPERLINK(\"#'Client Details'!$B$1\",\"Details\")","v":"Details"},{"$f":"HYPERLINK(Options!$B$1, \"Quote\")","v":"Quote"},{"$f":"HYPERLINK(Options!$B$2,\"Fax\")","v":"Fax"}]
["Genzink Steel (Stewart)","Nate Stewart"," 616-494-8463","nstewart@genzink.com","Facilities Manager","Steel","Kent",null,{"$f":"HYPERLINK(\"#'Client Details'!$B$1\",\"Details\")","v":"Details"},{"$f":"HYPERLINK(Options!$B$1, \"Quote\")","v":"Quote"},{"$f":"HYPERLINK(Options!$B$2,\"Fax\")","v":"Fax"}]
["Geocon Inc.","Dave Timmer","616-457-6409",null,null,null,null,null,{"$f":"HYPERLINK(\"#'Client Details'!$B$1\",\"Details\")","v":"Details"},{"$f":"HYPERLINK(Options!$B$1, \"Quote\")","v":"Quote"},{"$f":"HYPERLINK(Options!$B$2,\"Fax\")","v":"Fax"}]
["Geocon Inc. (Timmer)","Dave Timmer"," 616-457-6409",null,"Construction Coordinator","Contractor EH&S","Ottawa",null,{"$f":"HYPERLINK(\"#'Client Details'!$B$1\",\"Details\")","v":"Details"},{"$f":"HYPERLINK(Options!$B$1, \"Quote\")","v":"Quote"},{"$f":"HYPERLINK(Options!$B$2,\"Fax\")","v":"Fax"}]
["George J Martin & Sons (Mangold)","Jeff Mangold"," 578-477-7577",null,null,"Contractor Electrical","Out of State",null,{"$f":"HYPERLINK(\"#'Client Details'!$B$1\",\"Details\")","v":"Details"},{"$f":"HYPERLINK(Options!$B$1, \"Quote\")","v":"Quote"},{"$f":"HYPERLINK(Options!$B$2,\"Fax\")","v":"Fax"}]
["Georgetown Charter Township",null,"616-457-2340",null,null,null,null,null,{"$f":"HYPERLINK(\"#'Client Details'!$B$1\",\"Details\")","v":"Details"},{"$f":"HYPERLINK(Options!$B$1, \"Quote\")","v":"Quote"},{"$f":"HYPERLINK(Options!$B$2,\"Fax\")","v":"Fax"}]
["Georgetown Charter Township (Hannenburg)","Joel Hannenburg"," 616-457-2340","bhannon12@gmail.com",null,"Municipal, Cty","Kent",null,{"$f":"HYPERLINK(\"#'Client Details'!$B$1\",\"Details\")","v":"Details"},{"$f":"HYPERLINK(Options!$B$1, \"Quote\")","v":"Quote"},{"$f":"HYPERLINK(Options!$B$2,\"Fax\")","v":"Fax"}]
["Georgetown Charter Township (Steigenga)","Mike Steigenga"," 616-457-2340",null,null,"Municipal, Cty","Kent",null,{"$f":"HYPERLINK(\"#'Client Details'!$B$1\",\"Details\")","v":"Details"},{"$f":"HYPERLINK(Options!$B$1, \"Quote\")","v":"Quote"},{"$f":"HYPERLINK(Options!$B$2,\"Fax\")","v":"Fax"}]
["Georgetown Construction Company (Parsh)","Dave Parsh"," 616-669-6000",null,"Engineer","Contractor General","Ottawa",null,{"$f":"HYPERLINK(\"#'Client Details'!$B$1\",\"Details\")","v":"Details"},{"$f":"HYPERLINK(Options!$B$1, \"Quote\")","v":"Quote"},{"$f":"HYPERLINK(Options!$B$2,\"Fax\")","v":"Fax"}]
["Georgian Bay Fire & Safety Ltd. (Lutzmann","Michael Lutzmann"," 800-265-3197","mlutzmann@gbfire.com",null,"Competitor","Out of State",null,{"$f":"HYPERLINK(\"#'Client Details'!$B$1\",\"Details\")","v":"Details"},{"$f":"HYPERLINK(Options!$B$1, \"Quote\")","v":"Quote"},{"$f":"HYPERLINK(Options!$B$2,\"Fax\")","v":"Fax"}]
["Georgia-Pacific (Batavia, OH)",null,"513-536-3047",null,null,null,null,null,{"$f":"HYPERLINK(\"#'Client Details'!$B$1\",\"Details\")","v":"Details"},{"$f":"HYPERLINK(Options!$B$1, \"Quote\")","v":"Quote"},{"$f":"HYPERLINK(Options!$B$2,\"Fax\")","v":"Fax"}]
["Georgia-Pacific (Milan, MI)",null,null,null,null,null,null,null,{"$f":"HYPERLINK(\"#'Client Details'!$B$1\",\"Details\")","v":"Details"},{"$f":"HYPERLINK(Options!$B$1, \"Quote\")","v":"Quote"},{"$f":"HYPERLINK(Options!$B$2,\"Fax\")","v":"Fax"}]
["Georgia-Pacific Milan (Brown)","Bud Brown"," 734-439-4922","gabrown@gapac.com",null,"Paper","Monroe",null,{"$f":"HYPERLINK(\"#'Client Details'!$B$1\",\"Details\")","v":"Details"},{"$f":"HYPERLINK(Options!$B$1, \"Quote\")","v":"Quote"},{"$f":"HYPERLINK(Options!$B$2,\"Fax\")","v":"Fax"}]
["Geo-Solutions Inc.","Bill Resnick","724-396-7331","bresenic@geo-solutions.com",null,null,null,null,{"$f":"HYPERLINK(\"#'Client Details'!$B$1\",\"Details\")","v":"Details"},{"$f":"HYPERLINK(Options!$B$1, \"Quote\")","v":"Quote"},{"$f":"HYPERLINK(Options!$B$2,\"Fax\")","v":"Fax"}]
["Geospacial Corp.",null,"724-353-3404",null,null,null,null,null,{"$f":"HYPERLINK(\"#'Client Details'!$B$1\",\"Details\")","v":"Details"},{"$f":"HYPERLINK(Options!$B$1, \"Quote\")","v":"Quote"},{"$f":"HYPERLINK(Options!$B$2,\"Fax\")","v":"Fax"}]
["Geospatial Corporation (Monday)","Pete Monday"," 724-353-3404","pmonday@geospatialcorporation.com",null,"Contractor General","Out of State",null,{"$f":"HYPERLINK(\"#'Client Details'!$B$1\",\"Details\")","v":"Details"},{"$f":"HYPERLINK(Options!$B$1, \"Quote\")","v":"Quote"},{"$f":"HYPERLINK(Options!$B$2,\"Fax\")","v":"Fax"}]
["Geotech (Henderickson)","Jake Henderickson"," 800-275-5325",null,null,"Supplier","Ingham",null,{"$f":"HYPERLINK(\"#'Client Details'!$B$1\",\"Details\")","v":"Details"},{"$f":"HYPERLINK(Options!$B$1, \"Quote\")","v":"Quote"},{"$f":"HYPERLINK(Options!$B$2,\"Fax\")","v":"Fax"}]
["GeoTrans, Inc. (Smith)","Kevin Smith"," 734-213-4071","ksmith@geotransinc.com",null,"Contractor EH&S","Out of State",null,{"$f":"HYPERLINK(\"#'Client Details'!$B$1\",\"Details\")","v":"Details"},{"$f":"HYPERLINK(Options!$B$1, \"Quote\")","v":"Quote"},{"$f":"HYPERLINK(Options!$B$2,\"Fax\")","v":"Fax"}]
["Gerace Construction","Chris Brown ext. 140","989-496-2440",null,null,null,null,null,{"$f":"HYPERLINK(\"#'Client Details'!$B$1\",\"Details\")","v":"Details"},{"$f":"HYPERLINK(Options!$B$1, \"Quote\")","v":"Quote"},{"$f":"HYPERLINK(Options!$B$2,\"Fax\")","v":"Fax"}]
["Gerber Construction","Terry Gerber","231-846-0047 cell",null,null,null,null,null,{"$f":"HYPERLINK(\"#'Client Details'!$B$1\",\"Details\")","v":"Details"},{"$f":"HYPERLINK(Options!$B$1, \"Quote\")","v":"Quote"},{"$f":"HYPERLINK(Options!$B$2,\"Fax\")","v":"Fax"}]
["Gerber Construction Company (Gerber)","Terry Gerber"," 231-832-2792",null,null,"Contractor EH&S","Osceola",null,{"$f":"HYPERLINK(\"#'Client Details'!$B$1\",\"Details\")","v":"Details"},{"$f":"HYPERLINK(Options!$B$1, \"Quote\")","v":"Quote"},{"$f":"HYPERLINK(Options!$B$2,\"Fax\")","v":"Fax"}]
["Gerber/Nestle Nutritional (Conklin)","Pat Conklin"," 231-928-2314",null,"Safety Manager","Nutritional Production","Lake",null,{"$f":"HYPERLINK(\"#'Client Details'!$B$1\",\"Details\")","v":"Details"},{"$f":"HYPERLINK(Options!$B$1, \"Quote\")","v":"Quote"},{"$f":"HYPERLINK(Options!$B$2,\"Fax\")","v":"Fax"}]
["Getman Corp.","Deb Couturier","269-427-5611 x315",null,null,null,null,null,{"$f":"HYPERLINK(\"#'Client Details'!$B$1\",\"Details\")","v":"Details"},{"$f":"HYPERLINK(Options!$B$1, \"Quote\")","v":"Quote"},{"$f":"HYPERLINK(Options!$B$2,\"Fax\")","v":"Fax"}]
["Gezon Motors (Strotbaum)","Terry Strotbaum"," 616-361-7361",null,"Sales Representative","Supplier","Kent",null,{"$f":"HYPERLINK(\"#'Client Details'!$B$1\",\"Details\")","v":"Details"},{"$f":"HYPERLINK(Options!$B$1, \"Quote\")","v":"Quote"},{"$f":"HYPERLINK(Options!$B$2,\"Fax\")","v":"Fax"}]
["GfG Instrumentation Inc. (Henderson)","Bob Henderson"," 800-959-0329 5001","bhenderson@gfg-inc.com",null,"Supplier","Washtenaw",null,{"$f":"HYPERLINK(\"#'Client Details'!$B$1\",\"Details\")","v":"Details"},{"$f":"HYPERLINK(Options!$B$1, \"Quote\")","v":"Quote"},{"$f":"HYPERLINK(Options!$B$2,\"Fax\")","v":"Fax"}]
["Gheen's Painting Inc.","Manuel Gheen 740-590-3700","740-949-0405","gpi@direcway.com",null,null,null,null,{"$f":"HYPERLINK(\"#'Client Details'!$B$1\",\"Details\")","v":"Details"},{"$f":"HYPERLINK(Options!$B$1, \"Quote\")","v":"Quote"},{"$f":"HYPERLINK(Options!$B$2,\"Fax\")","v":"Fax"}]
["GHSP","Garry Eppard","231-873-6509",null,null,null,null,null,{"$f":"HYPERLINK(\"#'Client Details'!$B$1\",\"Details\")","v":"Details"},{"$f":"HYPERLINK(Options!$B$1, \"Quote\")","v":"Quote"},{"$f":"HYPERLINK(Options!$B$2,\"Fax\")","v":"Fax"}]
["GHSP (Bird)","Jim Bird"," 616-842-5500",null,"Safety Contact","Automotive","Muskegon",null,{"$f":"HYPERLINK(\"#'Client Details'!$B$1\",\"Details\")","v":"Details"},{"$f":"HYPERLINK(Options!$B$1, \"Quote\")","v":"Quote"},{"$f":"HYPERLINK(Options!$B$2,\"Fax\")","v":"Fax"}]
["GHSP (Eppard)","Garry Eppard"," 231-873-6500 36509","eppardg@ghsp.com","Maintenance","Automotive","Oceana",null,{"$f":"HYPERLINK(\"#'Client Details'!$B$1\",\"Details\")","v":"Details"},{"$f":"HYPERLINK(Options!$B$1, \"Quote\")","v":"Quote"},{"$f":"HYPERLINK(Options!$B$2,\"Fax\")","v":"Fax"}]
["Gillhespy Inc.","Dendel Claven","616-459-0125",null,null,null,null,null,{"$f":"HYPERLINK(\"#'Client Details'!$B$1\",\"Details\")","v":"Details"},{"$f":"HYPERLINK(Options!$B$1, \"Quote\")","v":"Quote"},{"$f":"HYPERLINK(Options!$B$2,\"Fax\")","v":"Fax"}]
["Gillhespy, Inc. (Geile)","Mark Geile"," 616-459-0125","mgeile@gillhespy.com","President","Contractor General","Kent",null,{"$f":"HYPERLINK(\"#'Client Details'!$B$1\",\"Details\")","v":"Details"},{"$f":"HYPERLINK(Options!$B$1, \"Quote\")","v":"Quote"},{"$f":"HYPERLINK(Options!$B$2,\"Fax\")","v":"Fax"}]
["Gillison Excavating (Elie)","Susan & Elie"," 231-882-4677",null,"Office Staff","Excavating","Manistee",null,{"$f":"HYPERLINK(\"#'Client Details'!$B$1\",\"Details\")","v":"Details"},{"$f":"HYPERLINK(Options!$B$1, \"Quote\")","v":"Quote"},{"$f":"HYPERLINK(Options!$B$2,\"Fax\")","v":"Fax"}]
["Gladwin DPW, City of (Molski)","Tom Molski"," 989-426-6946",null,null,"Municipal, Cty","Gladwin",null,{"$f":"HYPERLINK(\"#'Client Details'!$B$1\",\"Details\")","v":"Details"},{"$f":"HYPERLINK(Options!$B$1, \"Quote\")","v":"Quote"},{"$f":"HYPERLINK(Options!$B$2,\"Fax\")","v":"Fax"}]
["Gleason Construction","Jay Gleason ext.6","419-865-7480",null,null,null,null,null,{"$f":"HYPERLINK(\"#'Client Details'!$B$1\",\"Details\")","v":"Details"},{"$f":"HYPERLINK(Options!$B$1, \"Quote\")","v":"Quote"},{"$f":"HYPERLINK(Options!$B$2,\"Fax\")","v":"Fax"}]
["Gleason Construction Co. Inc. (Gleason)","Jay Gleason"," 419-865-7480 128","jasonjay435372@yahoo.com",null,"Contractor General","Lucas",null,{"$f":"HYPERLINK(\"#'Client Details'!$B$1\",\"Details\")","v":"Details"},{"$f":"HYPERLINK(Options!$B$1, \"Quote\")","v":"Quote"},{"$f":"HYPERLINK(Options!$B$2,\"Fax\")","v":"Fax"}]
["Global Glove & Safety Manufacturing (Wagn","Craig Wagner"," 763-450-0110","craig.wagner@globalglove.com","President","Supplier","Out of State",null,{"$f":"HYPERLINK(\"#'Client Details'!$B$1\",\"Details\")","v":"Details"},{"$f":"HYPERLINK(Options!$B$1, \"Quote\")","v":"Quote"},{"$f":"HYPERLINK(Options!$B$2,\"Fax\")","v":"Fax"}]
["Global Remediation Technologies Inc. (Ben","Eric Benson"," 231-941-8622","eric@grtusa.com","Project Manager","Contractor EH&S","Traverse",null,{"$f":"HYPERLINK(\"#'Client Details'!$B$1\",\"Details\")","v":"Details"},{"$f":"HYPERLINK(Options!$B$1, \"Quote\")","v":"Quote"},{"$f":"HYPERLINK(Options!$B$2,\"Fax\")","v":"Fax"}]
["Global Remediation Technology",null,"231-941-8622",null,null,null,null,null,{"$f":"HYPERLINK(\"#'Client Details'!$B$1\",\"Details\")","v":"Details"},{"$f":"HYPERLINK(Options!$B$1, \"Quote\")","v":"Quote"},{"$f":"HYPERLINK(Options!$B$2,\"Fax\")","v":"Fax"}]
["Globe Paving (Hrab)","Tony Hrab"," 269-746-5771",null,null,"Contractor General","Kent",null,{"$f":"HYPERLINK(\"#'Client Details'!$B$1\",\"Details\")","v":"Details"},{"$f":"HYPERLINK(Options!$B$1, \"Quote\")","v":"Quote"},{"$f":"HYPERLINK(Options!$B$2,\"Fax\")","v":"Fax"}]
["GMI Composites (Unser)","John F. Unser"," 231-755-1611",null,"Engineering Manager","Manufacturer","Muskegon",null,{"$f":"HYPERLINK(\"#'Client Details'!$B$1\",\"Details\")","v":"Details"},{"$f":"HYPERLINK(Options!$B$1, \"Quote\")","v":"Quote"},{"$f":"HYPERLINK(Options!$B$2,\"Fax\")","v":"Fax"}]
["Goodrich (Uniontown)",null,null,"guy.shemwell@goodrich.com",null,null,null,null,{"$f":"HYPERLINK(\"#'Client Details'!$B$1\",\"Details\")","v":"Details"},{"$f":"HYPERLINK(Options!$B$1, \"Quote\")","v":"Quote"},{"$f":"HYPERLINK(Options!$B$2,\"Fax\")","v":"Fax"}]
["Gordon Food Service (Buffinga)","Lance Buffinga"," 616-717-7885",null,null,"Food","Kent",null,{"$f":"HYPERLINK(\"#'Client Details'!$B$1\",\"Details\")","v":"Details"},{"$f":"HYPERLINK(Options!$B$1, \"Quote\")","v":"Quote"},{"$f":"HYPERLINK(Options!$B$2,\"Fax\")","v":"Fax"}]
["Gordon Food Service (Justice)","Danny Justice"," 248-486-8397","danny.justice@gfs.com",null,"Food","Livingston",null,{"$f":"HYPERLINK(\"#'Client Details'!$B$1\",\"Details\")","v":"Details"},{"$f":"HYPERLINK(Options!$B$1, \"Quote\")","v":"Quote"},{"$f":"HYPERLINK(Options!$B$2,\"Fax\")","v":"Fax"}]
["Gove Associates, Inc. (Shumaker)","Craig Shumaker"," 616-385-0011",null,"Senior Project Manager","Contractor EH&S","Kalamazoo",null,{"$f":"HYPERLINK(\"#'Client Details'!$B$1\",\"Details\")","v":"Details"},{"$f":"HYPERLINK(Options!$B$1, \"Quote\")","v":"Quote"},{"$f":"HYPERLINK(Options!$B$2,\"Fax\")","v":"Fax"}]
["GP Field Services","Scott Pope","970-984-2301","scottpope@gpfieldservices.com",null,null,null,null,{"$f":"HYPERLINK(\"#'Client Details'!$B$1\",\"Details\")","v":"Details"},{"$f":"HYPERLINK(Options!$B$1, \"Quote\")","v":"Quote"},{"$f":"HYPERLINK(Options!$B$2,\"Fax\")","v":"Fax"}]
["GR8",null,"616-813*7885",null,null,null,null,null,{"$f":"HYPERLINK(\"#'Client Details'!$B$1\",\"Details\")","v":"Details"},{"$f":"HYPERLINK(Options!$B$1, \"Quote\")","v":"Quote"},{"$f":"HYPERLINK(Options!$B$2,\"Fax\")","v":"Fax"}]
["Grace Industries (Emmett)","Paul Emmett"," 800-969-6933","pemmett@graceindustries.com",null,"Supplier","Out of State",null,{"$f":"HYPERLINK(\"#'Client Details'!$B$1\",\"Details\")","v":"Details"},{"$f":"HYPERLINK(Options!$B$1, \"Quote\")","v":"Quote"},{"$f":"HYPERLINK(Options!$B$2,\"Fax\")","v":"Fax"}]
["Graceland Fruit, Inc. (Nugent)","P. Nugent"," 231-352-7181","pnugent@gracelandfruit.com",null,"Food","Benzie",null,{"$f":"HYPERLINK(\"#'Client Details'!$B$1\",\"Details\")","v":"Details"},{"$f":"HYPERLINK(Options!$B$1, \"Quote\")","v":"Quote"},{"$f":"HYPERLINK(Options!$B$2,\"Fax\")","v":"Fax"}]
["Grand Haven , City of (Sutterfield)","Lisa Sutterfield"," 616-847-4888","lsutterfield@grandhaven.org","Assistant City Mgr","Municipal, Cty","Ottawa",null,{"$f":"HYPERLINK(\"#'Client Details'!$B$1\",\"Details\")","v":"Details"},{"$f":"HYPERLINK(Options!$B$1, \"Quote\")","v":"Quote"},{"$f":"HYPERLINK(Options!$B$2,\"Fax\")","v":"Fax"}]
["Grand Haven Board of Light & Power, City","Jeff Chandler"," 616-842-6355 3012","jchandler@ghblp.org","Instrument Department Supervis","Utility","Ottawa",null,{"$f":"HYPERLINK(\"#'Client Details'!$B$1\",\"Details\")","v":"Details"},{"$f":"HYPERLINK(Options!$B$1, \"Quote\")","v":"Quote"},{"$f":"HYPERLINK(Options!$B$2,\"Fax\")","v":"Fax"}]
["Grand Haven Board of Light & Power, City",null,"616-842-6355",null,null,null,null,null,{"$f":"HYPERLINK(\"#'Client Details'!$B$1\",\"Details\")","v":"Details"},{"$f":"HYPERLINK(Options!$B$1, \"Quote\")","v":"Quote"},{"$f":"HYPERLINK(Options!$B$2,\"Fax\")","v":"Fax"}]
["Grand Haven Board of Light & Power, City","Jeff Chandler"," 616-842-6355 3012","jchandler@ghblp.org","Instrument Department Supervis","Utility","Ottawa",null,{"$f":"HYPERLINK(\"#'Client Details'!$B$1\",\"Details\")","v":"Details"},{"$f":"HYPERLINK(Options!$B$1, \"Quote\")","v":"Quote"},{"$f":"HYPERLINK(Options!$B$2,\"Fax\")","v":"Fax"}]
["Grand Haven Board of Light & Power, City","Jeff Chandler"," 616-842-6355 3012","jchandler@ghblp.org","Instrument Department Supervis","Utility","Ottawa",null,{"$f":"HYPERLINK(\"#'Client Details'!$B$1\",\"Details\")","v":"Details"},{"$f":"HYPERLINK(Options!$B$1, \"Quote\")","v":"Quote"},{"$f":"HYPERLINK(Options!$B$2,\"Fax\")","v":"Fax"}]
["Grand Haven Board of Power & Light Servic","Michael Welling"," 616-846-9200 3041","mwelling@ghblp.org","Engineering Assistant","Utility","Ottawa",null,{"$f":"HYPERLINK(\"#'Client Details'!$B$1\",\"Details\")","v":"Details"},{"$f":"HYPERLINK(Options!$B$1, \"Quote\")","v":"Quote"},{"$f":"HYPERLINK(Options!$B$2,\"Fax\")","v":"Fax"}]
["Grand Haven Charter Township","Dan Tlachac","616-604-6318","dtlachac@ght.org",null,null,null,null,{"$f":"HYPERLINK(\"#'Client Details'!$B$1\",\"Details\")","v":"Details"},{"$f":"HYPERLINK(Options!$B$1, \"Quote\")","v":"Quote"},{"$f":"HYPERLINK(Options!$B$2,\"Fax\")","v":"Fax"}]
["Grand Haven Charter Township (Boomguaard)","Bette Boomguaard"," 616-842-5988 410",null,null,"Municipal, Cty","Ottawa",null,{"$f":"HYPERLINK(\"#'Client Details'!$B$1\",\"Details\")","v":"Details"},{"$f":"HYPERLINK(Options!$B$1, \"Quote\")","v":"Quote"},{"$f":"HYPERLINK(Options!$B$2,\"Fax\")","v":"Fax"}]
["Grand Haven Charter Township (Tlachac)","Dan Tlachac"," 616-604-6318","dtlachac@ght.org",null,"Municipal, Cty","Ottawa",null,{"$f":"HYPERLINK(\"#'Client Details'!$B$1\",\"Details\")","v":"Details"},{"$f":"HYPERLINK(Options!$B$1, \"Quote\")","v":"Quote"},{"$f":"HYPERLINK(Options!$B$2,\"Fax\")","v":"Fax"}]
["Grand Haven Charter Township (VerBerkmoes","Mark VerBerkmoes"," 616-842-5988",null,null,"Municipal, Cty","Ottawa",null,{"$f":"HYPERLINK(\"#'Client Details'!$B$1\",\"Details\")","v":"Details"},{"$f":"HYPERLINK(Options!$B$1, \"Quote\")","v":"Quote"},{"$f":"HYPERLINK(Options!$B$2,\"Fax\")","v":"Fax"}]
["Grand Haven Charter Township Fire Dept.","Tom Gerencer","616-842-5988",null,null,null,null,null,{"$f":"HYPERLINK(\"#'Client Details'!$B$1\",\"Details\")","v":"Details"},{"$f":"HYPERLINK(Options!$B$1, \"Quote\")","v":"Quote"},{"$f":"HYPERLINK(Options!$B$2,\"Fax\")","v":"Fax"}]
["Grand Haven Charter Township Fire Dept. (","Brice Dennings"," 616-842-5988",null,null,"Municipal, Cty","Ottawa",null,{"$f":"HYPERLINK(\"#'Client Details'!$B$1\",\"Details\")","v":"Details"},{"$f":"HYPERLINK(Options!$B$1, \"Quote\")","v":"Quote"},{"$f":"HYPERLINK(Options!$B$2,\"Fax\")","v":"Fax"}]
["Grand Haven Coast Guard (Hemp)","Robert Hemp"," 616-850-2502","robert.e.hemp@uscg.mil","Commanding Officer","Federal","Ottawa",null,{"$f":"HYPERLINK(\"#'Client Details'!$B$1\",\"Details\")","v":"Details"},{"$f":"HYPERLINK(Options!$B$1, \"Quote\")","v":"Quote"},{"$f":"HYPERLINK(Options!$B$2,\"Fax\")","v":"Fax"}]
["Grand Haven Coast Guard (Henk)","Scott Henk"," 616-850-2502","scott.w.henk@uscg.mil","Unsure/Purchasing","Federal","Ottawa",null,{"$f":"HYPERLINK(\"#'Client Details'!$B$1\",\"Details\")","v":"Details"},{"$f":"HYPERLINK(Options!$B$1, \"Quote\")","v":"Quote"},{"$f":"HYPERLINK(Options!$B$2,\"Fax\")","v":"Fax"}]
["Grand Haven Dept. of Public Safety (Wrigh","Sergeant Wright"," 616-842-3460",null,"Sergeant","Municipal, Cty","Ottawa",null,{"$f":"HYPERLINK(\"#'Client Details'!$B$1\",\"Details\")","v":"Details"},{"$f":"HYPERLINK(Options!$B$1, \"Quote\")","v":"Quote"},{"$f":"HYPERLINK(Options!$B$2,\"Fax\")","v":"Fax"}]
["Grand Haven Dept. of Public Safety, City","Brad Risher"," 616-842-3460",null,null,"Municipal, Cty","Ottawa",null,{"$f":"HYPERLINK(\"#'Client Details'!$B$1\",\"Details\")","v":"Details"},{"$f":"HYPERLINK(Options!$B$1, \"Quote\")","v":"Quote"},{"$f":"HYPERLINK(Options!$B$2,\"Fax\")","v":"Fax"}]
["Grand Haven Dept. of Public Safety, City","Brad Risher"," 616-842-3460",null,null,"Municipal, Cty","Ottawa",null,{"$f":"HYPERLINK(\"#'Client Details'!$B$1\",\"Details\")","v":"Details"},{"$f":"HYPERLINK(Options!$B$1, \"Quote\")","v":"Quote"},{"$f":"HYPERLINK(Options!$B$2,\"Fax\")","v":"Fax"}]
["Grand Haven Dept. of Public Safety, City","Brad Risher"," 616-842-3460",null,null,"Municipal, Cty","Ottawa",null,{"$f":"HYPERLINK(\"#'Client Details'!$B$1\",\"Details\")","v":"Details"},{"$f":"HYPERLINK(Options!$B$1, \"Quote\")","v":"Quote"},{"$f":"HYPERLINK(Options!$B$2,\"Fax\")","v":"Fax"}]
["Grand Haven DPW, City of","Chuck Nowak","616-847-3493",null,null,null,null,null,{"$f":"HYPERLINK(\"#'Client Details'!$B$1\",\"Details\")","v":"Details"},{"$f":"HYPERLINK(Options!$B$1, \"Quote\")","v":"Quote"},{"$f":"HYPERLINK(Options!$B$2,\"Fax\")","v":"Fax"}]
["Grand Haven DPW, City of (Beaton)","Julie Beaton"," 616-847-3493","jbeaton@grandhaven.org","Facilities & Special Projects","Municipal, Cty","Ottawa",null,{"$f":"HYPERLINK(\"#'Client Details'!$B$1\",\"Details\")","v":"Details"},{"$f":"HYPERLINK(Options!$B$1, \"Quote\")","v":"Quote"},{"$f":"HYPERLINK(Options!$B$2,\"Fax\")","v":"Fax"}]
["Grand Haven DPW, City of (Hunter)","Bill Hunter"," 616-847-3493","bhunter@grandhaven.org","Streets & Utilities Mgr","Municipal, Cty","Ottawa",null,{"$f":"HYPERLINK(\"#'Client Details'!$B$1\",\"Details\")","v":"Details"},{"$f":"HYPERLINK(Options!$B$1, \"Quote\")","v":"Quote"},{"$f":"HYPERLINK(Options!$B$2,\"Fax\")","v":"Fax"}]
["Grand Haven DPW, City of (Jarmac-Kirk)","Diane Jarmac-Kirk"," 616-847-3493","dkirk@grandhaven.org","Administrative Assistant","Municipal, Cty","Ottawa",null,{"$f":"HYPERLINK(\"#'Client Details'!$B$1\",\"Details\")","v":"Details"},{"$f":"HYPERLINK(Options!$B$1, \"Quote\")","v":"Quote"},{"$f":"HYPERLINK(Options!$B$2,\"Fax\")","v":"Fax"}]
["Grand Haven DPW, City of (Kendall)","Kevin Kendall"," 616-847-3493","kkendall@grandhaven.org","Asst. Director","Municipal, Cty","Ottawa",null,{"$f":"HYPERLINK(\"#'Client Details'!$B$1\",\"Details\")","v":"Details"},{"$f":"HYPERLINK(Options!$B$1, \"Quote\")","v":"Quote"},{"$f":"HYPERLINK(Options!$B$2,\"Fax\")","v":"Fax"}]
["Grand Haven DPW, City of (Nowak)","Chuck Nowak"," 616-847-3493","cnowak@grandhaven.org","Director","Municipal, Cty","Ottawa",null,{"$f":"HYPERLINK(\"#'Client Details'!$B$1\",\"Details\")","v":"Details"},{"$f":"HYPERLINK(Options!$B$1, \"Quote\")","v":"Quote"},{"$f":"HYPERLINK(Options!$B$2,\"Fax\")","v":"Fax"}]
["Grand Haven DPW, City of (Vivian)","Dan Vivian"," 616-847-3493","dvivian@grandhaven.org","Facilities Manager","Municipal, Cty","Ottawa",null,{"$f":"HYPERLINK(\"#'Client Details'!$B$1\",\"Details\")","v":"Details"},{"$f":"HYPERLINK(Options!$B$1, \"Quote\")","v":"Quote"},{"$f":"HYPERLINK(Options!$B$2,\"Fax\")","v":"Fax"}]
["Grand Haven Plastics (Wagenmaker)","Kris Wagenmaker"," 616-846-4950",null,null,"Plastics","Ottawa",null,{"$f":"HYPERLINK(\"#'Client Details'!$B$1\",\"Details\")","v":"Details"},{"$f":"HYPERLINK(Options!$B$1, \"Quote\")","v":"Quote"},{"$f":"HYPERLINK(Options!$B$2,\"Fax\")","v":"Fax"}]
["Grand Haven Township Fire/Rescue (Gerence","Tom Gerencer"," 616-842-5988","tgerencer@ght.org","Fire Chief","Fire Department","Ottawa",null,{"$f":"HYPERLINK(\"#'Client Details'!$B$1\",\"Details\")","v":"Details"},{"$f":"HYPERLINK(Options!$B$1, \"Quote\")","v":"Quote"},{"$f":"HYPERLINK(Options!$B$2,\"Fax\")","v":"Fax"}]
["Grand Haven WWTP, City of","Wally Wittaniemi","616-842-3215",null,null,null,null,null,{"$f":"HYPERLINK(\"#'Client Details'!$B$1\",\"Details\")","v":"Details"},{"$f":"HYPERLINK(Options!$B$1, \"Quote\")","v":"Quote"},{"$f":"HYPERLINK(Options!$B$2,\"Fax\")","v":"Fax"}]
["Grand Haven WWTP, City of (Rouwhorst)","Rick Rouwhorst"," 616-842-3215 1","rrouwhorst@grandhaven.org","Operations Supervisor","Municipal, Cty","Ottawa",null,{"$f":"HYPERLINK(\"#'Client Details'!$B$1\",\"Details\")","v":"Details"},{"$f":"HYPERLINK(Options!$B$1, \"Quote\")","v":"Quote"},{"$f":"HYPERLINK(Options!$B$2,\"Fax\")","v":"Fax"}]
["Grand Ledge WWTP City of",null,"517-627-5744",null,null,null,null,null,{"$f":"HYPERLINK(\"#'Client Details'!$B$1\",\"Details\")","v":"Details"},{"$f":"HYPERLINK(Options!$B$1, \"Quote\")","v":"Quote"},{"$f":"HYPERLINK(Options!$B$2,\"Fax\")","v":"Fax"}]
["Grand Ledge WWTP, City of (LaVoye)","Jeff LaVoye"," 517-627-5744",null,null,"Municipal, Cty","Eaton",null,{"$f":"HYPERLINK(\"#'Client Details'!$B$1\",\"Details\")","v":"Details"},{"$f":"HYPERLINK(Options!$B$1, \"Quote\")","v":"Quote"},{"$f":"HYPERLINK(Options!$B$2,\"Fax\")","v":"Fax"}]
["Grand Rapids Chair Co.",null,"616-389-1344",null,null,null,null,null,{"$f":"HYPERLINK(\"#'Client Details'!$B$1\",\"Details\")","v":"Details"},{"$f":"HYPERLINK(Options!$B$1, \"Quote\")","v":"Quote"},{"$f":"HYPERLINK(Options!$B$2,\"Fax\")","v":"Fax"}]
["Grand Rapids Chair Company (Lieverdink)","Beth Lieverdink"," 616-389-1344","blieverdink@grandrapidschair.com","Human Resource Manager","Furniture","Kent",null,{"$f":"HYPERLINK(\"#'Client Details'!$B$1\",\"Details\")","v":"Details"},{"$f":"HYPERLINK(Options!$B$1, \"Quote\")","v":"Quote"},{"$f":"HYPERLINK(Options!$B$2,\"Fax\")","v":"Fax"}]
["Grand Rapids City","Chris Cudworth","616-456-4533",null,null,null,null,null,{"$f":"HYPERLINK(\"#'Client Details'!$B$1\",\"Details\")","v":"Details"},{"$f":"HYPERLINK(Options!$B$1, \"Quote\")","v":"Quote"},{"$f":"HYPERLINK(Options!$B$2,\"Fax\")","v":"Fax"}]
["Grand Rapids Community College","John (JR) Roy","616-234-3850",null,null,null,null,null,{"$f":"HYPERLINK(\"#'Client Details'!$B$1\",\"Details\")","v":"Details"},{"$f":"HYPERLINK(Options!$B$1, \"Quote\")","v":"Quote"},{"$f":"HYPERLINK(Options!$B$2,\"Fax\")","v":"Fax"}]
["Grand Rapids Community College (Greene)","Phillip Greene"," 616-234-3811","pgreene@grcc.edu","Program Manager","School","Kent",null,{"$f":"HYPERLINK(\"#'Client Details'!$B$1\",\"Details\")","v":"Details"},{"$f":"HYPERLINK(Options!$B$1, \"Quote\")","v":"Quote"},{"$f":"HYPERLINK(Options!$B$2,\"Fax\")","v":"Fax"}]
["Grand Rapids Community College (Matthewso","Mansfield W. Matthewson"," 616-234-3850",null,"Director of Purchasing","School","Kent",null,{"$f":"HYPERLINK(\"#'Client Details'!$B$1\",\"Details\")","v":"Details"},{"$f":"HYPERLINK(Options!$B$1, \"Quote\")","v":"Quote"},{"$f":"HYPERLINK(Options!$B$2,\"Fax\")","v":"Fax"}]
["Grand Rapids Community College (Milito)","Joseph Milito"," 616-234-4057","jmilito@grcc.edu","Assistant Director, Facilities","School","Kent",null,{"$f":"HYPERLINK(\"#'Client Details'!$B$1\",\"Details\")","v":"Details"},{"$f":"HYPERLINK(Options!$B$1, \"Quote\")","v":"Quote"},{"$f":"HYPERLINK(Options!$B$2,\"Fax\")","v":"Fax"}]
["Grand Rapids Community College MTEC (Shel","Eric Sheldon",null,"esheldon@grcc.edu",null,"School","Kent",null,{"$f":"HYPERLINK(\"#'Client Details'!$B$1\",\"Details\")","v":"Details"},{"$f":"HYPERLINK(Options!$B$1, \"Quote\")","v":"Quote"},{"$f":"HYPERLINK(Options!$B$2,\"Fax\")","v":"Fax"}]
["Grand Rapids Equal Opportunity Department","Ingrid Scott-Weekley",null,null,"Director","Municipal, Cty","Kent",null,{"$f":"HYPERLINK(\"#'Client Details'!$B$1\",\"Details\")","v":"Details"},{"$f":"HYPERLINK(Options!$B$1, \"Quote\")","v":"Quote"},{"$f":"HYPERLINK(Options!$B$2,\"Fax\")","v":"Fax"}]
["Grand Rapids Fire Department, City of (Ca","Doug Carley"," 616-245-8186","dcarley@ci.grand-rapids.mi.us","Lt.","Fire Department","Kent",null,{"$f":"HYPERLINK(\"#'Client Details'!$B$1\",\"Details\")","v":"Details"},{"$f":"HYPERLINK(Options!$B$1, \"Quote\")","v":"Quote"},{"$f":"HYPERLINK(Options!$B$2,\"Fax\")","v":"Fax"}]
["Grand Rapids Fire Department, City of (Sz","Chief Gary Szotko"," 616-456-3900",null,null,"Fire Department","Kent",null,{"$f":"HYPERLINK(\"#'Client Details'!$B$1\",\"Details\")","v":"Details"},{"$f":"HYPERLINK(Options!$B$1, \"Quote\")","v":"Quote"},{"$f":"HYPERLINK(Options!$B$2,\"Fax\")","v":"Fax"}]
["Grand Rapids Fire Dept., City of","Doug Carley","245-8186",null,null,null,null,null,{"$f":"HYPERLINK(\"#'Client Details'!$B$1\",\"Details\")","v":"Details"},{"$f":"HYPERLINK(Options!$B$1, \"Quote\")","v":"Quote"},{"$f":"HYPERLINK(Options!$B$2,\"Fax\")","v":"Fax"}]
["Grand Rapids Gravel Co. (GR)","Dave Oostindie","616-538-9000",null,null,null,null,null,{"$f":"HYPERLINK(\"#'Client Details'!$B$1\",\"Details\")","v":"Details"},{"$f":"HYPERLINK(Options!$B$1, \"Quote\")","v":"Quote"},{"$f":"HYPERLINK(Options!$B$2,\"Fax\")","v":"Fax"}]
["Grand Rapids Gravel Co. (Grandville)",null,"538-9000",null,null,null,null,null,{"$f":"HYPERLINK(\"#'Client Details'!$B$1\",\"Details\")","v":"Details"},{"$f":"HYPERLINK(Options!$B$1, \"Quote\")","v":"Quote"},{"$f":"HYPERLINK(Options!$B$2,\"Fax\")","v":"Fax"}]
["Grand Rapids Gravel Co. (Holland)",null,"888-424-9800",null,null,null,null,null,{"$f":"HYPERLINK(\"#'Client Details'!$B$1\",\"Details\")","v":"Details"},{"$f":"HYPERLINK(Options!$B$1, \"Quote\")","v":"Quote"},{"$f":"HYPERLINK(Options!$B$2,\"Fax\")","v":"Fax"}]
["Grand Rapids Gravel Co. (Muskegon)",null,null,null,null,null,null,null,{"$f":"HYPERLINK(\"#'Client Details'!$B$1\",\"Details\")","v":"Details"},{"$f":"HYPERLINK(Options!$B$1, \"Quote\")","v":"Quote"},{"$f":"HYPERLINK(Options!$B$2,\"Fax\")","v":"Fax"}]
["Grand Rapids Gravel Company (Oostindie)","Dave Oostindie"," 616-538-9000","daveo@grgravel.com","Assistant Operations Manager","Mining","Kent",null,{"$f":"HYPERLINK(\"#'Client Details'!$B$1\",\"Details\")","v":"Details"},{"$f":"HYPERLINK(Options!$B$1, \"Quote\")","v":"Quote"},{"$f":"HYPERLINK(Options!$B$2,\"Fax\")","v":"Fax"}]
["Grand Rapids IT Dept., City of (Liptrot)","Shawn Liptrot"," 616-456-4280","sliptrot@ci.grand-rapids.mi.us","IT Manager","Municipal, Cty","Kent",null,{"$f":"HYPERLINK(\"#'Client Details'!$B$1\",\"Details\")","v":"Details"},{"$f":"HYPERLINK(Options!$B$1, \"Quote\")","v":"Quote"},{"$f":"HYPERLINK(Options!$B$2,\"Fax\")","v":"Fax"}]
["Grand Rapids Lake Filtration, City of (Ga","Doug Gay"," 616-456-3302","dgay@grcity.us",null,"Municipal, Cty","Ottawa",null,{"$f":"HYPERLINK(\"#'Client Details'!$B$1\",\"Details\")","v":"Details"},{"$f":"HYPERLINK(Options!$B$1, \"Quote\")","v":"Quote"},{"$f":"HYPERLINK(Options!$B$2,\"Fax\")","v":"Fax"}]
["Grand Rapids Lake Michigan Water Filtrati","John Allen"," 616-456-3927","jallen@grcity.us","Supervisor","Water","Ottawa",null,{"$f":"HYPERLINK(\"#'Client Details'!$B$1\",\"Details\")","v":"Details"},{"$f":"HYPERLINK(Options!$B$1, \"Quote\")","v":"Quote"},{"$f":"HYPERLINK(Options!$B$2,\"Fax\")","v":"Fax"}]
["Grand Rapids Parks, City of","Phil Orcasitas 901-2686",null,null,null,null,null,null,{"$f":"HYPERLINK(\"#'Client Details'!$B$1\",\"Details\")","v":"Details"},{"$f":"HYPERLINK(Options!$B$1, \"Quote\")","v":"Quote"},{"$f":"HYPERLINK(Options!$B$2,\"Fax\")","v":"Fax"}]
["Grand Rapids Police Department, City of (","Capt. Belk"," 616-456-4431",null,"Captain","Fire Department","Kent",null,{"$f":"HYPERLINK(\"#'Client Details'!$B$1\",\"Details\")","v":"Details"},{"$f":"HYPERLINK(Options!$B$1, \"Quote\")","v":"Quote"},{"$f":"HYPERLINK(Options!$B$2,\"Fax\")","v":"Fax"}]
["Grand Rapids Polishing","Lisa Shelly","616-241-5421",null,null,null,null,null,{"$f":"HYPERLINK(\"#'Client Details'!$B$1\",\"Details\")","v":"Details"},{"$f":"HYPERLINK(Options!$B$1, \"Quote\")","v":"Quote"},{"$f":"HYPERLINK(Options!$B$2,\"Fax\")","v":"Fax"}]
["Grand Rapids Polishing (Shelly)","Lisa Shelly"," 616-241-5421",null,"Plant Manager","Manufacturer","Kent",null,{"$f":"HYPERLINK(\"#'Client Details'!$B$1\",\"Details\")","v":"Details"},{"$f":"HYPERLINK(Options!$B$1, \"Quote\")","v":"Quote"},{"$f":"HYPERLINK(Options!$B$2,\"Fax\")","v":"Fax"}]
["Grand Rapids Popcorn","Traverse/Mary","800-968-4027",null,null,null,null,null,{"$f":"HYPERLINK(\"#'Client Details'!$B$1\",\"Details\")","v":"Details"},{"$f":"HYPERLINK(Options!$B$1, \"Quote\")","v":"Quote"},{"$f":"HYPERLINK(Options!$B$2,\"Fax\")","v":"Fax"}]
["Grand Rapids Public Schools","Tom Peterson","616-819-3036",null,null,null,null,null,{"$f":"HYPERLINK(\"#'Client Details'!$B$1\",\"Details\")","v":"Details"},{"$f":"HYPERLINK(Options!$B$1, \"Quote\")","v":"Quote"},{"$f":"HYPERLINK(Options!$B$2,\"Fax\")","v":"Fax"}]
["Grand Rapids Public Schools (Peterson)","Tom Peterson"," 616-819-3036",null,null,"School","Kent",null,{"$f":"HYPERLINK(\"#'Client Details'!$B$1\",\"Details\")","v":"Details"},{"$f":"HYPERLINK(Options!$B$1, \"Quote\")","v":"Quote"},{"$f":"HYPERLINK(Options!$B$2,\"Fax\")","v":"Fax"}]
["Grand Rapids Purchasing, City of (Reyna)","Jose Reyna"," 616-456-4075",null,"Director","Municipal, Cty","Kent",null,{"$f":"HYPERLINK(\"#'Client Details'!$B$1\",\"Details\")","v":"Details"},{"$f":"HYPERLINK(Options!$B$1, \"Quote\")","v":"Quote"},{"$f":"HYPERLINK(Options!$B$2,\"Fax\")","v":"Fax"}]
["Grand Rapids Purchasing, City of (Wojciak","Tony Wojciakowski"," 616-456-3173",null,"Buyer","Municipal, Cty","Kent",null,{"$f":"HYPERLINK(\"#'Client Details'!$B$1\",\"Details\")","v":"Details"},{"$f":"HYPERLINK(Options!$B$1, \"Quote\")","v":"Quote"},{"$f":"HYPERLINK(Options!$B$2,\"Fax\")","v":"Fax"}]
["Grand Rapids Sewer Maintenance, City of",null,null,null,null,null,null,null,{"$f":"HYPERLINK(\"#'Client Details'!$B$1\",\"Details\")","v":"Details"},{"$f":"HYPERLINK(Options!$B$1, \"Quote\")","v":"Quote"},{"$f":"HYPERLINK(Options!$B$2,\"Fax\")","v":"Fax"}]
["Grand Rapids Sewer Maintenance, City of (","Sandy Rowan"," 616-456-3246","srowan@ci.grand-rapids.mi.us","Storm & Sanitary Sewer Supervi","Municipal, Cty","Kent",null,{"$f":"HYPERLINK(\"#'Client Details'!$B$1\",\"Details\")","v":"Details"},{"$f":"HYPERLINK(Options!$B$1, \"Quote\")","v":"Quote"},{"$f":"HYPERLINK(Options!$B$2,\"Fax\")","v":"Fax"}]
["Grand Rapids Spring & Stamping",null,null,null,null,null,null,null,{"$f":"HYPERLINK(\"#'Client Details'!$B$1\",\"Details\")","v":"Details"},{"$f":"HYPERLINK(Options!$B$1, \"Quote\")","v":"Quote"},{"$f":"HYPERLINK(Options!$B$2,\"Fax\")","v":"Fax"}]
["Grand Rapids Stormwater Management, City","Randy Lemoine"," 616-456-3253","rlemoine@ci.grand-rapids.mi.us","Project Engineer","Municipal, Cty","Kent",null,{"$f":"HYPERLINK(\"#'Client Details'!$B$1\",\"Details\")","v":"Details"},{"$f":"HYPERLINK(Options!$B$1, \"Quote\")","v":"Quote"},{"$f":"HYPERLINK(Options!$B$2,\"Fax\")","v":"Fax"}]
["Grand Rapids Stormwater Management, City","Randy Lemoine"," 616-456-3253","rlemoine@ci.grand-rapids.mi.us","Project Engineer","Municipal, Cty","Kent",null,{"$f":"HYPERLINK(\"#'Client Details'!$B$1\",\"Details\")","v":"Details"},{"$f":"HYPERLINK(Options!$B$1, \"Quote\")","v":"Quote"},{"$f":"HYPERLINK(Options!$B$2,\"Fax\")","v":"Fax"}]
["Grand Rapids Stormwater Management, City","Randy Lemoine"," 616-456-3253","rlemoine@ci.grand-rapids.mi.us","Project Engineer","Municipal, Cty","Kent",null,{"$f":"HYPERLINK(\"#'Client Details'!$B$1\",\"Details\")","v":"Details"},{"$f":"HYPERLINK(Options!$B$1, \"Quote\")","v":"Quote"},{"$f":"HYPERLINK(Options!$B$2,\"Fax\")","v":"Fax"}]
["Grand Rapids Township Fire Department (Ra","Robert Radakovitz"," 616-361-9208 229","chief@grandrapidstwp.org","Director of Public Safety Serv","Municipal, Cty","Kent",null,{"$f":"HYPERLINK(\"#'Client Details'!$B$1\",\"Details\")","v":"Details"},{"$f":"HYPERLINK(Options!$B$1, \"Quote\")","v":"Quote"},{"$f":"HYPERLINK(Options!$B$2,\"Fax\")","v":"Fax"}]
["Grand Rapids Traffic Safety, City of","616-456-3281",null,null,null,null,null,null,{"$f":"HYPERLINK(\"#'Client Details'!$B$1\",\"Details\")","v":"Details"},{"$f":"HYPERLINK(Options!$B$1, \"Quote\")","v":"Quote"},{"$f":"HYPERLINK(Options!$B$2,\"Fax\")","v":"Fax"}]
["Grand Rapids Traffic Safety, City of (Law","Margo Lawrence"," 616-456-3747","mlawrence@grcity.us",null,"Municipal, Cty","Kent",null,{"$f":"HYPERLINK(\"#'Client Details'!$B$1\",\"Details\")","v":"Details"},{"$f":"HYPERLINK(Options!$B$1, \"Quote\")","v":"Quote"},{"$f":"HYPERLINK(Options!$B$2,\"Fax\")","v":"Fax"}]
["Grand Rapids Water Customer Service","Dave Cywinski","616-456-3904","dcywinski@ci.grand-rapids.mi.us",null,null,null,null,{"$f":"HYPERLINK(\"#'Client Details'!$B$1\",\"Details\")","v":"Details"},{"$f":"HYPERLINK(Options!$B$1, \"Quote\")","v":"Quote"},{"$f":"HYPERLINK(Options!$B$2,\"Fax\")","v":"Fax"}]
["Grand Rapids Water Dept., City of","Dave Cywinski","616-456-3904","dcywinski@ci.grand-rapids.mi.us",null,null,null,null,{"$f":"HYPERLINK(\"#'Client Details'!$B$1\",\"Details\")","v":"Details"},{"$f":"HYPERLINK(Options!$B$1, \"Quote\")","v":"Quote"},{"$f":"HYPERLINK(Options!$B$2,\"Fax\")","v":"Fax"}]
["Grand Rapids Water Dept., City of (Cywins","Dave Cywinski"," 616-456-3904","dcywinski@ci.grand-rapids.mi.us",null,"Municipal, Cty","Kent",null,{"$f":"HYPERLINK(\"#'Client Details'!$B$1\",\"Details\")","v":"Details"},{"$f":"HYPERLINK(Options!$B$1, \"Quote\")","v":"Quote"},{"$f":"HYPERLINK(Options!$B$2,\"Fax\")","v":"Fax"}]
["Grand Rapids Water Filtration Plant",null,null,null,null,null,null,null,{"$f":"HYPERLINK(\"#'Client Details'!$B$1\",\"Details\")","v":"Details"},{"$f":"HYPERLINK(Options!$B$1, \"Quote\")","v":"Quote"},{"$f":"HYPERLINK(Options!$B$2,\"Fax\")","v":"Fax"}]
["Grand Rapids Water Systems, City of","Bill Birdsall","616-456-3904 Mike",null,null,null,null,null,{"$f":"HYPERLINK(\"#'Client Details'!$B$1\",\"Details\")","v":"Details"},{"$f":"HYPERLINK(Options!$B$1, \"Quote\")","v":"Quote"},{"$f":"HYPERLINK(Options!$B$2,\"Fax\")","v":"Fax"}]
["Grand Rapids Water Works Stock Room","Bob Lutz","616-456-4053",null,null,null,null,null,{"$f":"HYPERLINK(\"#'Client Details'!$B$1\",\"Details\")","v":"Details"},{"$f":"HYPERLINK(Options!$B$1, \"Quote\")","v":"Quote"},{"$f":"HYPERLINK(Options!$B$2,\"Fax\")","v":"Fax"}]
["Grand Rapids WWTP Instrument Shop City of","Steve Wilson / Jeff Konkle","616-456-3767",null,null,null,null,null,{"$f":"HYPERLINK(\"#'Client Details'!$B$1\",\"Details\")","v":"Details"},{"$f":"HYPERLINK(Options!$B$1, \"Quote\")","v":"Quote"},{"$f":"HYPERLINK(Options!$B$2,\"Fax\")","v":"Fax"}]
["Grand Rapids WWTP Stock Room, City of","Ramona Rogers","616-456-3812",null,null,null,null,null,{"$f":"HYPERLINK(\"#'Client Details'!$B$1\",\"Details\")","v":"Details"},{"$f":"HYPERLINK(Options!$B$1, \"Quote\")","v":"Quote"},{"$f":"HYPERLINK(Options!$B$2,\"Fax\")","v":"Fax"}]
["Grand Rapids WWTP, City of (Kuzawa)","Kathie Kuzawa"," 616-456-3635",null,"Maintenance Supervisor","Municipal, Cty","Kent",null,{"$f":"HYPERLINK(\"#'Client Details'!$B$1\",\"Details\")","v":"Details"},{"$f":"HYPERLINK(Options!$B$1, \"Quote\")","v":"Quote"},{"$f":"HYPERLINK(Options!$B$2,\"Fax\")","v":"Fax"}]
["Grand Rapids WWTP, City of (Morgan)","Laron P. Morgan"," 616-456-3668","lmorgan@grcity.us","Utility Supervisor","Municipal, Cty","Kent",null,{"$f":"HYPERLINK(\"#'Client Details'!$B$1\",\"Details\")","v":"Details"},{"$f":"HYPERLINK(Options!$B$1, \"Quote\")","v":"Quote"},{"$f":"HYPERLINK(Options!$B$2,\"Fax\")","v":"Fax"}]
["Grand Rapids WWTP, City of (Rogers)","Ramona Rogers",null,"rrogers@grcity.us","Stockroom","Municipal, Cty","Kent",null,{"$f":"HYPERLINK(\"#'Client Details'!$B$1\",\"Details\")","v":"Details"},{"$f":"HYPERLINK(Options!$B$1, \"Quote\")","v":"Quote"},{"$f":"HYPERLINK(Options!$B$2,\"Fax\")","v":"Fax"}]
["Grand Rapids WWTP, City of (Wilson)","Steve Wilson"," 616-456-3767","swilson@grcity.us","Instrument Technician","Municipal, Cty","Kent",null,{"$f":"HYPERLINK(\"#'Client Details'!$B$1\",\"Details\")","v":"Details"},{"$f":"HYPERLINK(Options!$B$1, \"Quote\")","v":"Quote"},{"$f":"HYPERLINK(Options!$B$2,\"Fax\")","v":"Fax"}]
["Grand Rapids, City of (Gillespie)","Joe Gillespie"," 616-456-3306","joe.gillespie@ci.grand-rapids.mi.us","Safety Technician","Municipal, Cty","Kent",null,{"$f":"HYPERLINK(\"#'Client Details'!$B$1\",\"Details\")","v":"Details"},{"$f":"HYPERLINK(Options!$B$1, \"Quote\")","v":"Quote"},{"$f":"HYPERLINK(Options!$B$2,\"Fax\")","v":"Fax"}]
["Grand Rapids, City of (Ivey)","Doug Ivey"," 616-456-3238",null,"Public Works Stockroom","Municipal, Cty","Kent",null,{"$f":"HYPERLINK(\"#'Client Details'!$B$1\",\"Details\")","v":"Details"},{"$f":"HYPERLINK(Options!$B$1, \"Quote\")","v":"Quote"},{"$f":"HYPERLINK(Options!$B$2,\"Fax\")","v":"Fax"}]
["Grand Rapids, City of (Lutz)","Bob Lutz"," 616-456-4053","rlutz@grcity.us","Stores Manager","Municipal, Cty","Kent",null,{"$f":"HYPERLINK(\"#'Client Details'!$B$1\",\"Details\")","v":"Details"},{"$f":"HYPERLINK(Options!$B$1, \"Quote\")","v":"Quote"},{"$f":"HYPERLINK(Options!$B$2,\"Fax\")","v":"Fax"}]
["Grand River Construction, Inc.","Rick Parcheta","616-669-5611",null,null,null,null,null,{"$f":"HYPERLINK(\"#'Client Details'!$B$1\",\"Details\")","v":"Details"},{"$f":"HYPERLINK(Options!$B$1, \"Quote\")","v":"Quote"},{"$f":"HYPERLINK(Options!$B$2,\"Fax\")","v":"Fax"}]
["Grand River Construction, Inc. (Buell)","Stan Buell"," 616-669-5611 14",null,"Safety","Contractor General","Ottawa",null,{"$f":"HYPERLINK(\"#'Client Details'!$B$1\",\"Details\")","v":"Details"},{"$f":"HYPERLINK(Options!$B$1, \"Quote\")","v":"Quote"},{"$f":"HYPERLINK(Options!$B$2,\"Fax\")","v":"Fax"}]
["Grand River Construction, Inc. (Maggini)","Anthony Maggini"," 616-669-5611",null,"Superintendent","Contractor General","Kent",null,{"$f":"HYPERLINK(\"#'Client Details'!$B$1\",\"Details\")","v":"Details"},{"$f":"HYPERLINK(Options!$B$1, \"Quote\")","v":"Quote"},{"$f":"HYPERLINK(Options!$B$2,\"Fax\")","v":"Fax"}]
["Grand River Construction, Inc. (Parcheta)","Rick Parcheta"," 616-669-5611 14","rparcheta@grandriverconstruction.com",null,"Contractor General","Ottawa",null,{"$f":"HYPERLINK(\"#'Client Details'!$B$1\",\"Details\")","v":"Details"},{"$f":"HYPERLINK(Options!$B$1, \"Quote\")","v":"Quote"},{"$f":"HYPERLINK(Options!$B$2,\"Fax\")","v":"Fax"}]
["Grand River Construction, Inc. (Ray)","Matt Ray"," 616-454-3229","mray@grandriverconstruction.com",null,"Contractor General","Kent",null,{"$f":"HYPERLINK(\"#'Client Details'!$B$1\",\"Details\")","v":"Details"},{"$f":"HYPERLINK(Options!$B$1, \"Quote\")","v":"Quote"},{"$f":"HYPERLINK(Options!$B$2,\"Fax\")","v":"Fax"}]
["Grand River Construction, Inc. (Sullivan)","Keith Sullivan"," 616-669-5611","ksullivan@grandriverconstruction.com","Equipment Manager",null,"Ottawa",null,{"$f":"HYPERLINK(\"#'Client Details'!$B$1\",\"Details\")","v":"Details"},{"$f":"HYPERLINK(Options!$B$1, \"Quote\")","v":"Quote"},{"$f":"HYPERLINK(Options!$B$2,\"Fax\")","v":"Fax"}]
["Grand River Navigation Co., Inc.",null,"440-930-2024",null,null,null,null,null,{"$f":"HYPERLINK(\"#'Client Details'!$B$1\",\"Details\")","v":"Details"},{"$f":"HYPERLINK(Options!$B$1, \"Quote\")","v":"Quote"},{"$f":"HYPERLINK(Options!$B$2,\"Fax\")","v":"Fax"}]
["Grand River Navigation Co., Inc. (Bamyea)","Sam Bamyea"," 440-930-2024","sambomyea@aol.com","Manager Personnel & Administra","Other","Out of State",null,{"$f":"HYPERLINK(\"#'Client Details'!$B$1\",\"Details\")","v":"Details"},{"$f":"HYPERLINK(Options!$B$1, \"Quote\")","v":"Quote"},{"$f":"HYPERLINK(Options!$B$2,\"Fax\")","v":"Fax"}]
["Grand Transformers Incorporated (Kirchner","Carol Kirchner"," 616-842-5430","carol.kirchner@gtipower.com","Director of Human Resources","Manufacturer","Ottawa",null,{"$f":"HYPERLINK(\"#'Client Details'!$B$1\",\"Details\")","v":"Details"},{"$f":"HYPERLINK(Options!$B$1, \"Quote\")","v":"Quote"},{"$f":"HYPERLINK(Options!$B$2,\"Fax\")","v":"Fax"}]
["Grand Traverse County DPW (Heymes)","Ben Heymes"," 231-995-6039","bheymes@co.grand-traverse.mi.us","Technician","Municipal, Cty","Grand Traverse",null,{"$f":"HYPERLINK(\"#'Client Details'!$B$1\",\"Details\")","v":"Details"},{"$f":"HYPERLINK(Options!$B$1, \"Quote\")","v":"Quote"},{"$f":"HYPERLINK(Options!$B$2,\"Fax\")","v":"Fax"}]
["Grand Traverse County DPW (Smith)","Mike Smith"," 231-922-4896","dpwshop@co.grand-traverse.mi.us",null,"Municipal, Cty","Grand Traverse",null,{"$f":"HYPERLINK(\"#'Client Details'!$B$1\",\"Details\")","v":"Details"},{"$f":"HYPERLINK(Options!$B$1, \"Quote\")","v":"Quote"},{"$f":"HYPERLINK(Options!$B$2,\"Fax\")","v":"Fax"}]
["Grand Traverse DPW, County of","Ben Heymes","231-995-6039",null,null,null,null,null,{"$f":"HYPERLINK(\"#'Client Details'!$B$1\",\"Details\")","v":"Details"},{"$f":"HYPERLINK(Options!$B$1, \"Quote\")","v":"Quote"},{"$f":"HYPERLINK(Options!$B$2,\"Fax\")","v":"Fax"}]
["Grand Valley Automation, Inc.","Mark Cisler","616-224-7036",null,null,null,null,null,{"$f":"HYPERLINK(\"#'Client Details'!$B$1\",\"Details\")","v":"Details"},{"$f":"HYPERLINK(Options!$B$1, \"Quote\")","v":"Quote"},{"$f":"HYPERLINK(Options!$B$2,\"Fax\")","v":"Fax"}]
["Grand Valley State University (Allendale)","David Cox","616-331-3083",null,null,null,null,null,{"$f":"HYPERLINK(\"#'Client Details'!$B$1\",\"Details\")","v":"Details"},{"$f":"HYPERLINK(Options!$B$1, \"Quote\")","v":"Quote"},{"$f":"HYPERLINK(Options!$B$2,\"Fax\")","v":"Fax"}]
["Grand Valley State University (Cox)","David Cox"," 616-331-3083","coxd@gvsu.edu","Safety Manager","School","Ottawa",null,{"$f":"HYPERLINK(\"#'Client Details'!$B$1\",\"Details\")","v":"Details"},{"$f":"HYPERLINK(Options!$B$1, \"Quote\")","v":"Quote"},{"$f":"HYPERLINK(Options!$B$2,\"Fax\")","v":"Fax"}]
["Grand Valley State University (DeHaan)","Brandon DeHaan"," 616-331-3255","dehaanb@gvsu.edu","Assistant Director","School","Ottawa",null,{"$f":"HYPERLINK(\"#'Client Details'!$B$1\",\"Details\")","v":"Details"},{"$f":"HYPERLINK(Options!$B$1, \"Quote\")","v":"Quote"},{"$f":"HYPERLINK(Options!$B$2,\"Fax\")","v":"Fax"}]
["Grand Valley State University (Feenstra)","Dave Feenstra"," 616-331-3856","feenstrd@gvsu.edu","Maintenance Supervisor","University","Ottawa",null,{"$f":"HYPERLINK(\"#'Client Details'!$B$1\",\"Details\")","v":"Details"},{"$f":"HYPERLINK(Options!$B$1, \"Quote\")","v":"Quote"},{"$f":"HYPERLINK(Options!$B$2,\"Fax\")","v":"Fax"}]
["Grand Valley State University (G.R.)","Greg Green","616-331-3686",null,null,null,null,null,{"$f":"HYPERLINK(\"#'Client Details'!$B$1\",\"Details\")","v":"Details"},{"$f":"HYPERLINK(Options!$B$1, \"Quote\")","v":"Quote"},{"$f":"HYPERLINK(Options!$B$2,\"Fax\")","v":"Fax"}]
["Grand Valley State University (Green)","Greg Green"," 616-331-3686","greeng@gvsu.edu",null,"Academia","Kent",null,{"$f":"HYPERLINK(\"#'Client Details'!$B$1\",\"Details\")","v":"Details"},{"$f":"HYPERLINK(Options!$B$1, \"Quote\")","v":"Quote"},{"$f":"HYPERLINK(Options!$B$2,\"Fax\")","v":"Fax"}]
["Grand Valley State University (Huizen)","Dave Huizen"," 616-331-5596","huizend@gvsu.edu",null,"University","Kent",null,{"$f":"HYPERLINK(\"#'Client Details'!$B$1\",\"Details\")","v":"Details"},{"$f":"HYPERLINK(Options!$B$1, \"Quote\")","v":"Quote"},{"$f":"HYPERLINK(Options!$B$2,\"Fax\")","v":"Fax"}]
["Grand Valley State University (Lucksted)","William P. Lucksted"," 616-331-6689","lucksteb@gvsu.edu","Manager of Operations","University","Kent",null,{"$f":"HYPERLINK(\"#'Client Details'!$B$1\",\"Details\")","v":"Details"},{"$f":"HYPERLINK(Options!$B$1, \"Quote\")","v":"Quote"},{"$f":"HYPERLINK(Options!$B$2,\"Fax\")","v":"Fax"}]
["Grand Valley State University (Marcinkows","Jeff Marcinkowski"," 616-331-3872","marcijef@gvsu.edu","Assistant Maintenance Supervis",null,"Ottawa",null,{"$f":"HYPERLINK(\"#'Client Details'!$B$1\",\"Details\")","v":"Details"},{"$f":"HYPERLINK(Options!$B$1, \"Quote\")","v":"Quote"},{"$f":"HYPERLINK(Options!$B$2,\"Fax\")","v":"Fax"}]
["Grand Valley State University (Michalak)","Tom Michalak"," 616-331-2696","michalat@gvsu.edu","HVAC Tech","University","Ottawa",null,{"$f":"HYPERLINK(\"#'Client Details'!$B$1\",\"Details\")","v":"Details"},{"$f":"HYPERLINK(Options!$B$1, \"Quote\")","v":"Quote"},{"$f":"HYPERLINK(Options!$B$2,\"Fax\")","v":"Fax"}]
["Grand Valley State University (Muskegon)","Silvia Lichnerowicz","616-331-6905",null,null,null,null,null,{"$f":"HYPERLINK(\"#'Client Details'!$B$1\",\"Details\")","v":"Details"},{"$f":"HYPERLINK(Options!$B$1, \"Quote\")","v":"Quote"},{"$f":"HYPERLINK(Options!$B$2,\"Fax\")","v":"Fax"}]
["Grand Valley State University (Rhodes-Sor","Valerie Rhodes-Sorrelle"," 616-331-2283","rhodesv@gvsu.edu","C.P.M., A.P.P.","University","Ottawa",null,{"$f":"HYPERLINK(\"#'Client Details'!$B$1\",\"Details\")","v":"Details"},{"$f":"HYPERLINK(Options!$B$1, \"Quote\")","v":"Quote"},{"$f":"HYPERLINK(Options!$B$2,\"Fax\")","v":"Fax"}]
["Grand Valley State University (Schrotenbo","Mike Schrotenboer"," 616-890-1908",null,"Maintenance","University","Ottawa",null,{"$f":"HYPERLINK(\"#'Client Details'!$B$1\",\"Details\")","v":"Details"},{"$f":"HYPERLINK(Options!$B$1, \"Quote\")","v":"Quote"},{"$f":"HYPERLINK(Options!$B$2,\"Fax\")","v":"Fax"}]
["Grand Valley State University (Seufert)","Jim Seufert"," 616-331-8628","seufertj@gvsu.edu","Lab Safety Specialist","Chemistry/Biology Lab","Ottawa",null,{"$f":"HYPERLINK(\"#'Client Details'!$B$1\",\"Details\")","v":"Details"},{"$f":"HYPERLINK(Options!$B$1, \"Quote\")","v":"Quote"},{"$f":"HYPERLINK(Options!$B$2,\"Fax\")","v":"Fax"}]
["Grand Valley State University (Snell)","Steve Snell"," 616-331-3840","snells@gvsu.edu","Arborist","School","Ottawa",null,{"$f":"HYPERLINK(\"#'Client Details'!$B$1\",\"Details\")","v":"Details"},{"$f":"HYPERLINK(Options!$B$1, \"Quote\")","v":"Quote"},{"$f":"HYPERLINK(Options!$B$2,\"Fax\")","v":"Fax"}]
["Grand Valley State University (Westrick)","Dale Westrick"," 616-331-5795","westrida@gvsu.edu","Assistant Equipment Coordinato","School","Kent",null,{"$f":"HYPERLINK(\"#'Client Details'!$B$1\",\"Details\")","v":"Details"},{"$f":"HYPERLINK(Options!$B$1, \"Quote\")","v":"Quote"},{"$f":"HYPERLINK(Options!$B$2,\"Fax\")","v":"Fax"}]
["Grandtech, Inc. (Van Harn)","J. C. Van Harn"," 616-878-1000","grandtech@michwave.com","President","Contractor General","Kent",null,{"$f":"HYPERLINK(\"#'Client Details'!$B$1\",\"Details\")","v":"Details"},{"$f":"HYPERLINK(Options!$B$1, \"Quote\")","v":"Quote"},{"$f":"HYPERLINK(Options!$B$2,\"Fax\")","v":"Fax"}]
["Grandville DPW,City of","Dennis Nelson","616-538-1990",null,null,null,null,null,{"$f":"HYPERLINK(\"#'Client Details'!$B$1\",\"Details\")","v":"Details"},{"$f":"HYPERLINK(Options!$B$1, \"Quote\")","v":"Quote"},{"$f":"HYPERLINK(Options!$B$2,\"Fax\")","v":"Fax"}]
["Grandville WWTP, City of","Randy Hertstein","616-457-0720",null,null,null,null,null,{"$f":"HYPERLINK(\"#'Client Details'!$B$1\",\"Details\")","v":"Details"},{"$f":"HYPERLINK(Options!$B$1, \"Quote\")","v":"Quote"},{"$f":"HYPERLINK(Options!$B$2,\"Fax\")","v":"Fax"}]
["Grandville WWTP, City of (Grysen)","Bill Grysen"," 616-457-0720",null,"Assistant Superintendent","Municipal, Cty","Kent",null,{"$f":"HYPERLINK(\"#'Client Details'!$B$1\",\"Details\")","v":"Details"},{"$f":"HYPERLINK(Options!$B$1, \"Quote\")","v":"Quote"},{"$f":"HYPERLINK(Options!$B$2,\"Fax\")","v":"Fax"}]
["Grandville WWTP, City of (Wibright)","Todd Wibright"," 616-457-0720","wibrightt@cityofgrandville.com","Superintendent","Municipal, Cty","Kent",null,{"$f":"HYPERLINK(\"#'Client Details'!$B$1\",\"Details\")","v":"Details"},{"$f":"HYPERLINK(Options!$B$1, \"Quote\")","v":"Quote"},{"$f":"HYPERLINK(Options!$B$2,\"Fax\")","v":"Fax"}]
["Grandville, City of (Cheshire)","Mike Cheshire"," 616-538-1990",null,"Superintendent","Municipal, Cty","Kent",null,{"$f":"HYPERLINK(\"#'Client Details'!$B$1\",\"Details\")","v":"Details"},{"$f":"HYPERLINK(Options!$B$1, \"Quote\")","v":"Quote"},{"$f":"HYPERLINK(Options!$B$2,\"Fax\")","v":"Fax"}]
["Grandville, City of (Nelson)","Dennis Nelson"," 616-538-1990","nelsond@cityofgrandville.com","Operator","Municipal, Cty","Kent",null,{"$f":"HYPERLINK(\"#'Client Details'!$B$1\",\"Details\")","v":"Details"},{"$f":"HYPERLINK(Options!$B$1, \"Quote\")","v":"Quote"},{"$f":"HYPERLINK(Options!$B$2,\"Fax\")","v":"Fax"}]
["Grandville, City of (Robert)","Bonnie Robert"," 616-538-1990",null,null,"Municipal, Cty","Kent",null,{"$f":"HYPERLINK(\"#'Client Details'!$B$1\",\"Details\")","v":"Details"},{"$f":"HYPERLINK(Options!$B$1, \"Quote\")","v":"Quote"},{"$f":"HYPERLINK(Options!$B$2,\"Fax\")","v":"Fax"}]
["Grant Tower",null,"231-834-5665",null,null,null,null,null,{"$f":"HYPERLINK(\"#'Client Details'!$B$1\",\"Details\")","v":"Details"},{"$f":"HYPERLINK(Options!$B$1, \"Quote\")","v":"Quote"},{"$f":"HYPERLINK(Options!$B$2,\"Fax\")","v":"Fax"}]
["Grant Tower (Sharp)","Brian Sharp"," 231-834-5665","bsharp@granttower.com","Project Manager","Contractor, Excavator","Newaygo",null,{"$f":"HYPERLINK(\"#'Client Details'!$B$1\",\"Details\")","v":"Details"},{"$f":"HYPERLINK(Options!$B$1, \"Quote\")","v":"Quote"},{"$f":"HYPERLINK(Options!$B$2,\"Fax\")","v":"Fax"}]
["Grantex (Reynolds)","Gordon Reynolds Sr."," 616-241-1191","gmr@grantexinc.com",null,"Other","Kent",null,{"$f":"HYPERLINK(\"#'Client Details'!$B$1\",\"Details\")","v":"Details"},{"$f":"HYPERLINK(Options!$B$1, \"Quote\")","v":"Quote"},{"$f":"HYPERLINK(Options!$B$2,\"Fax\")","v":"Fax"}]
["Grapids Irrigation (Katerberg)","Aaron Katerberg"," 616-235-6666 13",null,null,"Contractor General","Kent",null,{"$f":"HYPERLINK(\"#'Client Details'!$B$1\",\"Details\")","v":"Details"},{"$f":"HYPERLINK(Options!$B$1, \"Quote\")","v":"Quote"},{"$f":"HYPERLINK(Options!$B$2,\"Fax\")","v":"Fax"}]
["Graver Technologies (Bellingham)","Bill Bellingham"," 585-624-1330","bbellingham@gravertech.com",null,"Manufacturer","Out of State",null,{"$f":"HYPERLINK(\"#'Client Details'!$B$1\",\"Details\")","v":"Details"},{"$f":"HYPERLINK(Options!$B$1, \"Quote\")","v":"Quote"},{"$f":"HYPERLINK(Options!$B$2,\"Fax\")","v":"Fax"}]
["Gray Bar Electric (Stratton)","Bill Stratton"," 419-228-7441","william.stratton@gbe.com",null,"Contractor Electrical","Out of State",null,{"$f":"HYPERLINK(\"#'Client Details'!$B$1\",\"Details\")","v":"Details"},{"$f":"HYPERLINK(Options!$B$1, \"Quote\")","v":"Quote"},{"$f":"HYPERLINK(Options!$B$2,\"Fax\")","v":"Fax"}]
["Graybar","Bill Stratton","419-228-7441",null,null,null,null,null,{"$f":"HYPERLINK(\"#'Client Details'!$B$1\",\"Details\")","v":"Details"},{"$f":"HYPERLINK(Options!$B$1, \"Quote\")","v":"Quote"},{"$f":"HYPERLINK(Options!$B$2,\"Fax\")","v":"Fax"}]
["Grayling Fire Dept.","Steve Eddy","989-348-6319",null,null,null,null,null,{"$f":"HYPERLINK(\"#'Client Details'!$B$1\",\"Details\")","v":"Details"},{"$f":"HYPERLINK(Options!$B$1, \"Quote\")","v":"Quote"},{"$f":"HYPERLINK(Options!$B$2,\"Fax\")","v":"Fax"}]
["Great Canadian Holidays","Troy Thompson","519-896-8687",null,null,null,null,null,{"$f":"HYPERLINK(\"#'Client Details'!$B$1\",\"Details\")","v":"Details"},{"$f":"HYPERLINK(Options!$B$1, \"Quote\")","v":"Quote"},{"$f":"HYPERLINK(Options!$B$2,\"Fax\")","v":"Fax"}]
["Great Canadian Holidays (Thompson)","Troy Thompson"," 800.461.8687","troythompson@greatcanadianholidays.com",null,"Manufacturer","Out of State",null,{"$f":"HYPERLINK(\"#'Client Details'!$B$1\",\"Details\")","v":"Details"},{"$f":"HYPERLINK(Options!$B$1, \"Quote\")","v":"Quote"},{"$f":"HYPERLINK(Options!$B$2,\"Fax\")","v":"Fax"}]
["Great Lake Woods, Inc. (Riemersma)","Michael Riemersma"," 616-399-3300","mriemersma@greatlakewoods.com","Purchasing/Marketing",null,"Ottawa",null,{"$f":"HYPERLINK(\"#'Client Details'!$B$1\",\"Details\")","v":"Details"},{"$f":"HYPERLINK(Options!$B$1, \"Quote\")","v":"Quote"},{"$f":"HYPERLINK(Options!$B$2,\"Fax\")","v":"Fax"}]
["Great Lakes Access Inc.","Daniel Vandenberg","616-248-5438",null,null,null,null,null,{"$f":"HYPERLINK(\"#'Client Details'!$B$1\",\"Details\")","v":"Details"},{"$f":"HYPERLINK(Options!$B$1, \"Quote\")","v":"Quote"},{"$f":"HYPERLINK(Options!$B$2,\"Fax\")","v":"Fax"}]
["Great Lakes Contracting","Raymond J. Buikema","616-846-8888","jkalavitz@glccontracting.com",null,null,null,null,{"$f":"HYPERLINK(\"#'Client Details'!$B$1\",\"Details\")","v":"Details"},{"$f":"HYPERLINK(Options!$B$1, \"Quote\")","v":"Quote"},{"$f":"HYPERLINK(Options!$B$2,\"Fax\")","v":"Fax"}]
["Great Lakes Contracting (Buikema)","Ray Buikema"," 616-846-8888","ray@glccontracting.com","President","Contractor General","Ottawa",null,{"$f":"HYPERLINK(\"#'Client Details'!$B$1\",\"Details\")","v":"Details"},{"$f":"HYPERLINK(Options!$B$1, \"Quote\")","v":"Quote"},{"$f":"HYPERLINK(Options!$B$2,\"Fax\")","v":"Fax"}]
["Great Lakes Contracting (Osika)","Ken Osika"," 616-846-8888","kosika@glccontracting.com","Engineer","Contractor General","Ottawa",null,{"$f":"HYPERLINK(\"#'Client Details'!$B$1\",\"Details\")","v":"Details"},{"$f":"HYPERLINK(Options!$B$1, \"Quote\")","v":"Quote"},{"$f":"HYPERLINK(Options!$B$2,\"Fax\")","v":"Fax"}]
["Great Lakes Energy","Dan King","231-652-1651","kfoster@glenergy.com",null,null,null,null,{"$f":"HYPERLINK(\"#'Client Details'!$B$1\",\"Details\")","v":"Details"},{"$f":"HYPERLINK(Options!$B$1, \"Quote\")","v":"Quote"},{"$f":"HYPERLINK(Options!$B$2,\"Fax\")","v":"Fax"}]
["Great Lakes Energy (Boyne City)","Tim Hartwick",null,null,null,null,null,null,{"$f":"HYPERLINK(\"#'Client Details'!$B$1\",\"Details\")","v":"Details"},{"$f":"HYPERLINK(Options!$B$1, \"Quote\")","v":"Quote"},{"$f":"HYPERLINK(Options!$B$2,\"Fax\")","v":"Fax"}]
["Great Lakes Energy (Bumstead)","Bev Bumstead"," 231-652-1651","bbumstead@glenergy.com","Safety Coordinator, Corp.","Utility","Muskegon",null,{"$f":"HYPERLINK(\"#'Client Details'!$B$1\",\"Details\")","v":"Details"},{"$f":"HYPERLINK(Options!$B$1, \"Quote\")","v":"Quote"},{"$f":"HYPERLINK(Options!$B$2,\"Fax\")","v":"Fax"}]
["Great Lakes Energy (Failing)","Larry Failing"," 888-485-2537",null,"Purchasing","Utility","Mason",null,{"$f":"HYPERLINK(\"#'Client Details'!$B$1\",\"Details\")","v":"Details"},{"$f":"HYPERLINK(Options!$B$1, \"Quote\")","v":"Quote"},{"$f":"HYPERLINK(Options!$B$2,\"Fax\")","v":"Fax"}]
["Great Lakes Energy (King)","Dan King"," 231-652-1651","dking@glenergy.com","Assistant Safety Director",null,"Muskegon",null,{"$f":"HYPERLINK(\"#'Client Details'!$B$1\",\"Details\")","v":"Details"},{"$f":"HYPERLINK(Options!$B$1, \"Quote\")","v":"Quote"},{"$f":"HYPERLINK(Options!$B$2,\"Fax\")","v":"Fax"}]
["Great Lakes Insulating Systems",null,"616-530-2327",null,null,null,null,null,{"$f":"HYPERLINK(\"#'Client Details'!$B$1\",\"Details\")","v":"Details"},{"$f":"HYPERLINK(Options!$B$1, \"Quote\")","v":"Quote"},{"$f":"HYPERLINK(Options!$B$2,\"Fax\")","v":"Fax"}]
["Great Lakes Marina (Geerlings)","Ed Geerlings"," 231-759-8230","egeerlings@greatlakesmarina.com","General Manager","Marine","Muskegon",null,{"$f":"HYPERLINK(\"#'Client Details'!$B$1\",\"Details\")","v":"Details"},{"$f":"HYPERLINK(Options!$B$1, \"Quote\")","v":"Quote"},{"$f":"HYPERLINK(Options!$B$2,\"Fax\")","v":"Fax"}]
["Great Lakes Painting (Taylor)","Rick Taylor"," 616-399-6495","divers2@sbcglobal.net","President","Contractor General","Ottawa",null,{"$f":"HYPERLINK(\"#'Client Details'!$B$1\",\"Details\")","v":"Details"},{"$f":"HYPERLINK(Options!$B$1, \"Quote\")","v":"Quote"},{"$f":"HYPERLINK(Options!$B$2,\"Fax\")","v":"Fax"}]
["Great Lakes Safety & Supply","Cindy Mack","219-865-5040",null,null,null,null,null,{"$f":"HYPERLINK(\"#'Client Details'!$B$1\",\"Details\")","v":"Details"},{"$f":"HYPERLINK(Options!$B$1, \"Quote\")","v":"Quote"},{"$f":"HYPERLINK(Options!$B$2,\"Fax\")","v":"Fax"}]
["Great Lakes Safety & Supply (Shanley)","Meg Shanley"," 708-354-2532","theshanleys@sbcglobal.net",null,"Supplier","N/A",null,{"$f":"HYPERLINK(\"#'Client Details'!$B$1\",\"Details\")","v":"Details"},{"$f":"HYPERLINK(Options!$B$1, \"Quote\")","v":"Quote"},{"$f":"HYPERLINK(Options!$B$2,\"Fax\")","v":"Fax"}]
["Great Lakes Safety Code Red Safety and Re","Randall Hall"," 281-998-8773","rhall@gas-monitor.net",null,"Supplier","Out of State",null,{"$f":"HYPERLINK(\"#'Client Details'!$B$1\",\"Details\")","v":"Details"},{"$f":"HYPERLINK(Options!$B$1, \"Quote\")","v":"Quote"},{"$f":"HYPERLINK(Options!$B$2,\"Fax\")","v":"Fax"}]
["Great Lakes Sales & Marketing (Pritz)","Jim Pritz"," 219-325-0637","jpritz@glsmi.com",null,"Representative","Out of State",null,{"$f":"HYPERLINK(\"#'Client Details'!$B$1\",\"Details\")","v":"Details"},{"$f":"HYPERLINK(Options!$B$1, \"Quote\")","v":"Quote"},{"$f":"HYPERLINK(Options!$B$2,\"Fax\")","v":"Fax"}]
["Great Lakes Trackworks (Roberts)","Jeff Roberts"," 269-964-7053","admin@greatlakestrackworks.com",null,"Contractor General","Calhoun",null,{"$f":"HYPERLINK(\"#'Client Details'!$B$1\",\"Details\")","v":"Details"},{"$f":"HYPERLINK(Options!$B$1, \"Quote\")","v":"Quote"},{"$f":"HYPERLINK(Options!$B$2,\"Fax\")","v":"Fax"}]
["Great Lakes Wood Finishing (Schon)","Andrew Schon"," 616-399-3300",null,"Safety Director","Manufacturer","Holland",null,{"$f":"HYPERLINK(\"#'Client Details'!$B$1\",\"Details\")","v":"Details"},{"$f":"HYPERLINK(Options!$B$1, \"Quote\")","v":"Quote"},{"$f":"HYPERLINK(Options!$B$2,\"Fax\")","v":"Fax"}]
["Green Valley Agricultural (Brown)","Chris Brown"," 269-751-5856","sfitzpatrick@greenvalleyag.com",null,"Chemical Pharmaceutical","Allegan",null,{"$f":"HYPERLINK(\"#'Client Details'!$B$1\",\"Details\")","v":"Details"},{"$f":"HYPERLINK(Options!$B$1, \"Quote\")","v":"Quote"},{"$f":"HYPERLINK(Options!$B$2,\"Fax\")","v":"Fax"}]
["Greenbrier PSD #1","Dave Grey","304-645-6632",null,null,null,null,null,{"$f":"HYPERLINK(\"#'Client Details'!$B$1\",\"Details\")","v":"Details"},{"$f":"HYPERLINK(Options!$B$1, \"Quote\")","v":"Quote"},{"$f":"HYPERLINK(Options!$B$2,\"Fax\")","v":"Fax"}]
["Greenville Public Services, City of (Ledg","Thomas Ledger"," 616-754-5098",null,"Director","Municipal, Cty","Montcalm",null,{"$f":"HYPERLINK(\"#'Client Details'!$B$1\",\"Details\")","v":"Details"},{"$f":"HYPERLINK(Options!$B$1, \"Quote\")","v":"Quote"},{"$f":"HYPERLINK(Options!$B$2,\"Fax\")","v":"Fax"}]
["Greenville Tool & Die","Mickey Bos","616-754-5693",null,null,null,null,null,{"$f":"HYPERLINK(\"#'Client Details'!$B$1\",\"Details\")","v":"Details"},{"$f":"HYPERLINK(Options!$B$1, \"Quote\")","v":"Quote"},{"$f":"HYPERLINK(Options!$B$2,\"Fax\")","v":"Fax"}]
["Greenville WWTP, City of (Baxter)","Gene Baxter"," 616-754-5802",null,"Superintendent","Municipal, Cty","Montcalm",null,{"$f":"HYPERLINK(\"#'Client Details'!$B$1\",\"Details\")","v":"Details"},{"$f":"HYPERLINK(Options!$B$1, \"Quote\")","v":"Quote"},{"$f":"HYPERLINK(Options!$B$2,\"Fax\")","v":"Fax"}]
["Groendyke Transport (Charles)","Trevor Charles"," 580-213-9213","tcharles@groendyke.com",null,"Contractor General","Out of State",null,{"$f":"HYPERLINK(\"#'Client Details'!$B$1\",\"Details\")","v":"Details"},{"$f":"HYPERLINK(Options!$B$1, \"Quote\")","v":"Quote"},{"$f":"HYPERLINK(Options!$B$2,\"Fax\")","v":"Fax"}]
["Groendyke Transport (Gigoux)","Brian Gigoux"," 580-213-9202","bgigoux@groendyke.com",null,"Contractor General","Out of State",null,{"$f":"HYPERLINK(\"#'Client Details'!$B$1\",\"Details\")","v":"Details"},{"$f":"HYPERLINK(Options!$B$1, \"Quote\")","v":"Quote"},{"$f":"HYPERLINK(Options!$B$2,\"Fax\")","v":"Fax"}]
["Groendyke Transport, Inc.","Brian Gigoux","580-213-9202",null,null,null,null,null,{"$f":"HYPERLINK(\"#'Client Details'!$B$1\",\"Details\")","v":"Details"},{"$f":"HYPERLINK(Options!$B$1, \"Quote\")","v":"Quote"},{"$f":"HYPERLINK(Options!$B$2,\"Fax\")","v":"Fax"}]
["Grooters Green Group","Howard McNees","616-776-0033",null,null,null,null,null,{"$f":"HYPERLINK(\"#'Client Details'!$B$1\",\"Details\")","v":"Details"},{"$f":"HYPERLINK(Options!$B$1, \"Quote\")","v":"Quote"},{"$f":"HYPERLINK(Options!$B$2,\"Fax\")","v":"Fax"}]
["Groundwater & Environmental Svc Inc.","Jenny Petoskey x-4377","800-368-0337",null,null,null,null,null,{"$f":"HYPERLINK(\"#'Client Details'!$B$1\",\"Details\")","v":"Details"},{"$f":"HYPERLINK(Options!$B$1, \"Quote\")","v":"Quote"},{"$f":"HYPERLINK(Options!$B$2,\"Fax\")","v":"Fax"}]
["GRR Pipe, Inc.","Shaun Beukema","247-0307",null,null,null,null,null,{"$f":"HYPERLINK(\"#'Client Details'!$B$1\",\"Details\")","v":"Details"},{"$f":"HYPERLINK(Options!$B$1, \"Quote\")","v":"Quote"},{"$f":"HYPERLINK(Options!$B$2,\"Fax\")","v":"Fax"}]
["Guardian Fall Protection (Fickenworth)","John Fickenworth"," 800-466-6385","johnf@guardianfall.com","Regional Manager","Supplier","Out of State",null,{"$f":"HYPERLINK(\"#'Client Details'!$B$1\",\"Details\")","v":"Details"},{"$f":"HYPERLINK(Options!$B$1, \"Quote\")","v":"Quote"},{"$f":"HYPERLINK(Options!$B$2,\"Fax\")","v":"Fax"}]
["GZA","Sue Swiger","616-956-6123",null,null,null,null,null,{"$f":"HYPERLINK(\"#'Client Details'!$B$1\",\"Details\")","v":"Details"},{"$f":"HYPERLINK(Options!$B$1, \"Quote\")","v":"Quote"},{"$f":"HYPERLINK(Options!$B$2,\"Fax\")","v":"Fax"}]
["H & K Construction (Todd)","Todd"," 269-673-3098",null,"Safety","Contractor General","Allegan",null,{"$f":"HYPERLINK(\"#'Client Details'!$B$1\",\"Details\")","v":"Details"},{"$f":"HYPERLINK(Options!$B$1, \"Quote\")","v":"Quote"},{"$f":"HYPERLINK(Options!$B$2,\"Fax\")","v":"Fax"}]
["H & M Demolition",null,"616-394-4201",null,null,null,null,null,{"$f":"HYPERLINK(\"#'Client Details'!$B$1\",\"Details\")","v":"Details"},{"$f":"HYPERLINK(Options!$B$1, \"Quote\")","v":"Quote"},{"$f":"HYPERLINK(Options!$B$2,\"Fax\")","v":"Fax"}]
["H & M Demolition (Tucker)","Scott Tucker"," 616-394-4201",null,"Owner","Contractor General","Ottawa",null,{"$f":"HYPERLINK(\"#'Client Details'!$B$1\",\"Details\")","v":"Details"},{"$f":"HYPERLINK(Options!$B$1, \"Quote\")","v":"Quote"},{"$f":"HYPERLINK(Options!$B$2,\"Fax\")","v":"Fax"}]
["H & P Technologies",null,null,null,null,null,null,null,{"$f":"HYPERLINK(\"#'Client Details'!$B$1\",\"Details\")","v":"Details"},{"$f":"HYPERLINK(Options!$B$1, \"Quote\")","v":"Quote"},{"$f":"HYPERLINK(Options!$B$2,\"Fax\")","v":"Fax"}]
["H D Edwards & Co. (Potter)","John Potter"," 313-834-3388",null,null,null,"Wayne",null,{"$f":"HYPERLINK(\"#'Client Details'!$B$1\",\"Details\")","v":"Details"},{"$f":"HYPERLINK(Options!$B$1, \"Quote\")","v":"Quote"},{"$f":"HYPERLINK(Options!$B$2,\"Fax\")","v":"Fax"}]
["H&H Tube","Dawn Sullivan (purchasing)","989-983-2800",null,null,null,null,null,{"$f":"HYPERLINK(\"#'Client Details'!$B$1\",\"Details\")","v":"Details"},{"$f":"HYPERLINK(Options!$B$1, \"Quote\")","v":"Quote"},{"$f":"HYPERLINK(Options!$B$2,\"Fax\")","v":"Fax"}]
["H. C. Brill Company","Michael Diehl","404-519-5191 cell",null,null,null,null,null,{"$f":"HYPERLINK(\"#'Client Details'!$B$1\",\"Details\")","v":"Details"},{"$f":"HYPERLINK(Options!$B$1, \"Quote\")","v":"Quote"},{"$f":"HYPERLINK(Options!$B$2,\"Fax\")","v":"Fax"}]
["H.S. Die and Engineering, Inc. (Galentine","Seth Galentine"," 616-453-5451","sgalentine@hsdie.com","Purchasing","Tooling and Engineering","Ottawa",null,{"$f":"HYPERLINK(\"#'Client Details'!$B$1\",\"Details\")","v":"Details"},{"$f":"HYPERLINK(Options!$B$1, \"Quote\")","v":"Quote"},{"$f":"HYPERLINK(Options!$B$2,\"Fax\")","v":"Fax"}]
["H2scan Corporation (Witzel)","Ken Witzel"," 800-760-6924","kenwitzeldetgas@aol.com",null,"Supplier","Out of State",null,{"$f":"HYPERLINK(\"#'Client Details'!$B$1\",\"Details\")","v":"Details"},{"$f":"HYPERLINK(Options!$B$1, \"Quote\")","v":"Quote"},{"$f":"HYPERLINK(Options!$B$2,\"Fax\")","v":"Fax"}]
["Hagan Pipe Testing Inc.","Larry Hagan","502-426-5670",null,null,null,null,null,{"$f":"HYPERLINK(\"#'Client Details'!$B$1\",\"Details\")","v":"Details"},{"$f":"HYPERLINK(Options!$B$1, \"Quote\")","v":"Quote"},{"$f":"HYPERLINK(Options!$B$2,\"Fax\")","v":"Fax"}]
["Hagemeyer North America","Susan Williams","231-894-7019",null,null,null,null,null,{"$f":"HYPERLINK(\"#'Client Details'!$B$1\",\"Details\")","v":"Details"},{"$f":"HYPERLINK(Options!$B$1, \"Quote\")","v":"Quote"},{"$f":"HYPERLINK(Options!$B$2,\"Fax\")","v":"Fax"}]
["Hall Electric Co. (Leenhauts)","Nate Leenhauts","(231) 726-5001","nleenhouts@halljones.com","Estimator","Contractor Electrical","Muskegon",null,{"$f":"HYPERLINK(\"#'Client Details'!$B$1\",\"Details\")","v":"Details"},{"$f":"HYPERLINK(Options!$B$1, \"Quote\")","v":"Quote"},{"$f":"HYPERLINK(Options!$B$2,\"Fax\")","v":"Fax"}]
["Hallack Contracting, Inc. (Hallack)","Dan Hallack"," 231-873-5081",null," -","General Contractor","Oceana",null,{"$f":"HYPERLINK(\"#'Client Details'!$B$1\",\"Details\")","v":"Details"},{"$f":"HYPERLINK(Options!$B$1, \"Quote\")","v":"Quote"},{"$f":"HYPERLINK(Options!$B$2,\"Fax\")","v":"Fax"}]
["Hamilton Farm Bureau (Kiss)","Kathy Kiss"," 269-751-5171 7107","kkiss@hfb.com",null,"Food","Ottawa",null,{"$f":"HYPERLINK(\"#'Client Details'!$B$1\",\"Details\")","v":"Details"},{"$f":"HYPERLINK(Options!$B$1, \"Quote\")","v":"Quote"},{"$f":"HYPERLINK(Options!$B$2,\"Fax\")","v":"Fax"}]
["Hamilton Farm Bureau/CHS","Kathy Kiss ext. 7107","269-751-5171",null,null,null,null,null,{"$f":"HYPERLINK(\"#'Client Details'!$B$1\",\"Details\")","v":"Details"},{"$f":"HYPERLINK(Options!$B$1, \"Quote\")","v":"Quote"},{"$f":"HYPERLINK(Options!$B$2,\"Fax\")","v":"Fax"}]
["Hamilton Steel Fabricators (Lampen)","Rudy Lampen"," 269-751-8757",null,"Safety Director","Steel Fabrication","Allegan",null,{"$f":"HYPERLINK(\"#'Client Details'!$B$1\",\"Details\")","v":"Details"},{"$f":"HYPERLINK(Options!$B$1, \"Quote\")","v":"Quote"},{"$f":"HYPERLINK(Options!$B$2,\"Fax\")","v":"Fax"}]
["Hammersmith","Russ Campbell","616-452-2400","russc@hamersmithequipment.com",null,null,null,null,{"$f":"HYPERLINK(\"#'Client Details'!$B$1\",\"Details\")","v":"Details"},{"$f":"HYPERLINK(Options!$B$1, \"Quote\")","v":"Quote"},{"$f":"HYPERLINK(Options!$B$2,\"Fax\")","v":"Fax"}]
["Hammersmith Equipment Col. (Campbell)","Russ Campbell"," 616-452-2400","russc@hammersmithequipment.com",null,"Competitor","Kent",null,{"$f":"HYPERLINK(\"#'Client Details'!$B$1\",\"Details\")","v":"Details"},{"$f":"HYPERLINK(Options!$B$1, \"Quote\")","v":"Quote"},{"$f":"HYPERLINK(Options!$B$2,\"Fax\")","v":"Fax"}]
["Hampton Fire Department","Ron Rybak","989-893-7791",null,null,null,null,null,{"$f":"HYPERLINK(\"#'Client Details'!$B$1\",\"Details\")","v":"Details"},{"$f":"HYPERLINK(Options!$B$1, \"Quote\")","v":"Quote"},{"$f":"HYPERLINK(Options!$B$2,\"Fax\")","v":"Fax"}]
["Hansen Balk",null,null,"bhunter@hansenbalk.com",null,null,null,null,{"$f":"HYPERLINK(\"#'Client Details'!$B$1\",\"Details\")","v":"Details"},{"$f":"HYPERLINK(Options!$B$1, \"Quote\")","v":"Quote"},{"$f":"HYPERLINK(Options!$B$2,\"Fax\")","v":"Fax"}]
["Hansen Balk Steel Treating Company (Hunte","Brian Hunter"," 616-458-1414","bhunter@hansenbalk.com","Operations Manager","Manufacturer","Kent",null,{"$f":"HYPERLINK(\"#'Client Details'!$B$1\",\"Details\")","v":"Details"},{"$f":"HYPERLINK(Options!$B$1, \"Quote\")","v":"Quote"},{"$f":"HYPERLINK(Options!$B$2,\"Fax\")","v":"Fax"}]
["Hanson Brick",null,"817-690-8132",null,null,null,null,null,{"$f":"HYPERLINK(\"#'Client Details'!$B$1\",\"Details\")","v":"Details"},{"$f":"HYPERLINK(Options!$B$1, \"Quote\")","v":"Quote"},{"$f":"HYPERLINK(Options!$B$2,\"Fax\")","v":"Fax"}]
["Hanson Brick (Anderson)","Paul Anderson"," 817-690-8132","paul.anderson@hanson.com","Engineering Manager","Manufacturer","Out of State",null,{"$f":"HYPERLINK(\"#'Client Details'!$B$1\",\"Details\")","v":"Details"},{"$f":"HYPERLINK(Options!$B$1, \"Quote\")","v":"Quote"},{"$f":"HYPERLINK(Options!$B$2,\"Fax\")","v":"Fax"}]
["Harbor Isle Marina (Daniels)","Jeff Daniels"," 269-982-0812",null,"General Manager","Marine","Allegan",null,{"$f":"HYPERLINK(\"#'Client Details'!$B$1\",\"Details\")","v":"Details"},{"$f":"HYPERLINK(Options!$B$1, \"Quote\")","v":"Quote"},{"$f":"HYPERLINK(Options!$B$2,\"Fax\")","v":"Fax"}]
["Harbor Steel (Adam)","Adam"," 231-739-7152",null,"Purchasing Manager","Steel","Muskegon",null,{"$f":"HYPERLINK(\"#'Client Details'!$B$1\",\"Details\")","v":"Details"},{"$f":"HYPERLINK(Options!$B$1, \"Quote\")","v":"Quote"},{"$f":"HYPERLINK(Options!$B$2,\"Fax\")","v":"Fax"}]
["Hardman Construction inc. (Loeser)","Jeff Loeser"," 231-845-1236",null,"Safety and Site Manager Campbe","Contractor General","Mason",null,{"$f":"HYPERLINK(\"#'Client Details'!$B$1\",\"Details\")","v":"Details"},{"$f":"HYPERLINK(Options!$B$1, \"Quote\")","v":"Quote"},{"$f":"HYPERLINK(Options!$B$2,\"Fax\")","v":"Fax"}]
["Hardtech (Preston)","Phil Preston"," 517-244-8812","phil.preston@hardtech.gestamp.com","EH&S Manager","Automotive","Ingham",null,{"$f":"HYPERLINK(\"#'Client Details'!$B$1\",\"Details\")","v":"Details"},{"$f":"HYPERLINK(Options!$B$1, \"Quote\")","v":"Quote"},{"$f":"HYPERLINK(Options!$B$2,\"Fax\")","v":"Fax"}]
["Harietta State Fish Hatchery (Chesney)","Jeri Chesney"," 231-389-2211","chesneyj@michigan.gov","Maintenance Mechanic/Safety","State","Wexford",null,{"$f":"HYPERLINK(\"#'Client Details'!$B$1\",\"Details\")","v":"Details"},{"$f":"HYPERLINK(Options!$B$1, \"Quote\")","v":"Quote"},{"$f":"HYPERLINK(Options!$B$2,\"Fax\")","v":"Fax"}]
["Harlan W Van Blaricum"," Nancy Van Blaricum","734-426-3341","hwvb4@yahoo.com",null,null,null,null,{"$f":"HYPERLINK(\"#'Client Details'!$B$1\",\"Details\")","v":"Details"},{"$f":"HYPERLINK(Options!$B$1, \"Quote\")","v":"Quote"},{"$f":"HYPERLINK(Options!$B$2,\"Fax\")","v":"Fax"}]
["Harmsen Construction",null,"616-772-2200",null,null,null,null,null,{"$f":"HYPERLINK(\"#'Client Details'!$B$1\",\"Details\")","v":"Details"},{"$f":"HYPERLINK(Options!$B$1, \"Quote\")","v":"Quote"},{"$f":"HYPERLINK(Options!$B$2,\"Fax\")","v":"Fax"}]
["Harmsen Construction (Harmsen)","Scott Harmsen"," 616-772-2200",null,"Safety",null,"Ottawa",null,{"$f":"HYPERLINK(\"#'Client Details'!$B$1\",\"Details\")","v":"Details"},{"$f":"HYPERLINK(Options!$B$1, \"Quote\")","v":"Quote"},{"$f":"HYPERLINK(Options!$B$2,\"Fax\")","v":"Fax"}]
["Hart DPW (Whitney)","Brad Whitney"," 231-638-2052",null,"Supervisor","Municipal, Cty","Oceana",null,{"$f":"HYPERLINK(\"#'Client Details'!$B$1\",\"Details\")","v":"Details"},{"$f":"HYPERLINK(Options!$B$1, \"Quote\")","v":"Quote"},{"$f":"HYPERLINK(Options!$B$2,\"Fax\")","v":"Fax"}]
["Hart DPW, City of","Brad Whitney","231-873-2488",null,null,null,null,null,{"$f":"HYPERLINK(\"#'Client Details'!$B$1\",\"Details\")","v":"Details"},{"$f":"HYPERLINK(Options!$B$1, \"Quote\")","v":"Quote"},{"$f":"HYPERLINK(Options!$B$2,\"Fax\")","v":"Fax"}]
["Hart DPW, City of (Dillingham)","Dave Dillingham"," 231-873-3100",null,"Superintendent","Municipal, Cty","Oceana",null,{"$f":"HYPERLINK(\"#'Client Details'!$B$1\",\"Details\")","v":"Details"},{"$f":"HYPERLINK(Options!$B$1, \"Quote\")","v":"Quote"},{"$f":"HYPERLINK(Options!$B$2,\"Fax\")","v":"Fax"}]
["Hart WWTP, City of","Brian Gifford","231-873-2259",null,null,null,null,null,{"$f":"HYPERLINK(\"#'Client Details'!$B$1\",\"Details\")","v":"Details"},{"$f":"HYPERLINK(Options!$B$1, \"Quote\")","v":"Quote"},{"$f":"HYPERLINK(Options!$B$2,\"Fax\")","v":"Fax"}]
["Hartford Insurance Company (Longman)","Eric Longman"," 616-891-7949","elongman@thehartford.com","Loss Control Manager","Insurance","Kent",null,{"$f":"HYPERLINK(\"#'Client Details'!$B$1\",\"Details\")","v":"Details"},{"$f":"HYPERLINK(Options!$B$1, \"Quote\")","v":"Quote"},{"$f":"HYPERLINK(Options!$B$2,\"Fax\")","v":"Fax"}]
["Hartford Insurance Company (Ringnalda)","Kenneth Ringnalda"," 616-261-2297","kringnalda@thehartford.com","Sr. Loss Control Consultant","Insurance","Kent",null,{"$f":"HYPERLINK(\"#'Client Details'!$B$1\",\"Details\")","v":"Details"},{"$f":"HYPERLINK(Options!$B$1, \"Quote\")","v":"Quote"},{"$f":"HYPERLINK(Options!$B$2,\"Fax\")","v":"Fax"}]
["Hastings Mutual Insurance Company",null,"616-742-5821",null,null,null,null,null,{"$f":"HYPERLINK(\"#'Client Details'!$B$1\",\"Details\")","v":"Details"},{"$f":"HYPERLINK(Options!$B$1, \"Quote\")","v":"Quote"},{"$f":"HYPERLINK(Options!$B$2,\"Fax\")","v":"Fax"}]
["Hastings Mutual Insurance Company (Longma","Eric Longman"," 269-671-4122","elongman@hastingsmutual.com","Loss Control Manager","Insurance","Kent",null,{"$f":"HYPERLINK(\"#'Client Details'!$B$1\",\"Details\")","v":"Details"},{"$f":"HYPERLINK(Options!$B$1, \"Quote\")","v":"Quote"},{"$f":"HYPERLINK(Options!$B$2,\"Fax\")","v":"Fax"}]
["Hastings Mutual Insurance Company (Love)","Dick Love"," 616-742-5821","dlove@hastingsmutual.com","Senior Loss Control Consultant","Insurance","Kent",null,{"$f":"HYPERLINK(\"#'Client Details'!$B$1\",\"Details\")","v":"Details"},{"$f":"HYPERLINK(Options!$B$1, \"Quote\")","v":"Quote"},{"$f":"HYPERLINK(Options!$B$2,\"Fax\")","v":"Fax"}]
["Hauschild Custom Builder & Remodeler, Inc",null,"616-676-1723",null,null,null,null,null,{"$f":"HYPERLINK(\"#'Client Details'!$B$1\",\"Details\")","v":"Details"},{"$f":"HYPERLINK(Options!$B$1, \"Quote\")","v":"Quote"},{"$f":"HYPERLINK(Options!$B$2,\"Fax\")","v":"Fax"}]
["Havel, An Emcor Company (Sherwood)","Tyler Sherwood"," 269-344-9646","tsherwood@shambaugh.com",null,"Contractor Electrical","Kalamazoo",null,{"$f":"HYPERLINK(\"#'Client Details'!$B$1\",\"Details\")","v":"Details"},{"$f":"HYPERLINK(Options!$B$1, \"Quote\")","v":"Quote"},{"$f":"HYPERLINK(Options!$B$2,\"Fax\")","v":"Fax"}]
["Haviland Corp.","Jan Bell / Milo","361-6691  x233",null,null,null,null,null,{"$f":"HYPERLINK(\"#'Client Details'!$B$1\",\"Details\")","v":"Details"},{"$f":"HYPERLINK(Options!$B$1, \"Quote\")","v":"Quote"},{"$f":"HYPERLINK(Options!$B$2,\"Fax\")","v":"Fax"}]
["Haviland Products Company (Mastbergen)","Bob Mastbergen"," 616-361-6691",null,"HazMat Coordinator","Chemical Pharmaceutical","Kent",null,{"$f":"HYPERLINK(\"#'Client Details'!$B$1\",\"Details\")","v":"Details"},{"$f":"HYPERLINK(Options!$B$1, \"Quote\")","v":"Quote"},{"$f":"HYPERLINK(Options!$B$2,\"Fax\")","v":"Fax"}]
["Haviland Products Company (Westman)","Rick Westman"," 616-361-6691 209",null,"Safety Manager","Chemical Pharmaceutical","Kent",null,{"$f":"HYPERLINK(\"#'Client Details'!$B$1\",\"Details\")","v":"Details"},{"$f":"HYPERLINK(Options!$B$1, \"Quote\")","v":"Quote"},{"$f":"HYPERLINK(Options!$B$2,\"Fax\")","v":"Fax"}]
["Haworth Big Rapids Components (Bussell)","Chris Bussell"," 231-527-6662",null,null,"Furniture","Mecosta",null,{"$f":"HYPERLINK(\"#'Client Details'!$B$1\",\"Details\")","v":"Details"},{"$f":"HYPERLINK(Options!$B$1, \"Quote\")","v":"Quote"},{"$f":"HYPERLINK(Options!$B$2,\"Fax\")","v":"Fax"}]
["Haworth Inc. (DeCrocker)","Brian DeCrocker"," 231-845-0607",null,"Site Safety Manager","Furniture","furniture Manufacturing",null,{"$f":"HYPERLINK(\"#'Client Details'!$B$1\",\"Details\")","v":"Details"},{"$f":"HYPERLINK(Options!$B$1, \"Quote\")","v":"Quote"},{"$f":"HYPERLINK(Options!$B$2,\"Fax\")","v":"Fax"}]
["Haworth, Inc. (Brandsen)","Ken Brandsen"," 616-393-1999","ken.brandsen@haworth.com","Corporate EH&S Manager","Furniture","Ottawa",null,{"$f":"HYPERLINK(\"#'Client Details'!$B$1\",\"Details\")","v":"Details"},{"$f":"HYPERLINK(Options!$B$1, \"Quote\")","v":"Quote"},{"$f":"HYPERLINK(Options!$B$2,\"Fax\")","v":"Fax"}]
["Haworth, Inc. (Kozminski)","Jim Kozminski"," 616-393-1533",null,"Environmental Engineer","Furniture","Ottawa",null,{"$f":"HYPERLINK(\"#'Client Details'!$B$1\",\"Details\")","v":"Details"},{"$f":"HYPERLINK(Options!$B$1, \"Quote\")","v":"Quote"},{"$f":"HYPERLINK(Options!$B$2,\"Fax\")","v":"Fax"}]
["Haworth, Inc. (Sanders)","Carl Sanders",null,null,"Safety Engineer","Furniture","Ottawa",null,{"$f":"HYPERLINK(\"#'Client Details'!$B$1\",\"Details\")","v":"Details"},{"$f":"HYPERLINK(Options!$B$1, \"Quote\")","v":"Quote"},{"$f":"HYPERLINK(Options!$B$2,\"Fax\")","v":"Fax"}]
["Haworth, Inc. (Utsey)","Lori Utsey"," 269-673-5421",null,"Safety Director","Furniture","Allegan",null,{"$f":"HYPERLINK(\"#'Client Details'!$B$1\",\"Details\")","v":"Details"},{"$f":"HYPERLINK(Options!$B$1, \"Quote\")","v":"Quote"},{"$f":"HYPERLINK(Options!$B$2,\"Fax\")","v":"Fax"}]
["Hayes Lemmerz (Brink)","Paul Brink"," 517-299-0120","pbrink@hayes-lemmerz.com",null,"Automotive","Ingham",null,{"$f":"HYPERLINK(\"#'Client Details'!$B$1\",\"Details\")","v":"Details"},{"$f":"HYPERLINK(Options!$B$1, \"Quote\")","v":"Quote"},{"$f":"HYPERLINK(Options!$B$2,\"Fax\")","v":"Fax"}]
["Hayes Lemmerz (Todabaugh)","Eric Todabaugh"," 231-894-3420",null,"Safety","Automotive","Muskegon",null,{"$f":"HYPERLINK(\"#'Client Details'!$B$1\",\"Details\")","v":"Details"},{"$f":"HYPERLINK(Options!$B$1, \"Quote\")","v":"Quote"},{"$f":"HYPERLINK(Options!$B$2,\"Fax\")","v":"Fax"}]
["Hayes Mechanical","Terry Ancel","773-784-0000",null,null,null,null,null,{"$f":"HYPERLINK(\"#'Client Details'!$B$1\",\"Details\")","v":"Details"},{"$f":"HYPERLINK(Options!$B$1, \"Quote\")","v":"Quote"},{"$f":"HYPERLINK(Options!$B$2,\"Fax\")","v":"Fax"}]
["Hazco Services","Kevin Smith","586-840-3200",null,null,null,null,null,{"$f":"HYPERLINK(\"#'Client Details'!$B$1\",\"Details\")","v":"Details"},{"$f":"HYPERLINK(Options!$B$1, \"Quote\")","v":"Quote"},{"$f":"HYPERLINK(Options!$B$2,\"Fax\")","v":"Fax"}]
["HazMat Solutions",null,"616-850-9036","sue@hazmatsolutions.net",null,null,null,null,{"$f":"HYPERLINK(\"#'Client Details'!$B$1\",\"Details\")","v":"Details"},{"$f":"HYPERLINK(Options!$B$1, \"Quote\")","v":"Quote"},{"$f":"HYPERLINK(Options!$B$2,\"Fax\")","v":"Fax"}]
["HazMat Solutions, Inc. (Blauser)","Dean Blauser"," 616-850-9036","dean@hazmatsolutions.net","Hazardous Materials Specialist","Contractor EH&S","Ottawa",null,{"$f":"HYPERLINK(\"#'Client Details'!$B$1\",\"Details\")","v":"Details"},{"$f":"HYPERLINK(Options!$B$1, \"Quote\")","v":"Quote"},{"$f":"HYPERLINK(Options!$B$2,\"Fax\")","v":"Fax"}]
["HBK Engineering","Doran Durling","312-432-0076",null,null,null,null,null,{"$f":"HYPERLINK(\"#'Client Details'!$B$1\",\"Details\")","v":"Details"},{"$f":"HYPERLINK(Options!$B$1, \"Quote\")","v":"Quote"},{"$f":"HYPERLINK(Options!$B$2,\"Fax\")","v":"Fax"}]
["HC Brill (Diehl)","Michael Diehl",null,"michael.diehl@hcbrill.com","Sr. Project Engineer","Food","Out of State",null,{"$f":"HYPERLINK(\"#'Client Details'!$B$1\",\"Details\")","v":"Details"},{"$f":"HYPERLINK(Options!$B$1, \"Quote\")","v":"Quote"},{"$f":"HYPERLINK(Options!$B$2,\"Fax\")","v":"Fax"}]
["HC Starck Fabricated Products (Damrau)","Larry Damrau"," 517-279-9511",null,null,"Steel","Branch",null,{"$f":"HYPERLINK(\"#'Client Details'!$B$1\",\"Details\")","v":"Details"},{"$f":"HYPERLINK(Options!$B$1, \"Quote\")","v":"Quote"},{"$f":"HYPERLINK(Options!$B$2,\"Fax\")","v":"Fax"}]
["HC Starck Inc. (Viland)","Don Viland"," 517-279-3549 372","don.viland@hcstarck.com","Sr. HSE Engineer","Steel","Branch",null,{"$f":"HYPERLINK(\"#'Client Details'!$B$1\",\"Details\")","v":"Details"},{"$f":"HYPERLINK(Options!$B$1, \"Quote\")","v":"Quote"},{"$f":"HYPERLINK(Options!$B$2,\"Fax\")","v":"Fax"}]
["Health / Safety Training & Consulting","Ed Sarin","989-302-1201","esarin@core.com",null,null,null,null,{"$f":"HYPERLINK(\"#'Client Details'!$B$1\",\"Details\")","v":"Details"},{"$f":"HYPERLINK(Options!$B$1, \"Quote\")","v":"Quote"},{"$f":"HYPERLINK(Options!$B$2,\"Fax\")","v":"Fax"}]
["Health / Safety Training & Consulting (Ca","Scott Carroll",null,"carrollhstc@aol.com","President","Contractor EH&S","Grand Traverse",null,{"$f":"HYPERLINK(\"#'Client Details'!$B$1\",\"Details\")","v":"Details"},{"$f":"HYPERLINK(Options!$B$1, \"Quote\")","v":"Quote"},{"$f":"HYPERLINK(Options!$B$2,\"Fax\")","v":"Fax"}]
["Health / Safety Training & Consulting (Sa","Ed Sarin",null,"esarin@charter.net",null,"Contractor EH&S","Roscommon",null,{"$f":"HYPERLINK(\"#'Client Details'!$B$1\",\"Details\")","v":"Details"},{"$f":"HYPERLINK(Options!$B$1, \"Quote\")","v":"Quote"},{"$f":"HYPERLINK(Options!$B$2,\"Fax\")","v":"Fax"}]
["Heartland Environmental","John Sill","574-289-1191",null,null,null,null,null,{"$f":"HYPERLINK(\"#'Client Details'!$B$1\",\"Details\")","v":"Details"},{"$f":"HYPERLINK(Options!$B$1, \"Quote\")","v":"Quote"},{"$f":"HYPERLINK(Options!$B$2,\"Fax\")","v":"Fax"}]
["Heartland Environmental (Sill)","John Sill"," 574-289-1191","jasill@heartlandenv.com",null,"Contractor EH&S","Out of State",null,{"$f":"HYPERLINK(\"#'Client Details'!$B$1\",\"Details\")","v":"Details"},{"$f":"HYPERLINK(Options!$B$1, \"Quote\")","v":"Quote"},{"$f":"HYPERLINK(Options!$B$2,\"Fax\")","v":"Fax"}]
["Heath Outdoor Products","Tom Vander Voord",null,null,null,null,null,null,{"$f":"HYPERLINK(\"#'Client Details'!$B$1\",\"Details\")","v":"Details"},{"$f":"HYPERLINK(Options!$B$1, \"Quote\")","v":"Quote"},{"$f":"HYPERLINK(Options!$B$2,\"Fax\")","v":"Fax"}]
["Heath Outdoor Products (Voord)","Tom Vander Voord"," 616-997-8181 29","tvandervoord@heathmfg.com",null,"Manufacturer","Kent",null,{"$f":"HYPERLINK(\"#'Client Details'!$B$1\",\"Details\")","v":"Details"},{"$f":"HYPERLINK(Options!$B$1, \"Quote\")","v":"Quote"},{"$f":"HYPERLINK(Options!$B$2,\"Fax\")","v":"Fax"}]
["Heinz (Holland)","Lance Buffinga","616-836-9611 cell",null,null,null,null,null,{"$f":"HYPERLINK(\"#'Client Details'!$B$1\",\"Details\")","v":"Details"},{"$f":"HYPERLINK(Options!$B$1, \"Quote\")","v":"Quote"},{"$f":"HYPERLINK(Options!$B$2,\"Fax\")","v":"Fax"}]
["Helms Caulking (Eisen)","Bruce Eisen"," 616-538-7520",null,"Safety","Contractor General","Ottawa",null,{"$f":"HYPERLINK(\"#'Client Details'!$B$1\",\"Details\")","v":"Details"},{"$f":"HYPERLINK(Options!$B$1, \"Quote\")","v":"Quote"},{"$f":"HYPERLINK(Options!$B$2,\"Fax\")","v":"Fax"}]
["Hemlock Semiconductor Corp.","Keith McCoy","989-642-5201x2581",null,null,null,null,null,{"$f":"HYPERLINK(\"#'Client Details'!$B$1\",\"Details\")","v":"Details"},{"$f":"HYPERLINK(Options!$B$1, \"Quote\")","v":"Quote"},{"$f":"HYPERLINK(Options!$B$2,\"Fax\")","v":"Fax"}]
["Heneveld Group LLC",null,"616-772-5957",null,null,null,null,null,{"$f":"HYPERLINK(\"#'Client Details'!$B$1\",\"Details\")","v":"Details"},{"$f":"HYPERLINK(Options!$B$1, \"Quote\")","v":"Quote"},{"$f":"HYPERLINK(Options!$B$2,\"Fax\")","v":"Fax"}]
["Henkel Chemical Management",null,"615-255-7222",null,null,null,null,null,{"$f":"HYPERLINK(\"#'Client Details'!$B$1\",\"Details\")","v":"Details"},{"$f":"HYPERLINK(Options!$B$1, \"Quote\")","v":"Quote"},{"$f":"HYPERLINK(Options!$B$2,\"Fax\")","v":"Fax"}]
["Herbruck's (Crosby)","Dave Crosby"," 616-902-4157","dcrosby@herbrucks.com",null,"Poultry","Ionia",null,{"$f":"HYPERLINK(\"#'Client Details'!$B$1\",\"Details\")","v":"Details"},{"$f":"HYPERLINK(Options!$B$1, \"Quote\")","v":"Quote"},{"$f":"HYPERLINK(Options!$B$2,\"Fax\")","v":"Fax"}]
["Herbruck's (Lake Odessa - Farm)","Joe Whorley","616-642-9421",null,null,null,null,null,{"$f":"HYPERLINK(\"#'Client Details'!$B$1\",\"Details\")","v":"Details"},{"$f":"HYPERLINK(Options!$B$1, \"Quote\")","v":"Quote"},{"$f":"HYPERLINK(Options!$B$2,\"Fax\")","v":"Fax"}]
["Herbruck's (Miller)","Rich Miller"," 616-642-9421","rmiller@herbrucks.com",null,"Poultry","Ionia",null,{"$f":"HYPERLINK(\"#'Client Details'!$B$1\",\"Details\")","v":"Details"},{"$f":"HYPERLINK(Options!$B$1, \"Quote\")","v":"Quote"},{"$f":"HYPERLINK(Options!$B$2,\"Fax\")","v":"Fax"}]
["Herbruck's (Whorley)","Joe Whorley"," 616-642-9421 1154",null,"Production Manager","Poultry","Ionia",null,{"$f":"HYPERLINK(\"#'Client Details'!$B$1\",\"Details\")","v":"Details"},{"$f":"HYPERLINK(Options!$B$1, \"Quote\")","v":"Quote"},{"$f":"HYPERLINK(Options!$B$2,\"Fax\")","v":"Fax"}]
["Hercules Inc.","John McCallar","912-966-6239",null,null,null,null,null,{"$f":"HYPERLINK(\"#'Client Details'!$B$1\",\"Details\")","v":"Details"},{"$f":"HYPERLINK(Options!$B$1, \"Quote\")","v":"Quote"},{"$f":"HYPERLINK(Options!$B$2,\"Fax\")","v":"Fax"}]
["Hercules Incorporated (McCallar)","John McCallar"," 912-966-6239","jmccallar@herc.com","Purchasing","Chemical Pharmaceutical","Out of State",null,{"$f":"HYPERLINK(\"#'Client Details'!$B$1\",\"Details\")","v":"Details"},{"$f":"HYPERLINK(Options!$B$1, \"Quote\")","v":"Quote"},{"$f":"HYPERLINK(Options!$B$2,\"Fax\")","v":"Fax"}]
["Hercules Incorporated (Murawski)","Rich Murawski"," 601-584-3235","rmurawski@herc.com","Quality Coach","Chemical Pharmaceutical","Out of State",null,{"$f":"HYPERLINK(\"#'Client Details'!$B$1\",\"Details\")","v":"Details"},{"$f":"HYPERLINK(Options!$B$1, \"Quote\")","v":"Quote"},{"$f":"HYPERLINK(Options!$B$2,\"Fax\")","v":"Fax"}]
["Hercules Incorporated (Nutt)","Kim Nutt"," 503-224-1200 274","knutt@herc.com","Safety & Environmental Supervi","Chemical Pharmaceutical","Out of State",null,{"$f":"HYPERLINK(\"#'Client Details'!$B$1\",\"Details\")","v":"Details"},{"$f":"HYPERLINK(Options!$B$1, \"Quote\")","v":"Quote"},{"$f":"HYPERLINK(Options!$B$2,\"Fax\")","v":"Fax"}]
["Heritage Farms (Zeerip)","Susan and Craig Zeerip"," 231-854-8846","heritage@ncats.net","Owners/Operators","Fruit and Farming","Lake",null,{"$f":"HYPERLINK(\"#'Client Details'!$B$1\",\"Details\")","v":"Details"},{"$f":"HYPERLINK(Options!$B$1, \"Quote\")","v":"Quote"},{"$f":"HYPERLINK(Options!$B$2,\"Fax\")","v":"Fax"}]
["Heritage Management","Adam Ketner","616-485-0595","tim@heritagemanagement.info",null,null,null,null,{"$f":"HYPERLINK(\"#'Client Details'!$B$1\",\"Details\")","v":"Details"},{"$f":"HYPERLINK(Options!$B$1, \"Quote\")","v":"Quote"},{"$f":"HYPERLINK(Options!$B$2,\"Fax\")","v":"Fax"}]
["Herman Miller (Spring Lake)","Rich DeLeau - 836-8061 cell","616-296-5997",null,null,null,null,null,{"$f":"HYPERLINK(\"#'Client Details'!$B$1\",\"Details\")","v":"Details"},{"$f":"HYPERLINK(Options!$B$1, \"Quote\")","v":"Quote"},{"$f":"HYPERLINK(Options!$B$2,\"Fax\")","v":"Fax"}]
["Herman Miller (Zeeland)",null,null,null,null,null,null,null,{"$f":"HYPERLINK(\"#'Client Details'!$B$1\",\"Details\")","v":"Details"},{"$f":"HYPERLINK(Options!$B$1, \"Quote\")","v":"Quote"},{"$f":"HYPERLINK(Options!$B$2,\"Fax\")","v":"Fax"}]
["Herman Miller Inc. (Arocha)","Mary Arocha"," 616-836-8907",null,"Safety Coordinator","Furniture","Ottawa",null,{"$f":"HYPERLINK(\"#'Client Details'!$B$1\",\"Details\")","v":"Details"},{"$f":"HYPERLINK(Options!$B$1, \"Quote\")","v":"Quote"},{"$f":"HYPERLINK(Options!$B$2,\"Fax\")","v":"Fax"}]
["Herman Miller Inc. (Bosch)","Roger Bosch"," 616-836-8907","roger_bosch@hermanmiller.com","Electrical Plant Engineer","Furniture","Ottawa",null,{"$f":"HYPERLINK(\"#'Client Details'!$B$1\",\"Details\")","v":"Details"},{"$f":"HYPERLINK(Options!$B$1, \"Quote\")","v":"Quote"},{"$f":"HYPERLINK(Options!$B$2,\"Fax\")","v":"Fax"}]
["Herman Miller Inc. (Egeler)","Tom Egeler"," 616-654-5736","tom_egeler@hermanmiller.com","Supervising Safety Specialist","Furniture","Ottawa",null,{"$f":"HYPERLINK(\"#'Client Details'!$B$1\",\"Details\")","v":"Details"},{"$f":"HYPERLINK(Options!$B$1, \"Quote\")","v":"Quote"},{"$f":"HYPERLINK(Options!$B$2,\"Fax\")","v":"Fax"}]
["Herman Miller Spring Lake (Lambert)","Deb Lambert"," 616-296-5877","deb_lambert@hermanmiller.com",null,"Furniture","Ottawa",null,{"$f":"HYPERLINK(\"#'Client Details'!$B$1\",\"Details\")","v":"Details"},{"$f":"HYPERLINK(Options!$B$1, \"Quote\")","v":"Quote"},{"$f":"HYPERLINK(Options!$B$2,\"Fax\")","v":"Fax"}]
["Herman Miller Spring Lake (Wolbrink)","Steve Wolbrink","616 654 7878","steve_wolbrink@hermanmiller.com","Safety","Furniture","Ottawa",null,{"$f":"HYPERLINK(\"#'Client Details'!$B$1\",\"Details\")","v":"Details"},{"$f":"HYPERLINK(Options!$B$1, \"Quote\")","v":"Quote"},{"$f":"HYPERLINK(Options!$B$2,\"Fax\")","v":"Fax"}]
["Hesperia DPW (Ward)","Ken Ward"," 231-854-3029",null,"Supervisor","Municipal, Cty","Lake",null,{"$f":"HYPERLINK(\"#'Client Details'!$B$1\",\"Details\")","v":"Details"},{"$f":"HYPERLINK(Options!$B$1, \"Quote\")","v":"Quote"},{"$f":"HYPERLINK(Options!$B$2,\"Fax\")","v":"Fax"}]
["HexArmor",null,"616-459-4144",null,null,null,null,null,{"$f":"HYPERLINK(\"#'Client Details'!$B$1\",\"Details\")","v":"Details"},{"$f":"HYPERLINK(Options!$B$1, \"Quote\")","v":"Quote"},{"$f":"HYPERLINK(Options!$B$2,\"Fax\")","v":"Fax"}]
["Hibbard In Shore","Andrew Fonts","248-330-5951","shop@hibbardinshore.com",null,null,null,null,{"$f":"HYPERLINK(\"#'Client Details'!$B$1\",\"Details\")","v":"Details"},{"$f":"HYPERLINK(Options!$B$1, \"Quote\")","v":"Quote"},{"$f":"HYPERLINK(Options!$B$2,\"Fax\")","v":"Fax"}]
["Hidecker Wheatlike","Mike Sims","231-832-1170","mike_sims@rcpls",null,null,null,null,{"$f":"HYPERLINK(\"#'Client Details'!$B$1\",\"Details\")","v":"Details"},{"$f":"HYPERLINK(Options!$B$1, \"Quote\")","v":"Quote"},{"$f":"HYPERLINK(Options!$B$2,\"Fax\")","v":"Fax"}]
["High Concrete Group","Jaime Ollila","937-748-5730",null,null,null,null,null,{"$f":"HYPERLINK(\"#'Client Details'!$B$1\",\"Details\")","v":"Details"},{"$f":"HYPERLINK(Options!$B$1, \"Quote\")","v":"Quote"},{"$f":"HYPERLINK(Options!$B$2,\"Fax\")","v":"Fax"}]
["High Voltage Maintenance","Eric Nation","937-278-0811",null,null,null,null,null,{"$f":"HYPERLINK(\"#'Client Details'!$B$1\",\"Details\")","v":"Details"},{"$f":"HYPERLINK(Options!$B$1, \"Quote\")","v":"Quote"},{"$f":"HYPERLINK(Options!$B$2,\"Fax\")","v":"Fax"}]
["Highlight Industries, Inc. (Smit)","Kathy Smit"," 616-531-2464 208","kathys@highlightindustries.com","Purchasing Manager","Manufacturer","Kent",null,{"$f":"HYPERLINK(\"#'Client Details'!$B$1\",\"Details\")","v":"Details"},{"$f":"HYPERLINK(Options!$B$1, \"Quote\")","v":"Quote"},{"$f":"HYPERLINK(Options!$B$2,\"Fax\")","v":"Fax"}]
["Hilite Int'l (Bazzett)","Lou Bazzett"," 231-894-3336","lou.bazzett@us.hilite.com",null,null,"Muskegon",null,{"$f":"HYPERLINK(\"#'Client Details'!$B$1\",\"Details\")","v":"Details"},{"$f":"HYPERLINK(Options!$B$1, \"Quote\")","v":"Quote"},{"$f":"HYPERLINK(Options!$B$2,\"Fax\")","v":"Fax"}]
["Hillsdale County Sheriff's Dept.","Lt. David Braxmaier","517-437-7317",null,null,null,null,null,{"$f":"HYPERLINK(\"#'Client Details'!$B$1\",\"Details\")","v":"Details"},{"$f":"HYPERLINK(Options!$B$1, \"Quote\")","v":"Quote"},{"$f":"HYPERLINK(Options!$B$2,\"Fax\")","v":"Fax"}]
["Hoffman & Harpst Co., Inc.","Denny Dixon","419-241-8134","shirleyhoffmanharpst@yahoo.com",null,null,null,null,{"$f":"HYPERLINK(\"#'Client Details'!$B$1\",\"Details\")","v":"Details"},{"$f":"HYPERLINK(Options!$B$1, \"Quote\")","v":"Quote"},{"$f":"HYPERLINK(Options!$B$2,\"Fax\")","v":"Fax"}]
["Hogan & Associates, Theodore J. (Hogan)","Ted Hogan"," 630-257-3939 101","dfedor@tjhinc.com",null,"Contractor EH&S","Out of State",null,{"$f":"HYPERLINK(\"#'Client Details'!$B$1\",\"Details\")","v":"Details"},{"$f":"HYPERLINK(Options!$B$1, \"Quote\")","v":"Quote"},{"$f":"HYPERLINK(Options!$B$2,\"Fax\")","v":"Fax"}]
["Holcim - Hagerstown (Belin)","Ralph Belin"," 301-739-1150 268","ralph.belin@holcim.com",null,"Manufacturer","Out of State",null,{"$f":"HYPERLINK(\"#'Client Details'!$B$1\",\"Details\")","v":"Details"},{"$f":"HYPERLINK(Options!$B$1, \"Quote\")","v":"Quote"},{"$f":"HYPERLINK(Options!$B$2,\"Fax\")","v":"Fax"}]
["Holcim (Hagerstown)",null,"301-739-1150",null,null,null,null,null,{"$f":"HYPERLINK(\"#'Client Details'!$B$1\",\"Details\")","v":"Details"},{"$f":"HYPERLINK(Options!$B$1, \"Quote\")","v":"Quote"},{"$f":"HYPERLINK(Options!$B$2,\"Fax\")","v":"Fax"}]
["HOLD FOR NEW CUSTOMER",null,null,null,null,null,null,null,{"$f":"HYPERLINK(\"#'Client Details'!$B$1\",\"Details\")","v":"Details"},{"$f":"HYPERLINK(Options!$B$1, \"Quote\")","v":"Quote"},{"$f":"HYPERLINK(Options!$B$2,\"Fax\")","v":"Fax"}]
["Holland (Bowden)","Colline Bowden"," 231-773-3271 4329",null,"Safety Contact","Manufacturer","Muskegon",null,{"$f":"HYPERLINK(\"#'Client Details'!$B$1\",\"Details\")","v":"Details"},{"$f":"HYPERLINK(Options!$B$1, \"Quote\")","v":"Quote"},{"$f":"HYPERLINK(Options!$B$2,\"Fax\")","v":"Fax"}]
["Holland Bar Stool Co.","Chad Lemmen","616-396-6311",null,null,null,null,null,{"$f":"HYPERLINK(\"#'Client Details'!$B$1\",\"Details\")","v":"Details"},{"$f":"HYPERLINK(Options!$B$1, \"Quote\")","v":"Quote"},{"$f":"HYPERLINK(Options!$B$2,\"Fax\")","v":"Fax"}]
["Holland BPW","Rita Meurer","616-355-1581 Amy 1582","accountspayable@hollandbpw.com",null,null,null,null,{"$f":"HYPERLINK(\"#'Client Details'!$B$1\",\"Details\")","v":"Details"},{"$f":"HYPERLINK(Options!$B$1, \"Quote\")","v":"Quote"},{"$f":"HYPERLINK(Options!$B$2,\"Fax\")","v":"Fax"}]
["Holland BPW J.D.Y. Power Plant, City of","Paul Gamby","616-355-1208",null,null,null,null,null,{"$f":"HYPERLINK(\"#'Client Details'!$B$1\",\"Details\")","v":"Details"},{"$f":"HYPERLINK(Options!$B$1, \"Quote\")","v":"Quote"},{"$f":"HYPERLINK(Options!$B$2,\"Fax\")","v":"Fax"}]
["Holland BPW Power Plant, City of (Brugger","Gary Brugger"," 616-355-1205","gbrugger@hollandbpw.com","Maintenance Supervisor","Municipal, Cty","Ottawa",null,{"$f":"HYPERLINK(\"#'Client Details'!$B$1\",\"Details\")","v":"Details"},{"$f":"HYPERLINK(Options!$B$1, \"Quote\")","v":"Quote"},{"$f":"HYPERLINK(Options!$B$2,\"Fax\")","v":"Fax"}]
["Holland BPW Power Plant, City of (Gamby)","Paul Gamby"," 616-355-1208","pgamby@hollandbpw.com","Maintenance Planner","Municipal, Cty","Ottawa",null,{"$f":"HYPERLINK(\"#'Client Details'!$B$1\",\"Details\")","v":"Details"},{"$f":"HYPERLINK(Options!$B$1, \"Quote\")","v":"Quote"},{"$f":"HYPERLINK(Options!$B$2,\"Fax\")","v":"Fax"}]
["Holland BPW Streets Dept., City of","Don Steele","616-355-1646",null,null,null,null,null,{"$f":"HYPERLINK(\"#'Client Details'!$B$1\",\"Details\")","v":"Details"},{"$f":"HYPERLINK(Options!$B$1, \"Quote\")","v":"Quote"},{"$f":"HYPERLINK(Options!$B$2,\"Fax\")","v":"Fax"}]
["Holland BPW Streets Dept., City of (Steel","Don Steele"," 616-355-1646","dsteele@hollandbpw.com","Water / Wastewater Services Su","Municipal, Cty","Ottawa",null,{"$f":"HYPERLINK(\"#'Client Details'!$B$1\",\"Details\")","v":"Details"},{"$f":"HYPERLINK(Options!$B$1, \"Quote\")","v":"Quote"},{"$f":"HYPERLINK(Options!$B$2,\"Fax\")","v":"Fax"}]
["Holland BPW Water Plant, City of","Jim Van De Wege","616-355-1500",null,null,null,null,null,{"$f":"HYPERLINK(\"#'Client Details'!$B$1\",\"Details\")","v":"Details"},{"$f":"HYPERLINK(Options!$B$1, \"Quote\")","v":"Quote"},{"$f":"HYPERLINK(Options!$B$2,\"Fax\")","v":"Fax"}]
["Holland BPW Water Plant, City of (Broene)","David Broene"," 616-355-1587","dbroene@hollandbpw.com",null,"Municipal, Cty","Ottawa",null,{"$f":"HYPERLINK(\"#'Client Details'!$B$1\",\"Details\")","v":"Details"},{"$f":"HYPERLINK(Options!$B$1, \"Quote\")","v":"Quote"},{"$f":"HYPERLINK(Options!$B$2,\"Fax\")","v":"Fax"}]
["Holland BPW Water Plant, City of (Van De","Jim Van De Wege"," 616-355-1698","jvandewege@hollandbpw.com","Superintendent","Municipal, Cty","Ottawa",null,{"$f":"HYPERLINK(\"#'Client Details'!$B$1\",\"Details\")","v":"Details"},{"$f":"HYPERLINK(Options!$B$1, \"Quote\")","v":"Quote"},{"$f":"HYPERLINK(Options!$B$2,\"Fax\")","v":"Fax"}]
["Holland BPW WWTP, City of","Mike Grenier","616-355-1263",null,null,null,null,null,{"$f":"HYPERLINK(\"#'Client Details'!$B$1\",\"Details\")","v":"Details"},{"$f":"HYPERLINK(Options!$B$1, \"Quote\")","v":"Quote"},{"$f":"HYPERLINK(Options!$B$2,\"Fax\")","v":"Fax"}]
["Holland BPW WWTP, City of (Bush)","Bill Bush"," 616-355-1263","wbush@hollandbpw.com",null,"Municipal, Cty","Ottawa",null,{"$f":"HYPERLINK(\"#'Client Details'!$B$1\",\"Details\")","v":"Details"},{"$f":"HYPERLINK(Options!$B$1, \"Quote\")","v":"Quote"},{"$f":"HYPERLINK(Options!$B$2,\"Fax\")","v":"Fax"}]
["Holland BPW WWTP, City of (Grenier)","Mike Grenier"," 616-355-1250","mgrenier@hollandbpw.com","Supervisor",null,"Ottawa",null,{"$f":"HYPERLINK(\"#'Client Details'!$B$1\",\"Details\")","v":"Details"},{"$f":"HYPERLINK(Options!$B$1, \"Quote\")","v":"Quote"},{"$f":"HYPERLINK(Options!$B$2,\"Fax\")","v":"Fax"}]
["Holland BPW WWTP, City of (Hoef)","Dave Ver Hoef"," 616-355-1250",null,"Superintendent","Municipal, Cty","Ottawa",null,{"$f":"HYPERLINK(\"#'Client Details'!$B$1\",\"Details\")","v":"Details"},{"$f":"HYPERLINK(Options!$B$1, \"Quote\")","v":"Quote"},{"$f":"HYPERLINK(Options!$B$2,\"Fax\")","v":"Fax"}]
["Holland BPW, City of (Chatman)","Pat Chatman"," 616-355-1212","pchatman@hollandbpw.com","Stockkeeper",null,"Ottawa",null,{"$f":"HYPERLINK(\"#'Client Details'!$B$1\",\"Details\")","v":"Details"},{"$f":"HYPERLINK(Options!$B$1, \"Quote\")","v":"Quote"},{"$f":"HYPERLINK(Options!$B$2,\"Fax\")","v":"Fax"}]
["Holland BPW, City of (Crumb)","John Crumb"," 616-355-1647","jcrumb@hollandbpw.com","Water / Wastewater Services Su","Municipal, Cty","Ottawa",null,{"$f":"HYPERLINK(\"#'Client Details'!$B$1\",\"Details\")","v":"Details"},{"$f":"HYPERLINK(Options!$B$1, \"Quote\")","v":"Quote"},{"$f":"HYPERLINK(Options!$B$2,\"Fax\")","v":"Fax"}]
["Holland BPW, City of (Harper)","Jack Harper"," 616-355-1621","jharper@hollandbpw.com","Line Crew Supervisor","Municipal, Cty","Ottawa",null,{"$f":"HYPERLINK(\"#'Client Details'!$B$1\",\"Details\")","v":"Details"},{"$f":"HYPERLINK(Options!$B$1, \"Quote\")","v":"Quote"},{"$f":"HYPERLINK(Options!$B$2,\"Fax\")","v":"Fax"}]
["Holland BPW, City of (Hascher)","Paul Hascher"," 616-355-1573","phascher@hollandbpw.com","Safety Director","Municipal, Cty","Ottawa",null,{"$f":"HYPERLINK(\"#'Client Details'!$B$1\",\"Details\")","v":"Details"},{"$f":"HYPERLINK(Options!$B$1, \"Quote\")","v":"Quote"},{"$f":"HYPERLINK(Options!$B$2,\"Fax\")","v":"Fax"}]
["Holland BPW, City of (Heiser)","Fred Heiser"," 616-355-1205","fheiser@hollandbpw.com","Superintendent  JDY Power Plan","Utility/Power","Ottawa",null,{"$f":"HYPERLINK(\"#'Client Details'!$B$1\",\"Details\")","v":"Details"},{"$f":"HYPERLINK(Options!$B$1, \"Quote\")","v":"Quote"},{"$f":"HYPERLINK(Options!$B$2,\"Fax\")","v":"Fax"}]
["Holland BPW, City of (Kragt)","Jim Kragt"," 616-355-1267","jkragt@hollandbpw.com","Lead Maintenance Water/Wastewa","Municipal, Cty","Ottawa",null,{"$f":"HYPERLINK(\"#'Client Details'!$B$1\",\"Details\")","v":"Details"},{"$f":"HYPERLINK(Options!$B$1, \"Quote\")","v":"Quote"},{"$f":"HYPERLINK(Options!$B$2,\"Fax\")","v":"Fax"}]
["Holland BPW, City of (Meurer)","Rita Meurer"," 616-355-1581","rmeurer@hollandbpw.com","Purchasing Agent","Municipal, Cty","Ottawa",null,{"$f":"HYPERLINK(\"#'Client Details'!$B$1\",\"Details\")","v":"Details"},{"$f":"HYPERLINK(Options!$B$1, \"Quote\")","v":"Quote"},{"$f":"HYPERLINK(Options!$B$2,\"Fax\")","v":"Fax"}]
["Holland BPW, City of (Trevino)","Martin Trevino"," 616-218-1781","mtrevino@hollandbpw.com","Service and Maintenance","Municipal, Cty","Ottawa",null,{"$f":"HYPERLINK(\"#'Client Details'!$B$1\",\"Details\")","v":"Details"},{"$f":"HYPERLINK(Options!$B$1, \"Quote\")","v":"Quote"},{"$f":"HYPERLINK(Options!$B$2,\"Fax\")","v":"Fax"}]
["Holland BPW, City of (Willis)","Doug Willis"," 616-355-1623","dwillis@hollandbpw.com","Supervisor, Transmission Group","Municipal, Cty","Ottawa",null,{"$f":"HYPERLINK(\"#'Client Details'!$B$1\",\"Details\")","v":"Details"},{"$f":"HYPERLINK(Options!$B$1, \"Quote\")","v":"Quote"},{"$f":"HYPERLINK(Options!$B$2,\"Fax\")","v":"Fax"}]
["Holland BPW, City of (Yost)","Amy Yost"," 616-355-1582","ayost@hollandbpw.com","Senior Buyer","Municipal, Cty","Ottawa",null,{"$f":"HYPERLINK(\"#'Client Details'!$B$1\",\"Details\")","v":"Details"},{"$f":"HYPERLINK(Options!$B$1, \"Quote\")","v":"Quote"},{"$f":"HYPERLINK(Options!$B$2,\"Fax\")","v":"Fax"}]
["Holland Charter Township","Jeff Landaal","616-396-1891",null,null,null,null,null,{"$f":"HYPERLINK(\"#'Client Details'!$B$1\",\"Details\")","v":"Details"},{"$f":"HYPERLINK(Options!$B$1, \"Quote\")","v":"Quote"},{"$f":"HYPERLINK(Options!$B$2,\"Fax\")","v":"Fax"}]
["Holland Charter Township (Landaal)","Jeff Landaal"," 616-396-1891",null,null,"Municipal, Cty","Ottawa",null,{"$f":"HYPERLINK(\"#'Client Details'!$B$1\",\"Details\")","v":"Details"},{"$f":"HYPERLINK(Options!$B$1, \"Quote\")","v":"Quote"},{"$f":"HYPERLINK(Options!$B$2,\"Fax\")","v":"Fax"}]
["Holland Charter Township (Vanderkolk)","Tom Vanderkolk"," 616-396-2345","tomv@hct.holland.mi.us","Director",null,"Ottawa",null,{"$f":"HYPERLINK(\"#'Client Details'!$B$1\",\"Details\")","v":"Details"},{"$f":"HYPERLINK(Options!$B$1, \"Quote\")","v":"Quote"},{"$f":"HYPERLINK(Options!$B$2,\"Fax\")","v":"Fax"}]
["Holland City of, Human Resources","Chanda Koryto","616-355-1318",null,null,null,null,null,{"$f":"HYPERLINK(\"#'Client Details'!$B$1\",\"Details\")","v":"Details"},{"$f":"HYPERLINK(Options!$B$1, \"Quote\")","v":"Quote"},{"$f":"HYPERLINK(Options!$B$2,\"Fax\")","v":"Fax"}]
["Holland Department of Parks & Cemetery","Andy Kenyon","616-928-2450",null,null,null,null,null,{"$f":"HYPERLINK(\"#'Client Details'!$B$1\",\"Details\")","v":"Details"},{"$f":"HYPERLINK(Options!$B$1, \"Quote\")","v":"Quote"},{"$f":"HYPERLINK(Options!$B$2,\"Fax\")","v":"Fax"}]
["Holland Engineering",null,"616-392-5938",null,null,null,null,null,{"$f":"HYPERLINK(\"#'Client Details'!$B$1\",\"Details\")","v":"Details"},{"$f":"HYPERLINK(Options!$B$1, \"Quote\")","v":"Quote"},{"$f":"HYPERLINK(Options!$B$2,\"Fax\")","v":"Fax"}]
["Holland Engineering (Wasson)","Jerry Wasson"," 616-886-0516","jwasson@hollandengineering.com",null,"Engineering, Architecture","Ottawa",null,{"$f":"HYPERLINK(\"#'Client Details'!$B$1\",\"Details\")","v":"Details"},{"$f":"HYPERLINK(Options!$B$1, \"Quote\")","v":"Quote"},{"$f":"HYPERLINK(Options!$B$2,\"Fax\")","v":"Fax"}]
["Holland Hospital","Bill Graves(subcontractor)","616-394-3163","biomed_equipment@hoho.org",null,null,null,null,{"$f":"HYPERLINK(\"#'Client Details'!$B$1\",\"Details\")","v":"Details"},{"$f":"HYPERLINK(Options!$B$1, \"Quote\")","v":"Quote"},{"$f":"HYPERLINK(Options!$B$2,\"Fax\")","v":"Fax"}]
["Holland Hospital (Frost)","Sue Frost"," 616-394-3144",null,"Building and Engineering Manag","Medical","Ottawa",null,{"$f":"HYPERLINK(\"#'Client Details'!$B$1\",\"Details\")","v":"Details"},{"$f":"HYPERLINK(Options!$B$1, \"Quote\")","v":"Quote"},{"$f":"HYPERLINK(Options!$B$2,\"Fax\")","v":"Fax"}]
["Holland Motor Pool / Streets","Barry Wassink","616-928-2411",null,null,null,null,null,{"$f":"HYPERLINK(\"#'Client Details'!$B$1\",\"Details\")","v":"Details"},{"$f":"HYPERLINK(Options!$B$1, \"Quote\")","v":"Quote"},{"$f":"HYPERLINK(Options!$B$2,\"Fax\")","v":"Fax"}]
["Holland Park and Cemetery, City of (Kenyo","Andy Kenyon"," 616-928-2457","a.kenyon@cityofholland.com","Parks Supervisor","Municipal, Cty","Ottawa",null,{"$f":"HYPERLINK(\"#'Client Details'!$B$1\",\"Details\")","v":"Details"},{"$f":"HYPERLINK(Options!$B$1, \"Quote\")","v":"Quote"},{"$f":"HYPERLINK(Options!$B$2,\"Fax\")","v":"Fax"}]
["Holland Park Dept., City of",null,null,null,null,null,null,null,{"$f":"HYPERLINK(\"#'Client Details'!$B$1\",\"Details\")","v":"Details"},{"$f":"HYPERLINK(Options!$B$1, \"Quote\")","v":"Quote"},{"$f":"HYPERLINK(Options!$B$2,\"Fax\")","v":"Fax"}]
["Holland Transportation Service, City of (","Nick King"," 616-928-2437","king@cityofholland.com","Street Superintendent","Municipal, Cty","Ottawa",null,{"$f":"HYPERLINK(\"#'Client Details'!$B$1\",\"Details\")","v":"Details"},{"$f":"HYPERLINK(Options!$B$1, \"Quote\")","v":"Quote"},{"$f":"HYPERLINK(Options!$B$2,\"Fax\")","v":"Fax"}]
["Holland Transportation Services, City of",null,null,null,null,null,null,null,{"$f":"HYPERLINK(\"#'Client Details'!$B$1\",\"Details\")","v":"Details"},{"$f":"HYPERLINK(Options!$B$1, \"Quote\")","v":"Quote"},{"$f":"HYPERLINK(Options!$B$2,\"Fax\")","v":"Fax"}]
["Holland Windmill, City of","Ad VandenAkker","pronounced ak",null,null,null,null,null,{"$f":"HYPERLINK(\"#'Client Details'!$B$1\",\"Details\")","v":"Details"},{"$f":"HYPERLINK(Options!$B$1, \"Quote\")","v":"Quote"},{"$f":"HYPERLINK(Options!$B$2,\"Fax\")","v":"Fax"}]
["Holland, City of (Rahn)","Gary Rahn"," 616-355-1316","g.rahn@cityofholland.com","Director of Human Resources","Municipal, Cty","Ottawa",null,{"$f":"HYPERLINK(\"#'Client Details'!$B$1\",\"Details\")","v":"Details"},{"$f":"HYPERLINK(Options!$B$1, \"Quote\")","v":"Quote"},{"$f":"HYPERLINK(Options!$B$2,\"Fax\")","v":"Fax"}]
["Hollingsworth & Vose Co.",null,"508-668-0295",null,null,null,null,null,{"$f":"HYPERLINK(\"#'Client Details'!$B$1\",\"Details\")","v":"Details"},{"$f":"HYPERLINK(Options!$B$1, \"Quote\")","v":"Quote"},{"$f":"HYPERLINK(Options!$B$2,\"Fax\")","v":"Fax"}]
["Hollingsworth and Vose (Angus)","Rick Angus"," 978-448-7102","rick.angus@hovo.com",null,"Manufacturer","Out of State",null,{"$f":"HYPERLINK(\"#'Client Details'!$B$1\",\"Details\")","v":"Details"},{"$f":"HYPERLINK(Options!$B$1, \"Quote\")","v":"Quote"},{"$f":"HYPERLINK(Options!$B$2,\"Fax\")","v":"Fax"}]
["Holly Construction","Gary Madill","734-397-0040",null,null,null,null,null,{"$f":"HYPERLINK(\"#'Client Details'!$B$1\",\"Details\")","v":"Details"},{"$f":"HYPERLINK(Options!$B$1, \"Quote\")","v":"Quote"},{"$f":"HYPERLINK(Options!$B$2,\"Fax\")","v":"Fax"}]
["Holly Construction (Madill)","Gary Madill"," 734-397-0040","gary@hollyconst.com","Controller","Contractor General","Wayne",null,{"$f":"HYPERLINK(\"#'Client Details'!$B$1\",\"Details\")","v":"Details"},{"$f":"HYPERLINK(Options!$B$1, \"Quote\")","v":"Quote"},{"$f":"HYPERLINK(Options!$B$2,\"Fax\")","v":"Fax"}]
["Homerich Inc.","accurate / Theresa","989-695-6446",null,null,null,null,null,{"$f":"HYPERLINK(\"#'Client Details'!$B$1\",\"Details\")","v":"Details"},{"$f":"HYPERLINK(Options!$B$1, \"Quote\")","v":"Quote"},{"$f":"HYPERLINK(Options!$B$2,\"Fax\")","v":"Fax"}]
["Honeywell (Castilleja)","Gabriel Castilleja"," 817-215-9807","gabriel.castilleja@honeywell.com",null,"Chemical Pharmaceutical","Out of State",null,{"$f":"HYPERLINK(\"#'Client Details'!$B$1\",\"Details\")","v":"Details"},{"$f":"HYPERLINK(Options!$B$1, \"Quote\")","v":"Quote"},{"$f":"HYPERLINK(Options!$B$2,\"Fax\")","v":"Fax"}]
["Honeywell (Cox)","Mark Cox"," 225-642-4405","mark.cox2@honeywell.com","Buyer","Manufacturer","Out of State",null,{"$f":"HYPERLINK(\"#'Client Details'!$B$1\",\"Details\")","v":"Details"},{"$f":"HYPERLINK(Options!$B$1, \"Quote\")","v":"Quote"},{"$f":"HYPERLINK(Options!$B$2,\"Fax\")","v":"Fax"}]
["Honeywell (Fombell PA)","David Renz",null,null,null,null,null,null,{"$f":"HYPERLINK(\"#'Client Details'!$B$1\",\"Details\")","v":"Details"},{"$f":"HYPERLINK(Options!$B$1, \"Quote\")","v":"Quote"},{"$f":"HYPERLINK(Options!$B$2,\"Fax\")","v":"Fax"}]
["Honeywell (Hopewell)",null,null,"Cell 804-339-7665",null,null,null,null,{"$f":"HYPERLINK(\"#'Client Details'!$B$1\",\"Details\")","v":"Details"},{"$f":"HYPERLINK(Options!$B$1, \"Quote\")","v":"Quote"},{"$f":"HYPERLINK(Options!$B$2,\"Fax\")","v":"Fax"}]
["Honeywell (Metropolis Plant)","Mark Cox",null,null,null,null,null,null,{"$f":"HYPERLINK(\"#'Client Details'!$B$1\",\"Details\")","v":"Details"},{"$f":"HYPERLINK(Options!$B$1, \"Quote\")","v":"Quote"},{"$f":"HYPERLINK(Options!$B$2,\"Fax\")","v":"Fax"}]
["Honeywell (Orange Plant)",null,"480-592-7380 accting",null,null,null,null,null,{"$f":"HYPERLINK(\"#'Client Details'!$B$1\",\"Details\")","v":"Details"},{"$f":"HYPERLINK(Options!$B$1, \"Quote\")","v":"Quote"},{"$f":"HYPERLINK(Options!$B$2,\"Fax\")","v":"Fax"}]
["Honeywell (Pottsville Plant)",null,"accts pabl480-5927380",null,null,null,null,null,{"$f":"HYPERLINK(\"#'Client Details'!$B$1\",\"Details\")","v":"Details"},{"$f":"HYPERLINK(Options!$B$1, \"Quote\")","v":"Quote"},{"$f":"HYPERLINK(Options!$B$2,\"Fax\")","v":"Fax"}]
["Honeywell (Weiss)","Judson Weiss"," 570-621-6211","judson.weiss@honeywell.com",null,"Manufacturer","Out of State",null,{"$f":"HYPERLINK(\"#'Client Details'!$B$1\",\"Details\")","v":"Details"},{"$f":"HYPERLINK(Options!$B$1, \"Quote\")","v":"Quote"},{"$f":"HYPERLINK(Options!$B$2,\"Fax\")","v":"Fax"}]
["Honeywell Analytics (Fritts)","Allen Fritts"," 847-955-8200","Allen.Fritts.jr@honeywell.com","National Sales Manager","Supplier","Out of State",null,{"$f":"HYPERLINK(\"#'Client Details'!$B$1\",\"Details\")","v":"Details"},{"$f":"HYPERLINK(Options!$B$1, \"Quote\")","v":"Quote"},{"$f":"HYPERLINK(Options!$B$2,\"Fax\")","v":"Fax"}]
["Honeywell Analytics (Riggs)","Keith Riggs"," 847-955-8200","keith.riggs@honeywell.com","Great Lakes Regional Sales Man","Supplier","Out of State",null,{"$f":"HYPERLINK(\"#'Client Details'!$B$1\",\"Details\")","v":"Details"},{"$f":"HYPERLINK(Options!$B$1, \"Quote\")","v":"Quote"},{"$f":"HYPERLINK(Options!$B$2,\"Fax\")","v":"Fax"}]
["Honeywell Burdick & Jackson","Bill To: 480-592-7380",null,null,null,null,null,null,{"$f":"HYPERLINK(\"#'Client Details'!$B$1\",\"Details\")","v":"Details"},{"$f":"HYPERLINK(Options!$B$1, \"Quote\")","v":"Quote"},{"$f":"HYPERLINK(Options!$B$2,\"Fax\")","v":"Fax"}]
["Honeywell Burdick & Jackson (Davis)","Dick Davis"," 231-725-6200 6200","richard.davis3@honeywell.com","Safety & Compliance Manager","Chemical Pharmaceutical","Muskegon",null,{"$f":"HYPERLINK(\"#'Client Details'!$B$1\",\"Details\")","v":"Details"},{"$f":"HYPERLINK(Options!$B$1, \"Quote\")","v":"Quote"},{"$f":"HYPERLINK(Options!$B$2,\"Fax\")","v":"Fax"}]
["Honeywell Burdick & Jackson (Halvorson)","Jeff Halvorson"," 231-725-6268","jeff.halvorson@honeywell.com","Safety & Compliance Manager","Chemical Pharmaceutical","Muskegon",null,{"$f":"HYPERLINK(\"#'Client Details'!$B$1\",\"Details\")","v":"Details"},{"$f":"HYPERLINK(Options!$B$1, \"Quote\")","v":"Quote"},{"$f":"HYPERLINK(Options!$B$2,\"Fax\")","v":"Fax"}]
["Honeywell Burdick & Jackson (Hammann)","John Hammann"," 231-725-6260",null,"Safety Director",null,"Muskegon",null,{"$f":"HYPERLINK(\"#'Client Details'!$B$1\",\"Details\")","v":"Details"},{"$f":"HYPERLINK(Options!$B$1, \"Quote\")","v":"Quote"},{"$f":"HYPERLINK(Options!$B$2,\"Fax\")","v":"Fax"}]
["Honeywell Burdick & Jackson (North)","Dave North"," 231-725-6224 6224","dave.north@honeywell.com","Production Specialist","Chemical Pharmaceutical","Muskegon",null,{"$f":"HYPERLINK(\"#'Client Details'!$B$1\",\"Details\")","v":"Details"},{"$f":"HYPERLINK(Options!$B$1, \"Quote\")","v":"Quote"},{"$f":"HYPERLINK(Options!$B$2,\"Fax\")","v":"Fax"}]
["Honeywell Burdick & Jackson (Riggs)","Tim Riggs"," 231-725-6229","tim.riggs@honeywell.com",null,"Chemical Pharmaceutical","Muskegon",null,{"$f":"HYPERLINK(\"#'Client Details'!$B$1\",\"Details\")","v":"Details"},{"$f":"HYPERLINK(Options!$B$1, \"Quote\")","v":"Quote"},{"$f":"HYPERLINK(Options!$B$2,\"Fax\")","v":"Fax"}]
["Honeywell Danville (Suits)","Brett Suits"," 217-446-4700 24","brett.suits@honeywell.com",null,"Manufacturer","Out of State",null,{"$f":"HYPERLINK(\"#'Client Details'!$B$1\",\"Details\")","v":"Details"},{"$f":"HYPERLINK(Options!$B$1, \"Quote\")","v":"Quote"},{"$f":"HYPERLINK(Options!$B$2,\"Fax\")","v":"Fax"}]
["Honeywell Electronic Materials (Renz)","David Renz"," 724-452-1179","david.renz@honeywell.com",null,"Manufacturer","Out of State",null,{"$f":"HYPERLINK(\"#'Client Details'!$B$1\",\"Details\")","v":"Details"},{"$f":"HYPERLINK(Options!$B$1, \"Quote\")","v":"Quote"},{"$f":"HYPERLINK(Options!$B$2,\"Fax\")","v":"Fax"}]
["Hope College (Gunnink)","Jerry Gunnink"," 616-395-7770","gunnink@hope.edu","Director of Occupational Healt","University","Ottawa",null,{"$f":"HYPERLINK(\"#'Client Details'!$B$1\",\"Details\")","v":"Details"},{"$f":"HYPERLINK(Options!$B$1, \"Quote\")","v":"Quote"},{"$f":"HYPERLINK(Options!$B$2,\"Fax\")","v":"Fax"}]
["Hope College (Maybury)","Greg Maybury"," 616-395-7671","maybury@hope.edu","Director of Operations","University","Ottawa",null,{"$f":"HYPERLINK(\"#'Client Details'!$B$1\",\"Details\")","v":"Details"},{"$f":"HYPERLINK(Options!$B$1, \"Quote\")","v":"Quote"},{"$f":"HYPERLINK(Options!$B$2,\"Fax\")","v":"Fax"}]
["Hopkins Township (Evans)","Mark Evans"," 269-793-3184",null,"Supervisor","Municipal, Cty","Allegan",null,{"$f":"HYPERLINK(\"#'Client Details'!$B$1\",\"Details\")","v":"Details"},{"$f":"HYPERLINK(Options!$B$1, \"Quote\")","v":"Quote"},{"$f":"HYPERLINK(Options!$B$2,\"Fax\")","v":"Fax"}]
["Horizon Environmental","Bill Farrell","616-554-3210",null,null,null,null,null,{"$f":"HYPERLINK(\"#'Client Details'!$B$1\",\"Details\")","v":"Details"},{"$f":"HYPERLINK(Options!$B$1, \"Quote\")","v":"Quote"},{"$f":"HYPERLINK(Options!$B$2,\"Fax\")","v":"Fax"}]
["Horizon Environmental (Farrell)","Bill Farrell"," 616-554-3210","wjfarrell@horizonenv.com","Sr. Project Toxicologist","Contractor EH&S","Kent",null,{"$f":"HYPERLINK(\"#'Client Details'!$B$1\",\"Details\")","v":"Details"},{"$f":"HYPERLINK(Options!$B$1, \"Quote\")","v":"Quote"},{"$f":"HYPERLINK(Options!$B$2,\"Fax\")","v":"Fax"}]
["Horizon Environmental' (Kilmer)","Doug Kilmer"," 616-554-3210","dskilmer@horizonenv.com","Sr. Project Geologist","Contractor EH&S","Kent",null,{"$f":"HYPERLINK(\"#'Client Details'!$B$1\",\"Details\")","v":"Details"},{"$f":"HYPERLINK(Options!$B$1, \"Quote\")","v":"Quote"},{"$f":"HYPERLINK(Options!$B$2,\"Fax\")","v":"Fax"}]
["Horizon Environmental (Smith)","KC Smith"," 616-554-3210",null,null,"Contractor EH&S","Kent",null,{"$f":"HYPERLINK(\"#'Client Details'!$B$1\",\"Details\")","v":"Details"},{"$f":"HYPERLINK(Options!$B$1, \"Quote\")","v":"Quote"},{"$f":"HYPERLINK(Options!$B$2,\"Fax\")","v":"Fax"}]
["Horn & Associates Inc.","David Horn","859-744-2232",null,null,null,null,null,{"$f":"HYPERLINK(\"#'Client Details'!$B$1\",\"Details\")","v":"Details"},{"$f":"HYPERLINK(Options!$B$1, \"Quote\")","v":"Quote"},{"$f":"HYPERLINK(Options!$B$2,\"Fax\")","v":"Fax"}]
["Hortech, Inc. (Baar)","Brandon Baar"," 616-842-1392","brandon@hortech.com","Human Resource Manager",null,"Ottawa",null,{"$f":"HYPERLINK(\"#'Client Details'!$B$1\",\"Details\")","v":"Details"},{"$f":"HYPERLINK(Options!$B$1, \"Quote\")","v":"Quote"},{"$f":"HYPERLINK(Options!$B$2,\"Fax\")","v":"Fax"}]
["House of Flavors, Inc. (Klinger)","Doug Klinger"," 231-845-7369",null,"Safety Director","Food","Mason",null,{"$f":"HYPERLINK(\"#'Client Details'!$B$1\",\"Details\")","v":"Details"},{"$f":"HYPERLINK(Options!$B$1, \"Quote\")","v":"Quote"},{"$f":"HYPERLINK(Options!$B$2,\"Fax\")","v":"Fax"}]
["Howard Miller (Sawyer)","Dave Sawyer"," 616-772-7277 221",null,"Human Resource Manager","Manufacturer","Ottawa",null,{"$f":"HYPERLINK(\"#'Client Details'!$B$1\",\"Details\")","v":"Details"},{"$f":"HYPERLINK(Options!$B$1, \"Quote\")","v":"Quote"},{"$f":"HYPERLINK(Options!$B$2,\"Fax\")","v":"Fax"}]
["Hsingo Engineering Co. Ltd. (Tseng)","Richard Tseng",null,"hsingo.tw@msa.hinet.net",null,null,"Out of State",null,{"$f":"HYPERLINK(\"#'Client Details'!$B$1\",\"Details\")","v":"Details"},{"$f":"HYPERLINK(Options!$B$1, \"Quote\")","v":"Quote"},{"$f":"HYPERLINK(Options!$B$2,\"Fax\")","v":"Fax"}]
["HTI (Ingersoll)","Kevin Ingersoll"," 616-698-7270","kingersoll@heatxfer.com","Buyer","Manufacturer","Kent",null,{"$f":"HYPERLINK(\"#'Client Details'!$B$1\",\"Details\")","v":"Details"},{"$f":"HYPERLINK(Options!$B$1, \"Quote\")","v":"Quote"},{"$f":"HYPERLINK(Options!$B$2,\"Fax\")","v":"Fax"}]
["Hubbard Plumbing & Drains Inc.",null,"269-962-1070",null,null,null,null,null,{"$f":"HYPERLINK(\"#'Client Details'!$B$1\",\"Details\")","v":"Details"},{"$f":"HYPERLINK(Options!$B$1, \"Quote\")","v":"Quote"},{"$f":"HYPERLINK(Options!$B$2,\"Fax\")","v":"Fax"}]
["Hubbardston, Village of","Everett Genereux","989-981-6768",null,null,null,null,null,{"$f":"HYPERLINK(\"#'Client Details'!$B$1\",\"Details\")","v":"Details"},{"$f":"HYPERLINK(Options!$B$1, \"Quote\")","v":"Quote"},{"$f":"HYPERLINK(Options!$B$2,\"Fax\")","v":"Fax"}]
["Hubbardston, Village of (Genereux)","Everett Genereux"," 989-981-6768",null,"Cheif",null,"N/A",null,{"$f":"HYPERLINK(\"#'Client Details'!$B$1\",\"Details\")","v":"Details"},{"$f":"HYPERLINK(Options!$B$1, \"Quote\")","v":"Quote"},{"$f":"HYPERLINK(Options!$B$2,\"Fax\")","v":"Fax"}]
["Hubbell Roth & Clark, Inc.","Thomas Maxwell","248-454-6300",null,null,null,null,null,{"$f":"HYPERLINK(\"#'Client Details'!$B$1\",\"Details\")","v":"Details"},{"$f":"HYPERLINK(Options!$B$1, \"Quote\")","v":"Quote"},{"$f":"HYPERLINK(Options!$B$2,\"Fax\")","v":"Fax"}]
["Hubbell, Roth & Clark, Inc. (Benoit)","Dennis Benoit"," 616-454-4286","dbenoit@hrc-engr.com",null,"Engineering, Architecture","Kent",null,{"$f":"HYPERLINK(\"#'Client Details'!$B$1\",\"Details\")","v":"Details"},{"$f":"HYPERLINK(Options!$B$1, \"Quote\")","v":"Quote"},{"$f":"HYPERLINK(Options!$B$2,\"Fax\")","v":"Fax"}]
["Hudsonville Creamery & Ice Cream Company","Chris Polich"," 616-546-4005","chris@hudsonvilleicecream.com","Plant Superintendent","Food","Ottawa",null,{"$f":"HYPERLINK(\"#'Client Details'!$B$1\",\"Details\")","v":"Details"},{"$f":"HYPERLINK(Options!$B$1, \"Quote\")","v":"Quote"},{"$f":"HYPERLINK(Options!$B$2,\"Fax\")","v":"Fax"}]
["Hudsonville Creamery & Ice Cream Company","Chris Polich"," 616-546-4005","chris@hudsonvilleicecream.com","Plant Superintendent","Food","Ottawa",null,{"$f":"HYPERLINK(\"#'Client Details'!$B$1\",\"Details\")","v":"Details"},{"$f":"HYPERLINK(Options!$B$1, \"Quote\")","v":"Quote"},{"$f":"HYPERLINK(Options!$B$2,\"Fax\")","v":"Fax"}]
["Hudsonville Creamery & Ice Cream Company","Chris Polich"," 616-546-4005","chris@hudsonvilleicecream.com","Plant Superintendent","Food","Ottawa",null,{"$f":"HYPERLINK(\"#'Client Details'!$B$1\",\"Details\")","v":"Details"},{"$f":"HYPERLINK(Options!$B$1, \"Quote\")","v":"Quote"},{"$f":"HYPERLINK(Options!$B$2,\"Fax\")","v":"Fax"}]
["Hudsonville DPW, City of","Dan \"Dutch\" Besteman x-424","616-669-0200","@hudsonville.org",null,null,null,null,{"$f":"HYPERLINK(\"#'Client Details'!$B$1\",\"Details\")","v":"Details"},{"$f":"HYPERLINK(Options!$B$1, \"Quote\")","v":"Quote"},{"$f":"HYPERLINK(Options!$B$2,\"Fax\")","v":"Fax"}]
["Hudsonville DPW, City of (Besteman)","Dutch Besteman"," 616-669-7196","dbestema@hudsonville.org","Superintendent","Municipal, Cty","Ottawa",null,{"$f":"HYPERLINK(\"#'Client Details'!$B$1\",\"Details\")","v":"Details"},{"$f":"HYPERLINK(Options!$B$1, \"Quote\")","v":"Quote"},{"$f":"HYPERLINK(Options!$B$2,\"Fax\")","v":"Fax"}]
["Hudsonville DPW, City of (Lambert)","Amy Lambert"," 616-669-7196","alambert@hudsonville.org",null,"Municipal, Cty","Ottawa",null,{"$f":"HYPERLINK(\"#'Client Details'!$B$1\",\"Details\")","v":"Details"},{"$f":"HYPERLINK(Options!$B$1, \"Quote\")","v":"Quote"},{"$f":"HYPERLINK(Options!$B$2,\"Fax\")","v":"Fax"}]
["Hughes Builders (Hughes)","Randy Hughes"," 231-773-0077","randy@hughesbuildersinc.net","Co-Owner","Contractor General","Muskegon",null,{"$f":"HYPERLINK(\"#'Client Details'!$B$1\",\"Details\")","v":"Details"},{"$f":"HYPERLINK(Options!$B$1, \"Quote\")","v":"Quote"},{"$f":"HYPERLINK(Options!$B$2,\"Fax\")","v":"Fax"}]
["Hukill Environmental Services","Frank Simcic","440-399-0624 Michell",null,null,null,null,null,{"$f":"HYPERLINK(\"#'Client Details'!$B$1\",\"Details\")","v":"Details"},{"$f":"HYPERLINK(Options!$B$1, \"Quote\")","v":"Quote"},{"$f":"HYPERLINK(Options!$B$2,\"Fax\")","v":"Fax"}]
["Huron Fire Dept.","Kevin Gadd","419-433-3544",null,null,null,null,null,{"$f":"HYPERLINK(\"#'Client Details'!$B$1\",\"Details\")","v":"Details"},{"$f":"HYPERLINK(Options!$B$1, \"Quote\")","v":"Quote"},{"$f":"HYPERLINK(Options!$B$2,\"Fax\")","v":"Fax"}]
["Huron Sales & Marketing (Todd)","Jim Todd"," 614-442-0368","jtodd1@columbus.rr.com",null,"Representative","Out of State",null,{"$f":"HYPERLINK(\"#'Client Details'!$B$1\",\"Details\")","v":"Details"},{"$f":"HYPERLINK(Options!$B$1, \"Quote\")","v":"Quote"},{"$f":"HYPERLINK(Options!$B$2,\"Fax\")","v":"Fax"}]
["Hurst Industries",null,"616-784-4040","tdupont@hurstind.com",null,null,null,null,{"$f":"HYPERLINK(\"#'Client Details'!$B$1\",\"Details\")","v":"Details"},{"$f":"HYPERLINK(Options!$B$1, \"Quote\")","v":"Quote"},{"$f":"HYPERLINK(Options!$B$2,\"Fax\")","v":"Fax"}]
["Hurst Mechanical (Borst)","Russ Borst"," 616-784-4040","russ@hurstind.com","V.P. Service","Contractor General","Kent",null,{"$f":"HYPERLINK(\"#'Client Details'!$B$1\",\"Details\")","v":"Details"},{"$f":"HYPERLINK(Options!$B$1, \"Quote\")","v":"Quote"},{"$f":"HYPERLINK(Options!$B$2,\"Fax\")","v":"Fax"}]
["Hurst Mechanical (Vereeke)","Gary Vereeke"," 616-784-4040",null,null,"Contractor General","Kent",null,{"$f":"HYPERLINK(\"#'Client Details'!$B$1\",\"Details\")","v":"Details"},{"$f":"HYPERLINK(Options!$B$1, \"Quote\")","v":"Quote"},{"$f":"HYPERLINK(Options!$B$2,\"Fax\")","v":"Fax"}]
["Hydaker Wheatlike (Sims)","Mike Sims"," 231-832-1170","mike_sims@rcpls.com","Safety Director","Utility","Osceola",null,{"$f":"HYPERLINK(\"#'Client Details'!$B$1\",\"Details\")","v":"Details"},{"$f":"HYPERLINK(Options!$B$1, \"Quote\")","v":"Quote"},{"$f":"HYPERLINK(Options!$B$2,\"Fax\")","v":"Fax"}]
["Hy-Safe Inc. (Anzaldi)","Chuck Anzaldi"," 877-485-7387","canzaldi@hysafetech.com","Inside Sales","Supplier","Out of State",null,{"$f":"HYPERLINK(\"#'Client Details'!$B$1\",\"Details\")","v":"Details"},{"$f":"HYPERLINK(Options!$B$1, \"Quote\")","v":"Quote"},{"$f":"HYPERLINK(Options!$B$2,\"Fax\")","v":"Fax"}]
["ICC Electric","Allen Woern","616-886-8084","awoern@icc-electric.com",null,null,null,null,{"$f":"HYPERLINK(\"#'Client Details'!$B$1\",\"Details\")","v":"Details"},{"$f":"HYPERLINK(Options!$B$1, \"Quote\")","v":"Quote"},{"$f":"HYPERLINK(Options!$B$2,\"Fax\")","v":"Fax"}]
["Ice Mountain","David Jeffery","231-823-8100",null,null,null,null,null,{"$f":"HYPERLINK(\"#'Client Details'!$B$1\",\"Details\")","v":"Details"},{"$f":"HYPERLINK(Options!$B$1, \"Quote\")","v":"Quote"},{"$f":"HYPERLINK(Options!$B$2,\"Fax\")","v":"Fax"}]
["ICON Safety (Wong)","Liam Wong"," 562-809-3066 102","lwong@iconsafetyco.com",null,"Supplier","Out of State",null,{"$f":"HYPERLINK(\"#'Client Details'!$B$1\",\"Details\")","v":"Details"},{"$f":"HYPERLINK(Options!$B$1, \"Quote\")","v":"Quote"},{"$f":"HYPERLINK(Options!$B$2,\"Fax\")","v":"Fax"}]
["IDG - Northeast Division","Kevin LaBonte","906-774-3991",null,null,null,null,null,{"$f":"HYPERLINK(\"#'Client Details'!$B$1\",\"Details\")","v":"Details"},{"$f":"HYPERLINK(Options!$B$1, \"Quote\")","v":"Quote"},{"$f":"HYPERLINK(Options!$B$2,\"Fax\")","v":"Fax"}]
["IHMC (Morris)","Rich Morris"," 616-238-9157","maint@ihmparish.com",null,null,"Kent",null,{"$f":"HYPERLINK(\"#'Client Details'!$B$1\",\"Details\")","v":"Details"},{"$f":"HYPERLINK(Options!$B$1, \"Quote\")","v":"Quote"},{"$f":"HYPERLINK(Options!$B$2,\"Fax\")","v":"Fax"}]
["IHSC, Inc.","Bob Dupont","941-485-6050",null,null,null,null,null,{"$f":"HYPERLINK(\"#'Client Details'!$B$1\",\"Details\")","v":"Details"},{"$f":"HYPERLINK(Options!$B$1, \"Quote\")","v":"Quote"},{"$f":"HYPERLINK(Options!$B$2,\"Fax\")","v":"Fax"}]
["IHSC, Inc. (Dupont)","Bob Dupont"," 941-485-6050","rdupont@ihscinc.com",null,"Supplier","Out of State",null,{"$f":"HYPERLINK(\"#'Client Details'!$B$1\",\"Details\")","v":"Details"},{"$f":"HYPERLINK(Options!$B$1, \"Quote\")","v":"Quote"},{"$f":"HYPERLINK(Options!$B$2,\"Fax\")","v":"Fax"}]
["II Stanley Co., Inc. (Slater)","Peter Slater"," 269-660-7777 2313","peter_slater@iistanleybc.com","EH&S Manager","Automotive","Calhoun",null,{"$f":"HYPERLINK(\"#'Client Details'!$B$1\",\"Details\")","v":"Details"},{"$f":"HYPERLINK(Options!$B$1, \"Quote\")","v":"Quote"},{"$f":"HYPERLINK(Options!$B$2,\"Fax\")","v":"Fax"}]
["ILC Dover",null,"302-335-3911","persaa@ilcdover.com",null,null,null,null,{"$f":"HYPERLINK(\"#'Client Details'!$B$1\",\"Details\")","v":"Details"},{"$f":"HYPERLINK(Options!$B$1, \"Quote\")","v":"Quote"},{"$f":"HYPERLINK(Options!$B$2,\"Fax\")","v":"Fax"}]
["ILC Dover (Edwards)","Thomas Edwards"," 302-335-3911 339","tom.edwards@ilcdover.com","Sr. Design Engineer","Manufacturer","Out of State",null,{"$f":"HYPERLINK(\"#'Client Details'!$B$1\",\"Details\")","v":"Details"},{"$f":"HYPERLINK(Options!$B$1, \"Quote\")","v":"Quote"},{"$f":"HYPERLINK(Options!$B$2,\"Fax\")","v":"Fax"}]
["IMC Potash Hersey Inc. (Folkertsma)","Ken Folkertsma"," 231-832-1208",null,null,"Mining","Osceola",null,{"$f":"HYPERLINK(\"#'Client Details'!$B$1\",\"Details\")","v":"Details"},{"$f":"HYPERLINK(Options!$B$1, \"Quote\")","v":"Quote"},{"$f":"HYPERLINK(Options!$B$2,\"Fax\")","v":"Fax"}]
["IMC Potash Hersey Inc. (Wagner)","Ellen Wagner"," 231-832-1208","eawagner@imcglobal.com","EHS Supervisor","Mining","Osceola",null,{"$f":"HYPERLINK(\"#'Client Details'!$B$1\",\"Details\")","v":"Details"},{"$f":"HYPERLINK(Options!$B$1, \"Quote\")","v":"Quote"},{"$f":"HYPERLINK(Options!$B$2,\"Fax\")","v":"Fax"}]
["IMCC (Bruesch)","Chuck Bruesch"," 231-798-8575",null,null,null,"Muskegon",null,{"$f":"HYPERLINK(\"#'Client Details'!$B$1\",\"Details\")","v":"Details"},{"$f":"HYPERLINK(Options!$B$1, \"Quote\")","v":"Quote"},{"$f":"HYPERLINK(Options!$B$2,\"Fax\")","v":"Fax"}]
["Imco Reinforced Plastics, Inc. (Price)","Bill Price"," 800-899-4626","imcofrp@netzero.net",null,"Supplier","Out of State",null,{"$f":"HYPERLINK(\"#'Client Details'!$B$1\",\"Details\")","v":"Details"},{"$f":"HYPERLINK(Options!$B$1, \"Quote\")","v":"Quote"},{"$f":"HYPERLINK(Options!$B$2,\"Fax\")","v":"Fax"}]
["Imlay City Fire Department, City of (Reav","Kip Reaves"," 810-724-6262","kreaves@imlaycity.org",null,"Fire Department","Lapeer",null,{"$f":"HYPERLINK(\"#'Client Details'!$B$1\",\"Details\")","v":"Details"},{"$f":"HYPERLINK(Options!$B$1, \"Quote\")","v":"Quote"},{"$f":"HYPERLINK(Options!$B$2,\"Fax\")","v":"Fax"}]
["Impact Environmental Services","Gary LePine","734-955-9500",null,null,null,null,null,{"$f":"HYPERLINK(\"#'Client Details'!$B$1\",\"Details\")","v":"Details"},{"$f":"HYPERLINK(Options!$B$1, \"Quote\")","v":"Quote"},{"$f":"HYPERLINK(Options!$B$2,\"Fax\")","v":"Fax"}]
["Impact Environmental Services (LePine)","Gary LePine"," 734-955-9500",null,null,"Contractor EH&S","Wayne",null,{"$f":"HYPERLINK(\"#'Client Details'!$B$1\",\"Details\")","v":"Details"},{"$f":"HYPERLINK(Options!$B$1, \"Quote\")","v":"Quote"},{"$f":"HYPERLINK(Options!$B$2,\"Fax\")","v":"Fax"}]
["Independence Township",null,"248-625-1924",null,null,null,null,null,{"$f":"HYPERLINK(\"#'Client Details'!$B$1\",\"Details\")","v":"Details"},{"$f":"HYPERLINK(Options!$B$1, \"Quote\")","v":"Quote"},{"$f":"HYPERLINK(Options!$B$2,\"Fax\")","v":"Fax"}]
["Indian Point Energy Center","Scott Bianco","845-597-5580",null,null,null,null,null,{"$f":"HYPERLINK(\"#'Client Details'!$B$1\",\"Details\")","v":"Details"},{"$f":"HYPERLINK(Options!$B$1, \"Quote\")","v":"Quote"},{"$f":"HYPERLINK(Options!$B$2,\"Fax\")","v":"Fax"}]
["Indian Point Energy Center (Monahan)","Brendan Monahan"," 914-804-4819","bmonaha@entergy.com",null,"Utility","Out of State",null,{"$f":"HYPERLINK(\"#'Client Details'!$B$1\",\"Details\")","v":"Details"},{"$f":"HYPERLINK(Options!$B$1, \"Quote\")","v":"Quote"},{"$f":"HYPERLINK(Options!$B$2,\"Fax\")","v":"Fax"}]
["Industrial Health Sciences, Inc. (Krebs)","William H. Krebs"," 313-885-8225","whkrebs@umich.edu","President","Contractor EH&S","Macomb",null,{"$f":"HYPERLINK(\"#'Client Details'!$B$1\",\"Details\")","v":"Details"},{"$f":"HYPERLINK(Options!$B$1, \"Quote\")","v":"Quote"},{"$f":"HYPERLINK(Options!$B$2,\"Fax\")","v":"Fax"}]
["Industrial Resources","Tony Varga","616-791-7500",null,null,null,null,null,{"$f":"HYPERLINK(\"#'Client Details'!$B$1\",\"Details\")","v":"Details"},{"$f":"HYPERLINK(Options!$B$1, \"Quote\")","v":"Quote"},{"$f":"HYPERLINK(Options!$B$2,\"Fax\")","v":"Fax"}]
["Industrial Safety Products","Tom Coneglio","216-524-0360",null,null,null,null,null,{"$f":"HYPERLINK(\"#'Client Details'!$B$1\",\"Details\")","v":"Details"},{"$f":"HYPERLINK(Options!$B$1, \"Quote\")","v":"Quote"},{"$f":"HYPERLINK(Options!$B$2,\"Fax\")","v":"Fax"}]
["Industrial Safety Products (Coneglio)","Tom Coneglio"," 216-524-0360","tconeglio@indsaf.com","Gas Detection/Calibration","Competitor","Cuyahoga",null,{"$f":"HYPERLINK(\"#'Client Details'!$B$1\",\"Details\")","v":"Details"},{"$f":"HYPERLINK(Options!$B$1, \"Quote\")","v":"Quote"},{"$f":"HYPERLINK(Options!$B$2,\"Fax\")","v":"Fax"}]
["Industrial Scientific (Milne)","Kevin Milne"," 800-338-3287","kmilne@indsci.com","District Sales Manager","Supplier","Out of State",null,{"$f":"HYPERLINK(\"#'Client Details'!$B$1\",\"Details\")","v":"Details"},{"$f":"HYPERLINK(Options!$B$1, \"Quote\")","v":"Quote"},{"$f":"HYPERLINK(Options!$B$2,\"Fax\")","v":"Fax"}]
["Industrial Stainless Inc.",null,"920-497-1861","mikeh@industrialstainlessinc.com",null,null,null,null,{"$f":"HYPERLINK(\"#'Client Details'!$B$1\",\"Details\")","v":"Details"},{"$f":"HYPERLINK(Options!$B$1, \"Quote\")","v":"Quote"},{"$f":"HYPERLINK(Options!$B$2,\"Fax\")","v":"Fax"}]
["Industrial Stainless Inc. (Hebel)","Mike Hebel"," 920-593-6101","mikeh@industrialstainlessinc.com",null,"Manufacturer","Out of State",null,{"$f":"HYPERLINK(\"#'Client Details'!$B$1\",\"Details\")","v":"Details"},{"$f":"HYPERLINK(Options!$B$1, \"Quote\")","v":"Quote"},{"$f":"HYPERLINK(Options!$B$2,\"Fax\")","v":"Fax"}]
["Infrasource (Perry)","Shannon Perry"," 616-784-1313","shannon.perry@infrasourceinc.com",null,"Contractor General","Kent",null,{"$f":"HYPERLINK(\"#'Client Details'!$B$1\",\"Details\")","v":"Details"},{"$f":"HYPERLINK(Options!$B$1, \"Quote\")","v":"Quote"},{"$f":"HYPERLINK(Options!$B$2,\"Fax\")","v":"Fax"}]
["Infrastructure Alternatives (Kuhlman)","Teri Kuhlman"," 616-647-3300",null,null,"Contractor General","Kent",null,{"$f":"HYPERLINK(\"#'Client Details'!$B$1\",\"Details\")","v":"Details"},{"$f":"HYPERLINK(Options!$B$1, \"Quote\")","v":"Quote"},{"$f":"HYPERLINK(Options!$B$2,\"Fax\")","v":"Fax"}]
["Infrastructure Services","Rick Balas","419-467-0143",null,null,null,null,null,{"$f":"HYPERLINK(\"#'Client Details'!$B$1\",\"Details\")","v":"Details"},{"$f":"HYPERLINK(Options!$B$1, \"Quote\")","v":"Quote"},{"$f":"HYPERLINK(Options!$B$2,\"Fax\")","v":"Fax"}]
["Ingham County (Hudgins)","Jim Hudgins"," 517-676-7309","jhudgins@ingham.org",null,"Municipal, Cty","Ingham",null,{"$f":"HYPERLINK(\"#'Client Details'!$B$1\",\"Details\")","v":"Details"},{"$f":"HYPERLINK(Options!$B$1, \"Quote\")","v":"Quote"},{"$f":"HYPERLINK(Options!$B$2,\"Fax\")","v":"Fax"}]
["Ingham County Parks (Buckley)","Tim Buckley"," 517-676-7190","tbuckley@ingham.org",null,"Municipal, Cty","Ingham",null,{"$f":"HYPERLINK(\"#'Client Details'!$B$1\",\"Details\")","v":"Details"},{"$f":"HYPERLINK(Options!$B$1, \"Quote\")","v":"Quote"},{"$f":"HYPERLINK(Options!$B$2,\"Fax\")","v":"Fax"}]
["Ingham County Parks (Emens)","Coe Emens"," 517-749-2493","cemens@ingham.org",null,"Municipal, Cty","Ingham",null,{"$f":"HYPERLINK(\"#'Client Details'!$B$1\",\"Details\")","v":"Details"},{"$f":"HYPERLINK(Options!$B$1, \"Quote\")","v":"Quote"},{"$f":"HYPERLINK(Options!$B$2,\"Fax\")","v":"Fax"}]
["Ingham County Parks Dept. (Hawk Island)",null,null,null,null,null,null,null,{"$f":"HYPERLINK(\"#'Client Details'!$B$1\",\"Details\")","v":"Details"},{"$f":"HYPERLINK(Options!$B$1, \"Quote\")","v":"Quote"},{"$f":"HYPERLINK(Options!$B$2,\"Fax\")","v":"Fax"}]
["Inland Environmental Services","John Adams","888-355-5547",null,null,null,null,null,{"$f":"HYPERLINK(\"#'Client Details'!$B$1\",\"Details\")","v":"Details"},{"$f":"HYPERLINK(Options!$B$1, \"Quote\")","v":"Quote"},{"$f":"HYPERLINK(Options!$B$2,\"Fax\")","v":"Fax"}]
["Inland Environmental Services (Adams)","John Adams"," 888-355-5547",null,"Crew Leader","Contractor EH&S","Kent",null,{"$f":"HYPERLINK(\"#'Client Details'!$B$1\",\"Details\")","v":"Details"},{"$f":"HYPERLINK(Options!$B$1, \"Quote\")","v":"Quote"},{"$f":"HYPERLINK(Options!$B$2,\"Fax\")","v":"Fax"}]
["Inland Environmental Services (Jensen)","Tom Jensen"," 616-975-1942","tjensen@inlandservices.com","Vice President","Contractor EH&S","Kent",null,{"$f":"HYPERLINK(\"#'Client Details'!$B$1\",\"Details\")","v":"Details"},{"$f":"HYPERLINK(Options!$B$1, \"Quote\")","v":"Quote"},{"$f":"HYPERLINK(Options!$B$2,\"Fax\")","v":"Fax"}]
["Ino-Teck Inc.","Aaron Hutchinson","586-336-0856",null,null,null,null,null,{"$f":"HYPERLINK(\"#'Client Details'!$B$1\",\"Details\")","v":"Details"},{"$f":"HYPERLINK(Options!$B$1, \"Quote\")","v":"Quote"},{"$f":"HYPERLINK(Options!$B$2,\"Fax\")","v":"Fax"}]
["Insituform Technologies USA","Jim Doumouras","630-257-2200 ext. 116",null,null,null,null,null,{"$f":"HYPERLINK(\"#'Client Details'!$B$1\",\"Details\")","v":"Details"},{"$f":"HYPERLINK(Options!$B$1, \"Quote\")","v":"Quote"},{"$f":"HYPERLINK(Options!$B$2,\"Fax\")","v":"Fax"}]
["Integrated Building Solutions","Matt Tomes","889-3070",null,null,null,null,null,{"$f":"HYPERLINK(\"#'Client Details'!$B$1\",\"Details\")","v":"Details"},{"$f":"HYPERLINK(Options!$B$1, \"Quote\")","v":"Quote"},{"$f":"HYPERLINK(Options!$B$2,\"Fax\")","v":"Fax"}]
["Integrated Building Solutions (Damic)","Kevin Damic",null,"kdamic@ibscontrols.com",null,"Contractor General","Kent",null,{"$f":"HYPERLINK(\"#'Client Details'!$B$1\",\"Details\")","v":"Details"},{"$f":"HYPERLINK(Options!$B$1, \"Quote\")","v":"Quote"},{"$f":"HYPERLINK(Options!$B$2,\"Fax\")","v":"Fax"}]
["Integrated Building Solutions (Tomes)","Matt Tomes",null,"matt@ibscontrols.com",null,"Contractor General","Kent",null,{"$f":"HYPERLINK(\"#'Client Details'!$B$1\",\"Details\")","v":"Details"},{"$f":"HYPERLINK(Options!$B$1, \"Quote\")","v":"Quote"},{"$f":"HYPERLINK(Options!$B$2,\"Fax\")","v":"Fax"}]
["Integrated Fabric Resource (Stockdale)","Todd Stockdale"," 616-772-2052 109","toddsto@ifrinc.com","Vice President of Operations a",null,"Ottawa",null,{"$f":"HYPERLINK(\"#'Client Details'!$B$1\",\"Details\")","v":"Details"},{"$f":"HYPERLINK(Options!$B$1, \"Quote\")","v":"Quote"},{"$f":"HYPERLINK(Options!$B$2,\"Fax\")","v":"Fax"}]
["Integrity Tree Service","Tim Guikema","616-895-9600",null,null,null,null,null,{"$f":"HYPERLINK(\"#'Client Details'!$B$1\",\"Details\")","v":"Details"},{"$f":"HYPERLINK(Options!$B$1, \"Quote\")","v":"Quote"},{"$f":"HYPERLINK(Options!$B$2,\"Fax\")","v":"Fax"}]
["Integrity Tree Service (Guikema)","Tim Guikema"," 616-895-9600","timg@integritytree.com",null,"Contractor General","Ottawa",null,{"$f":"HYPERLINK(\"#'Client Details'!$B$1\",\"Details\")","v":"Details"},{"$f":"HYPERLINK(Options!$B$1, \"Quote\")","v":"Quote"},{"$f":"HYPERLINK(Options!$B$2,\"Fax\")","v":"Fax"}]
["Intercon Messaging Inc. (Linde)","Nicole Linde"," 877-999-5581","nlinde@interconmessaging.com",null,"Other","Out of State",null,{"$f":"HYPERLINK(\"#'Client Details'!$B$1\",\"Details\")","v":"Details"},{"$f":"HYPERLINK(Options!$B$1, \"Quote\")","v":"Quote"},{"$f":"HYPERLINK(Options!$B$2,\"Fax\")","v":"Fax"}]
["International Dioxcide, Inc. (a DuPont Co","Ben Borzenski"," 401-295-3637","ben.m.borzenski@usa.dupont.com",null,"Manufacturer","Out of State",null,{"$f":"HYPERLINK(\"#'Client Details'!$B$1\",\"Details\")","v":"Details"},{"$f":"HYPERLINK(Options!$B$1, \"Quote\")","v":"Quote"},{"$f":"HYPERLINK(Options!$B$2,\"Fax\")","v":"Fax"}]
["International Dioxcide, Inc. (Dupont)",null,null,"'idi.acct@usa.dupont.com'",null,null,null,null,{"$f":"HYPERLINK(\"#'Client Details'!$B$1\",\"Details\")","v":"Details"},{"$f":"HYPERLINK(Options!$B$1, \"Quote\")","v":"Quote"},{"$f":"HYPERLINK(Options!$B$2,\"Fax\")","v":"Fax"}]
["International Marketing Service, Inc",null,"616-534-2655",null,null,null,null,null,{"$f":"HYPERLINK(\"#'Client Details'!$B$1\",\"Details\")","v":"Details"},{"$f":"HYPERLINK(Options!$B$1, \"Quote\")","v":"Quote"},{"$f":"HYPERLINK(Options!$B$2,\"Fax\")","v":"Fax"}]
["International Personnel Protection","Jeff Stull","512-344-5588",null,null,null,null,null,{"$f":"HYPERLINK(\"#'Client Details'!$B$1\",\"Details\")","v":"Details"},{"$f":"HYPERLINK(Options!$B$1, \"Quote\")","v":"Quote"},{"$f":"HYPERLINK(Options!$B$2,\"Fax\")","v":"Fax"}]
["International Tooling Solutions (Kirkbrid","Lou Kirkbride"," 616-459-8285",null,"Foreman","Manufacturer","Kent",null,{"$f":"HYPERLINK(\"#'Client Details'!$B$1\",\"Details\")","v":"Details"},{"$f":"HYPERLINK(Options!$B$1, \"Quote\")","v":"Quote"},{"$f":"HYPERLINK(Options!$B$2,\"Fax\")","v":"Fax"}]
["Intertek Caleb Brett",null,"419-866-4004","christopher.gorzelewski@intertek.com",null,null,null,null,{"$f":"HYPERLINK(\"#'Client Details'!$B$1\",\"Details\")","v":"Details"},{"$f":"HYPERLINK(Options!$B$1, \"Quote\")","v":"Quote"},{"$f":"HYPERLINK(Options!$B$2,\"Fax\")","v":"Fax"}]
["INVENTORY",null,null,null,null,null,null,null,{"$f":"HYPERLINK(\"#'Client Details'!$B$1\",\"Details\")","v":"Details"},{"$f":"HYPERLINK(Options!$B$1, \"Quote\")","v":"Quote"},{"$f":"HYPERLINK(Options!$B$2,\"Fax\")","v":"Fax"}]
["Ion Science (Hewitt)","Geoff Hewitt"," 802-244-5153","geoff.hewitt@ionscience-americas.com",null,"Supplier","Out of State",null,{"$f":"HYPERLINK(\"#'Client Details'!$B$1\",\"Details\")","v":"Details"},{"$f":"HYPERLINK(Options!$B$1, \"Quote\")","v":"Quote"},{"$f":"HYPERLINK(Options!$B$2,\"Fax\")","v":"Fax"}]
["Ionia DPW, City of (Cunningham)","Gary Cunningham"," 616-527-5786",null,"Director","Municipal, Cty","Ionia",null,{"$f":"HYPERLINK(\"#'Client Details'!$B$1\",\"Details\")","v":"Details"},{"$f":"HYPERLINK(Options!$B$1, \"Quote\")","v":"Quote"},{"$f":"HYPERLINK(Options!$B$2,\"Fax\")","v":"Fax"}]
["Ionia WWTP, City of (Kenyon)","Chris Kenyon"," 616-527-0370 102","dirutilities@city.ionia.mi.us","Director","Municipal, Cty","Ionia",null,{"$f":"HYPERLINK(\"#'Client Details'!$B$1\",\"Details\")","v":"Details"},{"$f":"HYPERLINK(Options!$B$1, \"Quote\")","v":"Quote"},{"$f":"HYPERLINK(Options!$B$2,\"Fax\")","v":"Fax"}]
["IPL / AES (Flinta)","Dan Flinta, CIH CSP"," 317-261-8560","dan.flinta@aes.com","Sr. Occupational Health & Safe","Utility","Out of State",null,{"$f":"HYPERLINK(\"#'Client Details'!$B$1\",\"Details\")","v":"Details"},{"$f":"HYPERLINK(Options!$B$1, \"Quote\")","v":"Quote"},{"$f":"HYPERLINK(Options!$B$2,\"Fax\")","v":"Fax"}]
["Ira Township Fire Dept.","Jason Keller","586-725-7771",null,null,null,null,null,{"$f":"HYPERLINK(\"#'Client Details'!$B$1\",\"Details\")","v":"Details"},{"$f":"HYPERLINK(Options!$B$1, \"Quote\")","v":"Quote"},{"$f":"HYPERLINK(Options!$B$2,\"Fax\")","v":"Fax"}]
["Ironwood, City of","Karen Gullan, Clerk","906-932-5050",null,null,null,null,null,{"$f":"HYPERLINK(\"#'Client Details'!$B$1\",\"Details\")","v":"Details"},{"$f":"HYPERLINK(Options!$B$1, \"Quote\")","v":"Quote"},{"$f":"HYPERLINK(Options!$B$2,\"Fax\")","v":"Fax"}]
["IRST Immediate Response Spill Technologie","Dan Parker"," 502-267-0101","dan@ciagent.com","President","Supplier","Out of State",null,{"$f":"HYPERLINK(\"#'Client Details'!$B$1\",\"Details\")","v":"Details"},{"$f":"HYPERLINK(Options!$B$1, \"Quote\")","v":"Quote"},{"$f":"HYPERLINK(Options!$B$2,\"Fax\")","v":"Fax"}]
["Irwin Seating Company (Kuzee)","Ann Kuzee"," 616-574-7331",null,"Human Resources Director","Furniture","Kent",null,{"$f":"HYPERLINK(\"#'Client Details'!$B$1\",\"Details\")","v":"Details"},{"$f":"HYPERLINK(Options!$B$1, \"Quote\")","v":"Quote"},{"$f":"HYPERLINK(Options!$B$2,\"Fax\")","v":"Fax"}]
["ISC Restoration",null,"616-887-7840","iscrestore@charter.net",null,null,null,null,{"$f":"HYPERLINK(\"#'Client Details'!$B$1\",\"Details\")","v":"Details"},{"$f":"HYPERLINK(Options!$B$1, \"Quote\")","v":"Quote"},{"$f":"HYPERLINK(Options!$B$2,\"Fax\")","v":"Fax"}]
["ITC - Brownstown Station","Mike Mobley","734-547-0266 x 232",null,null,null,null,null,{"$f":"HYPERLINK(\"#'Client Details'!$B$1\",\"Details\")","v":"Details"},{"$f":"HYPERLINK(Options!$B$1, \"Quote\")","v":"Quote"},{"$f":"HYPERLINK(Options!$B$2,\"Fax\")","v":"Fax"}]
["ITC - Stephens Warehouse",null,null,null,null,null,null,null,{"$f":"HYPERLINK(\"#'Client Details'!$B$1\",\"Details\")","v":"Details"},{"$f":"HYPERLINK(Options!$B$1, \"Quote\")","v":"Quote"},{"$f":"HYPERLINK(Options!$B$2,\"Fax\")","v":"Fax"}]
["ITC- Belleville Warehouse","Jim Hyde","248-755-4527",null,null,null,null,null,{"$f":"HYPERLINK(\"#'Client Details'!$B$1\",\"Details\")","v":"Details"},{"$f":"HYPERLINK(Options!$B$1, \"Quote\")","v":"Quote"},{"$f":"HYPERLINK(Options!$B$2,\"Fax\")","v":"Fax"}]
["ITC Midwest-Albert Lea Warehouse","Mike Mobley","248-946-3410",null,null,null,null,null,{"$f":"HYPERLINK(\"#'Client Details'!$B$1\",\"Details\")","v":"Details"},{"$f":"HYPERLINK(Options!$B$1, \"Quote\")","v":"Quote"},{"$f":"HYPERLINK(Options!$B$2,\"Fax\")","v":"Fax"}]
["ITC Midwest-Perry Warehouse","Mike Mobley","734-547-0266",null,null,null,null,null,{"$f":"HYPERLINK(\"#'Client Details'!$B$1\",\"Details\")","v":"Details"},{"$f":"HYPERLINK(Options!$B$1, \"Quote\")","v":"Quote"},{"$f":"HYPERLINK(Options!$B$2,\"Fax\")","v":"Fax"}]
["ITC Transmission (Asselin)","David Asselin"," 586-757-8611","dasselin@itctransco.com",null,"Utility","Oakland",null,{"$f":"HYPERLINK(\"#'Client Details'!$B$1\",\"Details\")","v":"Details"},{"$f":"HYPERLINK(Options!$B$1, \"Quote\")","v":"Quote"},{"$f":"HYPERLINK(Options!$B$2,\"Fax\")","v":"Fax"}]
["ITC Transmission (Cooperman)","Jason Cooperman"," 248-946-3419","jcooperman@itctransco.com",null,"Contractor Electrical","Oakland",null,{"$f":"HYPERLINK(\"#'Client Details'!$B$1\",\"Details\")","v":"Details"},{"$f":"HYPERLINK(Options!$B$1, \"Quote\")","v":"Quote"},{"$f":"HYPERLINK(Options!$B$2,\"Fax\")","v":"Fax"}]
["ITC Transmission (Mobley)","Mike Mobley"," 248-946-3410","mmobley@itctransco.com",null,"Contractor Electrical","Oakland",null,{"$f":"HYPERLINK(\"#'Client Details'!$B$1\",\"Details\")","v":"Details"},{"$f":"HYPERLINK(Options!$B$1, \"Quote\")","v":"Quote"},{"$f":"HYPERLINK(Options!$B$2,\"Fax\")","v":"Fax"}]
["ITC, METC - Gaylord Warehouse",null,null,null,null,null,null,null,{"$f":"HYPERLINK(\"#'Client Details'!$B$1\",\"Details\")","v":"Details"},{"$f":"HYPERLINK(Options!$B$1, \"Quote\")","v":"Quote"},{"$f":"HYPERLINK(Options!$B$2,\"Fax\")","v":"Fax"}]
["ITC, METC - Kawkawlin Warehouse",null,"989-671-0616",null,null,null,null,null,{"$f":"HYPERLINK(\"#'Client Details'!$B$1\",\"Details\")","v":"Details"},{"$f":"HYPERLINK(Options!$B$1, \"Quote\")","v":"Quote"},{"$f":"HYPERLINK(Options!$B$2,\"Fax\")","v":"Fax"}]
["ITC, METC - Main",null,null,null,null,null,null,null,{"$f":"HYPERLINK(\"#'Client Details'!$B$1\",\"Details\")","v":"Details"},{"$f":"HYPERLINK(Options!$B$1, \"Quote\")","v":"Quote"},{"$f":"HYPERLINK(Options!$B$2,\"Fax\")","v":"Fax"}]
["ITC, METC - Wayland Warehouse","Jason Cooperman - Buyer","734-547-0266 x-252",null,null,null,null,null,{"$f":"HYPERLINK(\"#'Client Details'!$B$1\",\"Details\")","v":"Details"},{"$f":"HYPERLINK(Options!$B$1, \"Quote\")","v":"Quote"},{"$f":"HYPERLINK(Options!$B$2,\"Fax\")","v":"Fax"}]
["ITS Manufacturing Solutions",null,"616-284-2900",null,null,null,null,null,{"$f":"HYPERLINK(\"#'Client Details'!$B$1\",\"Details\")","v":"Details"},{"$f":"HYPERLINK(Options!$B$1, \"Quote\")","v":"Quote"},{"$f":"HYPERLINK(Options!$B$2,\"Fax\")","v":"Fax"}]
["ITT (Mejeur)","Tom Mejeur"," 616-406-1281","tmejeur@itt-tech.edu",null,"School","Kent",null,{"$f":"HYPERLINK(\"#'Client Details'!$B$1\",\"Details\")","v":"Details"},{"$f":"HYPERLINK(Options!$B$1, \"Quote\")","v":"Quote"},{"$f":"HYPERLINK(Options!$B$2,\"Fax\")","v":"Fax"}]
["ITW Drawform","Derrick Scheidel","616-772-1910 ext.223","derricks@drawform.com",null,null,null,null,{"$f":"HYPERLINK(\"#'Client Details'!$B$1\",\"Details\")","v":"Details"},{"$f":"HYPERLINK(Options!$B$1, \"Quote\")","v":"Quote"},{"$f":"HYPERLINK(Options!$B$2,\"Fax\")","v":"Fax"}]
["ITW Drawform (Gardner)","Karen Gardner"," 616-772-1910",null,"Human Resource Manager","Manufacturer","Ottawa",null,{"$f":"HYPERLINK(\"#'Client Details'!$B$1\",\"Details\")","v":"Details"},{"$f":"HYPERLINK(Options!$B$1, \"Quote\")","v":"Quote"},{"$f":"HYPERLINK(Options!$B$2,\"Fax\")","v":"Fax"}]
["ITW Drawform (Scheidel)","Derrick Scheidel"," 616-772-1910 223","DerrickS@drawform.com","EHS Coordinator","Manufacturer","Ottawa",null,{"$f":"HYPERLINK(\"#'Client Details'!$B$1\",\"Details\")","v":"Details"},{"$f":"HYPERLINK(Options!$B$1, \"Quote\")","v":"Quote"},{"$f":"HYPERLINK(Options!$B$2,\"Fax\")","v":"Fax"}]
["J & F Steel Corporation (Woods)","Rick Woods"," 616-669-3003",null,"Safety","Steel","Ottawa",null,{"$f":"HYPERLINK(\"#'Client Details'!$B$1\",\"Details\")","v":"Details"},{"$f":"HYPERLINK(Options!$B$1, \"Quote\")","v":"Quote"},{"$f":"HYPERLINK(Options!$B$2,\"Fax\")","v":"Fax"}]
["J. D'Amico, Inc.",null,"781-961-3700",null,null,null,null,null,{"$f":"HYPERLINK(\"#'Client Details'!$B$1\",\"Details\")","v":"Details"},{"$f":"HYPERLINK(Options!$B$1, \"Quote\")","v":"Quote"},{"$f":"HYPERLINK(Options!$B$2,\"Fax\")","v":"Fax"}]
["J. D'Amico, Inc. (Newborn)","Eric Newborn"," 781-961-3700","eric@jdamico.com",null,"Contractor General","Out of State",null,{"$f":"HYPERLINK(\"#'Client Details'!$B$1\",\"Details\")","v":"Details"},{"$f":"HYPERLINK(Options!$B$1, \"Quote\")","v":"Quote"},{"$f":"HYPERLINK(Options!$B$2,\"Fax\")","v":"Fax"}]
["Jack Dykstra Excavating, Inc.","Jack Dykstra","616-453-4827",null,null,null,null,null,{"$f":"HYPERLINK(\"#'Client Details'!$B$1\",\"Details\")","v":"Details"},{"$f":"HYPERLINK(Options!$B$1, \"Quote\")","v":"Quote"},{"$f":"HYPERLINK(Options!$B$2,\"Fax\")","v":"Fax"}]
["Jack Dykstra Excavating, Inc. (Dykstra)","Jack Dykstra"," 616-453-4827",null,"President","Contractor, Excavator","Kent",null,{"$f":"HYPERLINK(\"#'Client Details'!$B$1\",\"Details\")","v":"Details"},{"$f":"HYPERLINK(Options!$B$1, \"Quote\")","v":"Quote"},{"$f":"HYPERLINK(Options!$B$2,\"Fax\")","v":"Fax"}]
["Jackson County Parks Department (Youmans)","Chris Youmans"," 517-768-2920",null,"Maintenance Supervisor","Municipal, Cty","Kent",null,{"$f":"HYPERLINK(\"#'Client Details'!$B$1\",\"Details\")","v":"Details"},{"$f":"HYPERLINK(Options!$B$1, \"Quote\")","v":"Quote"},{"$f":"HYPERLINK(Options!$B$2,\"Fax\")","v":"Fax"}]
["Jackson DPW, City of",null,null,"sporter@cityofjackson.org",null,null,null,null,{"$f":"HYPERLINK(\"#'Client Details'!$B$1\",\"Details\")","v":"Details"},{"$f":"HYPERLINK(Options!$B$1, \"Quote\")","v":"Quote"},{"$f":"HYPERLINK(Options!$B$2,\"Fax\")","v":"Fax"}]
["Jackson DPW, City of (Lucas)","Greg Lucas"," 517-768-6064","glucas@cityofjackson.org","General Foreman","Municipal, Cty","Jackson",null,{"$f":"HYPERLINK(\"#'Client Details'!$B$1\",\"Details\")","v":"Details"},{"$f":"HYPERLINK(Options!$B$1, \"Quote\")","v":"Quote"},{"$f":"HYPERLINK(Options!$B$2,\"Fax\")","v":"Fax"}]
["Jackson DPW, City of (Porter)","SanDee Porter"," 517-768-6083","sporter@cityofjackson.org","Public Works Assistant","Municipal, Cty","Jackson",null,{"$f":"HYPERLINK(\"#'Client Details'!$B$1\",\"Details\")","v":"Details"},{"$f":"HYPERLINK(Options!$B$1, \"Quote\")","v":"Quote"},{"$f":"HYPERLINK(Options!$B$2,\"Fax\")","v":"Fax"}]
["Jackson Fire Dept., City of",null,"517-788-4150",null,null,null,null,null,{"$f":"HYPERLINK(\"#'Client Details'!$B$1\",\"Details\")","v":"Details"},{"$f":"HYPERLINK(Options!$B$1, \"Quote\")","v":"Quote"},{"$f":"HYPERLINK(Options!$B$2,\"Fax\")","v":"Fax"}]
["Jackson Parks and Recreation, City of (St","Tom Steiger"," 517-788-4176",null,"Supervisor","Municipal, Cty","Jackson",null,{"$f":"HYPERLINK(\"#'Client Details'!$B$1\",\"Details\")","v":"Details"},{"$f":"HYPERLINK(Options!$B$1, \"Quote\")","v":"Quote"},{"$f":"HYPERLINK(Options!$B$2,\"Fax\")","v":"Fax"}]
["Jackson Safety Products (Patrick)","Ron Patrick"," 734-673-8871","rpatrick@jacksonsafety.com","Representative","Supplier","Kent",null,{"$f":"HYPERLINK(\"#'Client Details'!$B$1\",\"Details\")","v":"Details"},{"$f":"HYPERLINK(Options!$B$1, \"Quote\")","v":"Quote"},{"$f":"HYPERLINK(Options!$B$2,\"Fax\")","v":"Fax"}]
["Jackson Water Services, City of","Dan Bujanda","517-768-6103",null,null,null,null,null,{"$f":"HYPERLINK(\"#'Client Details'!$B$1\",\"Details\")","v":"Details"},{"$f":"HYPERLINK(Options!$B$1, \"Quote\")","v":"Quote"},{"$f":"HYPERLINK(Options!$B$2,\"Fax\")","v":"Fax"}]
["Jackson Water Services, City of (Bujanda)","Dan Bujanda"," 517-768-6103","dbujanda@cityofjackson.org","Water Services Manager","Municipal, Cty","Jackson",null,{"$f":"HYPERLINK(\"#'Client Details'!$B$1\",\"Details\")","v":"Details"},{"$f":"HYPERLINK(Options!$B$1, \"Quote\")","v":"Quote"},{"$f":"HYPERLINK(Options!$B$2,\"Fax\")","v":"Fax"}]
["Jackson Water Services, City of (Shaw)","Ron Shaw"," 517-768-6107","rshaw@cityofjackson.org","Meter Services Supervisor","Municipal, Cty","Jackson",null,{"$f":"HYPERLINK(\"#'Client Details'!$B$1\",\"Details\")","v":"Details"},{"$f":"HYPERLINK(Options!$B$1, \"Quote\")","v":"Quote"},{"$f":"HYPERLINK(Options!$B$2,\"Fax\")","v":"Fax"}]
["Jackson Water Treatment Plant, City of","Bob Koehn (Cane)","517-788-4073",null,null,null,null,null,{"$f":"HYPERLINK(\"#'Client Details'!$B$1\",\"Details\")","v":"Details"},{"$f":"HYPERLINK(Options!$B$1, \"Quote\")","v":"Quote"},{"$f":"HYPERLINK(Options!$B$2,\"Fax\")","v":"Fax"}]
["Jackson Water Treatment Plant, City of (K","Bob Koehn"," 517-788-4073","bkoehn@dmci.net","Asst. Water Plant Supervisor","Municipal, Cty","Jackson",null,{"$f":"HYPERLINK(\"#'Client Details'!$B$1\",\"Details\")","v":"Details"},{"$f":"HYPERLINK(Options!$B$1, \"Quote\")","v":"Quote"},{"$f":"HYPERLINK(Options!$B$2,\"Fax\")","v":"Fax"}]
["Jackson WWTP, City of (Lenardson)","Mary Lenardson"," 517-788-4075","jwwtp@dmci.net","Chemist / Lab Supervisor","Municipal, Cty","Jackson",null,{"$f":"HYPERLINK(\"#'Client Details'!$B$1\",\"Details\")","v":"Details"},{"$f":"HYPERLINK(Options!$B$1, \"Quote\")","v":"Quote"},{"$f":"HYPERLINK(Options!$B$2,\"Fax\")","v":"Fax"}]
["Jackson-Merkey Contractors, Inc. (Bartlet","Jim Bartlett"," 231-728-9344",null,"Equipment Manager","Contractor, Excavator","Muskegon",null,{"$f":"HYPERLINK(\"#'Client Details'!$B$1\",\"Details\")","v":"Details"},{"$f":"HYPERLINK(Options!$B$1, \"Quote\")","v":"Quote"},{"$f":"HYPERLINK(Options!$B$2,\"Fax\")","v":"Fax"}]
["Jackson-Merkey Contractors, Inc. (Merkey)","Gary Merkey"," 231-728-9344","gmerkey@jackson-merkey.com",null,"Contractor General","Muskegon",null,{"$f":"HYPERLINK(\"#'Client Details'!$B$1\",\"Details\")","v":"Details"},{"$f":"HYPERLINK(Options!$B$1, \"Quote\")","v":"Quote"},{"$f":"HYPERLINK(Options!$B$2,\"Fax\")","v":"Fax"}]
["Jackson-Merkey Contractors, Inc. (Studema","Craig Studeman"," 231-728-9344","cstudema@jackson-merkey.com",null,"Contractor, Excavator","Muskegon",null,{"$f":"HYPERLINK(\"#'Client Details'!$B$1\",\"Details\")","v":"Details"},{"$f":"HYPERLINK(Options!$B$1, \"Quote\")","v":"Quote"},{"$f":"HYPERLINK(Options!$B$2,\"Fax\")","v":"Fax"}]
["Jacobs Engineering",null,null,null,null,null,null,null,{"$f":"HYPERLINK(\"#'Client Details'!$B$1\",\"Details\")","v":"Details"},{"$f":"HYPERLINK(Options!$B$1, \"Quote\")","v":"Quote"},{"$f":"HYPERLINK(Options!$B$2,\"Fax\")","v":"Fax"}]
["Jacobs Sverdrup (Hartford)","Bud Hartford"," 313-294-6102","david.hartford@jacobs.com","Health, Safety & Environmental","Automotive","Wayne",null,{"$f":"HYPERLINK(\"#'Client Details'!$B$1\",\"Details\")","v":"Details"},{"$f":"HYPERLINK(Options!$B$1, \"Quote\")","v":"Quote"},{"$f":"HYPERLINK(Options!$B$2,\"Fax\")","v":"Fax"}]
["Jacobs Sverdrup (Knott)","David Knott"," 313-294-6113","david.knott@jacobs.com",null,"Automotive","Wayne",null,{"$f":"HYPERLINK(\"#'Client Details'!$B$1\",\"Details\")","v":"Details"},{"$f":"HYPERLINK(Options!$B$1, \"Quote\")","v":"Quote"},{"$f":"HYPERLINK(Options!$B$2,\"Fax\")","v":"Fax"}]
["Jamar Company","Jeff Zdebski","906-228-5614",null,null,null,null,null,{"$f":"HYPERLINK(\"#'Client Details'!$B$1\",\"Details\")","v":"Details"},{"$f":"HYPERLINK(Options!$B$1, \"Quote\")","v":"Quote"},{"$f":"HYPERLINK(Options!$B$2,\"Fax\")","v":"Fax"}]
["Jamar Company (Zdebski)","Jeff Zdebski"," 906-228-5614 14",null,"Safety Director","Paper","Kent",null,{"$f":"HYPERLINK(\"#'Client Details'!$B$1\",\"Details\")","v":"Details"},{"$f":"HYPERLINK(Options!$B$1, \"Quote\")","v":"Quote"},{"$f":"HYPERLINK(Options!$B$2,\"Fax\")","v":"Fax"}]
["James E. Fulton & Sons",null,"269-385-3311",null,null,null,null,null,{"$f":"HYPERLINK(\"#'Client Details'!$B$1\",\"Details\")","v":"Details"},{"$f":"HYPERLINK(Options!$B$1, \"Quote\")","v":"Quote"},{"$f":"HYPERLINK(Options!$B$2,\"Fax\")","v":"Fax"}]
["James E. Fulton & Sons (Fulton)","Jim Fulton, Jr."," 269-385-3311","jimjr@fultonexcavating.com",null,"Contractor General","Kalamazoo",null,{"$f":"HYPERLINK(\"#'Client Details'!$B$1\",\"Details\")","v":"Details"},{"$f":"HYPERLINK(Options!$B$1, \"Quote\")","v":"Quote"},{"$f":"HYPERLINK(Options!$B$2,\"Fax\")","v":"Fax"}]
["James E. Fulton & Sons (Nichols)","John Nichols"," 269-385-3311","john@fultonexcavating.com","Safety Manager","Contractor General","Kalamazoo",null,{"$f":"HYPERLINK(\"#'Client Details'!$B$1\",\"Details\")","v":"Details"},{"$f":"HYPERLINK(Options!$B$1, \"Quote\")","v":"Quote"},{"$f":"HYPERLINK(Options!$B$2,\"Fax\")","v":"Fax"}]
["James E. Fulton & Sons (Powell)","James Powell"," 269-385-3311","jpowell@fultonexcavating.com",null,"Contractor General","Kalamazoo",null,{"$f":"HYPERLINK(\"#'Client Details'!$B$1\",\"Details\")","v":"Details"},{"$f":"HYPERLINK(Options!$B$1, \"Quote\")","v":"Quote"},{"$f":"HYPERLINK(Options!$B$2,\"Fax\")","v":"Fax"}]
["James River Laser & Equpment","John Meise","540-389-9700",null,null,null,null,null,{"$f":"HYPERLINK(\"#'Client Details'!$B$1\",\"Details\")","v":"Details"},{"$f":"HYPERLINK(Options!$B$1, \"Quote\")","v":"Quote"},{"$f":"HYPERLINK(Options!$B$2,\"Fax\")","v":"Fax"}]
["James River Laser and Equipment (Meise)","John Meise"," 540-389-9700",null,null,"Competitor","Out of State",null,{"$f":"HYPERLINK(\"#'Client Details'!$B$1\",\"Details\")","v":"Details"},{"$f":"HYPERLINK(Options!$B$1, \"Quote\")","v":"Quote"},{"$f":"HYPERLINK(Options!$B$2,\"Fax\")","v":"Fax"}]
["James Strobridge","Jim Strobridge","616-458-9937","cihstro@iserv.net",null,null,null,null,{"$f":"HYPERLINK(\"#'Client Details'!$B$1\",\"Details\")","v":"Details"},{"$f":"HYPERLINK(Options!$B$1, \"Quote\")","v":"Quote"},{"$f":"HYPERLINK(Options!$B$2,\"Fax\")","v":"Fax"}]
["James Strobridge (Strobridge, CIH)","James Strobridge, CIH"," 616-458-9937","cihstro@iserv.net","Owner","Contractor EH&S","Kent",null,{"$f":"HYPERLINK(\"#'Client Details'!$B$1\",\"Details\")","v":"Details"},{"$f":"HYPERLINK(Options!$B$1, \"Quote\")","v":"Quote"},{"$f":"HYPERLINK(Options!$B$2,\"Fax\")","v":"Fax"}]
["James, Anderson & Associates, Inc. (Ander","Robert Anderson"," 517-349-8066","robertanderson@jaa-inc.com",null,"Contractor EH&S","Ingham",null,{"$f":"HYPERLINK(\"#'Client Details'!$B$1\",\"Details\")","v":"Details"},{"$f":"HYPERLINK(Options!$B$1, \"Quote\")","v":"Quote"},{"$f":"HYPERLINK(Options!$B$2,\"Fax\")","v":"Fax"}]
["Janesville Acoustics","Jack Frost","419-668-4474","jfrost@janesvilleacoustics.com",null,null,null,null,{"$f":"HYPERLINK(\"#'Client Details'!$B$1\",\"Details\")","v":"Details"},{"$f":"HYPERLINK(Options!$B$1, \"Quote\")","v":"Quote"},{"$f":"HYPERLINK(Options!$B$2,\"Fax\")","v":"Fax"}]
["Janesville Acoustics (Kent)","Don Kent",null,"don.kent@janesvilleacoustics.com","Safety Manager","Manufacturer","Kent",null,{"$f":"HYPERLINK(\"#'Client Details'!$B$1\",\"Details\")","v":"Details"},{"$f":"HYPERLINK(Options!$B$1, \"Quote\")","v":"Quote"},{"$f":"HYPERLINK(Options!$B$2,\"Fax\")","v":"Fax"}]
["JBI LLC (Bolger)","James Bolger"," 734-663-1784","jbidata@aol.com","Director","Contractor EH&S","Washtenaw",null,{"$f":"HYPERLINK(\"#'Client Details'!$B$1\",\"Details\")","v":"Details"},{"$f":"HYPERLINK(Options!$B$1, \"Quote\")","v":"Quote"},{"$f":"HYPERLINK(Options!$B$2,\"Fax\")","v":"Fax"}]
["JBS Packerland, Inc.",null,"269-685-6886",null,null,null,null,null,{"$f":"HYPERLINK(\"#'Client Details'!$B$1\",\"Details\")","v":"Details"},{"$f":"HYPERLINK(Options!$B$1, \"Quote\")","v":"Quote"},{"$f":"HYPERLINK(Options!$B$2,\"Fax\")","v":"Fax"}]
["JBS Packerland.com (Johnson)","Chris Johnson"," 269-685-2534","chris.johnson@jbspackerland.com","Safety Manager","Food","Allegan",null,{"$f":"HYPERLINK(\"#'Client Details'!$B$1\",\"Details\")","v":"Details"},{"$f":"HYPERLINK(Options!$B$1, \"Quote\")","v":"Quote"},{"$f":"HYPERLINK(Options!$B$2,\"Fax\")","v":"Fax"}]
["JBS Packerland.com (Keister)","Fred Keister"," 269-685-6886 197","fred.keister@sfbeef.com","Purchasing Manager","Food","Allegan",null,{"$f":"HYPERLINK(\"#'Client Details'!$B$1\",\"Details\")","v":"Details"},{"$f":"HYPERLINK(Options!$B$1, \"Quote\")","v":"Quote"},{"$f":"HYPERLINK(Options!$B$2,\"Fax\")","v":"Fax"}]
["JD Fusion & Supply","Jim Howland","517-647-1895","jkahow@sbcglobal.net",null,null,null,null,{"$f":"HYPERLINK(\"#'Client Details'!$B$1\",\"Details\")","v":"Details"},{"$f":"HYPERLINK(Options!$B$1, \"Quote\")","v":"Quote"},{"$f":"HYPERLINK(Options!$B$2,\"Fax\")","v":"Fax"}]
["JD Platinum Electric LLC","David Fritz","740-756-4120",null,null,null,null,null,{"$f":"HYPERLINK(\"#'Client Details'!$B$1\",\"Details\")","v":"Details"},{"$f":"HYPERLINK(Options!$B$1, \"Quote\")","v":"Quote"},{"$f":"HYPERLINK(Options!$B$2,\"Fax\")","v":"Fax"}]
["JD Platinum Electric LLC (Fritz)","David M. Fritz"," 614-332-0106","davef7@columbus.rr.com","Owner","Contractor Electrical","Fairfield",null,{"$f":"HYPERLINK(\"#'Client Details'!$B$1\",\"Details\")","v":"Details"},{"$f":"HYPERLINK(Options!$B$1, \"Quote\")","v":"Quote"},{"$f":"HYPERLINK(Options!$B$2,\"Fax\")","v":"Fax"}]
["Jergens Piping (Kettwich)","Keith Kettwich",null,"keith@jergenspiping.com",null,"Contractor General","Kalamazoo",null,{"$f":"HYPERLINK(\"#'Client Details'!$B$1\",\"Details\")","v":"Details"},{"$f":"HYPERLINK(Options!$B$1, \"Quote\")","v":"Quote"},{"$f":"HYPERLINK(Options!$B$2,\"Fax\")","v":"Fax"}]
["John Manville Corp.","John Cannon","419-878-7291",null,null,null,null,null,{"$f":"HYPERLINK(\"#'Client Details'!$B$1\",\"Details\")","v":"Details"},{"$f":"HYPERLINK(Options!$B$1, \"Quote\")","v":"Quote"},{"$f":"HYPERLINK(Options!$B$2,\"Fax\")","v":"Fax"}]
["John W. Potter Inc. (Potter)","John Potter"," 616-453-5423",null,null,"Contractor General","Kent",null,{"$f":"HYPERLINK(\"#'Client Details'!$B$1\",\"Details\")","v":"Details"},{"$f":"HYPERLINK(Options!$B$1, \"Quote\")","v":"Quote"},{"$f":"HYPERLINK(Options!$B$2,\"Fax\")","v":"Fax"}]
["Johney Klap",null,null,null,null,null,null,null,{"$f":"HYPERLINK(\"#'Client Details'!$B$1\",\"Details\")","v":"Details"},{"$f":"HYPERLINK(Options!$B$1, \"Quote\")","v":"Quote"},{"$f":"HYPERLINK(Options!$B$2,\"Fax\")","v":"Fax"}]
["Johnson & Johnson Pharmaceutical R&D (Nes","Fred Neske",null,"fneske@prdus.jnj.com","EH&S","Chemical Pharmaceutical","Out of State",null,{"$f":"HYPERLINK(\"#'Client Details'!$B$1\",\"Details\")","v":"Details"},{"$f":"HYPERLINK(Options!$B$1, \"Quote\")","v":"Quote"},{"$f":"HYPERLINK(Options!$B$2,\"Fax\")","v":"Fax"}]
["Johnson Construction (Bergsma)","Paul Bergsma"," 616-538-3740","paul@johnson-construction.com",null,"Contractor General","Kent",null,{"$f":"HYPERLINK(\"#'Client Details'!$B$1\",\"Details\")","v":"Details"},{"$f":"HYPERLINK(Options!$B$1, \"Quote\")","v":"Quote"},{"$f":"HYPERLINK(Options!$B$2,\"Fax\")","v":"Fax"}]
["Johnson Construction (Johnson)","Duane Johnson"," 616-538-3740",null,"Vice President","Contractor General","Kent",null,{"$f":"HYPERLINK(\"#'Client Details'!$B$1\",\"Details\")","v":"Details"},{"$f":"HYPERLINK(Options!$B$1, \"Quote\")","v":"Quote"},{"$f":"HYPERLINK(Options!$B$2,\"Fax\")","v":"Fax"}]
["Johnson Controls (Maplewood)",null,null,null,null,null,null,null,{"$f":"HYPERLINK(\"#'Client Details'!$B$1\",\"Details\")","v":"Details"},{"$f":"HYPERLINK(Options!$B$1, \"Quote\")","v":"Quote"},{"$f":"HYPERLINK(Options!$B$2,\"Fax\")","v":"Fax"}]
["Johnson Controls (Southview)","Dale Hoffer",null,null,null,null,null,null,{"$f":"HYPERLINK(\"#'Client Details'!$B$1\",\"Details\")","v":"Details"},{"$f":"HYPERLINK(Options!$B$1, \"Quote\")","v":"Quote"},{"$f":"HYPERLINK(Options!$B$2,\"Fax\")","v":"Fax"}]
["Johnson Controls, Inc. (Deleau)","Rich Deleau"," 616-283-2725","richard.a.deleau@jci.com","EH&S","Automotive","Ottawa",null,{"$f":"HYPERLINK(\"#'Client Details'!$B$1\",\"Details\")","v":"Details"},{"$f":"HYPERLINK(Options!$B$1, \"Quote\")","v":"Quote"},{"$f":"HYPERLINK(Options!$B$2,\"Fax\")","v":"Fax"}]
["Johnson Controls, Inc. (DeVries)","Chaunda DeVries"," 616-394-1678","chaunda.k.devries@jci.com",null,"Automotive","Ottawa",null,{"$f":"HYPERLINK(\"#'Client Details'!$B$1\",\"Details\")","v":"Details"},{"$f":"HYPERLINK(Options!$B$1, \"Quote\")","v":"Quote"},{"$f":"HYPERLINK(Options!$B$2,\"Fax\")","v":"Fax"}]
["Johnson Controls, Inc. (Keller)","Frank Keller"," 734-947-5014","frank.j.keller@jci.com","Safety Manager","Automotive","Wayne",null,{"$f":"HYPERLINK(\"#'Client Details'!$B$1\",\"Details\")","v":"Details"},{"$f":"HYPERLINK(Options!$B$1, \"Quote\")","v":"Quote"},{"$f":"HYPERLINK(Options!$B$2,\"Fax\")","v":"Fax"}]
["Johnson Electric",null,null,null,null,null,null,null,{"$f":"HYPERLINK(\"#'Client Details'!$B$1\",\"Details\")","v":"Details"},{"$f":"HYPERLINK(Options!$B$1, \"Quote\")","v":"Quote"},{"$f":"HYPERLINK(Options!$B$2,\"Fax\")","v":"Fax"}]
["Johnson Electric (Butzer)","Jeff Butzer"," 616-257-1281","jbutzer@inteccompany.com","Project Manager","Contractor Electrical","Kent",null,{"$f":"HYPERLINK(\"#'Client Details'!$B$1\",\"Details\")","v":"Details"},{"$f":"HYPERLINK(Options!$B$1, \"Quote\")","v":"Quote"},{"$f":"HYPERLINK(Options!$B$2,\"Fax\")","v":"Fax"}]
["Johnson Electric (Dykema)","Jeff Dykema"," 616-257-1225","jdykema@inteccompany.com","Service Supervisor","Contractor Electrical","Kent",null,{"$f":"HYPERLINK(\"#'Client Details'!$B$1\",\"Details\")","v":"Details"},{"$f":"HYPERLINK(Options!$B$1, \"Quote\")","v":"Quote"},{"$f":"HYPERLINK(Options!$B$2,\"Fax\")","v":"Fax"}]
["Johnson Technology (Boucon)","Phil Boucon"," 231-777-7195",null,"Safety and Health Co Manager","Manufacturer","Muskegon",null,{"$f":"HYPERLINK(\"#'Client Details'!$B$1\",\"Details\")","v":"Details"},{"$f":"HYPERLINK(Options!$B$1, \"Quote\")","v":"Quote"},{"$f":"HYPERLINK(Options!$B$2,\"Fax\")","v":"Fax"}]
["Johnson Technology (Crux)","Erik Crux"," 231-777-7176","erik.crux@ge.com","Technician","Manufacturer","Muskegon",null,{"$f":"HYPERLINK(\"#'Client Details'!$B$1\",\"Details\")","v":"Details"},{"$f":"HYPERLINK(Options!$B$1, \"Quote\")","v":"Quote"},{"$f":"HYPERLINK(Options!$B$2,\"Fax\")","v":"Fax"}]
["Johnson Technology (Kuipers)","Paul Kuipers"," 231-767-7472","paul.kuipers@ge.com","Facilities and Maintenance","Manufacturer","Muskegon",null,{"$f":"HYPERLINK(\"#'Client Details'!$B$1\",\"Details\")","v":"Details"},{"$f":"HYPERLINK(Options!$B$1, \"Quote\")","v":"Quote"},{"$f":"HYPERLINK(Options!$B$2,\"Fax\")","v":"Fax"}]
["Johnson Technology (Main)","Cameron Main"," 231-767-7435","cameron.main@ge.com","Environmental Health & Safety","Manufacturer","Muskegon",null,{"$f":"HYPERLINK(\"#'Client Details'!$B$1\",\"Details\")","v":"Details"},{"$f":"HYPERLINK(Options!$B$1, \"Quote\")","v":"Quote"},{"$f":"HYPERLINK(Options!$B$2,\"Fax\")","v":"Fax"}]
["Johnson Technology (Reagan)","David Reagan"," 231-777-7110","dave.reagan@ae.ge.com","EH & S Manager","Manufacturer","Muskegon",null,{"$f":"HYPERLINK(\"#'Client Details'!$B$1\",\"Details\")","v":"Details"},{"$f":"HYPERLINK(Options!$B$1, \"Quote\")","v":"Quote"},{"$f":"HYPERLINK(Options!$B$2,\"Fax\")","v":"Fax"}]
["Johnson Technology (Reasoner)","Rick Reasoner"," 231-777-7160","rick.reasoner@ge.com","Maintenance Manager","Manufacturer","Muskegon",null,{"$f":"HYPERLINK(\"#'Client Details'!$B$1\",\"Details\")","v":"Details"},{"$f":"HYPERLINK(Options!$B$1, \"Quote\")","v":"Quote"},{"$f":"HYPERLINK(Options!$B$2,\"Fax\")","v":"Fax"}]
["Johnson Technology/GE Aviation","Cameron Main","231-767-7435","cameron.main@GE.com",null,null,null,null,{"$f":"HYPERLINK(\"#'Client Details'!$B$1\",\"Details\")","v":"Details"},{"$f":"HYPERLINK(Options!$B$1, \"Quote\")","v":"Quote"},{"$f":"HYPERLINK(Options!$B$2,\"Fax\")","v":"Fax"}]
["Johnston Boiler Company",null,"616-842-5050",null,null,null,null,null,{"$f":"HYPERLINK(\"#'Client Details'!$B$1\",\"Details\")","v":"Details"},{"$f":"HYPERLINK(Options!$B$1, \"Quote\")","v":"Quote"},{"$f":"HYPERLINK(Options!$B$2,\"Fax\")","v":"Fax"}]
["Johnston Boiler Company (Ewing)","Rick Ewing"," 616-842-5050 307","rewing@johnstonboiler.com","Director of Operations","Manufacturer","Ottawa",null,{"$f":"HYPERLINK(\"#'Client Details'!$B$1\",\"Details\")","v":"Details"},{"$f":"HYPERLINK(Options!$B$1, \"Quote\")","v":"Quote"},{"$f":"HYPERLINK(Options!$B$2,\"Fax\")","v":"Fax"}]
["Joseph M. Day Company (Saltz)","Vicky Saltz"," 989-755-0583","vicky@josephmday.com",null,"Boiler Making","Saginaw",null,{"$f":"HYPERLINK(\"#'Client Details'!$B$1\",\"Details\")","v":"Details"},{"$f":"HYPERLINK(Options!$B$1, \"Quote\")","v":"Quote"},{"$f":"HYPERLINK(Options!$B$2,\"Fax\")","v":"Fax"}]
["JOST International Corp. (Myers)","Rick Myers"," 616-223-3341","menglish@jostintemational.com","GH Operations/Purchasing Manag","Manufacturer","Muskegon",null,{"$f":"HYPERLINK(\"#'Client Details'!$B$1\",\"Details\")","v":"Details"},{"$f":"HYPERLINK(Options!$B$1, \"Quote\")","v":"Quote"},{"$f":"HYPERLINK(Options!$B$2,\"Fax\")","v":"Fax"}]
["Joynitt Communications (Joynson)","Jon Joynson"," 269-857-5742","jon@joynitt.com",null,"Contractor General","Allegan",null,{"$f":"HYPERLINK(\"#'Client Details'!$B$1\",\"Details\")","v":"Details"},{"$f":"HYPERLINK(Options!$B$1, \"Quote\")","v":"Quote"},{"$f":"HYPERLINK(Options!$B$2,\"Fax\")","v":"Fax"}]
["JR Automation (Cooper)","Joel Cooper"," 616-820-3313","jcooper@jrauto.com",null,"Contractor General","Ottawa",null,{"$f":"HYPERLINK(\"#'Client Details'!$B$1\",\"Details\")","v":"Details"},{"$f":"HYPERLINK(Options!$B$1, \"Quote\")","v":"Quote"},{"$f":"HYPERLINK(Options!$B$2,\"Fax\")","v":"Fax"}]
["JRD Sales and Service, Inc","John \"JR\" Reed","412-923-1020","jr@jrdsales.com",null,null,null,null,{"$f":"HYPERLINK(\"#'Client Details'!$B$1\",\"Details\")","v":"Details"},{"$f":"HYPERLINK(Options!$B$1, \"Quote\")","v":"Quote"},{"$f":"HYPERLINK(Options!$B$2,\"Fax\")","v":"Fax"}]
["JSJ Corporation (Anderson)","Bruce Anderson"," 616-842-6350",null,"EH&S","Chemical Pharmaceutical","Ottawa",null,{"$f":"HYPERLINK(\"#'Client Details'!$B$1\",\"Details\")","v":"Details"},{"$f":"HYPERLINK(Options!$B$1, \"Quote\")","v":"Quote"},{"$f":"HYPERLINK(Options!$B$2,\"Fax\")","v":"Fax"}]
["JW Didado Electric, Inc.",null,"330-374-0070",null,null,null,null,null,{"$f":"HYPERLINK(\"#'Client Details'!$B$1\",\"Details\")","v":"Details"},{"$f":"HYPERLINK(Options!$B$1, \"Quote\")","v":"Quote"},{"$f":"HYPERLINK(Options!$B$2,\"Fax\")","v":"Fax"}]
["JWK Construction (Meyers)","Mark Meyers"," 616-538-9102",null,null,"Contractor General","Kent",null,{"$f":"HYPERLINK(\"#'Client Details'!$B$1\",\"Details\")","v":"Details"},{"$f":"HYPERLINK(Options!$B$1, \"Quote\")","v":"Quote"},{"$f":"HYPERLINK(Options!$B$2,\"Fax\")","v":"Fax"}]
["K & G Tool Company ()",null," 616-846-3690",null,null,"Tool Manufacturing","Ottawa",null,{"$f":"HYPERLINK(\"#'Client Details'!$B$1\",\"Details\")","v":"Details"},{"$f":"HYPERLINK(Options!$B$1, \"Quote\")","v":"Quote"},{"$f":"HYPERLINK(Options!$B$2,\"Fax\")","v":"Fax"}]
["K & H (Helmholdt)","Doug Helmholdt"," 616-877-4910","dh@kandh.com",null,"Contractor Electrical","Allegan",null,{"$f":"HYPERLINK(\"#'Client Details'!$B$1\",\"Details\")","v":"Details"},{"$f":"HYPERLINK(Options!$B$1, \"Quote\")","v":"Quote"},{"$f":"HYPERLINK(Options!$B$2,\"Fax\")","v":"Fax"}]
["Kalamazoo Boiler Company Inc. (Wilson)","Mike Wilson"," 517-741-3600","mwilson@kazooboilerco.com",null,"Contractor General","Branch",null,{"$f":"HYPERLINK(\"#'Client Details'!$B$1\",\"Details\")","v":"Details"},{"$f":"HYPERLINK(Options!$B$1, \"Quote\")","v":"Quote"},{"$f":"HYPERLINK(Options!$B$2,\"Fax\")","v":"Fax"}]
["Kalamazoo County Drain Commission (Layman","Kellie Layman"," 269-384-8117","kllaym@kalcounty.com","Soil Erosion","Municipal, Cty","Kalamazoo",null,{"$f":"HYPERLINK(\"#'Client Details'!$B$1\",\"Details\")","v":"Details"},{"$f":"HYPERLINK(Options!$B$1, \"Quote\")","v":"Quote"},{"$f":"HYPERLINK(Options!$B$2,\"Fax\")","v":"Fax"}]
["Kalamazoo Electric",null,null,null,null,null,null,null,{"$f":"HYPERLINK(\"#'Client Details'!$B$1\",\"Details\")","v":"Details"},{"$f":"HYPERLINK(Options!$B$1, \"Quote\")","v":"Quote"},{"$f":"HYPERLINK(Options!$B$2,\"Fax\")","v":"Fax"}]
["Kalamazoo Lake Sewer and Water Authority",null,"269-857-2709",null,null,null,null,null,{"$f":"HYPERLINK(\"#'Client Details'!$B$1\",\"Details\")","v":"Details"},{"$f":"HYPERLINK(Options!$B$1, \"Quote\")","v":"Quote"},{"$f":"HYPERLINK(Options!$B$2,\"Fax\")","v":"Fax"}]
["Kalamazoo Lake Water & Sewer Authority (V","Daryl VanDyke"," 269-857-2709","daryl@klswa.com","Plant Superintendent","Water Treatment","Allegan",null,{"$f":"HYPERLINK(\"#'Client Details'!$B$1\",\"Details\")","v":"Details"},{"$f":"HYPERLINK(Options!$B$1, \"Quote\")","v":"Quote"},{"$f":"HYPERLINK(Options!$B$2,\"Fax\")","v":"Fax"}]
["Kalamazoo Public Safety",null,"269-337-8120 main",null,null,null,null,null,{"$f":"HYPERLINK(\"#'Client Details'!$B$1\",\"Details\")","v":"Details"},{"$f":"HYPERLINK(Options!$B$1, \"Quote\")","v":"Quote"},{"$f":"HYPERLINK(Options!$B$2,\"Fax\")","v":"Fax"}]
["Kalamazoo Public Service Dept., City of","Mike Echols","616-337-8751",null,null,null,null,null,{"$f":"HYPERLINK(\"#'Client Details'!$B$1\",\"Details\")","v":"Details"},{"$f":"HYPERLINK(Options!$B$1, \"Quote\")","v":"Quote"},{"$f":"HYPERLINK(Options!$B$2,\"Fax\")","v":"Fax"}]
["Kalamazoo Public Services, City of (Beard","Richard Beardslee"," 269-337-8686","beardsleer@kalamazoocity.org","Wastewater System Manager","Municipal, Cty","Kalamazoo",null,{"$f":"HYPERLINK(\"#'Client Details'!$B$1\",\"Details\")","v":"Details"},{"$f":"HYPERLINK(Options!$B$1, \"Quote\")","v":"Quote"},{"$f":"HYPERLINK(Options!$B$2,\"Fax\")","v":"Fax"}]
["Kalamazoo Public Services, City of (Echol","Michael Echols"," 269-337-8751",null,"Wastewater Collection Supervis","Municipal, Cty","Kalamazoo",null,{"$f":"HYPERLINK(\"#'Client Details'!$B$1\",\"Details\")","v":"Details"},{"$f":"HYPERLINK(Options!$B$1, \"Quote\")","v":"Quote"},{"$f":"HYPERLINK(Options!$B$2,\"Fax\")","v":"Fax"}]
["Kalamazoo Public Services, City of (Gonza","Albert Gonzales"," 269-337-8539","gonzales","Process Control Electronic Tec","Municipal, Cty","Kalamazoo",null,{"$f":"HYPERLINK(\"#'Client Details'!$B$1\",\"Details\")","v":"Details"},{"$f":"HYPERLINK(Options!$B$1, \"Quote\")","v":"Quote"},{"$f":"HYPERLINK(Options!$B$2,\"Fax\")","v":"Fax"}]
["Kalamazoo Public Services, City of (McCle","Bob McClenney"," 269-337-8146","mcclenneyb@kalamazoocity.org","Field Services Assistant Manag","Municipal, Cty","Kalamazoo",null,{"$f":"HYPERLINK(\"#'Client Details'!$B$1\",\"Details\")","v":"Details"},{"$f":"HYPERLINK(Options!$B$1, \"Quote\")","v":"Quote"},{"$f":"HYPERLINK(Options!$B$2,\"Fax\")","v":"Fax"}]
["Kalkman Redi-Mix Company (Vander Lip)","Jeff Vander Lip"," 888-424-9800",null,"Foreman","Mining","Ottawa",null,{"$f":"HYPERLINK(\"#'Client Details'!$B$1\",\"Details\")","v":"Details"},{"$f":"HYPERLINK(Options!$B$1, \"Quote\")","v":"Quote"},{"$f":"HYPERLINK(Options!$B$2,\"Fax\")","v":"Fax"}]
["Kamminga & Roodvoets, Inc. (De Ward)","Robert De Ward"," 616-949-0800","deward.rob@kandrinc.com","Risk Manager","Contractor General","Kent",null,{"$f":"HYPERLINK(\"#'Client Details'!$B$1\",\"Details\")","v":"Details"},{"$f":"HYPERLINK(Options!$B$1, \"Quote\")","v":"Quote"},{"$f":"HYPERLINK(Options!$B$2,\"Fax\")","v":"Fax"}]
["Kamminga & Roodvoets, Inc. (Forde)","Greg Forde"," 616-949-0800 129","fordegr@kandrinc.com","Construction Coordinator","Contractor General","Kent",null,{"$f":"HYPERLINK(\"#'Client Details'!$B$1\",\"Details\")","v":"Details"},{"$f":"HYPERLINK(Options!$B$1, \"Quote\")","v":"Quote"},{"$f":"HYPERLINK(Options!$B$2,\"Fax\")","v":"Fax"}]
["Kamp Oil Inc.","Dennis Trendt","800-444-5267",null,null,null,null,null,{"$f":"HYPERLINK(\"#'Client Details'!$B$1\",\"Details\")","v":"Details"},{"$f":"HYPERLINK(Options!$B$1, \"Quote\")","v":"Quote"},{"$f":"HYPERLINK(Options!$B$2,\"Fax\")","v":"Fax"}]
["Kamp Oil Inc. (Trendt)","Dennis Trendt"," 800-444-5267","dennis@kampoil.com","Business Manager","Petroleum Related","Kent",null,{"$f":"HYPERLINK(\"#'Client Details'!$B$1\",\"Details\")","v":"Details"},{"$f":"HYPERLINK(Options!$B$1, \"Quote\")","v":"Quote"},{"$f":"HYPERLINK(Options!$B$2,\"Fax\")","v":"Fax"}]
["Kamps (McDonald)","Bob McDonald"," 616-453-9676","bobm@kampspallets.com","Plant Manager","Manufacturer","Kent",null,{"$f":"HYPERLINK(\"#'Client Details'!$B$1\",\"Details\")","v":"Details"},{"$f":"HYPERLINK(Options!$B$1, \"Quote\")","v":"Quote"},{"$f":"HYPERLINK(Options!$B$2,\"Fax\")","v":"Fax"}]
["Kamps Inc. (Wood Resource Division)","Mitchell Kamps","616-453-1986","mitch@kampspallets.com",null,null,null,null,{"$f":"HYPERLINK(\"#'Client Details'!$B$1\",\"Details\")","v":"Details"},{"$f":"HYPERLINK(Options!$B$1, \"Quote\")","v":"Quote"},{"$f":"HYPERLINK(Options!$B$2,\"Fax\")","v":"Fax"}]
["Kandu, Inc. (DeSlaw)","Russ DeSlaw"," 616-396-3585",null,"Safety Director",null,"Ottawa",null,{"$f":"HYPERLINK(\"#'Client Details'!$B$1\",\"Details\")","v":"Details"},{"$f":"HYPERLINK(Options!$B$1, \"Quote\")","v":"Quote"},{"$f":"HYPERLINK(Options!$B$2,\"Fax\")","v":"Fax"}]
["Kappeler, Robert","Robert Kappeler",null,null,null,null,null,null,{"$f":"HYPERLINK(\"#'Client Details'!$B$1\",\"Details\")","v":"Details"},{"$f":"HYPERLINK(Options!$B$1, \"Quote\")","v":"Quote"},{"$f":"HYPERLINK(Options!$B$2,\"Fax\")","v":"Fax"}]
["Katerberg Verhage","Marc Verhage","616-949-3030",null,null,null,null,null,{"$f":"HYPERLINK(\"#'Client Details'!$B$1\",\"Details\")","v":"Details"},{"$f":"HYPERLINK(Options!$B$1, \"Quote\")","v":"Quote"},{"$f":"HYPERLINK(Options!$B$2,\"Fax\")","v":"Fax"}]
["KCI","Mike Caswell","502-361-1669",null,null,null,null,null,{"$f":"HYPERLINK(\"#'Client Details'!$B$1\",\"Details\")","v":"Details"},{"$f":"HYPERLINK(Options!$B$1, \"Quote\")","v":"Quote"},{"$f":"HYPERLINK(Options!$B$2,\"Fax\")","v":"Fax"}]
["KEBS, Inc. (Ries)","Jamerson Ries"," 517-339-1014","jries@kebs.com","Project Manager","Engineering, Architecture","Ingham",null,{"$f":"HYPERLINK(\"#'Client Details'!$B$1\",\"Details\")","v":"Details"},{"$f":"HYPERLINK(Options!$B$1, \"Quote\")","v":"Quote"},{"$f":"HYPERLINK(Options!$B$2,\"Fax\")","v":"Fax"}]
["Kee Safety (Kirk)","Andrew Kirk",null,"akirk@keesafety.com","National Sales Manager","Supplier","Out of State",null,{"$f":"HYPERLINK(\"#'Client Details'!$B$1\",\"Details\")","v":"Details"},{"$f":"HYPERLINK(Options!$B$1, \"Quote\")","v":"Quote"},{"$f":"HYPERLINK(Options!$B$2,\"Fax\")","v":"Fax"}]
["Kellogg's Snacks","Charles Fassnacht","419-332-1518",null,null,null,null,null,{"$f":"HYPERLINK(\"#'Client Details'!$B$1\",\"Details\")","v":"Details"},{"$f":"HYPERLINK(Options!$B$1, \"Quote\")","v":"Quote"},{"$f":"HYPERLINK(Options!$B$2,\"Fax\")","v":"Fax"}]
["Kellogg's Snacks (Fassnacht)","Charles Fassnacht"," 419-332-1518 11","charles.fassnacht@kellogg.com",null,"Food","Out of State",null,{"$f":"HYPERLINK(\"#'Client Details'!$B$1\",\"Details\")","v":"Details"},{"$f":"HYPERLINK(Options!$B$1, \"Quote\")","v":"Quote"},{"$f":"HYPERLINK(Options!$B$2,\"Fax\")","v":"Fax"}]
["Kellogg's Snacks (Harris)","Ronnie Harris"," 616-475-8201",null,"Safety","Food","Kent",null,{"$f":"HYPERLINK(\"#'Client Details'!$B$1\",\"Details\")","v":"Details"},{"$f":"HYPERLINK(Options!$B$1, \"Quote\")","v":"Quote"},{"$f":"HYPERLINK(Options!$B$2,\"Fax\")","v":"Fax"}]
["Ken Coryell Trucking","Dan Bussell","616-527-9770",null,null,null,null,null,{"$f":"HYPERLINK(\"#'Client Details'!$B$1\",\"Details\")","v":"Details"},{"$f":"HYPERLINK(Options!$B$1, \"Quote\")","v":"Quote"},{"$f":"HYPERLINK(Options!$B$2,\"Fax\")","v":"Fax"}]
["Ken Coryell Trucking, Inc. (Bussell)","Dan Bussell"," 616-527-9770",null,"Manager",null,"Ionia",null,{"$f":"HYPERLINK(\"#'Client Details'!$B$1\",\"Details\")","v":"Details"},{"$f":"HYPERLINK(Options!$B$1, \"Quote\")","v":"Quote"},{"$f":"HYPERLINK(Options!$B$2,\"Fax\")","v":"Fax"}]
["Ken DeHaan",null,null,null,null,null,null,null,{"$f":"HYPERLINK(\"#'Client Details'!$B$1\",\"Details\")","v":"Details"},{"$f":"HYPERLINK(Options!$B$1, \"Quote\")","v":"Quote"},{"$f":"HYPERLINK(Options!$B$2,\"Fax\")","v":"Fax"}]
["Kendall Electric (Benton Harbor)","Mike (location manager)","269-925-3244",null,null,null,null,null,{"$f":"HYPERLINK(\"#'Client Details'!$B$1\",\"Details\")","v":"Details"},{"$f":"HYPERLINK(Options!$B$1, \"Quote\")","v":"Quote"},{"$f":"HYPERLINK(Options!$B$2,\"Fax\")","v":"Fax"}]
["Kendall Electric, Inc. (Feltner)","Kevin Feltner"," 269-925-3244","kevin.feltner@kendallelectric.com","Account Manager","Contractor Electrical","Berrien",null,{"$f":"HYPERLINK(\"#'Client Details'!$B$1\",\"Details\")","v":"Details"},{"$f":"HYPERLINK(Options!$B$1, \"Quote\")","v":"Quote"},{"$f":"HYPERLINK(Options!$B$2,\"Fax\")","v":"Fax"}]
["Kenneth Crosby NY LLC","Beth Falk","716-375-3658",null,null,null,null,null,{"$f":"HYPERLINK(\"#'Client Details'!$B$1\",\"Details\")","v":"Details"},{"$f":"HYPERLINK(Options!$B$1, \"Quote\")","v":"Quote"},{"$f":"HYPERLINK(Options!$B$2,\"Fax\")","v":"Fax"}]
["Kenneth Schulz","Kenneth Schulz","517-214-5924",null,null,null,null,null,{"$f":"HYPERLINK(\"#'Client Details'!$B$1\",\"Details\")","v":"Details"},{"$f":"HYPERLINK(Options!$B$1, \"Quote\")","v":"Quote"},{"$f":"HYPERLINK(Options!$B$2,\"Fax\")","v":"Fax"}]
["Kenowa Industries (Sprik)","Steven Sprik"," 616-392-7080 130","steven.sprik@kenowa.com","Purchasing Manager","Manufacturer","Ottawa",null,{"$f":"HYPERLINK(\"#'Client Details'!$B$1\",\"Details\")","v":"Details"},{"$f":"HYPERLINK(Options!$B$1, \"Quote\")","v":"Quote"},{"$f":"HYPERLINK(Options!$B$2,\"Fax\")","v":"Fax"}]
["Kent City DPW, City of (Evink)","Steve Evink"," 616-678-7232","returned",null,"Municipal, Cty","Kent",null,{"$f":"HYPERLINK(\"#'Client Details'!$B$1\",\"Details\")","v":"Details"},{"$f":"HYPERLINK(Options!$B$1, \"Quote\")","v":"Quote"},{"$f":"HYPERLINK(Options!$B$2,\"Fax\")","v":"Fax"}]
["Kent Companies","Charles K. Van Vliet","616-534-4909 General",null,null,null,null,null,{"$f":"HYPERLINK(\"#'Client Details'!$B$1\",\"Details\")","v":"Details"},{"$f":"HYPERLINK(Options!$B$1, \"Quote\")","v":"Quote"},{"$f":"HYPERLINK(Options!$B$2,\"Fax\")","v":"Fax"}]
["Kent Companies (Van Vliet)","Charles K. Van Vliet"," 616-534-4909 4140","chuckv@kentcompanies.com","Corporate EH&S Manager","Contractor General","Kent",null,{"$f":"HYPERLINK(\"#'Client Details'!$B$1\",\"Details\")","v":"Details"},{"$f":"HYPERLINK(Options!$B$1, \"Quote\")","v":"Quote"},{"$f":"HYPERLINK(Options!$B$2,\"Fax\")","v":"Fax"}]
["Kent County DPW","Michael Ball","616-336-2580",null,null,null,null,null,{"$f":"HYPERLINK(\"#'Client Details'!$B$1\",\"Details\")","v":"Details"},{"$f":"HYPERLINK(Options!$B$1, \"Quote\")","v":"Quote"},{"$f":"HYPERLINK(Options!$B$2,\"Fax\")","v":"Fax"}]
["Kent County DPW (Ball)","Michael Ball"," 616-336-3694","returned","Asst. Superintendent, Operatio","Municipal, Cty","Kent",null,{"$f":"HYPERLINK(\"#'Client Details'!$B$1\",\"Details\")","v":"Details"},{"$f":"HYPERLINK(Options!$B$1, \"Quote\")","v":"Quote"},{"$f":"HYPERLINK(Options!$B$2,\"Fax\")","v":"Fax"}]
["Kent County DPW (Brackett)","Jana Brackett"," 616-336-3694",null,null,"Municipal, Cty","Kent",null,{"$f":"HYPERLINK(\"#'Client Details'!$B$1\",\"Details\")","v":"Details"},{"$f":"HYPERLINK(Options!$B$1, \"Quote\")","v":"Quote"},{"$f":"HYPERLINK(Options!$B$2,\"Fax\")","v":"Fax"}]
["Kent County DPW (Danenberg)","Nate Danenberg"," 616-336-3693",null,"Senior Utility Operator","Municipal, Cty","Kent",null,{"$f":"HYPERLINK(\"#'Client Details'!$B$1\",\"Details\")","v":"Details"},{"$f":"HYPERLINK(Options!$B$1, \"Quote\")","v":"Quote"},{"$f":"HYPERLINK(Options!$B$2,\"Fax\")","v":"Fax"}]
["Kent County DPW (Landis)","Ron Landis"," 616-336-4370","ron.landis@kentcountymi.gov",null,"Municipal, Cty","Kent",null,{"$f":"HYPERLINK(\"#'Client Details'!$B$1\",\"Details\")","v":"Details"},{"$f":"HYPERLINK(Options!$B$1, \"Quote\")","v":"Quote"},{"$f":"HYPERLINK(Options!$B$2,\"Fax\")","v":"Fax"}]
["Kent County DPW (Spohn)","Randal Spohn"," 616-336-3606","randy.spohn@kentcounty.org","Supervisor, Utilities Division","Municipal, Cty","Kent",null,{"$f":"HYPERLINK(\"#'Client Details'!$B$1\",\"Details\")","v":"Details"},{"$f":"HYPERLINK(Options!$B$1, \"Quote\")","v":"Quote"},{"$f":"HYPERLINK(Options!$B$2,\"Fax\")","v":"Fax"}]
["Kent County Purchasing Office (Denhof)","Jon Denhof"," 616-336-3500",null,"Purchasing Manager","Municipal, Cty","Kent",null,{"$f":"HYPERLINK(\"#'Client Details'!$B$1\",\"Details\")","v":"Details"},{"$f":"HYPERLINK(Options!$B$1, \"Quote\")","v":"Quote"},{"$f":"HYPERLINK(Options!$B$2,\"Fax\")","v":"Fax"}]
["Kent County Road & Park Commission (Bergm","Ron Bergman"," 616-242-6901 2855",null,null,"Municipal, Cty","Kent",null,{"$f":"HYPERLINK(\"#'Client Details'!$B$1\",\"Details\")","v":"Details"},{"$f":"HYPERLINK(Options!$B$1, \"Quote\")","v":"Quote"},{"$f":"HYPERLINK(Options!$B$2,\"Fax\")","v":"Fax"}]
["Kent County Road & Park Commission (Byrne","Jerry Byrne"," 616-242-6950",null,"Director of Maintenance and Lo","Municipal, Cty","Kent",null,{"$f":"HYPERLINK(\"#'Client Details'!$B$1\",\"Details\")","v":"Details"},{"$f":"HYPERLINK(Options!$B$1, \"Quote\")","v":"Quote"},{"$f":"HYPERLINK(Options!$B$2,\"Fax\")","v":"Fax"}]
["Kent County Road & Park Commission (Kocsi","Jeffrie Kocsis"," 616-242-6917","jkocsis@kentcountyroads.net","Engineer for Maintenance","Municipal, Cty","Kent",null,{"$f":"HYPERLINK(\"#'Client Details'!$B$1\",\"Details\")","v":"Details"},{"$f":"HYPERLINK(Options!$B$1, \"Quote\")","v":"Quote"},{"$f":"HYPERLINK(Options!$B$2,\"Fax\")","v":"Fax"}]
["Kent County Road & Park Commission (McAll","Jim McAllister"," 616-242-6917","jmcallister@kentcountyroads.net",null,"Municipal, Cty","Kent",null,{"$f":"HYPERLINK(\"#'Client Details'!$B$1\",\"Details\")","v":"Details"},{"$f":"HYPERLINK(Options!$B$1, \"Quote\")","v":"Quote"},{"$f":"HYPERLINK(Options!$B$2,\"Fax\")","v":"Fax"}]
["Kent County Road & Park Commission (McDon","George McDonough"," 616-336-0200",null,"Superintendent","Municipal, Cty","Kent",null,{"$f":"HYPERLINK(\"#'Client Details'!$B$1\",\"Details\")","v":"Details"},{"$f":"HYPERLINK(Options!$B$1, \"Quote\")","v":"Quote"},{"$f":"HYPERLINK(Options!$B$2,\"Fax\")","v":"Fax"}]
["Kent County Road & Park Commission (Porri","Terry Porritt"," 616-242-6924","tporritt@kentcountyroads.net","Safety Director","Municipal, Cty","Kent",null,{"$f":"HYPERLINK(\"#'Client Details'!$B$1\",\"Details\")","v":"Details"},{"$f":"HYPERLINK(Options!$B$1, \"Quote\")","v":"Quote"},{"$f":"HYPERLINK(Options!$B$2,\"Fax\")","v":"Fax"}]
["Kent County Road & Park Commission (Tiche","Phil Tichelaar"," 616-336-2982",null,"Superintendent","Municipal, Cty","Kent",null,{"$f":"HYPERLINK(\"#'Client Details'!$B$1\",\"Details\")","v":"Details"},{"$f":"HYPERLINK(Options!$B$1, \"Quote\")","v":"Quote"},{"$f":"HYPERLINK(Options!$B$2,\"Fax\")","v":"Fax"}]
["Kent County Road Commission & Park Trust","Terry Porritt","616-242-6927 gen #",null,null,null,null,null,{"$f":"HYPERLINK(\"#'Client Details'!$B$1\",\"Details\")","v":"Details"},{"$f":"HYPERLINK(Options!$B$1, \"Quote\")","v":"Quote"},{"$f":"HYPERLINK(Options!$B$2,\"Fax\")","v":"Fax"}]
["Kent County Road Commission (Wiegerink)","Mary Wiegerink"," 616-242-6928","mwiegerink@kentcountyroads.net","Asst. Director of Finance -- P","Municipal, Cty","Kent",null,{"$f":"HYPERLINK(\"#'Client Details'!$B$1\",\"Details\")","v":"Details"},{"$f":"HYPERLINK(Options!$B$1, \"Quote\")","v":"Quote"},{"$f":"HYPERLINK(Options!$B$2,\"Fax\")","v":"Fax"}]
["Kent County Sheriff's Department (Stewart","Jack Stewart"," 616-632-6258",null,null,"Municipal, Cty","Kent",null,{"$f":"HYPERLINK(\"#'Client Details'!$B$1\",\"Details\")","v":"Details"},{"$f":"HYPERLINK(Options!$B$1, \"Quote\")","v":"Quote"},{"$f":"HYPERLINK(Options!$B$2,\"Fax\")","v":"Fax"}]
["Kent County Sheriff's Department (Weemhof","Jan Weemhoff"," 616-336-4091","jan.weemhoff@kentcounty.org",null,"Municipal, Cty","Kent",null,{"$f":"HYPERLINK(\"#'Client Details'!$B$1\",\"Details\")","v":"Details"},{"$f":"HYPERLINK(Options!$B$1, \"Quote\")","v":"Quote"},{"$f":"HYPERLINK(Options!$B$2,\"Fax\")","v":"Fax"}]
["Kent County Sheriff's Dept","Jim Van Bendegom",null,null,null,null,null,null,{"$f":"HYPERLINK(\"#'Client Details'!$B$1\",\"Details\")","v":"Details"},{"$f":"HYPERLINK(Options!$B$1, \"Quote\")","v":"Quote"},{"$f":"HYPERLINK(Options!$B$2,\"Fax\")","v":"Fax"}]
["Kent Power Inc.","Ron Fast","616-678-5775",null,null,null,null,null,{"$f":"HYPERLINK(\"#'Client Details'!$B$1\",\"Details\")","v":"Details"},{"$f":"HYPERLINK(Options!$B$1, \"Quote\")","v":"Quote"},{"$f":"HYPERLINK(Options!$B$2,\"Fax\")","v":"Fax"}]
["Kent Power Inc. (Butler)","Bonnie Butler"," 616-678-5775","bbutler@kentpower.com","Buyer","Contractor Electrical","Kent",null,{"$f":"HYPERLINK(\"#'Client Details'!$B$1\",\"Details\")","v":"Details"},{"$f":"HYPERLINK(Options!$B$1, \"Quote\")","v":"Quote"},{"$f":"HYPERLINK(Options!$B$2,\"Fax\")","v":"Fax"}]
["Kent Power Inc. (Fast)","Ron Fast"," 616-678-5775","rfast@kentpower.com","Safety Manager","Contractor Electrical","Kent",null,{"$f":"HYPERLINK(\"#'Client Details'!$B$1\",\"Details\")","v":"Details"},{"$f":"HYPERLINK(Options!$B$1, \"Quote\")","v":"Quote"},{"$f":"HYPERLINK(Options!$B$2,\"Fax\")","v":"Fax"}]
["Kent Power Inc. (Kennedy)","Rob Kennedy"," 616-678-5775","rkennedy@kentpower.com","Safety Administrator","Contractor Electrical","Kent",null,{"$f":"HYPERLINK(\"#'Client Details'!$B$1\",\"Details\")","v":"Details"},{"$f":"HYPERLINK(Options!$B$1, \"Quote\")","v":"Quote"},{"$f":"HYPERLINK(Options!$B$2,\"Fax\")","v":"Fax"}]
["Kent Power Inc. (Ritzenhein)","Jerry Ritzenhein"," 616-678-5775","jritzenhein@kentpower.com","Superintendent, Gas Division","Contractor Electrical","Kent",null,{"$f":"HYPERLINK(\"#'Client Details'!$B$1\",\"Details\")","v":"Details"},{"$f":"HYPERLINK(Options!$B$1, \"Quote\")","v":"Quote"},{"$f":"HYPERLINK(Options!$B$2,\"Fax\")","v":"Fax"}]
["Kentwood DPW, City of","Terry Steenhagen","616-554-0817","steenhagent@ci.kentwood.mi.us",null,null,null,null,{"$f":"HYPERLINK(\"#'Client Details'!$B$1\",\"Details\")","v":"Details"},{"$f":"HYPERLINK(Options!$B$1, \"Quote\")","v":"Quote"},{"$f":"HYPERLINK(Options!$B$2,\"Fax\")","v":"Fax"}]
["Kentwood DPW, City of (Gorney)","John Gorney"," 616-554-0825","gorneyj@ci.kentwood.mi.us","Operations / Utilities Manager","Municipal, Cty","Kent",null,{"$f":"HYPERLINK(\"#'Client Details'!$B$1\",\"Details\")","v":"Details"},{"$f":"HYPERLINK(Options!$B$1, \"Quote\")","v":"Quote"},{"$f":"HYPERLINK(Options!$B$2,\"Fax\")","v":"Fax"}]
["Kentwood DPW, City of (Leverence)","Ron Leverence"," 616-554-0762",null,null,"Municipal, Cty","Kent",null,{"$f":"HYPERLINK(\"#'Client Details'!$B$1\",\"Details\")","v":"Details"},{"$f":"HYPERLINK(Options!$B$1, \"Quote\")","v":"Quote"},{"$f":"HYPERLINK(Options!$B$2,\"Fax\")","v":"Fax"}]
["Kentwood DPW, City of (Steenhagen)","Terry Steenhagen"," 616-554-0733","steenhagent@ci.kentwood.mi.us",null,"Municipal, Cty","Kent",null,{"$f":"HYPERLINK(\"#'Client Details'!$B$1\",\"Details\")","v":"Details"},{"$f":"HYPERLINK(Options!$B$1, \"Quote\")","v":"Quote"},{"$f":"HYPERLINK(Options!$B$2,\"Fax\")","v":"Fax"}]
["Kentwood Fire Dept., City of",null,"616-554-0806","See note section for details",null,null,null,null,{"$f":"HYPERLINK(\"#'Client Details'!$B$1\",\"Details\")","v":"Details"},{"$f":"HYPERLINK(Options!$B$1, \"Quote\")","v":"Quote"},{"$f":"HYPERLINK(Options!$B$2,\"Fax\")","v":"Fax"}]
["Kentwood Fire Dept., City of (Ginebaugh)","Gregory Ginebaugh"," 616-554-0807 VM 3163","ginebaugh@www.ci.kentwood.mi.us","Captain","Fire Department","Kent",null,{"$f":"HYPERLINK(\"#'Client Details'!$B$1\",\"Details\")","v":"Details"},{"$f":"HYPERLINK(Options!$B$1, \"Quote\")","v":"Quote"},{"$f":"HYPERLINK(Options!$B$2,\"Fax\")","v":"Fax"}]
["Kentwood Fire Dept., City of (Hoving)","Steve Hoving"," 616-534-7117","hovings@ci.kentwood.mi.us",null,"Municipal, Cty","Kent",null,{"$f":"HYPERLINK(\"#'Client Details'!$B$1\",\"Details\")","v":"Details"},{"$f":"HYPERLINK(Options!$B$1, \"Quote\")","v":"Quote"},{"$f":"HYPERLINK(Options!$B$2,\"Fax\")","v":"Fax"}]
["Kentwood Powder Coat","Denny Zuller","616-698-8181",null,null,null,null,null,{"$f":"HYPERLINK(\"#'Client Details'!$B$1\",\"Details\")","v":"Details"},{"$f":"HYPERLINK(Options!$B$1, \"Quote\")","v":"Quote"},{"$f":"HYPERLINK(Options!$B$2,\"Fax\")","v":"Fax"}]
["Kentwood Powder Coat (Zuller)","Denny Zuller"," 616-698-8181","dzuller@kentwoodpowder.com",null,"Automotive","Kent",null,{"$f":"HYPERLINK(\"#'Client Details'!$B$1\",\"Details\")","v":"Details"},{"$f":"HYPERLINK(Options!$B$1, \"Quote\")","v":"Quote"},{"$f":"HYPERLINK(Options!$B$2,\"Fax\")","v":"Fax"}]
["Kentwood Water Dept., City of","Terry Steenhagen","616-554-0734",null,null,null,null,null,{"$f":"HYPERLINK(\"#'Client Details'!$B$1\",\"Details\")","v":"Details"},{"$f":"HYPERLINK(Options!$B$1, \"Quote\")","v":"Quote"},{"$f":"HYPERLINK(Options!$B$2,\"Fax\")","v":"Fax"}]
["Kentwood, City of (Beke)","Jim Beke"," 616-554-0737",null,"Engineering Technician","Municipal, Cty","Kent",null,{"$f":"HYPERLINK(\"#'Client Details'!$B$1\",\"Details\")","v":"Details"},{"$f":"HYPERLINK(Options!$B$1, \"Quote\")","v":"Quote"},{"$f":"HYPERLINK(Options!$B$2,\"Fax\")","v":"Fax"}]
["Kentwood, City of (Kane)","Karla Kane"," 616-554-0772 1779","kanec@ci.kentwood.mi.us","Buyer","Municipal, Cty","Kent",null,{"$f":"HYPERLINK(\"#'Client Details'!$B$1\",\"Details\")","v":"Details"},{"$f":"HYPERLINK(Options!$B$1, \"Quote\")","v":"Quote"},{"$f":"HYPERLINK(Options!$B$2,\"Fax\")","v":"Fax"}]
["Kentwood, City of (Tietze)","Phil Tietze"," 616-554-0829 1779","tietzp@ci.kentwood.mi.us","Purchasing Manager","Municipal, Cty","Kent",null,{"$f":"HYPERLINK(\"#'Client Details'!$B$1\",\"Details\")","v":"Details"},{"$f":"HYPERLINK(Options!$B$1, \"Quote\")","v":"Quote"},{"$f":"HYPERLINK(Options!$B$2,\"Fax\")","v":"Fax"}]
["Kenwal Steel Co.",null,null,null,null,null,null,null,{"$f":"HYPERLINK(\"#'Client Details'!$B$1\",\"Details\")","v":"Details"},{"$f":"HYPERLINK(Options!$B$1, \"Quote\")","v":"Quote"},{"$f":"HYPERLINK(Options!$B$2,\"Fax\")","v":"Fax"}]
["Kerkstra Precast (Dood)","Tim Dood"," 616-457-4920","tdood@kerkstra.com","Sales","Manufacturer","Kent",null,{"$f":"HYPERLINK(\"#'Client Details'!$B$1\",\"Details\")","v":"Details"},{"$f":"HYPERLINK(Options!$B$1, \"Quote\")","v":"Quote"},{"$f":"HYPERLINK(Options!$B$2,\"Fax\")","v":"Fax"}]
["Kerkstra Precast Inc.","Scott Hartman","616-224-6159 main",null,null,null,null,null,{"$f":"HYPERLINK(\"#'Client Details'!$B$1\",\"Details\")","v":"Details"},{"$f":"HYPERLINK(Options!$B$1, \"Quote\")","v":"Quote"},{"$f":"HYPERLINK(Options!$B$2,\"Fax\")","v":"Fax"}]
["Kerkstra Spancrete Great Lakes (DeKock)","Kurt DeKock"," 616-224-6159 306","kdekock@kerkstra.com","Facilities Manager","Manufacturer","Kent",null,{"$f":"HYPERLINK(\"#'Client Details'!$B$1\",\"Details\")","v":"Details"},{"$f":"HYPERLINK(Options!$B$1, \"Quote\")","v":"Quote"},{"$f":"HYPERLINK(Options!$B$2,\"Fax\")","v":"Fax"}]
["Kerkstra Spancrete Great Lakes (Hartmann)","Scott Hartmann"," 616-224-6159 306","shartmann@kerkstra.com","Master Scheduler","Manufacturer","Kent",null,{"$f":"HYPERLINK(\"#'Client Details'!$B$1\",\"Details\")","v":"Details"},{"$f":"HYPERLINK(Options!$B$1, \"Quote\")","v":"Quote"},{"$f":"HYPERLINK(Options!$B$2,\"Fax\")","v":"Fax"}]
["Kerkstra Spancrete Great Lakes (Plantenga","Dave Plantenga"," 616-224-6159 315","dplantenga@kerkstra.com","Plant Manager","Manufacturer","Kent",null,{"$f":"HYPERLINK(\"#'Client Details'!$B$1\",\"Details\")","v":"Details"},{"$f":"HYPERLINK(Options!$B$1, \"Quote\")","v":"Quote"},{"$f":"HYPERLINK(Options!$B$2,\"Fax\")","v":"Fax"}]
["Kerkstra Spancrete Great Lakes (Van Ooyen","Cal Van Ooyen"," 616-301-1561","cvanooyen@kerkstra.com","Engineer","Manufacturer","Kent",null,{"$f":"HYPERLINK(\"#'Client Details'!$B$1\",\"Details\")","v":"Details"},{"$f":"HYPERLINK(Options!$B$1, \"Quote\")","v":"Quote"},{"$f":"HYPERLINK(Options!$B$2,\"Fax\")","v":"Fax"}]
["Kerkstra Waste Recovery & Enviro. Svc.",null,"616-366-2040",null,null,null,null,null,{"$f":"HYPERLINK(\"#'Client Details'!$B$1\",\"Details\")","v":"Details"},{"$f":"HYPERLINK(Options!$B$1, \"Quote\")","v":"Quote"},{"$f":"HYPERLINK(Options!$B$2,\"Fax\")","v":"Fax"}]
["Kerkstra Waste Recovery & Enviro. Svc. (O","Tim O'Leary"," 616-366-2040",null,null,null,"Ottawa",null,{"$f":"HYPERLINK(\"#'Client Details'!$B$1\",\"Details\")","v":"Details"},{"$f":"HYPERLINK(Options!$B$1, \"Quote\")","v":"Quote"},{"$f":"HYPERLINK(Options!$B$2,\"Fax\")","v":"Fax"}]
["Kewit (G.R. Mich. St. Project)",null,"Paul: 703-297-2755",null,null,null,null,null,{"$f":"HYPERLINK(\"#'Client Details'!$B$1\",\"Details\")","v":"Details"},{"$f":"HYPERLINK(Options!$B$1, \"Quote\")","v":"Quote"},{"$f":"HYPERLINK(Options!$B$2,\"Fax\")","v":"Fax"}]
["Key Energy Services (Jane Lew)","George Wilhelm","304-517-3039 cell",null,null,null,null,null,{"$f":"HYPERLINK(\"#'Client Details'!$B$1\",\"Details\")","v":"Details"},{"$f":"HYPERLINK(Options!$B$1, \"Quote\")","v":"Quote"},{"$f":"HYPERLINK(Options!$B$2,\"Fax\")","v":"Fax"}]
["Key Energy Services (Mt. Pleasant)","John Davisson","989-773-7939",null,null,null,null,null,{"$f":"HYPERLINK(\"#'Client Details'!$B$1\",\"Details\")","v":"Details"},{"$f":"HYPERLINK(Options!$B$1, \"Quote\")","v":"Quote"},{"$f":"HYPERLINK(Options!$B$2,\"Fax\")","v":"Fax"}]
["Key Energy Services (Rock Springs)","Glenn Archer","307-679-6123",null,null,null,null,null,{"$f":"HYPERLINK(\"#'Client Details'!$B$1\",\"Details\")","v":"Details"},{"$f":"HYPERLINK(Options!$B$1, \"Quote\")","v":"Quote"},{"$f":"HYPERLINK(Options!$B$2,\"Fax\")","v":"Fax"}]
["Key Energy Services (Weston WV)","Glenn Archer","307-679-6123",null,null,null,null,null,{"$f":"HYPERLINK(\"#'Client Details'!$B$1\",\"Details\")","v":"Details"},{"$f":"HYPERLINK(Options!$B$1, \"Quote\")","v":"Quote"},{"$f":"HYPERLINK(Options!$B$2,\"Fax\")","v":"Fax"}]
["Key Mart Inc. (Stephan)","Ken Stephan"," 800-228-7755",null,null,"Supplier","Out of State",null,{"$f":"HYPERLINK(\"#'Client Details'!$B$1\",\"Details\")","v":"Details"},{"$f":"HYPERLINK(Options!$B$1, \"Quote\")","v":"Quote"},{"$f":"HYPERLINK(Options!$B$2,\"Fax\")","v":"Fax"}]
["Keystone Foods (Hadding)","Tim Hadding"," 419-727-6629","tim.hadding@keystonefoods.com","Sr. Distribution Manager","Food","Out of State",null,{"$f":"HYPERLINK(\"#'Client Details'!$B$1\",\"Details\")","v":"Details"},{"$f":"HYPERLINK(Options!$B$1, \"Quote\")","v":"Quote"},{"$f":"HYPERLINK(Options!$B$2,\"Fax\")","v":"Fax"}]
["Kinder Morgan - River Transportation","Carol Hummel ext. 15","513-941-0500",null,null,null,null,null,{"$f":"HYPERLINK(\"#'Client Details'!$B$1\",\"Details\")","v":"Details"},{"$f":"HYPERLINK(Options!$B$1, \"Quote\")","v":"Quote"},{"$f":"HYPERLINK(Options!$B$2,\"Fax\")","v":"Fax"}]
["Kinder Morgan, Pinney Dock (Ashtabula)","Brad Biro","440-964-7186 x212","brad_biro@kindermorgan.com",null,null,null,null,{"$f":"HYPERLINK(\"#'Client Details'!$B$1\",\"Details\")","v":"Details"},{"$f":"HYPERLINK(Options!$B$1, \"Quote\")","v":"Quote"},{"$f":"HYPERLINK(Options!$B$2,\"Fax\")","v":"Fax"}]
["King & MacGregor Environmental (Kelly)","Theresa Kelly"," 616-957-1231",null,"Landscaping Architect","Contractor EH&S","Kent",null,{"$f":"HYPERLINK(\"#'Client Details'!$B$1\",\"Details\")","v":"Details"},{"$f":"HYPERLINK(Options!$B$1, \"Quote\")","v":"Quote"},{"$f":"HYPERLINK(Options!$B$2,\"Fax\")","v":"Fax"}]
["Kirby Risk Electrical Supply","Jeff Blount","765-457-5255",null,null,null,null,null,{"$f":"HYPERLINK(\"#'Client Details'!$B$1\",\"Details\")","v":"Details"},{"$f":"HYPERLINK(Options!$B$1, \"Quote\")","v":"Quote"},{"$f":"HYPERLINK(Options!$B$2,\"Fax\")","v":"Fax"}]
["Klaasen Electric Inc. (De Vries)","Bob De Vries"," 616-738-8760",null,"President","Contractor Electrical","Ottawa",null,{"$f":"HYPERLINK(\"#'Client Details'!$B$1\",\"Details\")","v":"Details"},{"$f":"HYPERLINK(Options!$B$1, \"Quote\")","v":"Quote"},{"$f":"HYPERLINK(Options!$B$2,\"Fax\")","v":"Fax"}]
["Knape & Vogt","Scott Johnson","616-459-3311","dan.suttorp@kv.com",null,null,null,null,{"$f":"HYPERLINK(\"#'Client Details'!$B$1\",\"Details\")","v":"Details"},{"$f":"HYPERLINK(Options!$B$1, \"Quote\")","v":"Quote"},{"$f":"HYPERLINK(Options!$B$2,\"Fax\")","v":"Fax"}]
["Knape & Vogt (Suttorp)","Dan Suttorp"," 616-459-3311 245","dan.suttorp@kv.com","Corporate EH&S Manager","Manufacturer","Kent",null,{"$f":"HYPERLINK(\"#'Client Details'!$B$1\",\"Details\")","v":"Details"},{"$f":"HYPERLINK(Options!$B$1, \"Quote\")","v":"Quote"},{"$f":"HYPERLINK(Options!$B$2,\"Fax\")","v":"Fax"}]
["Knoll (Barsamian)","Alex Barsamian"," 616-957-7203","abarsamian@knoll.com","Safety Manager","Furniture","Kent",null,{"$f":"HYPERLINK(\"#'Client Details'!$B$1\",\"Details\")","v":"Details"},{"$f":"HYPERLINK(Options!$B$1, \"Quote\")","v":"Quote"},{"$f":"HYPERLINK(Options!$B$2,\"Fax\")","v":"Fax"}]
["Knoll Inc.","Jennifer Ritsema","231-755-9296","jritsmema@knoll.com",null,null,null,null,{"$f":"HYPERLINK(\"#'Client Details'!$B$1\",\"Details\")","v":"Details"},{"$f":"HYPERLINK(Options!$B$1, \"Quote\")","v":"Quote"},{"$f":"HYPERLINK(Options!$B$2,\"Fax\")","v":"Fax"}]
["Knoll Inc. (Ritsema)","Jennifer Ritsema"," 231-755-9296","jritsema@knoll.com","Safety Director","Furniture Manufacturing","Muskegon",null,{"$f":"HYPERLINK(\"#'Client Details'!$B$1\",\"Details\")","v":"Details"},{"$f":"HYPERLINK(Options!$B$1, \"Quote\")","v":"Quote"},{"$f":"HYPERLINK(Options!$B$2,\"Fax\")","v":"Fax"}]
["Koch Environmental Analytical Consultants","Dick Koch"," 269-792-9935","arkoch@charter.net","President","Contractor EH&S","Allegan",null,{"$f":"HYPERLINK(\"#'Client Details'!$B$1\",\"Details\")","v":"Details"},{"$f":"HYPERLINK(Options!$B$1, \"Quote\")","v":"Quote"},{"$f":"HYPERLINK(Options!$B$2,\"Fax\")","v":"Fax"}]
["Koch Materials Company (Schmied)","Randall Schmied"," 231-352-9678",null,"Terminal Manager","Petroleum Related","Benzie",null,{"$f":"HYPERLINK(\"#'Client Details'!$B$1\",\"Details\")","v":"Details"},{"$f":"HYPERLINK(Options!$B$1, \"Quote\")","v":"Quote"},{"$f":"HYPERLINK(Options!$B$2,\"Fax\")","v":"Fax"}]
["Koeze Company","Bill Ryszka","616-724-2601",null,null,null,null,null,{"$f":"HYPERLINK(\"#'Client Details'!$B$1\",\"Details\")","v":"Details"},{"$f":"HYPERLINK(Options!$B$1, \"Quote\")","v":"Quote"},{"$f":"HYPERLINK(Options!$B$2,\"Fax\")","v":"Fax"}]
["Koeze Company (Anderson)","Melanie Anderson"," 616-724-2617","manderson@koeze.com",null,"Food","Kent",null,{"$f":"HYPERLINK(\"#'Client Details'!$B$1\",\"Details\")","v":"Details"},{"$f":"HYPERLINK(Options!$B$1, \"Quote\")","v":"Quote"},{"$f":"HYPERLINK(Options!$B$2,\"Fax\")","v":"Fax"}]
["Koeze Company (Feenstra)","John Feenstra"," 616-724-2601 1401","jfeenstra@koeze.com","Materials Manager","Food","Kent",null,{"$f":"HYPERLINK(\"#'Client Details'!$B$1\",\"Details\")","v":"Details"},{"$f":"HYPERLINK(Options!$B$1, \"Quote\")","v":"Quote"},{"$f":"HYPERLINK(Options!$B$2,\"Fax\")","v":"Fax"}]
["Kooi Industrial Painting Co.",null,"616-245-3052",null,null,null,null,null,{"$f":"HYPERLINK(\"#'Client Details'!$B$1\",\"Details\")","v":"Details"},{"$f":"HYPERLINK(Options!$B$1, \"Quote\")","v":"Quote"},{"$f":"HYPERLINK(Options!$B$2,\"Fax\")","v":"Fax"}]
["Kooi Industrial Painting Co. (Bierens)","James Bierens"," 616-245-3052","jim@kooipainting.com",null,"Contractor General","Kent",null,{"$f":"HYPERLINK(\"#'Client Details'!$B$1\",\"Details\")","v":"Details"},{"$f":"HYPERLINK(Options!$B$1, \"Quote\")","v":"Quote"},{"$f":"HYPERLINK(Options!$B$2,\"Fax\")","v":"Fax"}]
["Kooi Industrial Painting Co. (MacLeod)","Bruce MacLeod"," 616-245-3052","bruce@kooipainting.com",null,"Contractor General","Kent",null,{"$f":"HYPERLINK(\"#'Client Details'!$B$1\",\"Details\")","v":"Details"},{"$f":"HYPERLINK(Options!$B$1, \"Quote\")","v":"Quote"},{"$f":"HYPERLINK(Options!$B$2,\"Fax\")","v":"Fax"}]
["Koops Well Drilling (Beckley)","Russ Beckley"," 269-651-5071",null,"Safety Director","Well Drilling","Ottawa",null,{"$f":"HYPERLINK(\"#'Client Details'!$B$1\",\"Details\")","v":"Details"},{"$f":"HYPERLINK(Options!$B$1, \"Quote\")","v":"Quote"},{"$f":"HYPERLINK(Options!$B$2,\"Fax\")","v":"Fax"}]
["Kore, Inc.","Dan Jones","616-785-5900",null,null,null,null,null,{"$f":"HYPERLINK(\"#'Client Details'!$B$1\",\"Details\")","v":"Details"},{"$f":"HYPERLINK(Options!$B$1, \"Quote\")","v":"Quote"},{"$f":"HYPERLINK(Options!$B$2,\"Fax\")","v":"Fax"}]
["Koster Excavating",null,"616-457-2320",null,null,null,null,null,{"$f":"HYPERLINK(\"#'Client Details'!$B$1\",\"Details\")","v":"Details"},{"$f":"HYPERLINK(Options!$B$1, \"Quote\")","v":"Quote"},{"$f":"HYPERLINK(Options!$B$2,\"Fax\")","v":"Fax"}]
["Koster Excavating Inc. (Grasman)","Dave Grasman"," 616-457-2320",null,null,"Contractor, Excavator","Kent",null,{"$f":"HYPERLINK(\"#'Client Details'!$B$1\",\"Details\")","v":"Details"},{"$f":"HYPERLINK(Options!$B$1, \"Quote\")","v":"Quote"},{"$f":"HYPERLINK(Options!$B$2,\"Fax\")","v":"Fax"}]
["Kraus & Kessenich (Kessenich)","Joe Kessenich"," 616-957-1625","joe.kandk@sbcglobal.net",null,"Engineering, Architecture","Kent",null,{"$f":"HYPERLINK(\"#'Client Details'!$B$1\",\"Details\")","v":"Details"},{"$f":"HYPERLINK(Options!$B$1, \"Quote\")","v":"Quote"},{"$f":"HYPERLINK(Options!$B$2,\"Fax\")","v":"Fax"}]
["Kraus & Kessenich Civil Engineers",null,"616-957-1625",null,null,null,null,null,{"$f":"HYPERLINK(\"#'Client Details'!$B$1\",\"Details\")","v":"Details"},{"$f":"HYPERLINK(Options!$B$1, \"Quote\")","v":"Quote"},{"$f":"HYPERLINK(Options!$B$2,\"Fax\")","v":"Fax"}]
["Kruger Commodities (Lemley)","Don Lemley"," 269-751-0560",null,"Site Manager","Rendering/Processing","Allegan",null,{"$f":"HYPERLINK(\"#'Client Details'!$B$1\",\"Details\")","v":"Details"},{"$f":"HYPERLINK(Options!$B$1, \"Quote\")","v":"Quote"},{"$f":"HYPERLINK(Options!$B$2,\"Fax\")","v":"Fax"}]
["Kruger Commodities Inc.","Don Lemley","269-751-0560",null,null,null,null,null,{"$f":"HYPERLINK(\"#'Client Details'!$B$1\",\"Details\")","v":"Details"},{"$f":"HYPERLINK(Options!$B$1, \"Quote\")","v":"Quote"},{"$f":"HYPERLINK(Options!$B$2,\"Fax\")","v":"Fax"}]
["Kruszynski Construction","Scott Kruszynski","231-206-6077","wenkru@hotmail.com",null,null,null,null,{"$f":"HYPERLINK(\"#'Client Details'!$B$1\",\"Details\")","v":"Details"},{"$f":"HYPERLINK(Options!$B$1, \"Quote\")","v":"Quote"},{"$f":"HYPERLINK(Options!$B$2,\"Fax\")","v":"Fax"}]
["Kubota Metal Corp","Wayne John","705-325-2781",null,null,null,null,null,{"$f":"HYPERLINK(\"#'Client Details'!$B$1\",\"Details\")","v":"Details"},{"$f":"HYPERLINK(Options!$B$1, \"Quote\")","v":"Quote"},{"$f":"HYPERLINK(Options!$B$2,\"Fax\")","v":"Fax"}]
["Kubota Metal Corp (John)","Wayne John"," 705-325-2781","john@kubotametal.com",null,"Steel","N/A",null,{"$f":"HYPERLINK(\"#'Client Details'!$B$1\",\"Details\")","v":"Details"},{"$f":"HYPERLINK(Options!$B$1, \"Quote\")","v":"Quote"},{"$f":"HYPERLINK(Options!$B$2,\"Fax\")","v":"Fax"}]
["Kurdziel Iron of Rothbury, Inc. (Cobb)","Vince Cobb"," 231-893-1415",null,null,"Steel","Muskegon",null,{"$f":"HYPERLINK(\"#'Client Details'!$B$1\",\"Details\")","v":"Details"},{"$f":"HYPERLINK(Options!$B$1, \"Quote\")","v":"Quote"},{"$f":"HYPERLINK(Options!$B$2,\"Fax\")","v":"Fax"}]
["Kurent Safety Inc.","Matt Kuzel","217-429-8889","bcavanaugh@kurentsafety.com",null,null,null,null,{"$f":"HYPERLINK(\"#'Client Details'!$B$1\",\"Details\")","v":"Details"},{"$f":"HYPERLINK(Options!$B$1, \"Quote\")","v":"Quote"},{"$f":"HYPERLINK(Options!$B$2,\"Fax\")","v":"Fax"}]
["Kurent Safety, Inc. (Harbison)","Geoff Harbison"," 866-587-3681","gharbison@kurentsafety.com","Owner","Supplier","Out of State",null,{"$f":"HYPERLINK(\"#'Client Details'!$B$1\",\"Details\")","v":"Details"},{"$f":"HYPERLINK(Options!$B$1, \"Quote\")","v":"Quote"},{"$f":"HYPERLINK(Options!$B$2,\"Fax\")","v":"Fax"}]
["Kurent Safety, Inc. (Kuzel)","Matt Kuzel"," 866-587-3681","mrkuzel@kurentsafety.com","Owner","Supplier","Out of State",null,{"$f":"HYPERLINK(\"#'Client Details'!$B$1\",\"Details\")","v":"Details"},{"$f":"HYPERLINK(Options!$B$1, \"Quote\")","v":"Quote"},{"$f":"HYPERLINK(Options!$B$2,\"Fax\")","v":"Fax"}]
["L & L Products (74100 Van Dyke)","Kara Wawrowski","586-336-3519",null,null,null,null,null,{"$f":"HYPERLINK(\"#'Client Details'!$B$1\",\"Details\")","v":"Details"},{"$f":"HYPERLINK(Options!$B$1, \"Quote\")","v":"Quote"},{"$f":"HYPERLINK(Options!$B$2,\"Fax\")","v":"Fax"}]
["L & L Products (Roffe)","Shelly Roffe"," 586-336-3494",null,null,"Manufacturer","Macomb",null,{"$f":"HYPERLINK(\"#'Client Details'!$B$1\",\"Details\")","v":"Details"},{"$f":"HYPERLINK(Options!$B$1, \"Quote\")","v":"Quote"},{"$f":"HYPERLINK(Options!$B$2,\"Fax\")","v":"Fax"}]
["L & L Sawmill, Inc. (Latsch)","Ed Latsch"," 231-788-2005",null,null,"Other","Muskegon",null,{"$f":"HYPERLINK(\"#'Client Details'!$B$1\",\"Details\")","v":"Details"},{"$f":"HYPERLINK(Options!$B$1, \"Quote\")","v":"Quote"},{"$f":"HYPERLINK(Options!$B$2,\"Fax\")","v":"Fax"}]
["L & W Engineering Company (Coffman)","Gloria Coffman"," 734-397-8085","gcoffman@lweng.com","Safety & Training Coordinator","Manufacturer","Wayne",null,{"$f":"HYPERLINK(\"#'Client Details'!$B$1\",\"Details\")","v":"Details"},{"$f":"HYPERLINK(Options!$B$1, \"Quote\")","v":"Quote"},{"$f":"HYPERLINK(Options!$B$2,\"Fax\")","v":"Fax"}]
["L & W Engineering Company (Sutton)","Virgette Sutton"," 734-397-7419","vsutton@lweng.com",null,"Manufacturer","Wayne",null,{"$f":"HYPERLINK(\"#'Client Details'!$B$1\",\"Details\")","v":"Details"},{"$f":"HYPERLINK(Options!$B$1, \"Quote\")","v":"Quote"},{"$f":"HYPERLINK(Options!$B$2,\"Fax\")","v":"Fax"}]
["L.J.S. Home Inspection (Steyer)","Len & Pat Steyer"," 419-981-2568","ljshomeinsp@bright.net",null,"Contractor EH&S","Out of State",null,{"$f":"HYPERLINK(\"#'Client Details'!$B$1\",\"Details\")","v":"Details"},{"$f":"HYPERLINK(Options!$B$1, \"Quote\")","v":"Quote"},{"$f":"HYPERLINK(Options!$B$2,\"Fax\")","v":"Fax"}]
["L3 Communications (Dillon)","Keith Dillon"," 231-724-2151","keith.dillon@L-3com.com",null,"Manufacturer","Muskegon",null,{"$f":"HYPERLINK(\"#'Client Details'!$B$1\",\"Details\")","v":"Details"},{"$f":"HYPERLINK(Options!$B$1, \"Quote\")","v":"Quote"},{"$f":"HYPERLINK(Options!$B$2,\"Fax\")","v":"Fax"}]
["L3 Communications (Drake)","Ron Drake"," 231-724-2159","ron.drake@l-3.com","Stores","Manufacturer","Muskegon",null,{"$f":"HYPERLINK(\"#'Client Details'!$B$1\",\"Details\")","v":"Details"},{"$f":"HYPERLINK(Options!$B$1, \"Quote\")","v":"Quote"},{"$f":"HYPERLINK(Options!$B$2,\"Fax\")","v":"Fax"}]
["L3 Communications (Hooton)","Robert Hooton"," 231-724-2044 2044","hootonr@gdls.com","Manufacturing Engineer","Manufacturer","Muskegon",null,{"$f":"HYPERLINK(\"#'Client Details'!$B$1\",\"Details\")","v":"Details"},{"$f":"HYPERLINK(Options!$B$1, \"Quote\")","v":"Quote"},{"$f":"HYPERLINK(Options!$B$2,\"Fax\")","v":"Fax"}]
["L3 Communications (Jarrell)","John Jarrell"," 231-724-2716","john.jarrell@L-3com.com",null,"Manufacturer","Muskegon",null,{"$f":"HYPERLINK(\"#'Client Details'!$B$1\",\"Details\")","v":"Details"},{"$f":"HYPERLINK(Options!$B$1, \"Quote\")","v":"Quote"},{"$f":"HYPERLINK(Options!$B$2,\"Fax\")","v":"Fax"}]
["L3 Communications (LeMaire)","Chuck LeMaire"," 231-724-2159","chuck.lemaire@l-3com.com","Respirator","Battle Equipment","Muskegon",null,{"$f":"HYPERLINK(\"#'Client Details'!$B$1\",\"Details\")","v":"Details"},{"$f":"HYPERLINK(Options!$B$1, \"Quote\")","v":"Quote"},{"$f":"HYPERLINK(Options!$B$2,\"Fax\")","v":"Fax"}]
["L3 Communications (Musk)",null,null,"(wilbur fax 231-724-2865)",null,null,null,null,{"$f":"HYPERLINK(\"#'Client Details'!$B$1\",\"Details\")","v":"Details"},{"$f":"HYPERLINK(Options!$B$1, \"Quote\")","v":"Quote"},{"$f":"HYPERLINK(Options!$B$2,\"Fax\")","v":"Fax"}]
["L3 Communications (Parente)","John Parente"," 231-724-2641","John.Parente@L-3com.com",null,"Manufacturer","Muskegon",null,{"$f":"HYPERLINK(\"#'Client Details'!$B$1\",\"Details\")","v":"Details"},{"$f":"HYPERLINK(Options!$B$1, \"Quote\")","v":"Quote"},{"$f":"HYPERLINK(Options!$B$2,\"Fax\")","v":"Fax"}]
["L3 Communications (Rowell)","Kurt Rowell"," 616-977-6861","kurt.rowell@L-3com.com","Environmental Health & Safety","Manufacturer","Kent",null,{"$f":"HYPERLINK(\"#'Client Details'!$B$1\",\"Details\")","v":"Details"},{"$f":"HYPERLINK(Options!$B$1, \"Quote\")","v":"Quote"},{"$f":"HYPERLINK(Options!$B$2,\"Fax\")","v":"Fax"}]
["L3 Communications Avionics (G.R.)","Kurt Rowell","616-977-6861",null,null,null,null,null,{"$f":"HYPERLINK(\"#'Client Details'!$B$1\",\"Details\")","v":"Details"},{"$f":"HYPERLINK(Options!$B$1, \"Quote\")","v":"Quote"},{"$f":"HYPERLINK(Options!$B$2,\"Fax\")","v":"Fax"}]
["L-A Electric (Fort Wayne)",null,"260-497-0520",null,null,null,null,null,{"$f":"HYPERLINK(\"#'Client Details'!$B$1\",\"Details\")","v":"Details"},{"$f":"HYPERLINK(Options!$B$1, \"Quote\")","v":"Quote"},{"$f":"HYPERLINK(Options!$B$2,\"Fax\")","v":"Fax"}]
["Lacks  (Protective Services)","Lisa Pond","616-554-7833","lackstrimap@lackstrim.com",null,null,null,null,{"$f":"HYPERLINK(\"#'Client Details'!$B$1\",\"Details\")","v":"Details"},{"$f":"HYPERLINK(Options!$B$1, \"Quote\")","v":"Quote"},{"$f":"HYPERLINK(Options!$B$2,\"Fax\")","v":"Fax"}]
["Lacks (Plastic Plate 1 - Monroe)","Rick Whitaker","616-455-5860 ext.5607","lackstrimap@lackstrim.com",null,null,null,null,{"$f":"HYPERLINK(\"#'Client Details'!$B$1\",\"Details\")","v":"Details"},{"$f":"HYPERLINK(Options!$B$1, \"Quote\")","v":"Quote"},{"$f":"HYPERLINK(Options!$B$2,\"Fax\")","v":"Fax"}]
["Lacks (Plastic Plate 2 - Brockton)","Denny Burris","616-698-3637","lackstrimap@lackstrim.com",null,null,null,null,{"$f":"HYPERLINK(\"#'Client Details'!$B$1\",\"Details\")","v":"Details"},{"$f":"HYPERLINK(Options!$B$1, \"Quote\")","v":"Quote"},{"$f":"HYPERLINK(Options!$B$2,\"Fax\")","v":"Fax"}]
["Lacks (Plastic Plate 3 Raleigh)","Sherri Dawson","616-554-7833","lackstrimap@lackstrim.com",null,null,null,null,{"$f":"HYPERLINK(\"#'Client Details'!$B$1\",\"Details\")","v":"Details"},{"$f":"HYPERLINK(Options!$B$1, \"Quote\")","v":"Quote"},{"$f":"HYPERLINK(Options!$B$2,\"Fax\")","v":"Fax"}]
["Lacks (Trim Systems DC, Patterson)",null,null," lackstrimap@lackstrim.com",null,null,null,null,{"$f":"HYPERLINK(\"#'Client Details'!$B$1\",\"Details\")","v":"Details"},{"$f":"HYPERLINK(Options!$B$1, \"Quote\")","v":"Quote"},{"$f":"HYPERLINK(Options!$B$2,\"Fax\")","v":"Fax"}]
["Lacks (Trim Systems-52nd Mold)","accts payable 949-6570",null,"lackstrimap@lackstrim.com",null,null,null,null,{"$f":"HYPERLINK(\"#'Client Details'!$B$1\",\"Details\")","v":"Details"},{"$f":"HYPERLINK(Options!$B$1, \"Quote\")","v":"Quote"},{"$f":"HYPERLINK(Options!$B$2,\"Fax\")","v":"Fax"}]
["Lacks (Trim Systems-Airlane Plant)","B Sweetland (buyer)","616-949-8036","lackstrimap@lackstrim.com",null,null,null,null,{"$f":"HYPERLINK(\"#'Client Details'!$B$1\",\"Details\")","v":"Details"},{"$f":"HYPERLINK(Options!$B$1, \"Quote\")","v":"Quote"},{"$f":"HYPERLINK(Options!$B$2,\"Fax\")","v":"Fax"}]
["Lacks (Wheel Trim Sys. Barden Assembly)",null,"616-554-6329","lackstrimap@lackstrim.com",null,null,null,null,{"$f":"HYPERLINK(\"#'Client Details'!$B$1\",\"Details\")","v":"Details"},{"$f":"HYPERLINK(Options!$B$1, \"Quote\")","v":"Quote"},{"$f":"HYPERLINK(Options!$B$2,\"Fax\")","v":"Fax"}]
["Lacks (Wheel Trim Sys. Barden Plating)","Debbie Warner (Accting)","616-956-7337","LacksTrimAP@LacksTrim.com",null,null,null,null,{"$f":"HYPERLINK(\"#'Client Details'!$B$1\",\"Details\")","v":"Details"},{"$f":"HYPERLINK(Options!$B$1, \"Quote\")","v":"Quote"},{"$f":"HYPERLINK(Options!$B$2,\"Fax\")","v":"Fax"}]
["Lacks Enterprises (Protective Services)","Paul Lotterman","616-554-7123","p.lotterman@lackenterprised.com",null,null,null,null,{"$f":"HYPERLINK(\"#'Client Details'!$B$1\",\"Details\")","v":"Details"},{"$f":"HYPERLINK(Options!$B$1, \"Quote\")","v":"Quote"},{"$f":"HYPERLINK(Options!$B$2,\"Fax\")","v":"Fax"}]
["Lacks Enterprises Inc. - 52nd Mold (Ottob","Pat Ottobre"," 616-554-2319",null,"Maintenance Manager","Automotive","Kent",null,{"$f":"HYPERLINK(\"#'Client Details'!$B$1\",\"Details\")","v":"Details"},{"$f":"HYPERLINK(Options!$B$1, \"Quote\")","v":"Quote"},{"$f":"HYPERLINK(Options!$B$2,\"Fax\")","v":"Fax"}]
["Lacks Enterprises Inc. - 52nd Paint East","Rich Tice"," 616-554-3184","r.tice@lackstrim.com","Maintenance Manager","Automotive","Kent",null,{"$f":"HYPERLINK(\"#'Client Details'!$B$1\",\"Details\")","v":"Details"},{"$f":"HYPERLINK(Options!$B$1, \"Quote\")","v":"Quote"},{"$f":"HYPERLINK(Options!$B$2,\"Fax\")","v":"Fax"}]
["Lacks Enterprises Inc. - 52nd Paint East","Rich Tice"," 616-554-3184","r.tice@lackstrim.com","Maintenance Manager","Automotive","Kent",null,{"$f":"HYPERLINK(\"#'Client Details'!$B$1\",\"Details\")","v":"Details"},{"$f":"HYPERLINK(Options!$B$1, \"Quote\")","v":"Quote"},{"$f":"HYPERLINK(Options!$B$2,\"Fax\")","v":"Fax"}]
["Lacks Enterprises Inc. - 52nd Paint East","Rich Tice"," 616-554-3184","r.tice@lackstrim.com","Maintenance Manager","Automotive","Kent",null,{"$f":"HYPERLINK(\"#'Client Details'!$B$1\",\"Details\")","v":"Details"},{"$f":"HYPERLINK(Options!$B$1, \"Quote\")","v":"Quote"},{"$f":"HYPERLINK(Options!$B$2,\"Fax\")","v":"Fax"}]
["Lacks Enterprises Inc. - 52nd Paint West","Rich Tice"," 616-554-3419",null,"Maintenance Manager","Automotive","Kent",null,{"$f":"HYPERLINK(\"#'Client Details'!$B$1\",\"Details\")","v":"Details"},{"$f":"HYPERLINK(Options!$B$1, \"Quote\")","v":"Quote"},{"$f":"HYPERLINK(Options!$B$2,\"Fax\")","v":"Fax"}]
["Lacks Enterprises Inc. - 52nd Paint West","Rich Tice"," 616-554-3419",null,"Maintenance Manager","Automotive","Kent",null,{"$f":"HYPERLINK(\"#'Client Details'!$B$1\",\"Details\")","v":"Details"},{"$f":"HYPERLINK(Options!$B$1, \"Quote\")","v":"Quote"},{"$f":"HYPERLINK(Options!$B$2,\"Fax\")","v":"Fax"}]
["Lacks Enterprises Inc. - 52nd Paint West","Rich Tice"," 616-554-3419",null,"Maintenance Manager","Automotive","Kent",null,{"$f":"HYPERLINK(\"#'Client Details'!$B$1\",\"Details\")","v":"Details"},{"$f":"HYPERLINK(Options!$B$1, \"Quote\")","v":"Quote"},{"$f":"HYPERLINK(Options!$B$2,\"Fax\")","v":"Fax"}]
["Lacks Enterprises Inc. - Airlane North (H","Ron Hillman"," 616-698-8218","R.Hillman@LacksTrim.com","Waste Treatment Manager","Automotive","Kent",null,{"$f":"HYPERLINK(\"#'Client Details'!$B$1\",\"Details\")","v":"Details"},{"$f":"HYPERLINK(Options!$B$1, \"Quote\")","v":"Quote"},{"$f":"HYPERLINK(Options!$B$2,\"Fax\")","v":"Fax"}]
["Lacks Enterprises Inc. - Airlane North (P","Fred Pixley"," 616-698-8113",null,"Plating Manager","Automotive","Kent",null,{"$f":"HYPERLINK(\"#'Client Details'!$B$1\",\"Details\")","v":"Details"},{"$f":"HYPERLINK(Options!$B$1, \"Quote\")","v":"Quote"},{"$f":"HYPERLINK(Options!$B$2,\"Fax\")","v":"Fax"}]
["Lacks Enterprises Inc. - Airlane North (W","Tony Whitehead Sr."," 616-554-3489","t.whiteheadsr@lackstrim.com",null,"Automotive","Kent",null,{"$f":"HYPERLINK(\"#'Client Details'!$B$1\",\"Details\")","v":"Details"},{"$f":"HYPERLINK(Options!$B$1, \"Quote\")","v":"Quote"},{"$f":"HYPERLINK(Options!$B$2,\"Fax\")","v":"Fax"}]
["Lacks Enterprises Inc. - Airlane South (W","Tony Whitehead Sr."," 616-554-3489","t.whiteheadsr@lackstrim.com",null,"Automotive","Kent",null,{"$f":"HYPERLINK(\"#'Client Details'!$B$1\",\"Details\")","v":"Details"},{"$f":"HYPERLINK(Options!$B$1, \"Quote\")","v":"Quote"},{"$f":"HYPERLINK(Options!$B$2,\"Fax\")","v":"Fax"}]
["Lacks Enterprises Inc. - Airwest Mold / R","Bob Jenkins"," 616-698-6890",null,"Maintenance Engineer","Automotive","Kent",null,{"$f":"HYPERLINK(\"#'Client Details'!$B$1\",\"Details\")","v":"Details"},{"$f":"HYPERLINK(Options!$B$1, \"Quote\")","v":"Quote"},{"$f":"HYPERLINK(Options!$B$2,\"Fax\")","v":"Fax"}]
["Lacks Enterprises Inc. - Barden Assembly","SSS"," 616-554-6300",null,null,"Automotive","Kent",null,{"$f":"HYPERLINK(\"#'Client Details'!$B$1\",\"Details\")","v":"Details"},{"$f":"HYPERLINK(Options!$B$1, \"Quote\")","v":"Quote"},{"$f":"HYPERLINK(Options!$B$2,\"Fax\")","v":"Fax"}]
["Lacks Enterprises Inc. - Barden Assembly","SSS"," 616-554-6300",null,null,"Automotive","Kent",null,{"$f":"HYPERLINK(\"#'Client Details'!$B$1\",\"Details\")","v":"Details"},{"$f":"HYPERLINK(Options!$B$1, \"Quote\")","v":"Quote"},{"$f":"HYPERLINK(Options!$B$2,\"Fax\")","v":"Fax"}]
["Lacks Enterprises Inc. - Barden Assembly","SSS"," 616-554-6300",null,null,"Automotive","Kent",null,{"$f":"HYPERLINK(\"#'Client Details'!$B$1\",\"Details\")","v":"Details"},{"$f":"HYPERLINK(Options!$B$1, \"Quote\")","v":"Quote"},{"$f":"HYPERLINK(Options!$B$2,\"Fax\")","v":"Fax"}]
["Lacks Enterprises Inc. - Brockton Mold (B","Gary Berends"," 616-698-2030",null,null,"Automotive","Kent",null,{"$f":"HYPERLINK(\"#'Client Details'!$B$1\",\"Details\")","v":"Details"},{"$f":"HYPERLINK(Options!$B$1, \"Quote\")","v":"Quote"},{"$f":"HYPERLINK(Options!$B$2,\"Fax\")","v":"Fax"}]
["Lacks Enterprises Inc. - Brockton Mold (T","TTTT"," 616-698-2030",null,null,"Automotive","Kent",null,{"$f":"HYPERLINK(\"#'Client Details'!$B$1\",\"Details\")","v":"Details"},{"$f":"HYPERLINK(Options!$B$1, \"Quote\")","v":"Quote"},{"$f":"HYPERLINK(Options!$B$2,\"Fax\")","v":"Fax"}]
["Lacks Enterprises Inc. - Lacks Wheel Syst","Heather VanDyke"," 616-956-6570","h.vandyke@lacksenterprises.com","Buyer","Automotive","Kent",null,{"$f":"HYPERLINK(\"#'Client Details'!$B$1\",\"Details\")","v":"Details"},{"$f":"HYPERLINK(Options!$B$1, \"Quote\")","v":"Quote"},{"$f":"HYPERLINK(Options!$B$2,\"Fax\")","v":"Fax"}]
["Lacks Enterprises Inc. - Plastic Plate Br","Tom Lewis"," 616-698-3643",null,"Superintendent","Automotive","Kent",null,{"$f":"HYPERLINK(\"#'Client Details'!$B$1\",\"Details\")","v":"Details"},{"$f":"HYPERLINK(Options!$B$1, \"Quote\")","v":"Quote"},{"$f":"HYPERLINK(Options!$B$2,\"Fax\")","v":"Fax"}]
["Lacks Enterprises Inc. - Plastic Plate In","Katie Hohenstein"," 616-956-7204","k.hohenstein@lacksenterprises.com","Buyer","Automotive","Kent",null,{"$f":"HYPERLINK(\"#'Client Details'!$B$1\",\"Details\")","v":"Details"},{"$f":"HYPERLINK(Options!$B$1, \"Quote\")","v":"Quote"},{"$f":"HYPERLINK(Options!$B$2,\"Fax\")","v":"Fax"}]
["Lacks Enterprises Inc. - Plastic Plate Mo","Rick Whitaker"," 616-455-5607","r.whitaker@plasticplate.com","Maintenance Manager","Automotive","Kent",null,{"$f":"HYPERLINK(\"#'Client Details'!$B$1\",\"Details\")","v":"Details"},{"$f":"HYPERLINK(Options!$B$1, \"Quote\")","v":"Quote"},{"$f":"HYPERLINK(Options!$B$2,\"Fax\")","v":"Fax"}]
["Lacks Enterprises Inc. - Plastic Plate Ra","Denny Lang"," 616-957-8913",null,null,"Automotive","Kent",null,{"$f":"HYPERLINK(\"#'Client Details'!$B$1\",\"Details\")","v":"Details"},{"$f":"HYPERLINK(Options!$B$1, \"Quote\")","v":"Quote"},{"$f":"HYPERLINK(Options!$B$2,\"Fax\")","v":"Fax"}]
["Lacks Enterprises Inc. - Trim Systems (Po","Lisa Pond"," 616-554-7833","l.pond@lackstrim.com","Buyer","Automotive","Kent",null,{"$f":"HYPERLINK(\"#'Client Details'!$B$1\",\"Details\")","v":"Details"},{"$f":"HYPERLINK(Options!$B$1, \"Quote\")","v":"Quote"},{"$f":"HYPERLINK(Options!$B$2,\"Fax\")","v":"Fax"}]
["Lacks Enterprises Inc. - Trim Systems (Wa","Deb Warner"," 616-956-7337","d.warner@lacksenterprises.com","Purchasing Agent","Automotive","Kent",null,{"$f":"HYPERLINK(\"#'Client Details'!$B$1\",\"Details\")","v":"Details"},{"$f":"HYPERLINK(Options!$B$1, \"Quote\")","v":"Quote"},{"$f":"HYPERLINK(Options!$B$2,\"Fax\")","v":"Fax"}]
["Lacks Enterprises Inc. (Collins)","John Collins"," 616-554-7193","j.collins@lacksenterprises.com","Environmental Coordinator","Automotive","Kent",null,{"$f":"HYPERLINK(\"#'Client Details'!$B$1\",\"Details\")","v":"Details"},{"$f":"HYPERLINK(Options!$B$1, \"Quote\")","v":"Quote"},{"$f":"HYPERLINK(Options!$B$2,\"Fax\")","v":"Fax"}]
["Lacks Enterprises Inc. (Lotterman)","Paul Lotterman"," 616-554-7123","P.lotterman@lacksenterprises.com","Safety Coordinator","Automotive","Kent",null,{"$f":"HYPERLINK(\"#'Client Details'!$B$1\",\"Details\")","v":"Details"},{"$f":"HYPERLINK(Options!$B$1, \"Quote\")","v":"Quote"},{"$f":"HYPERLINK(Options!$B$2,\"Fax\")","v":"Fax"}]
["Lacks Enterprises Inc. (Radakovitz)","Scott Radakovitz"," 616-554-7171","s.radakovitz@lacksenterprises.com",null,"Automotive","Kent",null,{"$f":"HYPERLINK(\"#'Client Details'!$B$1\",\"Details\")","v":"Details"},{"$f":"HYPERLINK(Options!$B$1, \"Quote\")","v":"Quote"},{"$f":"HYPERLINK(Options!$B$2,\"Fax\")","v":"Fax"}]
["Lacks Enterprises Inc. (Stratton)","Mark Stratton"," 616-554-7161","m.stratton@lacksenterprises.com",null,"Automotive","Kent",null,{"$f":"HYPERLINK(\"#'Client Details'!$B$1\",\"Details\")","v":"Details"},{"$f":"HYPERLINK(Options!$B$1, \"Quote\")","v":"Quote"},{"$f":"HYPERLINK(Options!$B$2,\"Fax\")","v":"Fax"}]
["Lacks Enterprises Trim (Jahnke)","Michael Jahnke",null,"m.jahnke@lackstrim.com","Senior Electrician","Fire Department","Kent",null,{"$f":"HYPERLINK(\"#'Client Details'!$B$1\",\"Details\")","v":"Details"},{"$f":"HYPERLINK(Options!$B$1, \"Quote\")","v":"Quote"},{"$f":"HYPERLINK(Options!$B$2,\"Fax\")","v":"Fax"}]
["Lacks Trim Systems - (Paint East)",null,null,"lackstrimap@lackstrim.com",null,null,null,null,{"$f":"HYPERLINK(\"#'Client Details'!$B$1\",\"Details\")","v":"Details"},{"$f":"HYPERLINK(Options!$B$1, \"Quote\")","v":"Quote"},{"$f":"HYPERLINK(Options!$B$2,\"Fax\")","v":"Fax"}]
["Lacks Trim Systems - (Paint West)","Paul L",null,"lackstrimap@lackstrim.com",null,null,null,null,{"$f":"HYPERLINK(\"#'Client Details'!$B$1\",\"Details\")","v":"Details"},{"$f":"HYPERLINK(Options!$B$1, \"Quote\")","v":"Quote"},{"$f":"HYPERLINK(Options!$B$2,\"Fax\")","v":"Fax"}]
["Lacks Trim Systems (Price)","Gene Price"," 616-554-7148","g.price@lackstrim.com","Transportation Coordinator","Automotive","Kent",null,{"$f":"HYPERLINK(\"#'Client Details'!$B$1\",\"Details\")","v":"Details"},{"$f":"HYPERLINK(Options!$B$1, \"Quote\")","v":"Quote"},{"$f":"HYPERLINK(Options!$B$2,\"Fax\")","v":"Fax"}]
["Lafarge",null,null,null,null,null,null,null,{"$f":"HYPERLINK(\"#'Client Details'!$B$1\",\"Details\")","v":"Details"},{"$f":"HYPERLINK(Options!$B$1, \"Quote\")","v":"Quote"},{"$f":"HYPERLINK(Options!$B$2,\"Fax\")","v":"Fax"}]
["LaFarge Corporation (Peplinski)","Scott Peplinski"," 616-846-3838","Scott.Peplinski@lafarge-na.com",null,"Chemical Pharmaceutical","Ottawa",null,{"$f":"HYPERLINK(\"#'Client Details'!$B$1\",\"Details\")","v":"Details"},{"$f":"HYPERLINK(Options!$B$1, \"Quote\")","v":"Quote"},{"$f":"HYPERLINK(Options!$B$2,\"Fax\")","v":"Fax"}]
["Lake Charter Twp. Water",null,"269-465-3850",null,null,null,null,null,{"$f":"HYPERLINK(\"#'Client Details'!$B$1\",\"Details\")","v":"Details"},{"$f":"HYPERLINK(Options!$B$1, \"Quote\")","v":"Quote"},{"$f":"HYPERLINK(Options!$B$2,\"Fax\")","v":"Fax"}]
["Lake City Plating","Jeff Drake","440-964-3555",null,null,null,null,null,{"$f":"HYPERLINK(\"#'Client Details'!$B$1\",\"Details\")","v":"Details"},{"$f":"HYPERLINK(Options!$B$1, \"Quote\")","v":"Quote"},{"$f":"HYPERLINK(Options!$B$2,\"Fax\")","v":"Fax"}]
["Lake County Maintenance (Pozorski)","Dave Pozorski"," 123-456-7833",null,"Director of County Maintenance","Municipal, Cty","Municipal",null,{"$f":"HYPERLINK(\"#'Client Details'!$B$1\",\"Details\")","v":"Details"},{"$f":"HYPERLINK(Options!$B$1, \"Quote\")","v":"Quote"},{"$f":"HYPERLINK(Options!$B$2,\"Fax\")","v":"Fax"}]
["Lake County Road Commission (Patti)","Patti"," 231-745-4666",null,"Purchasing","Municipal, Cty","Municipal",null,{"$f":"HYPERLINK(\"#'Client Details'!$B$1\",\"Details\")","v":"Details"},{"$f":"HYPERLINK(Options!$B$1, \"Quote\")","v":"Quote"},{"$f":"HYPERLINK(Options!$B$2,\"Fax\")","v":"Fax"}]
["Lake Painting Inc.","Gary Smith","989-631-6002",null,null,null,null,null,{"$f":"HYPERLINK(\"#'Client Details'!$B$1\",\"Details\")","v":"Details"},{"$f":"HYPERLINK(Options!$B$1, \"Quote\")","v":"Quote"},{"$f":"HYPERLINK(Options!$B$2,\"Fax\")","v":"Fax"}]
["Lake Painting Inc. (Smith)","Gary Smith"," 989-631-6002","lakepaintgary@sbcglobal.net","President","Contractor General","Midland",null,{"$f":"HYPERLINK(\"#'Client Details'!$B$1\",\"Details\")","v":"Details"},{"$f":"HYPERLINK(Options!$B$1, \"Quote\")","v":"Quote"},{"$f":"HYPERLINK(Options!$B$2,\"Fax\")","v":"Fax"}]
["Lake Township Water Dept. (Beach)","Steward Beach"," 269-465-3850",null,"Supervisor","Water Treatment","Berrien",null,{"$f":"HYPERLINK(\"#'Client Details'!$B$1\",\"Details\")","v":"Details"},{"$f":"HYPERLINK(Options!$B$1, \"Quote\")","v":"Quote"},{"$f":"HYPERLINK(Options!$B$2,\"Fax\")","v":"Fax"}]
["Lake, County of","Mac McClellan","231-745-6205",null,null,null,null,null,{"$f":"HYPERLINK(\"#'Client Details'!$B$1\",\"Details\")","v":"Details"},{"$f":"HYPERLINK(Options!$B$1, \"Quote\")","v":"Quote"},{"$f":"HYPERLINK(Options!$B$2,\"Fax\")","v":"Fax"}]
["Lakeshore Environmental (Bour)","Roger Bour"," 800-844-5050",null,null,"Contractor EH&S","Ottawa",null,{"$f":"HYPERLINK(\"#'Client Details'!$B$1\",\"Details\")","v":"Details"},{"$f":"HYPERLINK(Options!$B$1, \"Quote\")","v":"Quote"},{"$f":"HYPERLINK(Options!$B$2,\"Fax\")","v":"Fax"}]
["Lakeshore Safety and Environmental System","Susan Paauwe"," 616-335-9718","supaauw@hotmail.com",null,"Contractor EH&S","Ottawa",null,{"$f":"HYPERLINK(\"#'Client Details'!$B$1\",\"Details\")","v":"Details"},{"$f":"HYPERLINK(Options!$B$1, \"Quote\")","v":"Quote"},{"$f":"HYPERLINK(Options!$B$2,\"Fax\")","v":"Fax"}]
["Lakeshore Scale Inc.","Chris Kane","616-494-9960",null,null,null,null,null,{"$f":"HYPERLINK(\"#'Client Details'!$B$1\",\"Details\")","v":"Details"},{"$f":"HYPERLINK(Options!$B$1, \"Quote\")","v":"Quote"},{"$f":"HYPERLINK(Options!$B$2,\"Fax\")","v":"Fax"}]
["Lakeshore Scale, Inc. (Gervais)","Bernie Gervais"," 616-494-9960","berniegervais@lakeshorescale.com",null,"Mining","Ottawa",null,{"$f":"HYPERLINK(\"#'Client Details'!$B$1\",\"Details\")","v":"Details"},{"$f":"HYPERLINK(Options!$B$1, \"Quote\")","v":"Quote"},{"$f":"HYPERLINK(Options!$B$2,\"Fax\")","v":"Fax"}]
["Lakeside Mechanical","Bruce Visser","616-786-0211",null,null,null,null,null,{"$f":"HYPERLINK(\"#'Client Details'!$B$1\",\"Details\")","v":"Details"},{"$f":"HYPERLINK(Options!$B$1, \"Quote\")","v":"Quote"},{"$f":"HYPERLINK(Options!$B$2,\"Fax\")","v":"Fax"}]
["Lakeside Mechanical Contractors, Inc. (As","Gary Ashcraft"," 616-786-0211",null,"Safety Supervisor","Contractor General","Ottawa",null,{"$f":"HYPERLINK(\"#'Client Details'!$B$1\",\"Details\")","v":"Details"},{"$f":"HYPERLINK(Options!$B$1, \"Quote\")","v":"Quote"},{"$f":"HYPERLINK(Options!$B$2,\"Fax\")","v":"Fax"}]
["Lakeside Mechanical Contractors, Inc. (Vi","Bruce Visser"," 616-786-0211","brucev@lakesidemechanical.com","President","Contractor General","Ottawa",null,{"$f":"HYPERLINK(\"#'Client Details'!$B$1\",\"Details\")","v":"Details"},{"$f":"HYPERLINK(Options!$B$1, \"Quote\")","v":"Quote"},{"$f":"HYPERLINK(Options!$B$2,\"Fax\")","v":"Fax"}]
["Lakewood Construction","Jim Dreyer","616-392-6923",null,null,null,null,null,{"$f":"HYPERLINK(\"#'Client Details'!$B$1\",\"Details\")","v":"Details"},{"$f":"HYPERLINK(Options!$B$1, \"Quote\")","v":"Quote"},{"$f":"HYPERLINK(Options!$B$2,\"Fax\")","v":"Fax"}]
["Lakewood Inc. (Dreyer)","Jim Dreyer"," 616-392-6923","jdreyer@lakewoodinc.com","Safety Manager","Contractor General","Ottawa",null,{"$f":"HYPERLINK(\"#'Client Details'!$B$1\",\"Details\")","v":"Details"},{"$f":"HYPERLINK(Options!$B$1, \"Quote\")","v":"Quote"},{"$f":"HYPERLINK(Options!$B$2,\"Fax\")","v":"Fax"}]
["Lakewood Inc. (Shields)","Rick Shields"," 616-392-6923",null,null,"Construction","Ottawa",null,{"$f":"HYPERLINK(\"#'Client Details'!$B$1\",\"Details\")","v":"Details"},{"$f":"HYPERLINK(Options!$B$1, \"Quote\")","v":"Quote"},{"$f":"HYPERLINK(Options!$B$2,\"Fax\")","v":"Fax"}]
["Lakshore Safety & Environmental Systems","Su Paauwe","616-335-9718",null,null,null,null,null,{"$f":"HYPERLINK(\"#'Client Details'!$B$1\",\"Details\")","v":"Details"},{"$f":"HYPERLINK(Options!$B$1, \"Quote\")","v":"Quote"},{"$f":"HYPERLINK(Options!$B$2,\"Fax\")","v":"Fax"}]
["Laman Asphalt, Inc. Rieth-Riley Construct","Paul Knudsen"," 231-845-7031","pknudsen@rieth-riley.com","Project Manager","Contractor General","Mason",null,{"$f":"HYPERLINK(\"#'Client Details'!$B$1\",\"Details\")","v":"Details"},{"$f":"HYPERLINK(Options!$B$1, \"Quote\")","v":"Quote"},{"$f":"HYPERLINK(Options!$B$2,\"Fax\")","v":"Fax"}]
["Lamar Construction","Dan","616-662-2933",null,null,null,null,null,{"$f":"HYPERLINK(\"#'Client Details'!$B$1\",\"Details\")","v":"Details"},{"$f":"HYPERLINK(Options!$B$1, \"Quote\")","v":"Quote"},{"$f":"HYPERLINK(Options!$B$2,\"Fax\")","v":"Fax"}]
["Lamar Construction Company (Boeve)","Josh Boeve"," 616-662-2933","jboeve@lamarconstruction.com",null,"Contractor General","Allegan",null,{"$f":"HYPERLINK(\"#'Client Details'!$B$1\",\"Details\")","v":"Details"},{"$f":"HYPERLINK(Options!$B$1, \"Quote\")","v":"Quote"},{"$f":"HYPERLINK(Options!$B$2,\"Fax\")","v":"Fax"}]
["Lamar Construction Company (Cramer)","Tara Cramer"," 616-662-2933","tcramer@lamarconstruction.com","Purchasing","Contractor General","Allegan",null,{"$f":"HYPERLINK(\"#'Client Details'!$B$1\",\"Details\")","v":"Details"},{"$f":"HYPERLINK(Options!$B$1, \"Quote\")","v":"Quote"},{"$f":"HYPERLINK(Options!$B$2,\"Fax\")","v":"Fax"}]
["Lamar Outdoor Advertising (Thelen)","Pat Thelen"," 231-733-7679 223","oper151@lamarhq.com","Operations Manager",null,"Muskegon",null,{"$f":"HYPERLINK(\"#'Client Details'!$B$1\",\"Details\")","v":"Details"},{"$f":"HYPERLINK(Options!$B$1, \"Quote\")","v":"Quote"},{"$f":"HYPERLINK(Options!$B$2,\"Fax\")","v":"Fax"}]
["Lamco Safety Products inc.","Rose Lane","717-637-4305",null,null,null,null,null,{"$f":"HYPERLINK(\"#'Client Details'!$B$1\",\"Details\")","v":"Details"},{"$f":"HYPERLINK(Options!$B$1, \"Quote\")","v":"Quote"},{"$f":"HYPERLINK(Options!$B$2,\"Fax\")","v":"Fax"}]
["Lamco Safety Products, Inc. (Yurish)","Butch Yurish"," 717-637-4305","butchlamco@yahoo.com",null,"Competitor","Out of State",null,{"$f":"HYPERLINK(\"#'Client Details'!$B$1\",\"Details\")","v":"Details"},{"$f":"HYPERLINK(Options!$B$1, \"Quote\")","v":"Quote"},{"$f":"HYPERLINK(Options!$B$2,\"Fax\")","v":"Fax"}]
["Land & Resource",null,"616-301-7888",null,null,null,null,null,{"$f":"HYPERLINK(\"#'Client Details'!$B$1\",\"Details\")","v":"Details"},{"$f":"HYPERLINK(Options!$B$1, \"Quote\")","v":"Quote"},{"$f":"HYPERLINK(Options!$B$2,\"Fax\")","v":"Fax"}]
["Land and Resource (Kulhanek)","Brandon Kulhanek"," 616-301-7888","brandon@ldsmi.com",null,"Contractor EH&S","Kent",null,{"$f":"HYPERLINK(\"#'Client Details'!$B$1\",\"Details\")","v":"Details"},{"$f":"HYPERLINK(Options!$B$1, \"Quote\")","v":"Quote"},{"$f":"HYPERLINK(Options!$B$2,\"Fax\")","v":"Fax"}]
["Landmark (Florian)","Mark Florian"," 269-927-3366","mflorian@landmarktech.com","President","Contractor EH&S","Berrien",null,{"$f":"HYPERLINK(\"#'Client Details'!$B$1\",\"Details\")","v":"Details"},{"$f":"HYPERLINK(Options!$B$1, \"Quote\")","v":"Quote"},{"$f":"HYPERLINK(Options!$B$2,\"Fax\")","v":"Fax"}]
["Landscape Design Services, Inc. (Grathwoh","Fritz Grathwohl"," 616-842-7450",null,"Safety Specialist","Contractor General","Ottawa",null,{"$f":"HYPERLINK(\"#'Client Details'!$B$1\",\"Details\")","v":"Details"},{"$f":"HYPERLINK(Options!$B$1, \"Quote\")","v":"Quote"},{"$f":"HYPERLINK(Options!$B$2,\"Fax\")","v":"Fax"}]
["Landscape Design Services, Inc. (Minor)","Doug Minor"," 616-842-7450",null,"Safety Director","Contractor General","Ottawa",null,{"$f":"HYPERLINK(\"#'Client Details'!$B$1\",\"Details\")","v":"Details"},{"$f":"HYPERLINK(Options!$B$1, \"Quote\")","v":"Quote"},{"$f":"HYPERLINK(Options!$B$2,\"Fax\")","v":"Fax"}]
["Langerak Roof Systems",null,"616-896-1397",null,null,null,null,null,{"$f":"HYPERLINK(\"#'Client Details'!$B$1\",\"Details\")","v":"Details"},{"$f":"HYPERLINK(Options!$B$1, \"Quote\")","v":"Quote"},{"$f":"HYPERLINK(Options!$B$2,\"Fax\")","v":"Fax"}]
["Langerak Roof Systems Inc. (Remy)","Tim Remy"," 616-896-1397","tim@lrsroof.com","Safety Manager","Contractor General","Ottawa",null,{"$f":"HYPERLINK(\"#'Client Details'!$B$1\",\"Details\")","v":"Details"},{"$f":"HYPERLINK(Options!$B$1, \"Quote\")","v":"Quote"},{"$f":"HYPERLINK(Options!$B$2,\"Fax\")","v":"Fax"}]
["Langone Construction","Tony Langone","413-530-6266 cell","langoneconstruction@comcast.net",null,null,null,null,{"$f":"HYPERLINK(\"#'Client Details'!$B$1\",\"Details\")","v":"Details"},{"$f":"HYPERLINK(Options!$B$1, \"Quote\")","v":"Quote"},{"$f":"HYPERLINK(Options!$B$2,\"Fax\")","v":"Fax"}]
["Lansing Board of Water & Light (Armock)","Irene Armock"," 517-702-6385","irene@LBWL.com","Industrial Hygienist","Utility","Ingham",null,{"$f":"HYPERLINK(\"#'Client Details'!$B$1\",\"Details\")","v":"Details"},{"$f":"HYPERLINK(Options!$B$1, \"Quote\")","v":"Quote"},{"$f":"HYPERLINK(Options!$B$2,\"Fax\")","v":"Fax"}]
["Lansing Board of Water & Light (Scott)","Mike Scott"," 517-702-6084","mscott@lbwl.com","Planner / Scheduler","Utility","Ingham",null,{"$f":"HYPERLINK(\"#'Client Details'!$B$1\",\"Details\")","v":"Details"},{"$f":"HYPERLINK(Options!$B$1, \"Quote\")","v":"Quote"},{"$f":"HYPERLINK(Options!$B$2,\"Fax\")","v":"Fax"}]
["Lansing Board of Water & Light (Thelen)","Peter Thelen"," 517-702-6396","plt@lbwl.com","Safety Coordinator","Utility","Ingham",null,{"$f":"HYPERLINK(\"#'Client Details'!$B$1\",\"Details\")","v":"Details"},{"$f":"HYPERLINK(Options!$B$1, \"Quote\")","v":"Quote"},{"$f":"HYPERLINK(Options!$B$2,\"Fax\")","v":"Fax"}]
["Lansing Board of Water & Light Power Plan","William A. Krawczyk"," 517-702-6835","wak@lbwl.com","Safety Coordinator","Utility","Ingham",null,{"$f":"HYPERLINK(\"#'Client Details'!$B$1\",\"Details\")","v":"Details"},{"$f":"HYPERLINK(Options!$B$1, \"Quote\")","v":"Quote"},{"$f":"HYPERLINK(Options!$B$2,\"Fax\")","v":"Fax"}]
["Lansing Board of Water and Light","Leo Gallegos","702-6288",null,null,null,null,null,{"$f":"HYPERLINK(\"#'Client Details'!$B$1\",\"Details\")","v":"Details"},{"$f":"HYPERLINK(Options!$B$1, \"Quote\")","v":"Quote"},{"$f":"HYPERLINK(Options!$B$2,\"Fax\")","v":"Fax"}]
["Lansing Purchasing Department, City of (R","Stephanie Robinson"," 517-483-4128",null,"Sr. Buyer","Municipal, Cty","Ingham",null,{"$f":"HYPERLINK(\"#'Client Details'!$B$1\",\"Details\")","v":"Details"},{"$f":"HYPERLINK(Options!$B$1, \"Quote\")","v":"Quote"},{"$f":"HYPERLINK(Options!$B$2,\"Fax\")","v":"Fax"}]
["Lansing WWTP, City of (Jezak)","Scott Jezak"," 517-483-4408","sjezak@ci.lansing.mi.us","Maintenance Supervisor","Municipal, Cty","Ingham",null,{"$f":"HYPERLINK(\"#'Client Details'!$B$1\",\"Details\")","v":"Details"},{"$f":"HYPERLINK(Options!$B$1, \"Quote\")","v":"Quote"},{"$f":"HYPERLINK(Options!$B$2,\"Fax\")","v":"Fax"}]
["Lanzo Lining Services (Tingberg)","Fred Tingberg"," 954-931-4430","fredt@lanzo.org",null,"Contractor General","Macomb",null,{"$f":"HYPERLINK(\"#'Client Details'!$B$1\",\"Details\")","v":"Details"},{"$f":"HYPERLINK(Options!$B$1, \"Quote\")","v":"Quote"},{"$f":"HYPERLINK(Options!$B$2,\"Fax\")","v":"Fax"}]
["Lapeer Regional Medical Center","Peggy","810-342-1500",null,null,null,null,null,{"$f":"HYPERLINK(\"#'Client Details'!$B$1\",\"Details\")","v":"Details"},{"$f":"HYPERLINK(Options!$B$1, \"Quote\")","v":"Quote"},{"$f":"HYPERLINK(Options!$B$2,\"Fax\")","v":"Fax"}]
["Larry Conn","Larry Conn","419-474-3373",null,null,null,null,null,{"$f":"HYPERLINK(\"#'Client Details'!$B$1\",\"Details\")","v":"Details"},{"$f":"HYPERLINK(Options!$B$1, \"Quote\")","v":"Quote"},{"$f":"HYPERLINK(Options!$B$2,\"Fax\")","v":"Fax"}]
["Larson Davis (Novak)","Gregg Novak"," 716-926-8243","gnovak@pcb.com","North American Sales Manager","Supplier","Out of State",null,{"$f":"HYPERLINK(\"#'Client Details'!$B$1\",\"Details\")","v":"Details"},{"$f":"HYPERLINK(Options!$B$1, \"Quote\")","v":"Quote"},{"$f":"HYPERLINK(Options!$B$2,\"Fax\")","v":"Fax"}]
["Lascko Plumbing & Mechanical (Fisher)","Lori Fisher"," 231-725-2777","lascko@novagate.com","Office Manager","Contractor General","Muskegon",null,{"$f":"HYPERLINK(\"#'Client Details'!$B$1\",\"Details\")","v":"Details"},{"$f":"HYPERLINK(Options!$B$1, \"Quote\")","v":"Quote"},{"$f":"HYPERLINK(Options!$B$2,\"Fax\")","v":"Fax"}]
["LD. Docsa Associates, Inc. (Thomsen)","Gregg Thomsen"," 269-349-7675",null,"Superintendent","Contractor General","Kalamazoo",null,{"$f":"HYPERLINK(\"#'Client Details'!$B$1\",\"Details\")","v":"Details"},{"$f":"HYPERLINK(Options!$B$1, \"Quote\")","v":"Quote"},{"$f":"HYPERLINK(Options!$B$2,\"Fax\")","v":"Fax"}]
["Leader Energy Services (Archer)","Glenn Archer"," 307-679-6123","g.archer@leaderenergy.com","HSE Manager","Petroleum Related","Out of State",null,{"$f":"HYPERLINK(\"#'Client Details'!$B$1\",\"Details\")","v":"Details"},{"$f":"HYPERLINK(Options!$B$1, \"Quote\")","v":"Quote"},{"$f":"HYPERLINK(Options!$B$2,\"Fax\")","v":"Fax"}]
["LECO Corporation (Whitt)","Jason Whitt"," 269-983-5531",null,"Corporate EH&S Manager","Plating","Allegan",null,{"$f":"HYPERLINK(\"#'Client Details'!$B$1\",\"Details\")","v":"Details"},{"$f":"HYPERLINK(Options!$B$1, \"Quote\")","v":"Quote"},{"$f":"HYPERLINK(Options!$B$2,\"Fax\")","v":"Fax"}]
["Lee's Trenching Service, Inc. (Holstege)","Ken Holstege"," 616-878-0077",null,null,"Contractor, Excavator","Kent",null,{"$f":"HYPERLINK(\"#'Client Details'!$B$1\",\"Details\")","v":"Details"},{"$f":"HYPERLINK(Options!$B$1, \"Quote\")","v":"Quote"},{"$f":"HYPERLINK(Options!$B$2,\"Fax\")","v":"Fax"}]
["Leet Electric (Irmen)","John Irmen"," 269-381-5011","jirmen@scisteelcon.com","Purchasing Manager","Contractor Electrical","Kalamazoo",null,{"$f":"HYPERLINK(\"#'Client Details'!$B$1\",\"Details\")","v":"Details"},{"$f":"HYPERLINK(Options!$B$1, \"Quote\")","v":"Quote"},{"$f":"HYPERLINK(Options!$B$2,\"Fax\")","v":"Fax"}]
["Lenawee County Drain Commission","Tom Gillenwater (Sup.)","517-264-4699",null,null,null,null,null,{"$f":"HYPERLINK(\"#'Client Details'!$B$1\",\"Details\")","v":"Details"},{"$f":"HYPERLINK(Options!$B$1, \"Quote\")","v":"Quote"},{"$f":"HYPERLINK(Options!$B$2,\"Fax\")","v":"Fax"}]
["Lenawee County Drain Commission (Dillon)","Jack Dillon"," 517-547-6389",null,null,"Municipal, Cty","Lenawee",null,{"$f":"HYPERLINK(\"#'Client Details'!$B$1\",\"Details\")","v":"Details"},{"$f":"HYPERLINK(Options!$B$1, \"Quote\")","v":"Quote"},{"$f":"HYPERLINK(Options!$B$2,\"Fax\")","v":"Fax"}]
["Leoni Township",null,"517 522 3092",null,null,null,null,null,{"$f":"HYPERLINK(\"#'Client Details'!$B$1\",\"Details\")","v":"Details"},{"$f":"HYPERLINK(Options!$B$1, \"Quote\")","v":"Quote"},{"$f":"HYPERLINK(Options!$B$2,\"Fax\")","v":"Fax"}]
["Leoni Township DPW","John Zang","517-937-8180cell",null,null,null,null,null,{"$f":"HYPERLINK(\"#'Client Details'!$B$1\",\"Details\")","v":"Details"},{"$f":"HYPERLINK(Options!$B$1, \"Quote\")","v":"Quote"},{"$f":"HYPERLINK(Options!$B$2,\"Fax\")","v":"Fax"}]
["Leprino Foods - Allendale (Defouw)","Joe Defouw"," 616-892-0357","jdefouw@leprinofoods.com","Purchasing","Food","Ottawa",null,{"$f":"HYPERLINK(\"#'Client Details'!$B$1\",\"Details\")","v":"Details"},{"$f":"HYPERLINK(Options!$B$1, \"Quote\")","v":"Quote"},{"$f":"HYPERLINK(Options!$B$2,\"Fax\")","v":"Fax"}]
["Leprino Foods - Allendale (Doremire)","Tony Doremire"," 616-892-0347","tdoremire@leprinofoods.com","Safety Training Supervisor","Food","Ottawa",null,{"$f":"HYPERLINK(\"#'Client Details'!$B$1\",\"Details\")","v":"Details"},{"$f":"HYPERLINK(Options!$B$1, \"Quote\")","v":"Quote"},{"$f":"HYPERLINK(Options!$B$2,\"Fax\")","v":"Fax"}]
["Leprino Foods - Allendale (Eptard)","Roger Eptard"," 616-892-0354","reptard@leprinofoods.com","Storekeeper","Food","Ottawa",null,{"$f":"HYPERLINK(\"#'Client Details'!$B$1\",\"Details\")","v":"Details"},{"$f":"HYPERLINK(Options!$B$1, \"Quote\")","v":"Quote"},{"$f":"HYPERLINK(Options!$B$2,\"Fax\")","v":"Fax"}]
["Leprino Foods - Allendale (Fletcher)","Gary Fletcher"," 616-892-0352","gfletcher@leprinofoods.com","Maintenance Manager","Food","Ottawa",null,{"$f":"HYPERLINK(\"#'Client Details'!$B$1\",\"Details\")","v":"Details"},{"$f":"HYPERLINK(Options!$B$1, \"Quote\")","v":"Quote"},{"$f":"HYPERLINK(Options!$B$2,\"Fax\")","v":"Fax"}]
["Leprino Foods - Allendale (Hitchcock)","Greg Hitchcock"," 616-892-0393","ghitchcock@leprinofoods.com","Buyer","Food","Ottawa",null,{"$f":"HYPERLINK(\"#'Client Details'!$B$1\",\"Details\")","v":"Details"},{"$f":"HYPERLINK(Options!$B$1, \"Quote\")","v":"Quote"},{"$f":"HYPERLINK(Options!$B$2,\"Fax\")","v":"Fax"}]
["Leprino Foods - Allendale (Schoeb)","Sandy Schoeb"," 616-892-0327",null,null,null,"Ottawa",null,{"$f":"HYPERLINK(\"#'Client Details'!$B$1\",\"Details\")","v":"Details"},{"$f":"HYPERLINK(Options!$B$1, \"Quote\")","v":"Quote"},{"$f":"HYPERLINK(Options!$B$2,\"Fax\")","v":"Fax"}]
["Leprino Foods - Allendale (Smith)","Linda Smith"," 616-892-0357","smithl@leprino.com","Parts Technician","Food","Ottawa",null,{"$f":"HYPERLINK(\"#'Client Details'!$B$1\",\"Details\")","v":"Details"},{"$f":"HYPERLINK(Options!$B$1, \"Quote\")","v":"Quote"},{"$f":"HYPERLINK(Options!$B$2,\"Fax\")","v":"Fax"}]
["Leprino Foods - Allendale (Triestram)","Cindy Triestram"," 616-892-0357",null,"Parts Technician","Food","Ottawa",null,{"$f":"HYPERLINK(\"#'Client Details'!$B$1\",\"Details\")","v":"Details"},{"$f":"HYPERLINK(Options!$B$1, \"Quote\")","v":"Quote"},{"$f":"HYPERLINK(Options!$B$2,\"Fax\")","v":"Fax"}]
["Leprino Foods - Allendale (Zlotnicki)","Ron Zlotnicki"," 616-892-0345","rzlotnicki@leprinofoods.com","Project Engineer","Food","Ottawa",null,{"$f":"HYPERLINK(\"#'Client Details'!$B$1\",\"Details\")","v":"Details"},{"$f":"HYPERLINK(Options!$B$1, \"Quote\")","v":"Quote"},{"$f":"HYPERLINK(Options!$B$2,\"Fax\")","v":"Fax"}]
["Leprino Foods - Remus (Defouw)","Joe Defouw"," 989-967-0124",null,"Purchasing",null,"Mecosta",null,{"$f":"HYPERLINK(\"#'Client Details'!$B$1\",\"Details\")","v":"Details"},{"$f":"HYPERLINK(Options!$B$1, \"Quote\")","v":"Quote"},{"$f":"HYPERLINK(Options!$B$2,\"Fax\")","v":"Fax"}]
["Leprino Foods - Remus (Rampanelli)","Michael Rampanelli"," 989-967-8641","mrampanelli@leprinofoods.com","Wastewater Treatment Superviso","Food","Mecosta",null,{"$f":"HYPERLINK(\"#'Client Details'!$B$1\",\"Details\")","v":"Details"},{"$f":"HYPERLINK(Options!$B$1, \"Quote\")","v":"Quote"},{"$f":"HYPERLINK(Options!$B$2,\"Fax\")","v":"Fax"}]
["Leprino Foods - Remus (Reichert)","Tina Reichert"," 989-967-3635","treichert@leprinofoods.com","Buyer","Food","Mecosta",null,{"$f":"HYPERLINK(\"#'Client Details'!$B$1\",\"Details\")","v":"Details"},{"$f":"HYPERLINK(Options!$B$1, \"Quote\")","v":"Quote"},{"$f":"HYPERLINK(Options!$B$2,\"Fax\")","v":"Fax"}]
["Leprino Foods - Remus (Rosinski)","Linda Rosinski"," 989-967-0160","lrosinski@leprinofoods.com",null,"Food","Mecosta",null,{"$f":"HYPERLINK(\"#'Client Details'!$B$1\",\"Details\")","v":"Details"},{"$f":"HYPERLINK(Options!$B$1, \"Quote\")","v":"Quote"},{"$f":"HYPERLINK(Options!$B$2,\"Fax\")","v":"Fax"}]
["Leprino Foods - Remus (Severn)","Kenitha Severn"," 989-967-0124","ksevern@leprinofoods.com","EH&S Manager","Food","Mecosta",null,{"$f":"HYPERLINK(\"#'Client Details'!$B$1\",\"Details\")","v":"Details"},{"$f":"HYPERLINK(Options!$B$1, \"Quote\")","v":"Quote"},{"$f":"HYPERLINK(Options!$B$2,\"Fax\")","v":"Fax"}]
["Leprino Foods (Allendale)","Mirza (Accounting)","616-895-5800",null,null,null,null,null,{"$f":"HYPERLINK(\"#'Client Details'!$B$1\",\"Details\")","v":"Details"},{"$f":"HYPERLINK(Options!$B$1, \"Quote\")","v":"Quote"},{"$f":"HYPERLINK(Options!$B$2,\"Fax\")","v":"Fax"}]
["Leprino Foods (Ft. Morgan)",null,null,null,null,null,null,null,{"$f":"HYPERLINK(\"#'Client Details'!$B$1\",\"Details\")","v":"Details"},{"$f":"HYPERLINK(Options!$B$1, \"Quote\")","v":"Quote"},{"$f":"HYPERLINK(Options!$B$2,\"Fax\")","v":"Fax"}]
["Leprino Foods (Remus)","Kenitha Severn","989-967-0124 Kenitha","ksevern@leprinofoods.com",null,null,null,null,{"$f":"HYPERLINK(\"#'Client Details'!$B$1\",\"Details\")","v":"Details"},{"$f":"HYPERLINK(Options!$B$1, \"Quote\")","v":"Quote"},{"$f":"HYPERLINK(Options!$B$2,\"Fax\")","v":"Fax"}]
["Lessors Welding Supply Inc.","Jeff Peters","810- 742-2302",null,null,null,null,null,{"$f":"HYPERLINK(\"#'Client Details'!$B$1\",\"Details\")","v":"Details"},{"$f":"HYPERLINK(Options!$B$1, \"Quote\")","v":"Quote"},{"$f":"HYPERLINK(Options!$B$2,\"Fax\")","v":"Fax"}]
["Levitation Staging, Inc. (Goebel)","Jamie Goebel"," 616-742-1174","jamie@levitationstaging.com",null,"Other","Kent",null,{"$f":"HYPERLINK(\"#'Client Details'!$B$1\",\"Details\")","v":"Details"},{"$f":"HYPERLINK(Options!$B$1, \"Quote\")","v":"Quote"},{"$f":"HYPERLINK(Options!$B$2,\"Fax\")","v":"Fax"}]
["Liberty Sheet Metal","Jeff Laster","586-739-1148",null,null,null,null,null,{"$f":"HYPERLINK(\"#'Client Details'!$B$1\",\"Details\")","v":"Details"},{"$f":"HYPERLINK(Options!$B$1, \"Quote\")","v":"Quote"},{"$f":"HYPERLINK(Options!$B$2,\"Fax\")","v":"Fax"}]
["Liberty Steel Fabricating (Schermer)","Tamara Schermer"," 269-556-9792","tammie.schermer@libsteel.com","Director of Operations","Steel","Berrien",null,{"$f":"HYPERLINK(\"#'Client Details'!$B$1\",\"Details\")","v":"Details"},{"$f":"HYPERLINK(Options!$B$1, \"Quote\")","v":"Quote"},{"$f":"HYPERLINK(Options!$B$2,\"Fax\")","v":"Fax"}]
["Lighthouse Safety (Corriveau)","John Corriveau"," 262-790-1155","joncorvo@execpc.com","President, Trainer","Representative","Out of State",null,{"$f":"HYPERLINK(\"#'Client Details'!$B$1\",\"Details\")","v":"Details"},{"$f":"HYPERLINK(Options!$B$1, \"Quote\")","v":"Quote"},{"$f":"HYPERLINK(Options!$B$2,\"Fax\")","v":"Fax"}]
["Lighthouse Safety.","John Corriveau","262-790-1155",null,null,null,null,null,{"$f":"HYPERLINK(\"#'Client Details'!$B$1\",\"Details\")","v":"Details"},{"$f":"HYPERLINK(Options!$B$1, \"Quote\")","v":"Quote"},{"$f":"HYPERLINK(Options!$B$2,\"Fax\")","v":"Fax"}]
["Lillard C Corp.","Marianne Lillard","603-643-4447",null,null,null,null,null,{"$f":"HYPERLINK(\"#'Client Details'!$B$1\",\"Details\")","v":"Details"},{"$f":"HYPERLINK(Options!$B$1, \"Quote\")","v":"Quote"},{"$f":"HYPERLINK(Options!$B$2,\"Fax\")","v":"Fax"}]
["Linco Electrical Contracting & Maint. Inc",null,"718-227-0105","joero7777@aol.com",null,null,null,null,{"$f":"HYPERLINK(\"#'Client Details'!$B$1\",\"Details\")","v":"Details"},{"$f":"HYPERLINK(Options!$B$1, \"Quote\")","v":"Quote"},{"$f":"HYPERLINK(Options!$B$2,\"Fax\")","v":"Fax"}]
["Linco Electrical Contracting & Maintenanc","Joseph Romano"," 718-227-0105","joero7777@aol.com","Superintendent","Contractor Electrical","Out of State",null,{"$f":"HYPERLINK(\"#'Client Details'!$B$1\",\"Details\")","v":"Details"},{"$f":"HYPERLINK(Options!$B$1, \"Quote\")","v":"Quote"},{"$f":"HYPERLINK(Options!$B$2,\"Fax\")","v":"Fax"}]
["Linde Gas","Evelyn Gannon","216-642-6702",null,null,null,null,null,{"$f":"HYPERLINK(\"#'Client Details'!$B$1\",\"Details\")","v":"Details"},{"$f":"HYPERLINK(Options!$B$1, \"Quote\")","v":"Quote"},{"$f":"HYPERLINK(Options!$B$2,\"Fax\")","v":"Fax"}]
["Linde Gas (Forsyth)","Brian Forsyth"," 256-306-0305","brian.forsyth@linde.com","Plant Manager","Manufacturer","Out of State",null,{"$f":"HYPERLINK(\"#'Client Details'!$B$1\",\"Details\")","v":"Details"},{"$f":"HYPERLINK(Options!$B$1, \"Quote\")","v":"Quote"},{"$f":"HYPERLINK(Options!$B$2,\"Fax\")","v":"Fax"}]
["Linde Gas LLC","Evelyn Gannon","216-642-6702",null,null,null,null,null,{"$f":"HYPERLINK(\"#'Client Details'!$B$1\",\"Details\")","v":"Details"},{"$f":"HYPERLINK(Options!$B$1, \"Quote\")","v":"Quote"},{"$f":"HYPERLINK(Options!$B$2,\"Fax\")","v":"Fax"}]
["Linde LLC",null,"614-539-2259",null,null,null,null,null,{"$f":"HYPERLINK(\"#'Client Details'!$B$1\",\"Details\")","v":"Details"},{"$f":"HYPERLINK(Options!$B$1, \"Quote\")","v":"Quote"},{"$f":"HYPERLINK(Options!$B$2,\"Fax\")","v":"Fax"}]
["Lipe Industrial Services","Steve Barrenger","616-863-8731",null,null,null,null,null,{"$f":"HYPERLINK(\"#'Client Details'!$B$1\",\"Details\")","v":"Details"},{"$f":"HYPERLINK(Options!$B$1, \"Quote\")","v":"Quote"},{"$f":"HYPERLINK(Options!$B$2,\"Fax\")","v":"Fax"}]
["Lipe Industrial Services (Barrenger)","Steve Barrenger"," 616-863-8731","stevebarrenger@yahoo.com",null,"Contractor General","Kent",null,{"$f":"HYPERLINK(\"#'Client Details'!$B$1\",\"Details\")","v":"Details"},{"$f":"HYPERLINK(Options!$B$1, \"Quote\")","v":"Quote"},{"$f":"HYPERLINK(Options!$B$2,\"Fax\")","v":"Fax"}]
["Liquid Haulers Maintenance, Inc.","Gary DeYoung","616-877-4288",null,null,null,null,null,{"$f":"HYPERLINK(\"#'Client Details'!$B$1\",\"Details\")","v":"Details"},{"$f":"HYPERLINK(Options!$B$1, \"Quote\")","v":"Quote"},{"$f":"HYPERLINK(Options!$B$2,\"Fax\")","v":"Fax"}]
["Liquid Haulers Maintenance, Inc. (DeYoung","Gary DeYoung"," 616-877-4288",null,null,"Chemical Pharmaceutical","Allegan",null,{"$f":"HYPERLINK(\"#'Client Details'!$B$1\",\"Details\")","v":"Details"},{"$f":"HYPERLINK(Options!$B$1, \"Quote\")","v":"Quote"},{"$f":"HYPERLINK(Options!$B$2,\"Fax\")","v":"Fax"}]
["Liquid Haulers Maintenance, Inc. (Stalson","Terry Stalsonburg"," 616-877-4288","tstalsonburg@yahoo.com","Safety Coordinator","Chemical Pharmaceutical","Allegan",null,{"$f":"HYPERLINK(\"#'Client Details'!$B$1\",\"Details\")","v":"Details"},{"$f":"HYPERLINK(Options!$B$1, \"Quote\")","v":"Quote"},{"$f":"HYPERLINK(Options!$B$2,\"Fax\")","v":"Fax"}]
["Liquid Transport Trucking (Held)","Vince Held"," 989-463-2197","vheldsr@ltt-inc.com",null,"Petroleum Related","Gratiot",null,{"$f":"HYPERLINK(\"#'Client Details'!$B$1\",\"Details\")","v":"Details"},{"$f":"HYPERLINK(Options!$B$1, \"Quote\")","v":"Quote"},{"$f":"HYPERLINK(Options!$B$2,\"Fax\")","v":"Fax"}]
["Liqui-Force Services USA, Inc. (Bergman)","Sean Bergman"," 734-955-2508 24","sbergman@liquiforce.com","Health & Safety Manager","Manufacturer","Wayne",null,{"$f":"HYPERLINK(\"#'Client Details'!$B$1\",\"Details\")","v":"Details"},{"$f":"HYPERLINK(Options!$B$1, \"Quote\")","v":"Quote"},{"$f":"HYPERLINK(Options!$B$2,\"Fax\")","v":"Fax"}]
["Litehouse Foods","Samantha Semrau","616-897-5912",null,null,null,null,null,{"$f":"HYPERLINK(\"#'Client Details'!$B$1\",\"Details\")","v":"Details"},{"$f":"HYPERLINK(Options!$B$1, \"Quote\")","v":"Quote"},{"$f":"HYPERLINK(Options!$B$2,\"Fax\")","v":"Fax"}]
["Litehouse Foods (Fullerton)","Julie Fullerton"," 616-897-5912 326","jfullerton@litehouseinc.com","Human Resources Manager","Food","Kent",null,{"$f":"HYPERLINK(\"#'Client Details'!$B$1\",\"Details\")","v":"Details"},{"$f":"HYPERLINK(Options!$B$1, \"Quote\")","v":"Quote"},{"$f":"HYPERLINK(Options!$B$2,\"Fax\")","v":"Fax"}]
["Lit-Tech International (Bosma)","Deb Bosma"," 231-733-0821 246",null,"EH&S","Industrial","Muskegon",null,{"$f":"HYPERLINK(\"#'Client Details'!$B$1\",\"Details\")","v":"Details"},{"$f":"HYPERLINK(Options!$B$1, \"Quote\")","v":"Quote"},{"$f":"HYPERLINK(Options!$B$2,\"Fax\")","v":"Fax"}]
["Litton Inter Connect Northrup Grumman (Th","Brian Thompson"," 417-829-5222","b_thompson@littoninterconnect.com","Safety Manager","Manufacturer","Out of State",null,{"$f":"HYPERLINK(\"#'Client Details'!$B$1\",\"Details\")","v":"Details"},{"$f":"HYPERLINK(Options!$B$1, \"Quote\")","v":"Quote"},{"$f":"HYPERLINK(Options!$B$2,\"Fax\")","v":"Fax"}]
["Liz Burnette",null,null,null,null,null,null,null,{"$f":"HYPERLINK(\"#'Client Details'!$B$1\",\"Details\")","v":"Details"},{"$f":"HYPERLINK(Options!$B$1, \"Quote\")","v":"Quote"},{"$f":"HYPERLINK(Options!$B$2,\"Fax\")","v":"Fax"}]
["Lodestar","Dave Myers/Kelly Bustraan","616-785-7373",null,null,null,null,null,{"$f":"HYPERLINK(\"#'Client Details'!$B$1\",\"Details\")","v":"Details"},{"$f":"HYPERLINK(Options!$B$1, \"Quote\")","v":"Quote"},{"$f":"HYPERLINK(Options!$B$2,\"Fax\")","v":"Fax"}]
["Lodestar Construction, Inc. (Bustraan)","Tyler Bustraan"," 616-785-7373","tybustraan@gmail.com",null,"Contractor General","Kent",null,{"$f":"HYPERLINK(\"#'Client Details'!$B$1\",\"Details\")","v":"Details"},{"$f":"HYPERLINK(Options!$B$1, \"Quote\")","v":"Quote"},{"$f":"HYPERLINK(Options!$B$2,\"Fax\")","v":"Fax"}]
["Lodestar Construction, Inc. (Myers)","Dave Myers"," 616-785-7373",null,"Superintendent","Contractor General","Kent",null,{"$f":"HYPERLINK(\"#'Client Details'!$B$1\",\"Details\")","v":"Details"},{"$f":"HYPERLINK(Options!$B$1, \"Quote\")","v":"Quote"},{"$f":"HYPERLINK(Options!$B$2,\"Fax\")","v":"Fax"}]
["Longwood Elastomers, Inc.","Tim Spraker","276-228-5406",null,null,null,null,null,{"$f":"HYPERLINK(\"#'Client Details'!$B$1\",\"Details\")","v":"Details"},{"$f":"HYPERLINK(Options!$B$1, \"Quote\")","v":"Quote"},{"$f":"HYPERLINK(Options!$B$2,\"Fax\")","v":"Fax"}]
["Loren Hooks",null,null,null,null,null,null,null,{"$f":"HYPERLINK(\"#'Client Details'!$B$1\",\"Details\")","v":"Details"},{"$f":"HYPERLINK(Options!$B$1, \"Quote\")","v":"Quote"},{"$f":"HYPERLINK(Options!$B$2,\"Fax\")","v":"Fax"}]
["Lorin Industries (Rollins)","Skip Rollins",null,null,"Purchasing Agent","Steel","Muskegon",null,{"$f":"HYPERLINK(\"#'Client Details'!$B$1\",\"Details\")","v":"Details"},{"$f":"HYPERLINK(Options!$B$1, \"Quote\")","v":"Quote"},{"$f":"HYPERLINK(Options!$B$2,\"Fax\")","v":"Fax"}]
["Lounsbury Excavating Inc.","Tom Soule","269-657-4446","tom@totalsupportsystems.net",null,null,null,null,{"$f":"HYPERLINK(\"#'Client Details'!$B$1\",\"Details\")","v":"Details"},{"$f":"HYPERLINK(Options!$B$1, \"Quote\")","v":"Quote"},{"$f":"HYPERLINK(Options!$B$2,\"Fax\")","v":"Fax"}]
["Lounsbury Excavating Inc. (Soule)","Tom Soule"," 269-657-4446","tom@kzoo.com",null,"Contractor, Excavator","Van Buren",null,{"$f":"HYPERLINK(\"#'Client Details'!$B$1\",\"Details\")","v":"Details"},{"$f":"HYPERLINK(Options!$B$1, \"Quote\")","v":"Quote"},{"$f":"HYPERLINK(Options!$B$2,\"Fax\")","v":"Fax"}]
["Lovejoy (Winowiecki)","Jerry Winowiecki"," 269-637-7547","gwinowiecki@lovejoy-inc.com","Mainenance & Safety Supervisor","Manufacturer","Allegan",null,{"$f":"HYPERLINK(\"#'Client Details'!$B$1\",\"Details\")","v":"Details"},{"$f":"HYPERLINK(Options!$B$1, \"Quote\")","v":"Quote"},{"$f":"HYPERLINK(Options!$B$2,\"Fax\")","v":"Fax"}]
["LPI","Lauren Pappas",null,null,null,null,null,null,{"$f":"HYPERLINK(\"#'Client Details'!$B$1\",\"Details\")","v":"Details"},{"$f":"HYPERLINK(Options!$B$1, \"Quote\")","v":"Quote"},{"$f":"HYPERLINK(Options!$B$2,\"Fax\")","v":"Fax"}]
["Ludington DPW, City of","Julie Ledger","231-843-2138",null,null,null,null,null,{"$f":"HYPERLINK(\"#'Client Details'!$B$1\",\"Details\")","v":"Details"},{"$f":"HYPERLINK(Options!$B$1, \"Quote\")","v":"Quote"},{"$f":"HYPERLINK(Options!$B$2,\"Fax\")","v":"Fax"}]
["Ludington DPW, City of (Ledger)","Julie Ledger"," 231-843-2138",null,"Buyer/Office Manager","Municipal, Cty","Mason",null,{"$f":"HYPERLINK(\"#'Client Details'!$B$1\",\"Details\")","v":"Details"},{"$f":"HYPERLINK(Options!$B$1, \"Quote\")","v":"Quote"},{"$f":"HYPERLINK(Options!$B$2,\"Fax\")","v":"Fax"}]
["Ludington DPW, City of (McDonald)","Shawn McDonald"," 231-843-2138",null,"Superintendent","Municipal, Cty","Mason",null,{"$f":"HYPERLINK(\"#'Client Details'!$B$1\",\"Details\")","v":"Details"},{"$f":"HYPERLINK(Options!$B$1, \"Quote\")","v":"Quote"},{"$f":"HYPERLINK(Options!$B$2,\"Fax\")","v":"Fax"}]
["Ludington Water Filtration Plant, City of","Kurt Malzahn","231-843-8830","kmalzahn@ci.ludington.mi.us",null,null,null,null,{"$f":"HYPERLINK(\"#'Client Details'!$B$1\",\"Details\")","v":"Details"},{"$f":"HYPERLINK(Options!$B$1, \"Quote\")","v":"Quote"},{"$f":"HYPERLINK(Options!$B$2,\"Fax\")","v":"Fax"}]
["Ludington WWTP, City of (Beadle)","Doug Beadle"," 231-843-3190",null,"Superintendent","Municipal, Cty","Mason",null,{"$f":"HYPERLINK(\"#'Client Details'!$B$1\",\"Details\")","v":"Details"},{"$f":"HYPERLINK(Options!$B$1, \"Quote\")","v":"Quote"},{"$f":"HYPERLINK(Options!$B$2,\"Fax\")","v":"Fax"}]
["Luedtke Engineering Company (Luedtke)","Paul Luedtke"," 231-352-9631 16","luedtkeeng@yahoo.com","Safety Manager","Contractor General","Benzie",null,{"$f":"HYPERLINK(\"#'Client Details'!$B$1\",\"Details\")","v":"Details"},{"$f":"HYPERLINK(Options!$B$1, \"Quote\")","v":"Quote"},{"$f":"HYPERLINK(Options!$B$2,\"Fax\")","v":"Fax"}]
["Luna Glow USA, Inc. (Smith)","Jim Smith"," 925-558-2738","lunaglowusa@aol.com","Representative","Supplier","N/A",null,{"$f":"HYPERLINK(\"#'Client Details'!$B$1\",\"Details\")","v":"Details"},{"$f":"HYPERLINK(Options!$B$1, \"Quote\")","v":"Quote"},{"$f":"HYPERLINK(Options!$B$2,\"Fax\")","v":"Fax"}]
["LW Lamb Co.","Acct'ing Marsha","269-857-3228",null,null,null,null,null,{"$f":"HYPERLINK(\"#'Client Details'!$B$1\",\"Details\")","v":"Details"},{"$f":"HYPERLINK(Options!$B$1, \"Quote\")","v":"Quote"},{"$f":"HYPERLINK(Options!$B$2,\"Fax\")","v":"Fax"}]
["LW Lamb, Inc. (Khodl)","Steve Khodl"," 269-857-3228 108",null,"Foreman","Bridge, Highway Construction","Alegan",null,{"$f":"HYPERLINK(\"#'Client Details'!$B$1\",\"Details\")","v":"Details"},{"$f":"HYPERLINK(Options!$B$1, \"Quote\")","v":"Quote"},{"$f":"HYPERLINK(Options!$B$2,\"Fax\")","v":"Fax"}]
["LW Lamb, Inc. (Lamb)","John Lamb"," 269-857-3228 107","gobridges@hotmail.com","Co-Owner","Bridge, Highway Construction","Alegan",null,{"$f":"HYPERLINK(\"#'Client Details'!$B$1\",\"Details\")","v":"Details"},{"$f":"HYPERLINK(Options!$B$1, \"Quote\")","v":"Quote"},{"$f":"HYPERLINK(Options!$B$2,\"Fax\")","v":"Fax"}]
["Lyndrup Construction",null,"616-835-6091",null,null,null,null,null,{"$f":"HYPERLINK(\"#'Client Details'!$B$1\",\"Details\")","v":"Details"},{"$f":"HYPERLINK(Options!$B$1, \"Quote\")","v":"Quote"},{"$f":"HYPERLINK(Options!$B$2,\"Fax\")","v":"Fax"}]
["Lynn Masonry (Van Houten)","Mark Van Houten"," 616-642-9300","markv@lynnmasonry.com","Maintenance Supervisor","Contractor General","Kent",null,{"$f":"HYPERLINK(\"#'Client Details'!$B$1\",\"Details\")","v":"Details"},{"$f":"HYPERLINK(Options!$B$1, \"Quote\")","v":"Quote"},{"$f":"HYPERLINK(Options!$B$2,\"Fax\")","v":"Fax"}]
["Lyons Industries Inc.","Martha Sanchez","269-782-3404",null,null,null,null,null,{"$f":"HYPERLINK(\"#'Client Details'!$B$1\",\"Details\")","v":"Details"},{"$f":"HYPERLINK(Options!$B$1, \"Quote\")","v":"Quote"},{"$f":"HYPERLINK(Options!$B$2,\"Fax\")","v":"Fax"}]
["M & R Consulting Group, LLC (Renkowski)","Tamara Renkowski"," 269-521-4430","mrcgroup@aol.com","CiH, LIH","Contractor EH&S","Allegan",null,{"$f":"HYPERLINK(\"#'Client Details'!$B$1\",\"Details\")","v":"Details"},{"$f":"HYPERLINK(Options!$B$1, \"Quote\")","v":"Quote"},{"$f":"HYPERLINK(Options!$B$2,\"Fax\")","v":"Fax"}]
["M.S.I. Construction Co. (Barnhard)","Warren Barnhard"," 231-750-5388",null,"Owner","Contractor General","Muskegon",null,{"$f":"HYPERLINK(\"#'Client Details'!$B$1\",\"Details\")","v":"Details"},{"$f":"HYPERLINK(Options!$B$1, \"Quote\")","v":"Quote"},{"$f":"HYPERLINK(Options!$B$2,\"Fax\")","v":"Fax"}]
["M.S.U. - Civil & Enviro. Engineering","William Taylor","517-353-7161",null,null,null,null,null,{"$f":"HYPERLINK(\"#'Client Details'!$B$1\",\"Details\")","v":"Details"},{"$f":"HYPERLINK(Options!$B$1, \"Quote\")","v":"Quote"},{"$f":"HYPERLINK(Options!$B$2,\"Fax\")","v":"Fax"}]
["M.S.U. (Biosystems Engineering)","Timothy Harrigan","517-449-7272",null,null,null,null,null,{"$f":"HYPERLINK(\"#'Client Details'!$B$1\",\"Details\")","v":"Details"},{"$f":"HYPERLINK(Options!$B$1, \"Quote\")","v":"Quote"},{"$f":"HYPERLINK(Options!$B$2,\"Fax\")","v":"Fax"}]
["M.S.U. (Van Andel Inst.)","Susan  / Carol Fortwell","513-319-6686",null,null,null,null,null,{"$f":"HYPERLINK(\"#'Client Details'!$B$1\",\"Details\")","v":"Details"},{"$f":"HYPERLINK(Options!$B$1, \"Quote\")","v":"Quote"},{"$f":"HYPERLINK(Options!$B$2,\"Fax\")","v":"Fax"}]
["Macatawa Holdings LLC -- Praxis Packaging","Samantha Semrau"," 616-827-8525","ssemrau@praxispackaging.com",null,"Manufacturer","Kent",null,{"$f":"HYPERLINK(\"#'Client Details'!$B$1\",\"Details\")","v":"Details"},{"$f":"HYPERLINK(Options!$B$1, \"Quote\")","v":"Quote"},{"$f":"HYPERLINK(Options!$B$2,\"Fax\")","v":"Fax"}]
["Macatawa Plumbing, LLC (Vanderzwaag)","Nathan Vanderzwaag"," 616-772-0388",null,"Manager","Contractor General","Allegan",null,{"$f":"HYPERLINK(\"#'Client Details'!$B$1\",\"Details\")","v":"Details"},{"$f":"HYPERLINK(Options!$B$1, \"Quote\")","v":"Quote"},{"$f":"HYPERLINK(Options!$B$2,\"Fax\")","v":"Fax"}]
["MacLellan Integrated Services",null,"812-387-4753 Tim-desk",null,null,null,null,null,{"$f":"HYPERLINK(\"#'Client Details'!$B$1\",\"Details\")","v":"Details"},{"$f":"HYPERLINK(Options!$B$1, \"Quote\")","v":"Quote"},{"$f":"HYPERLINK(Options!$B$2,\"Fax\")","v":"Fax"}]
["MacLellan Integrated Services (Burden)","Jeff Burden"," 812-387-4752","jburden@maclellanusa.com",null,"Manufacturer","Out of State",null,{"$f":"HYPERLINK(\"#'Client Details'!$B$1\",\"Details\")","v":"Details"},{"$f":"HYPERLINK(Options!$B$1, \"Quote\")","v":"Quote"},{"$f":"HYPERLINK(Options!$B$2,\"Fax\")","v":"Fax"}]
["MacMillan Associates, Inc. (Reckinger)","Douglas F. Reckinger"," 989-894-4300","dreckinger@macmillanassociates.com","Engineer","Engineering, Architecture","Bay",null,{"$f":"HYPERLINK(\"#'Client Details'!$B$1\",\"Details\")","v":"Details"},{"$f":"HYPERLINK(Options!$B$1, \"Quote\")","v":"Quote"},{"$f":"HYPERLINK(Options!$B$2,\"Fax\")","v":"Fax"}]
["Macomb Pipe and Supply","Cheryl Pozzuoli","586-274-4100",null,null,null,null,null,{"$f":"HYPERLINK(\"#'Client Details'!$B$1\",\"Details\")","v":"Details"},{"$f":"HYPERLINK(Options!$B$1, \"Quote\")","v":"Quote"},{"$f":"HYPERLINK(Options!$B$2,\"Fax\")","v":"Fax"}]
["Macomb Wholesale Supply Corp.",null,"586-415-7400",null,null,null,null,null,{"$f":"HYPERLINK(\"#'Client Details'!$B$1\",\"Details\")","v":"Details"},{"$f":"HYPERLINK(Options!$B$1, \"Quote\")","v":"Quote"},{"$f":"HYPERLINK(Options!$B$2,\"Fax\")","v":"Fax"}]
["Madison Township Fire - EMS",null,"614-837-7883",null,null,null,null,null,{"$f":"HYPERLINK(\"#'Client Details'!$B$1\",\"Details\")","v":"Details"},{"$f":"HYPERLINK(Options!$B$1, \"Quote\")","v":"Quote"},{"$f":"HYPERLINK(Options!$B$2,\"Fax\")","v":"Fax"}]
["Madison Township Fire Department (Pallos)","Capt. Chris Pallos"," 614-837-7883","cpallos@madisontownship.org",null,"Fire Department","Out of State",null,{"$f":"HYPERLINK(\"#'Client Details'!$B$1\",\"Details\")","v":"Details"},{"$f":"HYPERLINK(Options!$B$1, \"Quote\")","v":"Quote"},{"$f":"HYPERLINK(Options!$B$2,\"Fax\")","v":"Fax"}]
["Magna Closures","Melanie Johnston","905-898-6744 x2121",null,null,null,null,null,{"$f":"HYPERLINK(\"#'Client Details'!$B$1\",\"Details\")","v":"Details"},{"$f":"HYPERLINK(Options!$B$1, \"Quote\")","v":"Quote"},{"$f":"HYPERLINK(Options!$B$2,\"Fax\")","v":"Fax"}]
["Magna Closures (Johnston)","Melanie Johnston"," 905-898-6744 2121","melanie.johnston@magnaclosures.com",null,"Automotive","Out of State",null,{"$f":"HYPERLINK(\"#'Client Details'!$B$1\",\"Details\")","v":"Details"},{"$f":"HYPERLINK(Options!$B$1, \"Quote\")","v":"Quote"},{"$f":"HYPERLINK(Options!$B$2,\"Fax\")","v":"Fax"}]
["Magna Electric Corp.","Kim Green","248-486-7370",null,null,null,null,null,{"$f":"HYPERLINK(\"#'Client Details'!$B$1\",\"Details\")","v":"Details"},{"$f":"HYPERLINK(Options!$B$1, \"Quote\")","v":"Quote"},{"$f":"HYPERLINK(Options!$B$2,\"Fax\")","v":"Fax"}]
["Magna Exteriors & Interiors ( Salisbury)","Maureen Lynch","704-645-2145",null,null,null,null,null,{"$f":"HYPERLINK(\"#'Client Details'!$B$1\",\"Details\")","v":"Details"},{"$f":"HYPERLINK(Options!$B$1, \"Quote\")","v":"Quote"},{"$f":"HYPERLINK(Options!$B$2,\"Fax\")","v":"Fax"}]
["Magna Mirrors (Moore)","Paul Moore"," 616-827-3677","paul.moore@magnamirrors.com","EHS Specialist","Automotive","Kent",null,{"$f":"HYPERLINK(\"#'Client Details'!$B$1\",\"Details\")","v":"Details"},{"$f":"HYPERLINK(Options!$B$1, \"Quote\")","v":"Quote"},{"$f":"HYPERLINK(Options!$B$2,\"Fax\")","v":"Fax"}]
["Magna Mirrors (Newaygo)","Jill McDonald","231-652-4450","jill.mcdonald@magnamirrors.com",null,null,null,null,{"$f":"HYPERLINK(\"#'Client Details'!$B$1\",\"Details\")","v":"Details"},{"$f":"HYPERLINK(Options!$B$1, \"Quote\")","v":"Quote"},{"$f":"HYPERLINK(Options!$B$2,\"Fax\")","v":"Fax"}]
["Magna-Donnelly (George)","Lori George"," 616-786-6067","lori.george@magnadon.com","EH&S Manager","Automotive","Ottawa",null,{"$f":"HYPERLINK(\"#'Client Details'!$B$1\",\"Details\")","v":"Details"},{"$f":"HYPERLINK(Options!$B$1, \"Quote\")","v":"Quote"},{"$f":"HYPERLINK(Options!$B$2,\"Fax\")","v":"Fax"}]
["Magna-Donnelly Corp. (Groenevelt)","Tim Groenevelt"," 231-652-4581","tim.groenevelt@magnadon.com","Maintenance Teachnician","Automotive","Newaygo",null,{"$f":"HYPERLINK(\"#'Client Details'!$B$1\",\"Details\")","v":"Details"},{"$f":"HYPERLINK(Options!$B$1, \"Quote\")","v":"Quote"},{"$f":"HYPERLINK(Options!$B$2,\"Fax\")","v":"Fax"}]
["Magna-Donnelly Corp. (Latsch)","Bill Latsch"," 231-652-8432","bill.latsch@magnamirrors.com","Maintenance Manager","Automotive","Newaygo",null,{"$f":"HYPERLINK(\"#'Client Details'!$B$1\",\"Details\")","v":"Details"},{"$f":"HYPERLINK(Options!$B$1, \"Quote\")","v":"Quote"},{"$f":"HYPERLINK(Options!$B$2,\"Fax\")","v":"Fax"}]
["Magna-Donnelly Corp. (Point-2-Point) (Gra","Tomas Grandy"," 231-652-8425","t.grandy@mrosoup.com",null,"Automotive","Newaygo",null,{"$f":"HYPERLINK(\"#'Client Details'!$B$1\",\"Details\")","v":"Details"},{"$f":"HYPERLINK(Options!$B$1, \"Quote\")","v":"Quote"},{"$f":"HYPERLINK(Options!$B$2,\"Fax\")","v":"Fax"}]
["Malcolm Pirnie (Kozak)","Erin Kozak"," 517-324-5053","ekozak@pirnie.com",null,"Contractor EH&S","Ingham",null,{"$f":"HYPERLINK(\"#'Client Details'!$B$1\",\"Details\")","v":"Details"},{"$f":"HYPERLINK(Options!$B$1, \"Quote\")","v":"Quote"},{"$f":"HYPERLINK(Options!$B$2,\"Fax\")","v":"Fax"}]
["Mall City Mechanical, Inc.",null,"616-453-5483",null,null,null,null,null,{"$f":"HYPERLINK(\"#'Client Details'!$B$1\",\"Details\")","v":"Details"},{"$f":"HYPERLINK(Options!$B$1, \"Quote\")","v":"Quote"},{"$f":"HYPERLINK(Options!$B$2,\"Fax\")","v":"Fax"}]
["Mall City Mechanical, Inc. (Dey)","Jeff Dey"," 616-453-5483",null,"Project Coordinator","Contractor HVAC","Kent",null,{"$f":"HYPERLINK(\"#'Client Details'!$B$1\",\"Details\")","v":"Details"},{"$f":"HYPERLINK(Options!$B$1, \"Quote\")","v":"Quote"},{"$f":"HYPERLINK(Options!$B$2,\"Fax\")","v":"Fax"}]
["Management & Marketing Resources, Inc.","Marie Rafik","312-440-0927",null,null,null,null,null,{"$f":"HYPERLINK(\"#'Client Details'!$B$1\",\"Details\")","v":"Details"},{"$f":"HYPERLINK(Options!$B$1, \"Quote\")","v":"Quote"},{"$f":"HYPERLINK(Options!$B$2,\"Fax\")","v":"Fax"}]
["Manistee County Road Commission (Johnson)","Art Johnson"," 231-889-0044",null,"Purchasing Agent","Municipal, Cty","Manistee",null,{"$f":"HYPERLINK(\"#'Client Details'!$B$1\",\"Details\")","v":"Details"},{"$f":"HYPERLINK(Options!$B$1, \"Quote\")","v":"Quote"},{"$f":"HYPERLINK(Options!$B$2,\"Fax\")","v":"Fax"}]
["Manistee DPW, City of (Garber)","Jack Garber"," 231-723-3641","jgarber@ci.manistee.mi.us","Superintendent","Municipal, Cty","Manistee",null,{"$f":"HYPERLINK(\"#'Client Details'!$B$1\",\"Details\")","v":"Details"},{"$f":"HYPERLINK(Options!$B$1, \"Quote\")","v":"Quote"},{"$f":"HYPERLINK(Options!$B$2,\"Fax\")","v":"Fax"}]
["Manistee WWTP, City of (Cote)","Ed Cote"," 231-723-1553","ecote@ci.manistee.mi.us","Superintendent","Municipal, Cty","Manistee",null,{"$f":"HYPERLINK(\"#'Client Details'!$B$1\",\"Details\")","v":"Details"},{"$f":"HYPERLINK(Options!$B$1, \"Quote\")","v":"Quote"},{"$f":"HYPERLINK(Options!$B$2,\"Fax\")","v":"Fax"}]
["Marathon Petroleum Co. (McCants)","Michael McCants"," 985-535-7270","mkmccants@marathonpetroleum.com","Chemist","Petroleum Related","Out of State",null,{"$f":"HYPERLINK(\"#'Client Details'!$B$1\",\"Details\")","v":"Details"},{"$f":"HYPERLINK(Options!$B$1, \"Quote\")","v":"Quote"},{"$f":"HYPERLINK(Options!$B$2,\"Fax\")","v":"Fax"}]
["Marcum Pump & Equipment","David Hall","304-429-4386",null,null,null,null,null,{"$f":"HYPERLINK(\"#'Client Details'!$B$1\",\"Details\")","v":"Details"},{"$f":"HYPERLINK(Options!$B$1, \"Quote\")","v":"Quote"},{"$f":"HYPERLINK(Options!$B$2,\"Fax\")","v":"Fax"}]
["Mark IV Automotive (Pritchard)","Jamie Pritchard"," 231-796-2691 229","jamie_pritchard@markivauto.com","EHS Manager","Automotive","Mecosta",null,{"$f":"HYPERLINK(\"#'Client Details'!$B$1\",\"Details\")","v":"Details"},{"$f":"HYPERLINK(Options!$B$1, \"Quote\")","v":"Quote"},{"$f":"HYPERLINK(Options!$B$2,\"Fax\")","v":"Fax"}]
["MarketForce Incorporated (Kazyak)","Kurt Kazyak"," 248-960-7293","kkazyak@marketforceinc.net","Manufacter's Rep","Representative","Oakland",null,{"$f":"HYPERLINK(\"#'Client Details'!$B$1\",\"Details\")","v":"Details"},{"$f":"HYPERLINK(Options!$B$1, \"Quote\")","v":"Quote"},{"$f":"HYPERLINK(Options!$B$2,\"Fax\")","v":"Fax"}]
["Martin Anderson","Martin Anderson","616-822-5811",null,null,null,null,null,{"$f":"HYPERLINK(\"#'Client Details'!$B$1\",\"Details\")","v":"Details"},{"$f":"HYPERLINK(Options!$B$1, \"Quote\")","v":"Quote"},{"$f":"HYPERLINK(Options!$B$2,\"Fax\")","v":"Fax"}]
["Martin Marietta Magnesia Specialties","Tom Greve","231-723-1321",null,null,null,null,null,{"$f":"HYPERLINK(\"#'Client Details'!$B$1\",\"Details\")","v":"Details"},{"$f":"HYPERLINK(Options!$B$1, \"Quote\")","v":"Quote"},{"$f":"HYPERLINK(Options!$B$2,\"Fax\")","v":"Fax"}]
["Martin Marietta Magnesia Specialties (Gre","Thomas A. Greve"," 231-723-1321 1321","tom.greve@martinmarietta.com","Safety Engineer","Mining","Manistee",null,{"$f":"HYPERLINK(\"#'Client Details'!$B$1\",\"Details\")","v":"Details"},{"$f":"HYPERLINK(Options!$B$1, \"Quote\")","v":"Quote"},{"$f":"HYPERLINK(Options!$B$2,\"Fax\")","v":"Fax"}]
["Marysville DPW, City of (Washburn)","Brian Washburn"," 810-364-8340",null,"Supervisor","Municipal, Cty","St. Clair",null,{"$f":"HYPERLINK(\"#'Client Details'!$B$1\",\"Details\")","v":"Details"},{"$f":"HYPERLINK(Options!$B$1, \"Quote\")","v":"Quote"},{"$f":"HYPERLINK(Options!$B$2,\"Fax\")","v":"Fax"}]
["Marysville Ethanol, LLC","Frank Rasmussen","810-364-8100",null,null,null,null,null,{"$f":"HYPERLINK(\"#'Client Details'!$B$1\",\"Details\")","v":"Details"},{"$f":"HYPERLINK(Options!$B$1, \"Quote\")","v":"Quote"},{"$f":"HYPERLINK(Options!$B$2,\"Fax\")","v":"Fax"}]
["Marysville Gas Liquids",null,"810-364-8100",null,null,null,null,null,{"$f":"HYPERLINK(\"#'Client Details'!$B$1\",\"Details\")","v":"Details"},{"$f":"HYPERLINK(Options!$B$1, \"Quote\")","v":"Quote"},{"$f":"HYPERLINK(Options!$B$2,\"Fax\")","v":"Fax"}]
["Marysville Hydrocarbon (Rasmussen)","Frank Rasmussen"," 810-388-2082","frasmussen@marysvillehc.com",null,"Petroleum Related","St. Clair",null,{"$f":"HYPERLINK(\"#'Client Details'!$B$1\",\"Details\")","v":"Details"},{"$f":"HYPERLINK(Options!$B$1, \"Quote\")","v":"Quote"},{"$f":"HYPERLINK(Options!$B$2,\"Fax\")","v":"Fax"}]
["Masco Corporation (O'Donnell)","Neil O'Donnell"," 313-792-4122","neil_o'donnell@mascohq.com","Purchasing","Automotive","Wayne",null,{"$f":"HYPERLINK(\"#'Client Details'!$B$1\",\"Details\")","v":"Details"},{"$f":"HYPERLINK(Options!$B$1, \"Quote\")","v":"Quote"},{"$f":"HYPERLINK(Options!$B$2,\"Fax\")","v":"Fax"}]
["Mason County Drain Commission (Rohde)","Dan Rohde"," 231-757-9366","drohde@mason.net","Drain Maintenance Technician","Municipal, Cty","Mason",null,{"$f":"HYPERLINK(\"#'Client Details'!$B$1\",\"Details\")","v":"Details"},{"$f":"HYPERLINK(Options!$B$1, \"Quote\")","v":"Quote"},{"$f":"HYPERLINK(Options!$B$2,\"Fax\")","v":"Fax"}]
["Mason County Road Commission (Ditmar)","Gary Ditmar"," 231-757-2882",null,"Superintendent/Director","Municipal, Cty","Mason",null,{"$f":"HYPERLINK(\"#'Client Details'!$B$1\",\"Details\")","v":"Details"},{"$f":"HYPERLINK(Options!$B$1, \"Quote\")","v":"Quote"},{"$f":"HYPERLINK(Options!$B$2,\"Fax\")","v":"Fax"}]
["Mason County Road Commission (Durfee)","Jim Durfee"," 231-757-2882",null,"Storekeeper","Municipal, Cty","Mason",null,{"$f":"HYPERLINK(\"#'Client Details'!$B$1\",\"Details\")","v":"Details"},{"$f":"HYPERLINK(Options!$B$1, \"Quote\")","v":"Quote"},{"$f":"HYPERLINK(Options!$B$2,\"Fax\")","v":"Fax"}]
["Mason DPW, City of (Baker)","Ken Baker"," 517-676-1319",null,"Supervisor","Municipal, Cty","Ingham",null,{"$f":"HYPERLINK(\"#'Client Details'!$B$1\",\"Details\")","v":"Details"},{"$f":"HYPERLINK(Options!$B$1, \"Quote\")","v":"Quote"},{"$f":"HYPERLINK(Options!$B$2,\"Fax\")","v":"Fax"}]
["Massanutten Public Service Corp.","Larry Huff","540-289-7088",null,null,null,null,null,{"$f":"HYPERLINK(\"#'Client Details'!$B$1\",\"Details\")","v":"Details"},{"$f":"HYPERLINK(Options!$B$1, \"Quote\")","v":"Quote"},{"$f":"HYPERLINK(Options!$B$2,\"Fax\")","v":"Fax"}]
["Mastech Manufacturing, Inc (Holcombe)","Roxanne Holcombe"," 231-398-3328",null,"Safety/HR","Wind Energy Manufacturing","Manistee",null,{"$f":"HYPERLINK(\"#'Client Details'!$B$1\",\"Details\")","v":"Details"},{"$f":"HYPERLINK(Options!$B$1, \"Quote\")","v":"Quote"},{"$f":"HYPERLINK(Options!$B$2,\"Fax\")","v":"Fax"}]
["Master Packaging Inc. (Callaghan)","Shawn Callaghan"," 902-437-3742","callaghan.shawn@master-packaging.com","Health & Safety","Paper","Out of State",null,{"$f":"HYPERLINK(\"#'Client Details'!$B$1\",\"Details\")","v":"Details"},{"$f":"HYPERLINK(Options!$B$1, \"Quote\")","v":"Quote"},{"$f":"HYPERLINK(Options!$B$2,\"Fax\")","v":"Fax"}]
["MasterTag (Rice)","Greg Rice"," 231-894-5651",null,"Maintenance Lead","Tag Printing and Cutting","Muskegon",null,{"$f":"HYPERLINK(\"#'Client Details'!$B$1\",\"Details\")","v":"Details"},{"$f":"HYPERLINK(Options!$B$1, \"Quote\")","v":"Quote"},{"$f":"HYPERLINK(Options!$B$2,\"Fax\")","v":"Fax"}]
["Mastronardi Produce","Courtney Whitfield","734-727-0929",null,null,null,null,null,{"$f":"HYPERLINK(\"#'Client Details'!$B$1\",\"Details\")","v":"Details"},{"$f":"HYPERLINK(Options!$B$1, \"Quote\")","v":"Quote"},{"$f":"HYPERLINK(Options!$B$2,\"Fax\")","v":"Fax"}]
["Material Testing Consultants (GR)",null,"800-968-8378","jsabin@mateco.com",null,null,null,null,{"$f":"HYPERLINK(\"#'Client Details'!$B$1\",\"Details\")","v":"Details"},{"$f":"HYPERLINK(Options!$B$1, \"Quote\")","v":"Quote"},{"$f":"HYPERLINK(Options!$B$2,\"Fax\")","v":"Fax"}]
["Material Testing Consultants (Livonia)",null,"248-588-6200",null,null,null,null,null,{"$f":"HYPERLINK(\"#'Client Details'!$B$1\",\"Details\")","v":"Details"},{"$f":"HYPERLINK(Options!$B$1, \"Quote\")","v":"Quote"},{"$f":"HYPERLINK(Options!$B$2,\"Fax\")","v":"Fax"}]
["Materials Resources","Craig Kinne","269-983-6361",null,null,null,null,null,{"$f":"HYPERLINK(\"#'Client Details'!$B$1\",\"Details\")","v":"Details"},{"$f":"HYPERLINK(Options!$B$1, \"Quote\")","v":"Quote"},{"$f":"HYPERLINK(Options!$B$2,\"Fax\")","v":"Fax"}]
["Materials Testing Consultants, Inc. (Elli","Steve Elliott"," 616-456-5469","syoung@mateco.com",null,"Contractor EH&S","Kent",null,{"$f":"HYPERLINK(\"#'Client Details'!$B$1\",\"Details\")","v":"Details"},{"$f":"HYPERLINK(Options!$B$1, \"Quote\")","v":"Quote"},{"$f":"HYPERLINK(Options!$B$2,\"Fax\")","v":"Fax"}]
["Materials Testing Consultants, Inc. (Mung","Todd Munger"," 616-456-5469","tmunger@mateco.com",null,"Contractor EH&S","Kent",null,{"$f":"HYPERLINK(\"#'Client Details'!$B$1\",\"Details\")","v":"Details"},{"$f":"HYPERLINK(Options!$B$1, \"Quote\")","v":"Quote"},{"$f":"HYPERLINK(Options!$B$2,\"Fax\")","v":"Fax"}]
["Materials Testing Consultants, Inc. (O'Br","John O'Brock"," 616-456-5469","jobrock@mateco.com",null,null,"Kent",null,{"$f":"HYPERLINK(\"#'Client Details'!$B$1\",\"Details\")","v":"Details"},{"$f":"HYPERLINK(Options!$B$1, \"Quote\")","v":"Quote"},{"$f":"HYPERLINK(Options!$B$2,\"Fax\")","v":"Fax"}]
["Materials Testing Consultants, Inc. (Youn","Stephen Young"," 616-456-5469",null,"Environmental Department Manag","Contractor EH&S","Kent",null,{"$f":"HYPERLINK(\"#'Client Details'!$B$1\",\"Details\")","v":"Details"},{"$f":"HYPERLINK(Options!$B$1, \"Quote\")","v":"Quote"},{"$f":"HYPERLINK(Options!$B$2,\"Fax\")","v":"Fax"}]
["Maxim Nitro",null,"304-755-1033",null,null,null,null,null,{"$f":"HYPERLINK(\"#'Client Details'!$B$1\",\"Details\")","v":"Details"},{"$f":"HYPERLINK(Options!$B$1, \"Quote\")","v":"Quote"},{"$f":"HYPERLINK(Options!$B$2,\"Fax\")","v":"Fax"}]
["McBain Power Station",null,"231-825-2772",null,null,null,null,null,{"$f":"HYPERLINK(\"#'Client Details'!$B$1\",\"Details\")","v":"Details"},{"$f":"HYPERLINK(Options!$B$1, \"Quote\")","v":"Quote"},{"$f":"HYPERLINK(Options!$B$2,\"Fax\")","v":"Fax"}]
["McCoig Co. Michigan Foundation Co. (Kelle","Gary Kelley"," 734-326-8200","gkelley@mccoig.biz","Plant Manager","Mining","Wayne",null,{"$f":"HYPERLINK(\"#'Client Details'!$B$1\",\"Details\")","v":"Details"},{"$f":"HYPERLINK(Options!$B$1, \"Quote\")","v":"Quote"},{"$f":"HYPERLINK(Options!$B$2,\"Fax\")","v":"Fax"}]
["McCoig Co. Michigan Foundation Co. (Schmi","Joseph Schmidt"," 313-531-1880","jschmidt@mccoig.biz","Plant Manager","Mining","Wayne",null,{"$f":"HYPERLINK(\"#'Client Details'!$B$1\",\"Details\")","v":"Details"},{"$f":"HYPERLINK(Options!$B$1, \"Quote\")","v":"Quote"},{"$f":"HYPERLINK(Options!$B$2,\"Fax\")","v":"Fax"}]
["McCoig Co. Michigan Foundation Co. (Schwa","Michael Schwartz"," 313-368-1133","mschwartz@mccoig.biz","Plant Manager","Mining","Wayne",null,{"$f":"HYPERLINK(\"#'Client Details'!$B$1\",\"Details\")","v":"Details"},{"$f":"HYPERLINK(Options!$B$1, \"Quote\")","v":"Quote"},{"$f":"HYPERLINK(Options!$B$2,\"Fax\")","v":"Fax"}]
["McCoig Co. Michigan Foundation Co. (Stref","David Strefling"," 313-921-6233","dstrefling@mccoig.biz","Plant Manager","Mining","Wayne",null,{"$f":"HYPERLINK(\"#'Client Details'!$B$1\",\"Details\")","v":"Details"},{"$f":"HYPERLINK(Options!$B$1, \"Quote\")","v":"Quote"},{"$f":"HYPERLINK(Options!$B$2,\"Fax\")","v":"Fax"}]
["McCoig Co. Michigan Foundation Co. (Toth)","Chris Toth"," 734-282-9104","ctoth@mccoig.biz","Plant Manager","Mining","Wayne",null,{"$f":"HYPERLINK(\"#'Client Details'!$B$1\",\"Details\")","v":"Details"},{"$f":"HYPERLINK(Options!$B$1, \"Quote\")","v":"Quote"},{"$f":"HYPERLINK(Options!$B$2,\"Fax\")","v":"Fax"}]
["McCoig Materials (7 Mile)",null,"313-368-1133",null,null,null,null,null,{"$f":"HYPERLINK(\"#'Client Details'!$B$1\",\"Details\")","v":"Details"},{"$f":"HYPERLINK(Options!$B$1, \"Quote\")","v":"Quote"},{"$f":"HYPERLINK(Options!$B$2,\"Fax\")","v":"Fax"}]
["McCoig Materials (French Rd)",null,"313-921-6233",null,null,null,null,null,{"$f":"HYPERLINK(\"#'Client Details'!$B$1\",\"Details\")","v":"Details"},{"$f":"HYPERLINK(Options!$B$1, \"Quote\")","v":"Quote"},{"$f":"HYPERLINK(Options!$B$2,\"Fax\")","v":"Fax"}]
["McCoig Materials (Primo/Brownstown)","800-3231870",null,null,null,null,null,null,{"$f":"HYPERLINK(\"#'Client Details'!$B$1\",\"Details\")","v":"Details"},{"$f":"HYPERLINK(Options!$B$1, \"Quote\")","v":"Quote"},{"$f":"HYPERLINK(Options!$B$2,\"Fax\")","v":"Fax"}]
["McCoig Materials (Redford)",null,"313-531-1880",null,null,null,null,null,{"$f":"HYPERLINK(\"#'Client Details'!$B$1\",\"Details\")","v":"Details"},{"$f":"HYPERLINK(Options!$B$1, \"Quote\")","v":"Quote"},{"$f":"HYPERLINK(Options!$B$2,\"Fax\")","v":"Fax"}]
["McCoig Materials (Spring Wells)","Brian Gray","734-341-0256",null,null,null,null,null,{"$f":"HYPERLINK(\"#'Client Details'!$B$1\",\"Details\")","v":"Details"},{"$f":"HYPERLINK(Options!$B$1, \"Quote\")","v":"Quote"},{"$f":"HYPERLINK(Options!$B$2,\"Fax\")","v":"Fax"}]
["McCoig Materials (Trenton)",null,"734-282-9104",null,null,null,null,null,{"$f":"HYPERLINK(\"#'Client Details'!$B$1\",\"Details\")","v":"Details"},{"$f":"HYPERLINK(Options!$B$1, \"Quote\")","v":"Quote"},{"$f":"HYPERLINK(Options!$B$2,\"Fax\")","v":"Fax"}]
["McCoig Materials (Wayne)",null,"734-326-8200",null,null,null,null,null,{"$f":"HYPERLINK(\"#'Client Details'!$B$1\",\"Details\")","v":"Details"},{"$f":"HYPERLINK(Options!$B$1, \"Quote\")","v":"Quote"},{"$f":"HYPERLINK(Options!$B$2,\"Fax\")","v":"Fax"}]
["McCormick Sand, Inc.","Joel McCormick","231-766-0466",null,null,null,null,null,{"$f":"HYPERLINK(\"#'Client Details'!$B$1\",\"Details\")","v":"Details"},{"$f":"HYPERLINK(Options!$B$1, \"Quote\")","v":"Quote"},{"$f":"HYPERLINK(Options!$B$2,\"Fax\")","v":"Fax"}]
["McElwee Electric Inc. (McElwee)","Gene McElwee"," 616-454-7788","esmcelwee@comcast.net",null,"Contractor Electrical","Kent",null,{"$f":"HYPERLINK(\"#'Client Details'!$B$1\",\"Details\")","v":"Details"},{"$f":"HYPERLINK(Options!$B$1, \"Quote\")","v":"Quote"},{"$f":"HYPERLINK(Options!$B$2,\"Fax\")","v":"Fax"}]
["McFarling Foods, Inc. (Dudek)","Steve Dudek"," 317-635-2633","smd@mcfarling.com",null,"Food","Out of State",null,{"$f":"HYPERLINK(\"#'Client Details'!$B$1\",\"Details\")","v":"Details"},{"$f":"HYPERLINK(Options!$B$1, \"Quote\")","v":"Quote"},{"$f":"HYPERLINK(Options!$B$2,\"Fax\")","v":"Fax"}]
["McGean Specialty Chemicals","Mark Merrell","216-441-4900","mark.merrell@mcgean.com",null,null,null,null,{"$f":"HYPERLINK(\"#'Client Details'!$B$1\",\"Details\")","v":"Details"},{"$f":"HYPERLINK(Options!$B$1, \"Quote\")","v":"Quote"},{"$f":"HYPERLINK(Options!$B$2,\"Fax\")","v":"Fax"}]
["McHenry Knitting & Manufacturing (McHenry","Bob McHenry"," 260-824-8146","mchenryknitting@adamswells.com","President","Supplier","Out of State",null,{"$f":"HYPERLINK(\"#'Client Details'!$B$1\",\"Details\")","v":"Details"},{"$f":"HYPERLINK(Options!$B$1, \"Quote\")","v":"Quote"},{"$f":"HYPERLINK(Options!$B$2,\"Fax\")","v":"Fax"}]
["McLaughlin & Associates Company, Inc.","Chris Timko","440-333-3730",null,null,null,null,null,{"$f":"HYPERLINK(\"#'Client Details'!$B$1\",\"Details\")","v":"Details"},{"$f":"HYPERLINK(Options!$B$1, \"Quote\")","v":"Quote"},{"$f":"HYPERLINK(Options!$B$2,\"Fax\")","v":"Fax"}]
["McLouth Welding and Excavating (McLouth)","Robert McLouth"," 231-864-2283",null,"Owner","Welding and Excavating","Manistee",null,{"$f":"HYPERLINK(\"#'Client Details'!$B$1\",\"Details\")","v":"Details"},{"$f":"HYPERLINK(Options!$B$1, \"Quote\")","v":"Quote"},{"$f":"HYPERLINK(Options!$B$2,\"Fax\")","v":"Fax"}]
["Mead Johnson Nutritionals","Verne Bush","616-748-7105",null,null,null,null,null,{"$f":"HYPERLINK(\"#'Client Details'!$B$1\",\"Details\")","v":"Details"},{"$f":"HYPERLINK(Options!$B$1, \"Quote\")","v":"Quote"},{"$f":"HYPERLINK(Options!$B$2,\"Fax\")","v":"Fax"}]
["Mead Johnson Nutritionals (Joelson)","Tom Joelson"," 616-748-7172","thomas.joelson@bms.com","EH&S Facilitator","Food","Ottawa",null,{"$f":"HYPERLINK(\"#'Client Details'!$B$1\",\"Details\")","v":"Details"},{"$f":"HYPERLINK(Options!$B$1, \"Quote\")","v":"Quote"},{"$f":"HYPERLINK(Options!$B$2,\"Fax\")","v":"Fax"}]
["Mead Johnson Nutritionals (Monaghan)","Mike Monaghan"," 616-748-7222","michael.monaghan@bms.com","EH&S Manager","Food","Ottawa",null,{"$f":"HYPERLINK(\"#'Client Details'!$B$1\",\"Details\")","v":"Details"},{"$f":"HYPERLINK(Options!$B$1, \"Quote\")","v":"Quote"},{"$f":"HYPERLINK(Options!$B$2,\"Fax\")","v":"Fax"}]
["Mears Group","618-667-9059 accounting",null,"nicole.shelton@mears.net",null,null,null,null,{"$f":"HYPERLINK(\"#'Client Details'!$B$1\",\"Details\")","v":"Details"},{"$f":"HYPERLINK(Options!$B$1, \"Quote\")","v":"Quote"},{"$f":"HYPERLINK(Options!$B$2,\"Fax\")","v":"Fax"}]
["Mears Group (Bartell)","Terisa Bartell"," 989-433-2929","terisa.bartell@mears.net",null,"Petroleum Related","Isabella",null,{"$f":"HYPERLINK(\"#'Client Details'!$B$1\",\"Details\")","v":"Details"},{"$f":"HYPERLINK(Options!$B$1, \"Quote\")","v":"Quote"},{"$f":"HYPERLINK(Options!$B$2,\"Fax\")","v":"Fax"}]
["Mears Group (Parker)","Kevin Parker"," 989-433-2929","kevin.parker@mears.net",null,"Petroleum Related","Isabella",null,{"$f":"HYPERLINK(\"#'Client Details'!$B$1\",\"Details\")","v":"Details"},{"$f":"HYPERLINK(Options!$B$1, \"Quote\")","v":"Quote"},{"$f":"HYPERLINK(Options!$B$2,\"Fax\")","v":"Fax"}]
["Mears Group (San Ramon)","Terisa Bartell","989-433-2929x-150",null,null,null,null,null,{"$f":"HYPERLINK(\"#'Client Details'!$B$1\",\"Details\")","v":"Details"},{"$f":"HYPERLINK(Options!$B$1, \"Quote\")","v":"Quote"},{"$f":"HYPERLINK(Options!$B$2,\"Fax\")","v":"Fax"}]
["Mechanical Concepts","Joe Meyer","800-882-4313",null,null,null,null,null,{"$f":"HYPERLINK(\"#'Client Details'!$B$1\",\"Details\")","v":"Details"},{"$f":"HYPERLINK(Options!$B$1, \"Quote\")","v":"Quote"},{"$f":"HYPERLINK(Options!$B$2,\"Fax\")","v":"Fax"}]
["Mechanical Concepts (Emmons)","Tim Emmons"," 800-882-4313",null,null,"Contractor General","Kent",null,{"$f":"HYPERLINK(\"#'Client Details'!$B$1\",\"Details\")","v":"Details"},{"$f":"HYPERLINK(Options!$B$1, \"Quote\")","v":"Quote"},{"$f":"HYPERLINK(Options!$B$2,\"Fax\")","v":"Fax"}]
["Mechanical Concepts (Meyer)","Joe Meyer"," 800-882-4313",null,null,"Contractor General","Kent",null,{"$f":"HYPERLINK(\"#'Client Details'!$B$1\",\"Details\")","v":"Details"},{"$f":"HYPERLINK(Options!$B$1, \"Quote\")","v":"Quote"},{"$f":"HYPERLINK(Options!$B$2,\"Fax\")","v":"Fax"}]
["Mechanical Controls Maintenance Inc. (Dal","Mike Daly"," 586-726-7500 106","mdailey@mcmi.net",null,"Contractor General","Oakland",null,{"$f":"HYPERLINK(\"#'Client Details'!$B$1\",\"Details\")","v":"Details"},{"$f":"HYPERLINK(Options!$B$1, \"Quote\")","v":"Quote"},{"$f":"HYPERLINK(Options!$B$2,\"Fax\")","v":"Fax"}]
["Mecosta County Road Commission (Simon)","Mike Simon"," 231-796-2611",null,"Maintenance Supervisor","Municipal, Cty","Mecosta",null,{"$f":"HYPERLINK(\"#'Client Details'!$B$1\",\"Details\")","v":"Details"},{"$f":"HYPERLINK(Options!$B$1, \"Quote\")","v":"Quote"},{"$f":"HYPERLINK(Options!$B$2,\"Fax\")","v":"Fax"}]
["Medallion Instrumentation Systems (Munich","Lenord Munich"," 616-847-3700",null,"Safety Manager","Manufacturer","Ottawa",null,{"$f":"HYPERLINK(\"#'Client Details'!$B$1\",\"Details\")","v":"Details"},{"$f":"HYPERLINK(Options!$B$1, \"Quote\")","v":"Quote"},{"$f":"HYPERLINK(Options!$B$2,\"Fax\")","v":"Fax"}]
["Medtronic, Inc. (Grand Rapids)",null,"616-913-1556",null,null,null,null,null,{"$f":"HYPERLINK(\"#'Client Details'!$B$1\",\"Details\")","v":"Details"},{"$f":"HYPERLINK(Options!$B$1, \"Quote\")","v":"Quote"},{"$f":"HYPERLINK(Options!$B$2,\"Fax\")","v":"Fax"}]
["Meijer (Case)","Mike Case"," 616-791-5836","casem@meijer.com","Safety Manager","Food","Kent",null,{"$f":"HYPERLINK(\"#'Client Details'!$B$1\",\"Details\")","v":"Details"},{"$f":"HYPERLINK(Options!$B$1, \"Quote\")","v":"Quote"},{"$f":"HYPERLINK(Options!$B$2,\"Fax\")","v":"Fax"}]
["Meijer (Miller)","Sherri Miller"," 616-791-5910","sherri.miller@meijer.com","Safety Manager","Food","Kent",null,{"$f":"HYPERLINK(\"#'Client Details'!$B$1\",\"Details\")","v":"Details"},{"$f":"HYPERLINK(Options!$B$1, \"Quote\")","v":"Quote"},{"$f":"HYPERLINK(Options!$B$2,\"Fax\")","v":"Fax"}]
["Meijer Central Kitchen","Mike Rousscan","574-825-6840",null,null,null,null,null,{"$f":"HYPERLINK(\"#'Client Details'!$B$1\",\"Details\")","v":"Details"},{"$f":"HYPERLINK(Options!$B$1, \"Quote\")","v":"Quote"},{"$f":"HYPERLINK(Options!$B$2,\"Fax\")","v":"Fax"}]
["Meijer Central Kitchens (Rousseau)","Michael Rousseau"," 574-825-6840","mike.rousseau@meijer.com","Facility Maintenance","Food","Out of State",null,{"$f":"HYPERLINK(\"#'Client Details'!$B$1\",\"Details\")","v":"Details"},{"$f":"HYPERLINK(Options!$B$1, \"Quote\")","v":"Quote"},{"$f":"HYPERLINK(Options!$B$2,\"Fax\")","v":"Fax"}]
["Mercer Landmark Inc.","Ben Snyder / Linsey Hasner","419-263-2351",null,null,null,null,null,{"$f":"HYPERLINK(\"#'Client Details'!$B$1\",\"Details\")","v":"Details"},{"$f":"HYPERLINK(Options!$B$1, \"Quote\")","v":"Quote"},{"$f":"HYPERLINK(Options!$B$2,\"Fax\")","v":"Fax"}]
["Mercy Health Partners","buyer Steven Adams","231-672-4658",null,null,null,null,null,{"$f":"HYPERLINK(\"#'Client Details'!$B$1\",\"Details\")","v":"Details"},{"$f":"HYPERLINK(Options!$B$1, \"Quote\")","v":"Quote"},{"$f":"HYPERLINK(Options!$B$2,\"Fax\")","v":"Fax"}]
["Meridian Automitive Systems GR Plant 5",null,null,null,null,null,null,null,{"$f":"HYPERLINK(\"#'Client Details'!$B$1\",\"Details\")","v":"Details"},{"$f":"HYPERLINK(Options!$B$1, \"Quote\")","v":"Quote"},{"$f":"HYPERLINK(Options!$B$2,\"Fax\")","v":"Fax"}]
["Meridian Automotive (MSA Ionia)","David Manke","616-527-1220",null,null,null,null,null,{"$f":"HYPERLINK(\"#'Client Details'!$B$1\",\"Details\")","v":"Details"},{"$f":"HYPERLINK(Options!$B$1, \"Quote\")","v":"Quote"},{"$f":"HYPERLINK(Options!$B$2,\"Fax\")","v":"Fax"}]
["Meridian Automotive (Paint Plant)","Sara Stancil ext. 8356","Purchasing",null,null,null,null,null,{"$f":"HYPERLINK(\"#'Client Details'!$B$1\",\"Details\")","v":"Details"},{"$f":"HYPERLINK(Options!$B$1, \"Quote\")","v":"Quote"},{"$f":"HYPERLINK(Options!$B$2,\"Fax\")","v":"Fax"}]
["Meridian Automotive (Plant 7)","Maureen Lynch","616-262-9933",null,null,null,null,null,{"$f":"HYPERLINK(\"#'Client Details'!$B$1\",\"Details\")","v":"Details"},{"$f":"HYPERLINK(Options!$B$1, \"Quote\")","v":"Quote"},{"$f":"HYPERLINK(Options!$B$2,\"Fax\")","v":"Fax"}]
["Meridian Automotive Systems - Detroit","Kay Dickens","313-931-1400-x137",null,null,null,null,null,{"$f":"HYPERLINK(\"#'Client Details'!$B$1\",\"Details\")","v":"Details"},{"$f":"HYPERLINK(Options!$B$1, \"Quote\")","v":"Quote"},{"$f":"HYPERLINK(Options!$B$2,\"Fax\")","v":"Fax"}]
["Meridian Automotive Systems Plant1 (G.R.)","Chris Wood",null,null,null,null,null,null,{"$f":"HYPERLINK(\"#'Client Details'!$B$1\",\"Details\")","v":"Details"},{"$f":"HYPERLINK(Options!$B$1, \"Quote\")","v":"Quote"},{"$f":"HYPERLINK(Options!$B$2,\"Fax\")","v":"Fax"}]
["Meridian Industrial & Welding Services","Anne Sherman","989-354-4825",null,null,null,null,null,{"$f":"HYPERLINK(\"#'Client Details'!$B$1\",\"Details\")","v":"Details"},{"$f":"HYPERLINK(Options!$B$1, \"Quote\")","v":"Quote"},{"$f":"HYPERLINK(Options!$B$2,\"Fax\")","v":"Fax"}]
["Merit Energy (Sohn)","Bill Sohn"," 231.258.6426","bill.sohn@meritenergy.com",null,"Petroleum Related","Kalkaska",null,{"$f":"HYPERLINK(\"#'Client Details'!$B$1\",\"Details\")","v":"Details"},{"$f":"HYPERLINK(Options!$B$1, \"Quote\")","v":"Quote"},{"$f":"HYPERLINK(Options!$B$2,\"Fax\")","v":"Fax"}]
["Merl's Towing Service (Fredette)","Mark Fredette"," 616-538-1320","mfredette@merlstowing.com",null,"Automotive","Kent",null,{"$f":"HYPERLINK(\"#'Client Details'!$B$1\",\"Details\")","v":"Details"},{"$f":"HYPERLINK(Options!$B$1, \"Quote\")","v":"Quote"},{"$f":"HYPERLINK(Options!$B$2,\"Fax\")","v":"Fax"}]
["Merrell Bros.","Ryan Zeck","574-699-7782","ryan@merrellbros.com",null,null,null,null,{"$f":"HYPERLINK(\"#'Client Details'!$B$1\",\"Details\")","v":"Details"},{"$f":"HYPERLINK(Options!$B$1, \"Quote\")","v":"Quote"},{"$f":"HYPERLINK(Options!$B$2,\"Fax\")","v":"Fax"}]
["Merrell Bros. (Zeck)","Ryan Zeck"," 574-699-7782","ryan@merrellbros.com",null,"Contractor General","Howard",null,{"$f":"HYPERLINK(\"#'Client Details'!$B$1\",\"Details\")","v":"Details"},{"$f":"HYPERLINK(Options!$B$1, \"Quote\")","v":"Quote"},{"$f":"HYPERLINK(Options!$B$2,\"Fax\")","v":"Fax"}]
["Metal Components","Todd Schreiber","616-252-1900",null,null,null,null,null,{"$f":"HYPERLINK(\"#'Client Details'!$B$1\",\"Details\")","v":"Details"},{"$f":"HYPERLINK(Options!$B$1, \"Quote\")","v":"Quote"},{"$f":"HYPERLINK(Options!$B$2,\"Fax\")","v":"Fax"}]
["Metal Technologies (Newell)","Robert Newell"," 269-279-3770","bnewell@metal-technologies.com","Personnel & Environmental Mana","Steel","St. Joseph",null,{"$f":"HYPERLINK(\"#'Client Details'!$B$1\",\"Details\")","v":"Details"},{"$f":"HYPERLINK(Options!$B$1, \"Quote\")","v":"Quote"},{"$f":"HYPERLINK(Options!$B$2,\"Fax\")","v":"Fax"}]
["Metalworks (Ferguson)","Gary Ferguson"," 231-845-3143",null,"Human Resources","Cabinet Makers","Mason",null,{"$f":"HYPERLINK(\"#'Client Details'!$B$1\",\"Details\")","v":"Details"},{"$f":"HYPERLINK(Options!$B$1, \"Quote\")","v":"Quote"},{"$f":"HYPERLINK(Options!$B$2,\"Fax\")","v":"Fax"}]
["Metalworks (Long)","Connie Long"," 231-845-3113",null,"Purchasing","Cabinet Makers","Mason",null,{"$f":"HYPERLINK(\"#'Client Details'!$B$1\",\"Details\")","v":"Details"},{"$f":"HYPERLINK(Options!$B$1, \"Quote\")","v":"Quote"},{"$f":"HYPERLINK(Options!$B$2,\"Fax\")","v":"Fax"}]
["Metalworks (Spence)","Bobbi Spence"," 231-845-3145",null,"EH&S","Cabinet Makers","Mason",null,{"$f":"HYPERLINK(\"#'Client Details'!$B$1\",\"Details\")","v":"Details"},{"$f":"HYPERLINK(Options!$B$1, \"Quote\")","v":"Quote"},{"$f":"HYPERLINK(Options!$B$2,\"Fax\")","v":"Fax"}]
["Meter Mall (McFarlane)","Jim McFarlane"," 800-969-0114","jmcfar@MeterMall.com",null,"Supplier","Out of State",null,{"$f":"HYPERLINK(\"#'Client Details'!$B$1\",\"Details\")","v":"Details"},{"$f":"HYPERLINK(Options!$B$1, \"Quote\")","v":"Quote"},{"$f":"HYPERLINK(Options!$B$2,\"Fax\")","v":"Fax"}]
["MeterMall","James McFarlane","937-642-4691","metermall@MeterMall.com",null,null,null,null,{"$f":"HYPERLINK(\"#'Client Details'!$B$1\",\"Details\")","v":"Details"},{"$f":"HYPERLINK(Options!$B$1, \"Quote\")","v":"Quote"},{"$f":"HYPERLINK(Options!$B$2,\"Fax\")","v":"Fax"}]
["Metro / A Steelcase Company","Noy Phengrasamy","510-567-5292","nphengrasamy@metrofurniture.com",null,null,null,null,{"$f":"HYPERLINK(\"#'Client Details'!$B$1\",\"Details\")","v":"Details"},{"$f":"HYPERLINK(Options!$B$1, \"Quote\")","v":"Quote"},{"$f":"HYPERLINK(Options!$B$2,\"Fax\")","v":"Fax"}]
["MetroCal, Inc.","Tanya Palazzolo","616-698-3124","tonaypalazzolo@mcinfo@metrocal.com",null,null,null,null,{"$f":"HYPERLINK(\"#'Client Details'!$B$1\",\"Details\")","v":"Details"},{"$f":"HYPERLINK(Options!$B$1, \"Quote\")","v":"Quote"},{"$f":"HYPERLINK(Options!$B$2,\"Fax\")","v":"Fax"}]
["Metrol Company (Budnick)","Patrick Budnick"," 313-365-5400 112",null,null,"Supplier","Wayne",null,{"$f":"HYPERLINK(\"#'Client Details'!$B$1\",\"Details\")","v":"Details"},{"$f":"HYPERLINK(Options!$B$1, \"Quote\")","v":"Quote"},{"$f":"HYPERLINK(Options!$B$2,\"Fax\")","v":"Fax"}]
["Metrol Company (Tomlin)","Bruce Tomlin"," 313-365-5400",null,null,null,"Wayne",null,{"$f":"HYPERLINK(\"#'Client Details'!$B$1\",\"Details\")","v":"Details"},{"$f":"HYPERLINK(Options!$B$1, \"Quote\")","v":"Quote"},{"$f":"HYPERLINK(Options!$B$2,\"Fax\")","v":"Fax"}]
["Metrol Company.","Bob Write or Mary","313-365-5400",null,null,null,null,null,{"$f":"HYPERLINK(\"#'Client Details'!$B$1\",\"Details\")","v":"Details"},{"$f":"HYPERLINK(Options!$B$1, \"Quote\")","v":"Quote"},{"$f":"HYPERLINK(Options!$B$2,\"Fax\")","v":"Fax"}]
["Metropolitan Council Environmental Servic","Mary Gross"," 651-602-8343","mary.gross@metc.state.mn.us","Lab Safety Officer","State","Out of State",null,{"$f":"HYPERLINK(\"#'Client Details'!$B$1\",\"Details\")","v":"Details"},{"$f":"HYPERLINK(Options!$B$1, \"Quote\")","v":"Quote"},{"$f":"HYPERLINK(Options!$B$2,\"Fax\")","v":"Fax"}]
["Meyer Well Drilling (Postema)","Jack Postema"," 231-893-2325",null,"Owner","Well & Septic","Muskegon",null,{"$f":"HYPERLINK(\"#'Client Details'!$B$1\",\"Details\")","v":"Details"},{"$f":"HYPERLINK(Options!$B$1, \"Quote\")","v":"Quote"},{"$f":"HYPERLINK(Options!$B$2,\"Fax\")","v":"Fax"}]
["MI Dept of Corrections","John Knopp","517-373-2028",null,null,null,null,null,{"$f":"HYPERLINK(\"#'Client Details'!$B$1\",\"Details\")","v":"Details"},{"$f":"HYPERLINK(Options!$B$1, \"Quote\")","v":"Quote"},{"$f":"HYPERLINK(Options!$B$2,\"Fax\")","v":"Fax"}]
["Miami Township Volunteer F.D.","Tim Buffum","574-753-6205",null,null,null,null,null,{"$f":"HYPERLINK(\"#'Client Details'!$B$1\",\"Details\")","v":"Details"},{"$f":"HYPERLINK(Options!$B$1, \"Quote\")","v":"Quote"},{"$f":"HYPERLINK(Options!$B$2,\"Fax\")","v":"Fax"}]
["MichCon DTE Energy (Lipps)","Steve Lipps"," 231-757-3731",null,"Site Supervisor","Utility","Mason",null,{"$f":"HYPERLINK(\"#'Client Details'!$B$1\",\"Details\")","v":"Details"},{"$f":"HYPERLINK(Options!$B$1, \"Quote\")","v":"Quote"},{"$f":"HYPERLINK(Options!$B$2,\"Fax\")","v":"Fax"}]
["MichCon DTE Energy (Morton)","Rick Morton"," 231-757-3731","mortonra@dteenergy.com","Field Engineer","Utility","Mason",null,{"$f":"HYPERLINK(\"#'Client Details'!$B$1\",\"Details\")","v":"Details"},{"$f":"HYPERLINK(Options!$B$1, \"Quote\")","v":"Quote"},{"$f":"HYPERLINK(Options!$B$2,\"Fax\")","v":"Fax"}]
["Michigan Agricultural Commodities (Adam)","Adam"," 231-652-6017",null,"Site Co Manager",null,"Muskegon",null,{"$f":"HYPERLINK(\"#'Client Details'!$B$1\",\"Details\")","v":"Details"},{"$f":"HYPERLINK(Options!$B$1, \"Quote\")","v":"Quote"},{"$f":"HYPERLINK(Options!$B$2,\"Fax\")","v":"Fax"}]
["Michigan Auto Dealer Self Insurance Co","Bob Miller","989-795-0314",null,null,null,null,null,{"$f":"HYPERLINK(\"#'Client Details'!$B$1\",\"Details\")","v":"Details"},{"$f":"HYPERLINK(Options!$B$1, \"Quote\")","v":"Quote"},{"$f":"HYPERLINK(Options!$B$2,\"Fax\")","v":"Fax"}]
["Michigan Auto Dealer Self Insurance Co. (","Bob Miller"," 989-792-0314","bkmiller4@msn.com","Loss Control Manager","Insurance","Saginaw",null,{"$f":"HYPERLINK(\"#'Client Details'!$B$1\",\"Details\")","v":"Details"},{"$f":"HYPERLINK(Options!$B$1, \"Quote\")","v":"Quote"},{"$f":"HYPERLINK(Options!$B$2,\"Fax\")","v":"Fax"}]
["Michigan Department of Transportation (Br","Dave Brinks"," 231-777-3451","brinksd@michigan.gov","Transportation Maintenance Coo","State","Muskegon",null,{"$f":"HYPERLINK(\"#'Client Details'!$B$1\",\"Details\")","v":"Details"},{"$f":"HYPERLINK(Options!$B$1, \"Quote\")","v":"Quote"},{"$f":"HYPERLINK(Options!$B$2,\"Fax\")","v":"Fax"}]
["Michigan Department of Transportation (Ha","Richard Hassenzahl"," 269-375-8628","hassenzahlr@michigan.gov",null,"State","Kalamazoo",null,{"$f":"HYPERLINK(\"#'Client Details'!$B$1\",\"Details\")","v":"Details"},{"$f":"HYPERLINK(Options!$B$1, \"Quote\")","v":"Quote"},{"$f":"HYPERLINK(Options!$B$2,\"Fax\")","v":"Fax"}]
["Michigan DEQ, State of (Rathbun)","Ned Rathbun"," 517-780-7693","rathbunn@michigan.gov","Environmental Quality Analyst","State","Jackson",null,{"$f":"HYPERLINK(\"#'Client Details'!$B$1\",\"Details\")","v":"Details"},{"$f":"HYPERLINK(Options!$B$1, \"Quote\")","v":"Quote"},{"$f":"HYPERLINK(Options!$B$2,\"Fax\")","v":"Fax"}]
["Michigan DEQ, State of (Wozniak)","Gary Wozniak"," 269-567-3613","wozniakg@michigan.gov","District Engineer","State","Jackson",null,{"$f":"HYPERLINK(\"#'Client Details'!$B$1\",\"Details\")","v":"Details"},{"$f":"HYPERLINK(Options!$B$1, \"Quote\")","v":"Quote"},{"$f":"HYPERLINK(Options!$B$2,\"Fax\")","v":"Fax"}]
["Michigan Electric Trans Co (Plymouth)","Mike Mobley","734-547-0266",null,null,null,null,null,{"$f":"HYPERLINK(\"#'Client Details'!$B$1\",\"Details\")","v":"Details"},{"$f":"HYPERLINK(Options!$B$1, \"Quote\")","v":"Quote"},{"$f":"HYPERLINK(Options!$B$2,\"Fax\")","v":"Fax"}]
["Michigan Family Resouces, Inc.","Timothy J. Morgan","735-0693",null,null,null,null,null,{"$f":"HYPERLINK(\"#'Client Details'!$B$1\",\"Details\")","v":"Details"},{"$f":"HYPERLINK(Options!$B$1, \"Quote\")","v":"Quote"},{"$f":"HYPERLINK(Options!$B$2,\"Fax\")","v":"Fax"}]
["Michigan Family Resources, Inc. (Morgan)","Timothy J. Morgan"," 616-735-0693",null,"Operations Manager","Automotive","Kent",null,{"$f":"HYPERLINK(\"#'Client Details'!$B$1\",\"Details\")","v":"Details"},{"$f":"HYPERLINK(Options!$B$1, \"Quote\")","v":"Quote"},{"$f":"HYPERLINK(Options!$B$2,\"Fax\")","v":"Fax"}]
["Michigan Freeze Pack (Ritchie)","Chris Ritchie"," 231-873-2175",null,"Safety/Plant Manager","Food","Oceana",null,{"$f":"HYPERLINK(\"#'Client Details'!$B$1\",\"Details\")","v":"Details"},{"$f":"HYPERLINK(Options!$B$1, \"Quote\")","v":"Quote"},{"$f":"HYPERLINK(Options!$B$2,\"Fax\")","v":"Fax"}]
["michigan ga",null,null,null,null,null,null,null,{"$f":"HYPERLINK(\"#'Client Details'!$B$1\",\"Details\")","v":"Details"},{"$f":"HYPERLINK(Options!$B$1, \"Quote\")","v":"Quote"},{"$f":"HYPERLINK(Options!$B$2,\"Fax\")","v":"Fax"}]
["Michigan National Guard (Kirby)","Bryan Kirby"," 269-420-3865","bryan.kirby@mi.ngb.army.mil",null,"Federal","Kalamazoo",null,{"$f":"HYPERLINK(\"#'Client Details'!$B$1\",\"Details\")","v":"Details"},{"$f":"HYPERLINK(Options!$B$1, \"Quote\")","v":"Quote"},{"$f":"HYPERLINK(Options!$B$2,\"Fax\")","v":"Fax"}]
["Michigan Parks & Recreation, State of (Lu","Peter Lundborg"," 231-873-3083","lundborp@michigan.gov","Park Manager","State","Oceana",null,{"$f":"HYPERLINK(\"#'Client Details'!$B$1\",\"Details\")","v":"Details"},{"$f":"HYPERLINK(Options!$B$1, \"Quote\")","v":"Quote"},{"$f":"HYPERLINK(Options!$B$2,\"Fax\")","v":"Fax"}]
["Michigan Plastic Processors","Patrick Dunn","616-546-0268 Cell","pjdunn@sbcglobal.net",null,null,null,null,{"$f":"HYPERLINK(\"#'Client Details'!$B$1\",\"Details\")","v":"Details"},{"$f":"HYPERLINK(Options!$B$1, \"Quote\")","v":"Quote"},{"$f":"HYPERLINK(Options!$B$2,\"Fax\")","v":"Fax"}]
["Michigan Plastic Processors (Dunn)","Patrick Dunn"," 877-953-5777","pjdunn@sbcglobal.net","Loss Prevention Manager","Manufacturer","Kent",null,{"$f":"HYPERLINK(\"#'Client Details'!$B$1\",\"Details\")","v":"Details"},{"$f":"HYPERLINK(Options!$B$1, \"Quote\")","v":"Quote"},{"$f":"HYPERLINK(Options!$B$2,\"Fax\")","v":"Fax"}]
["Michigan Power","Rod VanHorn","231-843-7573",null,null,null,null,null,{"$f":"HYPERLINK(\"#'Client Details'!$B$1\",\"Details\")","v":"Details"},{"$f":"HYPERLINK(Options!$B$1, \"Quote\")","v":"Quote"},{"$f":"HYPERLINK(Options!$B$2,\"Fax\")","v":"Fax"}]
["Michigan Power (Braun)","Carl Braun"," 231-843-7573 211","cbraun@deltapowerservices.com","Operations Supervisor","Utility","Mason",null,{"$f":"HYPERLINK(\"#'Client Details'!$B$1\",\"Details\")","v":"Details"},{"$f":"HYPERLINK(Options!$B$1, \"Quote\")","v":"Quote"},{"$f":"HYPERLINK(Options!$B$2,\"Fax\")","v":"Fax"}]
["Michigan Power (Vanhorn)","Rodney Vanhorn"," 231-843-7573",null,"Safety Director","Utility","Mason",null,{"$f":"HYPERLINK(\"#'Client Details'!$B$1\",\"Details\")","v":"Details"},{"$f":"HYPERLINK(Options!$B$1, \"Quote\")","v":"Quote"},{"$f":"HYPERLINK(Options!$B$2,\"Fax\")","v":"Fax"}]
["Michigan State University","Susan McNeil","517-355-0357",null,null,null,null,null,{"$f":"HYPERLINK(\"#'Client Details'!$B$1\",\"Details\")","v":"Details"},{"$f":"HYPERLINK(Options!$B$1, \"Quote\")","v":"Quote"},{"$f":"HYPERLINK(Options!$B$2,\"Fax\")","v":"Fax"}]
["Michigan State University (Harrigan)","Timothy Harrigan"," 517-449-7272","coganc@msu.edu","Professor","University","Clinton",null,{"$f":"HYPERLINK(\"#'Client Details'!$B$1\",\"Details\")","v":"Details"},{"$f":"HYPERLINK(Options!$B$1, \"Quote\")","v":"Quote"},{"$f":"HYPERLINK(Options!$B$2,\"Fax\")","v":"Fax"}]
["Michigan State University (Taylor)","William Taylor"," 517-353-7161",null,null,"University","Ingham",null,{"$f":"HYPERLINK(\"#'Client Details'!$B$1\",\"Details\")","v":"Details"},{"$f":"HYPERLINK(Options!$B$1, \"Quote\")","v":"Quote"},{"$f":"HYPERLINK(Options!$B$2,\"Fax\")","v":"Fax"}]
["Michigan Steel","Dennis Witham","231-724-4622",null,null,null,null,null,{"$f":"HYPERLINK(\"#'Client Details'!$B$1\",\"Details\")","v":"Details"},{"$f":"HYPERLINK(Options!$B$1, \"Quote\")","v":"Quote"},{"$f":"HYPERLINK(Options!$B$2,\"Fax\")","v":"Fax"}]
["Michigan Steel (Witham)","Dennis Witham"," 231-724-4622",null,"Safety Director/Operations Man","Manufacturer","Muskegon",null,{"$f":"HYPERLINK(\"#'Client Details'!$B$1\",\"Details\")","v":"Details"},{"$f":"HYPERLINK(Options!$B$1, \"Quote\")","v":"Quote"},{"$f":"HYPERLINK(Options!$B$2,\"Fax\")","v":"Fax"}]
["Michigan Turkey Producers (Rogers)","Greg Rogers"," 616-245-2221 176","gregr@miturkey.com","Safety & Health Manager","Food","Kent",null,{"$f":"HYPERLINK(\"#'Client Details'!$B$1\",\"Details\")","v":"Details"},{"$f":"HYPERLINK(Options!$B$1, \"Quote\")","v":"Quote"},{"$f":"HYPERLINK(Options!$B$2,\"Fax\")","v":"Fax"}]
["Michigan Water Environment Association's",null,null,null,null,null,null,null,{"$f":"HYPERLINK(\"#'Client Details'!$B$1\",\"Details\")","v":"Details"},{"$f":"HYPERLINK(Options!$B$1, \"Quote\")","v":"Quote"},{"$f":"HYPERLINK(Options!$B$2,\"Fax\")","v":"Fax"}]
["Michigan Wheel Corp.","Janet Englerth","616-246-5346",null,null,null,null,null,{"$f":"HYPERLINK(\"#'Client Details'!$B$1\",\"Details\")","v":"Details"},{"$f":"HYPERLINK(Options!$B$1, \"Quote\")","v":"Quote"},{"$f":"HYPERLINK(Options!$B$2,\"Fax\")","v":"Fax"}]
["Michigan Wheel Corporation (Englerth)","Janet Englerth"," 616-246-5346","jenglerth@miwheel.com","Human Resource Manager","Manufacturer","Kent",null,{"$f":"HYPERLINK(\"#'Client Details'!$B$1\",\"Details\")","v":"Details"},{"$f":"HYPERLINK(Options!$B$1, \"Quote\")","v":"Quote"},{"$f":"HYPERLINK(Options!$B$2,\"Fax\")","v":"Fax"}]
["Michigan Wire Processing Company, Inc. (L","Dean W. Lonick"," 616-897-6080",null,"President","Manufacturer","A",null,{"$f":"HYPERLINK(\"#'Client Details'!$B$1\",\"Details\")","v":"Details"},{"$f":"HYPERLINK(Options!$B$1, \"Quote\")","v":"Quote"},{"$f":"HYPERLINK(Options!$B$2,\"Fax\")","v":"Fax"}]
["Michigan Wood Fibers (Weaver)","Nate Weaver"," 616-875-2241",null,"Manager","Other","Ottawa",null,{"$f":"HYPERLINK(\"#'Client Details'!$B$1\",\"Details\")","v":"Details"},{"$f":"HYPERLINK(Options!$B$1, \"Quote\")","v":"Quote"},{"$f":"HYPERLINK(Options!$B$2,\"Fax\")","v":"Fax"}]
["Michigan Wood Pellets Fuel, LLC",null,"616-355-4955","edclose@michiganwoodpellets.com",null,null,null,null,{"$f":"HYPERLINK(\"#'Client Details'!$B$1\",\"Details\")","v":"Details"},{"$f":"HYPERLINK(Options!$B$1, \"Quote\")","v":"Quote"},{"$f":"HYPERLINK(Options!$B$2,\"Fax\")","v":"Fax"}]
["Michigan Wood Pellets Fuel, LLC (Close)","Ed Close"," 616-355-4955","edclose@michiganwoodpellets.com","Plant Manager","Utility","Ottawa",null,{"$f":"HYPERLINK(\"#'Client Details'!$B$1\",\"Details\")","v":"Details"},{"$f":"HYPERLINK(Options!$B$1, \"Quote\")","v":"Quote"},{"$f":"HYPERLINK(Options!$B$2,\"Fax\")","v":"Fax"}]
["Michigan's Adventure",null,"231-766-3377",null,null,null,null,null,{"$f":"HYPERLINK(\"#'Client Details'!$B$1\",\"Details\")","v":"Details"},{"$f":"HYPERLINK(Options!$B$1, \"Quote\")","v":"Quote"},{"$f":"HYPERLINK(Options!$B$2,\"Fax\")","v":"Fax"}]
["Michigan's Adventure (Miller)","Dan Miller"," 231-766-3377","dmiller@miadventure.com","Maintenance Manager","Other","Muskegon",null,{"$f":"HYPERLINK(\"#'Client Details'!$B$1\",\"Details\")","v":"Details"},{"$f":"HYPERLINK(Options!$B$1, \"Quote\")","v":"Quote"},{"$f":"HYPERLINK(Options!$B$2,\"Fax\")","v":"Fax"}]
["Micigan Gas Utilities","Gregg Griffin","269-692-6352",null,null,null,null,null,{"$f":"HYPERLINK(\"#'Client Details'!$B$1\",\"Details\")","v":"Details"},{"$f":"HYPERLINK(Options!$B$1, \"Quote\")","v":"Quote"},{"$f":"HYPERLINK(Options!$B$2,\"Fax\")","v":"Fax"}]
["Mickey Covington","Mickey Covington","216-337-4806 cell",null,null,null,null,null,{"$f":"HYPERLINK(\"#'Client Details'!$B$1\",\"Details\")","v":"Details"},{"$f":"HYPERLINK(Options!$B$1, \"Quote\")","v":"Quote"},{"$f":"HYPERLINK(Options!$B$2,\"Fax\")","v":"Fax"}]
["Microbac Laboratories Inc.","Tim Mcalaughin","814-825-8533","tmclaughlin@microbac.com",null,null,null,null,{"$f":"HYPERLINK(\"#'Client Details'!$B$1\",\"Details\")","v":"Details"},{"$f":"HYPERLINK(Options!$B$1, \"Quote\")","v":"Quote"},{"$f":"HYPERLINK(Options!$B$2,\"Fax\")","v":"Fax"}]
["Micron Manufacturing Company (Alexander)","Walt Alexander"," 616-453-5486 120","waltalexander@micronmfg.net","Safety Director","Manufacturer","Kent",null,{"$f":"HYPERLINK(\"#'Client Details'!$B$1\",\"Details\")","v":"Details"},{"$f":"HYPERLINK(Options!$B$1, \"Quote\")","v":"Quote"},{"$f":"HYPERLINK(Options!$B$2,\"Fax\")","v":"Fax"}]
["Micron Manufacturning","Walter Alexander","616-453-5486",null,null,null,null,null,{"$f":"HYPERLINK(\"#'Client Details'!$B$1\",\"Details\")","v":"Details"},{"$f":"HYPERLINK(Options!$B$1, \"Quote\")","v":"Quote"},{"$f":"HYPERLINK(Options!$B$2,\"Fax\")","v":"Fax"}]
["Mid American Group","Don Harris","734-586-8868",null,null,null,null,null,{"$f":"HYPERLINK(\"#'Client Details'!$B$1\",\"Details\")","v":"Details"},{"$f":"HYPERLINK(Options!$B$1, \"Quote\")","v":"Quote"},{"$f":"HYPERLINK(Options!$B$2,\"Fax\")","v":"Fax"}]
["Mid American Group (Kuderik)","Matthew Kuderik"," 734-586-8868","fkuderik@midamericangroup.com",null,"Contractor General","Monroe",null,{"$f":"HYPERLINK(\"#'Client Details'!$B$1\",\"Details\")","v":"Details"},{"$f":"HYPERLINK(Options!$B$1, \"Quote\")","v":"Quote"},{"$f":"HYPERLINK(Options!$B$2,\"Fax\")","v":"Fax"}]
["Mid West Sales Agency, Inc. (Hannon)","F. Robert Hannon"," 513-831-9504","bhannon@email.msn.com",null,"Representative","Out of State",null,{"$f":"HYPERLINK(\"#'Client Details'!$B$1\",\"Details\")","v":"Details"},{"$f":"HYPERLINK(Options!$B$1, \"Quote\")","v":"Quote"},{"$f":"HYPERLINK(Options!$B$2,\"Fax\")","v":"Fax"}]
["Mid-American Group (KY)","Tim Mosley","606-929-5772",null,null,null,null,null,{"$f":"HYPERLINK(\"#'Client Details'!$B$1\",\"Details\")","v":"Details"},{"$f":"HYPERLINK(Options!$B$1, \"Quote\")","v":"Quote"},{"$f":"HYPERLINK(Options!$B$2,\"Fax\")","v":"Fax"}]
["Middleton Mechanical",null,"419-886-0068","scottastacy@aol.com",null,null,null,null,{"$f":"HYPERLINK(\"#'Client Details'!$B$1\",\"Details\")","v":"Details"},{"$f":"HYPERLINK(Options!$B$1, \"Quote\")","v":"Quote"},{"$f":"HYPERLINK(Options!$B$2,\"Fax\")","v":"Fax"}]
["Middleville DPW, City of","Wayne Winchester","269-795-2094",null,null,null,null,null,{"$f":"HYPERLINK(\"#'Client Details'!$B$1\",\"Details\")","v":"Details"},{"$f":"HYPERLINK(Options!$B$1, \"Quote\")","v":"Quote"},{"$f":"HYPERLINK(Options!$B$2,\"Fax\")","v":"Fax"}]
["Middleville DPW, City of (Winchester)","Wayne Winchester"," 269-795-2094","wwinchester2002@yahoo.com","Director","Municipal, Cty","Barry",null,{"$f":"HYPERLINK(\"#'Client Details'!$B$1\",\"Details\")","v":"Details"},{"$f":"HYPERLINK(Options!$B$1, \"Quote\")","v":"Quote"},{"$f":"HYPERLINK(Options!$B$2,\"Fax\")","v":"Fax"}]
["Midland Chemical Company Inc.","Teresa Eastman","989-835-6006","teresae@midlandchemical.com",null,null,null,null,{"$f":"HYPERLINK(\"#'Client Details'!$B$1\",\"Details\")","v":"Details"},{"$f":"HYPERLINK(Options!$B$1, \"Quote\")","v":"Quote"},{"$f":"HYPERLINK(Options!$B$2,\"Fax\")","v":"Fax"}]
["Midland Chemical Company, Inc. (Eastman)","Teresa Eastman"," 989-835-6006","teresae@midlandchemical.com",null,"Competitor","Midland",null,{"$f":"HYPERLINK(\"#'Client Details'!$B$1\",\"Details\")","v":"Details"},{"$f":"HYPERLINK(Options!$B$1, \"Quote\")","v":"Quote"},{"$f":"HYPERLINK(Options!$B$2,\"Fax\")","v":"Fax"}]
["Midland Fire Dept., City of","Ron Shaffer","989-837-3300",null,null,null,null,null,{"$f":"HYPERLINK(\"#'Client Details'!$B$1\",\"Details\")","v":"Details"},{"$f":"HYPERLINK(Options!$B$1, \"Quote\")","v":"Quote"},{"$f":"HYPERLINK(Options!$B$2,\"Fax\")","v":"Fax"}]
["Mid-Michigan Equipment","Steve Julian","989-891-2574 shop",null,null,null,null,null,{"$f":"HYPERLINK(\"#'Client Details'!$B$1\",\"Details\")","v":"Details"},{"$f":"HYPERLINK(Options!$B$1, \"Quote\")","v":"Quote"},{"$f":"HYPERLINK(Options!$B$2,\"Fax\")","v":"Fax"}]
["Midway Rentals & Sales","Eric, Darren","906-228-4200","ap@mrmqt.com",null,null,null,null,{"$f":"HYPERLINK(\"#'Client Details'!$B$1\",\"Details\")","v":"Details"},{"$f":"HYPERLINK(Options!$B$1, \"Quote\")","v":"Quote"},{"$f":"HYPERLINK(Options!$B$2,\"Fax\")","v":"Fax"}]
["Midway Rentals & Sales (Prusi)","Justin Prusi"," 906-228-4200","jprusi@MIDWAYRENTALSANDSALES.COM",null,"Supplier","Marquette",null,{"$f":"HYPERLINK(\"#'Client Details'!$B$1\",\"Details\")","v":"Details"},{"$f":"HYPERLINK(Options!$B$1, \"Quote\")","v":"Quote"},{"$f":"HYPERLINK(Options!$B$2,\"Fax\")","v":"Fax"}]
["Midwest Geothermal","Kortney Lull",null,null,null,null,null,null,{"$f":"HYPERLINK(\"#'Client Details'!$B$1\",\"Details\")","v":"Details"},{"$f":"HYPERLINK(Options!$B$1, \"Quote\")","v":"Quote"},{"$f":"HYPERLINK(Options!$B$2,\"Fax\")","v":"Fax"}]
["Midwest Power Systems",null,null,null,null,null,null,null,{"$f":"HYPERLINK(\"#'Client Details'!$B$1\",\"Details\")","v":"Details"},{"$f":"HYPERLINK(Options!$B$1, \"Quote\")","v":"Quote"},{"$f":"HYPERLINK(Options!$B$2,\"Fax\")","v":"Fax"}]
["Midwest Power Systems (Canup)","Brent Canup"," 248-770-5121",null,null,"Utility","Oakland",null,{"$f":"HYPERLINK(\"#'Client Details'!$B$1\",\"Details\")","v":"Details"},{"$f":"HYPERLINK(Options!$B$1, \"Quote\")","v":"Quote"},{"$f":"HYPERLINK(Options!$B$2,\"Fax\")","v":"Fax"}]
["Midwest Safety Products (Miller)","Vanh Miller"," 616-554-5155",null,null,"Competitor","Kent",null,{"$f":"HYPERLINK(\"#'Client Details'!$B$1\",\"Details\")","v":"Details"},{"$f":"HYPERLINK(Options!$B$1, \"Quote\")","v":"Quote"},{"$f":"HYPERLINK(Options!$B$2,\"Fax\")","v":"Fax"}]
["Midwest Trenchless Services","Troy Freed","231-834-8470",null,null,null,null,null,{"$f":"HYPERLINK(\"#'Client Details'!$B$1\",\"Details\")","v":"Details"},{"$f":"HYPERLINK(Options!$B$1, \"Quote\")","v":"Quote"},{"$f":"HYPERLINK(Options!$B$2,\"Fax\")","v":"Fax"}]
["Midwest Trenchless Services (Freed)","Troy Freed"," 231-834-8470","troy@notrench.net","President","Contractor General","Newaygo",null,{"$f":"HYPERLINK(\"#'Client Details'!$B$1\",\"Details\")","v":"Details"},{"$f":"HYPERLINK(Options!$B$1, \"Quote\")","v":"Quote"},{"$f":"HYPERLINK(Options!$B$2,\"Fax\")","v":"Fax"}]
["Midwest Trenchless Services (Kruszynski)","Joel Kruszynski"," 231-834-8470","joel@notrench.net","Owner","Contractor General","Newaygo",null,{"$f":"HYPERLINK(\"#'Client Details'!$B$1\",\"Details\")","v":"Details"},{"$f":"HYPERLINK(Options!$B$1, \"Quote\")","v":"Quote"},{"$f":"HYPERLINK(Options!$B$2,\"Fax\")","v":"Fax"}]
["Midwest Trenchless Services (Snyder)","Jonathan Snyder"," 231-834-8470","jon@notrench.net","Asst. Superintendent","Contractor General","Newaygo",null,{"$f":"HYPERLINK(\"#'Client Details'!$B$1\",\"Details\")","v":"Details"},{"$f":"HYPERLINK(Options!$B$1, \"Quote\")","v":"Quote"},{"$f":"HYPERLINK(Options!$B$2,\"Fax\")","v":"Fax"}]
["Mihm Enterprises, Inc. (Mihm)","Sharon Mihm"," 269-751-5522",null,"President",null,"Ottawa",null,{"$f":"HYPERLINK(\"#'Client Details'!$B$1\",\"Details\")","v":"Details"},{"$f":"HYPERLINK(Options!$B$1, \"Quote\")","v":"Quote"},{"$f":"HYPERLINK(Options!$B$2,\"Fax\")","v":"Fax"}]
["Mikalan Roofing, Inc. (Alan)","Alan"," 616-748-0200",null,null,"Contractor General","Allegan",null,{"$f":"HYPERLINK(\"#'Client Details'!$B$1\",\"Details\")","v":"Details"},{"$f":"HYPERLINK(Options!$B$1, \"Quote\")","v":"Quote"},{"$f":"HYPERLINK(Options!$B$2,\"Fax\")","v":"Fax"}]
["Milbocker & Sons","Pat Ellis","269-673-2195",null,null,null,null,null,{"$f":"HYPERLINK(\"#'Client Details'!$B$1\",\"Details\")","v":"Details"},{"$f":"HYPERLINK(Options!$B$1, \"Quote\")","v":"Quote"},{"$f":"HYPERLINK(Options!$B$2,\"Fax\")","v":"Fax"}]
["Milbocker & Sons (Boeskool)","Shawn Boeskool"," 269-673-2195","sboeskool@milbocker.com",null,"Contractor General","Allegan",null,{"$f":"HYPERLINK(\"#'Client Details'!$B$1\",\"Details\")","v":"Details"},{"$f":"HYPERLINK(Options!$B$1, \"Quote\")","v":"Quote"},{"$f":"HYPERLINK(Options!$B$2,\"Fax\")","v":"Fax"}]
["Milbocker & Sons (Milbocker)","Scott Milbocker"," 616-673-2195","smilbocker@datawise.net",null,"Contractor General","Allegan",null,{"$f":"HYPERLINK(\"#'Client Details'!$B$1\",\"Details\")","v":"Details"},{"$f":"HYPERLINK(Options!$B$1, \"Quote\")","v":"Quote"},{"$f":"HYPERLINK(Options!$B$2,\"Fax\")","v":"Fax"}]
["Milbocker & Sons (Ritzema)","Craig Ritzema"," 269-673-2195",null,"General Superintendent","Contractor General","Allegan",null,{"$f":"HYPERLINK(\"#'Client Details'!$B$1\",\"Details\")","v":"Details"},{"$f":"HYPERLINK(Options!$B$1, \"Quote\")","v":"Quote"},{"$f":"HYPERLINK(Options!$B$2,\"Fax\")","v":"Fax"}]
["Milbocker & Sons, Inc. (Milbocker)","Steve Milbocker"," 269-673-6097","mshop@milbocker.com","Shop Supervisor","Contractor General","Allegan",null,{"$f":"HYPERLINK(\"#'Client Details'!$B$1\",\"Details\")","v":"Details"},{"$f":"HYPERLINK(Options!$B$1, \"Quote\")","v":"Quote"},{"$f":"HYPERLINK(Options!$B$2,\"Fax\")","v":"Fax"}]
["Millenium Rail Service (Barroner)","Ray Barroner"," 814-695-5691 236","rbarroner@millenniumrail.com","Environmental Health & Safety","Other","Out of State",null,{"$f":"HYPERLINK(\"#'Client Details'!$B$1\",\"Details\")","v":"Details"},{"$f":"HYPERLINK(Options!$B$1, \"Quote\")","v":"Quote"},{"$f":"HYPERLINK(Options!$B$2,\"Fax\")","v":"Fax"}]
["Miller / Dalloz Fall Protection (Bailey)","Melissa Bailey"," 800-873-5242 1265","MBailey@bacou-dalloz.com",null,"Supplier","Out of State",null,{"$f":"HYPERLINK(\"#'Client Details'!$B$1\",\"Details\")","v":"Details"},{"$f":"HYPERLINK(Options!$B$1, \"Quote\")","v":"Quote"},{"$f":"HYPERLINK(Options!$B$2,\"Fax\")","v":"Fax"}]
["Miller, Johnson, Snell & Cummiskey, P.L.C","Brent Rector"," 616-831-1743","rectorb@mjsc.com",null,"Other","Kent",null,{"$f":"HYPERLINK(\"#'Client Details'!$B$1\",\"Details\")","v":"Details"},{"$f":"HYPERLINK(Options!$B$1, \"Quote\")","v":"Quote"},{"$f":"HYPERLINK(Options!$B$2,\"Fax\")","v":"Fax"}]
["Miller-Davis Company (Sherburn)","Tom Sherburn"," 269-344-6157",null,"Yard Manager","Contractor General","Kalamazoo",null,{"$f":"HYPERLINK(\"#'Client Details'!$B$1\",\"Details\")","v":"Details"},{"$f":"HYPERLINK(Options!$B$1, \"Quote\")","v":"Quote"},{"$f":"HYPERLINK(Options!$B$2,\"Fax\")","v":"Fax"}]
["Millington Community Schools","Mark Ratza","989-871-5203",null,null,null,null,null,{"$f":"HYPERLINK(\"#'Client Details'!$B$1\",\"Details\")","v":"Details"},{"$f":"HYPERLINK(Options!$B$1, \"Quote\")","v":"Quote"},{"$f":"HYPERLINK(Options!$B$2,\"Fax\")","v":"Fax"}]
["Milton TSP Fire District","Jeremy Wensink","419-575-4114",null,null,null,null,null,{"$f":"HYPERLINK(\"#'Client Details'!$B$1\",\"Details\")","v":"Details"},{"$f":"HYPERLINK(Options!$B$1, \"Quote\")","v":"Quote"},{"$f":"HYPERLINK(Options!$B$2,\"Fax\")","v":"Fax"}]
["Mines Golf Course","Trent Bartman","616-735-1515",null,null,null,null,null,{"$f":"HYPERLINK(\"#'Client Details'!$B$1\",\"Details\")","v":"Details"},{"$f":"HYPERLINK(Options!$B$1, \"Quote\")","v":"Quote"},{"$f":"HYPERLINK(Options!$B$2,\"Fax\")","v":"Fax"}]
["Mines Golf Course (Bartman)","Trent Bartman",null,"triz_bart@yahoo.com",null,"Other","Kent",null,{"$f":"HYPERLINK(\"#'Client Details'!$B$1\",\"Details\")","v":"Details"},{"$f":"HYPERLINK(Options!$B$1, \"Quote\")","v":"Quote"},{"$f":"HYPERLINK(Options!$B$2,\"Fax\")","v":"Fax"}]
["Minnifield Enterprize, Inc.","Kimberly Eich","662-317-3136",null,null,null,null,null,{"$f":"HYPERLINK(\"#'Client Details'!$B$1\",\"Details\")","v":"Details"},{"$f":"HYPERLINK(Options!$B$1, \"Quote\")","v":"Quote"},{"$f":"HYPERLINK(Options!$B$2,\"Fax\")","v":"Fax"}]
["MiOSHA -- Michigan Occ'l Safety & Health","Harvey Johnson"," 616-447-2656","hjohns@michigan.gov",null,"State","Kent",null,{"$f":"HYPERLINK(\"#'Client Details'!$B$1\",\"Details\")","v":"Details"},{"$f":"HYPERLINK(Options!$B$1, \"Quote\")","v":"Quote"},{"$f":"HYPERLINK(Options!$B$2,\"Fax\")","v":"Fax"}]
["MiOSHA -- Michigan Occ'l Safety & Health","Harvey Johnson"," 616-447-2656","hjohns@michigan.gov",null,"State","Kent",null,{"$f":"HYPERLINK(\"#'Client Details'!$B$1\",\"Details\")","v":"Details"},{"$f":"HYPERLINK(Options!$B$1, \"Quote\")","v":"Quote"},{"$f":"HYPERLINK(Options!$B$2,\"Fax\")","v":"Fax"}]
["MiOSHA -- Michigan Occ'l Safety & Health","Harvey Johnson"," 616-447-2656","hjohns@michigan.gov",null,"State","Kent",null,{"$f":"HYPERLINK(\"#'Client Details'!$B$1\",\"Details\")","v":"Details"},{"$f":"HYPERLINK(Options!$B$1, \"Quote\")","v":"Quote"},{"$f":"HYPERLINK(Options!$B$2,\"Fax\")","v":"Fax"}]
["MiOSHA (Almanza)","Dave Almanza"," 517-241-0602","dalman@michigan.gov","Chairman, Instrument Committee","State","Kent",null,{"$f":"HYPERLINK(\"#'Client Details'!$B$1\",\"Details\")","v":"Details"},{"$f":"HYPERLINK(Options!$B$1, \"Quote\")","v":"Quote"},{"$f":"HYPERLINK(Options!$B$2,\"Fax\")","v":"Fax"}]
["MiOSHA (Pickelman)","Bart Pickelman"," 989-758-1726","pickelmanb@michigan.gov",null,"State","Saginaw",null,{"$f":"HYPERLINK(\"#'Client Details'!$B$1\",\"Details\")","v":"Details"},{"$f":"HYPERLINK(Options!$B$1, \"Quote\")","v":"Quote"},{"$f":"HYPERLINK(Options!$B$2,\"Fax\")","v":"Fax"}]
["MIS Corporation","Keith Anderson","989-753-5599",null,null,null,null,null,{"$f":"HYPERLINK(\"#'Client Details'!$B$1\",\"Details\")","v":"Details"},{"$f":"HYPERLINK(Options!$B$1, \"Quote\")","v":"Quote"},{"$f":"HYPERLINK(Options!$B$2,\"Fax\")","v":"Fax"}]
["Miscellaneous",null,null,null,null,null,null,null,{"$f":"HYPERLINK(\"#'Client Details'!$B$1\",\"Details\")","v":"Details"},{"$f":"HYPERLINK(Options!$B$1, \"Quote\")","v":"Quote"},{"$f":"HYPERLINK(Options!$B$2,\"Fax\")","v":"Fax"}]
["MITA (Coppersmith)","Rob Coppersmith"," 800-878-2821",null,null,"Contractor, Excavator","Ingham",null,{"$f":"HYPERLINK(\"#'Client Details'!$B$1\",\"Details\")","v":"Details"},{"$f":"HYPERLINK(Options!$B$1, \"Quote\")","v":"Quote"},{"$f":"HYPERLINK(Options!$B$2,\"Fax\")","v":"Fax"}]
["Mitchell Metal Products","Ernie Weisskopf","715-536-7176 x250","dwodalski@mitchellmetalproducts.com",null,null,null,null,{"$f":"HYPERLINK(\"#'Client Details'!$B$1\",\"Details\")","v":"Details"},{"$f":"HYPERLINK(Options!$B$1, \"Quote\")","v":"Quote"},{"$f":"HYPERLINK(Options!$B$2,\"Fax\")","v":"Fax"}]
["Mitsuba Bardstown, Inc. (Thompson)","Jim Thompson"," 502-348-3100 5123",null,"Safety Manager","Automotive","Out of State",null,{"$f":"HYPERLINK(\"#'Client Details'!$B$1\",\"Details\")","v":"Details"},{"$f":"HYPERLINK(Options!$B$1, \"Quote\")","v":"Quote"},{"$f":"HYPERLINK(Options!$B$2,\"Fax\")","v":"Fax"}]
["Mitsubishi Power","Mike OZima","269-764-2598",null,null,null,null,null,{"$f":"HYPERLINK(\"#'Client Details'!$B$1\",\"Details\")","v":"Details"},{"$f":"HYPERLINK(Options!$B$1, \"Quote\")","v":"Quote"},{"$f":"HYPERLINK(Options!$B$2,\"Fax\")","v":"Fax"}]
["Mittler Supply Inc. (Chambers)","Tom Chambers"," 616-451-3055",null,"Manager","Supplier","Kent",null,{"$f":"HYPERLINK(\"#'Client Details'!$B$1\",\"Details\")","v":"Details"},{"$f":"HYPERLINK(Options!$B$1, \"Quote\")","v":"Quote"},{"$f":"HYPERLINK(Options!$B$2,\"Fax\")","v":"Fax"}]
["Modernistic (Copeland)","Jennifer Copeland"," 800-627-5080",null,"Chief Financial Officer","Contractor General","Allegan",null,{"$f":"HYPERLINK(\"#'Client Details'!$B$1\",\"Details\")","v":"Details"},{"$f":"HYPERLINK(Options!$B$1, \"Quote\")","v":"Quote"},{"$f":"HYPERLINK(Options!$B$2,\"Fax\")","v":"Fax"}]
["Modernistic (Plainwell)","Russ Wendt","cell 893-3445","rwendt@mondernistic.net",null,null,null,null,{"$f":"HYPERLINK(\"#'Client Details'!$B$1\",\"Details\")","v":"Details"},{"$f":"HYPERLINK(Options!$B$1, \"Quote\")","v":"Quote"},{"$f":"HYPERLINK(Options!$B$2,\"Fax\")","v":"Fax"}]
["Modernistic (Wendt)","Russ Wendt"," 800-627-5080","rwendt@modernistic.net",null,"Contractor General","Allegan",null,{"$f":"HYPERLINK(\"#'Client Details'!$B$1\",\"Details\")","v":"Details"},{"$f":"HYPERLINK(Options!$B$1, \"Quote\")","v":"Quote"},{"$f":"HYPERLINK(Options!$B$2,\"Fax\")","v":"Fax"}]
["Monarch Powder Coating ()",null," 231-798-1422",null,null,"Manufacturer","Muskegon",null,{"$f":"HYPERLINK(\"#'Client Details'!$B$1\",\"Details\")","v":"Details"},{"$f":"HYPERLINK(Options!$B$1, \"Quote\")","v":"Quote"},{"$f":"HYPERLINK(Options!$B$2,\"Fax\")","v":"Fax"}]
["Monarch Water Systems, Inc.","John Glaser, Sr.","937-372-7200",null,null,null,null,null,{"$f":"HYPERLINK(\"#'Client Details'!$B$1\",\"Details\")","v":"Details"},{"$f":"HYPERLINK(Options!$B$1, \"Quote\")","v":"Quote"},{"$f":"HYPERLINK(Options!$B$2,\"Fax\")","v":"Fax"}]
["Monitoring Control and Compliance","Charles Elkins","330-441-1096",null,null,null,null,null,{"$f":"HYPERLINK(\"#'Client Details'!$B$1\",\"Details\")","v":"Details"},{"$f":"HYPERLINK(Options!$B$1, \"Quote\")","v":"Quote"},{"$f":"HYPERLINK(Options!$B$2,\"Fax\")","v":"Fax"}]
["Monitoring Technologies Corp. (Borne)","Robin Borne"," 800-489-1872","d.blair@montec.com",null,"Supplier","Out of State",null,{"$f":"HYPERLINK(\"#'Client Details'!$B$1\",\"Details\")","v":"Details"},{"$f":"HYPERLINK(Options!$B$1, \"Quote\")","v":"Quote"},{"$f":"HYPERLINK(Options!$B$2,\"Fax\")","v":"Fax"}]
["Monoceramics","Mike Barber","269-925-0212","mbarber@monoceramics.com",null,null,null,null,{"$f":"HYPERLINK(\"#'Client Details'!$B$1\",\"Details\")","v":"Details"},{"$f":"HYPERLINK(Options!$B$1, \"Quote\")","v":"Quote"},{"$f":"HYPERLINK(Options!$B$2,\"Fax\")","v":"Fax"}]
["Monoceramics (Barber)","Mike Barber"," 269-925-0212","mbarber@monoceramics.com",null,"Manufacturer","Berrien",null,{"$f":"HYPERLINK(\"#'Client Details'!$B$1\",\"Details\")","v":"Details"},{"$f":"HYPERLINK(Options!$B$1, \"Quote\")","v":"Quote"},{"$f":"HYPERLINK(Options!$B$2,\"Fax\")","v":"Fax"}]
["Monroe Twp. Fire Dept.","Darvin Biederstedt","419-966-3699","biederstedt@metalink.net",null,null,null,null,{"$f":"HYPERLINK(\"#'Client Details'!$B$1\",\"Details\")","v":"Details"},{"$f":"HYPERLINK(Options!$B$1, \"Quote\")","v":"Quote"},{"$f":"HYPERLINK(Options!$B$2,\"Fax\")","v":"Fax"}]
["Montague DPW, City of",null,"231-893-2235",null,null,null,null,null,{"$f":"HYPERLINK(\"#'Client Details'!$B$1\",\"Details\")","v":"Details"},{"$f":"HYPERLINK(Options!$B$1, \"Quote\")","v":"Quote"},{"$f":"HYPERLINK(Options!$B$2,\"Fax\")","v":"Fax"}]
["Montague DPW, City of (Kroll)","Tom Kroll"," 231-893-2235","montaguedpw@chartermi.net",null,"Municipal, Cty","Muskegon",null,{"$f":"HYPERLINK(\"#'Client Details'!$B$1\",\"Details\")","v":"Details"},{"$f":"HYPERLINK(Options!$B$1, \"Quote\")","v":"Quote"},{"$f":"HYPERLINK(Options!$B$2,\"Fax\")","v":"Fax"}]
["Moore & Bruggink, Inc.",null,"616-363-9801",null,null,null,null,null,{"$f":"HYPERLINK(\"#'Client Details'!$B$1\",\"Details\")","v":"Details"},{"$f":"HYPERLINK(Options!$B$1, \"Quote\")","v":"Quote"},{"$f":"HYPERLINK(Options!$B$2,\"Fax\")","v":"Fax"}]
["Moore & Bruggink, Inc. (Hage)","Jim Hage"," 616-363-9801",null,"Comptroller","Engineering, Architecture","Kent",null,{"$f":"HYPERLINK(\"#'Client Details'!$B$1\",\"Details\")","v":"Details"},{"$f":"HYPERLINK(Options!$B$1, \"Quote\")","v":"Quote"},{"$f":"HYPERLINK(Options!$B$2,\"Fax\")","v":"Fax"}]
["Moore & Bruggink, Inc. (Laisure)","Roy Laisure"," 616-363-9801","mailbox@mbce.com","Chief Inspector","Engineering, Architecture","Kent",null,{"$f":"HYPERLINK(\"#'Client Details'!$B$1\",\"Details\")","v":"Details"},{"$f":"HYPERLINK(Options!$B$1, \"Quote\")","v":"Quote"},{"$f":"HYPERLINK(Options!$B$2,\"Fax\")","v":"Fax"}]
["Moore Electrical Service, Inc. (Nuyen)","Craig Nuyen"," 269-343-0373",null,"Safety Manager","Contractor Electrical","Kalamazoo",null,{"$f":"HYPERLINK(\"#'Client Details'!$B$1\",\"Details\")","v":"Details"},{"$f":"HYPERLINK(Options!$B$1, \"Quote\")","v":"Quote"},{"$f":"HYPERLINK(Options!$B$2,\"Fax\")","v":"Fax"}]
["Moore Sales Incorporated (Wade)","Gary Wade"," 800-948-5363",null,"Manufacter's Rep","Representative","Genesee",null,{"$f":"HYPERLINK(\"#'Client Details'!$B$1\",\"Details\")","v":"Details"},{"$f":"HYPERLINK(Options!$B$1, \"Quote\")","v":"Quote"},{"$f":"HYPERLINK(Options!$B$2,\"Fax\")","v":"Fax"}]
["Moored Land Surveying (Moored)","Ray Moored"," 269-673-6402","rmoored@verizon.net","Owner","Contractor General","Allegan",null,{"$f":"HYPERLINK(\"#'Client Details'!$B$1\",\"Details\")","v":"Details"},{"$f":"HYPERLINK(Options!$B$1, \"Quote\")","v":"Quote"},{"$f":"HYPERLINK(Options!$B$2,\"Fax\")","v":"Fax"}]
["Morbark (Price)","Craig Price"," 800-233-6065 171","craig.price@morbark.com","Safety Director","Manufacturer","Isabella",null,{"$f":"HYPERLINK(\"#'Client Details'!$B$1\",\"Details\")","v":"Details"},{"$f":"HYPERLINK(Options!$B$1, \"Quote\")","v":"Quote"},{"$f":"HYPERLINK(Options!$B$2,\"Fax\")","v":"Fax"}]
["Morgan Olson LLC","Scott Kline","269-625-7577",null,null,null,null,null,{"$f":"HYPERLINK(\"#'Client Details'!$B$1\",\"Details\")","v":"Details"},{"$f":"HYPERLINK(Options!$B$1, \"Quote\")","v":"Quote"},{"$f":"HYPERLINK(Options!$B$2,\"Fax\")","v":"Fax"}]
["Morley Fire Department","Chief Dan Deyo","231-856-7020",null,null,null,null,null,{"$f":"HYPERLINK(\"#'Client Details'!$B$1\",\"Details\")","v":"Details"},{"$f":"HYPERLINK(Options!$B$1, \"Quote\")","v":"Quote"},{"$f":"HYPERLINK(Options!$B$2,\"Fax\")","v":"Fax"}]
["Morningstar Enterprises, Inc. (Morningsta","Morningstar"," 231-796-7263",null,"President","Contractor General","Mecosta",null,{"$f":"HYPERLINK(\"#'Client Details'!$B$1\",\"Details\")","v":"Details"},{"$f":"HYPERLINK(Options!$B$1, \"Quote\")","v":"Quote"},{"$f":"HYPERLINK(Options!$B$2,\"Fax\")","v":"Fax"}]
["Morris & Morris Sandblasting (Morris)","Jeff/Chuck Morris"," 269-637-6309",null,"Co-Owners","Contractor General","Van Buren",null,{"$f":"HYPERLINK(\"#'Client Details'!$B$1\",\"Details\")","v":"Details"},{"$f":"HYPERLINK(Options!$B$1, \"Quote\")","v":"Quote"},{"$f":"HYPERLINK(Options!$B$2,\"Fax\")","v":"Fax"}]
["Morton Salt","Mike Ganger ext-","231-723-2561",null,null,null,null,null,{"$f":"HYPERLINK(\"#'Client Details'!$B$1\",\"Details\")","v":"Details"},{"$f":"HYPERLINK(Options!$B$1, \"Quote\")","v":"Quote"},{"$f":"HYPERLINK(Options!$B$2,\"Fax\")","v":"Fax"}]
["Morton Salt Rohm and Haas Company (Kuk)","Don Kuk"," 231-723-2561 4289","dkuk@mortonsalt.com","EH&S Manager","Mining","Manistee",null,{"$f":"HYPERLINK(\"#'Client Details'!$B$1\",\"Details\")","v":"Details"},{"$f":"HYPERLINK(Options!$B$1, \"Quote\")","v":"Quote"},{"$f":"HYPERLINK(Options!$B$2,\"Fax\")","v":"Fax"}]
["Mosaic Potach Hersey Inc. (Elliott)","Michael Elliott"," 231-832-1241 241","michael.elliott@mosaicco.com","Buyer / Warehouse Supervisor","Mining","Osceola",null,{"$f":"HYPERLINK(\"#'Client Details'!$B$1\",\"Details\")","v":"Details"},{"$f":"HYPERLINK(Options!$B$1, \"Quote\")","v":"Quote"},{"$f":"HYPERLINK(Options!$B$2,\"Fax\")","v":"Fax"}]
["Mosaic Potash Hersey","Ellen Wagner","231-832-1208",null,null,null,null,null,{"$f":"HYPERLINK(\"#'Client Details'!$B$1\",\"Details\")","v":"Details"},{"$f":"HYPERLINK(Options!$B$1, \"Quote\")","v":"Quote"},{"$f":"HYPERLINK(Options!$B$2,\"Fax\")","v":"Fax"}]
["Motor City Stamping (Behnke)","Diane Behnke"," 586-949-8420 168","dbehnke@mcstamp.com",null,"Automotive","Macomb",null,{"$f":"HYPERLINK(\"#'Client Details'!$B$1\",\"Details\")","v":"Details"},{"$f":"HYPERLINK(Options!$B$1, \"Quote\")","v":"Quote"},{"$f":"HYPERLINK(Options!$B$2,\"Fax\")","v":"Fax"}]
["Motor Products (Morrice)","Rick Morrice"," 800-248-3841 536","rmorrice@motorproducts.net",null,"Manufacturer","Owosso",null,{"$f":"HYPERLINK(\"#'Client Details'!$B$1\",\"Details\")","v":"Details"},{"$f":"HYPERLINK(Options!$B$1, \"Quote\")","v":"Quote"},{"$f":"HYPERLINK(Options!$B$2,\"Fax\")","v":"Fax"}]
["Motor Products Corp.","Rick Morrice","800-248-3841",null,null,null,null,null,{"$f":"HYPERLINK(\"#'Client Details'!$B$1\",\"Details\")","v":"Details"},{"$f":"HYPERLINK(Options!$B$1, \"Quote\")","v":"Quote"},{"$f":"HYPERLINK(Options!$B$2,\"Fax\")","v":"Fax"}]
["MPI Research",null,null,null,null,null,null,null,{"$f":"HYPERLINK(\"#'Client Details'!$B$1\",\"Details\")","v":"Details"},{"$f":"HYPERLINK(Options!$B$1, \"Quote\")","v":"Quote"},{"$f":"HYPERLINK(Options!$B$2,\"Fax\")","v":"Fax"}]
["MPI Research (Lisa)","Lisa"," 269-668-3336 1899","james.wyrick@mpiresearch.com",null,"Chemical Pharmaceutical","Van Buren",null,{"$f":"HYPERLINK(\"#'Client Details'!$B$1\",\"Details\")","v":"Details"},{"$f":"HYPERLINK(Options!$B$1, \"Quote\")","v":"Quote"},{"$f":"HYPERLINK(Options!$B$2,\"Fax\")","v":"Fax"}]
["MPI Research (Martinez)","Miguel Martinez"," 269-668-3336 1167","miguel.martinez@mpiresearch.com",null,"Chemical Pharmaceutical","Van Buren",null,{"$f":"HYPERLINK(\"#'Client Details'!$B$1\",\"Details\")","v":"Details"},{"$f":"HYPERLINK(Options!$B$1, \"Quote\")","v":"Quote"},{"$f":"HYPERLINK(Options!$B$2,\"Fax\")","v":"Fax"}]
["MT Piping",null,"269-659-2942",null,null,null,null,null,{"$f":"HYPERLINK(\"#'Client Details'!$B$1\",\"Details\")","v":"Details"},{"$f":"HYPERLINK(Options!$B$1, \"Quote\")","v":"Quote"},{"$f":"HYPERLINK(Options!$B$2,\"Fax\")","v":"Fax"}]
["Multi Lakes Water & Sewer Authority (Mest","Robert Mester"," 734-426-9797",null,null,"Municipal, Cty","Washtenaw",null,{"$f":"HYPERLINK(\"#'Client Details'!$B$1\",\"Details\")","v":"Details"},{"$f":"HYPERLINK(Options!$B$1, \"Quote\")","v":"Quote"},{"$f":"HYPERLINK(Options!$B$2,\"Fax\")","v":"Fax"}]
["Municipal & Industrial Storage (Waller)","Bill Waller"," 616-554-7991",null,null,"Other","Kent",null,{"$f":"HYPERLINK(\"#'Client Details'!$B$1\",\"Details\")","v":"Details"},{"$f":"HYPERLINK(Options!$B$1, \"Quote\")","v":"Quote"},{"$f":"HYPERLINK(Options!$B$2,\"Fax\")","v":"Fax"}]
["Musashi Auto Parts (Robinson)","Rhonda Robinson"," 269-965-0057 105","rrobinson@mapmi.com",null,"Automotive","Calhoun",null,{"$f":"HYPERLINK(\"#'Client Details'!$B$1\",\"Details\")","v":"Details"},{"$f":"HYPERLINK(Options!$B$1, \"Quote\")","v":"Quote"},{"$f":"HYPERLINK(Options!$B$2,\"Fax\")","v":"Fax"}]
["Muskegon Castings Corporation (Surch)","Brian Surch"," 231-777-3941","briansurch@portcitygroup.com","Corporate Maintenance Manager","Automotive","Muskegon",null,{"$f":"HYPERLINK(\"#'Client Details'!$B$1\",\"Details\")","v":"Details"},{"$f":"HYPERLINK(Options!$B$1, \"Quote\")","v":"Quote"},{"$f":"HYPERLINK(Options!$B$2,\"Fax\")","v":"Fax"}]
["Muskegon Community College (Doyle)","Joe Doyle"," 231-777-0300","joe.doyle@muskegoncc.edu","Associate VP of Administration","University","Muskegon",null,{"$f":"HYPERLINK(\"#'Client Details'!$B$1\",\"Details\")","v":"Details"},{"$f":"HYPERLINK(Options!$B$1, \"Quote\")","v":"Quote"},{"$f":"HYPERLINK(Options!$B$2,\"Fax\")","v":"Fax"}]
["Muskegon Construction Company (Bates)","Terry Bates"," 231-726-3177","tbates@muskconco.com","Yard Superintendent","Contractor General","Muskegon",null,{"$f":"HYPERLINK(\"#'Client Details'!$B$1\",\"Details\")","v":"Details"},{"$f":"HYPERLINK(Options!$B$1, \"Quote\")","v":"Quote"},{"$f":"HYPERLINK(Options!$B$2,\"Fax\")","v":"Fax"}]
["Muskegon Construction Company (Donovan)","Kevin Donovan"," 231-726-3177 14","kdonovan@muskconco.com","General Superintendent","Contractor General","Muskegon",null,{"$f":"HYPERLINK(\"#'Client Details'!$B$1\",\"Details\")","v":"Details"},{"$f":"HYPERLINK(Options!$B$1, \"Quote\")","v":"Quote"},{"$f":"HYPERLINK(Options!$B$2,\"Fax\")","v":"Fax"}]
["Muskegon County Airport","Mike Kotecki","231-798-4596",null,null,null,null,null,{"$f":"HYPERLINK(\"#'Client Details'!$B$1\",\"Details\")","v":"Details"},{"$f":"HYPERLINK(Options!$B$1, \"Quote\")","v":"Quote"},{"$f":"HYPERLINK(Options!$B$2,\"Fax\")","v":"Fax"}]
["Muskegon County Emergency Services","Roy Wheeler","231-724-6597",null,null,null,null,null,{"$f":"HYPERLINK(\"#'Client Details'!$B$1\",\"Details\")","v":"Details"},{"$f":"HYPERLINK(Options!$B$1, \"Quote\")","v":"Quote"},{"$f":"HYPERLINK(Options!$B$2,\"Fax\")","v":"Fax"}]
["Muskegon County Emergency Services (Wheel","Roy Wheeler"," 231-724-","wheelerro@co.muskegon.mi.us",null,"Municipal, Cty","Muskegon",null,{"$f":"HYPERLINK(\"#'Client Details'!$B$1\",\"Details\")","v":"Details"},{"$f":"HYPERLINK(Options!$B$1, \"Quote\")","v":"Quote"},{"$f":"HYPERLINK(Options!$B$2,\"Fax\")","v":"Fax"}]
["Muskegon County Road Commission (Hulka)","Ken Hulka"," 231-788-7221",null,"Interim Supervisor","Municipal, Cty","Muskegon",null,{"$f":"HYPERLINK(\"#'Client Details'!$B$1\",\"Details\")","v":"Details"},{"$f":"HYPERLINK(Options!$B$1, \"Quote\")","v":"Quote"},{"$f":"HYPERLINK(Options!$B$2,\"Fax\")","v":"Fax"}]
["Muskegon County Road Commission (Timmer)","Mark Timmer"," 231-788-7280",null,"EH&S Director","Municipal, Cty","Muskegon",null,{"$f":"HYPERLINK(\"#'Client Details'!$B$1\",\"Details\")","v":"Details"},{"$f":"HYPERLINK(Options!$B$1, \"Quote\")","v":"Quote"},{"$f":"HYPERLINK(Options!$B$2,\"Fax\")","v":"Fax"}]
["Muskegon County Road Commission(Whitehall","Doug Davis"," 231-893-6515",null,"Site Supervisor","Municipal, Cty","Muskegon",null,{"$f":"HYPERLINK(\"#'Client Details'!$B$1\",\"Details\")","v":"Details"},{"$f":"HYPERLINK(Options!$B$1, \"Quote\")","v":"Quote"},{"$f":"HYPERLINK(Options!$B$2,\"Fax\")","v":"Fax"}]
["Muskegon County Wastewater Management Sys","Steven Barnard"," 231-724-3441","barnardst@co.muskegon.mi.us","Safety Technical Coordinator","Municipal, Cty","Muskegon",null,{"$f":"HYPERLINK(\"#'Client Details'!$B$1\",\"Details\")","v":"Details"},{"$f":"HYPERLINK(Options!$B$1, \"Quote\")","v":"Quote"},{"$f":"HYPERLINK(Options!$B$2,\"Fax\")","v":"Fax"}]
["Muskegon County WWTP","Steve Barnard","231-724-3440",null,null,null,null,null,{"$f":"HYPERLINK(\"#'Client Details'!$B$1\",\"Details\")","v":"Details"},{"$f":"HYPERLINK(Options!$B$1, \"Quote\")","v":"Quote"},{"$f":"HYPERLINK(Options!$B$2,\"Fax\")","v":"Fax"}]
["Muskegon DPW, City of","David Smith","231-724-6989",null,null,null,null,null,{"$f":"HYPERLINK(\"#'Client Details'!$B$1\",\"Details\")","v":"Details"},{"$f":"HYPERLINK(Options!$B$1, \"Quote\")","v":"Quote"},{"$f":"HYPERLINK(Options!$B$2,\"Fax\")","v":"Fax"}]
["Muskegon DPW, City of (Cousineau)","Dan Cousineau"," 231-724-6988",null,"Water/Sewer Supervisor","Municipal, Cty","Muskegon",null,{"$f":"HYPERLINK(\"#'Client Details'!$B$1\",\"Details\")","v":"Details"},{"$f":"HYPERLINK(Options!$B$1, \"Quote\")","v":"Quote"},{"$f":"HYPERLINK(Options!$B$2,\"Fax\")","v":"Fax"}]
["Muskegon DPW, City of (DeFrench)","Kelly DeFrench"," 231-724-4100 4184",null,"Superintendent","Municipal, Cty","Muskegon",null,{"$f":"HYPERLINK(\"#'Client Details'!$B$1\",\"Details\")","v":"Details"},{"$f":"HYPERLINK(Options!$B$1, \"Quote\")","v":"Quote"},{"$f":"HYPERLINK(Options!$B$2,\"Fax\")","v":"Fax"}]
["Muskegon DPW, City of (Sayles)","Doug Sayles"," 231-724-6983","doug_sayles@postman.org","Highway Supervisor","Municipal, Cty","Muskegon",null,{"$f":"HYPERLINK(\"#'Client Details'!$B$1\",\"Details\")","v":"Details"},{"$f":"HYPERLINK(Options!$B$1, \"Quote\")","v":"Quote"},{"$f":"HYPERLINK(Options!$B$2,\"Fax\")","v":"Fax"}]
["Muskegon DPW, City of (Smith)","David Smith"," 231-724-6989","smithda@postman.org","Water / Sewer Supervisor","Municipal, Cty","Muskegon",null,{"$f":"HYPERLINK(\"#'Client Details'!$B$1\",\"Details\")","v":"Details"},{"$f":"HYPERLINK(Options!$B$1, \"Quote\")","v":"Quote"},{"$f":"HYPERLINK(Options!$B$2,\"Fax\")","v":"Fax"}]
["Muskegon DPW, City of (Twork)","Andy Twork"," 231-724-6912","andy.twork@postman.org","Stockkeeper","Municipality","Muskegon",null,{"$f":"HYPERLINK(\"#'Client Details'!$B$1\",\"Details\")","v":"Details"},{"$f":"HYPERLINK(Options!$B$1, \"Quote\")","v":"Quote"},{"$f":"HYPERLINK(Options!$B$2,\"Fax\")","v":"Fax"}]
["Muskegon Heights DPW, City of (Morris)","Gauntrial Morris"," 231-739-3378",null,"Director","Municipal, Cty","Muskegon",null,{"$f":"HYPERLINK(\"#'Client Details'!$B$1\",\"Details\")","v":"Details"},{"$f":"HYPERLINK(Options!$B$1, \"Quote\")","v":"Quote"},{"$f":"HYPERLINK(Options!$B$2,\"Fax\")","v":"Fax"}]
["Muskegon Heights Water Distribution",null,null,null,null,null,null,null,{"$f":"HYPERLINK(\"#'Client Details'!$B$1\",\"Details\")","v":"Details"},{"$f":"HYPERLINK(Options!$B$1, \"Quote\")","v":"Quote"},{"$f":"HYPERLINK(Options!$B$2,\"Fax\")","v":"Fax"}]
["Muskegon Heights Water Distribution ()",null," 231-733-8955",null,null,"Municipal, Cty","Muskegon",null,{"$f":"HYPERLINK(\"#'Client Details'!$B$1\",\"Details\")","v":"Details"},{"$f":"HYPERLINK(Options!$B$1, \"Quote\")","v":"Quote"},{"$f":"HYPERLINK(Options!$B$2,\"Fax\")","v":"Fax"}]
["Muskegon Heights Water Filtration",null,"a/p 231-733-8850",null,null,null,null,null,{"$f":"HYPERLINK(\"#'Client Details'!$B$1\",\"Details\")","v":"Details"},{"$f":"HYPERLINK(Options!$B$1, \"Quote\")","v":"Quote"},{"$f":"HYPERLINK(Options!$B$2,\"Fax\")","v":"Fax"}]
["Muskegon Heights Water Filtration, City o","Daryl VanDyke"," 231-780-3415","dvandyke@cityofmuskegonheights.org","Superintendent","Municipal, Cty","Muskegon",null,{"$f":"HYPERLINK(\"#'Client Details'!$B$1\",\"Details\")","v":"Details"},{"$f":"HYPERLINK(Options!$B$1, \"Quote\")","v":"Quote"},{"$f":"HYPERLINK(Options!$B$2,\"Fax\")","v":"Fax"}]
["Muskegon Heights Water Treatment Plant, C","Eric Francik"," 231-780-3415 2","efrancik@verizon.net","Safety Buyer","Municipal, Cty","Muskegon",null,{"$f":"HYPERLINK(\"#'Client Details'!$B$1\",\"Details\")","v":"Details"},{"$f":"HYPERLINK(Options!$B$1, \"Quote\")","v":"Quote"},{"$f":"HYPERLINK(Options!$B$2,\"Fax\")","v":"Fax"}]
["Muskegon Muskegon County Road Commission","Bruce Gasaway","231-788-7280",null,null,null,null,null,{"$f":"HYPERLINK(\"#'Client Details'!$B$1\",\"Details\")","v":"Details"},{"$f":"HYPERLINK(Options!$B$1, \"Quote\")","v":"Quote"},{"$f":"HYPERLINK(Options!$B$2,\"Fax\")","v":"Fax"}]
["Muskegon Quality Builders (Grimm)","Tom Grimm"," 231-733-4278",null,"Safety",null,"Muskegon",null,{"$f":"HYPERLINK(\"#'Client Details'!$B$1\",\"Details\")","v":"Details"},{"$f":"HYPERLINK(Options!$B$1, \"Quote\")","v":"Quote"},{"$f":"HYPERLINK(Options!$B$2,\"Fax\")","v":"Fax"}]
["Muskegon Twp. Fire Dept.","Capt. Morgan","231-773-4316",null,null,null,null,null,{"$f":"HYPERLINK(\"#'Client Details'!$B$1\",\"Details\")","v":"Details"},{"$f":"HYPERLINK(Options!$B$1, \"Quote\")","v":"Quote"},{"$f":"HYPERLINK(Options!$B$2,\"Fax\")","v":"Fax"}]
["Muskegon Water Treatment Plant","Kevin Herbert","231-724-4105",null,null,null,null,null,{"$f":"HYPERLINK(\"#'Client Details'!$B$1\",\"Details\")","v":"Details"},{"$f":"HYPERLINK(Options!$B$1, \"Quote\")","v":"Quote"},{"$f":"HYPERLINK(Options!$B$2,\"Fax\")","v":"Fax"}]
["Muskegon Water Treatment Plant, City of (","Kevin Herbert"," 231-724-4104","kevin.herbert@postman.org",null,"Municipal, Cty","Muskegon",null,{"$f":"HYPERLINK(\"#'Client Details'!$B$1\",\"Details\")","v":"Details"},{"$f":"HYPERLINK(Options!$B$1, \"Quote\")","v":"Quote"},{"$f":"HYPERLINK(Options!$B$2,\"Fax\")","v":"Fax"}]
["My-Con Inc.","Kevin Hager","616-896-9049",null,null,null,null,null,{"$f":"HYPERLINK(\"#'Client Details'!$B$1\",\"Details\")","v":"Details"},{"$f":"HYPERLINK(Options!$B$1, \"Quote\")","v":"Quote"},{"$f":"HYPERLINK(Options!$B$2,\"Fax\")","v":"Fax"}]
["My-Con, Inc. (Hager)","Kevin Hager"," 616-896-9049","kev@mycon-contractors.com",null,"Contractor, Excavator","Ottawa",null,{"$f":"HYPERLINK(\"#'Client Details'!$B$1\",\"Details\")","v":"Details"},{"$f":"HYPERLINK(Options!$B$1, \"Quote\")","v":"Quote"},{"$f":"HYPERLINK(Options!$B$2,\"Fax\")","v":"Fax"}]
["Nachi Machining Technology Co.","Paul Waleke","810-263-0100",null,null,null,null,null,{"$f":"HYPERLINK(\"#'Client Details'!$B$1\",\"Details\")","v":"Details"},{"$f":"HYPERLINK(Options!$B$1, \"Quote\")","v":"Quote"},{"$f":"HYPERLINK(Options!$B$2,\"Fax\")","v":"Fax"}]
["Nalco Chemical (Charbonneau)","Tom Charbonneau"," 989-859-3979","tcharbon@nalco.com",null,"Chemical Pharmaceutical","Out of State",null,{"$f":"HYPERLINK(\"#'Client Details'!$B$1\",\"Details\")","v":"Details"},{"$f":"HYPERLINK(Options!$B$1, \"Quote\")","v":"Quote"},{"$f":"HYPERLINK(Options!$B$2,\"Fax\")","v":"Fax"}]
["Natural Resources Dep't. of Ottawa Indian","Bryan Gibson"," 231-398-2193",null,"Maintenance Director","Other","Manistee",null,{"$f":"HYPERLINK(\"#'Client Details'!$B$1\",\"Details\")","v":"Details"},{"$f":"HYPERLINK(Options!$B$1, \"Quote\")","v":"Quote"},{"$f":"HYPERLINK(Options!$B$2,\"Fax\")","v":"Fax"}]
["Natural Systems (Demirjian)","Brad Demirjian"," 231-798-3744",null,null,"Contractor EH&S","Muskegon",null,{"$f":"HYPERLINK(\"#'Client Details'!$B$1\",\"Details\")","v":"Details"},{"$f":"HYPERLINK(Options!$B$1, \"Quote\")","v":"Quote"},{"$f":"HYPERLINK(Options!$B$2,\"Fax\")","v":"Fax"}]
["Natural Systems (Hansen)","Ben Hansen"," 231-798-3744",null,null,"Contractor EH&S","Muskegon",null,{"$f":"HYPERLINK(\"#'Client Details'!$B$1\",\"Details\")","v":"Details"},{"$f":"HYPERLINK(Options!$B$1, \"Quote\")","v":"Quote"},{"$f":"HYPERLINK(Options!$B$2,\"Fax\")","v":"Fax"}]
["Natural Systems (Mertz)","Rob Mertz"," 231-798-3744",null,null,"Contractor EH&S","Muskegon",null,{"$f":"HYPERLINK(\"#'Client Details'!$B$1\",\"Details\")","v":"Details"},{"$f":"HYPERLINK(Options!$B$1, \"Quote\")","v":"Quote"},{"$f":"HYPERLINK(Options!$B$2,\"Fax\")","v":"Fax"}]
["Nederveld Associates, Inc.","Jerry Kuiper","616-575-5190",null,null,null,null,null,{"$f":"HYPERLINK(\"#'Client Details'!$B$1\",\"Details\")","v":"Details"},{"$f":"HYPERLINK(Options!$B$1, \"Quote\")","v":"Quote"},{"$f":"HYPERLINK(Options!$B$2,\"Fax\")","v":"Fax"}]
["Nederveld Associates, Inc. (Kuiper)","Jerry Kuiper"," 616-669-5190","jkuiper@nederveld.com",null,"Engineering, Architecture","Kent",null,{"$f":"HYPERLINK(\"#'Client Details'!$B$1\",\"Details\")","v":"Details"},{"$f":"HYPERLINK(Options!$B$1, \"Quote\")","v":"Quote"},{"$f":"HYPERLINK(Options!$B$2,\"Fax\")","v":"Fax"}]
["Nelco Company",null,"989-859-3979","tcharbonaou@nelco.com",null,null,null,null,{"$f":"HYPERLINK(\"#'Client Details'!$B$1\",\"Details\")","v":"Details"},{"$f":"HYPERLINK(Options!$B$1, \"Quote\")","v":"Quote"},{"$f":"HYPERLINK(Options!$B$2,\"Fax\")","v":"Fax"}]
["Nestle Gerber (Ozadali)","Ferhan Ozadali"," 231-928-3154","ferhan.ozadali@rd.nestle.com",null,"Food","Lake",null,{"$f":"HYPERLINK(\"#'Client Details'!$B$1\",\"Details\")","v":"Details"},{"$f":"HYPERLINK(Options!$B$1, \"Quote\")","v":"Quote"},{"$f":"HYPERLINK(Options!$B$2,\"Fax\")","v":"Fax"}]
["Nestle Nutrition (Fremont)","Ferhan Ozadali","231-928-3154",null,null,null,null,null,{"$f":"HYPERLINK(\"#'Client Details'!$B$1\",\"Details\")","v":"Details"},{"$f":"HYPERLINK(Options!$B$1, \"Quote\")","v":"Quote"},{"$f":"HYPERLINK(Options!$B$2,\"Fax\")","v":"Fax"}]
["New Covert Generating Company (Boreham)","Gary Boreham"," 269-764-3800 3861","gboreham@tpfholdings.com","Lead IC&E Tech","Utility","Allegan",null,{"$f":"HYPERLINK(\"#'Client Details'!$B$1\",\"Details\")","v":"Details"},{"$f":"HYPERLINK(Options!$B$1, \"Quote\")","v":"Quote"},{"$f":"HYPERLINK(Options!$B$2,\"Fax\")","v":"Fax"}]
["New Covert Generating Company (Morris)","Anita Morris"," 269-764-3806","anita.morris@covertgen.com","Secretary","Utility","Allegan",null,{"$f":"HYPERLINK(\"#'Client Details'!$B$1\",\"Details\")","v":"Details"},{"$f":"HYPERLINK(Options!$B$1, \"Quote\")","v":"Quote"},{"$f":"HYPERLINK(Options!$B$2,\"Fax\")","v":"Fax"}]
["New Customer",null,null,null,null,null,null,null,{"$f":"HYPERLINK(\"#'Client Details'!$B$1\",\"Details\")","v":"Details"},{"$f":"HYPERLINK(Options!$B$1, \"Quote\")","v":"Quote"},{"$f":"HYPERLINK(Options!$B$2,\"Fax\")","v":"Fax"}]
["Newaygo DPW (Wight)","Ron Wight"," 231-652-7984",null,"Superintendent","Municipal, Cty","Muskegon",null,{"$f":"HYPERLINK(\"#'Client Details'!$B$1\",\"Details\")","v":"Details"},{"$f":"HYPERLINK(Options!$B$1, \"Quote\")","v":"Quote"},{"$f":"HYPERLINK(Options!$B$2,\"Fax\")","v":"Fax"}]
["Newkirk Electric (Anton)","Tom Anton"," 231-722-1691","twanton@newkirk-electric.com","Owner","Contractor Electrical","Muskegon",null,{"$f":"HYPERLINK(\"#'Client Details'!$B$1\",\"Details\")","v":"Details"},{"$f":"HYPERLINK(Options!$B$1, \"Quote\")","v":"Quote"},{"$f":"HYPERLINK(Options!$B$2,\"Fax\")","v":"Fax"}]
["Newkirk Electric (Cusack)","Curt Cusack"," 231-722-1691","cjcusack@newkirk-electric.com","Safety Manager","Contractor Electrical","Muskegon",null,{"$f":"HYPERLINK(\"#'Client Details'!$B$1\",\"Details\")","v":"Details"},{"$f":"HYPERLINK(Options!$B$1, \"Quote\")","v":"Quote"},{"$f":"HYPERLINK(Options!$B$2,\"Fax\")","v":"Fax"}]
["Newkirk Electric (Poholski)","Steve Poholski"," 231-722-1691","sppoholski@newkirk-electric.com","Supervisor","Contractor Electrical","Muskegon",null,{"$f":"HYPERLINK(\"#'Client Details'!$B$1\",\"Details\")","v":"Details"},{"$f":"HYPERLINK(Options!$B$1, \"Quote\")","v":"Quote"},{"$f":"HYPERLINK(Options!$B$2,\"Fax\")","v":"Fax"}]
["Newkirk Electric (Slebeck)","Amanda Slebeck"," 231-722-1691","aslebeck@newkirk-electric.com","EH&S Asst.","Electrical Contractor","Muskegon",null,{"$f":"HYPERLINK(\"#'Client Details'!$B$1\",\"Details\")","v":"Details"},{"$f":"HYPERLINK(Options!$B$1, \"Quote\")","v":"Quote"},{"$f":"HYPERLINK(Options!$B$2,\"Fax\")","v":"Fax"}]
["Newkirk Electric (Woodbury)","Rick Woodbury"," 231-722-1691",null,"Warehouse/Stores","Contractor Electrical","Muskegon",null,{"$f":"HYPERLINK(\"#'Client Details'!$B$1\",\"Details\")","v":"Details"},{"$f":"HYPERLINK(Options!$B$1, \"Quote\")","v":"Quote"},{"$f":"HYPERLINK(Options!$B$2,\"Fax\")","v":"Fax"}]
["Newkirk Electric Associates, Inc.","Tom Anton","231-722-1691",null,null,null,null,null,{"$f":"HYPERLINK(\"#'Client Details'!$B$1\",\"Details\")","v":"Details"},{"$f":"HYPERLINK(Options!$B$1, \"Quote\")","v":"Quote"},{"$f":"HYPERLINK(Options!$B$2,\"Fax\")","v":"Fax"}]
["NewTech Inc.",null,"802-728-9170",null,null,null,null,null,{"$f":"HYPERLINK(\"#'Client Details'!$B$1\",\"Details\")","v":"Details"},{"$f":"HYPERLINK(Options!$B$1, \"Quote\")","v":"Quote"},{"$f":"HYPERLINK(Options!$B$2,\"Fax\")","v":"Fax"}]
["Nexeo Solutions (Bosomworth)","Peggy Bosomworth"," 251-471-3405 226","mmbosomworth@nexeosolutions.com",null,"Chemical Pharmaceutical","Out of State",null,{"$f":"HYPERLINK(\"#'Client Details'!$B$1\",\"Details\")","v":"Details"},{"$f":"HYPERLINK(Options!$B$1, \"Quote\")","v":"Quote"},{"$f":"HYPERLINK(Options!$B$2,\"Fax\")","v":"Fax"}]
["NextGen (Shamamy)","Matt Shamamy"," 248-214-2100","matthew.shamamy@nextgen.com",null,"Automotive","UNSURE",null,{"$f":"HYPERLINK(\"#'Client Details'!$B$1\",\"Details\")","v":"Details"},{"$f":"HYPERLINK(Options!$B$1, \"Quote\")","v":"Quote"},{"$f":"HYPERLINK(Options!$B$2,\"Fax\")","v":"Fax"}]
["Nextteq, LLC (Lightburn)","Steve Lightburn"," 877-312-2333 17",null,"Sales Manager","Supplier","Out of State",null,{"$f":"HYPERLINK(\"#'Client Details'!$B$1\",\"Details\")","v":"Details"},{"$f":"HYPERLINK(Options!$B$1, \"Quote\")","v":"Quote"},{"$f":"HYPERLINK(Options!$B$2,\"Fax\")","v":"Fax"}]
["NFO Acres Cooperative, Inc. (John)","John"," 231-757-3263",null,"Site Manager","Food","Feed Mill",null,{"$f":"HYPERLINK(\"#'Client Details'!$B$1\",\"Details\")","v":"Details"},{"$f":"HYPERLINK(Options!$B$1, \"Quote\")","v":"Quote"},{"$f":"HYPERLINK(Options!$B$2,\"Fax\")","v":"Fax"}]
["Nicholson Construction","Dan Thome","269-353-8421",null,null,null,null,null,{"$f":"HYPERLINK(\"#'Client Details'!$B$1\",\"Details\")","v":"Details"},{"$f":"HYPERLINK(Options!$B$1, \"Quote\")","v":"Quote"},{"$f":"HYPERLINK(Options!$B$2,\"Fax\")","v":"Fax"}]
["Nicholson Construction (Thome)","Dan Thome"," 269-353-8421",null,null,"Contractor General","Kalamazoo",null,{"$f":"HYPERLINK(\"#'Client Details'!$B$1\",\"Details\")","v":"Details"},{"$f":"HYPERLINK(Options!$B$1, \"Quote\")","v":"Quote"},{"$f":"HYPERLINK(Options!$B$2,\"Fax\")","v":"Fax"}]
["Nicor Inc.",null,"630-388-3206",null,null,null,null,null,{"$f":"HYPERLINK(\"#'Client Details'!$B$1\",\"Details\")","v":"Details"},{"$f":"HYPERLINK(Options!$B$1, \"Quote\")","v":"Quote"},{"$f":"HYPERLINK(Options!$B$2,\"Fax\")","v":"Fax"}]
["Noble Coatings (Sleeman)","Bill Sleeman"," 616-771-0701","bsleeman@noblecoatings.com",null,"Contractor General","Kent",null,{"$f":"HYPERLINK(\"#'Client Details'!$B$1\",\"Details\")","v":"Details"},{"$f":"HYPERLINK(Options!$B$1, \"Quote\")","v":"Quote"},{"$f":"HYPERLINK(Options!$B$2,\"Fax\")","v":"Fax"}]
["Noble Polymers, LLC","Eugene Vis","616-975-4987",null,null,null,null,null,{"$f":"HYPERLINK(\"#'Client Details'!$B$1\",\"Details\")","v":"Details"},{"$f":"HYPERLINK(Options!$B$1, \"Quote\")","v":"Quote"},{"$f":"HYPERLINK(Options!$B$2,\"Fax\")","v":"Fax"}]
["Noble Polymers, LLC (Loyd)","Carl Loyd"," 616-254-4124","loydc@cascadeng.com",null,"Plastics","Kent",null,{"$f":"HYPERLINK(\"#'Client Details'!$B$1\",\"Details\")","v":"Details"},{"$f":"HYPERLINK(Options!$B$1, \"Quote\")","v":"Quote"},{"$f":"HYPERLINK(Options!$B$2,\"Fax\")","v":"Fax"}]
["Non-Ferrous Cast Alloys, Inc. (Amy)","Amy"," 231-799-0550",null,"Safety","Manufacturer","Muskegon",null,{"$f":"HYPERLINK(\"#'Client Details'!$B$1\",\"Details\")","v":"Details"},{"$f":"HYPERLINK(Options!$B$1, \"Quote\")","v":"Quote"},{"$f":"HYPERLINK(Options!$B$2,\"Fax\")","v":"Fax"}]
["Non-Ferrous Casting Alloys (Chmelar)","Joe Chmelar"," 231-799-0550 114","joe@nfcacom","Safety","Manufacturer","Muskegon",null,{"$f":"HYPERLINK(\"#'Client Details'!$B$1\",\"Details\")","v":"Details"},{"$f":"HYPERLINK(Options!$B$1, \"Quote\")","v":"Quote"},{"$f":"HYPERLINK(Options!$B$2,\"Fax\")","v":"Fax"}]
["NorLAB (Partch)","Keith Partch"," 800-657-6672","keithp@norco-inc.com","Sales Manager","Supplier","Out of State",null,{"$f":"HYPERLINK(\"#'Client Details'!$B$1\",\"Details\")","v":"Details"},{"$f":"HYPERLINK(Options!$B$1, \"Quote\")","v":"Quote"},{"$f":"HYPERLINK(Options!$B$2,\"Fax\")","v":"Fax"}]
["North American Bioproducts Corporation (K","Jayne Kalbfleisch",null,"jkalbfleisch@na-bio.com","Technical Services Scientist","Chemical Pharmaceutical","Out of State",null,{"$f":"HYPERLINK(\"#'Client Details'!$B$1\",\"Details\")","v":"Details"},{"$f":"HYPERLINK(Options!$B$1, \"Quote\")","v":"Quote"},{"$f":"HYPERLINK(Options!$B$2,\"Fax\")","v":"Fax"}]
["North American Refractories Co. (Parish)","Matt Parish"," 231-689-6641",null,"Maintenace Lead","Steel","Metal Casting",null,{"$f":"HYPERLINK(\"#'Client Details'!$B$1\",\"Details\")","v":"Details"},{"$f":"HYPERLINK(Options!$B$1, \"Quote\")","v":"Quote"},{"$f":"HYPERLINK(Options!$B$2,\"Fax\")","v":"Fax"}]
["North by Honeywell (Pennese)","Jason Pennese"," 419-873-0744","jason.pennese@honeywell.com","Territory Manager","Supplier","Out of State",null,{"$f":"HYPERLINK(\"#'Client Details'!$B$1\",\"Details\")","v":"Details"},{"$f":"HYPERLINK(Options!$B$1, \"Quote\")","v":"Quote"},{"$f":"HYPERLINK(Options!$B$2,\"Fax\")","v":"Fax"}]
["North Kent Sewer Authority","Brian Gifford","616-363-0702",null,null,null,null,null,{"$f":"HYPERLINK(\"#'Client Details'!$B$1\",\"Details\")","v":"Details"},{"$f":"HYPERLINK(Options!$B$1, \"Quote\")","v":"Quote"},{"$f":"HYPERLINK(Options!$B$2,\"Fax\")","v":"Fax"}]
["North Kent Sewer Authority (Gifford)","Brian Gifford"," 616-363-0702","bgifford@nksa.us",null,"Municipal, Cty","Kent",null,{"$f":"HYPERLINK(\"#'Client Details'!$B$1\",\"Details\")","v":"Details"},{"$f":"HYPERLINK(Options!$B$1, \"Quote\")","v":"Quote"},{"$f":"HYPERLINK(Options!$B$2,\"Fax\")","v":"Fax"}]
["North Muskegon D.P.W. ()",null," 231-744-3022",null,"Director","Municipal, Cty","Muskegon",null,{"$f":"HYPERLINK(\"#'Client Details'!$B$1\",\"Details\")","v":"Details"},{"$f":"HYPERLINK(Options!$B$1, \"Quote\")","v":"Quote"},{"$f":"HYPERLINK(Options!$B$2,\"Fax\")","v":"Fax"}]
["North Muskegon Fire Department, City of (","Steven Lague"," 231-744-1766","nmfd@novagate.com","Fire Marshal","Fire Department","Muskegon",null,{"$f":"HYPERLINK(\"#'Client Details'!$B$1\",\"Details\")","v":"Details"},{"$f":"HYPERLINK(Options!$B$1, \"Quote\")","v":"Quote"},{"$f":"HYPERLINK(Options!$B$2,\"Fax\")","v":"Fax"}]
["North Muskegon Police Department"," Tim Crouch","231-744-4313",null,null,null,null,null,{"$f":"HYPERLINK(\"#'Client Details'!$B$1\",\"Details\")","v":"Details"},{"$f":"HYPERLINK(Options!$B$1, \"Quote\")","v":"Quote"},{"$f":"HYPERLINK(Options!$B$2,\"Fax\")","v":"Fax"}]
["North Muskegon Police Department (Croucha","Chief Tom Crouchak"," 231-744-4313",null,"Chief","Fire Department","Muskegon",null,{"$f":"HYPERLINK(\"#'Client Details'!$B$1\",\"Details\")","v":"Details"},{"$f":"HYPERLINK(Options!$B$1, \"Quote\")","v":"Quote"},{"$f":"HYPERLINK(Options!$B$2,\"Fax\")","v":"Fax"}]
["North Shore Marina (Demilio)","Jim Demilio"," 616-842-1488",null,"Parts Coordinator","Other","Ottawa",null,{"$f":"HYPERLINK(\"#'Client Details'!$B$1\",\"Details\")","v":"Details"},{"$f":"HYPERLINK(Options!$B$1, \"Quote\")","v":"Quote"},{"$f":"HYPERLINK(Options!$B$2,\"Fax\")","v":"Fax"}]
["North Star BlueScope Steel LLC","Tony Orth","419-822-2200",null,null,null,null,null,{"$f":"HYPERLINK(\"#'Client Details'!$B$1\",\"Details\")","v":"Details"},{"$f":"HYPERLINK(Options!$B$1, \"Quote\")","v":"Quote"},{"$f":"HYPERLINK(Options!$B$2,\"Fax\")","v":"Fax"}]
["North Star BlueScope Steel LLC (Armstrong","Brian Armstrong"," 419-822-2330","brian.armstrong@northstarbluescope.com","Melt Shop Mechanical Maintenan","Steel","Out of State",null,{"$f":"HYPERLINK(\"#'Client Details'!$B$1\",\"Details\")","v":"Details"},{"$f":"HYPERLINK(Options!$B$1, \"Quote\")","v":"Quote"},{"$f":"HYPERLINK(Options!$B$2,\"Fax\")","v":"Fax"}]
["North Star BlueScope Steel LLC (Kelsey)","Jim Kelsey"," 419-822-2264","jim.kelsey@nsbsl.com","Meltshop Senior Electrical Tec","Steel","Out of State",null,{"$f":"HYPERLINK(\"#'Client Details'!$B$1\",\"Details\")","v":"Details"},{"$f":"HYPERLINK(Options!$B$1, \"Quote\")","v":"Quote"},{"$f":"HYPERLINK(Options!$B$2,\"Fax\")","v":"Fax"}]
["North Star BlueScope Steel LLC (Morris)","Matthew Morris"," 419-822-2441","matt.morris@northstarbluescope.com","EAF Electrical Team Leader","Steel","Out of State",null,{"$f":"HYPERLINK(\"#'Client Details'!$B$1\",\"Details\")","v":"Details"},{"$f":"HYPERLINK(Options!$B$1, \"Quote\")","v":"Quote"},{"$f":"HYPERLINK(Options!$B$2,\"Fax\")","v":"Fax"}]
["North Star BlueScope Steel LLC (Orth)","Tony Orth"," 419-822-2495","tony.orth@northstarbluescope.com","EAF Electrical Team Leader","Steel","Out of State",null,{"$f":"HYPERLINK(\"#'Client Details'!$B$1\",\"Details\")","v":"Details"},{"$f":"HYPERLINK(Options!$B$1, \"Quote\")","v":"Quote"},{"$f":"HYPERLINK(Options!$B$2,\"Fax\")","v":"Fax"}]
["North Star Medical (Endres)","John Endres"," 616-977-0118","aedlifesaver@comcast.net","Sales / Marketing","Suppliers","Kent",null,{"$f":"HYPERLINK(\"#'Client Details'!$B$1\",\"Details\")","v":"Details"},{"$f":"HYPERLINK(Options!$B$1, \"Quote\")","v":"Quote"},{"$f":"HYPERLINK(Options!$B$2,\"Fax\")","v":"Fax"}]
["Northern A-1 Mechanical (Eastling)","Berl Eastling"," 231-728-4354",null,"Manager","Mechanical Contractor","Muskegon",null,{"$f":"HYPERLINK(\"#'Client Details'!$B$1\",\"Details\")","v":"Details"},{"$f":"HYPERLINK(Options!$B$1, \"Quote\")","v":"Quote"},{"$f":"HYPERLINK(Options!$B$2,\"Fax\")","v":"Fax"}]
["Northern -A-1 Services","Rick  Schemhil","231-258-9961",null,null,null,null,null,{"$f":"HYPERLINK(\"#'Client Details'!$B$1\",\"Details\")","v":"Details"},{"$f":"HYPERLINK(Options!$B$1, \"Quote\")","v":"Quote"},{"$f":"HYPERLINK(Options!$B$2,\"Fax\")","v":"Fax"}]
["Northern A-1 Services, Inc. (Schmehil)","Rick Schmehil"," 231-728-4354","ricks@northerna1.com",null,"Contractor EH&S","Muskegon",null,{"$f":"HYPERLINK(\"#'Client Details'!$B$1\",\"Details\")","v":"Details"},{"$f":"HYPERLINK(Options!$B$1, \"Quote\")","v":"Quote"},{"$f":"HYPERLINK(Options!$B$2,\"Fax\")","v":"Fax"}]
["Northern Boiler and Mechanical Contractor","John Nic"," 231-777-2525 226","jnic@northernboiler.com","Project Manager","Contractor General","Muskegon",null,{"$f":"HYPERLINK(\"#'Client Details'!$B$1\",\"Details\")","v":"Details"},{"$f":"HYPERLINK(Options!$B$1, \"Quote\")","v":"Quote"},{"$f":"HYPERLINK(Options!$B$2,\"Fax\")","v":"Fax"}]
["Northern Boiler Mechanical Contractors","Don Rake","231-777-2525",null,null,null,null,null,{"$f":"HYPERLINK(\"#'Client Details'!$B$1\",\"Details\")","v":"Details"},{"$f":"HYPERLINK(Options!$B$1, \"Quote\")","v":"Quote"},{"$f":"HYPERLINK(Options!$B$2,\"Fax\")","v":"Fax"}]
["Northern Concrete Pipe, Inc. (Phillips)","Tim Phillips"," 800-222-9918","ttphillips@ncp-inc.com",null,"Manufacturer","Bay",null,{"$f":"HYPERLINK(\"#'Client Details'!$B$1\",\"Details\")","v":"Details"},{"$f":"HYPERLINK(Options!$B$1, \"Quote\")","v":"Quote"},{"$f":"HYPERLINK(Options!$B$2,\"Fax\")","v":"Fax"}]
["Northland Farms, LLC (Oros)","Jim Oros"," 616-846-1477",null,"Buyer","Nursery","Ottawa",null,{"$f":"HYPERLINK(\"#'Client Details'!$B$1\",\"Details\")","v":"Details"},{"$f":"HYPERLINK(Options!$B$1, \"Quote\")","v":"Quote"},{"$f":"HYPERLINK(Options!$B$2,\"Fax\")","v":"Fax"}]
["Northshore Construction (Kenny)","Bill Kenny"," 231-755-6022","bill@northshore-construction.com","Safety Director","Contractor General","Muskegon",null,{"$f":"HYPERLINK(\"#'Client Details'!$B$1\",\"Details\")","v":"Details"},{"$f":"HYPERLINK(Options!$B$1, \"Quote\")","v":"Quote"},{"$f":"HYPERLINK(Options!$B$2,\"Fax\")","v":"Fax"}]
["Northshore Construction (Michaels)","Ben Michaels"," 231-755-6022",null,"Purchasing","Contractor General","Muskegon",null,{"$f":"HYPERLINK(\"#'Client Details'!$B$1\",\"Details\")","v":"Details"},{"$f":"HYPERLINK(Options!$B$1, \"Quote\")","v":"Quote"},{"$f":"HYPERLINK(Options!$B$2,\"Fax\")","v":"Fax"}]
["Northshore Construction (Smith)","Craig Smith"," 231-755-6022","craig@northshore-construction.com","Construction Manager","Contractor General","Muskegon",null,{"$f":"HYPERLINK(\"#'Client Details'!$B$1\",\"Details\")","v":"Details"},{"$f":"HYPERLINK(Options!$B$1, \"Quote\")","v":"Quote"},{"$f":"HYPERLINK(Options!$B$2,\"Fax\")","v":"Fax"}]
["Northshore Construction Co.","Bill Kenney","231-755-6022",null,null,null,null,null,{"$f":"HYPERLINK(\"#'Client Details'!$B$1\",\"Details\")","v":"Details"},{"$f":"HYPERLINK(Options!$B$1, \"Quote\")","v":"Quote"},{"$f":"HYPERLINK(Options!$B$2,\"Fax\")","v":"Fax"}]
["Northstar Instrumentation LLC","Jeff Tobian (owner)","734-878-9466",null,null,null,null,null,{"$f":"HYPERLINK(\"#'Client Details'!$B$1\",\"Details\")","v":"Details"},{"$f":"HYPERLINK(Options!$B$1, \"Quote\")","v":"Quote"},{"$f":"HYPERLINK(Options!$B$2,\"Fax\")","v":"Fax"}]
["Northwest Kent Mechanical","Mike Bergman","616-696-9026",null,null,null,null,null,{"$f":"HYPERLINK(\"#'Client Details'!$B$1\",\"Details\")","v":"Details"},{"$f":"HYPERLINK(Options!$B$1, \"Quote\")","v":"Quote"},{"$f":"HYPERLINK(Options!$B$2,\"Fax\")","v":"Fax"}]
["Northwest Kent Mechanical (Bergman)","Mike Bergman"," 616-696-9026","mbergman@nwkentmech.com","Field Superintendent","Contractor General","Kent",null,{"$f":"HYPERLINK(\"#'Client Details'!$B$1\",\"Details\")","v":"Details"},{"$f":"HYPERLINK(Options!$B$1, \"Quote\")","v":"Quote"},{"$f":"HYPERLINK(Options!$B$2,\"Fax\")","v":"Fax"}]
["Northwest Kent Mechanical (Henry)","Skip Henry"," 616-696-9026","vandy@nwkentmech.com",null,"Contractor General","Kent",null,{"$f":"HYPERLINK(\"#'Client Details'!$B$1\",\"Details\")","v":"Details"},{"$f":"HYPERLINK(Options!$B$1, \"Quote\")","v":"Quote"},{"$f":"HYPERLINK(Options!$B$2,\"Fax\")","v":"Fax"}]
["Northwest Kent Mechanical (Reed)","Ken Reed"," 616-696-9026",null,"Site Supervisor",null,"Kent",null,{"$f":"HYPERLINK(\"#'Client Details'!$B$1\",\"Details\")","v":"Details"},{"$f":"HYPERLINK(Options!$B$1, \"Quote\")","v":"Quote"},{"$f":"HYPERLINK(Options!$B$2,\"Fax\")","v":"Fax"}]
["Northwest Ottawa Water Treatment Plant","Joseph VanderStel","616-847-3487",null,null,null,null,null,{"$f":"HYPERLINK(\"#'Client Details'!$B$1\",\"Details\")","v":"Details"},{"$f":"HYPERLINK(Options!$B$1, \"Quote\")","v":"Quote"},{"$f":"HYPERLINK(Options!$B$2,\"Fax\")","v":"Fax"}]
["Northwest Ottawa Water Treatment Plant (V","Terry Velik"," 616-847-3487","tvelik@grandhaven.org","Water Facilities Manager","Municipal, Cty","Ottawa",null,{"$f":"HYPERLINK(\"#'Client Details'!$B$1\",\"Details\")","v":"Details"},{"$f":"HYPERLINK(Options!$B$1, \"Quote\")","v":"Quote"},{"$f":"HYPERLINK(Options!$B$2,\"Fax\")","v":"Fax"}]
["Northwest Tool & Die Co., Inc.","Paul Peck","616-453-8286",null,null,null,null,null,{"$f":"HYPERLINK(\"#'Client Details'!$B$1\",\"Details\")","v":"Details"},{"$f":"HYPERLINK(Options!$B$1, \"Quote\")","v":"Quote"},{"$f":"HYPERLINK(Options!$B$2,\"Fax\")","v":"Fax"}]
["Northwest Tool & Die Co., Inc. (Peck)","Paul Peck"," 616-453-8286",null,null,"Manufacturer","Kent",null,{"$f":"HYPERLINK(\"#'Client Details'!$B$1\",\"Details\")","v":"Details"},{"$f":"HYPERLINK(Options!$B$1, \"Quote\")","v":"Quote"},{"$f":"HYPERLINK(Options!$B$2,\"Fax\")","v":"Fax"}]
["Northwest Tool Supply, Inc.",null,"248-669-4040","northwesttoolsupplyinc@sbcglobal.net",null,null,null,null,{"$f":"HYPERLINK(\"#'Client Details'!$B$1\",\"Details\")","v":"Details"},{"$f":"HYPERLINK(Options!$B$1, \"Quote\")","v":"Quote"},{"$f":"HYPERLINK(Options!$B$2,\"Fax\")","v":"Fax"}]
["Norton Shore Fire Department, City of (Ka","Ted Karnitz"," 231-739-6597",null,null,"Fire Department","Muskegon",null,{"$f":"HYPERLINK(\"#'Client Details'!$B$1\",\"Details\")","v":"Details"},{"$f":"HYPERLINK(Options!$B$1, \"Quote\")","v":"Quote"},{"$f":"HYPERLINK(Options!$B$2,\"Fax\")","v":"Fax"}]
["Norton Shores DPW","Terry Sladick / Derek Gajdos","231-798-2156","tsladick@aol.com",null,null,null,null,{"$f":"HYPERLINK(\"#'Client Details'!$B$1\",\"Details\")","v":"Details"},{"$f":"HYPERLINK(Options!$B$1, \"Quote\")","v":"Quote"},{"$f":"HYPERLINK(Options!$B$2,\"Fax\")","v":"Fax"}]
["Norton Shores DPW, City of (Gajdos)","Derek Gajdos"," 231-798-2156","dgajdos@nortonshores.org",null,"Municipal, Cty","Muskegon",null,{"$f":"HYPERLINK(\"#'Client Details'!$B$1\",\"Details\")","v":"Details"},{"$f":"HYPERLINK(Options!$B$1, \"Quote\")","v":"Quote"},{"$f":"HYPERLINK(Options!$B$2,\"Fax\")","v":"Fax"}]
["Norton Shores DPW, City of (Houghtaling)","Scott Houghtaling"," 231-798-2156","shoughtaling@nortonshores.org",null,"Municipal, Cty","Muskegon",null,{"$f":"HYPERLINK(\"#'Client Details'!$B$1\",\"Details\")","v":"Details"},{"$f":"HYPERLINK(Options!$B$1, \"Quote\")","v":"Quote"},{"$f":"HYPERLINK(Options!$B$2,\"Fax\")","v":"Fax"}]
["Norton Shores DPW, City of (Lehan)","Craig Lehan"," 231-798-2156",null,"Water / Sewer Supervisor","Municipal, Cty","Muskegon",null,{"$f":"HYPERLINK(\"#'Client Details'!$B$1\",\"Details\")","v":"Details"},{"$f":"HYPERLINK(Options!$B$1, \"Quote\")","v":"Quote"},{"$f":"HYPERLINK(Options!$B$2,\"Fax\")","v":"Fax"}]
["Norton Shores DPW, City of (Nummerdor)","Brian Nummerdor"," 231-798-2156",null,"Streets Supervisor","Municipal, Cty","Muskegon",null,{"$f":"HYPERLINK(\"#'Client Details'!$B$1\",\"Details\")","v":"Details"},{"$f":"HYPERLINK(Options!$B$1, \"Quote\")","v":"Quote"},{"$f":"HYPERLINK(Options!$B$2,\"Fax\")","v":"Fax"}]
["Norton Shores DPW, City of (Sladick)","Terry Sladick"," 231-798-2156","tsladick@aol.com","Superintendent of Streets and","Municipal, Cty","Muskegon",null,{"$f":"HYPERLINK(\"#'Client Details'!$B$1\",\"Details\")","v":"Details"},{"$f":"HYPERLINK(Options!$B$1, \"Quote\")","v":"Quote"},{"$f":"HYPERLINK(Options!$B$2,\"Fax\")","v":"Fax"}]
["Norton Shores DPW, City of (Taylor)","Jim Taylor"," 231-798-2156",null,"Water / Sewer Supervisor","Municipal, Cty","Muskegon",null,{"$f":"HYPERLINK(\"#'Client Details'!$B$1\",\"Details\")","v":"Details"},{"$f":"HYPERLINK(Options!$B$1, \"Quote\")","v":"Quote"},{"$f":"HYPERLINK(Options!$B$2,\"Fax\")","v":"Fax"}]
["Norton Shores Fire Department, City of (D","Ken Dewitt"," 231-739-6597",null,null,"Fire Department","Muskegon",null,{"$f":"HYPERLINK(\"#'Client Details'!$B$1\",\"Details\")","v":"Details"},{"$f":"HYPERLINK(Options!$B$1, \"Quote\")","v":"Quote"},{"$f":"HYPERLINK(Options!$B$2,\"Fax\")","v":"Fax"}]
["Norwich Fire Department","Brent Haskin","231-876-1700",null,null,null,null,null,{"$f":"HYPERLINK(\"#'Client Details'!$B$1\",\"Details\")","v":"Details"},{"$f":"HYPERLINK(Options!$B$1, \"Quote\")","v":"Quote"},{"$f":"HYPERLINK(Options!$B$2,\"Fax\")","v":"Fax"}]
["Norwich Fire Department (Haskin)","Brent Haskin"," 231-876-1700","ntfdstation500@hotmail.com",null,"Fire Department","Missaukee",null,{"$f":"HYPERLINK(\"#'Client Details'!$B$1\",\"Details\")","v":"Details"},{"$f":"HYPERLINK(Options!$B$1, \"Quote\")","v":"Quote"},{"$f":"HYPERLINK(Options!$B$2,\"Fax\")","v":"Fax"}]
["Norwich TSP Fire Dept."," Chief Brian Whipple","231-229-5705",null,null,null,null,null,{"$f":"HYPERLINK(\"#'Client Details'!$B$1\",\"Details\")","v":"Details"},{"$f":"HYPERLINK(Options!$B$1, \"Quote\")","v":"Quote"},{"$f":"HYPERLINK(Options!$B$2,\"Fax\")","v":"Fax"}]
["Nova Environmental","Joe Lamb","734-930-0995",null,null,null,null,null,{"$f":"HYPERLINK(\"#'Client Details'!$B$1\",\"Details\")","v":"Details"},{"$f":"HYPERLINK(Options!$B$1, \"Quote\")","v":"Quote"},{"$f":"HYPERLINK(Options!$B$2,\"Fax\")","v":"Fax"}]
["Nova Environmental (Lamb)","Joel Lamb"," 734-930-0995",null,null,"Contractor EH&S","Washtenaw",null,{"$f":"HYPERLINK(\"#'Client Details'!$B$1\",\"Details\")","v":"Details"},{"$f":"HYPERLINK(Options!$B$1, \"Quote\")","v":"Quote"},{"$f":"HYPERLINK(Options!$B$2,\"Fax\")","v":"Fax"}]
["Novelis Aluminum Corporation",null,null,null,null,null,null,null,{"$f":"HYPERLINK(\"#'Client Details'!$B$1\",\"Details\")","v":"Details"},{"$f":"HYPERLINK(Options!$B$1, \"Quote\")","v":"Quote"},{"$f":"HYPERLINK(Options!$B$2,\"Fax\")","v":"Fax"}]
["Novelis Berea (Hibbitts)","Shane Hibbitts"," 859-985-6725","shane.hibbitts@novelis.com",null,"Manufacturer","Out of State",null,{"$f":"HYPERLINK(\"#'Client Details'!$B$1\",\"Details\")","v":"Details"},{"$f":"HYPERLINK(Options!$B$1, \"Quote\")","v":"Quote"},{"$f":"HYPERLINK(Options!$B$2,\"Fax\")","v":"Fax"}]
["NRCan (Balderson)","Cory Balderson"," 613-995-3366","cbalders@nrcan.gc.ca",null,"Federal","Out of State",null,{"$f":"HYPERLINK(\"#'Client Details'!$B$1\",\"Details\")","v":"Details"},{"$f":"HYPERLINK(Options!$B$1, \"Quote\")","v":"Quote"},{"$f":"HYPERLINK(Options!$B$2,\"Fax\")","v":"Fax"}]
["NRG Operating Services, Inc. (Riedel)","Bill Riedel"," 231-779-8609 13","william.riedel@nrgenergy.com","Safety Director","Utility","Wexford",null,{"$f":"HYPERLINK(\"#'Client Details'!$B$1\",\"Details\")","v":"Details"},{"$f":"HYPERLINK(Options!$B$1, \"Quote\")","v":"Quote"},{"$f":"HYPERLINK(Options!$B$2,\"Fax\")","v":"Fax"}]
["NSF International","David Orton","734-769-8010 x2362",null,null,null,null,null,{"$f":"HYPERLINK(\"#'Client Details'!$B$1\",\"Details\")","v":"Details"},{"$f":"HYPERLINK(Options!$B$1, \"Quote\")","v":"Quote"},{"$f":"HYPERLINK(Options!$B$2,\"Fax\")","v":"Fax"}]
["NTH (Grand Rapids, MI)",null,"616-451-6279 Mark",null,null,null,null,null,{"$f":"HYPERLINK(\"#'Client Details'!$B$1\",\"Details\")","v":"Details"},{"$f":"HYPERLINK(Options!$B$1, \"Quote\")","v":"Quote"},{"$f":"HYPERLINK(Options!$B$2,\"Fax\")","v":"Fax"}]
["NTH Consultants (Petroelje)","Dave Petroelje"," 616-957-3690","dpetroelje@nthconsultants.com",null,"Contractor EH&S","Kent",null,{"$f":"HYPERLINK(\"#'Client Details'!$B$1\",\"Details\")","v":"Details"},{"$f":"HYPERLINK(Options!$B$1, \"Quote\")","v":"Quote"},{"$f":"HYPERLINK(Options!$B$2,\"Fax\")","v":"Fax"}]
["Nucor Steel Company (Logan)","John Logan"," 800-333-4011 1222","Jon.Logan@nucor.com",null,"Steel","Out of State",null,{"$f":"HYPERLINK(\"#'Client Details'!$B$1\",\"Details\")","v":"Details"},{"$f":"HYPERLINK(Options!$B$1, \"Quote\")","v":"Quote"},{"$f":"HYPERLINK(Options!$B$2,\"Fax\")","v":"Fax"}]
["Nuview Technologies Inc.",null,null,null,null,null,null,null,{"$f":"HYPERLINK(\"#'Client Details'!$B$1\",\"Details\")","v":"Details"},{"$f":"HYPERLINK(Options!$B$1, \"Quote\")","v":"Quote"},{"$f":"HYPERLINK(Options!$B$2,\"Fax\")","v":"Fax"}]
["Nu-Wool Co. Inc.","Dave Verstraete","616-669-0100",null,null,null,null,null,{"$f":"HYPERLINK(\"#'Client Details'!$B$1\",\"Details\")","v":"Details"},{"$f":"HYPERLINK(Options!$B$1, \"Quote\")","v":"Quote"},{"$f":"HYPERLINK(Options!$B$2,\"Fax\")","v":"Fax"}]
["Nu-Wool Inc. (VerStraete)","Dave VerStraete"," 800-748-0128","dverstraete@nuwool.com",null,"Manufacturer","Kent",null,{"$f":"HYPERLINK(\"#'Client Details'!$B$1\",\"Details\")","v":"Details"},{"$f":"HYPERLINK(Options!$B$1, \"Quote\")","v":"Quote"},{"$f":"HYPERLINK(Options!$B$2,\"Fax\")","v":"Fax"}]
["NxtGen","Matt Shamamy","248-214-2100 cell","matthew.shamamy@nxtgen.com",null,null,null,null,{"$f":"HYPERLINK(\"#'Client Details'!$B$1\",\"Details\")","v":"Details"},{"$f":"HYPERLINK(Options!$B$1, \"Quote\")","v":"Quote"},{"$f":"HYPERLINK(Options!$B$2,\"Fax\")","v":"Fax"}]
["Oberon (Garcia)","Sherry Garcia"," 508-999-4442",null,"Customer service",null,"N/A",null,{"$f":"HYPERLINK(\"#'Client Details'!$B$1\",\"Details\")","v":"Details"},{"$f":"HYPERLINK(Options!$B$1, \"Quote\")","v":"Quote"},{"$f":"HYPERLINK(Options!$B$2,\"Fax\")","v":"Fax"}]
["Ocean Spray (Middleboro) (Cunniff)","Dana Cunniff"," 508-946-5905","dcunniff@oceanspray.com",null,"Food","Out of State",null,{"$f":"HYPERLINK(\"#'Client Details'!$B$1\",\"Details\")","v":"Details"},{"$f":"HYPERLINK(Options!$B$1, \"Quote\")","v":"Quote"},{"$f":"HYPERLINK(Options!$B$2,\"Fax\")","v":"Fax"}]
["Oceana County Rd. Commission","Dennis Cole","231-873-3717",null,null,null,null,null,{"$f":"HYPERLINK(\"#'Client Details'!$B$1\",\"Details\")","v":"Details"},{"$f":"HYPERLINK(Options!$B$1, \"Quote\")","v":"Quote"},{"$f":"HYPERLINK(Options!$B$2,\"Fax\")","v":"Fax"}]
["Oceana County Road Commission (Koch)","Dennis Koch"," 231-873-4226","dkoch@oceanacrc.com","Shop Supervisor/Stores","Municipal, Cty","Oceana",null,{"$f":"HYPERLINK(\"#'Client Details'!$B$1\",\"Details\")","v":"Details"},{"$f":"HYPERLINK(Options!$B$1, \"Quote\")","v":"Quote"},{"$f":"HYPERLINK(Options!$B$2,\"Fax\")","v":"Fax"}]
["ODL Inc.",null,"616-772-9111",null,null,null,null,null,{"$f":"HYPERLINK(\"#'Client Details'!$B$1\",\"Details\")","v":"Details"},{"$f":"HYPERLINK(Options!$B$1, \"Quote\")","v":"Quote"},{"$f":"HYPERLINK(Options!$B$2,\"Fax\")","v":"Fax"}]
["ODL Incorporated (Kooistra)","Matt Kooistra"," 616-748-5328","matt.kooistra@odl.com","Manufacturing/Quality Engineer","Manufacturer","Ottawa",null,{"$f":"HYPERLINK(\"#'Client Details'!$B$1\",\"Details\")","v":"Details"},{"$f":"HYPERLINK(Options!$B$1, \"Quote\")","v":"Quote"},{"$f":"HYPERLINK(Options!$B$2,\"Fax\")","v":"Fax"}]
["Oetman Excavating (Potter)","Curt Potter"," 616-877-4097",null,"Comptroller","Contractor General","Allegan",null,{"$f":"HYPERLINK(\"#'Client Details'!$B$1\",\"Details\")","v":"Details"},{"$f":"HYPERLINK(Options!$B$1, \"Quote\")","v":"Quote"},{"$f":"HYPERLINK(Options!$B$2,\"Fax\")","v":"Fax"}]
["Offshore (Price)","Mike Price"," 304-846-6555","offshore.resourses.supply.llc@gmail.com",null,null,"Out of State",null,{"$f":"HYPERLINK(\"#'Client Details'!$B$1\",\"Details\")","v":"Details"},{"$f":"HYPERLINK(Options!$B$1, \"Quote\")","v":"Quote"},{"$f":"HYPERLINK(Options!$B$2,\"Fax\")","v":"Fax"}]
["OHD Occupational Health Dynamics (Griggs)","Jeff Griggs"," 205-314-6149","jgriggs@ohdusa.com","Sales Manager","Supplier","Out of State",null,{"$f":"HYPERLINK(\"#'Client Details'!$B$1\",\"Details\")","v":"Details"},{"$f":"HYPERLINK(Options!$B$1, \"Quote\")","v":"Quote"},{"$f":"HYPERLINK(Options!$B$2,\"Fax\")","v":"Fax"}]
["Ohio Department of Transportation","Terri Barnhart/Mike Brokaw","614-387-6210",null,null,null,null,null,{"$f":"HYPERLINK(\"#'Client Details'!$B$1\",\"Details\")","v":"Details"},{"$f":"HYPERLINK(Options!$B$1, \"Quote\")","v":"Quote"},{"$f":"HYPERLINK(Options!$B$2,\"Fax\")","v":"Fax"}]
["Ohio Department of Transportation (Brokaw","Mike Brokaw"," 614-387-6210","michael.brokaw@dot.state.oh.us",null,"Municipal, Cty","Out of State",null,{"$f":"HYPERLINK(\"#'Client Details'!$B$1\",\"Details\")","v":"Details"},{"$f":"HYPERLINK(Options!$B$1, \"Quote\")","v":"Quote"},{"$f":"HYPERLINK(Options!$B$2,\"Fax\")","v":"Fax"}]
["Ohio Industrial Equipment (Bickel)","Blair Bickel"," 614-291-6508","bbickel@oiesolutions.com","President","Representative","Out of State",null,{"$f":"HYPERLINK(\"#'Client Details'!$B$1\",\"Details\")","v":"Details"},{"$f":"HYPERLINK(Options!$B$1, \"Quote\")","v":"Quote"},{"$f":"HYPERLINK(Options!$B$2,\"Fax\")","v":"Fax"}]
["Old Orchard Brands, LLC (Wessche)","Alyssa Wessche"," 616-887-1745",null,"Safety Coordinator","Food","Juice makers",null,{"$f":"HYPERLINK(\"#'Client Details'!$B$1\",\"Details\")","v":"Details"},{"$f":"HYPERLINK(Options!$B$1, \"Quote\")","v":"Quote"},{"$f":"HYPERLINK(Options!$B$2,\"Fax\")","v":"Fax"}]
["Olive Township Fire Rescue (Gort)","Frank Gort"," 616-875-8400","returned","Firefighter EMT Specialist","Municipal, Cty Pub Safety","Ottawa",null,{"$f":"HYPERLINK(\"#'Client Details'!$B$1\",\"Details\")","v":"Details"},{"$f":"HYPERLINK(Options!$B$1, \"Quote\")","v":"Quote"},{"$f":"HYPERLINK(Options!$B$2,\"Fax\")","v":"Fax"}]
["Oliver Products Company","Justin","616-456-7711",null,null,null,null,null,{"$f":"HYPERLINK(\"#'Client Details'!$B$1\",\"Details\")","v":"Details"},{"$f":"HYPERLINK(Options!$B$1, \"Quote\")","v":"Quote"},{"$f":"HYPERLINK(Options!$B$2,\"Fax\")","v":"Fax"}]
["Oliver Products Company (Berg)","Evert Vander Berg"," 616-456-7711 7503","evanderberg@oliverproducts.com",null,"Manufacturer","Kent",null,{"$f":"HYPERLINK(\"#'Client Details'!$B$1\",\"Details\")","v":"Details"},{"$f":"HYPERLINK(Options!$B$1, \"Quote\")","v":"Quote"},{"$f":"HYPERLINK(Options!$B$2,\"Fax\")","v":"Fax"}]
["Oliver-Tolas Healthcare Packaging",null,"513-860-6880",null,null,null,null,null,{"$f":"HYPERLINK(\"#'Client Details'!$B$1\",\"Details\")","v":"Details"},{"$f":"HYPERLINK(Options!$B$1, \"Quote\")","v":"Quote"},{"$f":"HYPERLINK(Options!$B$2,\"Fax\")","v":"Fax"}]
["Olson Brothers Co.","Larry Olson","269-637-4494",null,null,null,null,null,{"$f":"HYPERLINK(\"#'Client Details'!$B$1\",\"Details\")","v":"Details"},{"$f":"HYPERLINK(Options!$B$1, \"Quote\")","v":"Quote"},{"$f":"HYPERLINK(Options!$B$2,\"Fax\")","v":"Fax"}]
["Olson Brothers Company (Olson)","Larry Olson"," 269-637-4494",null,null,null,"Allegan",null,{"$f":"HYPERLINK(\"#'Client Details'!$B$1\",\"Details\")","v":"Details"},{"$f":"HYPERLINK(Options!$B$1, \"Quote\")","v":"Quote"},{"$f":"HYPERLINK(Options!$B$2,\"Fax\")","v":"Fax"}]
["Omara Scientific (Sobczak)","Craig Sobczak"," 616-531-9500","randy.vanderwiere@omarascientific.com",null,"Competitor","Kent",null,{"$f":"HYPERLINK(\"#'Client Details'!$B$1\",\"Details\")","v":"Details"},{"$f":"HYPERLINK(Options!$B$1, \"Quote\")","v":"Quote"},{"$f":"HYPERLINK(Options!$B$2,\"Fax\")","v":"Fax"}]
["Omni Finishing (Whinney)","Marshall Whinney"," 215-953-1166","marshallw@omnifinishing.com","Vice President","Manufacturer","Out of State",null,{"$f":"HYPERLINK(\"#'Client Details'!$B$1\",\"Details\")","v":"Details"},{"$f":"HYPERLINK(Options!$B$1, \"Quote\")","v":"Quote"},{"$f":"HYPERLINK(Options!$B$2,\"Fax\")","v":"Fax"}]
["Onondaga County Water Authority",null,"315-455-7061",null,null,null,null,null,{"$f":"HYPERLINK(\"#'Client Details'!$B$1\",\"Details\")","v":"Details"},{"$f":"HYPERLINK(Options!$B$1, \"Quote\")","v":"Quote"},{"$f":"HYPERLINK(Options!$B$2,\"Fax\")","v":"Fax"}]
["Oomen Brothers","Ralph Oomen","231-873-3289","oomanbros@casair.net",null,null,null,null,{"$f":"HYPERLINK(\"#'Client Details'!$B$1\",\"Details\")","v":"Details"},{"$f":"HYPERLINK(Options!$B$1, \"Quote\")","v":"Quote"},{"$f":"HYPERLINK(Options!$B$2,\"Fax\")","v":"Fax"}]
["Oosterink Oli Lipe, Inc.","Tim VanPolen","616-735-5042",null,null,null,null,null,{"$f":"HYPERLINK(\"#'Client Details'!$B$1\",\"Details\")","v":"Details"},{"$f":"HYPERLINK(Options!$B$1, \"Quote\")","v":"Quote"},{"$f":"HYPERLINK(Options!$B$2,\"Fax\")","v":"Fax"}]
["Orland Fire Department","Chief Wayne Wells","260-829-6494",null,null,null,null,null,{"$f":"HYPERLINK(\"#'Client Details'!$B$1\",\"Details\")","v":"Details"},{"$f":"HYPERLINK(Options!$B$1, \"Quote\")","v":"Quote"},{"$f":"HYPERLINK(Options!$B$2,\"Fax\")","v":"Fax"}]
["Orr Safety (Connor)","Pat Connor"," 630-617-9070 232",null,null,"Competitor","N/A",null,{"$f":"HYPERLINK(\"#'Client Details'!$B$1\",\"Details\")","v":"Details"},{"$f":"HYPERLINK(Options!$B$1, \"Quote\")","v":"Quote"},{"$f":"HYPERLINK(Options!$B$2,\"Fax\")","v":"Fax"}]
["ORS Nasco. (Lockwood)","Mark Lockwood"," 800-678-6577 *9 3355","mark.lockwood@orsnasco.com",null,"Supplier","Out of State",null,{"$f":"HYPERLINK(\"#'Client Details'!$B$1\",\"Details\")","v":"Details"},{"$f":"HYPERLINK(Options!$B$1, \"Quote\")","v":"Quote"},{"$f":"HYPERLINK(Options!$B$2,\"Fax\")","v":"Fax"}]
["Otsego DPW, City of (Gilliland)","Darl Gilliland"," 269-694-6636",null,"Superintendent","Municipal, Cty","Allegan",null,{"$f":"HYPERLINK(\"#'Client Details'!$B$1\",\"Details\")","v":"Details"},{"$f":"HYPERLINK(Options!$B$1, \"Quote\")","v":"Quote"},{"$f":"HYPERLINK(Options!$B$2,\"Fax\")","v":"Fax"}]
["Otsego Metal Recyclers (Newman)","Tom Newman"," 269-501-6517",null,"Owner","Recycling","Allegan",null,{"$f":"HYPERLINK(\"#'Client Details'!$B$1\",\"Details\")","v":"Details"},{"$f":"HYPERLINK(Options!$B$1, \"Quote\")","v":"Quote"},{"$f":"HYPERLINK(Options!$B$2,\"Fax\")","v":"Fax"}]
["Ottawa County (Close)","Steve Close"," 616-738-4873","sclose@co.ottawa.mi.us","Supervisor","Municipal, Cty","Ottawa",null,{"$f":"HYPERLINK(\"#'Client Details'!$B$1\",\"Details\")","v":"Details"},{"$f":"HYPERLINK(Options!$B$1, \"Quote\")","v":"Quote"},{"$f":"HYPERLINK(Options!$B$2,\"Fax\")","v":"Fax"}]
["Ottawa County (Miller)","Christine Miller"," 616-738-4849","cmiller@co.ottawa.mi.us","Asst. Fiscal Services Director","Municipal, Cty","Ottawa",null,{"$f":"HYPERLINK(\"#'Client Details'!$B$1\",\"Details\")","v":"Details"},{"$f":"HYPERLINK(Options!$B$1, \"Quote\")","v":"Quote"},{"$f":"HYPERLINK(Options!$B$2,\"Fax\")","v":"Fax"}]
["Ottawa County Farms Landfill (Carr)","Robert Carr"," 616-837-8195",null,"Site Manager","Municipal, Cty","Ottawa",null,{"$f":"HYPERLINK(\"#'Client Details'!$B$1\",\"Details\")","v":"Details"},{"$f":"HYPERLINK(Options!$B$1, \"Quote\")","v":"Quote"},{"$f":"HYPERLINK(Options!$B$2,\"Fax\")","v":"Fax"}]
["Ottawa County Road Commission","Pat Staskiewicz","616-850-7208",null,null,null,null,null,{"$f":"HYPERLINK(\"#'Client Details'!$B$1\",\"Details\")","v":"Details"},{"$f":"HYPERLINK(Options!$B$1, \"Quote\")","v":"Quote"},{"$f":"HYPERLINK(Options!$B$2,\"Fax\")","v":"Fax"}]
["Ottawa County Road Commission (Staskiewic","Pat Staskiewicz"," 616-850-7208","pstaskiewicz@ottawacorc.com","Public Utilities Engineer","Municipal, Cty","Ottawa",null,{"$f":"HYPERLINK(\"#'Client Details'!$B$1\",\"Details\")","v":"Details"},{"$f":"HYPERLINK(Options!$B$1, \"Quote\")","v":"Quote"},{"$f":"HYPERLINK(Options!$B$2,\"Fax\")","v":"Fax"}]
["Ottawa County Road Commission (Wahr)","Kris Wahr"," 616-850-7239","kwahr@ottawaocrc.com","Human Resources Administrator",null,"Ottawa",null,{"$f":"HYPERLINK(\"#'Client Details'!$B$1\",\"Details\")","v":"Details"},{"$f":"HYPERLINK(Options!$B$1, \"Quote\")","v":"Quote"},{"$f":"HYPERLINK(Options!$B$2,\"Fax\")","v":"Fax"}]
["Ottawa County Road Commission (Winchester","Mark Winchester"," 616-850-7218","mwinchester@ottawacorc.com","Public Utilities Supervisor","Municipal, Cty","Ottawa",null,{"$f":"HYPERLINK(\"#'Client Details'!$B$1\",\"Details\")","v":"Details"},{"$f":"HYPERLINK(Options!$B$1, \"Quote\")","v":"Quote"},{"$f":"HYPERLINK(Options!$B$2,\"Fax\")","v":"Fax"}]
["Ottawa County Soil Erosion Commission (Ka","Aaron Karg"," 616-846-8222",null,null,"Municipal, Cty","Ottawa",null,{"$f":"HYPERLINK(\"#'Client Details'!$B$1\",\"Details\")","v":"Details"},{"$f":"HYPERLINK(Options!$B$1, \"Quote\")","v":"Quote"},{"$f":"HYPERLINK(Options!$B$2,\"Fax\")","v":"Fax"}]
["Ottawa Electric, Inc. (Roger)","Roger"," 616-842-2760",null,"Safety/Management","Contractor Electrical","Ottawa",null,{"$f":"HYPERLINK(\"#'Client Details'!$B$1\",\"Details\")","v":"Details"},{"$f":"HYPERLINK(Options!$B$1, \"Quote\")","v":"Quote"},{"$f":"HYPERLINK(Options!$B$2,\"Fax\")","v":"Fax"}]
["Oudbier Instruments Company (Oudbier)","Ron Oudbier"," 269-792-4404","roudbier@wmis.net",null,"Manufacturer","Allegan",null,{"$f":"HYPERLINK(\"#'Client Details'!$B$1\",\"Details\")","v":"Details"},{"$f":"HYPERLINK(Options!$B$1, \"Quote\")","v":"Quote"},{"$f":"HYPERLINK(Options!$B$2,\"Fax\")","v":"Fax"}]
["Owen Ames Kimball","Dan Rathburn","616-456-1521",null,null,null,null,null,{"$f":"HYPERLINK(\"#'Client Details'!$B$1\",\"Details\")","v":"Details"},{"$f":"HYPERLINK(Options!$B$1, \"Quote\")","v":"Quote"},{"$f":"HYPERLINK(Options!$B$2,\"Fax\")","v":"Fax"}]
["Owen-Ames-Kimball Co. (Stevenson)","Brad Stevenson","(616) 456-1521","bstevens@owen-ames-kimball.com","Project Manager","Contractor General","Kent",null,{"$f":"HYPERLINK(\"#'Client Details'!$B$1\",\"Details\")","v":"Details"},{"$f":"HYPERLINK(Options!$B$1, \"Quote\")","v":"Quote"},{"$f":"HYPERLINK(Options!$B$2,\"Fax\")","v":"Fax"}]
["Owosso DPW, City of","Mark Sedlak","989-723-4256",null,null,null,null,null,{"$f":"HYPERLINK(\"#'Client Details'!$B$1\",\"Details\")","v":"Details"},{"$f":"HYPERLINK(Options!$B$1, \"Quote\")","v":"Quote"},{"$f":"HYPERLINK(Options!$B$2,\"Fax\")","v":"Fax"}]
["Owosso DPW, City of (Sedlak)","Mark Sedlak"," 989-723-4256",null,"Superintendent","Municipal, Cty","Owosso",null,{"$f":"HYPERLINK(\"#'Client Details'!$B$1\",\"Details\")","v":"Details"},{"$f":"HYPERLINK(Options!$B$1, \"Quote\")","v":"Quote"},{"$f":"HYPERLINK(Options!$B$2,\"Fax\")","v":"Fax"}]
["Owosso Fire Department, City of (Fchaufel","Charlie Fchaufele"," 989-725-0592",null,"Deputy Chief","Fire Department","Owosso",null,{"$f":"HYPERLINK(\"#'Client Details'!$B$1\",\"Details\")","v":"Details"},{"$f":"HYPERLINK(Options!$B$1, \"Quote\")","v":"Quote"},{"$f":"HYPERLINK(Options!$B$2,\"Fax\")","v":"Fax"}]
["P & H Morris Material Handling","Joel Flatt","586-774-9686 x-13",null,null,null,null,null,{"$f":"HYPERLINK(\"#'Client Details'!$B$1\",\"Details\")","v":"Details"},{"$f":"HYPERLINK(Options!$B$1, \"Quote\")","v":"Quote"},{"$f":"HYPERLINK(Options!$B$2,\"Fax\")","v":"Fax"}]
["P & K Steel Service Inc.","Ron Paridee","616-243-2358",null,null,null,null,null,{"$f":"HYPERLINK(\"#'Client Details'!$B$1\",\"Details\")","v":"Details"},{"$f":"HYPERLINK(Options!$B$1, \"Quote\")","v":"Quote"},{"$f":"HYPERLINK(Options!$B$2,\"Fax\")","v":"Fax"}]
["P & K Steel Service, Inc. (Paridee)","Ron Paridee"," 616-243-2358","ronp@pandksteel.com",null,"Steel","Kent",null,{"$f":"HYPERLINK(\"#'Client Details'!$B$1\",\"Details\")","v":"Details"},{"$f":"HYPERLINK(Options!$B$1, \"Quote\")","v":"Quote"},{"$f":"HYPERLINK(Options!$B$2,\"Fax\")","v":"Fax"}]
["P S Doors (Thorsen)","Dean Thorsen"," 701-746-4519","dthorsen@prtel.com",null,"Supplier","N/A",null,{"$f":"HYPERLINK(\"#'Client Details'!$B$1\",\"Details\")","v":"Details"},{"$f":"HYPERLINK(Options!$B$1, \"Quote\")","v":"Quote"},{"$f":"HYPERLINK(Options!$B$2,\"Fax\")","v":"Fax"}]
["P.S.C Industrial Services (Parker PA)","James Gamble","724-399-2983",null,null,null,null,null,{"$f":"HYPERLINK(\"#'Client Details'!$B$1\",\"Details\")","v":"Details"},{"$f":"HYPERLINK(Options!$B$1, \"Quote\")","v":"Quote"},{"$f":"HYPERLINK(Options!$B$2,\"Fax\")","v":"Fax"}]
["P.S.C. (Trenton MI)","Brenda Bobruk","734-362-8091",null,null,null,null,null,{"$f":"HYPERLINK(\"#'Client Details'!$B$1\",\"Details\")","v":"Details"},{"$f":"HYPERLINK(Options!$B$1, \"Quote\")","v":"Quote"},{"$f":"HYPERLINK(Options!$B$2,\"Fax\")","v":"Fax"}]
["P.S.C. Container Services - (Cincinnati)","Steve Shook","513-554-1604 x5",null,null,null,null,null,{"$f":"HYPERLINK(\"#'Client Details'!$B$1\",\"Details\")","v":"Details"},{"$f":"HYPERLINK(Options!$B$1, \"Quote\")","v":"Quote"},{"$f":"HYPERLINK(Options!$B$2,\"Fax\")","v":"Fax"}]
["P.S.C. Container Services (Wallbridge)","Dan Doyle","419-666-2317","ddoyle@pscnow.com",null,null,null,null,{"$f":"HYPERLINK(\"#'Client Details'!$B$1\",\"Details\")","v":"Details"},{"$f":"HYPERLINK(Options!$B$1, \"Quote\")","v":"Quote"},{"$f":"HYPERLINK(Options!$B$2,\"Fax\")","v":"Fax"}]
["P.S.C. Industrial Services (Englewood CO)","Mike Wolford","303-321-9047",null,null,null,null,null,{"$f":"HYPERLINK(\"#'Client Details'!$B$1\",\"Details\")","v":"Details"},{"$f":"HYPERLINK(Options!$B$1, \"Quote\")","v":"Quote"},{"$f":"HYPERLINK(Options!$B$2,\"Fax\")","v":"Fax"}]
["P.S.C. Industrial Svc (Monroe)",null,"734-384-9200",null,null,null,null,null,{"$f":"HYPERLINK(\"#'Client Details'!$B$1\",\"Details\")","v":"Details"},{"$f":"HYPERLINK(Options!$B$1, \"Quote\")","v":"Quote"},{"$f":"HYPERLINK(Options!$B$2,\"Fax\")","v":"Fax"}]
["Pacific Atlantic Terminals (Cameron)","Bill Cameron"," 215-492-8000",null,null,"Petroleum Related","Out of State",null,{"$f":"HYPERLINK(\"#'Client Details'!$B$1\",\"Details\")","v":"Details"},{"$f":"HYPERLINK(Options!$B$1, \"Quote\")","v":"Quote"},{"$f":"HYPERLINK(Options!$B$2,\"Fax\")","v":"Fax"}]
["Pacific Cleaning Systems (Paterra)","Rhonda Paterra"," 231-767-7017","Rhonda.Paterra@pacificfloorcare.com","Manufacturing Manager","Industrial Hygiene","Muskegon",null,{"$f":"HYPERLINK(\"#'Client Details'!$B$1\",\"Details\")","v":"Details"},{"$f":"HYPERLINK(Options!$B$1, \"Quote\")","v":"Quote"},{"$f":"HYPERLINK(Options!$B$2,\"Fax\")","v":"Fax"}]
["Packaging Corporation of America (Carpent","Keith Carpenter"," 231-723-3552 149","jkcarpenter@packagingcorp.com","Safety & Health Specialist","Paper","Manistee",null,{"$f":"HYPERLINK(\"#'Client Details'!$B$1\",\"Details\")","v":"Details"},{"$f":"HYPERLINK(Options!$B$1, \"Quote\")","v":"Quote"},{"$f":"HYPERLINK(Options!$B$2,\"Fax\")","v":"Fax"}]
["Pactiv Corporation (Lindholm)","Roeanna Lindholm"," 219-733-2515","rlindholm@pactiv.com",null,"Manufacturer","Out of State",null,{"$f":"HYPERLINK(\"#'Client Details'!$B$1\",\"Details\")","v":"Details"},{"$f":"HYPERLINK(Options!$B$1, \"Quote\")","v":"Quote"},{"$f":"HYPERLINK(Options!$B$2,\"Fax\")","v":"Fax"}]
["Padnos (Ludington)","Karl Marcusse","231-846-0059",null,null,null,null,null,{"$f":"HYPERLINK(\"#'Client Details'!$B$1\",\"Details\")","v":"Details"},{"$f":"HYPERLINK(Options!$B$1, \"Quote\")","v":"Quote"},{"$f":"HYPERLINK(Options!$B$2,\"Fax\")","v":"Fax"}]
["Padnos, Inc. (Laven)","Bryan Laven"," 616-396-6521","bryan.laven@padnos.com","EH&S","Recycling Scrap Metal","Ottawa",null,{"$f":"HYPERLINK(\"#'Client Details'!$B$1\",\"Details\")","v":"Details"},{"$f":"HYPERLINK(Options!$B$1, \"Quote\")","v":"Quote"},{"$f":"HYPERLINK(Options!$B$2,\"Fax\")","v":"Fax"}]
["Palma Mechanical Insulations",null,null,null,null,null,null,null,{"$f":"HYPERLINK(\"#'Client Details'!$B$1\",\"Details\")","v":"Details"},{"$f":"HYPERLINK(Options!$B$1, \"Quote\")","v":"Quote"},{"$f":"HYPERLINK(Options!$B$2,\"Fax\")","v":"Fax"}]
["Pandora Manufacturing","Carolyn Ruhe","419-384-3241",null,null,null,null,null,{"$f":"HYPERLINK(\"#'Client Details'!$B$1\",\"Details\")","v":"Details"},{"$f":"HYPERLINK(Options!$B$1, \"Quote\")","v":"Quote"},{"$f":"HYPERLINK(Options!$B$2,\"Fax\")","v":"Fax"}]
["Panel Processing","Stacy or Charles Smith","800-433-7142",null,null,null,null,null,{"$f":"HYPERLINK(\"#'Client Details'!$B$1\",\"Details\")","v":"Details"},{"$f":"HYPERLINK(Options!$B$1, \"Quote\")","v":"Quote"},{"$f":"HYPERLINK(Options!$B$2,\"Fax\")","v":"Fax"}]
["Panel Processing (Indiana)","Dick Pokorny","219-736-0330","rpilorny@panel.com",null,null,null,null,{"$f":"HYPERLINK(\"#'Client Details'!$B$1\",\"Details\")","v":"Details"},{"$f":"HYPERLINK(Options!$B$1, \"Quote\")","v":"Quote"},{"$f":"HYPERLINK(Options!$B$2,\"Fax\")","v":"Fax"}]
["Panel Processing Inc. (Boyk)","Chris Boyk"," 989-356-9007","cboyk@panel.com","Project Engineer","Manufacturer","Alpena",null,{"$f":"HYPERLINK(\"#'Client Details'!$B$1\",\"Details\")","v":"Details"},{"$f":"HYPERLINK(Options!$B$1, \"Quote\")","v":"Quote"},{"$f":"HYPERLINK(Options!$B$2,\"Fax\")","v":"Fax"}]
["Panhandle Eastern Pipeline (Cummins)","Joseph Cummins"," 517-546-4770","joseph.cummins@sug.com",null,"Petroleum Related","Livingston",null,{"$f":"HYPERLINK(\"#'Client Details'!$B$1\",\"Details\")","v":"Details"},{"$f":"HYPERLINK(Options!$B$1, \"Quote\")","v":"Quote"},{"$f":"HYPERLINK(Options!$B$2,\"Fax\")","v":"Fax"}]
["Paramount Tool Co. Inc. (Phillips)","Kevin Phillips"," 269-857-1411","see card","EH&S","Tooling","Allegan",null,{"$f":"HYPERLINK(\"#'Client Details'!$B$1\",\"Details\")","v":"Details"},{"$f":"HYPERLINK(Options!$B$1, \"Quote\")","v":"Quote"},{"$f":"HYPERLINK(Options!$B$2,\"Fax\")","v":"Fax"}]
["Parish Construction Company (Wurdock)","Joe Wurdock"," 517-393-9511","jwurdockfsudog@sbcglobal.net",null,"Contractor General","Ingham",null,{"$f":"HYPERLINK(\"#'Client Details'!$B$1\",\"Details\")","v":"Details"},{"$f":"HYPERLINK(Options!$B$1, \"Quote\")","v":"Quote"},{"$f":"HYPERLINK(Options!$B$2,\"Fax\")","v":"Fax"}]
["Parkway Electric & Communications",null,"616-392-2788","nicole.goldberg@parkwayelectric.com",null,null,null,null,{"$f":"HYPERLINK(\"#'Client Details'!$B$1\",\"Details\")","v":"Details"},{"$f":"HYPERLINK(Options!$B$1, \"Quote\")","v":"Quote"},{"$f":"HYPERLINK(Options!$B$2,\"Fax\")","v":"Fax"}]
["Parkway Electric & Communications (Bulthu","Paul Bulthuis"," 616-392-2788 1150","paul.bulthuis@parkwayelectric.com","Safety Manager","Contractor Electrical","Ottawa",null,{"$f":"HYPERLINK(\"#'Client Details'!$B$1\",\"Details\")","v":"Details"},{"$f":"HYPERLINK(Options!$B$1, \"Quote\")","v":"Quote"},{"$f":"HYPERLINK(Options!$B$2,\"Fax\")","v":"Fax"}]
["Parkway Electric & Communications (Martin","Brian Martinie"," 616-392-2788","brian.martinie@parkwayelectric.com",null,"Contractor Electrical","Ottawa",null,{"$f":"HYPERLINK(\"#'Client Details'!$B$1\",\"Details\")","v":"Details"},{"$f":"HYPERLINK(Options!$B$1, \"Quote\")","v":"Quote"},{"$f":"HYPERLINK(Options!$B$2,\"Fax\")","v":"Fax"}]
["Parkway Electric & Communications (Vander","Ken VanderKamp"," 616-392-2788 1117","ken.vanderkamp@parkwayelectric.com",null,"Contractor Electrical","Ottawa",null,{"$f":"HYPERLINK(\"#'Client Details'!$B$1\",\"Details\")","v":"Details"},{"$f":"HYPERLINK(Options!$B$1, \"Quote\")","v":"Quote"},{"$f":"HYPERLINK(Options!$B$2,\"Fax\")","v":"Fax"}]
["Parsons","Craig Butler","315.451-9560","craig.butler@parsons.com",null,null,null,null,{"$f":"HYPERLINK(\"#'Client Details'!$B$1\",\"Details\")","v":"Details"},{"$f":"HYPERLINK(Options!$B$1, \"Quote\")","v":"Quote"},{"$f":"HYPERLINK(Options!$B$2,\"Fax\")","v":"Fax"}]
["Parsons Brinckerhoff",null,null,"finnk@pbworld.com",null,null,null,null,{"$f":"HYPERLINK(\"#'Client Details'!$B$1\",\"Details\")","v":"Details"},{"$f":"HYPERLINK(Options!$B$1, \"Quote\")","v":"Quote"},{"$f":"HYPERLINK(Options!$B$2,\"Fax\")","v":"Fax"}]
["Paul Schultz Trucking & Excavating, Inc.","Paul Schultz"," 231-865-3235",null,"Co-Owner","Excavating","Muskegon",null,{"$f":"HYPERLINK(\"#'Client Details'!$B$1\",\"Details\")","v":"Details"},{"$f":"HYPERLINK(Options!$B$1, \"Quote\")","v":"Quote"},{"$f":"HYPERLINK(Options!$B$2,\"Fax\")","v":"Fax"}]
["Paul Schultz Trucking & Excavating, Inc.","Paul Schultz"," 231-865-3235",null,"Co-Owner","Excavating","Muskegon",null,{"$f":"HYPERLINK(\"#'Client Details'!$B$1\",\"Details\")","v":"Details"},{"$f":"HYPERLINK(Options!$B$1, \"Quote\")","v":"Quote"},{"$f":"HYPERLINK(Options!$B$2,\"Fax\")","v":"Fax"}]
["Paul Schultz Trucking & Excavating, Inc.","Paul Schultz"," 231-865-3235",null,"Co-Owner","Excavating","Muskegon",null,{"$f":"HYPERLINK(\"#'Client Details'!$B$1\",\"Details\")","v":"Details"},{"$f":"HYPERLINK(Options!$B$1, \"Quote\")","v":"Quote"},{"$f":"HYPERLINK(Options!$B$2,\"Fax\")","v":"Fax"}]
["Paw Paw, City of (Nielsen)","Larry Nielsen"," 269-657-3148","l.nielsen@pawpaw.net","Village Manager","Municipal, Cty","Van Buren",null,{"$f":"HYPERLINK(\"#'Client Details'!$B$1\",\"Details\")","v":"Details"},{"$f":"HYPERLINK(Options!$B$1, \"Quote\")","v":"Quote"},{"$f":"HYPERLINK(Options!$B$2,\"Fax\")","v":"Fax"}]
["PBM Nutritionals","Steve Frazier","937-473-2050 x235",null,null,null,null,null,{"$f":"HYPERLINK(\"#'Client Details'!$B$1\",\"Details\")","v":"Details"},{"$f":"HYPERLINK(Options!$B$1, \"Quote\")","v":"Quote"},{"$f":"HYPERLINK(Options!$B$2,\"Fax\")","v":"Fax"}]
["PCL Construction Services, Inc.","Trace Selly","952-882-9600",null,null,null,null,null,{"$f":"HYPERLINK(\"#'Client Details'!$B$1\",\"Details\")","v":"Details"},{"$f":"HYPERLINK(Options!$B$1, \"Quote\")","v":"Quote"},{"$f":"HYPERLINK(Options!$B$2,\"Fax\")","v":"Fax"}]
["PCL Procedure (Pool Construction Limited)","Trace (His C.C. corporate)","952-882-2529","231-534-8501 fx Jack",null,null,null,null,{"$f":"HYPERLINK(\"#'Client Details'!$B$1\",\"Details\")","v":"Details"},{"$f":"HYPERLINK(Options!$B$1, \"Quote\")","v":"Quote"},{"$f":"HYPERLINK(Options!$B$2,\"Fax\")","v":"Fax"}]
["PCS Nitrogen Augusta","Mitch Vizzari","706-849-6190",null,null,null,null,null,{"$f":"HYPERLINK(\"#'Client Details'!$B$1\",\"Details\")","v":"Details"},{"$f":"HYPERLINK(Options!$B$1, \"Quote\")","v":"Quote"},{"$f":"HYPERLINK(Options!$B$2,\"Fax\")","v":"Fax"}]
["PCS Nitrogen Augusta (Horne)","John Horne"," 706-826-6623","john.horne@potashcorp.com",null,"Chemical Pharmaceutical","Out of State",null,{"$f":"HYPERLINK(\"#'Client Details'!$B$1\",\"Details\")","v":"Details"},{"$f":"HYPERLINK(Options!$B$1, \"Quote\")","v":"Quote"},{"$f":"HYPERLINK(Options!$B$2,\"Fax\")","v":"Fax"}]
["PCS Nitrogen Augusta (Vizzari)","Mitch Vizzari"," 706-826-6636","mitch.vizzari@pcsnitrogen.com",null,"Chemical Pharmaceutical","Out of State",null,{"$f":"HYPERLINK(\"#'Client Details'!$B$1\",\"Details\")","v":"Details"},{"$f":"HYPERLINK(Options!$B$1, \"Quote\")","v":"Quote"},{"$f":"HYPERLINK(Options!$B$2,\"Fax\")","v":"Fax"}]
["Pearson Construction Company (Pearson)","Burt Pearson"," 269-926-7281",null,"Owner","Contractor EH&S","Oceana",null,{"$f":"HYPERLINK(\"#'Client Details'!$B$1\",\"Details\")","v":"Details"},{"$f":"HYPERLINK(Options!$B$1, \"Quote\")","v":"Quote"},{"$f":"HYPERLINK(Options!$B$2,\"Fax\")","v":"Fax"}]
["Peartree Medical Clinic (Warner)","Anthony Warner"," 586-991-0903","drwarner@peartreemedicalclinic.com",null,"Supplier","Oakland",null,{"$f":"HYPERLINK(\"#'Client Details'!$B$1\",\"Details\")","v":"Details"},{"$f":"HYPERLINK(Options!$B$1, \"Quote\")","v":"Quote"},{"$f":"HYPERLINK(Options!$B$2,\"Fax\")","v":"Fax"}]
["Peninsula Copper, Inc. (Thelemann)","Caitlin Thelemann"," 906-296-9918","cathelem@mtu.edu","Intern","Chemical Pharmaceutical","Houghton",null,{"$f":"HYPERLINK(\"#'Client Details'!$B$1\",\"Details\")","v":"Details"},{"$f":"HYPERLINK(Options!$B$1, \"Quote\")","v":"Quote"},{"$f":"HYPERLINK(Options!$B$2,\"Fax\")","v":"Fax"}]
["Peninsula Fabrication, Inc. (Jordan)","Nate Jordan"," 517-524-7202 21","nate@penfabinc.com",null,"Contractor General","Out of State",null,{"$f":"HYPERLINK(\"#'Client Details'!$B$1\",\"Details\")","v":"Details"},{"$f":"HYPERLINK(Options!$B$1, \"Quote\")","v":"Quote"},{"$f":"HYPERLINK(Options!$B$2,\"Fax\")","v":"Fax"}]
["Peninsula Fire Protection, Inc.",null,"616-454-0545",null,null,null,null,null,{"$f":"HYPERLINK(\"#'Client Details'!$B$1\",\"Details\")","v":"Details"},{"$f":"HYPERLINK(Options!$B$1, \"Quote\")","v":"Quote"},{"$f":"HYPERLINK(Options!$B$2,\"Fax\")","v":"Fax"}]
["Penn Environmental & Remediation","Andrea (Boss-Scott Blauvelt)","724-934-3530",null,null,null,null,null,{"$f":"HYPERLINK(\"#'Client Details'!$B$1\",\"Details\")","v":"Details"},{"$f":"HYPERLINK(Options!$B$1, \"Quote\")","v":"Quote"},{"$f":"HYPERLINK(Options!$B$2,\"Fax\")","v":"Fax"}]
["Pennsylvania Tool Sales & Service","Brian Maguire","734-973-0004",null,null,null,null,null,{"$f":"HYPERLINK(\"#'Client Details'!$B$1\",\"Details\")","v":"Details"},{"$f":"HYPERLINK(Options!$B$1, \"Quote\")","v":"Quote"},{"$f":"HYPERLINK(Options!$B$2,\"Fax\")","v":"Fax"}]
["Pentwater DPW ( -)"," -"," 231-869-4327",null," -","Municipal, Cty","Mason",null,{"$f":"HYPERLINK(\"#'Client Details'!$B$1\",\"Details\")","v":"Details"},{"$f":"HYPERLINK(Options!$B$1, \"Quote\")","v":"Quote"},{"$f":"HYPERLINK(Options!$B$2,\"Fax\")","v":"Fax"}]
["Pepper Construction","Adam Sandefur - Chicago","Adam - 312-266-4700",null,null,null,null,null,{"$f":"HYPERLINK(\"#'Client Details'!$B$1\",\"Details\")","v":"Details"},{"$f":"HYPERLINK(Options!$B$1, \"Quote\")","v":"Quote"},{"$f":"HYPERLINK(Options!$B$2,\"Fax\")","v":"Fax"}]
["Pepper Construction (Flentge)","Paul Flentge"," 312-266-4700","pflentge@pepperconstruction.com","Safety Director","Contractor General","Out of State",null,{"$f":"HYPERLINK(\"#'Client Details'!$B$1\",\"Details\")","v":"Details"},{"$f":"HYPERLINK(Options!$B$1, \"Quote\")","v":"Quote"},{"$f":"HYPERLINK(Options!$B$2,\"Fax\")","v":"Fax"}]
["Pere Marquette Charter Township","Andy Katz","231-845-7640",null,null,null,null,null,{"$f":"HYPERLINK(\"#'Client Details'!$B$1\",\"Details\")","v":"Details"},{"$f":"HYPERLINK(Options!$B$1, \"Quote\")","v":"Quote"},{"$f":"HYPERLINK(Options!$B$2,\"Fax\")","v":"Fax"}]
["Pere Marquette Charter Township (Katz)","Andy Katz"," 231-845-7640",null,null,"Municipal, Cty","Mason",null,{"$f":"HYPERLINK(\"#'Client Details'!$B$1\",\"Details\")","v":"Details"},{"$f":"HYPERLINK(Options!$B$1, \"Quote\")","v":"Quote"},{"$f":"HYPERLINK(Options!$B$2,\"Fax\")","v":"Fax"}]
["Pere Marquette Charter Township (Larr)","Andy Larr"," 231-845-7640","dpw@pmtwp.org","Supervisor",null,"Mason",null,{"$f":"HYPERLINK(\"#'Client Details'!$B$1\",\"Details\")","v":"Details"},{"$f":"HYPERLINK(Options!$B$1, \"Quote\")","v":"Quote"},{"$f":"HYPERLINK(Options!$B$2,\"Fax\")","v":"Fax"}]
["Pere Marquette Shipping Co. ( -)"," -"," 231-845-7846",null,null,"Shipping","Mason",null,{"$f":"HYPERLINK(\"#'Client Details'!$B$1\",\"Details\")","v":"Details"},{"$f":"HYPERLINK(Options!$B$1, \"Quote\")","v":"Quote"},{"$f":"HYPERLINK(Options!$B$2,\"Fax\")","v":"Fax"}]
["Perrigo Co. (Brady)","Robin Hays","269-673-7599",null,null,null,null,null,{"$f":"HYPERLINK(\"#'Client Details'!$B$1\",\"Details\")","v":"Details"},{"$f":"HYPERLINK(Options!$B$1, \"Quote\")","v":"Quote"},{"$f":"HYPERLINK(Options!$B$2,\"Fax\")","v":"Fax"}]
["Perrigo Company",null,"269-673-8451",null,null,null,null,null,{"$f":"HYPERLINK(\"#'Client Details'!$B$1\",\"Details\")","v":"Details"},{"$f":"HYPERLINK(Options!$B$1, \"Quote\")","v":"Quote"},{"$f":"HYPERLINK(Options!$B$2,\"Fax\")","v":"Fax"}]
["Perrigo Company (Hoover)","Sandra Hoover"," 269-673-1242","sandra.hoover@perrigo.com","Calibration Scheduler","Chemical Pharmaceutical","Allegan",null,{"$f":"HYPERLINK(\"#'Client Details'!$B$1\",\"Details\")","v":"Details"},{"$f":"HYPERLINK(Options!$B$1, \"Quote\")","v":"Quote"},{"$f":"HYPERLINK(Options!$B$2,\"Fax\")","v":"Fax"}]
["Perrigo Company (Lackey)","Bill Lackey"," 269-673-8451 339375","blackey@perrigo.com","EH&S Manager","Chemical Pharmaceutical","Allegan",null,{"$f":"HYPERLINK(\"#'Client Details'!$B$1\",\"Details\")","v":"Details"},{"$f":"HYPERLINK(Options!$B$1, \"Quote\")","v":"Quote"},{"$f":"HYPERLINK(Options!$B$2,\"Fax\")","v":"Fax"}]
["Perrigo Company (Munoz)","Mike Munoz"," 718-960-9900","lmmunoz@perrigo.com","New York Contact","Chemical Pharmaceutical","Out of State",null,{"$f":"HYPERLINK(\"#'Client Details'!$B$1\",\"Details\")","v":"Details"},{"$f":"HYPERLINK(Options!$B$1, \"Quote\")","v":"Quote"},{"$f":"HYPERLINK(Options!$B$2,\"Fax\")","v":"Fax"}]
["Perrigo Company (Murgittroyd)","Rosy Murgittroyd"," 269-673-9373  33-937","rosy.murgittroyd@perrigo.com","Sourcing Manager","Chemical Pharmaceutical","Allegan",null,{"$f":"HYPERLINK(\"#'Client Details'!$B$1\",\"Details\")","v":"Details"},{"$f":"HYPERLINK(Options!$B$1, \"Quote\")","v":"Quote"},{"$f":"HYPERLINK(Options!$B$2,\"Fax\")","v":"Fax"}]
["Perrigo Company (Olsen)","Troy Olsen"," 269-686-1608","troy.olsen@perrigo.com",null,"Chemical Pharmaceutical","Allegan",null,{"$f":"HYPERLINK(\"#'Client Details'!$B$1\",\"Details\")","v":"Details"},{"$f":"HYPERLINK(Options!$B$1, \"Quote\")","v":"Quote"},{"$f":"HYPERLINK(Options!$B$2,\"Fax\")","v":"Fax"}]
["Perrigo Company (Owsiany)","Walt Owsiany"," 269-673-9329","wowsiany@perrigo.com",null,"Chemical Pharmaceutical","Allegan",null,{"$f":"HYPERLINK(\"#'Client Details'!$B$1\",\"Details\")","v":"Details"},{"$f":"HYPERLINK(Options!$B$1, \"Quote\")","v":"Quote"},{"$f":"HYPERLINK(Options!$B$2,\"Fax\")","v":"Fax"}]
["Perrigo Company (Powell)","Mark E. C. Powell"," 269-673-1242","mpowell@perrigo.com","Calibration Scheduler","Chemical Pharmaceutical","Allegan",null,{"$f":"HYPERLINK(\"#'Client Details'!$B$1\",\"Details\")","v":"Details"},{"$f":"HYPERLINK(Options!$B$1, \"Quote\")","v":"Quote"},{"$f":"HYPERLINK(Options!$B$2,\"Fax\")","v":"Fax"}]
["Perrigo Company (Renkoski)","Tami Renkoski"," 269-673-9795","tarenkoski@perrigo.com","Industrial Hygienist","Chemical Pharmaceutical","Allegan",null,{"$f":"HYPERLINK(\"#'Client Details'!$B$1\",\"Details\")","v":"Details"},{"$f":"HYPERLINK(Options!$B$1, \"Quote\")","v":"Quote"},{"$f":"HYPERLINK(Options!$B$2,\"Fax\")","v":"Fax"}]
["Perrigo Company (Rudnicki)","Roman Rudnicki"," 269-686-1654 3375","rrudnick@perrigo.com","Water Systems Engineer","Chemical Pharmaceutical","Allegan",null,{"$f":"HYPERLINK(\"#'Client Details'!$B$1\",\"Details\")","v":"Details"},{"$f":"HYPERLINK(Options!$B$1, \"Quote\")","v":"Quote"},{"$f":"HYPERLINK(Options!$B$2,\"Fax\")","v":"Fax"}]
["Perrigo Company (Schrepper)","Pat Schrepper"," 269-673-1242",null,"Calibration Scheduler","Chemical Pharmaceutical","Allegan",null,{"$f":"HYPERLINK(\"#'Client Details'!$B$1\",\"Details\")","v":"Details"},{"$f":"HYPERLINK(Options!$B$1, \"Quote\")","v":"Quote"},{"$f":"HYPERLINK(Options!$B$2,\"Fax\")","v":"Fax"}]
["Perrigo Company (Tate)","Nathan Tate"," 269-673-8451 333713","Nathan.Tate@perrigo.com","Engineer Intern","Chemical Pharmaceutical","Allegan",null,{"$f":"HYPERLINK(\"#'Client Details'!$B$1\",\"Details\")","v":"Details"},{"$f":"HYPERLINK(Options!$B$1, \"Quote\")","v":"Quote"},{"$f":"HYPERLINK(Options!$B$2,\"Fax\")","v":"Fax"}]
["Peters Construction",null,null,null,null,null,null,null,{"$f":"HYPERLINK(\"#'Client Details'!$B$1\",\"Details\")","v":"Details"},{"$f":"HYPERLINK(Options!$B$1, \"Quote\")","v":"Quote"},{"$f":"HYPERLINK(Options!$B$2,\"Fax\")","v":"Fax"}]
["Peters Construction Company (Sandusky)","Jason Sandusky"," 269-345-1145 13","jsandusky@petersconstruct.com","Superintendent","Contractor General","Kalamazoo",null,{"$f":"HYPERLINK(\"#'Client Details'!$B$1\",\"Details\")","v":"Details"},{"$f":"HYPERLINK(Options!$B$1, \"Quote\")","v":"Quote"},{"$f":"HYPERLINK(Options!$B$2,\"Fax\")","v":"Fax"}]
["Peterson Farms (Moul)","Cal Moul"," 231-861-6333",null,"Safety Director","Fruit Processor","Oceana",null,{"$f":"HYPERLINK(\"#'Client Details'!$B$1\",\"Details\")","v":"Details"},{"$f":"HYPERLINK(Options!$B$1, \"Quote\")","v":"Quote"},{"$f":"HYPERLINK(Options!$B$2,\"Fax\")","v":"Fax"}]
["Peterson Ind. Scaffolding",null,null,null,null,null,null,null,{"$f":"HYPERLINK(\"#'Client Details'!$B$1\",\"Details\")","v":"Details"},{"$f":"HYPERLINK(Options!$B$1, \"Quote\")","v":"Quote"},{"$f":"HYPERLINK(Options!$B$2,\"Fax\")","v":"Fax"}]
["Peterson Spring","Ron Lynch","248-616-3380","ronl@pspring.com",null,null,null,null,{"$f":"HYPERLINK(\"#'Client Details'!$B$1\",\"Details\")","v":"Details"},{"$f":"HYPERLINK(Options!$B$1, \"Quote\")","v":"Quote"},{"$f":"HYPERLINK(Options!$B$2,\"Fax\")","v":"Fax"}]
["Peterson Spring Troy (Lynch)","Ron Lynch"," 248-307-2980",null,"Maintenance Manager","Manufacturer","Oakland",null,{"$f":"HYPERLINK(\"#'Client Details'!$B$1\",\"Details\")","v":"Details"},{"$f":"HYPERLINK(Options!$B$1, \"Quote\")","v":"Quote"},{"$f":"HYPERLINK(Options!$B$2,\"Fax\")","v":"Fax"}]
["Pfeiffer Lincoln Mercury Inc. (VanLierop)","Jim VanLierop"," 616-285-2054",null,null,"Supplier","Kent",null,{"$f":"HYPERLINK(\"#'Client Details'!$B$1\",\"Details\")","v":"Details"},{"$f":"HYPERLINK(Options!$B$1, \"Quote\")","v":"Quote"},{"$f":"HYPERLINK(Options!$B$2,\"Fax\")","v":"Fax"}]
["Pfizer (Argentina)",null,null,null,null,null,null,null,{"$f":"HYPERLINK(\"#'Client Details'!$B$1\",\"Details\")","v":"Details"},{"$f":"HYPERLINK(Options!$B$1, \"Quote\")","v":"Quote"},{"$f":"HYPERLINK(Options!$B$2,\"Fax\")","v":"Fax"}]
["Pfizer (Bruckner Supply Co., Inc.)","Jennifer Chen","516-484-6070","Invoices@BrucknerSupply.com",null,null,null,null,{"$f":"HYPERLINK(\"#'Client Details'!$B$1\",\"Details\")","v":"Details"},{"$f":"HYPERLINK(Options!$B$1, \"Quote\")","v":"Quote"},{"$f":"HYPERLINK(Options!$B$2,\"Fax\")","v":"Fax"}]
["Pfizer (Kalamazoo) DON'T USE!!!!!!!","Mike Dupuis","269-833-4839",null,null,null,null,null,{"$f":"HYPERLINK(\"#'Client Details'!$B$1\",\"Details\")","v":"Details"},{"$f":"HYPERLINK(Options!$B$1, \"Quote\")","v":"Quote"},{"$f":"HYPERLINK(Options!$B$2,\"Fax\")","v":"Fax"}]
["Pfizer / CM Resources, Inc. (Jackson)","Mark Jackson"," 269-833-6763","mark.s.jackson@pfizer.com","Construction Manager","Chemical Pharmaceutical","Kalamazoo",null,{"$f":"HYPERLINK(\"#'Client Details'!$B$1\",\"Details\")","v":"Details"},{"$f":"HYPERLINK(Options!$B$1, \"Quote\")","v":"Quote"},{"$f":"HYPERLINK(Options!$B$2,\"Fax\")","v":"Fax"}]
["Pfizer / CM Resources, Inc. (Ledbetter)","Doug Ledbetter"," 269-833-1460","doug.ledbetter@pfizer.com","Field Engineer","Chemical Pharmaceutical","Kalamazoo",null,{"$f":"HYPERLINK(\"#'Client Details'!$B$1\",\"Details\")","v":"Details"},{"$f":"HYPERLINK(Options!$B$1, \"Quote\")","v":"Quote"},{"$f":"HYPERLINK(Options!$B$2,\"Fax\")","v":"Fax"}]
["Pfizer / CM Resources, Inc. (Mazo)","Tasha Mazo"," 269-833-5223","tasha-cons.l.mazo@pfizer.com",null,"Chemical Pharmaceutical","Kalamazoo",null,{"$f":"HYPERLINK(\"#'Client Details'!$B$1\",\"Details\")","v":"Details"},{"$f":"HYPERLINK(Options!$B$1, \"Quote\")","v":"Quote"},{"$f":"HYPERLINK(Options!$B$2,\"Fax\")","v":"Fax"}]
["Pfizer / CM Resources, Inc. (Stover)","Don Stover"," 269-833-8187",null,"Field Engineer","Chemical Pharmaceutical","Kalamazoo",null,{"$f":"HYPERLINK(\"#'Client Details'!$B$1\",\"Details\")","v":"Details"},{"$f":"HYPERLINK(Options!$B$1, \"Quote\")","v":"Quote"},{"$f":"HYPERLINK(Options!$B$2,\"Fax\")","v":"Fax"}]
["Pfizer / Earthtech (Carroll)","Edward Carroll"," 269-833-3827",null,"Automation & Controls Engineer","Chemical Pharmaceutical","Kalamazoo",null,{"$f":"HYPERLINK(\"#'Client Details'!$B$1\",\"Details\")","v":"Details"},{"$f":"HYPERLINK(Options!$B$1, \"Quote\")","v":"Quote"},{"$f":"HYPERLINK(Options!$B$2,\"Fax\")","v":"Fax"}]
["Pfizer / Earthtech (Muka)","Scott Muka"," 269-833-0212","scott.l.muka@pfizer.com","Structural Engineer","Chemical Pharmaceutical","Kalamazoo",null,{"$f":"HYPERLINK(\"#'Client Details'!$B$1\",\"Details\")","v":"Details"},{"$f":"HYPERLINK(Options!$B$1, \"Quote\")","v":"Quote"},{"$f":"HYPERLINK(Options!$B$2,\"Fax\")","v":"Fax"}]
["Pfizer / Washington Group International,","David Eaton"," 269-833-0382","david-cons.l.eaton@pfizer.com",null,"Chemical Pharmaceutical","Kalamazoo",null,{"$f":"HYPERLINK(\"#'Client Details'!$B$1\",\"Details\")","v":"Details"},{"$f":"HYPERLINK(Options!$B$1, \"Quote\")","v":"Quote"},{"$f":"HYPERLINK(Options!$B$2,\"Fax\")","v":"Fax"}]
["Pfizer / Washington Group International,","David Eaton"," 269-833-0382","david-cons.l.eaton@pfizer.com",null,"Chemical Pharmaceutical","Kalamazoo",null,{"$f":"HYPERLINK(\"#'Client Details'!$B$1\",\"Details\")","v":"Details"},{"$f":"HYPERLINK(Options!$B$1, \"Quote\")","v":"Quote"},{"$f":"HYPERLINK(Options!$B$2,\"Fax\")","v":"Fax"}]
["Pfizer / Washington Group International,","David Eaton"," 269-833-0382","david-cons.l.eaton@pfizer.com",null,"Chemical Pharmaceutical","Kalamazoo",null,{"$f":"HYPERLINK(\"#'Client Details'!$B$1\",\"Details\")","v":"Details"},{"$f":"HYPERLINK(Options!$B$1, \"Quote\")","v":"Quote"},{"$f":"HYPERLINK(Options!$B$2,\"Fax\")","v":"Fax"}]
["Pfizer Air Shuttle (Coates)","Mark Coates"," 269-833-0747","mark.r.coates@pfizer.com",null,"Chemical Pharmaceutical","Kalamazoo",null,{"$f":"HYPERLINK(\"#'Client Details'!$B$1\",\"Details\")","v":"Details"},{"$f":"HYPERLINK(Options!$B$1, \"Quote\")","v":"Quote"},{"$f":"HYPERLINK(Options!$B$2,\"Fax\")","v":"Fax"}]
["Pfizer Allied (VanZelfden)","Jan Arthur VanZelfden"," 269-833-6668","jan.a.vanzelfden@pfizer.com",null,"Chemical Pharmaceutical","Kalamazoo",null,{"$f":"HYPERLINK(\"#'Client Details'!$B$1\",\"Details\")","v":"Details"},{"$f":"HYPERLINK(Options!$B$1, \"Quote\")","v":"Quote"},{"$f":"HYPERLINK(Options!$B$2,\"Fax\")","v":"Fax"}]
["Pfizer Animal Health (Dziewicki)","Sara Dziewicki"," 269-833-2620","saralee.dziewicki@pfizer.com","Material Controller","Chemical Pharmaceutical","Kalamazoo",null,{"$f":"HYPERLINK(\"#'Client Details'!$B$1\",\"Details\")","v":"Details"},{"$f":"HYPERLINK(Options!$B$1, \"Quote\")","v":"Quote"},{"$f":"HYPERLINK(Options!$B$2,\"Fax\")","v":"Fax"}]
["Pfizer Animal Health (Kievit)","Kelly Kievit"," 269-833-2653","kelly.i.kievit@pfizer.com","Sr. Associate Scientist","Chemical Pharmaceutical","Kalamazoo",null,{"$f":"HYPERLINK(\"#'Client Details'!$B$1\",\"Details\")","v":"Details"},{"$f":"HYPERLINK(Options!$B$1, \"Quote\")","v":"Quote"},{"$f":"HYPERLINK(Options!$B$2,\"Fax\")","v":"Fax"}]
["Pfizer Animal Health (Lemons)","Mark Lemons"," 269-833-9159","mark.e.lemons@pfizer.com","Safety","Chemical Pharmaceutical","Kalamazoo",null,{"$f":"HYPERLINK(\"#'Client Details'!$B$1\",\"Details\")","v":"Details"},{"$f":"HYPERLINK(Options!$B$1, \"Quote\")","v":"Quote"},{"$f":"HYPERLINK(Options!$B$2,\"Fax\")","v":"Fax"}]
["Pfizer Bruckner (Dlamini-Smith)","Dorothy Dlamini-Smith"," 269-833-1418","dorothy.dlamini@pfizer.com",null,"Chemical Pharmaceutical","Kalamazoo",null,{"$f":"HYPERLINK(\"#'Client Details'!$B$1\",\"Details\")","v":"Details"},{"$f":"HYPERLINK(Options!$B$1, \"Quote\")","v":"Quote"},{"$f":"HYPERLINK(Options!$B$2,\"Fax\")","v":"Fax"}]
["Pfizer Bruckner (Jurhs)","Pat Jurhs"," 269-833-4576","pat.s.jurhs@pfizer.com",null,"Chemical Pharmaceutical","Kalamazoo",null,{"$f":"HYPERLINK(\"#'Client Details'!$B$1\",\"Details\")","v":"Details"},{"$f":"HYPERLINK(Options!$B$1, \"Quote\")","v":"Quote"},{"$f":"HYPERLINK(Options!$B$2,\"Fax\")","v":"Fax"}]
["Pfizer Bruckner (Lord)","Phil Lord"," 269-833-9345","philip.lord@pfizer.com",null,"Chemical Pharmaceutical","Kalamazoo",null,{"$f":"HYPERLINK(\"#'Client Details'!$B$1\",\"Details\")","v":"Details"},{"$f":"HYPERLINK(Options!$B$1, \"Quote\")","v":"Quote"},{"$f":"HYPERLINK(Options!$B$2,\"Fax\")","v":"Fax"}]
["Pfizer Bruckner (Meyers)","Joel Meyers"," 269-833-7303","joel.w.meyers@pfizer.com","Customer Service/Buyer","Chemical Pharmaceutical","Kalamazoo",null,{"$f":"HYPERLINK(\"#'Client Details'!$B$1\",\"Details\")","v":"Details"},{"$f":"HYPERLINK(Options!$B$1, \"Quote\")","v":"Quote"},{"$f":"HYPERLINK(Options!$B$2,\"Fax\")","v":"Fax"}]
["Pfizer Bruckner (Payne)","Sandy Payne"," 269-833-6226","sandy.m.payne@pfizer.com",null,"Chemical Pharmaceutical","Kalamazoo",null,{"$f":"HYPERLINK(\"#'Client Details'!$B$1\",\"Details\")","v":"Details"},{"$f":"HYPERLINK(Options!$B$1, \"Quote\")","v":"Quote"},{"$f":"HYPERLINK(Options!$B$2,\"Fax\")","v":"Fax"}]
["Pfizer Cork Ltd. (Little Island)","Gary Crowley","35.32.14.51.02.82",null,null,null,null,null,{"$f":"HYPERLINK(\"#'Client Details'!$B$1\",\"Details\")","v":"Details"},{"$f":"HYPERLINK(Options!$B$1, \"Quote\")","v":"Quote"},{"$f":"HYPERLINK(Options!$B$2,\"Fax\")","v":"Fax"}]
["Pfizer Cork Ltd. (Loughbeg)","Eugene McCarthy","0214974402",null,null,null,null,null,{"$f":"HYPERLINK(\"#'Client Details'!$B$1\",\"Details\")","v":"Details"},{"$f":"HYPERLINK(Options!$B$1, \"Quote\")","v":"Quote"},{"$f":"HYPERLINK(Options!$B$2,\"Fax\")","v":"Fax"}]
["Pfizer Corporate (EH&S)","Marthe Sokoloff","212-733-6374",null,null,null,null,null,{"$f":"HYPERLINK(\"#'Client Details'!$B$1\",\"Details\")","v":"Details"},{"$f":"HYPERLINK(Options!$B$1, \"Quote\")","v":"Quote"},{"$f":"HYPERLINK(Options!$B$2,\"Fax\")","v":"Fax"}]
["Pfizer Inc. (Air Shuttle)","Mark Coates",null,null,null,null,null,null,{"$f":"HYPERLINK(\"#'Client Details'!$B$1\",\"Details\")","v":"Details"},{"$f":"HYPERLINK(Options!$B$1, \"Quote\")","v":"Quote"},{"$f":"HYPERLINK(Options!$B$2,\"Fax\")","v":"Fax"}]
["Pfizer Inc. (Ann Arbor)","Jeffrey Little","860-686-0918",null,null,null,null,null,{"$f":"HYPERLINK(\"#'Client Details'!$B$1\",\"Details\")","v":"Details"},{"$f":"HYPERLINK(Options!$B$1, \"Quote\")","v":"Quote"},{"$f":"HYPERLINK(Options!$B$2,\"Fax\")","v":"Fax"}]
["Pfizer Inc. (Argentina)","Ruth Kozak","54.11.4909.8312",null,null,null,null,null,{"$f":"HYPERLINK(\"#'Client Details'!$B$1\",\"Details\")","v":"Details"},{"$f":"HYPERLINK(Options!$B$1, \"Quote\")","v":"Quote"},{"$f":"HYPERLINK(Options!$B$2,\"Fax\")","v":"Fax"}]
["Pfizer Inc. (Augusta)","Sherolyn Bishop","706-303-5471","sherolyn.g.bishop@pfizer.com",null,null,null,null,{"$f":"HYPERLINK(\"#'Client Details'!$B$1\",\"Details\")","v":"Details"},{"$f":"HYPERLINK(Options!$B$1, \"Quote\")","v":"Quote"},{"$f":"HYPERLINK(Options!$B$2,\"Fax\")","v":"Fax"}]
["Pfizer Inc. (Aviation - West Trenton)",null,null,"thomas.lochhead@pfizer.com",null,null,null,null,{"$f":"HYPERLINK(\"#'Client Details'!$B$1\",\"Details\")","v":"Details"},{"$f":"HYPERLINK(Options!$B$1, \"Quote\")","v":"Quote"},{"$f":"HYPERLINK(Options!$B$2,\"Fax\")","v":"Fax"}]
["Pfizer Inc. (Brooklyn)","Donald Sharke","718-780-0491","donald.sharke@pfizer.com",null,null,null,null,{"$f":"HYPERLINK(\"#'Client Details'!$B$1\",\"Details\")","v":"Details"},{"$f":"HYPERLINK(Options!$B$1, \"Quote\")","v":"Quote"},{"$f":"HYPERLINK(Options!$B$2,\"Fax\")","v":"Fax"}]
["Pfizer Inc. (Capsugel France)","Luc Cooman",null,null,null,null,null,null,{"$f":"HYPERLINK(\"#'Client Details'!$B$1\",\"Details\")","v":"Details"},{"$f":"HYPERLINK(Options!$B$1, \"Quote\")","v":"Quote"},{"$f":"HYPERLINK(Options!$B$2,\"Fax\")","v":"Fax"}]
["Pfizer Inc. (Farms)",null,null,null,null,null,null,null,{"$f":"HYPERLINK(\"#'Client Details'!$B$1\",\"Details\")","v":"Details"},{"$f":"HYPERLINK(Options!$B$1, \"Quote\")","v":"Quote"},{"$f":"HYPERLINK(Options!$B$2,\"Fax\")","v":"Fax"}]
["Pfizer Inc. (Holland)","Scott Peplinski","616-392-2375 ext.2529",null,null,null,null,null,{"$f":"HYPERLINK(\"#'Client Details'!$B$1\",\"Details\")","v":"Details"},{"$f":"HYPERLINK(Options!$B$1, \"Quote\")","v":"Quote"},{"$f":"HYPERLINK(Options!$B$2,\"Fax\")","v":"Fax"}]
["Pfizer Inc. (Kalamazoo)","Carol Hick","269-833-8345",null,null,null,null,null,{"$f":"HYPERLINK(\"#'Client Details'!$B$1\",\"Details\")","v":"Details"},{"$f":"HYPERLINK(Options!$B$1, \"Quote\")","v":"Quote"},{"$f":"HYPERLINK(Options!$B$2,\"Fax\")","v":"Fax"}]
["Pfizer Inc. (Kzoo - PGRD)",null,null,null,null,null,null,null,{"$f":"HYPERLINK(\"#'Client Details'!$B$1\",\"Details\")","v":"Details"},{"$f":"HYPERLINK(Options!$B$1, \"Quote\")","v":"Quote"},{"$f":"HYPERLINK(Options!$B$2,\"Fax\")","v":"Fax"}]
["Pfizer Inc. (Lititz)","Darry Blankenbiller","717-627-9094",null,null,null,null,null,{"$f":"HYPERLINK(\"#'Client Details'!$B$1\",\"Details\")","v":"Details"},{"$f":"HYPERLINK(Options!$B$1, \"Quote\")","v":"Quote"},{"$f":"HYPERLINK(Options!$B$2,\"Fax\")","v":"Fax"}]
["Pfizer Inc. (Parsippany)","Patti Johnson","973-952-7612","patti.johnson@pfizer.com",null,null,null,null,{"$f":"HYPERLINK(\"#'Client Details'!$B$1\",\"Details\")","v":"Details"},{"$f":"HYPERLINK(Options!$B$1, \"Quote\")","v":"Quote"},{"$f":"HYPERLINK(Options!$B$2,\"Fax\")","v":"Fax"}]
["Pfizer Inc. (Portage)","Christie Croften","269-833-7245",null,null,null,null,null,{"$f":"HYPERLINK(\"#'Client Details'!$B$1\",\"Details\")","v":"Details"},{"$f":"HYPERLINK(Options!$B$1, \"Quote\")","v":"Quote"},{"$f":"HYPERLINK(Options!$B$2,\"Fax\")","v":"Fax"}]
["Pfizer Inc. (Richland MI)","Taren Durham (Buyer)","269-833-0067",null,null,null,null,null,{"$f":"HYPERLINK(\"#'Client Details'!$B$1\",\"Details\")","v":"Details"},{"$f":"HYPERLINK(Options!$B$1, \"Quote\")","v":"Quote"},{"$f":"HYPERLINK(Options!$B$2,\"Fax\")","v":"Fax"}]
["Pfizer Inc. (Tlalpan, Mexico)","Sergio Marquez","52.55.5624.4673",null,null,null,null,null,{"$f":"HYPERLINK(\"#'Client Details'!$B$1\",\"Details\")","v":"Details"},{"$f":"HYPERLINK(Options!$B$1, \"Quote\")","v":"Quote"},{"$f":"HYPERLINK(Options!$B$2,\"Fax\")","v":"Fax"}]
["Pfizer Inc. (Vega Baja PR)",null,"787-654-2411",null,null,null,null,null,{"$f":"HYPERLINK(\"#'Client Details'!$B$1\",\"Details\")","v":"Details"},{"$f":"HYPERLINK(Options!$B$1, \"Quote\")","v":"Quote"},{"$f":"HYPERLINK(Options!$B$2,\"Fax\")","v":"Fax"}]
["Pfizer Inc. (Venezuela S.A.)","Cricelis Alvarez","58.241.6135606",null,null,null,null,null,{"$f":"HYPERLINK(\"#'Client Details'!$B$1\",\"Details\")","v":"Details"},{"$f":"HYPERLINK(Options!$B$1, \"Quote\")","v":"Quote"},{"$f":"HYPERLINK(Options!$B$2,\"Fax\")","v":"Fax"}]
["Pfizer Inc. Brooklyn (Grasso)","Joseph Grasso"," 718-780-8558","joseph.grasso@pfizer.com",null,"Chemical Pharmaceutical","Out of State",null,{"$f":"HYPERLINK(\"#'Client Details'!$B$1\",\"Details\")","v":"Details"},{"$f":"HYPERLINK(Options!$B$1, \"Quote\")","v":"Quote"},{"$f":"HYPERLINK(Options!$B$2,\"Fax\")","v":"Fax"}]
["Pfizer Inc. Brooklyn (Lyle)","Vernon Lyle"," 718-780-8739","vernon.lyle@pfizer.com","Mainenance Supervisor","Chemical Pharmaceutical","Out of State",null,{"$f":"HYPERLINK(\"#'Client Details'!$B$1\",\"Details\")","v":"Details"},{"$f":"HYPERLINK(Options!$B$1, \"Quote\")","v":"Quote"},{"$f":"HYPERLINK(Options!$B$2,\"Fax\")","v":"Fax"}]
["Pfizer Inc. Brooklyn (Patel)","Kinnari Patel"," 718-780-0949","kinnari.patel@pfizer.com","EH&S","Chemical Pharmaceutical","Out of State",null,{"$f":"HYPERLINK(\"#'Client Details'!$B$1\",\"Details\")","v":"Details"},{"$f":"HYPERLINK(Options!$B$1, \"Quote\")","v":"Quote"},{"$f":"HYPERLINK(Options!$B$2,\"Fax\")","v":"Fax"}]
["Pfizer Inc. Brooklyn (Rios)","Mike Rios"," 718-780-8402","mike.rios@pfizer.com","Instrument Technician","Chemical Pharmaceutical","Out of State",null,{"$f":"HYPERLINK(\"#'Client Details'!$B$1\",\"Details\")","v":"Details"},{"$f":"HYPERLINK(Options!$B$1, \"Quote\")","v":"Quote"},{"$f":"HYPERLINK(Options!$B$2,\"Fax\")","v":"Fax"}]
["Pfizer Inc. Brooklyn (Singh)","Latchman Singh"," 718-780-8684","latchman.singh@pfizer.com","EH&S","Chemical Pharmaceutical","Out of State",null,{"$f":"HYPERLINK(\"#'Client Details'!$B$1\",\"Details\")","v":"Details"},{"$f":"HYPERLINK(Options!$B$1, \"Quote\")","v":"Quote"},{"$f":"HYPERLINK(Options!$B$2,\"Fax\")","v":"Fax"}]
["Pfizer Inc. Brooklyn (Vega)","Sally Vega"," 718-780-8426","sally.vega@pfizer.com","Calibration Scheduler","Chemical Pharmaceutical","Out of State",null,{"$f":"HYPERLINK(\"#'Client Details'!$B$1\",\"Details\")","v":"Details"},{"$f":"HYPERLINK(Options!$B$1, \"Quote\")","v":"Quote"},{"$f":"HYPERLINK(Options!$B$2,\"Fax\")","v":"Fax"}]
["Pfizer Inc. Capsugel (Abell)","Mark Abell"," 864-942-6620","mark.abell@pfizer.com","Regional Manager, EHS","Chemical Pharmaceutical","Out of State",null,{"$f":"HYPERLINK(\"#'Client Details'!$B$1\",\"Details\")","v":"Details"},{"$f":"HYPERLINK(Options!$B$1, \"Quote\")","v":"Quote"},{"$f":"HYPERLINK(Options!$B$2,\"Fax\")","v":"Fax"}]
["Pfizer Inc. Corporate (Lassissi)","Alissa Lassissi"," 212-573-3737","alissa.m.lassissi@pfizer.com",null,"Chemical Pharmaceutical","Out of State",null,{"$f":"HYPERLINK(\"#'Client Details'!$B$1\",\"Details\")","v":"Details"},{"$f":"HYPERLINK(Options!$B$1, \"Quote\")","v":"Quote"},{"$f":"HYPERLINK(Options!$B$2,\"Fax\")","v":"Fax"}]
["Pfizer Inc. Corporate (Sokoloff)","Marthe Sokoloff"," 212-733-6374","marthe.sokoloff@pfizer.com","Assistant","Chemical Pharmaceutical","Out State",null,{"$f":"HYPERLINK(\"#'Client Details'!$B$1\",\"Details\")","v":"Details"},{"$f":"HYPERLINK(Options!$B$1, \"Quote\")","v":"Quote"},{"$f":"HYPERLINK(Options!$B$2,\"Fax\")","v":"Fax"}]
["Pfizer Inc. Corporate (Tait)","Keith Tait"," 212-573-1000 3640","keith.d.tait@pfizer.com",null,"Chemical Pharmaceutical","Out State",null,{"$f":"HYPERLINK(\"#'Client Details'!$B$1\",\"Details\")","v":"Details"},{"$f":"HYPERLINK(Options!$B$1, \"Quote\")","v":"Quote"},{"$f":"HYPERLINK(Options!$B$2,\"Fax\")","v":"Fax"}]
["Pfizer Inc. Portage ()",null," 269-833-1235","megan.a.brock@pfizer.com",null,"Chemical Pharmaceutical","Kalamazoo",null,{"$f":"HYPERLINK(\"#'Client Details'!$B$1\",\"Details\")","v":"Details"},{"$f":"HYPERLINK(Options!$B$1, \"Quote\")","v":"Quote"},{"$f":"HYPERLINK(Options!$B$2,\"Fax\")","v":"Fax"}]
["Pfizer Inc. Portage (AA)","AA Main AA"," 269-833-4000",null,null,"Chemical Pharmaceutical","Kalamazoo",null,{"$f":"HYPERLINK(\"#'Client Details'!$B$1\",\"Details\")","v":"Details"},{"$f":"HYPERLINK(Options!$B$1, \"Quote\")","v":"Quote"},{"$f":"HYPERLINK(Options!$B$2,\"Fax\")","v":"Fax"}]
["Pfizer Inc. Portage (Addison)","David Addison"," 269-833-7198","david.m.addison@pfizer.com",null,"Chemical Pharmaceutical","Kalamazoo",null,{"$f":"HYPERLINK(\"#'Client Details'!$B$1\",\"Details\")","v":"Details"},{"$f":"HYPERLINK(Options!$B$1, \"Quote\")","v":"Quote"},{"$f":"HYPERLINK(Options!$B$2,\"Fax\")","v":"Fax"}]
["Pfizer Inc. Portage (Allen)","Dan Allen"," 269-833-3597","daniel.p.allen@pfizer.com","Supervisor, Solvent Recovery","Chemical Pharmaceutical","Kalamazoo",null,{"$f":"HYPERLINK(\"#'Client Details'!$B$1\",\"Details\")","v":"Details"},{"$f":"HYPERLINK(Options!$B$1, \"Quote\")","v":"Quote"},{"$f":"HYPERLINK(Options!$B$2,\"Fax\")","v":"Fax"}]
["Pfizer Inc. Portage (Ansley)","Kim Ansley"," 269-833-4000","kim.i.ansley@pfizer.com",null,"Chemical Pharmaceutical","Kalamazoo",null,{"$f":"HYPERLINK(\"#'Client Details'!$B$1\",\"Details\")","v":"Details"},{"$f":"HYPERLINK(Options!$B$1, \"Quote\")","v":"Quote"},{"$f":"HYPERLINK(Options!$B$2,\"Fax\")","v":"Fax"}]
["Pfizer Inc. Portage (Anson)","David Anson"," 269-833-0290","david.l.anson@pfizer.com",null,"Chemical Pharmaceutical","Kalamazoo",null,{"$f":"HYPERLINK(\"#'Client Details'!$B$1\",\"Details\")","v":"Details"},{"$f":"HYPERLINK(Options!$B$1, \"Quote\")","v":"Quote"},{"$f":"HYPERLINK(Options!$B$2,\"Fax\")","v":"Fax"}]
["Pfizer Inc. Portage (Apotheker)","Hank Apotheker"," 269-833-9239","henry.apotheker@pfizer.com",null,"Chemical Pharmaceutical","Kalamazoo",null,{"$f":"HYPERLINK(\"#'Client Details'!$B$1\",\"Details\")","v":"Details"},{"$f":"HYPERLINK(Options!$B$1, \"Quote\")","v":"Quote"},{"$f":"HYPERLINK(Options!$B$2,\"Fax\")","v":"Fax"}]
["Pfizer Inc. Portage (Appell)","Stephen Appell"," 269-833-5934","stephen.appell@pfizer.com","Instrumentation Mechanic","Chemical Pharmaceutical","Kalamazoo",null,{"$f":"HYPERLINK(\"#'Client Details'!$B$1\",\"Details\")","v":"Details"},{"$f":"HYPERLINK(Options!$B$1, \"Quote\")","v":"Quote"},{"$f":"HYPERLINK(Options!$B$2,\"Fax\")","v":"Fax"}]
["Pfizer Inc. Portage (Baner)","Andrew Baner"," 269-833-7934","andrew.m.baner@pfizer.com",null,"Chemical Pharmaceutical","Kalamazoo",null,{"$f":"HYPERLINK(\"#'Client Details'!$B$1\",\"Details\")","v":"Details"},{"$f":"HYPERLINK(Options!$B$1, \"Quote\")","v":"Quote"},{"$f":"HYPERLINK(Options!$B$2,\"Fax\")","v":"Fax"}]
["Pfizer Inc. Portage (Basak)","Bill Basak"," 269-833-9839","boleslaw.p.basak@pfizer.com","Material Controller","Chemical Pharmaceutical","Kalamazoo",null,{"$f":"HYPERLINK(\"#'Client Details'!$B$1\",\"Details\")","v":"Details"},{"$f":"HYPERLINK(Options!$B$1, \"Quote\")","v":"Quote"},{"$f":"HYPERLINK(Options!$B$2,\"Fax\")","v":"Fax"}]
["Pfizer Inc. Portage (Benedict)","Kathy Benedict"," 269-833-1387","kathryn.benedict@pfizer.com",null,"Chemical Pharmaceutical","Kalamazoo",null,{"$f":"HYPERLINK(\"#'Client Details'!$B$1\",\"Details\")","v":"Details"},{"$f":"HYPERLINK(Options!$B$1, \"Quote\")","v":"Quote"},{"$f":"HYPERLINK(Options!$B$2,\"Fax\")","v":"Fax"}]
["Pfizer Inc. Portage (Betz)","Mark Betz"," 269-833-3561","mark.r.betz@pfizer.com","EH&S Manager","Chemical Pharmaceutical","Kalamazoo",null,{"$f":"HYPERLINK(\"#'Client Details'!$B$1\",\"Details\")","v":"Details"},{"$f":"HYPERLINK(Options!$B$1, \"Quote\")","v":"Quote"},{"$f":"HYPERLINK(Options!$B$2,\"Fax\")","v":"Fax"}]
["Pfizer Inc. Portage (Birkholz)","James Birkholz"," 269-833-5520","james.p.birkholz@pfizer.com","Maintenance Engineer","Chemical Pharmaceutical","Kalamazoo",null,{"$f":"HYPERLINK(\"#'Client Details'!$B$1\",\"Details\")","v":"Details"},{"$f":"HYPERLINK(Options!$B$1, \"Quote\")","v":"Quote"},{"$f":"HYPERLINK(Options!$B$2,\"Fax\")","v":"Fax"}]
["Pfizer Inc. Portage (Blair)","Christie Blair"," 269-833-7245","christie.blair@pfizer.com",null,"Chemical Pharmaceutical","Kalamazoo",null,{"$f":"HYPERLINK(\"#'Client Details'!$B$1\",\"Details\")","v":"Details"},{"$f":"HYPERLINK(Options!$B$1, \"Quote\")","v":"Quote"},{"$f":"HYPERLINK(Options!$B$2,\"Fax\")","v":"Fax"}]
["Pfizer Inc. Portage (Bos)","Joe Bos"," 269-833-5599","joe.e.bos@pfizer.com","Material Controller","Chemical Pharmaceutical","Kalamazoo",null,{"$f":"HYPERLINK(\"#'Client Details'!$B$1\",\"Details\")","v":"Details"},{"$f":"HYPERLINK(Options!$B$1, \"Quote\")","v":"Quote"},{"$f":"HYPERLINK(Options!$B$2,\"Fax\")","v":"Fax"}]
["Pfizer Inc. Portage (Breitenbach)","James Breitenbach"," 269-833-0290","james.m.breitenbach@pfizer.com","EH&S","Chemical Pharmaceutical","Kalamazoo",null,{"$f":"HYPERLINK(\"#'Client Details'!$B$1\",\"Details\")","v":"Details"},{"$f":"HYPERLINK(Options!$B$1, \"Quote\")","v":"Quote"},{"$f":"HYPERLINK(Options!$B$2,\"Fax\")","v":"Fax"}]
["Pfizer Inc. Portage (Brock)","Bob Brock"," 269-833-9815","robert.n.brock@pfizer.com","EH&S","Chemical Pharmaceutical","Kalamazoo",null,{"$f":"HYPERLINK(\"#'Client Details'!$B$1\",\"Details\")","v":"Details"},{"$f":"HYPERLINK(Options!$B$1, \"Quote\")","v":"Quote"},{"$f":"HYPERLINK(Options!$B$2,\"Fax\")","v":"Fax"}]
["Pfizer Inc. Portage (Buckmaster)","Mary Buckmaster"," 269-833-8859","mary.k.buckmaster@pfizer.com","Material Controller","Chemical Pharmaceutical","Kalamazoo",null,{"$f":"HYPERLINK(\"#'Client Details'!$B$1\",\"Details\")","v":"Details"},{"$f":"HYPERLINK(Options!$B$1, \"Quote\")","v":"Quote"},{"$f":"HYPERLINK(Options!$B$2,\"Fax\")","v":"Fax"}]
["Pfizer Inc. Portage (Campbell)","Tim Campbell"," 269-833-6926","j.tim.campbell@pfizer.com","Operations Specialist","Chemical Pharmaceutical","Kalamazoo",null,{"$f":"HYPERLINK(\"#'Client Details'!$B$1\",\"Details\")","v":"Details"},{"$f":"HYPERLINK(Options!$B$1, \"Quote\")","v":"Quote"},{"$f":"HYPERLINK(Options!$B$2,\"Fax\")","v":"Fax"}]
["Pfizer Inc. Portage (Cleland-Heldt)","Carla Cleland-Heldt"," 269-833-1636",null,"Buyer","Chemical Pharmaceutical","Kalamazoo",null,{"$f":"HYPERLINK(\"#'Client Details'!$B$1\",\"Details\")","v":"Details"},{"$f":"HYPERLINK(Options!$B$1, \"Quote\")","v":"Quote"},{"$f":"HYPERLINK(Options!$B$2,\"Fax\")","v":"Fax"}]
["Pfizer Inc. Portage (Coughlin)","Brett Coughlin"," 269-833-9627","brett.coughlin@pfizer.com",null,"Chemical Pharmaceutical","Kalamazoo",null,{"$f":"HYPERLINK(\"#'Client Details'!$B$1\",\"Details\")","v":"Details"},{"$f":"HYPERLINK(Options!$B$1, \"Quote\")","v":"Quote"},{"$f":"HYPERLINK(Options!$B$2,\"Fax\")","v":"Fax"}]
["Pfizer Inc. Portage (DeHaan)","Jeff DeHaan",null,"jeffrey.s.dehaan@pfizer.com","Instrument Technician","Chemical Pharmaceutical","Kalamazoo",null,{"$f":"HYPERLINK(\"#'Client Details'!$B$1\",\"Details\")","v":"Details"},{"$f":"HYPERLINK(Options!$B$1, \"Quote\")","v":"Quote"},{"$f":"HYPERLINK(Options!$B$2,\"Fax\")","v":"Fax"}]
["Pfizer Inc. Portage (Doorlag)","Larry Doorlag"," 269-833-7517","larry.l.doorlag@pfizer.com","Operations Specialist","Chemical Pharmaceutical","Kalamazoo",null,{"$f":"HYPERLINK(\"#'Client Details'!$B$1\",\"Details\")","v":"Details"},{"$f":"HYPERLINK(Options!$B$1, \"Quote\")","v":"Quote"},{"$f":"HYPERLINK(Options!$B$2,\"Fax\")","v":"Fax"}]
["Pfizer Inc. Portage (Droski)","James Droski"," 269-833-1392","james.m.droski@pfizer.com","Project Manager","Chemical Pharmaceutical","Kalamazoo",null,{"$f":"HYPERLINK(\"#'Client Details'!$B$1\",\"Details\")","v":"Details"},{"$f":"HYPERLINK(Options!$B$1, \"Quote\")","v":"Quote"},{"$f":"HYPERLINK(Options!$B$2,\"Fax\")","v":"Fax"}]
["Pfizer Inc. Portage (Dziewicki)","Sara Dziewicki"," 269-833-3344","saralee.dziewicki@pfizer.com","Material Controller","Chemical Pharmaceutical","Kalamazoo",null,{"$f":"HYPERLINK(\"#'Client Details'!$B$1\",\"Details\")","v":"Details"},{"$f":"HYPERLINK(Options!$B$1, \"Quote\")","v":"Quote"},{"$f":"HYPERLINK(Options!$B$2,\"Fax\")","v":"Fax"}]
["Pfizer Inc. Portage (Edwards)","Fred Edwards"," 269-833-3678","fred.g.edwards@pfizer.com","Controls Engineer","Chemical Pharmaceutical","Kalamazoo",null,{"$f":"HYPERLINK(\"#'Client Details'!$B$1\",\"Details\")","v":"Details"},{"$f":"HYPERLINK(Options!$B$1, \"Quote\")","v":"Quote"},{"$f":"HYPERLINK(Options!$B$2,\"Fax\")","v":"Fax"}]
["Pfizer Inc. Portage (Elkins)","Mike Elkins"," 269-833-5272","michael.s.elkins@pfizer.com","Fire Chief","Chemical Pharmaceutical","Kalamazoo",null,{"$f":"HYPERLINK(\"#'Client Details'!$B$1\",\"Details\")","v":"Details"},{"$f":"HYPERLINK(Options!$B$1, \"Quote\")","v":"Quote"},{"$f":"HYPERLINK(Options!$B$2,\"Fax\")","v":"Fax"}]
["Pfizer Inc. Portage (Fletcher)","Thomas Fletcher",null,"thomas.l.fletcher@pfizer.com",null,"Chemical Pharmaceutical","Kalamazoo",null,{"$f":"HYPERLINK(\"#'Client Details'!$B$1\",\"Details\")","v":"Details"},{"$f":"HYPERLINK(Options!$B$1, \"Quote\")","v":"Quote"},{"$f":"HYPERLINK(Options!$B$2,\"Fax\")","v":"Fax"}]
["Pfizer Inc. Portage (Gendernalik)","Ric Gendernalik"," 269-833-7132","richard.f.gendernalik@pfizer.com",null,"Chemical Pharmaceutical","Kalamazoo",null,{"$f":"HYPERLINK(\"#'Client Details'!$B$1\",\"Details\")","v":"Details"},{"$f":"HYPERLINK(Options!$B$1, \"Quote\")","v":"Quote"},{"$f":"HYPERLINK(Options!$B$2,\"Fax\")","v":"Fax"}]
["Pfizer Inc. Portage (Gingerich)","Ronald Gingerich"," 269-833-5934","ronald.g.gingerich@pfizer.com","Instrument Technician","Chemical Pharmaceutical","Kalamazoo",null,{"$f":"HYPERLINK(\"#'Client Details'!$B$1\",\"Details\")","v":"Details"},{"$f":"HYPERLINK(Options!$B$1, \"Quote\")","v":"Quote"},{"$f":"HYPERLINK(Options!$B$2,\"Fax\")","v":"Fax"}]
["Pfizer Inc. Portage (Hartman)","Michael Hartman"," 269-833-6815","michael.a.hartman@pfizer.com",null,"Chemical Pharmaceutical","Kalamazoo",null,{"$f":"HYPERLINK(\"#'Client Details'!$B$1\",\"Details\")","v":"Details"},{"$f":"HYPERLINK(Options!$B$1, \"Quote\")","v":"Quote"},{"$f":"HYPERLINK(Options!$B$2,\"Fax\")","v":"Fax"}]
["Pfizer Inc. Portage (Hick)","Carol Hick"," 269-833-8345","carol-cons.l.hick@pfizer.com","Procurement Specialist",null,"Kalamazoo",null,{"$f":"HYPERLINK(\"#'Client Details'!$B$1\",\"Details\")","v":"Details"},{"$f":"HYPERLINK(Options!$B$1, \"Quote\")","v":"Quote"},{"$f":"HYPERLINK(Options!$B$2,\"Fax\")","v":"Fax"}]
["Pfizer Inc. Portage (Huizen)","David Huizen"," 269-833-8521","david.huizen@pfizer.com","EH&S Manager","Chemical Pharmaceutical","Kalamazoo",null,{"$f":"HYPERLINK(\"#'Client Details'!$B$1\",\"Details\")","v":"Details"},{"$f":"HYPERLINK(Options!$B$1, \"Quote\")","v":"Quote"},{"$f":"HYPERLINK(Options!$B$2,\"Fax\")","v":"Fax"}]
["Pfizer Inc. Portage (Johnson)","Eric Johnson"," 269-833-7175","eric.j.johnson@pfizer.com","EH&S","Chemical Pharmaceutical","Kalamazoo",null,{"$f":"HYPERLINK(\"#'Client Details'!$B$1\",\"Details\")","v":"Details"},{"$f":"HYPERLINK(Options!$B$1, \"Quote\")","v":"Quote"},{"$f":"HYPERLINK(Options!$B$2,\"Fax\")","v":"Fax"}]
["Pfizer Inc. Portage (Kasten)","Tom Kasten"," 269-833-7048","thomas.w.kasten@pfizer.com","Contractor Manager","Chemical Pharmaceutical","Kalamazoo",null,{"$f":"HYPERLINK(\"#'Client Details'!$B$1\",\"Details\")","v":"Details"},{"$f":"HYPERLINK(Options!$B$1, \"Quote\")","v":"Quote"},{"$f":"HYPERLINK(Options!$B$2,\"Fax\")","v":"Fax"}]
["Pfizer Inc. Portage (Kedrowicz)","Jerry Kedrowicz"," 269-833-9527","jerry.kedrowicz@pfizer.com","Maintenance Teachnician","Chemical Pharmaceutical","Kalamazoo",null,{"$f":"HYPERLINK(\"#'Client Details'!$B$1\",\"Details\")","v":"Details"},{"$f":"HYPERLINK(Options!$B$1, \"Quote\")","v":"Quote"},{"$f":"HYPERLINK(Options!$B$2,\"Fax\")","v":"Fax"}]
["Pfizer Inc. Portage (Kik)","Dan Kik"," 269-833-1377","danny.p.kik@pfizer.com","Material Controller","Chemical Pharmaceutical","Kalamazoo",null,{"$f":"HYPERLINK(\"#'Client Details'!$B$1\",\"Details\")","v":"Details"},{"$f":"HYPERLINK(Options!$B$1, \"Quote\")","v":"Quote"},{"$f":"HYPERLINK(Options!$B$2,\"Fax\")","v":"Fax"}]
["Pfizer Inc. Portage (Kiliam)","Phil Kiliam"," 269-833-6882","philip.a.kilian@pfizer.com","Stores Manager","Chemical Pharmaceutical","Kalamazoo",null,{"$f":"HYPERLINK(\"#'Client Details'!$B$1\",\"Details\")","v":"Details"},{"$f":"HYPERLINK(Options!$B$1, \"Quote\")","v":"Quote"},{"$f":"HYPERLINK(Options!$B$2,\"Fax\")","v":"Fax"}]
["Pfizer Inc. Portage (Koning)","Mary Lou Koning"," 269-833-5478",null,"Material Controller",null,"Kalamazoo",null,{"$f":"HYPERLINK(\"#'Client Details'!$B$1\",\"Details\")","v":"Details"},{"$f":"HYPERLINK(Options!$B$1, \"Quote\")","v":"Quote"},{"$f":"HYPERLINK(Options!$B$2,\"Fax\")","v":"Fax"}]
["Pfizer Inc. Portage (Krueger)","Rhonda Krueger"," 269-833-9503","rhonda.j.krueger@pfizer.com","Material Controller","Chemical Pharmaceutical","Kalamazoo",null,{"$f":"HYPERLINK(\"#'Client Details'!$B$1\",\"Details\")","v":"Details"},{"$f":"HYPERLINK(Options!$B$1, \"Quote\")","v":"Quote"},{"$f":"HYPERLINK(Options!$B$2,\"Fax\")","v":"Fax"}]
["Pfizer Inc. Portage (Love)","Jeff Love"," 269-833-5078","jeffery.love@pfizer.com",null,"Chemical Pharmaceutical","Kalamazoo",null,{"$f":"HYPERLINK(\"#'Client Details'!$B$1\",\"Details\")","v":"Details"},{"$f":"HYPERLINK(Options!$B$1, \"Quote\")","v":"Quote"},{"$f":"HYPERLINK(Options!$B$2,\"Fax\")","v":"Fax"}]
["Pfizer Inc. Portage (Lucas)","Annie Lucas"," 269-833-9023","ann.m.lucas@pfizer.com","Maintenance Support Specialist","Chemical Pharmaceutical","Kalamazoo",null,{"$f":"HYPERLINK(\"#'Client Details'!$B$1\",\"Details\")","v":"Details"},{"$f":"HYPERLINK(Options!$B$1, \"Quote\")","v":"Quote"},{"$f":"HYPERLINK(Options!$B$2,\"Fax\")","v":"Fax"}]
["Pfizer Inc. Portage (Martin)","Lorrie Martin"," 269-833-8345","lorrie.k.martin@pfizer.com","Procurement Specialist","Chemical Pharmaceutical","Kalamazoo",null,{"$f":"HYPERLINK(\"#'Client Details'!$B$1\",\"Details\")","v":"Details"},{"$f":"HYPERLINK(Options!$B$1, \"Quote\")","v":"Quote"},{"$f":"HYPERLINK(Options!$B$2,\"Fax\")","v":"Fax"}]
["Pfizer Inc. Portage (Mazick)","Jeff Mazick"," 269-833-8440","jeffrey.c.mazick@pfizer.com","Project Manager, Fall Protecti","Chemical Pharmaceutical","Kalamazoo",null,{"$f":"HYPERLINK(\"#'Client Details'!$B$1\",\"Details\")","v":"Details"},{"$f":"HYPERLINK(Options!$B$1, \"Quote\")","v":"Quote"},{"$f":"HYPERLINK(Options!$B$2,\"Fax\")","v":"Fax"}]
["Pfizer Inc. Portage (Millward)","Bob Millward"," 269-833-4830","robert.d.millward@pfizer.com",null,"Chemical Pharmaceutical","Kalamazoo",null,{"$f":"HYPERLINK(\"#'Client Details'!$B$1\",\"Details\")","v":"Details"},{"$f":"HYPERLINK(Options!$B$1, \"Quote\")","v":"Quote"},{"$f":"HYPERLINK(Options!$B$2,\"Fax\")","v":"Fax"}]
["Pfizer Inc. Portage (Moore)","Steve Moore"," 269-833-5146",null,"Environmental Compliance","Chemical Pharmaceutical","Kalamazoo",null,{"$f":"HYPERLINK(\"#'Client Details'!$B$1\",\"Details\")","v":"Details"},{"$f":"HYPERLINK(Options!$B$1, \"Quote\")","v":"Quote"},{"$f":"HYPERLINK(Options!$B$2,\"Fax\")","v":"Fax"}]
["Pfizer Inc. Portage (Nichols)","Evey Nichols"," 269-833-5798","evelyn.j.nichols@pfizer.com","Material Controller","Chemical Pharmaceutical","Kalamazoo",null,{"$f":"HYPERLINK(\"#'Client Details'!$B$1\",\"Details\")","v":"Details"},{"$f":"HYPERLINK(Options!$B$1, \"Quote\")","v":"Quote"},{"$f":"HYPERLINK(Options!$B$2,\"Fax\")","v":"Fax"}]
["Pfizer Inc. Portage (Patterson)","Robb Patterson"," 269-833-9240","robert.c.patterson@pfizer.com","EH&S Ergonomist","Chemical Pharmaceutical","Kalamazoo",null,{"$f":"HYPERLINK(\"#'Client Details'!$B$1\",\"Details\")","v":"Details"},{"$f":"HYPERLINK(Options!$B$1, \"Quote\")","v":"Quote"},{"$f":"HYPERLINK(Options!$B$2,\"Fax\")","v":"Fax"}]
["Pfizer Inc. Portage (Pearson)","Dave Pearson"," 269-833-1758","dave.pearson@pfizer.com","Material Controller","Chemical Pharmaceutical","Kalamazoo",null,{"$f":"HYPERLINK(\"#'Client Details'!$B$1\",\"Details\")","v":"Details"},{"$f":"HYPERLINK(Options!$B$1, \"Quote\")","v":"Quote"},{"$f":"HYPERLINK(Options!$B$2,\"Fax\")","v":"Fax"}]
["Pfizer Inc. Portage (Pelak)","Anita Pelak"," 269-833-6120","anita.pekak@pfizer.com","EH&S","Chemical Pharmaceutical","Kalamazoo",null,{"$f":"HYPERLINK(\"#'Client Details'!$B$1\",\"Details\")","v":"Details"},{"$f":"HYPERLINK(Options!$B$1, \"Quote\")","v":"Quote"},{"$f":"HYPERLINK(Options!$B$2,\"Fax\")","v":"Fax"}]
["Pfizer Inc. Portage (Pitts)","John Pitts",null,"john.a.pitts@pfizer.com",null,"Chemical Pharmaceutical","Kalamazoo",null,{"$f":"HYPERLINK(\"#'Client Details'!$B$1\",\"Details\")","v":"Details"},{"$f":"HYPERLINK(Options!$B$1, \"Quote\")","v":"Quote"},{"$f":"HYPERLINK(Options!$B$2,\"Fax\")","v":"Fax"}]
["Pfizer Inc. Portage (Pool)","Timothy Pool"," 269-833-3874","timothy.a.pool@pfizer.com",null,"Chemical Pharmaceutical","Kalamazoo",null,{"$f":"HYPERLINK(\"#'Client Details'!$B$1\",\"Details\")","v":"Details"},{"$f":"HYPERLINK(Options!$B$1, \"Quote\")","v":"Quote"},{"$f":"HYPERLINK(Options!$B$2,\"Fax\")","v":"Fax"}]
["Pfizer Inc. Portage (Proksch)","Thomas Proksch"," 269-833-9527","thomas.d.proksch@pfizer.com","Maintenance Team Leader","Chemical Pharmaceutical","Kalamazoo",null,{"$f":"HYPERLINK(\"#'Client Details'!$B$1\",\"Details\")","v":"Details"},{"$f":"HYPERLINK(Options!$B$1, \"Quote\")","v":"Quote"},{"$f":"HYPERLINK(Options!$B$2,\"Fax\")","v":"Fax"}]
["Pfizer Inc. Portage (Prough)","John Prough"," 269-833-1705","john.r.prough@pfizer.com",null,"Chemical Pharmaceutical","Kalamazoo",null,{"$f":"HYPERLINK(\"#'Client Details'!$B$1\",\"Details\")","v":"Details"},{"$f":"HYPERLINK(Options!$B$1, \"Quote\")","v":"Quote"},{"$f":"HYPERLINK(Options!$B$2,\"Fax\")","v":"Fax"}]
["Pfizer Inc. Portage (Rankin)","Kenneth Rankin"," 269-833-8818","kenneth.r.rankin@pfizer.com","Mechanical Integrity Program","Chemical Pharmaceutical","Kalamazoo",null,{"$f":"HYPERLINK(\"#'Client Details'!$B$1\",\"Details\")","v":"Details"},{"$f":"HYPERLINK(Options!$B$1, \"Quote\")","v":"Quote"},{"$f":"HYPERLINK(Options!$B$2,\"Fax\")","v":"Fax"}]
["Pfizer Inc. Portage (Repesh)","Linda Repesh"," 269-833-8722","linda.repesh@pfizer.com",null,"Chemical Pharmaceutical","Kalamazoo",null,{"$f":"HYPERLINK(\"#'Client Details'!$B$1\",\"Details\")","v":"Details"},{"$f":"HYPERLINK(Options!$B$1, \"Quote\")","v":"Quote"},{"$f":"HYPERLINK(Options!$B$2,\"Fax\")","v":"Fax"}]
["Pfizer Inc. Portage (Rinehart)","John Rinehart"," 269-833-7283","john.l.rinehart@pfizer.com","Contractor Safety","Chemical Pharmaceutical","Kalamazoo",null,{"$f":"HYPERLINK(\"#'Client Details'!$B$1\",\"Details\")","v":"Details"},{"$f":"HYPERLINK(Options!$B$1, \"Quote\")","v":"Quote"},{"$f":"HYPERLINK(Options!$B$2,\"Fax\")","v":"Fax"}]
["Pfizer Inc. Portage (Salamun)","Thomas Salamun"," 269-833-5934","thomas.f.salamun@pfizer.com","Process Instrumentation","Chemical Pharmaceutical","Kalamazoo",null,{"$f":"HYPERLINK(\"#'Client Details'!$B$1\",\"Details\")","v":"Details"},{"$f":"HYPERLINK(Options!$B$1, \"Quote\")","v":"Quote"},{"$f":"HYPERLINK(Options!$B$2,\"Fax\")","v":"Fax"}]
["Pfizer Inc. Portage (Shindledecker)","Kurt Shindledecker"," 269-833-7766","Kurt-Cons.E.Shindledecker@pfizer.com","Maintenance Teachnician",null,"Kalamazoo",null,{"$f":"HYPERLINK(\"#'Client Details'!$B$1\",\"Details\")","v":"Details"},{"$f":"HYPERLINK(Options!$B$1, \"Quote\")","v":"Quote"},{"$f":"HYPERLINK(Options!$B$2,\"Fax\")","v":"Fax"}]
["Pfizer Inc. Portage (Short)","Bob Short"," 269-833-1724","robert.g.short@pfizer.com","Process Instrumentation","Chemical Pharmaceutical","Kalamazoo",null,{"$f":"HYPERLINK(\"#'Client Details'!$B$1\",\"Details\")","v":"Details"},{"$f":"HYPERLINK(Options!$B$1, \"Quote\")","v":"Quote"},{"$f":"HYPERLINK(Options!$B$2,\"Fax\")","v":"Fax"}]
["Pfizer Inc. Portage (Spies)","Gary Spies"," 269-833-8421","gary.j.spies@pfizer.com","EH&S Site Manager","Chemical Pharmaceutical","Kalamazoo",null,{"$f":"HYPERLINK(\"#'Client Details'!$B$1\",\"Details\")","v":"Details"},{"$f":"HYPERLINK(Options!$B$1, \"Quote\")","v":"Quote"},{"$f":"HYPERLINK(Options!$B$2,\"Fax\")","v":"Fax"}]
["Pfizer Inc. Portage (Styes)","Amanda Styes"," 269-833-6317","amanda.m.styes@pfizer.com","EH&S Specialist","Chemical Pharmaceutical","Kalamazoo",null,{"$f":"HYPERLINK(\"#'Client Details'!$B$1\",\"Details\")","v":"Details"},{"$f":"HYPERLINK(Options!$B$1, \"Quote\")","v":"Quote"},{"$f":"HYPERLINK(Options!$B$2,\"Fax\")","v":"Fax"}]
["Pfizer Inc. Portage (Swynenberg)","Gary Swynenberg"," 269-833-3942","gary.b.swynenberg@pfizer.com","Material Controller","Chemical Pharmaceutical","Kalamazoo",null,{"$f":"HYPERLINK(\"#'Client Details'!$B$1\",\"Details\")","v":"Details"},{"$f":"HYPERLINK(Options!$B$1, \"Quote\")","v":"Quote"},{"$f":"HYPERLINK(Options!$B$2,\"Fax\")","v":"Fax"}]
["Pfizer Inc. Portage (Van Alsten)","John Van Alsten"," 269-833-9988","john.g.vanalsten@pfizer.com","Researcher","Chemical Pharmaceutical","Kalamazoo",null,{"$f":"HYPERLINK(\"#'Client Details'!$B$1\",\"Details\")","v":"Details"},{"$f":"HYPERLINK(Options!$B$1, \"Quote\")","v":"Quote"},{"$f":"HYPERLINK(Options!$B$2,\"Fax\")","v":"Fax"}]
["Pfizer Inc. Portage (VanderVeen)","Jim VanderVeen"," 269-833-3957","james.a.vanderveen@pfizer.com","External Maintenance Administr","Chemical Pharmaceutical","Kalamazoo",null,{"$f":"HYPERLINK(\"#'Client Details'!$B$1\",\"Details\")","v":"Details"},{"$f":"HYPERLINK(Options!$B$1, \"Quote\")","v":"Quote"},{"$f":"HYPERLINK(Options!$B$2,\"Fax\")","v":"Fax"}]
["Pfizer Inc. Portage (Vandlen)","Matt Vandlen"," 269-833-6045",null,null,"Chemical Pharmaceutical","Kalamazoo",null,{"$f":"HYPERLINK(\"#'Client Details'!$B$1\",\"Details\")","v":"Details"},{"$f":"HYPERLINK(Options!$B$1, \"Quote\")","v":"Quote"},{"$f":"HYPERLINK(Options!$B$2,\"Fax\")","v":"Fax"}]
["Pfizer Inc. Portage (Walko)","Ron Walko"," 269-833-6150",null,"EH&S Manager","Chemical Pharmaceutical","Kalamazoo",null,{"$f":"HYPERLINK(\"#'Client Details'!$B$1\",\"Details\")","v":"Details"},{"$f":"HYPERLINK(Options!$B$1, \"Quote\")","v":"Quote"},{"$f":"HYPERLINK(Options!$B$2,\"Fax\")","v":"Fax"}]
["Pfizer Inc. Portage (Wasson)","Ellen Wasson"," 269-833-1564","ellen.k.wasson@pfizer.com","Material Controller","Chemical Pharmaceutical","Kalamazoo",null,{"$f":"HYPERLINK(\"#'Client Details'!$B$1\",\"Details\")","v":"Details"},{"$f":"HYPERLINK(Options!$B$1, \"Quote\")","v":"Quote"},{"$f":"HYPERLINK(Options!$B$2,\"Fax\")","v":"Fax"}]
["Pfizer Inc. Portage (White)","Donald White"," 269-833-4857","donald.a.white@pfizer.com","Team Leader","Chemical Pharmaceutical","Kalamazoo",null,{"$f":"HYPERLINK(\"#'Client Details'!$B$1\",\"Details\")","v":"Details"},{"$f":"HYPERLINK(Options!$B$1, \"Quote\")","v":"Quote"},{"$f":"HYPERLINK(Options!$B$2,\"Fax\")","v":"Fax"}]
["Pfizer Inc. Portage (Whitman)","Chuck Whitman"," 269-833-6650","charles.r.whitman@pfizer.com","Process Instrumentation","Chemical Pharmaceutical","Kalamazoo",null,{"$f":"HYPERLINK(\"#'Client Details'!$B$1\",\"Details\")","v":"Details"},{"$f":"HYPERLINK(Options!$B$1, \"Quote\")","v":"Quote"},{"$f":"HYPERLINK(Options!$B$2,\"Fax\")","v":"Fax"}]
["Pfizer Inc. Portage (Wilkins)","Wendy Wilkins"," 269-833-9191","wendy.l.wilkins@pfizer.com","Material Controller","Chemical Pharmaceutical","Kalamazoo",null,{"$f":"HYPERLINK(\"#'Client Details'!$B$1\",\"Details\")","v":"Details"},{"$f":"HYPERLINK(Options!$B$1, \"Quote\")","v":"Quote"},{"$f":"HYPERLINK(Options!$B$2,\"Fax\")","v":"Fax"}]
["Pfizer Limited (Sandwich)","Nick Berry","44.13.04.64.37.81","nickberry@Sandwich.pfizer.com",null,null,null,null,{"$f":"HYPERLINK(\"#'Client Details'!$B$1\",\"Details\")","v":"Details"},{"$f":"HYPERLINK(Options!$B$1, \"Quote\")","v":"Quote"},{"$f":"HYPERLINK(Options!$B$2,\"Fax\")","v":"Fax"}]
["Pfizer Ltda. (Brazil)",null,null,"marlene.c.mendoca@pfizer.com",null,null,null,null,{"$f":"HYPERLINK(\"#'Client Details'!$B$1\",\"Details\")","v":"Details"},{"$f":"HYPERLINK(Options!$B$1, \"Quote\")","v":"Quote"},{"$f":"HYPERLINK(Options!$B$2,\"Fax\")","v":"Fax"}]
["Pfizer Pharm. LLC (Barceloneta-P.R.)",null,null,null,null,null,null,null,{"$f":"HYPERLINK(\"#'Client Details'!$B$1\",\"Details\")","v":"Details"},{"$f":"HYPERLINK(Options!$B$1, \"Quote\")","v":"Quote"},{"$f":"HYPERLINK(Options!$B$2,\"Fax\")","v":"Fax"}]
["Pfizer Pharmaceuticals (Arecibo-P.R.)",null,null,null,null,null,null,null,{"$f":"HYPERLINK(\"#'Client Details'!$B$1\",\"Details\")","v":"Details"},{"$f":"HYPERLINK(Options!$B$1, \"Quote\")","v":"Quote"},{"$f":"HYPERLINK(Options!$B$2,\"Fax\")","v":"Fax"}]
["Pfizer Pty. Limited (Perth)","'Elizabeth Mason' Ditchfield","618-9362-0666","elizabeth.m.ditchfield@pfizer.com",null,null,null,null,{"$f":"HYPERLINK(\"#'Client Details'!$B$1\",\"Details\")","v":"Details"},{"$f":"HYPERLINK(Options!$B$1, \"Quote\")","v":"Quote"},{"$f":"HYPERLINK(Options!$B$2,\"Fax\")","v":"Fax"}]
["Pfizer Upjohn (P.R. China)",null,"+86 512.6825.2990",null,null,null,null,null,{"$f":"HYPERLINK(\"#'Client Details'!$B$1\",\"Details\")","v":"Details"},{"$f":"HYPERLINK(Options!$B$1, \"Quote\")","v":"Quote"},{"$f":"HYPERLINK(Options!$B$2,\"Fax\")","v":"Fax"}]
["Pharmacopeia","Jeff Kaplan","609-452-3790",null,null,null,null,null,{"$f":"HYPERLINK(\"#'Client Details'!$B$1\",\"Details\")","v":"Details"},{"$f":"HYPERLINK(Options!$B$1, \"Quote\")","v":"Quote"},{"$f":"HYPERLINK(Options!$B$2,\"Fax\")","v":"Fax"}]
["Pharmacopeia (Kaplan)","Jeff Kaplan, CIH"," 609-452-3790","jkaplan@pharmacop.com",null,"Chemical Pharmaceutical","Out State",null,{"$f":"HYPERLINK(\"#'Client Details'!$B$1\",\"Details\")","v":"Details"},{"$f":"HYPERLINK(Options!$B$1, \"Quote\")","v":"Quote"},{"$f":"HYPERLINK(Options!$B$2,\"Fax\")","v":"Fax"}]
["Phase 3 Renewables",null,"330-414-5103",null,null,null,null,null,{"$f":"HYPERLINK(\"#'Client Details'!$B$1\",\"Details\")","v":"Details"},{"$f":"HYPERLINK(Options!$B$1, \"Quote\")","v":"Quote"},{"$f":"HYPERLINK(Options!$B$2,\"Fax\")","v":"Fax"}]
["Phase 3 Renewables (Freeport)","Andy Austin",null,null,null,null,null,null,{"$f":"HYPERLINK(\"#'Client Details'!$B$1\",\"Details\")","v":"Details"},{"$f":"HYPERLINK(Options!$B$1, \"Quote\")","v":"Quote"},{"$f":"HYPERLINK(Options!$B$2,\"Fax\")","v":"Fax"}]
["Phase II Electric (Edsall)","Cindy Edsall"," 231-733-6353",null,null,"Contractor Electrical","Muskegon",null,{"$f":"HYPERLINK(\"#'Client Details'!$B$1\",\"Details\")","v":"Details"},{"$f":"HYPERLINK(Options!$B$1, \"Quote\")","v":"Quote"},{"$f":"HYPERLINK(Options!$B$2,\"Fax\")","v":"Fax"}]
["Phase II Electric (Fox)","Laura Fox"," 231-733-6353",null,"Safety Advisor","Contractor Electrical","Muskegon",null,{"$f":"HYPERLINK(\"#'Client Details'!$B$1\",\"Details\")","v":"Details"},{"$f":"HYPERLINK(Options!$B$1, \"Quote\")","v":"Quote"},{"$f":"HYPERLINK(Options!$B$2,\"Fax\")","v":"Fax"}]
["Philip Services Corp. (Parker PA)","James Gamble","724-399-2983",null,null,null,null,null,{"$f":"HYPERLINK(\"#'Client Details'!$B$1\",\"Details\")","v":"Details"},{"$f":"HYPERLINK(Options!$B$1, \"Quote\")","v":"Quote"},{"$f":"HYPERLINK(Options!$B$2,\"Fax\")","v":"Fax"}]
["Phillip Services Company (Chicago) (Rios)","Gus Rios"," 773-995-5500","gusr@pscnow.com",null,"Other","Out of State",null,{"$f":"HYPERLINK(\"#'Client Details'!$B$1\",\"Details\")","v":"Details"},{"$f":"HYPERLINK(Options!$B$1, \"Quote\")","v":"Quote"},{"$f":"HYPERLINK(Options!$B$2,\"Fax\")","v":"Fax"}]
["Phoenix Sealing Products (Yates)","Frank Yates"," 800-245-3307","frank@phoenixsealing.com",null,"Manufacturer","Wayne",null,{"$f":"HYPERLINK(\"#'Client Details'!$B$1\",\"Details\")","v":"Details"},{"$f":"HYPERLINK(Options!$B$1, \"Quote\")","v":"Quote"},{"$f":"HYPERLINK(Options!$B$2,\"Fax\")","v":"Fax"}]
["Pierre Foods","Felix Calez","440-960-0146","felix.calez@pierrefoods.com",null,null,null,null,{"$f":"HYPERLINK(\"#'Client Details'!$B$1\",\"Details\")","v":"Details"},{"$f":"HYPERLINK(Options!$B$1, \"Quote\")","v":"Quote"},{"$f":"HYPERLINK(Options!$B$2,\"Fax\")","v":"Fax"}]
["Pierre Foods (Calez)","Felix Calez"," 440-960-0146 237","felix.calez@pierrefoods.com",null,"Food","Out of State",null,{"$f":"HYPERLINK(\"#'Client Details'!$B$1\",\"Details\")","v":"Details"},{"$f":"HYPERLINK(Options!$B$1, \"Quote\")","v":"Quote"},{"$f":"HYPERLINK(Options!$B$2,\"Fax\")","v":"Fax"}]
["Pilkington NA - Plant 6","Mark Carter","419-247-3202",null,null,null,null,null,{"$f":"HYPERLINK(\"#'Client Details'!$B$1\",\"Details\")","v":"Details"},{"$f":"HYPERLINK(Options!$B$1, \"Quote\")","v":"Quote"},{"$f":"HYPERLINK(Options!$B$2,\"Fax\")","v":"Fax"}]
["Pilkington North America (Plant#6) (Carte","Mark Carter"," 419-247-3202",null,null,"Manufacturer","Out of State",null,{"$f":"HYPERLINK(\"#'Client Details'!$B$1\",\"Details\")","v":"Details"},{"$f":"HYPERLINK(Options!$B$1, \"Quote\")","v":"Quote"},{"$f":"HYPERLINK(Options!$B$2,\"Fax\")","v":"Fax"}]
["Pilkington NSG Group","Virginia (purchasing)","419-247-4955",null,null,null,null,null,{"$f":"HYPERLINK(\"#'Client Details'!$B$1\",\"Details\")","v":"Details"},{"$f":"HYPERLINK(Options!$B$1, \"Quote\")","v":"Quote"},{"$f":"HYPERLINK(Options!$B$2,\"Fax\")","v":"Fax"}]
["Pinnacle Construction Group (Hovingh)","Joe Hovingh"," 616-451-0500 218","jh@buildwestmichigan.com","Field Resource Manager","Contractor General","Kent",null,{"$f":"HYPERLINK(\"#'Client Details'!$B$1\",\"Details\")","v":"Details"},{"$f":"HYPERLINK(Options!$B$1, \"Quote\")","v":"Quote"},{"$f":"HYPERLINK(Options!$B$2,\"Fax\")","v":"Fax"}]
["Pinnacle Insurance",null,"616-458-8990",null,null,null,null,null,{"$f":"HYPERLINK(\"#'Client Details'!$B$1\",\"Details\")","v":"Details"},{"$f":"HYPERLINK(Options!$B$1, \"Quote\")","v":"Quote"},{"$f":"HYPERLINK(Options!$B$2,\"Fax\")","v":"Fax"}]
["Pioneer Construction","Eric Olson",null,null,null,null,null,null,{"$f":"HYPERLINK(\"#'Client Details'!$B$1\",\"Details\")","v":"Details"},{"$f":"HYPERLINK(Options!$B$1, \"Quote\")","v":"Quote"},{"$f":"HYPERLINK(Options!$B$2,\"Fax\")","v":"Fax"}]
["Pioneer Construction (Blocher)","Brian Blocher"," 616-247-6966","brianb@pioneerinc.com","Director of Safety","Contractor General","Kent",null,{"$f":"HYPERLINK(\"#'Client Details'!$B$1\",\"Details\")","v":"Details"},{"$f":"HYPERLINK(Options!$B$1, \"Quote\")","v":"Quote"},{"$f":"HYPERLINK(Options!$B$2,\"Fax\")","v":"Fax"}]
["Pioneer Hi-Bred","Eric Zeeb","(269) 435-2855",null,null,null,null,null,{"$f":"HYPERLINK(\"#'Client Details'!$B$1\",\"Details\")","v":"Details"},{"$f":"HYPERLINK(Options!$B$1, \"Quote\")","v":"Quote"},{"$f":"HYPERLINK(Options!$B$2,\"Fax\")","v":"Fax"}]
["Piper Communication Services, Inc.",null,"303-456-1060",null,null,null,null,null,{"$f":"HYPERLINK(\"#'Client Details'!$B$1\",\"Details\")","v":"Details"},{"$f":"HYPERLINK(Options!$B$1, \"Quote\")","v":"Quote"},{"$f":"HYPERLINK(Options!$B$2,\"Fax\")","v":"Fax"}]
["Pipp Mobile Storage Systems",null,"616-735-9100",null,null,null,null,null,{"$f":"HYPERLINK(\"#'Client Details'!$B$1\",\"Details\")","v":"Details"},{"$f":"HYPERLINK(Options!$B$1, \"Quote\")","v":"Quote"},{"$f":"HYPERLINK(Options!$B$2,\"Fax\")","v":"Fax"}]
["Pisces Field Services","Kit Foster","231-547-4429",null,null,null,null,null,{"$f":"HYPERLINK(\"#'Client Details'!$B$1\",\"Details\")","v":"Details"},{"$f":"HYPERLINK(Options!$B$1, \"Quote\")","v":"Quote"},{"$f":"HYPERLINK(Options!$B$2,\"Fax\")","v":"Fax"}]
["Pisces Field Services LLC (Foster)","Kit Foster"," 231-547-4429","cfoster@siteplanning.com",null,"Contractor General","Charlevoix",null,{"$f":"HYPERLINK(\"#'Client Details'!$B$1\",\"Details\")","v":"Details"},{"$f":"HYPERLINK(Options!$B$1, \"Quote\")","v":"Quote"},{"$f":"HYPERLINK(Options!$B$2,\"Fax\")","v":"Fax"}]
["Pitsch Companies","Gene Gutting","616-363-4895",null,null,null,null,null,{"$f":"HYPERLINK(\"#'Client Details'!$B$1\",\"Details\")","v":"Details"},{"$f":"HYPERLINK(Options!$B$1, \"Quote\")","v":"Quote"},{"$f":"HYPERLINK(Options!$B$2,\"Fax\")","v":"Fax"}]
["Pitsch Companies (Gutting)","Gene Gutting"," 616-363-4895","genegutting@pitschco.com",null,"Contractor General","Kent",null,{"$f":"HYPERLINK(\"#'Client Details'!$B$1\",\"Details\")","v":"Details"},{"$f":"HYPERLINK(Options!$B$1, \"Quote\")","v":"Quote"},{"$f":"HYPERLINK(Options!$B$2,\"Fax\")","v":"Fax"}]
["Pitsch Companies (Pitsch)","Steven Pitsch"," 616-363-4895","stevenpitsch@aol.com",null,"Contractor General","Kent",null,{"$f":"HYPERLINK(\"#'Client Details'!$B$1\",\"Details\")","v":"Details"},{"$f":"HYPERLINK(Options!$B$1, \"Quote\")","v":"Quote"},{"$f":"HYPERLINK(Options!$B$2,\"Fax\")","v":"Fax"}]
["Pitsch Enterprises (Pitsch)","Gary Pitsch"," 616-437-2093","gary.pitsch@pitschenterprises.com",null,"Contractor General","Kent",null,{"$f":"HYPERLINK(\"#'Client Details'!$B$1\",\"Details\")","v":"Details"},{"$f":"HYPERLINK(Options!$B$1, \"Quote\")","v":"Quote"},{"$f":"HYPERLINK(Options!$B$2,\"Fax\")","v":"Fax"}]
["Pitsch Enterprises, Inc.",null,null,"gary.pitsch@pitschenterprises.com",null,null,null,null,{"$f":"HYPERLINK(\"#'Client Details'!$B$1\",\"Details\")","v":"Details"},{"$f":"HYPERLINK(Options!$B$1, \"Quote\")","v":"Quote"},{"$f":"HYPERLINK(Options!$B$2,\"Fax\")","v":"Fax"}]
["Plainfield Charter Twp.","Ron Walker / Don Patrovich","616-363-9399",null,null,null,null,null,{"$f":"HYPERLINK(\"#'Client Details'!$B$1\",\"Details\")","v":"Details"},{"$f":"HYPERLINK(Options!$B$1, \"Quote\")","v":"Quote"},{"$f":"HYPERLINK(Options!$B$2,\"Fax\")","v":"Fax"}]
["Plains LP (Kincheloe)","Shawn Romska","906-495-4001","sromska@pmclp.com",null,null,null,null,{"$f":"HYPERLINK(\"#'Client Details'!$B$1\",\"Details\")","v":"Details"},{"$f":"HYPERLINK(Options!$B$1, \"Quote\")","v":"Quote"},{"$f":"HYPERLINK(Options!$B$2,\"Fax\")","v":"Fax"}]
["Plains LP Service (Alto) (Blough)","Jared Blough"," 616-868-6928",null,null,"Petroleum Related","Kent",null,{"$f":"HYPERLINK(\"#'Client Details'!$B$1\",\"Details\")","v":"Details"},{"$f":"HYPERLINK(Options!$B$1, \"Quote\")","v":"Quote"},{"$f":"HYPERLINK(Options!$B$2,\"Fax\")","v":"Fax"}]
["Plains LP Service (Alto) (Havlik)","Bill Havlik"," 616-868-6928 221","bhavlik@pmclp.com",null,"Petroleum Related","Kent",null,{"$f":"HYPERLINK(\"#'Client Details'!$B$1\",\"Details\")","v":"Details"},{"$f":"HYPERLINK(Options!$B$1, \"Quote\")","v":"Quote"},{"$f":"HYPERLINK(Options!$B$2,\"Fax\")","v":"Fax"}]
["Plains LPG Service (Alto)","Calib Grummel","616-868-6928","jared.blough@plainsmidstream.com",null,null,null,null,{"$f":"HYPERLINK(\"#'Client Details'!$B$1\",\"Details\")","v":"Details"},{"$f":"HYPERLINK(Options!$B$1, \"Quote\")","v":"Quote"},{"$f":"HYPERLINK(Options!$B$2,\"Fax\")","v":"Fax"}]
["Plains LPG Service (Ross ND)","Kyle Hylton","701-755-3844",null,null,null,null,null,{"$f":"HYPERLINK(\"#'Client Details'!$B$1\",\"Details\")","v":"Details"},{"$f":"HYPERLINK(Options!$B$1, \"Quote\")","v":"Quote"},{"$f":"HYPERLINK(Options!$B$2,\"Fax\")","v":"Fax"}]
["Plainwell WWTP, City of (Pond)","Bryan Pond"," 269-685-5153",null,"Superintendent","Municipal, Cty","Allegan",null,{"$f":"HYPERLINK(\"#'Client Details'!$B$1\",\"Details\")","v":"Details"},{"$f":"HYPERLINK(Options!$B$1, \"Quote\")","v":"Quote"},{"$f":"HYPERLINK(Options!$B$2,\"Fax\")","v":"Fax"}]
["PlastiPak Packaging (Amberg)","Alan Amberg","734 3547149","aamberg@plastipak.com","EH&S Manager","Manufacturer","Plymouth",null,{"$f":"HYPERLINK(\"#'Client Details'!$B$1\",\"Details\")","v":"Details"},{"$f":"HYPERLINK(Options!$B$1, \"Quote\")","v":"Quote"},{"$f":"HYPERLINK(Options!$B$2,\"Fax\")","v":"Fax"}]
["Pleune Service Company (Johnson)","Jeremy Johnson"," 616-243-6374",null,"Safety Director","Contractor HVAC","Kent",null,{"$f":"HYPERLINK(\"#'Client Details'!$B$1\",\"Details\")","v":"Details"},{"$f":"HYPERLINK(Options!$B$1, \"Quote\")","v":"Quote"},{"$f":"HYPERLINK(Options!$B$2,\"Fax\")","v":"Fax"}]
["Pliant (Wygant)","Tim Wygant"," 231-798-7935",null,"Safety",null,"Muskegon",null,{"$f":"HYPERLINK(\"#'Client Details'!$B$1\",\"Details\")","v":"Details"},{"$f":"HYPERLINK(Options!$B$1, \"Quote\")","v":"Quote"},{"$f":"HYPERLINK(Options!$B$2,\"Fax\")","v":"Fax"}]
["PM Environmental","Jeff Rostoni","800-485-0090","rostoni@pmenv.com",null,null,null,null,{"$f":"HYPERLINK(\"#'Client Details'!$B$1\",\"Details\")","v":"Details"},{"$f":"HYPERLINK(Options!$B$1, \"Quote\")","v":"Quote"},{"$f":"HYPERLINK(Options!$B$2,\"Fax\")","v":"Fax"}]
["Polk Township Maintenance (Steggerda)","Kim Steggerda"," 616-399-4968",null,"Supervisor","Municipal, Cty","Ottawa",null,{"$f":"HYPERLINK(\"#'Client Details'!$B$1\",\"Details\")","v":"Details"},{"$f":"HYPERLINK(Options!$B$1, \"Quote\")","v":"Quote"},{"$f":"HYPERLINK(Options!$B$2,\"Fax\")","v":"Fax"}]
["Poll Building Unlimited","Russ Poll","616-693-2625",null,null,null,null,null,{"$f":"HYPERLINK(\"#'Client Details'!$B$1\",\"Details\")","v":"Details"},{"$f":"HYPERLINK(Options!$B$1, \"Quote\")","v":"Quote"},{"$f":"HYPERLINK(Options!$B$2,\"Fax\")","v":"Fax"}]
["Poll Building Unlimited, LLC (Poll)","Russ Poll"," 616-693-2625","pollbuildingunlimited@gmail.com",null,"Contractor General","Ionia",null,{"$f":"HYPERLINK(\"#'Client Details'!$B$1\",\"Details\")","v":"Details"},{"$f":"HYPERLINK(Options!$B$1, \"Quote\")","v":"Quote"},{"$f":"HYPERLINK(Options!$B$2,\"Fax\")","v":"Fax"}]
["Port City Metal Products (Forbes)","David Forbes"," 231-777-3941",null,null,"Metal Finishing","Muskegon",null,{"$f":"HYPERLINK(\"#'Client Details'!$B$1\",\"Details\")","v":"Details"},{"$f":"HYPERLINK(Options!$B$1, \"Quote\")","v":"Quote"},{"$f":"HYPERLINK(Options!$B$2,\"Fax\")","v":"Fax"}]
["Port City Redi Mix Company (Tyler)","Bruce Tyler"," 231-777-2777",null,"Foreman","Mining","Muskegon",null,{"$f":"HYPERLINK(\"#'Client Details'!$B$1\",\"Details\")","v":"Details"},{"$f":"HYPERLINK(Options!$B$1, \"Quote\")","v":"Quote"},{"$f":"HYPERLINK(Options!$B$2,\"Fax\")","v":"Fax"}]
["Portagas, Inc (Parekh)","Ken Parekh"," 800-548-2268","Ken@portagas.com","Business Manager","Supplier","N/A",null,{"$f":"HYPERLINK(\"#'Client Details'!$B$1\",\"Details\")","v":"Details"},{"$f":"HYPERLINK(Options!$B$1, \"Quote\")","v":"Quote"},{"$f":"HYPERLINK(Options!$B$2,\"Fax\")","v":"Fax"}]
["Portage Fire Department, City of (Bragg)","Gary Bragg"," 269-329-4486",null,null,"Fire Department","Kent",null,{"$f":"HYPERLINK(\"#'Client Details'!$B$1\",\"Details\")","v":"Details"},{"$f":"HYPERLINK(Options!$B$1, \"Quote\")","v":"Quote"},{"$f":"HYPERLINK(Options!$B$2,\"Fax\")","v":"Fax"}]
["Portage Parks and Recreation Dept., City","Joe Stubelt"," 269-324-9278",null,"Sr. Park Ranger","Municipal, Cty","Kalamazoo",null,{"$f":"HYPERLINK(\"#'Client Details'!$B$1\",\"Details\")","v":"Details"},{"$f":"HYPERLINK(Options!$B$1, \"Quote\")","v":"Quote"},{"$f":"HYPERLINK(Options!$B$2,\"Fax\")","v":"Fax"}]
["Portage Parks and Recreation Dept., City","Joe Stubelt","269-324-9278",null,null,null,null,null,{"$f":"HYPERLINK(\"#'Client Details'!$B$1\",\"Details\")","v":"Details"},{"$f":"HYPERLINK(Options!$B$1, \"Quote\")","v":"Quote"},{"$f":"HYPERLINK(Options!$B$2,\"Fax\")","v":"Fax"}]
["Portage Parks and Recreation Dept., City","Joe Stubelt"," 269-324-9278",null,"Sr. Park Ranger","Municipal, Cty","Kalamazoo",null,{"$f":"HYPERLINK(\"#'Client Details'!$B$1\",\"Details\")","v":"Details"},{"$f":"HYPERLINK(Options!$B$1, \"Quote\")","v":"Quote"},{"$f":"HYPERLINK(Options!$B$2,\"Fax\")","v":"Fax"}]
["Portage Parks and Recreation Dept., City","Joe Stubelt"," 269-324-9278",null,"Sr. Park Ranger","Municipal, Cty","Kalamazoo",null,{"$f":"HYPERLINK(\"#'Client Details'!$B$1\",\"Details\")","v":"Details"},{"$f":"HYPERLINK(Options!$B$1, \"Quote\")","v":"Quote"},{"$f":"HYPERLINK(Options!$B$2,\"Fax\")","v":"Fax"}]
["Portage, City of","Joe Stubelt","269-329-4444",null,null,null,null,null,{"$f":"HYPERLINK(\"#'Client Details'!$B$1\",\"Details\")","v":"Details"},{"$f":"HYPERLINK(Options!$B$1, \"Quote\")","v":"Quote"},{"$f":"HYPERLINK(Options!$B$2,\"Fax\")","v":"Fax"}]
["Portage, City of (Wise)","Mike Wise"," 269-329-4450","wisem@portagemi.com","Street Superintendent","Municipal, Cty","Kalamazoo",null,{"$f":"HYPERLINK(\"#'Client Details'!$B$1\",\"Details\")","v":"Details"},{"$f":"HYPERLINK(Options!$B$1, \"Quote\")","v":"Quote"},{"$f":"HYPERLINK(Options!$B$2,\"Fax\")","v":"Fax"}]
["Portland Products",null,null,null,null,null,null,null,{"$f":"HYPERLINK(\"#'Client Details'!$B$1\",\"Details\")","v":"Details"},{"$f":"HYPERLINK(Options!$B$1, \"Quote\")","v":"Quote"},{"$f":"HYPERLINK(Options!$B$2,\"Fax\")","v":"Fax"}]
["Portman Equipment Company",null,"513-891-0600",null,null,null,null,null,{"$f":"HYPERLINK(\"#'Client Details'!$B$1\",\"Details\")","v":"Details"},{"$f":"HYPERLINK(Options!$B$1, \"Quote\")","v":"Quote"},{"$f":"HYPERLINK(Options!$B$2,\"Fax\")","v":"Fax"}]
["PotashCorp (Mangas)","Jim Mangas"," 419-879-0898","james.mangs@potashcorp.com","Safety Specialist","Chemical Pharmaceutical","Out of State",null,{"$f":"HYPERLINK(\"#'Client Details'!$B$1\",\"Details\")","v":"Details"},{"$f":"HYPERLINK(Options!$B$1, \"Quote\")","v":"Quote"},{"$f":"HYPERLINK(Options!$B$2,\"Fax\")","v":"Fax"}]
["Potawatami Hannahville Indian Community (","Dan Stein"," 906-466-9142","dstein20@hotmail.com","Water Operations","Municipal, Cty","Out of State",null,{"$f":"HYPERLINK(\"#'Client Details'!$B$1\",\"Details\")","v":"Details"},{"$f":"HYPERLINK(Options!$B$1, \"Quote\")","v":"Quote"},{"$f":"HYPERLINK(Options!$B$2,\"Fax\")","v":"Fax"}]
["Potesta & Associates Inc.","David Corsaro","304-342-1400",null,null,null,null,null,{"$f":"HYPERLINK(\"#'Client Details'!$B$1\",\"Details\")","v":"Details"},{"$f":"HYPERLINK(Options!$B$1, \"Quote\")","v":"Quote"},{"$f":"HYPERLINK(Options!$B$2,\"Fax\")","v":"Fax"}]
["Poultry Management Systems (Zephyrhill)","Eric Winslow","616-642-9421",null,null,null,null,null,{"$f":"HYPERLINK(\"#'Client Details'!$B$1\",\"Details\")","v":"Details"},{"$f":"HYPERLINK(Options!$B$1, \"Quote\")","v":"Quote"},{"$f":"HYPERLINK(Options!$B$2,\"Fax\")","v":"Fax"}]
["Poultry Management Systems Inc.",null,"616-642-9421",null,null,null,null,null,{"$f":"HYPERLINK(\"#'Client Details'!$B$1\",\"Details\")","v":"Details"},{"$f":"HYPERLINK(Options!$B$1, \"Quote\")","v":"Quote"},{"$f":"HYPERLINK(Options!$B$2,\"Fax\")","v":"Fax"}]
["Poultry Management Systems Inc. (Breman)","Bill Kaufman","616-902-2057",null,null,null,null,null,{"$f":"HYPERLINK(\"#'Client Details'!$B$1\",\"Details\")","v":"Details"},{"$f":"HYPERLINK(Options!$B$1, \"Quote\")","v":"Quote"},{"$f":"HYPERLINK(Options!$B$2,\"Fax\")","v":"Fax"}]
["Poultry Management Systems Inc. (Chase)","Eric Winslow (sp?)","616-902-2057",null,null,null,null,null,{"$f":"HYPERLINK(\"#'Client Details'!$B$1\",\"Details\")","v":"Details"},{"$f":"HYPERLINK(Options!$B$1, \"Quote\")","v":"Quote"},{"$f":"HYPERLINK(Options!$B$2,\"Fax\")","v":"Fax"}]
["Poultry Management Systems Inc. (Guthrie)","Bill Kaufman","616-902-2057",null,null,null,null,null,{"$f":"HYPERLINK(\"#'Client Details'!$B$1\",\"Details\")","v":"Details"},{"$f":"HYPERLINK(Options!$B$1, \"Quote\")","v":"Quote"},{"$f":"HYPERLINK(Options!$B$2,\"Fax\")","v":"Fax"}]
["Poultry Management Systems Inc. (Herbruck","Stephen Herbruck"," 616-642-9050",null,"President","Poultry","Ionia",null,{"$f":"HYPERLINK(\"#'Client Details'!$B$1\",\"Details\")","v":"Details"},{"$f":"HYPERLINK(Options!$B$1, \"Quote\")","v":"Quote"},{"$f":"HYPERLINK(Options!$B$2,\"Fax\")","v":"Fax"}]
["Poultry Management Systems Inc. (Powell)","Doug Powell"," 616-642-9050",null,"Vice President/General Manager","Poultry","Ionia",null,{"$f":"HYPERLINK(\"#'Client Details'!$B$1\",\"Details\")","v":"Details"},{"$f":"HYPERLINK(Options!$B$1, \"Quote\")","v":"Quote"},{"$f":"HYPERLINK(Options!$B$2,\"Fax\")","v":"Fax"}]
["Poultry Management Systems Inc. (Quincy)","Eric Winslow",null,null,null,null,null,null,{"$f":"HYPERLINK(\"#'Client Details'!$B$1\",\"Details\")","v":"Details"},{"$f":"HYPERLINK(Options!$B$1, \"Quote\")","v":"Quote"},{"$f":"HYPERLINK(Options!$B$2,\"Fax\")","v":"Fax"}]
["Poultry Management Systems Inc. (Stensrud","Doug Stensrud"," 616-642-9050 1118","dstensrud@pmsi.cc",null,"Poultry","Ionia",null,{"$f":"HYPERLINK(\"#'Client Details'!$B$1\",\"Details\")","v":"Details"},{"$f":"HYPERLINK(Options!$B$1, \"Quote\")","v":"Quote"},{"$f":"HYPERLINK(Options!$B$2,\"Fax\")","v":"Fax"}]
["Poultry Management Systems Inc.(Bushnell)","Bill Kaufman",null,null,null,null,null,null,{"$f":"HYPERLINK(\"#'Client Details'!$B$1\",\"Details\")","v":"Details"},{"$f":"HYPERLINK(Options!$B$1, \"Quote\")","v":"Quote"},{"$f":"HYPERLINK(Options!$B$2,\"Fax\")","v":"Fax"}]
["Poultry Management Systems Inc.(Edward)","Eric Winslow","616-642-9050",null,null,null,null,null,{"$f":"HYPERLINK(\"#'Client Details'!$B$1\",\"Details\")","v":"Details"},{"$f":"HYPERLINK(Options!$B$1, \"Quote\")","v":"Quote"},{"$f":"HYPERLINK(Options!$B$2,\"Fax\")","v":"Fax"}]
["Poultry Management Systems Inc.(Flatonia)","Bill Kaufman","616-902-2057",null,null,null,null,null,{"$f":"HYPERLINK(\"#'Client Details'!$B$1\",\"Details\")","v":"Details"},{"$f":"HYPERLINK(Options!$B$1, \"Quote\")","v":"Quote"},{"$f":"HYPERLINK(Options!$B$2,\"Fax\")","v":"Fax"}]
["Power Maintenance & Constructors (Ulbrich","Karl Ulbrich"," 618-277-1245 219","karlulbrich@pmcllc.com","Director of Safety","Utility","Out of State",null,{"$f":"HYPERLINK(\"#'Client Details'!$B$1\",\"Details\")","v":"Details"},{"$f":"HYPERLINK(Options!$B$1, \"Quote\")","v":"Quote"},{"$f":"HYPERLINK(Options!$B$2,\"Fax\")","v":"Fax"}]
["Powerclean Industrial Services, Inc.",null,"260-483-1375",null,null,null,null,null,{"$f":"HYPERLINK(\"#'Client Details'!$B$1\",\"Details\")","v":"Details"},{"$f":"HYPERLINK(Options!$B$1, \"Quote\")","v":"Quote"},{"$f":"HYPERLINK(Options!$B$2,\"Fax\")","v":"Fax"}]
["PPL Pennsylvania Power Light (Anthony)","Charlie Anthony",null,"cvanthony@pplweb.com",null,"Utility","Out of State",null,{"$f":"HYPERLINK(\"#'Client Details'!$B$1\",\"Details\")","v":"Details"},{"$f":"HYPERLINK(Options!$B$1, \"Quote\")","v":"Quote"},{"$f":"HYPERLINK(Options!$B$2,\"Fax\")","v":"Fax"}]
["Practical Environmental Consultants","Mike Cox Ext.30","616-583-9850","pay fx: 847-519-3431",null,null,null,null,{"$f":"HYPERLINK(\"#'Client Details'!$B$1\",\"Details\")","v":"Details"},{"$f":"HYPERLINK(Options!$B$1, \"Quote\")","v":"Quote"},{"$f":"HYPERLINK(Options!$B$2,\"Fax\")","v":"Fax"}]
["Practical Environmental Consultants (Cox)","Mike Cox"," 616-583-9850 30",null,"Geologist","Contractor EH&S","Kent",null,{"$f":"HYPERLINK(\"#'Client Details'!$B$1\",\"Details\")","v":"Details"},{"$f":"HYPERLINK(Options!$B$1, \"Quote\")","v":"Quote"},{"$f":"HYPERLINK(Options!$B$2,\"Fax\")","v":"Fax"}]
["Praxair Inc. (Canto, OH)","Gerald Palmer","330-453-9904",null,null,null,null,null,{"$f":"HYPERLINK(\"#'Client Details'!$B$1\",\"Details\")","v":"Details"},{"$f":"HYPERLINK(Options!$B$1, \"Quote\")","v":"Quote"},{"$f":"HYPERLINK(Options!$B$2,\"Fax\")","v":"Fax"}]
["Praxair Inc. (Grand Rapids)","Jim Williams","616-451-3055",null,null,null,null,null,{"$f":"HYPERLINK(\"#'Client Details'!$B$1\",\"Details\")","v":"Details"},{"$f":"HYPERLINK(Options!$B$1, \"Quote\")","v":"Quote"},{"$f":"HYPERLINK(Options!$B$2,\"Fax\")","v":"Fax"}]
["Praxair Inc. (Huntsville, AL)",null,"256-759-3493",null,null,null,null,null,{"$f":"HYPERLINK(\"#'Client Details'!$B$1\",\"Details\")","v":"Details"},{"$f":"HYPERLINK(Options!$B$1, \"Quote\")","v":"Quote"},{"$f":"HYPERLINK(Options!$B$2,\"Fax\")","v":"Fax"}]
["Praxair Inc. (Tonawanda, NY)","William Kobayashi","716-879-2350",null,null,null,null,null,{"$f":"HYPERLINK(\"#'Client Details'!$B$1\",\"Details\")","v":"Details"},{"$f":"HYPERLINK(Options!$B$1, \"Quote\")","v":"Quote"},{"$f":"HYPERLINK(Options!$B$2,\"Fax\")","v":"Fax"}]
["Praxis (Semrau)","Samantha Semrau"," 616-827-8525","ssemrau@praxispacking.com",null,"Manufacturer","Kent",null,{"$f":"HYPERLINK(\"#'Client Details'!$B$1\",\"Details\")","v":"Details"},{"$f":"HYPERLINK(Options!$B$1, \"Quote\")","v":"Quote"},{"$f":"HYPERLINK(Options!$B$2,\"Fax\")","v":"Fax"}]
["Precast Services (Hudgins)","Michael Hudgins"," 330-425-2880","mhudgins@precastservices.com",null,"Contractor General","Out of State",null,{"$f":"HYPERLINK(\"#'Client Details'!$B$1\",\"Details\")","v":"Details"},{"$f":"HYPERLINK(Options!$B$1, \"Quote\")","v":"Quote"},{"$f":"HYPERLINK(Options!$B$2,\"Fax\")","v":"Fax"}]
["Precision Aerospace Corp.",null,"616-243-8112","jsimpkins@precision-aerospace.com",null,null,null,null,{"$f":"HYPERLINK(\"#'Client Details'!$B$1\",\"Details\")","v":"Details"},{"$f":"HYPERLINK(Options!$B$1, \"Quote\")","v":"Quote"},{"$f":"HYPERLINK(Options!$B$2,\"Fax\")","v":"Fax"}]
["Precision Aerospace Corporation (Simpkins","Jeff Simpkins"," 616.243.8112 109","jsimpkins@Precision-Aerospace.com","Human Resources Manager","Manufacturer","Kent",null,{"$f":"HYPERLINK(\"#'Client Details'!$B$1\",\"Details\")","v":"Details"},{"$f":"HYPERLINK(Options!$B$1, \"Quote\")","v":"Quote"},{"$f":"HYPERLINK(Options!$B$2,\"Fax\")","v":"Fax"}]
["Precision Fitting & Gauge","Andrea Hibbard","918-551-6735",null,null,null,null,null,{"$f":"HYPERLINK(\"#'Client Details'!$B$1\",\"Details\")","v":"Details"},{"$f":"HYPERLINK(Options!$B$1, \"Quote\")","v":"Quote"},{"$f":"HYPERLINK(Options!$B$2,\"Fax\")","v":"Fax"}]
["Precision Gas Products Inc. (Podolski)","Marcel Podolski"," 888-730-8196 21","marcel131@bellnet.ca","President","Supplier","Out of State",null,{"$f":"HYPERLINK(\"#'Client Details'!$B$1\",\"Details\")","v":"Details"},{"$f":"HYPERLINK(Options!$B$1, \"Quote\")","v":"Quote"},{"$f":"HYPERLINK(Options!$B$2,\"Fax\")","v":"Fax"}]
["Precision Mechanical Service",null,"703-802-1626","PMSLTD@STAFFNET.COM",null,null,null,null,{"$f":"HYPERLINK(\"#'Client Details'!$B$1\",\"Details\")","v":"Details"},{"$f":"HYPERLINK(Options!$B$1, \"Quote\")","v":"Quote"},{"$f":"HYPERLINK(Options!$B$2,\"Fax\")","v":"Fax"}]
["Prein & Newhof (Korhorn)","Rod Korhorn"," 616-878-9296","rkorhorn@preinnewhof.com",null,"Contractor EH&S","Kent",null,{"$f":"HYPERLINK(\"#'Client Details'!$B$1\",\"Details\")","v":"Details"},{"$f":"HYPERLINK(Options!$B$1, \"Quote\")","v":"Quote"},{"$f":"HYPERLINK(Options!$B$2,\"Fax\")","v":"Fax"}]
["Prein & Newhof (Newhof)","Betsy Newhof"," 616-364-8491",null,null,"Contractor EH&S","Kent",null,{"$f":"HYPERLINK(\"#'Client Details'!$B$1\",\"Details\")","v":"Details"},{"$f":"HYPERLINK(Options!$B$1, \"Quote\")","v":"Quote"},{"$f":"HYPERLINK(Options!$B$2,\"Fax\")","v":"Fax"}]
["Premarc (Hower)","Darin Hower"," 800-968-2662 409",null,"Operations Manager","Manufacturer","Wexford",null,{"$f":"HYPERLINK(\"#'Client Details'!$B$1\",\"Details\")","v":"Details"},{"$f":"HYPERLINK(Options!$B$1, \"Quote\")","v":"Quote"},{"$f":"HYPERLINK(Options!$B$2,\"Fax\")","v":"Fax"}]
["Premarc (Swinehart)","Tim Swinehart"," 231-775-3761 424",null,"Maintenance Supervisor","Manufacturer","Wexford",null,{"$f":"HYPERLINK(\"#'Client Details'!$B$1\",\"Details\")","v":"Details"},{"$f":"HYPERLINK(Options!$B$1, \"Quote\")","v":"Quote"},{"$f":"HYPERLINK(Options!$B$2,\"Fax\")","v":"Fax"}]
["Premarc Grand River Infrastructure (Karas","Tony Karasiewicz"," 616-534-9645 640","tonyk@premarc.com","Safety Director","Manufacturer","Kent",null,{"$f":"HYPERLINK(\"#'Client Details'!$B$1\",\"Details\")","v":"Details"},{"$f":"HYPERLINK(Options!$B$1, \"Quote\")","v":"Quote"},{"$f":"HYPERLINK(Options!$B$2,\"Fax\")","v":"Fax"}]
["Premier Caulking Inc.",null,"616-454-5227",null,null,null,null,null,{"$f":"HYPERLINK(\"#'Client Details'!$B$1\",\"Details\")","v":"Details"},{"$f":"HYPERLINK(Options!$B$1, \"Quote\")","v":"Quote"},{"$f":"HYPERLINK(Options!$B$2,\"Fax\")","v":"Fax"}]
["Premier Foods (Wierengo)","Max Wierengo"," 231-773-8302",null,null,"Food","Muskegon",null,{"$f":"HYPERLINK(\"#'Client Details'!$B$1\",\"Details\")","v":"Details"},{"$f":"HYPERLINK(Options!$B$1, \"Quote\")","v":"Quote"},{"$f":"HYPERLINK(Options!$B$2,\"Fax\")","v":"Fax"}]
["Prewitt Mechanical Contractors, Inc.","David Prewitt","859-255-9769",null,null,null,null,null,{"$f":"HYPERLINK(\"#'Client Details'!$B$1\",\"Details\")","v":"Details"},{"$f":"HYPERLINK(Options!$B$1, \"Quote\")","v":"Quote"},{"$f":"HYPERLINK(Options!$B$2,\"Fax\")","v":"Fax"}]
["Prime Excavating",null,"616-656-9410",null,null,null,null,null,{"$f":"HYPERLINK(\"#'Client Details'!$B$1\",\"Details\")","v":"Details"},{"$f":"HYPERLINK(Options!$B$1, \"Quote\")","v":"Quote"},{"$f":"HYPERLINK(Options!$B$2,\"Fax\")","v":"Fax"}]
["Primera Plastics, Inc (Holtrop)","Don Holtrop"," 616-748-6248",null,"Safety","Plastics","Ottawa",null,{"$f":"HYPERLINK(\"#'Client Details'!$B$1\",\"Details\")","v":"Details"},{"$f":"HYPERLINK(Options!$B$1, \"Quote\")","v":"Quote"},{"$f":"HYPERLINK(Options!$B$2,\"Fax\")","v":"Fax"}]
["Primestar Solar (Mulac)","Mike Mulac"," 231-894-9795 425",null,"Mainenance Manager","Technology","Muskegon",null,{"$f":"HYPERLINK(\"#'Client Details'!$B$1\",\"Details\")","v":"Details"},{"$f":"HYPERLINK(Options!$B$1, \"Quote\")","v":"Quote"},{"$f":"HYPERLINK(Options!$B$2,\"Fax\")","v":"Fax"}]
["Princeton University (Gervasi)","William Gervasi",null,"wgervasi@princeton.edu",null,"University","Out of State",null,{"$f":"HYPERLINK(\"#'Client Details'!$B$1\",\"Details\")","v":"Details"},{"$f":"HYPERLINK(Options!$B$1, \"Quote\")","v":"Quote"},{"$f":"HYPERLINK(Options!$B$2,\"Fax\")","v":"Fax"}]
["Pro Services Inc. (Routley)","Jack Routley"," 269-327-2322","jroutley@proservices.biz","Safety Director","Contractor General","Kalamazoo",null,{"$f":"HYPERLINK(\"#'Client Details'!$B$1\",\"Details\")","v":"Details"},{"$f":"HYPERLINK(Options!$B$1, \"Quote\")","v":"Quote"},{"$f":"HYPERLINK(Options!$B$2,\"Fax\")","v":"Fax"}]
["Pro Tech Communications (Lipper)","Joanna Lipper"," 203-925-4055","rthompson@noisebuster.net","Director, Product Sales","Supplier","Out of State",null,{"$f":"HYPERLINK(\"#'Client Details'!$B$1\",\"Details\")","v":"Details"},{"$f":"HYPERLINK(Options!$B$1, \"Quote\")","v":"Quote"},{"$f":"HYPERLINK(Options!$B$2,\"Fax\")","v":"Fax"}]
["ProAct Environmental (Skar)","Jerry Skar"," 231-843-2711","skar@proact-usa.com","General Manager","Contractor EH&S","Mason",null,{"$f":"HYPERLINK(\"#'Client Details'!$B$1\",\"Details\")","v":"Details"},{"$f":"HYPERLINK(Options!$B$1, \"Quote\")","v":"Quote"},{"$f":"HYPERLINK(Options!$B$2,\"Fax\")","v":"Fax"}]
["ProAct Environmental (Smiddy)","Gerard Smiddy"," 231-843-2711","gsmiddy@proact-usa.com","Production Manager","Contractor EH&S","Mason",null,{"$f":"HYPERLINK(\"#'Client Details'!$B$1\",\"Details\")","v":"Details"},{"$f":"HYPERLINK(Options!$B$1, \"Quote\")","v":"Quote"},{"$f":"HYPERLINK(Options!$B$2,\"Fax\")","v":"Fax"}]
["ProAct Services Corporation",null,"231-843-2711",null,null,null,null,null,{"$f":"HYPERLINK(\"#'Client Details'!$B$1\",\"Details\")","v":"Details"},{"$f":"HYPERLINK(Options!$B$1, \"Quote\")","v":"Quote"},{"$f":"HYPERLINK(Options!$B$2,\"Fax\")","v":"Fax"}]
["Proactive Environmental Concepts","Bob Quintilliano","231-894-5005",null,null,null,null,null,{"$f":"HYPERLINK(\"#'Client Details'!$B$1\",\"Details\")","v":"Details"},{"$f":"HYPERLINK(Options!$B$1, \"Quote\")","v":"Quote"},{"$f":"HYPERLINK(Options!$B$2,\"Fax\")","v":"Fax"}]
["Proactive Environmental Concepts LLC (Qui","Scott Quintilliano"," 231-894-5005","squint19@sbcglobal.net",null,"Contractor EH&S","Muskegon",null,{"$f":"HYPERLINK(\"#'Client Details'!$B$1\",\"Details\")","v":"Details"},{"$f":"HYPERLINK(Options!$B$1, \"Quote\")","v":"Quote"},{"$f":"HYPERLINK(Options!$B$2,\"Fax\")","v":"Fax"}]
["Process Control Service","Sean Borgman","734-453-0620",null,null,null,null,null,{"$f":"HYPERLINK(\"#'Client Details'!$B$1\",\"Details\")","v":"Details"},{"$f":"HYPERLINK(Options!$B$1, \"Quote\")","v":"Quote"},{"$f":"HYPERLINK(Options!$B$2,\"Fax\")","v":"Fax"}]
["Process Control Services (King)","Adam King"," 734-453-0620","aking@pcsmi.com",null,"Controls","Wayne",null,{"$f":"HYPERLINK(\"#'Client Details'!$B$1\",\"Details\")","v":"Details"},{"$f":"HYPERLINK(Options!$B$1, \"Quote\")","v":"Quote"},{"$f":"HYPERLINK(Options!$B$2,\"Fax\")","v":"Fax"}]
["Process Control Services (Wozniak)","Greg Wozniak"," 734-453-0620","gwozniak@pcsmi.com",null,"Controls","Wayne",null,{"$f":"HYPERLINK(\"#'Client Details'!$B$1\",\"Details\")","v":"Details"},{"$f":"HYPERLINK(Options!$B$1, \"Quote\")","v":"Quote"},{"$f":"HYPERLINK(Options!$B$2,\"Fax\")","v":"Fax"}]
["ProClean (Theobald)","Lonnie Theobald"," 616-477-3788","lonnieonesource@aim.com",null,"Contractor General","Ottawa",null,{"$f":"HYPERLINK(\"#'Client Details'!$B$1\",\"Details\")","v":"Details"},{"$f":"HYPERLINK(Options!$B$1, \"Quote\")","v":"Quote"},{"$f":"HYPERLINK(Options!$B$2,\"Fax\")","v":"Fax"}]
["Proex Inc.",null,"810-743-5421",null,null,null,null,null,{"$f":"HYPERLINK(\"#'Client Details'!$B$1\",\"Details\")","v":"Details"},{"$f":"HYPERLINK(Options!$B$1, \"Quote\")","v":"Quote"},{"$f":"HYPERLINK(Options!$B$2,\"Fax\")","v":"Fax"}]
["Proex Inc. (Huff)","Joe Huff"," 810-743-4140",null,null,"Contractor General","Genesee",null,{"$f":"HYPERLINK(\"#'Client Details'!$B$1\",\"Details\")","v":"Details"},{"$f":"HYPERLINK(Options!$B$1, \"Quote\")","v":"Quote"},{"$f":"HYPERLINK(Options!$B$2,\"Fax\")","v":"Fax"}]
["Professional Contractor Supplies",null,"410-488-4550","douge@pcs-md.com",null,null,null,null,{"$f":"HYPERLINK(\"#'Client Details'!$B$1\",\"Details\")","v":"Details"},{"$f":"HYPERLINK(Options!$B$1, \"Quote\")","v":"Quote"},{"$f":"HYPERLINK(Options!$B$2,\"Fax\")","v":"Fax"}]
["Professional Contractor Supplies (Eichelb","Doug Eichelberger"," 410-488-4550","douge@pcs-md.com",null,null,"Out of State",null,{"$f":"HYPERLINK(\"#'Client Details'!$B$1\",\"Details\")","v":"Details"},{"$f":"HYPERLINK(Options!$B$1, \"Quote\")","v":"Quote"},{"$f":"HYPERLINK(Options!$B$2,\"Fax\")","v":"Fax"}]
["ProFlow (Schmidt)","Eric Schmidt"," 810-694-6001","proflowusa@prodigy.net",null,"Contractor General","Genesee",null,{"$f":"HYPERLINK(\"#'Client Details'!$B$1\",\"Details\")","v":"Details"},{"$f":"HYPERLINK(Options!$B$1, \"Quote\")","v":"Quote"},{"$f":"HYPERLINK(Options!$B$2,\"Fax\")","v":"Fax"}]
["Progressive Surface","Andrew Smith","616-285-8314",null,null,null,null,null,{"$f":"HYPERLINK(\"#'Client Details'!$B$1\",\"Details\")","v":"Details"},{"$f":"HYPERLINK(Options!$B$1, \"Quote\")","v":"Quote"},{"$f":"HYPERLINK(Options!$B$2,\"Fax\")","v":"Fax"}]
["Progressive Surface (Rottman)","Joel Rottman"," 616-285-8372","jrottman@progressivesurface.com","Engineer","Manufacturer","Kent",null,{"$f":"HYPERLINK(\"#'Client Details'!$B$1\",\"Details\")","v":"Details"},{"$f":"HYPERLINK(Options!$B$1, \"Quote\")","v":"Quote"},{"$f":"HYPERLINK(Options!$B$2,\"Fax\")","v":"Fax"}]
["Progressive Surface, Inc. (Piccard)","Luc Piccard"," 616-285-8357","JPiccard@progressivesurface.com",null,"Manufacturer","Kent",null,{"$f":"HYPERLINK(\"#'Client Details'!$B$1\",\"Details\")","v":"Details"},{"$f":"HYPERLINK(Options!$B$1, \"Quote\")","v":"Quote"},{"$f":"HYPERLINK(Options!$B$2,\"Fax\")","v":"Fax"}]
["Progressive Surface, Inc. (Smith)","Andy Smith"," 616-285-8340","asmith@progressivesurface.com","Engineer","Manufacturer","Kent",null,{"$f":"HYPERLINK(\"#'Client Details'!$B$1\",\"Details\")","v":"Details"},{"$f":"HYPERLINK(Options!$B$1, \"Quote\")","v":"Quote"},{"$f":"HYPERLINK(Options!$B$2,\"Fax\")","v":"Fax"}]
["Project Management Service (Walter)","Bob Walter"," 330-233-3279",null,null,"Contractor General","Out of State",null,{"$f":"HYPERLINK(\"#'Client Details'!$B$1\",\"Details\")","v":"Details"},{"$f":"HYPERLINK(Options!$B$1, \"Quote\")","v":"Quote"},{"$f":"HYPERLINK(Options!$B$2,\"Fax\")","v":"Fax"}]
["Project Management Services IS LLC",null,"330-545-5531",null,null,null,null,null,{"$f":"HYPERLINK(\"#'Client Details'!$B$1\",\"Details\")","v":"Details"},{"$f":"HYPERLINK(Options!$B$1, \"Quote\")","v":"Quote"},{"$f":"HYPERLINK(Options!$B$2,\"Fax\")","v":"Fax"}]
["Pro-MEC Engineering Services, Inc.",null,"517-627-8532",null,null,null,null,null,{"$f":"HYPERLINK(\"#'Client Details'!$B$1\",\"Details\")","v":"Details"},{"$f":"HYPERLINK(Options!$B$1, \"Quote\")","v":"Quote"},{"$f":"HYPERLINK(Options!$B$2,\"Fax\")","v":"Fax"}]
["Pro-Tech Environmental, Inc. (Vlaming)","Bernie Vlaming"," 616-364-9179",null,"President","Contractor EH&S","Kent",null,{"$f":"HYPERLINK(\"#'Client Details'!$B$1\",\"Details\")","v":"Details"},{"$f":"HYPERLINK(Options!$B$1, \"Quote\")","v":"Quote"},{"$f":"HYPERLINK(Options!$B$2,\"Fax\")","v":"Fax"}]
["Proto Manufacturing Ltd","Shane VanDeCarr","734-946-0974","janeto@protoxrd.com",null,null,null,null,{"$f":"HYPERLINK(\"#'Client Details'!$B$1\",\"Details\")","v":"Details"},{"$f":"HYPERLINK(Options!$B$1, \"Quote\")","v":"Quote"},{"$f":"HYPERLINK(Options!$B$2,\"Fax\")","v":"Fax"}]
["Proto Mfg. Inc. (Van De Carr)","Shane Van De Carr"," 734-546-0974",null,null,"Chemical Pharmaceutical","Do Not Know",null,{"$f":"HYPERLINK(\"#'Client Details'!$B$1\",\"Details\")","v":"Details"},{"$f":"HYPERLINK(Options!$B$1, \"Quote\")","v":"Quote"},{"$f":"HYPERLINK(Options!$B$2,\"Fax\")","v":"Fax"}]
["Prototrack, LLC (Tsai)","Robert Tsai"," 630-257-3939 108","rtsai@tjhinc.com","Sr. Applications Developer","Contractor EH&S","Out of State",null,{"$f":"HYPERLINK(\"#'Client Details'!$B$1\",\"Details\")","v":"Details"},{"$f":"HYPERLINK(Options!$B$1, \"Quote\")","v":"Quote"},{"$f":"HYPERLINK(Options!$B$2,\"Fax\")","v":"Fax"}]
["PSC Container Services Div. (Valentino)","Steve Valentino"," 513-554-1604","svalentino@pscnow.com","Facility Manager",null,"Out of State",null,{"$f":"HYPERLINK(\"#'Client Details'!$B$1\",\"Details\")","v":"Details"},{"$f":"HYPERLINK(Options!$B$1, \"Quote\")","v":"Quote"},{"$f":"HYPERLINK(Options!$B$2,\"Fax\")","v":"Fax"}]
["PSC Industrial Svc (Laughlin)","Jenna Laughlin"," 734-384-9200","jlaughlin@pscnow.com",null,"Contractor General","Wayne",null,{"$f":"HYPERLINK(\"#'Client Details'!$B$1\",\"Details\")","v":"Details"},{"$f":"HYPERLINK(Options!$B$1, \"Quote\")","v":"Quote"},{"$f":"HYPERLINK(Options!$B$2,\"Fax\")","v":"Fax"}]
["Pullman Ind. Inc. (Illife)","Bill Illife"," 269-639-3100","abernathyg@pullmanind.com","Account Coordinator","Manufacturer","Allegan",null,{"$f":"HYPERLINK(\"#'Client Details'!$B$1\",\"Details\")","v":"Details"},{"$f":"HYPERLINK(Options!$B$1, \"Quote\")","v":"Quote"},{"$f":"HYPERLINK(Options!$B$2,\"Fax\")","v":"Fax"}]
["Pulpwood & Forestry Products (Ola)","Ola"," 231-788-3088",null,"Office Manager","Forestry","Muskegon",null,{"$f":"HYPERLINK(\"#'Client Details'!$B$1\",\"Details\")","v":"Details"},{"$f":"HYPERLINK(Options!$B$1, \"Quote\")","v":"Quote"},{"$f":"HYPERLINK(Options!$B$2,\"Fax\")","v":"Fax"}]
["Pumford Construction",null,"989-754-6262",null,null,null,null,null,{"$f":"HYPERLINK(\"#'Client Details'!$B$1\",\"Details\")","v":"Details"},{"$f":"HYPERLINK(Options!$B$1, \"Quote\")","v":"Quote"},{"$f":"HYPERLINK(Options!$B$2,\"Fax\")","v":"Fax"}]
["Purdue Pharma Technologies","Jeff Kaplan","973-837-5464",null,null,null,null,null,{"$f":"HYPERLINK(\"#'Client Details'!$B$1\",\"Details\")","v":"Details"},{"$f":"HYPERLINK(Options!$B$1, \"Quote\")","v":"Quote"},{"$f":"HYPERLINK(Options!$B$2,\"Fax\")","v":"Fax"}]
["Purdue Pharma Technologies (Kaplan)","Jeff Kaplan, CIH"," 973-837-5464","jeff.kaplan@pharma.com","Health & Safety Manager","Chemical Pharmaceutical","Out State",null,{"$f":"HYPERLINK(\"#'Client Details'!$B$1\",\"Details\")","v":"Details"},{"$f":"HYPERLINK(Options!$B$1, \"Quote\")","v":"Quote"},{"$f":"HYPERLINK(Options!$B$2,\"Fax\")","v":"Fax"}]
["PVS Chemical (Hansen)","Connie Hansen",null,"chansen@pvschemicals.com",null,"Chemical Pharmaceutical","Wayne",null,{"$f":"HYPERLINK(\"#'Client Details'!$B$1\",\"Details\")","v":"Details"},{"$f":"HYPERLINK(Options!$B$1, \"Quote\")","v":"Quote"},{"$f":"HYPERLINK(Options!$B$2,\"Fax\")","v":"Fax"}]
["Pylman Power Inc.","Brad Plyman","616-877-0949",null,null,null,null,null,{"$f":"HYPERLINK(\"#'Client Details'!$B$1\",\"Details\")","v":"Details"},{"$f":"HYPERLINK(Options!$B$1, \"Quote\")","v":"Quote"},{"$f":"HYPERLINK(Options!$B$2,\"Fax\")","v":"Fax"}]
["Pylman Power, Inc. (Pylman)","Brad Pylman"," 616-877-0949","bradp@pylmanpower.com","Project Manager","Contractor Electrical","Allegan",null,{"$f":"HYPERLINK(\"#'Client Details'!$B$1\",\"Details\")","v":"Details"},{"$f":"HYPERLINK(Options!$B$1, \"Quote\")","v":"Quote"},{"$f":"HYPERLINK(Options!$B$2,\"Fax\")","v":"Fax"}]
["Pyramex ()",null," 800-736-8673",null,null,"Supplier","Out of State",null,{"$f":"HYPERLINK(\"#'Client Details'!$B$1\",\"Details\")","v":"Details"},{"$f":"HYPERLINK(Options!$B$1, \"Quote\")","v":"Quote"},{"$f":"HYPERLINK(Options!$B$2,\"Fax\")","v":"Fax"}]
["Quad Tech International (Purgett)","Paul Purgett"," 414-566-7536","paul.purgett@quadtechworld.com","Manufacturing Support Team Lea","Other","Out of State",null,{"$f":"HYPERLINK(\"#'Client Details'!$B$1\",\"Details\")","v":"Details"},{"$f":"HYPERLINK(Options!$B$1, \"Quote\")","v":"Quote"},{"$f":"HYPERLINK(Options!$B$2,\"Fax\")","v":"Fax"}]
["Quaker Chemical","Evan Weaver","313-418-6679",null,null,null,null,null,{"$f":"HYPERLINK(\"#'Client Details'!$B$1\",\"Details\")","v":"Details"},{"$f":"HYPERLINK(Options!$B$1, \"Quote\")","v":"Quote"},{"$f":"HYPERLINK(Options!$B$2,\"Fax\")","v":"Fax"}]
["QualaWash (Columbus)",null,"614-464-2856",null,null,null,null,null,{"$f":"HYPERLINK(\"#'Client Details'!$B$1\",\"Details\")","v":"Details"},{"$f":"HYPERLINK(Options!$B$1, \"Quote\")","v":"Quote"},{"$f":"HYPERLINK(Options!$B$2,\"Fax\")","v":"Fax"}]
["QualaWash Holdings (Barberton)","Kenneth Lee","330-753-5079",null,null,null,null,null,{"$f":"HYPERLINK(\"#'Client Details'!$B$1\",\"Details\")","v":"Details"},{"$f":"HYPERLINK(Options!$B$1, \"Quote\")","v":"Quote"},{"$f":"HYPERLINK(Options!$B$2,\"Fax\")","v":"Fax"}]
["QualaWash Holdings (Chicago)","Jeff Noble ext.16","773-995-5500","grios@qualawash.com",null,null,null,null,{"$f":"HYPERLINK(\"#'Client Details'!$B$1\",\"Details\")","v":"Details"},{"$f":"HYPERLINK(Options!$B$1, \"Quote\")","v":"Quote"},{"$f":"HYPERLINK(Options!$B$2,\"Fax\")","v":"Fax"}]
["QualaWash Holdings (Chicago) (Rios)","Gus Rios"," 773-995-5500","grios@qualawash.com",null,"Contractor","Cook",null,{"$f":"HYPERLINK(\"#'Client Details'!$B$1\",\"Details\")","v":"Details"},{"$f":"HYPERLINK(Options!$B$1, \"Quote\")","v":"Quote"},{"$f":"HYPERLINK(Options!$B$2,\"Fax\")","v":"Fax"}]
["QualaWash Holdings (Chicago) (Sheahan)","Bob Sheahan"," 773-995-5500","bsheahan@qualawash.com",null,"Contractor General","Cook",null,{"$f":"HYPERLINK(\"#'Client Details'!$B$1\",\"Details\")","v":"Details"},{"$f":"HYPERLINK(Options!$B$1, \"Quote\")","v":"Quote"},{"$f":"HYPERLINK(Options!$B$2,\"Fax\")","v":"Fax"}]
["QualaWash Holdings (Coraopolis)",null,"412-262-2300","kbrough@qualawash.com",null,null,null,null,{"$f":"HYPERLINK(\"#'Client Details'!$B$1\",\"Details\")","v":"Details"},{"$f":"HYPERLINK(Options!$B$1, \"Quote\")","v":"Quote"},{"$f":"HYPERLINK(Options!$B$2,\"Fax\")","v":"Fax"}]
["QualaWash Holdings (Joliet IL)","John Winstead","888-234-3062",null,null,null,null,null,{"$f":"HYPERLINK(\"#'Client Details'!$B$1\",\"Details\")","v":"Details"},{"$f":"HYPERLINK(Options!$B$1, \"Quote\")","v":"Quote"},{"$f":"HYPERLINK(Options!$B$2,\"Fax\")","v":"Fax"}]
["QualaWash Holdings, LLC (Kalamazoo)",null,"269-349-0470",null,null,null,null,null,{"$f":"HYPERLINK(\"#'Client Details'!$B$1\",\"Details\")","v":"Details"},{"$f":"HYPERLINK(Options!$B$1, \"Quote\")","v":"Quote"},{"$f":"HYPERLINK(Options!$B$2,\"Fax\")","v":"Fax"}]
["Qualite Lighting Inc.",null,"517-439-1581",null,null,null,null,null,{"$f":"HYPERLINK(\"#'Client Details'!$B$1\",\"Details\")","v":"Details"},{"$f":"HYPERLINK(Options!$B$1, \"Quote\")","v":"Quote"},{"$f":"HYPERLINK(Options!$B$2,\"Fax\")","v":"Fax"}]
["Quality Air, Heating and Cooling (Middleb","Bob Middlebrook"," 616-956-6776 3354","bob.middlebrook@qualityairinc.com","Director of Field Operations","Contractor HVAC","Kent",null,{"$f":"HYPERLINK(\"#'Client Details'!$B$1\",\"Details\")","v":"Details"},{"$f":"HYPERLINK(Options!$B$1, \"Quote\")","v":"Quote"},{"$f":"HYPERLINK(Options!$B$2,\"Fax\")","v":"Fax"}]
["Quality Aluminum Products (Clark)","Eric Clark"," 269-945-0376","eclark@qualityaluminum.com","Human Resource Manager","Manufacturer","Barry",null,{"$f":"HYPERLINK(\"#'Client Details'!$B$1\",\"Details\")","v":"Details"},{"$f":"HYPERLINK(Options!$B$1, \"Quote\")","v":"Quote"},{"$f":"HYPERLINK(Options!$B$2,\"Fax\")","v":"Fax"}]
["Quality Aluminum Products Inc.","Eric Clark","800-550-1667","cmack@qualityaluminum.com",null,null,null,null,{"$f":"HYPERLINK(\"#'Client Details'!$B$1\",\"Details\")","v":"Details"},{"$f":"HYPERLINK(Options!$B$1, \"Quote\")","v":"Quote"},{"$f":"HYPERLINK(Options!$B$2,\"Fax\")","v":"Fax"}]
["Quality Carriers","Steve Anderson","740-362-4008",null,null,null,null,null,{"$f":"HYPERLINK(\"#'Client Details'!$B$1\",\"Details\")","v":"Details"},{"$f":"HYPERLINK(Options!$B$1, \"Quote\")","v":"Quote"},{"$f":"HYPERLINK(Options!$B$2,\"Fax\")","v":"Fax"}]
["Quality Concrete Work, Inc. (Harmsel)","Lee Ten Harmsel"," 616-772-1030",null,"Safety","Concrete","Ottawa",null,{"$f":"HYPERLINK(\"#'Client Details'!$B$1\",\"Details\")","v":"Details"},{"$f":"HYPERLINK(Options!$B$1, \"Quote\")","v":"Quote"},{"$f":"HYPERLINK(Options!$B$2,\"Fax\")","v":"Fax"}]
["Quality Distribution (Fallis)","Bob Fallis"," 989-496-7575","BFallis@QualityDistribution.com",null,"Other","Midland",null,{"$f":"HYPERLINK(\"#'Client Details'!$B$1\",\"Details\")","v":"Details"},{"$f":"HYPERLINK(Options!$B$1, \"Quote\")","v":"Quote"},{"$f":"HYPERLINK(Options!$B$2,\"Fax\")","v":"Fax"}]
["Quality Distribution (Midland)",null,"989-496-7575","BFallis@QualityDistribution.com",null,null,null,null,{"$f":"HYPERLINK(\"#'Client Details'!$B$1\",\"Details\")","v":"Details"},{"$f":"HYPERLINK(Options!$B$1, \"Quote\")","v":"Quote"},{"$f":"HYPERLINK(Options!$B$2,\"Fax\")","v":"Fax"}]
["Quality Sports Lighting (Belman)","Rusty Belman"," 517-439-1581","rbelman@qualite.com","Purchasing","Manufacturer","Hillsdale",null,{"$f":"HYPERLINK(\"#'Client Details'!$B$1\",\"Details\")","v":"Details"},{"$f":"HYPERLINK(Options!$B$1, \"Quote\")","v":"Quote"},{"$f":"HYPERLINK(Options!$B$2,\"Fax\")","v":"Fax"}]
["Quality Transport, Inc. (Waller)","Darin Waller"," 231-893-8812",null,"Safety",null,"Muskegon",null,{"$f":"HYPERLINK(\"#'Client Details'!$B$1\",\"Details\")","v":"Details"},{"$f":"HYPERLINK(Options!$B$1, \"Quote\")","v":"Quote"},{"$f":"HYPERLINK(Options!$B$2,\"Fax\")","v":"Fax"}]
["Qualtity Air Heating & Cooling","Tammy Bergman","956-0200",null,null,null,null,null,{"$f":"HYPERLINK(\"#'Client Details'!$B$1\",\"Details\")","v":"Details"},{"$f":"HYPERLINK(Options!$B$1, \"Quote\")","v":"Quote"},{"$f":"HYPERLINK(Options!$B$2,\"Fax\")","v":"Fax"}]
["Quest Technologies, Inc. (Bailey)","Tim Bailey"," 262-567-9157",null,"Vice President of U.S. Sales","Supplier","Out of State",null,{"$f":"HYPERLINK(\"#'Client Details'!$B$1\",\"Details\")","v":"Details"},{"$f":"HYPERLINK(Options!$B$1, \"Quote\")","v":"Quote"},{"$f":"HYPERLINK(Options!$B$2,\"Fax\")","v":"Fax"}]
["Quick Tanks, Inc.",null,"260-347-3850",null,null,null,null,null,{"$f":"HYPERLINK(\"#'Client Details'!$B$1\",\"Details\")","v":"Details"},{"$f":"HYPERLINK(Options!$B$1, \"Quote\")","v":"Quote"},{"$f":"HYPERLINK(Options!$B$2,\"Fax\")","v":"Fax"}]
["Quick Tanks, Inc. (Stillwell)","Tom Stillwell"," 260-347-3850 216","tstillwell@quicktanks.com","Purchasing Manager","Other","Out of State",null,{"$f":"HYPERLINK(\"#'Client Details'!$B$1\",\"Details\")","v":"Details"},{"$f":"HYPERLINK(Options!$B$1, \"Quote\")","v":"Quote"},{"$f":"HYPERLINK(Options!$B$2,\"Fax\")","v":"Fax"}]
["Quick Way Trucking",null,"800-866-7875",null,null,null,null,null,{"$f":"HYPERLINK(\"#'Client Details'!$B$1\",\"Details\")","v":"Details"},{"$f":"HYPERLINK(Options!$B$1, \"Quote\")","v":"Quote"},{"$f":"HYPERLINK(Options!$B$2,\"Fax\")","v":"Fax"}]
["Quikrete","Bob Turberville","724-539-6600",null,null,null,null,null,{"$f":"HYPERLINK(\"#'Client Details'!$B$1\",\"Details\")","v":"Details"},{"$f":"HYPERLINK(Options!$B$1, \"Quote\")","v":"Quote"},{"$f":"HYPERLINK(Options!$B$2,\"Fax\")","v":"Fax"}]
["Quincy Inc. (Fracalossi)","Sharon Fracalossi"," 616-399-3330 1003",null,"Safety Supervisor",null,"Ottawa",null,{"$f":"HYPERLINK(\"#'Client Details'!$B$1\",\"Details\")","v":"Details"},{"$f":"HYPERLINK(Options!$B$1, \"Quote\")","v":"Quote"},{"$f":"HYPERLINK(Options!$B$2,\"Fax\")","v":"Fax"}]
["R. W. LaPine Inc. (Harwood)","Larry Harwood"," 269-388-2045",null,"Safety Manager","Contractor General","Kalamazoo",null,{"$f":"HYPERLINK(\"#'Client Details'!$B$1\",\"Details\")","v":"Details"},{"$f":"HYPERLINK(Options!$B$1, \"Quote\")","v":"Quote"},{"$f":"HYPERLINK(Options!$B$2,\"Fax\")","v":"Fax"}]
["R. W. LaPine Inc. (Stratton)","Larry Stratton"," 269-388-2045",null,"Pfizer Site Manager","Contractor General","Kalamazoo",null,{"$f":"HYPERLINK(\"#'Client Details'!$B$1\",\"Details\")","v":"Details"},{"$f":"HYPERLINK(Options!$B$1, \"Quote\")","v":"Quote"},{"$f":"HYPERLINK(Options!$B$2,\"Fax\")","v":"Fax"}]
["R.A. Holmes (Holmes)","Roy Holmes"," 616-837-7799",null,"Owner","Construction/Streets","Kent",null,{"$f":"HYPERLINK(\"#'Client Details'!$B$1\",\"Details\")","v":"Details"},{"$f":"HYPERLINK(Options!$B$1, \"Quote\")","v":"Quote"},{"$f":"HYPERLINK(Options!$B$2,\"Fax\")","v":"Fax"}]
["R.B. Satkowiak's City Sewer Cleaners",null,"989-753-9971",null,null,null,null,null,{"$f":"HYPERLINK(\"#'Client Details'!$B$1\",\"Details\")","v":"Details"},{"$f":"HYPERLINK(Options!$B$1, \"Quote\")","v":"Quote"},{"$f":"HYPERLINK(Options!$B$2,\"Fax\")","v":"Fax"}]
["R.C. Bremer Marketing Associates, Inc. (P","Tammy Perales"," 888-621-4014","gevans@rcbremer.com","Office Manager","Representative","Kent",null,{"$f":"HYPERLINK(\"#'Client Details'!$B$1\",\"Details\")","v":"Details"},{"$f":"HYPERLINK(Options!$B$1, \"Quote\")","v":"Quote"},{"$f":"HYPERLINK(Options!$B$2,\"Fax\")","v":"Fax"}]
["R3 Safety (Nagy)","Dennis Nagy"," 800.421.7081","dennis.nagy@r3safety.com",null,"Supplier","Out of State",null,{"$f":"HYPERLINK(\"#'Client Details'!$B$1\",\"Details\")","v":"Details"},{"$f":"HYPERLINK(Options!$B$1, \"Quote\")","v":"Quote"},{"$f":"HYPERLINK(Options!$B$2,\"Fax\")","v":"Fax"}]
["RAE Systems ()",null," 877-723-2878",null,"Regional Sales Manager","Supplier","Out of State",null,{"$f":"HYPERLINK(\"#'Client Details'!$B$1\",\"Details\")","v":"Details"},{"$f":"HYPERLINK(Options!$B$1, \"Quote\")","v":"Quote"},{"$f":"HYPERLINK(Options!$B$2,\"Fax\")","v":"Fax"}]
["Raeco (Ekstrom)","Ronald Ekstrom"," 800-852-9795 201","ron@raeco.com",null,"Representative","Out of State",null,{"$f":"HYPERLINK(\"#'Client Details'!$B$1\",\"Details\")","v":"Details"},{"$f":"HYPERLINK(Options!$B$1, \"Quote\")","v":"Quote"},{"$f":"HYPERLINK(Options!$B$2,\"Fax\")","v":"Fax"}]
["Raeco (Fransen)","Pat Fransen"," 800-852-9795 204",null,null,"Representative","Out of State",null,{"$f":"HYPERLINK(\"#'Client Details'!$B$1\",\"Details\")","v":"Details"},{"$f":"HYPERLINK(Options!$B$1, \"Quote\")","v":"Quote"},{"$f":"HYPERLINK(Options!$B$2,\"Fax\")","v":"Fax"}]
["Ralph Vanderwerf","Ralph Banderwerf","269-684-6529","PNVW@msn.com",null,null,null,null,{"$f":"HYPERLINK(\"#'Client Details'!$B$1\",\"Details\")","v":"Details"},{"$f":"HYPERLINK(Options!$B$1, \"Quote\")","v":"Quote"},{"$f":"HYPERLINK(Options!$B$2,\"Fax\")","v":"Fax"}]
["Ranir LLC",null,"616-698-8880",null,null,null,null,null,{"$f":"HYPERLINK(\"#'Client Details'!$B$1\",\"Details\")","v":"Details"},{"$f":"HYPERLINK(Options!$B$1, \"Quote\")","v":"Quote"},{"$f":"HYPERLINK(Options!$B$2,\"Fax\")","v":"Fax"}]
["Ranir LLC ()",null," 616-698-8880 1170","scott.petzold@odl.com",null,"Manufacturer","Ottawa",null,{"$f":"HYPERLINK(\"#'Client Details'!$B$1\",\"Details\")","v":"Details"},{"$f":"HYPERLINK(Options!$B$1, \"Quote\")","v":"Quote"},{"$f":"HYPERLINK(Options!$B$2,\"Fax\")","v":"Fax"}]
["Rapa Electric (Rapa)","Tom Rapa"," 269-673-3157",null,"Owner/Operator/Manager","Electrical Industrial","Allegan",null,{"$f":"HYPERLINK(\"#'Client Details'!$B$1\",\"Details\")","v":"Details"},{"$f":"HYPERLINK(Options!$B$1, \"Quote\")","v":"Quote"},{"$f":"HYPERLINK(Options!$B$2,\"Fax\")","v":"Fax"}]
["Ravenna DPW, Village of (Patterson)","Steve Patterson"," 231-853-2360",null,"Superintendent","Municipal, Cty","Muskegon",null,{"$f":"HYPERLINK(\"#'Client Details'!$B$1\",\"Details\")","v":"Details"},{"$f":"HYPERLINK(Options!$B$1, \"Quote\")","v":"Quote"},{"$f":"HYPERLINK(Options!$B$2,\"Fax\")","v":"Fax"}]
["Ravenna Fire Dept., City of","Ryan Hall","330-297-5738",null,null,null,null,null,{"$f":"HYPERLINK(\"#'Client Details'!$B$1\",\"Details\")","v":"Details"},{"$f":"HYPERLINK(Options!$B$1, \"Quote\")","v":"Quote"},{"$f":"HYPERLINK(Options!$B$2,\"Fax\")","v":"Fax"}]
["RC Hendrick & Son, Inc. (Semp)","Gregory Semp"," 989-781-8116","greg@rchendrick.com","Project Manager","Engineering, Architecture","Saginaw",null,{"$f":"HYPERLINK(\"#'Client Details'!$B$1\",\"Details\")","v":"Details"},{"$f":"HYPERLINK(Options!$B$1, \"Quote\")","v":"Quote"},{"$f":"HYPERLINK(Options!$B$2,\"Fax\")","v":"Fax"}]
["RCI (Bainbridge)","Roger Bainbridge"," 616-785-7335","rbainbridge@rcicold.com",null,"Contractor HVAC","Kent",null,{"$f":"HYPERLINK(\"#'Client Details'!$B$1\",\"Details\")","v":"Details"},{"$f":"HYPERLINK(Options!$B$1, \"Quote\")","v":"Quote"},{"$f":"HYPERLINK(Options!$B$2,\"Fax\")","v":"Fax"}]
["RDS Engineering (Keusch)","Greg Keusch"," 269-965-7440 229","gkeusch@rdseng.com","Engineer","Engineering, Architecture","Calhoun",null,{"$f":"HYPERLINK(\"#'Client Details'!$B$1\",\"Details\")","v":"Details"},{"$f":"HYPERLINK(Options!$B$1, \"Quote\")","v":"Quote"},{"$f":"HYPERLINK(Options!$B$2,\"Fax\")","v":"Fax"}]
["RDS Engineering (Nelson)","Stephen Nelson"," 269-965-7440 268","snelson@rdseng.com","Structural Engineer","Engineering, Architecture","Calhoun",null,{"$f":"HYPERLINK(\"#'Client Details'!$B$1\",\"Details\")","v":"Details"},{"$f":"HYPERLINK(Options!$B$1, \"Quote\")","v":"Quote"},{"$f":"HYPERLINK(Options!$B$2,\"Fax\")","v":"Fax"}]
["Red Autumn Tree Service (Rogers)","Nick Rogers"," 616-293-7840",null,"Owner",null,"Kent",null,{"$f":"HYPERLINK(\"#'Client Details'!$B$1\",\"Details\")","v":"Details"},{"$f":"HYPERLINK(Options!$B$1, \"Quote\")","v":"Quote"},{"$f":"HYPERLINK(Options!$B$2,\"Fax\")","v":"Fax"}]
["Red Geranium Cafe","Jim Stein",null,null,null,null,null,null,{"$f":"HYPERLINK(\"#'Client Details'!$B$1\",\"Details\")","v":"Details"},{"$f":"HYPERLINK(Options!$B$1, \"Quote\")","v":"Quote"},{"$f":"HYPERLINK(Options!$B$2,\"Fax\")","v":"Fax"}]
["Reed City DPW, City of","Kevin Rambadt","231-832-2245",null,null,null,null,null,{"$f":"HYPERLINK(\"#'Client Details'!$B$1\",\"Details\")","v":"Details"},{"$f":"HYPERLINK(Options!$B$1, \"Quote\")","v":"Quote"},{"$f":"HYPERLINK(Options!$B$2,\"Fax\")","v":"Fax"}]
["Reed City DPW, City of (Rambadt)","Kevin Rambadt"," 231-832-2245","rambadtk@reedcityhall.org","Superintendent of Public Works","Municipal, Cty","Osceola",null,{"$f":"HYPERLINK(\"#'Client Details'!$B$1\",\"Details\")","v":"Details"},{"$f":"HYPERLINK(Options!$B$1, \"Quote\")","v":"Quote"},{"$f":"HYPERLINK(Options!$B$2,\"Fax\")","v":"Fax"}]
["Reed City WWTP","Don Row","231-832-5353",null,null,null,null,null,{"$f":"HYPERLINK(\"#'Client Details'!$B$1\",\"Details\")","v":"Details"},{"$f":"HYPERLINK(Options!$B$1, \"Quote\")","v":"Quote"},{"$f":"HYPERLINK(Options!$B$2,\"Fax\")","v":"Fax"}]
["Reed City WWTP, City of (Row)","Don Row"," 231-832-5353",null,"WWTP Superintendent","Municipal, Cty","Osceola",null,{"$f":"HYPERLINK(\"#'Client Details'!$B$1\",\"Details\")","v":"Details"},{"$f":"HYPERLINK(Options!$B$1, \"Quote\")","v":"Quote"},{"$f":"HYPERLINK(Options!$B$2,\"Fax\")","v":"Fax"}]
["Reedsport WWTP, City of","Robin Morgan","541-271-4313",null,null,null,null,null,{"$f":"HYPERLINK(\"#'Client Details'!$B$1\",\"Details\")","v":"Details"},{"$f":"HYPERLINK(Options!$B$1, \"Quote\")","v":"Quote"},{"$f":"HYPERLINK(Options!$B$2,\"Fax\")","v":"Fax"}]
["Reenders Blueberry Farms (Mike)","Mike"," 616-842-5238",null,"Co-Owner","Farming","Ottawa",null,{"$f":"HYPERLINK(\"#'Client Details'!$B$1\",\"Details\")","v":"Details"},{"$f":"HYPERLINK(Options!$B$1, \"Quote\")","v":"Quote"},{"$f":"HYPERLINK(Options!$B$2,\"Fax\")","v":"Fax"}]
["Regal Finishing (Kincade)","Alex Kincade"," 269-849-2963","alexkincade@regalfinishing.com","Quality Assurance Manager",null,"Kalamazoo",null,{"$f":"HYPERLINK(\"#'Client Details'!$B$1\",\"Details\")","v":"Details"},{"$f":"HYPERLINK(Options!$B$1, \"Quote\")","v":"Quote"},{"$f":"HYPERLINK(Options!$B$2,\"Fax\")","v":"Fax"}]
["Regional Safety Associates (Schoff)","Ron Schoff"," 219-873-1800",null,"President","Representative","Out of State",null,{"$f":"HYPERLINK(\"#'Client Details'!$B$1\",\"Details\")","v":"Details"},{"$f":"HYPERLINK(Options!$B$1, \"Quote\")","v":"Quote"},{"$f":"HYPERLINK(Options!$B$2,\"Fax\")","v":"Fax"}]
["Reid Entities (B)","John B"," 231-777-3951 3781",null,"Safety Director","Industrial","Muskegon",null,{"$f":"HYPERLINK(\"#'Client Details'!$B$1\",\"Details\")","v":"Details"},{"$f":"HYPERLINK(Options!$B$1, \"Quote\")","v":"Quote"},{"$f":"HYPERLINK(Options!$B$2,\"Fax\")","v":"Fax"}]
["Reliable Contracting Group, LLC",null,"502-244-2596",null,null,null,null,null,{"$f":"HYPERLINK(\"#'Client Details'!$B$1\",\"Details\")","v":"Details"},{"$f":"HYPERLINK(Options!$B$1, \"Quote\")","v":"Quote"},{"$f":"HYPERLINK(Options!$B$2,\"Fax\")","v":"Fax"}]
["Reliable Fire Equipment Company (Raddatz)","Larry Raddatz"," 708-653-9226",null,null,null,"Out of State",null,{"$f":"HYPERLINK(\"#'Client Details'!$B$1\",\"Details\")","v":"Details"},{"$f":"HYPERLINK(Options!$B$1, \"Quote\")","v":"Quote"},{"$f":"HYPERLINK(Options!$B$2,\"Fax\")","v":"Fax"}]
["Reliable Relamping",null,null,null,null,null,null,null,{"$f":"HYPERLINK(\"#'Client Details'!$B$1\",\"Details\")","v":"Details"},{"$f":"HYPERLINK(Options!$B$1, \"Quote\")","v":"Quote"},{"$f":"HYPERLINK(Options!$B$2,\"Fax\")","v":"Fax"}]
["Reliance Industries (Choate)","Gary Choate"," 303-424-8650","gary_choate@relsafe.com","V.P. Engineering","Supplier","Out of State",null,{"$f":"HYPERLINK(\"#'Client Details'!$B$1\",\"Details\")","v":"Details"},{"$f":"HYPERLINK(Options!$B$1, \"Quote\")","v":"Quote"},{"$f":"HYPERLINK(Options!$B$2,\"Fax\")","v":"Fax"}]
["Reliance Industries (Kinney)","Kyle Kinney"," 888-362-2826 201","dawn_carlton@relsafe.com",null,"Supplier","Out of State",null,{"$f":"HYPERLINK(\"#'Client Details'!$B$1\",\"Details\")","v":"Details"},{"$f":"HYPERLINK(Options!$B$1, \"Quote\")","v":"Quote"},{"$f":"HYPERLINK(Options!$B$2,\"Fax\")","v":"Fax"}]
["Reliance Industries (Shaw)","Joe Shaw"," 888-362-2826 201","joe_shaw@gosafe.com",null,"Supplier","Out of State",null,{"$f":"HYPERLINK(\"#'Client Details'!$B$1\",\"Details\")","v":"Details"},{"$f":"HYPERLINK(Options!$B$1, \"Quote\")","v":"Quote"},{"$f":"HYPERLINK(Options!$B$2,\"Fax\")","v":"Fax"}]
["RenovEx Inc.","Bill Baker","814-786-8129 x-112","bbaker@gossgas.com",null,null,null,null,{"$f":"HYPERLINK(\"#'Client Details'!$B$1\",\"Details\")","v":"Details"},{"$f":"HYPERLINK(Options!$B$1, \"Quote\")","v":"Quote"},{"$f":"HYPERLINK(Options!$B$2,\"Fax\")","v":"Fax"}]
["Reny & Company, Inc.","Bernice Navarro","626-444-5305",null,null,null,null,null,{"$f":"HYPERLINK(\"#'Client Details'!$B$1\",\"Details\")","v":"Details"},{"$f":"HYPERLINK(Options!$B$1, \"Quote\")","v":"Quote"},{"$f":"HYPERLINK(Options!$B$2,\"Fax\")","v":"Fax"}]
["Repss Inc.","Jim Long","713-461-6030",null,null,null,null,null,{"$f":"HYPERLINK(\"#'Client Details'!$B$1\",\"Details\")","v":"Details"},{"$f":"HYPERLINK(Options!$B$1, \"Quote\")","v":"Quote"},{"$f":"HYPERLINK(Options!$B$2,\"Fax\")","v":"Fax"}]
["REPSS Inc. (Thomas)","Dave Thomas"," 866-657-3777","dave.thomas@repss.com",null,"Representatives","Out State",null,{"$f":"HYPERLINK(\"#'Client Details'!$B$1\",\"Details\")","v":"Details"},{"$f":"HYPERLINK(Options!$B$1, \"Quote\")","v":"Quote"},{"$f":"HYPERLINK(Options!$B$2,\"Fax\")","v":"Fax"}]
["Request Foods (Zink)","Mark Zink"," 616-786-0900","marzin@requestfoods.com",null,null,"Ottawa",null,{"$f":"HYPERLINK(\"#'Client Details'!$B$1\",\"Details\")","v":"Details"},{"$f":"HYPERLINK(Options!$B$1, \"Quote\")","v":"Quote"},{"$f":"HYPERLINK(Options!$B$2,\"Fax\")","v":"Fax"}]
["Research Organics",null,"216-883-8025",null,null,null,null,null,{"$f":"HYPERLINK(\"#'Client Details'!$B$1\",\"Details\")","v":"Details"},{"$f":"HYPERLINK(Options!$B$1, \"Quote\")","v":"Quote"},{"$f":"HYPERLINK(Options!$B$2,\"Fax\")","v":"Fax"}]
["Restaurant Recycling Services, LLC",null,"231-924-4622",null,null,null,null,null,{"$f":"HYPERLINK(\"#'Client Details'!$B$1\",\"Details\")","v":"Details"},{"$f":"HYPERLINK(Options!$B$1, \"Quote\")","v":"Quote"},{"$f":"HYPERLINK(Options!$B$2,\"Fax\")","v":"Fax"}]
["Restaurant Recycling Services, LLC (Longs","Dirk Longstreth"," 231-924-4622",null,"Owner","Grease Recycling","Lake",null,{"$f":"HYPERLINK(\"#'Client Details'!$B$1\",\"Details\")","v":"Details"},{"$f":"HYPERLINK(Options!$B$1, \"Quote\")","v":"Quote"},{"$f":"HYPERLINK(Options!$B$2,\"Fax\")","v":"Fax"}]
["Rexarc International, Inc.",null,"937-839-4604",null,null,null,null,null,{"$f":"HYPERLINK(\"#'Client Details'!$B$1\",\"Details\")","v":"Details"},{"$f":"HYPERLINK(Options!$B$1, \"Quote\")","v":"Quote"},{"$f":"HYPERLINK(Options!$B$2,\"Fax\")","v":"Fax"}]
["Rexel Summers Electric","Jamie","269-764-2036",null,null,null,null,null,{"$f":"HYPERLINK(\"#'Client Details'!$B$1\",\"Details\")","v":"Details"},{"$f":"HYPERLINK(Options!$B$1, \"Quote\")","v":"Quote"},{"$f":"HYPERLINK(Options!$B$2,\"Fax\")","v":"Fax"}]
["Rich & Howell Plumbing (Mike)","Mike"," 231-773-9102",null,null,null,"Muskegon",null,{"$f":"HYPERLINK(\"#'Client Details'!$B$1\",\"Details\")","v":"Details"},{"$f":"HYPERLINK(Options!$B$1, \"Quote\")","v":"Quote"},{"$f":"HYPERLINK(Options!$B$2,\"Fax\")","v":"Fax"}]
["Richard Perkerewicz",null,"701-315-0074",null,null,null,null,null,{"$f":"HYPERLINK(\"#'Client Details'!$B$1\",\"Details\")","v":"Details"},{"$f":"HYPERLINK(Options!$B$1, \"Quote\")","v":"Quote"},{"$f":"HYPERLINK(Options!$B$2,\"Fax\")","v":"Fax"}]
["Richard-Allan Scientific (Kilgore)","Angie Kilgore"," 800-522-7270 628","akilgore@rallansci.com","Compliance Supervisor","Chemical Pharmaceutical","Kalamazoo",null,{"$f":"HYPERLINK(\"#'Client Details'!$B$1\",\"Details\")","v":"Details"},{"$f":"HYPERLINK(Options!$B$1, \"Quote\")","v":"Quote"},{"$f":"HYPERLINK(Options!$B$2,\"Fax\")","v":"Fax"}]
["Richville Fire Dept.","Duane Laking","cell 989-233-1859","dlaking15@aol.com",null,null,null,null,{"$f":"HYPERLINK(\"#'Client Details'!$B$1\",\"Details\")","v":"Details"},{"$f":"HYPERLINK(Options!$B$1, \"Quote\")","v":"Quote"},{"$f":"HYPERLINK(Options!$B$2,\"Fax\")","v":"Fax"}]
["Ridge Environmental","Nick Ridge","901-734-5022","nridge@midsouth.rr.com",null,null,null,null,{"$f":"HYPERLINK(\"#'Client Details'!$B$1\",\"Details\")","v":"Details"},{"$f":"HYPERLINK(Options!$B$1, \"Quote\")","v":"Quote"},{"$f":"HYPERLINK(Options!$B$2,\"Fax\")","v":"Fax"}]
["Ridgway Fire Department, Inc.",null,"814-776-1125 CityHall","814-772-4064 home",null,null,null,null,{"$f":"HYPERLINK(\"#'Client Details'!$B$1\",\"Details\")","v":"Details"},{"$f":"HYPERLINK(Options!$B$1, \"Quote\")","v":"Quote"},{"$f":"HYPERLINK(Options!$B$2,\"Fax\")","v":"Fax"}]
["Rite-Way Plumbing & Heating (Fisher)","Michael Fisher"," 616-791-0959","mike@ritewayinc.com","Service Coordinator","Contractor HVAC","Kent",null,{"$f":"HYPERLINK(\"#'Client Details'!$B$1\",\"Details\")","v":"Details"},{"$f":"HYPERLINK(Options!$B$1, \"Quote\")","v":"Quote"},{"$f":"HYPERLINK(Options!$B$2,\"Fax\")","v":"Fax"}]
["Rite-Way Plumbing & Heating (Hyde)","Scott Vander Hyde"," 616-791-0959","scott@ritewayinc.com",null,"Contractor HVAC","Kent",null,{"$f":"HYPERLINK(\"#'Client Details'!$B$1\",\"Details\")","v":"Details"},{"$f":"HYPERLINK(Options!$B$1, \"Quote\")","v":"Quote"},{"$f":"HYPERLINK(Options!$B$2,\"Fax\")","v":"Fax"}]
["Rite-Way Plumbing & Heating, Inc.",null,"616-791-0959","dawn@ritewayinc.com",null,null,null,null,{"$f":"HYPERLINK(\"#'Client Details'!$B$1\",\"Details\")","v":"Details"},{"$f":"HYPERLINK(Options!$B$1, \"Quote\")","v":"Quote"},{"$f":"HYPERLINK(Options!$B$2,\"Fax\")","v":"Fax"}]
["River City Mechanical",null,"616-785-1311","jrohen@rivercitymech.com",null,null,null,null,{"$f":"HYPERLINK(\"#'Client Details'!$B$1\",\"Details\")","v":"Details"},{"$f":"HYPERLINK(Options!$B$1, \"Quote\")","v":"Quote"},{"$f":"HYPERLINK(Options!$B$2,\"Fax\")","v":"Fax"}]
["River City Mechanical (Rohen)","Jim Rohen"," 616-785-1311 105","jrohen@rivercitymech.com","Safety Manager","Contractor General","Kent",null,{"$f":"HYPERLINK(\"#'Client Details'!$B$1\",\"Details\")","v":"Details"},{"$f":"HYPERLINK(Options!$B$1, \"Quote\")","v":"Quote"},{"$f":"HYPERLINK(Options!$B$2,\"Fax\")","v":"Fax"}]
["Riveridge Packing",null,null,null,null,null,null,null,{"$f":"HYPERLINK(\"#'Client Details'!$B$1\",\"Details\")","v":"Details"},{"$f":"HYPERLINK(Options!$B$1, \"Quote\")","v":"Quote"},{"$f":"HYPERLINK(Options!$B$2,\"Fax\")","v":"Fax"}]
["Rivertown Window",null,null,null,null,null,null,null,{"$f":"HYPERLINK(\"#'Client Details'!$B$1\",\"Details\")","v":"Details"},{"$f":"HYPERLINK(Options!$B$1, \"Quote\")","v":"Quote"},{"$f":"HYPERLINK(Options!$B$2,\"Fax\")","v":"Fax"}]
["RKI (Pellessier)","Bob Pellessier"," 800-754-5165",null,"President",null,"Out of State",null,{"$f":"HYPERLINK(\"#'Client Details'!$B$1\",\"Details\")","v":"Details"},{"$f":"HYPERLINK(Options!$B$1, \"Quote\")","v":"Quote"},{"$f":"HYPERLINK(Options!$B$2,\"Fax\")","v":"Fax"}]
["RMF Nooter",null,"419-727-1970",null,null,null,null,null,{"$f":"HYPERLINK(\"#'Client Details'!$B$1\",\"Details\")","v":"Details"},{"$f":"HYPERLINK(Options!$B$1, \"Quote\")","v":"Quote"},{"$f":"HYPERLINK(Options!$B$2,\"Fax\")","v":"Fax"}]
["RMT (Plummer)","Scott Plummer"," 616-975-5415","scott.plummer@rmtinc.com","Regulatory Compliance Speciali","Contractor EH&S","Kent",null,{"$f":"HYPERLINK(\"#'Client Details'!$B$1\",\"Details\")","v":"Details"},{"$f":"HYPERLINK(Options!$B$1, \"Quote\")","v":"Quote"},{"$f":"HYPERLINK(Options!$B$2,\"Fax\")","v":"Fax"}]
["Robbins Lumber Inc.","John Mcavey","207-342-6376",null,null,null,null,null,{"$f":"HYPERLINK(\"#'Client Details'!$B$1\",\"Details\")","v":"Details"},{"$f":"HYPERLINK(Options!$B$1, \"Quote\")","v":"Quote"},{"$f":"HYPERLINK(Options!$B$2,\"Fax\")","v":"Fax"}]
["Robert Bentley Publishers (Bentley)","Michael Bentley"," 617-547-4170","comik@mac.com","President","BBB Personal","Out of State",null,{"$f":"HYPERLINK(\"#'Client Details'!$B$1\",\"Details\")","v":"Details"},{"$f":"HYPERLINK(Options!$B$1, \"Quote\")","v":"Quote"},{"$f":"HYPERLINK(Options!$B$2,\"Fax\")","v":"Fax"}]
["Roberts Pipeline, Inc.",null,"765-533-4728",null,null,null,null,null,{"$f":"HYPERLINK(\"#'Client Details'!$B$1\",\"Details\")","v":"Details"},{"$f":"HYPERLINK(Options!$B$1, \"Quote\")","v":"Quote"},{"$f":"HYPERLINK(Options!$B$2,\"Fax\")","v":"Fax"}]
["Rochester Metal Products","Kristen Dean Accting.","765-288-6624",null,null,null,null,null,{"$f":"HYPERLINK(\"#'Client Details'!$B$1\",\"Details\")","v":"Details"},{"$f":"HYPERLINK(Options!$B$1, \"Quote\")","v":"Quote"},{"$f":"HYPERLINK(Options!$B$2,\"Fax\")","v":"Fax"}]
["Rochester Metal Products (Murdock)","Andrew Murdock"," 574-223-3164","amurdock@rochestermetals.com","Environmental/Project Manager","Other","Out of State",null,{"$f":"HYPERLINK(\"#'Client Details'!$B$1\",\"Details\")","v":"Details"},{"$f":"HYPERLINK(Options!$B$1, \"Quote\")","v":"Quote"},{"$f":"HYPERLINK(Options!$B$2,\"Fax\")","v":"Fax"}]
["Rochling Glastic Composites","Heather Ciurlik","216-838-5200","smadden@glastic.com",null,null,null,null,{"$f":"HYPERLINK(\"#'Client Details'!$B$1\",\"Details\")","v":"Details"},{"$f":"HYPERLINK(Options!$B$1, \"Quote\")","v":"Quote"},{"$f":"HYPERLINK(Options!$B$2,\"Fax\")","v":"Fax"}]
["Rochling Glastic Composites (Madden)","Sean Madden"," 216-916-7324","smadden@glastic.com",null,"Manufacturer","Out of State",null,{"$f":"HYPERLINK(\"#'Client Details'!$B$1\",\"Details\")","v":"Details"},{"$f":"HYPERLINK(Options!$B$1, \"Quote\")","v":"Quote"},{"$f":"HYPERLINK(Options!$B$2,\"Fax\")","v":"Fax"}]
["Rockford Berge (Rehkopf)","Roger Rehkopf"," 616-285-6996","rrehkopf@rockfordconstruction.com","Partner","Contractor General","Kent",null,{"$f":"HYPERLINK(\"#'Client Details'!$B$1\",\"Details\")","v":"Details"},{"$f":"HYPERLINK(Options!$B$1, \"Quote\")","v":"Quote"},{"$f":"HYPERLINK(Options!$B$2,\"Fax\")","v":"Fax"}]
["Rockford Construction (Glupker)","Ken Glupker"," 616-285-8100","kglupker@rockfordconstruction.com",null,"Contractor General","Kent",null,{"$f":"HYPERLINK(\"#'Client Details'!$B$1\",\"Details\")","v":"Details"},{"$f":"HYPERLINK(Options!$B$1, \"Quote\")","v":"Quote"},{"$f":"HYPERLINK(Options!$B$2,\"Fax\")","v":"Fax"}]
["Rockford Construction (Lautenbach)","Curt Lautenbach"," 616-285-8100","clautenbach@rockfordconstruction.com",null,"Contractor General","Kent",null,{"$f":"HYPERLINK(\"#'Client Details'!$B$1\",\"Details\")","v":"Details"},{"$f":"HYPERLINK(Options!$B$1, \"Quote\")","v":"Quote"},{"$f":"HYPERLINK(Options!$B$2,\"Fax\")","v":"Fax"}]
["Rockford Construction (Rozich)","Paul Rozich"," 616-285-8100 6556","prozich@rockfordconstruction.com","Safety Manager","Contractor General","Kent",null,{"$f":"HYPERLINK(\"#'Client Details'!$B$1\",\"Details\")","v":"Details"},{"$f":"HYPERLINK(Options!$B$1, \"Quote\")","v":"Quote"},{"$f":"HYPERLINK(Options!$B$2,\"Fax\")","v":"Fax"}]
["Rockford Construction (Wilhelm)","Patrick Wilhelm"," 616-285-8100","PWilhelm@rockfordconstruction.com",null,"Contractor General","Kent",null,{"$f":"HYPERLINK(\"#'Client Details'!$B$1\",\"Details\")","v":"Details"},{"$f":"HYPERLINK(Options!$B$1, \"Quote\")","v":"Quote"},{"$f":"HYPERLINK(Options!$B$2,\"Fax\")","v":"Fax"}]
["Rockford Construction Co.","Paul Rozich","616-540-5855 cell",null,null,null,null,null,{"$f":"HYPERLINK(\"#'Client Details'!$B$1\",\"Details\")","v":"Details"},{"$f":"HYPERLINK(Options!$B$1, \"Quote\")","v":"Quote"},{"$f":"HYPERLINK(Options!$B$2,\"Fax\")","v":"Fax"}]
["Rockford DPW, City of","Mike Bouwkamp","616-866-1537",null,null,null,null,null,{"$f":"HYPERLINK(\"#'Client Details'!$B$1\",\"Details\")","v":"Details"},{"$f":"HYPERLINK(Options!$B$1, \"Quote\")","v":"Quote"},{"$f":"HYPERLINK(Options!$B$2,\"Fax\")","v":"Fax"}]
["Rockford DPW, City of (Bouwkamp)","Mike Bouwkamp"," 616-866-1537","mbouwkamp@rockford.mi.us","Public Works Supervisor","Municipal, Cty","Kent",null,{"$f":"HYPERLINK(\"#'Client Details'!$B$1\",\"Details\")","v":"Details"},{"$f":"HYPERLINK(Options!$B$1, \"Quote\")","v":"Quote"},{"$f":"HYPERLINK(Options!$B$2,\"Fax\")","v":"Fax"}]
["Rockford DPW, City of (Johnston)","Dick Johnston"," 616-866-1537","djohnston@rockford.mi.us","Director of Public Services","Municipal, Cty","Kent",null,{"$f":"HYPERLINK(\"#'Client Details'!$B$1\",\"Details\")","v":"Details"},{"$f":"HYPERLINK(Options!$B$1, \"Quote\")","v":"Quote"},{"$f":"HYPERLINK(Options!$B$2,\"Fax\")","v":"Fax"}]
["Rockford Fire Department, City of","Michael Reus","616-866-1553",null,null,null,null,null,{"$f":"HYPERLINK(\"#'Client Details'!$B$1\",\"Details\")","v":"Details"},{"$f":"HYPERLINK(Options!$B$1, \"Quote\")","v":"Quote"},{"$f":"HYPERLINK(Options!$B$2,\"Fax\")","v":"Fax"}]
["Rockford Fire Department, City of (Reus)","Michael Reus"," 616-866-1553","mreus@rockford.mi.us","Fire Chief","Municipal, Cty","Kent",null,{"$f":"HYPERLINK(\"#'Client Details'!$B$1\",\"Details\")","v":"Details"},{"$f":"HYPERLINK(Options!$B$1, \"Quote\")","v":"Quote"},{"$f":"HYPERLINK(Options!$B$2,\"Fax\")","v":"Fax"}]
["Rockford Housing Authority (IL)","Paul Lindstrom","815-489-8571","plindstrom@rockfordha.org",null,null,null,null,{"$f":"HYPERLINK(\"#'Client Details'!$B$1\",\"Details\")","v":"Details"},{"$f":"HYPERLINK(Options!$B$1, \"Quote\")","v":"Quote"},{"$f":"HYPERLINK(Options!$B$2,\"Fax\")","v":"Fax"}]
["Rockford, City of",null,null,null,null,null,null,null,{"$f":"HYPERLINK(\"#'Client Details'!$B$1\",\"Details\")","v":"Details"},{"$f":"HYPERLINK(Options!$B$1, \"Quote\")","v":"Quote"},{"$f":"HYPERLINK(Options!$B$2,\"Fax\")","v":"Fax"}]
["RockTenn Company (Decker)","John Decker"," 269-963-5511","jdecker@rocktenn.com",null,"Paper","Calhoun",null,{"$f":"HYPERLINK(\"#'Client Details'!$B$1\",\"Details\")","v":"Details"},{"$f":"HYPERLINK(Options!$B$1, \"Quote\")","v":"Quote"},{"$f":"HYPERLINK(Options!$B$2,\"Fax\")","v":"Fax"}]
["Rohm and Haas Company, Morton Salt Divisi","Michael Ganger"," 231-723-2561","mganger@mortonsalt.com","Instrument Supervisor/Safety","Salt?","Manistee",null,{"$f":"HYPERLINK(\"#'Client Details'!$B$1\",\"Details\")","v":"Details"},{"$f":"HYPERLINK(Options!$B$1, \"Quote\")","v":"Quote"},{"$f":"HYPERLINK(Options!$B$2,\"Fax\")","v":"Fax"}]
["Rohr Gasoline Equipment",null,"616-878-5600",null,null,null,null,null,{"$f":"HYPERLINK(\"#'Client Details'!$B$1\",\"Details\")","v":"Details"},{"$f":"HYPERLINK(Options!$B$1, \"Quote\")","v":"Quote"},{"$f":"HYPERLINK(Options!$B$2,\"Fax\")","v":"Fax"}]
["Ron Miedema Concrete (Dean)","Dean"," 616-457-2244",null,"Shop Manager","Concrete Contractors","Ottawa",null,{"$f":"HYPERLINK(\"#'Client Details'!$B$1\",\"Details\")","v":"Details"},{"$f":"HYPERLINK(Options!$B$1, \"Quote\")","v":"Quote"},{"$f":"HYPERLINK(Options!$B$2,\"Fax\")","v":"Fax"}]
["Roosevelt Park, City of","Matt Farrar ext. 108","231-755-3721",null,null,null,null,null,{"$f":"HYPERLINK(\"#'Client Details'!$B$1\",\"Details\")","v":"Details"},{"$f":"HYPERLINK(Options!$B$1, \"Quote\")","v":"Quote"},{"$f":"HYPERLINK(Options!$B$2,\"Fax\")","v":"Fax"}]
["Roosevelt Park; City of (Farrar)","Matt Farrar"," 231-755-3721 108","m.farrar@verizon.net","Public Works Superintendent","Municipal, Cty","Muskegon",null,{"$f":"HYPERLINK(\"#'Client Details'!$B$1\",\"Details\")","v":"Details"},{"$f":"HYPERLINK(Options!$B$1, \"Quote\")","v":"Quote"},{"$f":"HYPERLINK(Options!$B$2,\"Fax\")","v":"Fax"}]
["Rose & Westra, Inc.",null,"616-791-7100",null,null,null,null,null,{"$f":"HYPERLINK(\"#'Client Details'!$B$1\",\"Details\")","v":"Details"},{"$f":"HYPERLINK(Options!$B$1, \"Quote\")","v":"Quote"},{"$f":"HYPERLINK(Options!$B$2,\"Fax\")","v":"Fax"}]
["Rose & Westra, Inc. (Bosze)","William Bosze"," 616-791-7100","wjbosze@rosewestra.com",null,"Contractor EH&S","Kent",null,{"$f":"HYPERLINK(\"#'Client Details'!$B$1\",\"Details\")","v":"Details"},{"$f":"HYPERLINK(Options!$B$1, \"Quote\")","v":"Quote"},{"$f":"HYPERLINK(Options!$B$2,\"Fax\")","v":"Fax"}]
["Rose Acre Farms","Travis Otte","812-497-2557","totte@goodegg.com",null,null,null,null,{"$f":"HYPERLINK(\"#'Client Details'!$B$1\",\"Details\")","v":"Details"},{"$f":"HYPERLINK(Options!$B$1, \"Quote\")","v":"Quote"},{"$f":"HYPERLINK(Options!$B$2,\"Fax\")","v":"Fax"}]
["Rose Acre Farms (Otte)","Travis Otte"," 812-497-2557","totte@goodegg.com","Corporate Safety Director","Poultry","Jackson",null,{"$f":"HYPERLINK(\"#'Client Details'!$B$1\",\"Details\")","v":"Details"},{"$f":"HYPERLINK(Options!$B$1, \"Quote\")","v":"Quote"},{"$f":"HYPERLINK(Options!$B$2,\"Fax\")","v":"Fax"}]
["Roskam Baking (House)","Mark House"," 616-808-3392","housem@roskams.com",null,"Food","Kent",null,{"$f":"HYPERLINK(\"#'Client Details'!$B$1\",\"Details\")","v":"Details"},{"$f":"HYPERLINK(Options!$B$1, \"Quote\")","v":"Quote"},{"$f":"HYPERLINK(Options!$B$2,\"Fax\")","v":"Fax"}]
["Roto-Rooter Services Company (DeLauder)","Joe DeLauder"," 724-325-1382","joe.delauder@rrsc.com","General Manager","Contractor General","Out of State",null,{"$f":"HYPERLINK(\"#'Client Details'!$B$1\",\"Details\")","v":"Details"},{"$f":"HYPERLINK(Options!$B$1, \"Quote\")","v":"Quote"},{"$f":"HYPERLINK(Options!$B$2,\"Fax\")","v":"Fax"}]
["Roy Smith Co.","Lisa Smith","313-883-6969",null,null,null,null,null,{"$f":"HYPERLINK(\"#'Client Details'!$B$1\",\"Details\")","v":"Details"},{"$f":"HYPERLINK(Options!$B$1, \"Quote\")","v":"Quote"},{"$f":"HYPERLINK(Options!$B$2,\"Fax\")","v":"Fax"}]
["Royal Chemical Co.",null,"330-467-1300",null,null,null,null,null,{"$f":"HYPERLINK(\"#'Client Details'!$B$1\",\"Details\")","v":"Details"},{"$f":"HYPERLINK(Options!$B$1, \"Quote\")","v":"Quote"},{"$f":"HYPERLINK(Options!$B$2,\"Fax\")","v":"Fax"}]
["Royal Plastics, Inc. (Bos)","Ed Bos"," 616-667-4103",null,"Plant Manager",null,"Ottawa",null,{"$f":"HYPERLINK(\"#'Client Details'!$B$1\",\"Details\")","v":"Details"},{"$f":"HYPERLINK(Options!$B$1, \"Quote\")","v":"Quote"},{"$f":"HYPERLINK(Options!$B$2,\"Fax\")","v":"Fax"}]
["Royal Plastics, Inc. (Ford)","Tim Ford"," 616-669-3393",null,"Safety",null,"Ottawa",null,{"$f":"HYPERLINK(\"#'Client Details'!$B$1\",\"Details\")","v":"Details"},{"$f":"HYPERLINK(Options!$B$1, \"Quote\")","v":"Quote"},{"$f":"HYPERLINK(Options!$B$2,\"Fax\")","v":"Fax"}]
["Royal Technologies (Ahearne)","Wendy Ahearne"," 616-667-4102",null,"Safety Director",null,"Ottawa",null,{"$f":"HYPERLINK(\"#'Client Details'!$B$1\",\"Details\")","v":"Details"},{"$f":"HYPERLINK(Options!$B$1, \"Quote\")","v":"Quote"},{"$f":"HYPERLINK(Options!$B$2,\"Fax\")","v":"Fax"}]
["RRT","Tabitha","614-272-8310",null,null,null,null,null,{"$f":"HYPERLINK(\"#'Client Details'!$B$1\",\"Details\")","v":"Details"},{"$f":"HYPERLINK(Options!$B$1, \"Quote\")","v":"Quote"},{"$f":"HYPERLINK(Options!$B$2,\"Fax\")","v":"Fax"}]
["RS Insulation (Bagley)","Kelly Bagley"," 269-327-8830","baglady81702@yahoo.com",null,"Contractor General","Kalamazoo",null,{"$f":"HYPERLINK(\"#'Client Details'!$B$1\",\"Details\")","v":"Details"},{"$f":"HYPERLINK(Options!$B$1, \"Quote\")","v":"Quote"},{"$f":"HYPERLINK(Options!$B$2,\"Fax\")","v":"Fax"}]
["RT Boring, Inc.","Tim Russell","517-568-3219","trussell@dmci.net",null,null,null,null,{"$f":"HYPERLINK(\"#'Client Details'!$B$1\",\"Details\")","v":"Details"},{"$f":"HYPERLINK(Options!$B$1, \"Quote\")","v":"Quote"},{"$f":"HYPERLINK(Options!$B$2,\"Fax\")","v":"Fax"}]
["RTC, Inc. (Schaap)","Rodger Schaap"," 231-342-6644","rtctcmi@chartermi.net",null,"Contractor EH&S","Grand Traverse",null,{"$f":"HYPERLINK(\"#'Client Details'!$B$1\",\"Details\")","v":"Details"},{"$f":"HYPERLINK(Options!$B$1, \"Quote\")","v":"Quote"},{"$f":"HYPERLINK(Options!$B$2,\"Fax\")","v":"Fax"}]
["Rue Construction Co. (Rue)","Dave Rue"," 616-772-4760","rueconstruction@sbcglobal.net","President",null,"Ottawa",null,{"$f":"HYPERLINK(\"#'Client Details'!$B$1\",\"Details\")","v":"Details"},{"$f":"HYPERLINK(Options!$B$1, \"Quote\")","v":"Quote"},{"$f":"HYPERLINK(Options!$B$2,\"Fax\")","v":"Fax"}]
["Rupp Safety Associates, Inc. (Rupp)","Kent Rupp"," 517-523-2200","ruppsafety@qcnet.net",null,"Representative","Hillsdale",null,{"$f":"HYPERLINK(\"#'Client Details'!$B$1\",\"Details\")","v":"Details"},{"$f":"HYPERLINK(Options!$B$1, \"Quote\")","v":"Quote"},{"$f":"HYPERLINK(Options!$B$2,\"Fax\")","v":"Fax"}]
["Rupp Safety Associates, Inc. (Turner)","John Turner"," 231-744-3412","jiturner@earthlink.net",null,"Representative","Muskegon",null,{"$f":"HYPERLINK(\"#'Client Details'!$B$1\",\"Details\")","v":"Details"},{"$f":"HYPERLINK(Options!$B$1, \"Quote\")","v":"Quote"},{"$f":"HYPERLINK(Options!$B$2,\"Fax\")","v":"Fax"}]
["RVI Inc.","330-263-6952","888-292-2812",null,null,null,null,null,{"$f":"HYPERLINK(\"#'Client Details'!$B$1\",\"Details\")","v":"Details"},{"$f":"HYPERLINK(Options!$B$1, \"Quote\")","v":"Quote"},{"$f":"HYPERLINK(Options!$B$2,\"Fax\")","v":"Fax"}]
["RVI Inc. (Thomas)","Tom Thomas"," 888-292-2812",null,null,"Other","Out of State",null,{"$f":"HYPERLINK(\"#'Client Details'!$B$1\",\"Details\")","v":"Details"},{"$f":"HYPERLINK(Options!$B$1, \"Quote\")","v":"Quote"},{"$f":"HYPERLINK(Options!$B$2,\"Fax\")","v":"Fax"}]
["Ryan's Modern Sewer Cleaning, Inc.","Paul Harig","616-458-3993",null,null,null,null,null,{"$f":"HYPERLINK(\"#'Client Details'!$B$1\",\"Details\")","v":"Details"},{"$f":"HYPERLINK(Options!$B$1, \"Quote\")","v":"Quote"},{"$f":"HYPERLINK(Options!$B$2,\"Fax\")","v":"Fax"}]
["Ryan's Modern Sewer Cleaning, Inc. (Ryan)","Steve Ryan"," 616-458-3993","tv@ryansewer.com","President","Contractor General","Kent",null,{"$f":"HYPERLINK(\"#'Client Details'!$B$1\",\"Details\")","v":"Details"},{"$f":"HYPERLINK(Options!$B$1, \"Quote\")","v":"Quote"},{"$f":"HYPERLINK(Options!$B$2,\"Fax\")","v":"Fax"}]
["Rycenga Electric, Inc.","Lyle Rycenga","616-842-5530",null,null,null,null,null,{"$f":"HYPERLINK(\"#'Client Details'!$B$1\",\"Details\")","v":"Details"},{"$f":"HYPERLINK(Options!$B$1, \"Quote\")","v":"Quote"},{"$f":"HYPERLINK(Options!$B$2,\"Fax\")","v":"Fax"}]
["Rycenga Electric, Inc. (Rycenga)","Lyle Rycenga"," 616-842-5530","rycengaelectric@chartermi.net","President","Contractor Electrical","Ottawa",null,{"$f":"HYPERLINK(\"#'Client Details'!$B$1\",\"Details\")","v":"Details"},{"$f":"HYPERLINK(Options!$B$1, \"Quote\")","v":"Quote"},{"$f":"HYPERLINK(Options!$B$2,\"Fax\")","v":"Fax"}]
["Rycenga Electric, Inc. (Zalsman)","Andy Zalsman"," 616-842-5600","azalsman@rycenga.com","Yard Manager","Contractor Electrical","Ottawa",null,{"$f":"HYPERLINK(\"#'Client Details'!$B$1\",\"Details\")","v":"Details"},{"$f":"HYPERLINK(Options!$B$1, \"Quote\")","v":"Quote"},{"$f":"HYPERLINK(Options!$B$2,\"Fax\")","v":"Fax"}]
["S & N Machine & Fabricating, Inc. (Putnam","Steve Putnam"," 231-894-2658",null,"Safety",null,"Muskegon",null,{"$f":"HYPERLINK(\"#'Client Details'!$B$1\",\"Details\")","v":"Details"},{"$f":"HYPERLINK(Options!$B$1, \"Quote\")","v":"Quote"},{"$f":"HYPERLINK(Options!$B$2,\"Fax\")","v":"Fax"}]
["SA Morman & Company (Abma)","Dan Abma"," 616-245-0583",null,"Project Manager","Contractor General","Kent",null,{"$f":"HYPERLINK(\"#'Client Details'!$B$1\",\"Details\")","v":"Details"},{"$f":"HYPERLINK(Options!$B$1, \"Quote\")","v":"Quote"},{"$f":"HYPERLINK(Options!$B$2,\"Fax\")","v":"Fax"}]
["Sackett Ranch","Luke Paar","989-762-5049",null,null,null,null,null,{"$f":"HYPERLINK(\"#'Client Details'!$B$1\",\"Details\")","v":"Details"},{"$f":"HYPERLINK(Options!$B$1, \"Quote\")","v":"Quote"},{"$f":"HYPERLINK(Options!$B$2,\"Fax\")","v":"Fax"}]
["Safety Equipment Store (Walters)","Mike Walters"," 888-223-7233",null,"Customer Service Manager","Competitor","Midland",null,{"$f":"HYPERLINK(\"#'Client Details'!$B$1\",\"Details\")","v":"Details"},{"$f":"HYPERLINK(Options!$B$1, \"Quote\")","v":"Quote"},{"$f":"HYPERLINK(Options!$B$2,\"Fax\")","v":"Fax"}]
["Safety First","Mike Fitch","231-258-8222",null,null,null,null,null,{"$f":"HYPERLINK(\"#'Client Details'!$B$1\",\"Details\")","v":"Details"},{"$f":"HYPERLINK(Options!$B$1, \"Quote\")","v":"Quote"},{"$f":"HYPERLINK(Options!$B$2,\"Fax\")","v":"Fax"}]
["Safety First (Fitch)","Mike Fitch"," 231-258-8222",null,null,"Competitor","Kalkaska",null,{"$f":"HYPERLINK(\"#'Client Details'!$B$1\",\"Details\")","v":"Details"},{"$f":"HYPERLINK(Options!$B$1, \"Quote\")","v":"Quote"},{"$f":"HYPERLINK(Options!$B$2,\"Fax\")","v":"Fax"}]
["Safety Inc. (Myerson)","Joel Myerson"," 978-532-7330","joel@ESafetyInc.com",null,null,"Out of State",null,{"$f":"HYPERLINK(\"#'Client Details'!$B$1\",\"Details\")","v":"Details"},{"$f":"HYPERLINK(Options!$B$1, \"Quote\")","v":"Quote"},{"$f":"HYPERLINK(Options!$B$2,\"Fax\")","v":"Fax"}]
["Safety Management Consultants (Miller)","Jim Miller"," 989-390-2531",null,null,"Contractor EH&S","Otsego",null,{"$f":"HYPERLINK(\"#'Client Details'!$B$1\",\"Details\")","v":"Details"},{"$f":"HYPERLINK(Options!$B$1, \"Quote\")","v":"Quote"},{"$f":"HYPERLINK(Options!$B$2,\"Fax\")","v":"Fax"}]
["Safety Now LLC","Marty Lalick","616-916-9294","safetynowllc@sbcglobal.net",null,null,null,null,{"$f":"HYPERLINK(\"#'Client Details'!$B$1\",\"Details\")","v":"Details"},{"$f":"HYPERLINK(Options!$B$1, \"Quote\")","v":"Quote"},{"$f":"HYPERLINK(Options!$B$2,\"Fax\")","v":"Fax"}]
["Safety Products (Stam)","Vicki Stam"," 616-399-2693",null,null,"Competitor","Ottawa",null,{"$f":"HYPERLINK(\"#'Client Details'!$B$1\",\"Details\")","v":"Details"},{"$f":"HYPERLINK(Options!$B$1, \"Quote\")","v":"Quote"},{"$f":"HYPERLINK(Options!$B$2,\"Fax\")","v":"Fax"}]
["Safety Resources Company of Ohio, Inc.",null,"330-477-1100",null,null,null,null,null,{"$f":"HYPERLINK(\"#'Client Details'!$B$1\",\"Details\")","v":"Details"},{"$f":"HYPERLINK(Options!$B$1, \"Quote\")","v":"Quote"},{"$f":"HYPERLINK(Options!$B$2,\"Fax\")","v":"Fax"}]
["Safety Service (Customer Acct)",null,"616-956-6060",null,null,null,null,null,{"$f":"HYPERLINK(\"#'Client Details'!$B$1\",\"Details\")","v":"Details"},{"$f":"HYPERLINK(Options!$B$1, \"Quote\")","v":"Quote"},{"$f":"HYPERLINK(Options!$B$2,\"Fax\")","v":"Fax"}]
["Safety Services Inc. (Wisniewski)","Tom Wisniewski"," 800-632-2955 1382",null,null,"Supplier","Kent",null,{"$f":"HYPERLINK(\"#'Client Details'!$B$1\",\"Details\")","v":"Details"},{"$f":"HYPERLINK(Options!$B$1, \"Quote\")","v":"Quote"},{"$f":"HYPERLINK(Options!$B$2,\"Fax\")","v":"Fax"}]
["Safety Solutions","Angela Kelly","800-232-7463","myokosuk@safetysolutions.com",null,null,null,null,{"$f":"HYPERLINK(\"#'Client Details'!$B$1\",\"Details\")","v":"Details"},{"$f":"HYPERLINK(Options!$B$1, \"Quote\")","v":"Quote"},{"$f":"HYPERLINK(Options!$B$2,\"Fax\")","v":"Fax"}]
["Safety Solutions Inc. (Boone)","Michael Boone"," 260-925-","mboone@safetysolutions.com","Territory Sales Manager","Competitor","Out of State",null,{"$f":"HYPERLINK(\"#'Client Details'!$B$1\",\"Details\")","v":"Details"},{"$f":"HYPERLINK(Options!$B$1, \"Quote\")","v":"Quote"},{"$f":"HYPERLINK(Options!$B$2,\"Fax\")","v":"Fax"}]
["Safety Solutions Inc. (Yokosuk)","Mark Yokosuk"," 800-232-7463 6726","myokosuk@safetysolutions.com","Safety Sales Administrator","Competitor","Out of State",null,{"$f":"HYPERLINK(\"#'Client Details'!$B$1\",\"Details\")","v":"Details"},{"$f":"HYPERLINK(Options!$B$1, \"Quote\")","v":"Quote"},{"$f":"HYPERLINK(Options!$B$2,\"Fax\")","v":"Fax"}]
["Saginaw County Road Commission (Hare)","Scott A. Hare"," 989-399-3754","hares@scrc.org","Permit Enforcement Officer",null,"Saginaw",null,{"$f":"HYPERLINK(\"#'Client Details'!$B$1\",\"Details\")","v":"Details"},{"$f":"HYPERLINK(Options!$B$1, \"Quote\")","v":"Quote"},{"$f":"HYPERLINK(Options!$B$2,\"Fax\")","v":"Fax"}]
["Sahara Inc.","Carl Schrank","801-298-7724",null,null,null,null,null,{"$f":"HYPERLINK(\"#'Client Details'!$B$1\",\"Details\")","v":"Details"},{"$f":"HYPERLINK(Options!$B$1, \"Quote\")","v":"Quote"},{"$f":"HYPERLINK(Options!$B$2,\"Fax\")","v":"Fax"}]
["SAIC Environmental Equipment (Minnich)","Larry Minnich"," 800-739-7706",null,null,"Supplier - Rental Equipment","Out of State",null,{"$f":"HYPERLINK(\"#'Client Details'!$B$1\",\"Details\")","v":"Details"},{"$f":"HYPERLINK(Options!$B$1, \"Quote\")","v":"Quote"},{"$f":"HYPERLINK(Options!$B$2,\"Fax\")","v":"Fax"}]
["Salandra Painting Inc.","Mark Salandra","814-265-1206",null,null,null,null,null,{"$f":"HYPERLINK(\"#'Client Details'!$B$1\",\"Details\")","v":"Details"},{"$f":"HYPERLINK(Options!$B$1, \"Quote\")","v":"Quote"},{"$f":"HYPERLINK(Options!$B$2,\"Fax\")","v":"Fax"}]
["Sales and Marketing of Michigan, LLC","Joel Sheridan","616-842-7480",null,null,null,null,null,{"$f":"HYPERLINK(\"#'Client Details'!$B$1\",\"Details\")","v":"Details"},{"$f":"HYPERLINK(Options!$B$1, \"Quote\")","v":"Quote"},{"$f":"HYPERLINK(Options!$B$2,\"Fax\")","v":"Fax"}]
["SAMM Sales and Marketing of Michigan, LLC","Joel Sheridan"," 616.837.1026","jsheridan@sammllc.com","President","Supplier","Ottawa",null,{"$f":"HYPERLINK(\"#'Client Details'!$B$1\",\"Details\")","v":"Details"},{"$f":"HYPERLINK(Options!$B$1, \"Quote\")","v":"Quote"},{"$f":"HYPERLINK(Options!$B$2,\"Fax\")","v":"Fax"}]
["Samson Resources (Stender)","John Stender"," 989-255-7457","jstender@samson.com",null,"Petroleum Related","Alpena",null,{"$f":"HYPERLINK(\"#'Client Details'!$B$1\",\"Details\")","v":"Details"},{"$f":"HYPERLINK(Options!$B$1, \"Quote\")","v":"Quote"},{"$f":"HYPERLINK(Options!$B$2,\"Fax\")","v":"Fax"}]
["Samson Resources Co.","John Stender","959-255-7457",null,null,null,null,null,{"$f":"HYPERLINK(\"#'Client Details'!$B$1\",\"Details\")","v":"Details"},{"$f":"HYPERLINK(Options!$B$1, \"Quote\")","v":"Quote"},{"$f":"HYPERLINK(Options!$B$2,\"Fax\")","v":"Fax"}]
["Sappi Fine Paper (Cloquet)",null,"218-879-0671",null,null,null,null,null,{"$f":"HYPERLINK(\"#'Client Details'!$B$1\",\"Details\")","v":"Details"},{"$f":"HYPERLINK(Options!$B$1, \"Quote\")","v":"Quote"},{"$f":"HYPERLINK(Options!$B$2,\"Fax\")","v":"Fax"}]
["Sappi Fine Paper (Muskegon)","Mike Wolffis","231-759-5366",null,null,null,null,null,{"$f":"HYPERLINK(\"#'Client Details'!$B$1\",\"Details\")","v":"Details"},{"$f":"HYPERLINK(Options!$B$1, \"Quote\")","v":"Quote"},{"$f":"HYPERLINK(Options!$B$2,\"Fax\")","v":"Fax"}]
["Sappi Skowhegan (Pembroke)","Rick Pembroke"," 207-238-3055","rick.pembroke@sappi.com",null,"Paper","Out of State",null,{"$f":"HYPERLINK(\"#'Client Details'!$B$1\",\"Details\")","v":"Details"},{"$f":"HYPERLINK(Options!$B$1, \"Quote\")","v":"Quote"},{"$f":"HYPERLINK(Options!$B$2,\"Fax\")","v":"Fax"}]
["Sara Lee - Oven Fresh Bakery (Lalick)","Marty Lalick"," 616-245-9127",null,null,"Food","Kent",null,{"$f":"HYPERLINK(\"#'Client Details'!$B$1\",\"Details\")","v":"Details"},{"$f":"HYPERLINK(Options!$B$1, \"Quote\")","v":"Quote"},{"$f":"HYPERLINK(Options!$B$2,\"Fax\")","v":"Fax"}]
["Sara Lee (DeVries)","Jessica DeVries"," 616-875-3585","jessica.devries@saralee.com",null,"Food","Ottawa",null,{"$f":"HYPERLINK(\"#'Client Details'!$B$1\",\"Details\")","v":"Details"},{"$f":"HYPERLINK(Options!$B$1, \"Quote\")","v":"Quote"},{"$f":"HYPERLINK(Options!$B$2,\"Fax\")","v":"Fax"}]
["Sara Lee (Heinrich)","Steve Heinrich"," 616-875-2655","steve.heinrich@saralee.com","Purchasing",null,"Ottawa",null,{"$f":"HYPERLINK(\"#'Client Details'!$B$1\",\"Details\")","v":"Details"},{"$f":"HYPERLINK(Options!$B$1, \"Quote\")","v":"Quote"},{"$f":"HYPERLINK(Options!$B$2,\"Fax\")","v":"Fax"}]
["Sara Lee (Hutchens)","Don Hutchens"," 616-875-2563","don.hutchens@saralee.com","Safety Manager","Food","Ottawa",null,{"$f":"HYPERLINK(\"#'Client Details'!$B$1\",\"Details\")","v":"Details"},{"$f":"HYPERLINK(Options!$B$1, \"Quote\")","v":"Quote"},{"$f":"HYPERLINK(Options!$B$2,\"Fax\")","v":"Fax"}]
["Sara Lee (Kentwood)","Marty Lalick","616-245-9127","martin.lalick@saralee.com",null,null,null,null,{"$f":"HYPERLINK(\"#'Client Details'!$B$1\",\"Details\")","v":"Details"},{"$f":"HYPERLINK(Options!$B$1, \"Quote\")","v":"Quote"},{"$f":"HYPERLINK(Options!$B$2,\"Fax\")","v":"Fax"}]
["Sara Lee (Nink)","Bob Nink"," 616-875-3556","robert.nink@saralee.com","Security Supervisor",null,"Ottawa",null,{"$f":"HYPERLINK(\"#'Client Details'!$B$1\",\"Details\")","v":"Details"},{"$f":"HYPERLINK(Options!$B$1, \"Quote\")","v":"Quote"},{"$f":"HYPERLINK(Options!$B$2,\"Fax\")","v":"Fax"}]
["Sara Lee (Zeeland)","act pbl 800-449-4284x7578","616-875-3537 Security",null,null,null,null,null,{"$f":"HYPERLINK(\"#'Client Details'!$B$1\",\"Details\")","v":"Details"},{"$f":"HYPERLINK(Options!$B$1, \"Quote\")","v":"Quote"},{"$f":"HYPERLINK(Options!$B$2,\"Fax\")","v":"Fax"}]
["Sara Lee Bakery Group (Weller)","Kenneth Weller"," 616-252-2727","wellerke@slbg.com","Engineering Manager","Food","Kent",null,{"$f":"HYPERLINK(\"#'Client Details'!$B$1\",\"Details\")","v":"Details"},{"$f":"HYPERLINK(Options!$B$1, \"Quote\")","v":"Quote"},{"$f":"HYPERLINK(Options!$B$2,\"Fax\")","v":"Fax"}]
["Sargent Electric Company","Don Kohlmyer","412-394-7406",null,null,null,null,null,{"$f":"HYPERLINK(\"#'Client Details'!$B$1\",\"Details\")","v":"Details"},{"$f":"HYPERLINK(Options!$B$1, \"Quote\")","v":"Quote"},{"$f":"HYPERLINK(Options!$B$2,\"Fax\")","v":"Fax"}]
["Sargent Electric Company (Selepec)","Justin Selepec"," 412-394-7406","jselepec@sargent.com",null,"Contractor Electrical","Out of State",null,{"$f":"HYPERLINK(\"#'Client Details'!$B$1\",\"Details\")","v":"Details"},{"$f":"HYPERLINK(Options!$B$1, \"Quote\")","v":"Quote"},{"$f":"HYPERLINK(Options!$B$2,\"Fax\")","v":"Fax"}]
["Saugatuck DPW, City of",null,"269-857-2558",null,null,null,null,null,{"$f":"HYPERLINK(\"#'Client Details'!$B$1\",\"Details\")","v":"Details"},{"$f":"HYPERLINK(Options!$B$1, \"Quote\")","v":"Quote"},{"$f":"HYPERLINK(Options!$B$2,\"Fax\")","v":"Fax"}]
["Saugatuck DPW, City of (Simonson)","Bruce Simonson"," 269-857-2558","returned","Superintendent","Municipal, Cty","Allegan",null,{"$f":"HYPERLINK(\"#'Client Details'!$B$1\",\"Details\")","v":"Details"},{"$f":"HYPERLINK(Options!$B$1, \"Quote\")","v":"Quote"},{"$f":"HYPERLINK(Options!$B$2,\"Fax\")","v":"Fax"}]
["Savannah, City of (Twiggs)","Alfred Twiggs"," 912-351-3899","alfred_twiggs@savannahga.gov",null,"Municipal, Cty","Out of State",null,{"$f":"HYPERLINK(\"#'Client Details'!$B$1\",\"Details\")","v":"Details"},{"$f":"HYPERLINK(Options!$B$1, \"Quote\")","v":"Quote"},{"$f":"HYPERLINK(Options!$B$2,\"Fax\")","v":"Fax"}]
["Scenic View Dairy (Austin)","Andy Austin",null,"andy.austin@scenicviewdairy.com","Biosystems Engineer","Engineering, Architecture","Allegan",null,{"$f":"HYPERLINK(\"#'Client Details'!$B$1\",\"Details\")","v":"Details"},{"$f":"HYPERLINK(Options!$B$1, \"Quote\")","v":"Quote"},{"$f":"HYPERLINK(Options!$B$2,\"Fax\")","v":"Fax"}]
["Scenic View Dairy (Fennville)",null,null,null,null,null,null,null,{"$f":"HYPERLINK(\"#'Client Details'!$B$1\",\"Details\")","v":"Details"},{"$f":"HYPERLINK(Options!$B$1, \"Quote\")","v":"Quote"},{"$f":"HYPERLINK(Options!$B$2,\"Fax\")","v":"Fax"}]
["Scenic View Dairy (Freeport)","Phil Geerlings","616-218-2422","scenicviewfreeport@hughes.net",null,null,null,null,{"$f":"HYPERLINK(\"#'Client Details'!$B$1\",\"Details\")","v":"Details"},{"$f":"HYPERLINK(Options!$B$1, \"Quote\")","v":"Quote"},{"$f":"HYPERLINK(Options!$B$2,\"Fax\")","v":"Fax"}]
["Scheck Mechanical Corp.","Mrs. Geri Hlavac","708-482-8100",null,null,null,null,null,{"$f":"HYPERLINK(\"#'Client Details'!$B$1\",\"Details\")","v":"Details"},{"$f":"HYPERLINK(Options!$B$1, \"Quote\")","v":"Quote"},{"$f":"HYPERLINK(Options!$B$2,\"Fax\")","v":"Fax"}]
["Scheidel Electric","John Scheidel","cell 616.291.3682",null,null,null,null,null,{"$f":"HYPERLINK(\"#'Client Details'!$B$1\",\"Details\")","v":"Details"},{"$f":"HYPERLINK(Options!$B$1, \"Quote\")","v":"Quote"},{"$f":"HYPERLINK(Options!$B$2,\"Fax\")","v":"Fax"}]
["Schering Plough (Lynch)","Michael Lynch"," 908-298-4338","michael.lynch8@spcorp.com","Safety Specialist","Chemical Pharmaceutical","Out of State",null,{"$f":"HYPERLINK(\"#'Client Details'!$B$1\",\"Details\")","v":"Details"},{"$f":"HYPERLINK(Options!$B$1, \"Quote\")","v":"Quote"},{"$f":"HYPERLINK(Options!$B$2,\"Fax\")","v":"Fax"}]
["Schipper Poultry","Cal Schipper","269-751-4981",null,null,null,null,null,{"$f":"HYPERLINK(\"#'Client Details'!$B$1\",\"Details\")","v":"Details"},{"$f":"HYPERLINK(Options!$B$1, \"Quote\")","v":"Quote"},{"$f":"HYPERLINK(Options!$B$2,\"Fax\")","v":"Fax"}]
["Schippers Excavating Inc.",null,"616-895-4119",null,null,null,null,null,{"$f":"HYPERLINK(\"#'Client Details'!$B$1\",\"Details\")","v":"Details"},{"$f":"HYPERLINK(Options!$B$1, \"Quote\")","v":"Quote"},{"$f":"HYPERLINK(Options!$B$2,\"Fax\")","v":"Fax"}]
["Schippers Excavating, Inc. (Bosch)","Don Bosch"," 616-895-4119",null,"Estimator","Contractor, Excavator","Ottawa",null,{"$f":"HYPERLINK(\"#'Client Details'!$B$1\",\"Details\")","v":"Details"},{"$f":"HYPERLINK(Options!$B$1, \"Quote\")","v":"Quote"},{"$f":"HYPERLINK(Options!$B$2,\"Fax\")","v":"Fax"}]
["Schlumberger","Jim Haug","616-768-2171",null,null,null,null,null,{"$f":"HYPERLINK(\"#'Client Details'!$B$1\",\"Details\")","v":"Details"},{"$f":"HYPERLINK(Options!$B$1, \"Quote\")","v":"Quote"},{"$f":"HYPERLINK(Options!$B$2,\"Fax\")","v":"Fax"}]
["Schroeder Resources LLC","Randy Schroeder","517-676-8063",null,null,null,null,null,{"$f":"HYPERLINK(\"#'Client Details'!$B$1\",\"Details\")","v":"Details"},{"$f":"HYPERLINK(Options!$B$1, \"Quote\")","v":"Quote"},{"$f":"HYPERLINK(Options!$B$2,\"Fax\")","v":"Fax"}]
["Schrotenboer Electric Inc. (Schrotenboer)","Todd Schrotenboer"," 616-751-4357",null,"President","Contractor Electrical","Allegan",null,{"$f":"HYPERLINK(\"#'Client Details'!$B$1\",\"Details\")","v":"Details"},{"$f":"HYPERLINK(Options!$B$1, \"Quote\")","v":"Quote"},{"$f":"HYPERLINK(Options!$B$2,\"Fax\")","v":"Fax"}]
["Schulhoff Equipment Rental","Mike Whalen","513-961-1122","dleese@fuse.net",null,null,null,null,{"$f":"HYPERLINK(\"#'Client Details'!$B$1\",\"Details\")","v":"Details"},{"$f":"HYPERLINK(Options!$B$1, \"Quote\")","v":"Quote"},{"$f":"HYPERLINK(Options!$B$2,\"Fax\")","v":"Fax"}]
["Schulte Supply, Inc.","Adam Wessel","618-656-8383","adamwessel@schultesupply.com",null,null,null,null,{"$f":"HYPERLINK(\"#'Client Details'!$B$1\",\"Details\")","v":"Details"},{"$f":"HYPERLINK(Options!$B$1, \"Quote\")","v":"Quote"},{"$f":"HYPERLINK(Options!$B$2,\"Fax\")","v":"Fax"}]
["Schultz Excavating (Schultz)","Brian Schultz"," 231-845-7125",null,"President","Contractor General","Mason",null,{"$f":"HYPERLINK(\"#'Client Details'!$B$1\",\"Details\")","v":"Details"},{"$f":"HYPERLINK(Options!$B$1, \"Quote\")","v":"Quote"},{"$f":"HYPERLINK(Options!$B$2,\"Fax\")","v":"Fax"}]
["Schultz Fluid Handling Equipment","Mark Schultz","216-676-9777",null,null,null,null,null,{"$f":"HYPERLINK(\"#'Client Details'!$B$1\",\"Details\")","v":"Details"},{"$f":"HYPERLINK(Options!$B$1, \"Quote\")","v":"Quote"},{"$f":"HYPERLINK(Options!$B$2,\"Fax\")","v":"Fax"}]
["Schultz Fluid Handling Equipment (Schultz","Mark Schultz","216 676 9777","mschultz@schultzfluid.com",null,"Contractor General","Out of State",null,{"$f":"HYPERLINK(\"#'Client Details'!$B$1\",\"Details\")","v":"Details"},{"$f":"HYPERLINK(Options!$B$1, \"Quote\")","v":"Quote"},{"$f":"HYPERLINK(Options!$B$2,\"Fax\")","v":"Fax"}]
["Schust Engineering Inc. (Baker)","Ronn Baker"," 260-482-4820","rbaker@schust.com",null,"Contractor General","Out of State",null,{"$f":"HYPERLINK(\"#'Client Details'!$B$1\",\"Details\")","v":"Details"},{"$f":"HYPERLINK(Options!$B$1, \"Quote\")","v":"Quote"},{"$f":"HYPERLINK(Options!$B$2,\"Fax\")","v":"Fax"}]
["Schuylkill Materials Handling Co.","Gene Melocheck","570-875-4006","genemelo@gmail.com",null,null,null,null,{"$f":"HYPERLINK(\"#'Client Details'!$B$1\",\"Details\")","v":"Details"},{"$f":"HYPERLINK(Options!$B$1, \"Quote\")","v":"Quote"},{"$f":"HYPERLINK(Options!$B$2,\"Fax\")","v":"Fax"}]
["Schwing Bioset","Mike Smith","715-247-3433",null,null,null,null,null,{"$f":"HYPERLINK(\"#'Client Details'!$B$1\",\"Details\")","v":"Details"},{"$f":"HYPERLINK(Options!$B$1, \"Quote\")","v":"Quote"},{"$f":"HYPERLINK(Options!$B$2,\"Fax\")","v":"Fax"}]
["Scoreboards.com",null,null,null,null,null,null,null,{"$f":"HYPERLINK(\"#'Client Details'!$B$1\",\"Details\")","v":"Details"},{"$f":"HYPERLINK(Options!$B$1, \"Quote\")","v":"Quote"},{"$f":"HYPERLINK(Options!$B$2,\"Fax\")","v":"Fax"}]
["Scoreboards.com (Burnette)","Marty Burnette"," 239-549-4720","sales@scoreboards.com",null,"BBB Personal","Out of State",null,{"$f":"HYPERLINK(\"#'Client Details'!$B$1\",\"Details\")","v":"Details"},{"$f":"HYPERLINK(Options!$B$1, \"Quote\")","v":"Quote"},{"$f":"HYPERLINK(Options!$B$2,\"Fax\")","v":"Fax"}]
["Scorpion Cable and Fiber","Attn: Blain Anderson","734-260-3745",null,null,null,null,null,{"$f":"HYPERLINK(\"#'Client Details'!$B$1\",\"Details\")","v":"Details"},{"$f":"HYPERLINK(Options!$B$1, \"Quote\")","v":"Quote"},{"$f":"HYPERLINK(Options!$B$2,\"Fax\")","v":"Fax"}]
["Scott (Shaffer)","Keith Shaffer"," 800-247-7257",null,"Technical Support","Supplier","Out of State",null,{"$f":"HYPERLINK(\"#'Client Details'!$B$1\",\"Details\")","v":"Details"},{"$f":"HYPERLINK(Options!$B$1, \"Quote\")","v":"Quote"},{"$f":"HYPERLINK(Options!$B$2,\"Fax\")","v":"Fax"}]
["Seabrood (Kim)","Kim"," 231-759-8820",null,"Safety",null,"Muskegon",null,{"$f":"HYPERLINK(\"#'Client Details'!$B$1\",\"Details\")","v":"Details"},{"$f":"HYPERLINK(Options!$B$1, \"Quote\")","v":"Quote"},{"$f":"HYPERLINK(Options!$B$2,\"Fax\")","v":"Fax"}]
["Seaman's (Seaman)","Randy Seaman"," 616-458-1544",null,"Safety Manager","Contractor HVAC","Kent",null,{"$f":"HYPERLINK(\"#'Client Details'!$B$1\",\"Details\")","v":"Details"},{"$f":"HYPERLINK(Options!$B$1, \"Quote\")","v":"Quote"},{"$f":"HYPERLINK(Options!$B$2,\"Fax\")","v":"Fax"}]
["Seaver Finishing (Kathy)","Kathy"," 616-842-8560",null,"Receptionist","Manufacturing","Ottawa",null,{"$f":"HYPERLINK(\"#'Client Details'!$B$1\",\"Details\")","v":"Details"},{"$f":"HYPERLINK(Options!$B$1, \"Quote\")","v":"Quote"},{"$f":"HYPERLINK(Options!$B$2,\"Fax\")","v":"Fax"}]
["Seaway Painting","Bill Loughrey","734-522-2440",null,null,null,null,null,{"$f":"HYPERLINK(\"#'Client Details'!$B$1\",\"Details\")","v":"Details"},{"$f":"HYPERLINK(Options!$B$1, \"Quote\")","v":"Quote"},{"$f":"HYPERLINK(Options!$B$2,\"Fax\")","v":"Fax"}]
["Seaway Painting (Loughrey)","Bill Loughrey"," 734-522-2440","billloughrey@aol.com",null,"Contractor General","Wayne",null,{"$f":"HYPERLINK(\"#'Client Details'!$B$1\",\"Details\")","v":"Details"},{"$f":"HYPERLINK(Options!$B$1, \"Quote\")","v":"Quote"},{"$f":"HYPERLINK(Options!$B$2,\"Fax\")","v":"Fax"}]
["Seco/Warwick","Kandy Davis","814-332-8513",null,null,null,null,null,{"$f":"HYPERLINK(\"#'Client Details'!$B$1\",\"Details\")","v":"Details"},{"$f":"HYPERLINK(Options!$B$1, \"Quote\")","v":"Quote"},{"$f":"HYPERLINK(Options!$B$2,\"Fax\")","v":"Fax"}]
["Secur Alarm Systems","Char Slager","616-257-7730",null,null,null,null,null,{"$f":"HYPERLINK(\"#'Client Details'!$B$1\",\"Details\")","v":"Details"},{"$f":"HYPERLINK(Options!$B$1, \"Quote\")","v":"Quote"},{"$f":"HYPERLINK(Options!$B$2,\"Fax\")","v":"Fax"}]
["Select One Insurance",null,null,null,null,null,null,null,{"$f":"HYPERLINK(\"#'Client Details'!$B$1\",\"Details\")","v":"Details"},{"$f":"HYPERLINK(Options!$B$1, \"Quote\")","v":"Quote"},{"$f":"HYPERLINK(Options!$B$2,\"Fax\")","v":"Fax"}]
["Select Technologies","Evan Greka","616-866-6700","evangreka@select-technologies.com",null,null,null,null,{"$f":"HYPERLINK(\"#'Client Details'!$B$1\",\"Details\")","v":"Details"},{"$f":"HYPERLINK(Options!$B$1, \"Quote\")","v":"Quote"},{"$f":"HYPERLINK(Options!$B$2,\"Fax\")","v":"Fax"}]
["Select Technologies (Greka)","Evan Greka"," 616-866-6700","evangreka@select-technologies.com",null,"Contractor General","Kent",null,{"$f":"HYPERLINK(\"#'Client Details'!$B$1\",\"Details\")","v":"Details"},{"$f":"HYPERLINK(Options!$B$1, \"Quote\")","v":"Quote"},{"$f":"HYPERLINK(Options!$B$2,\"Fax\")","v":"Fax"}]
["Selective Insurance Co.","Rich Bourne","616-949-5100","rich.bourne@selective.com",null,null,null,null,{"$f":"HYPERLINK(\"#'Client Details'!$B$1\",\"Details\")","v":"Details"},{"$f":"HYPERLINK(Options!$B$1, \"Quote\")","v":"Quote"},{"$f":"HYPERLINK(Options!$B$2,\"Fax\")","v":"Fax"}]
["Selge Construction Inc. (Riley)","Scott Riley",null,null,null,"Contractor General","Berrien",null,{"$f":"HYPERLINK(\"#'Client Details'!$B$1\",\"Details\")","v":"Details"},{"$f":"HYPERLINK(Options!$B$1, \"Quote\")","v":"Quote"},{"$f":"HYPERLINK(Options!$B$2,\"Fax\")","v":"Fax"}]
["Sellner-Behr Corporation","Rose Osburn","616-802-4105",null,null,null,null,null,{"$f":"HYPERLINK(\"#'Client Details'!$B$1\",\"Details\")","v":"Details"},{"$f":"HYPERLINK(Options!$B$1, \"Quote\")","v":"Quote"},{"$f":"HYPERLINK(Options!$B$2,\"Fax\")","v":"Fax"}]
["Sellner-Behr Industries Corporation (Iden","Bill Iden"," 616-785-9400 251","bill.iden@sellnercorp.com",null,"Automotive","Kent",null,{"$f":"HYPERLINK(\"#'Client Details'!$B$1\",\"Details\")","v":"Details"},{"$f":"HYPERLINK(Options!$B$1, \"Quote\")","v":"Quote"},{"$f":"HYPERLINK(Options!$B$2,\"Fax\")","v":"Fax"}]
["Semco (Conant)","Julie Conant"," 269-966-0404 5561",null,"Safety Manager","Utility","Calhoun",null,{"$f":"HYPERLINK(\"#'Client Details'!$B$1\",\"Details\")","v":"Details"},{"$f":"HYPERLINK(Options!$B$1, \"Quote\")","v":"Quote"},{"$f":"HYPERLINK(Options!$B$2,\"Fax\")","v":"Fax"}]
["Sensidyne (Louchinski)","Lisa Louchinski"," 800-451-9444 622",null,null,"Supplier","Out of State",null,{"$f":"HYPERLINK(\"#'Client Details'!$B$1\",\"Details\")","v":"Details"},{"$f":"HYPERLINK(Options!$B$1, \"Quote\")","v":"Quote"},{"$f":"HYPERLINK(Options!$B$2,\"Fax\")","v":"Fax"}]
["SER Communications",null,"248-398-1009",null,null,null,null,null,{"$f":"HYPERLINK(\"#'Client Details'!$B$1\",\"Details\")","v":"Details"},{"$f":"HYPERLINK(Options!$B$1, \"Quote\")","v":"Quote"},{"$f":"HYPERLINK(Options!$B$2,\"Fax\")","v":"Fax"}]
["SER Communications (Hentschel)","John Hentschel"," 248-398-1009","jhentschel@serdetroit.net",null,"Contractor General","Wayne",null,{"$f":"HYPERLINK(\"#'Client Details'!$B$1\",\"Details\")","v":"Details"},{"$f":"HYPERLINK(Options!$B$1, \"Quote\")","v":"Quote"},{"$f":"HYPERLINK(Options!$B$2,\"Fax\")","v":"Fax"}]
["Serviscreen Printing (Greg)","Greg"," 616-669-1640",null,"Office Manager/Owner?",null,"Ottawa",null,{"$f":"HYPERLINK(\"#'Client Details'!$B$1\",\"Details\")","v":"Details"},{"$f":"HYPERLINK(Options!$B$1, \"Quote\")","v":"Quote"},{"$f":"HYPERLINK(Options!$B$2,\"Fax\")","v":"Fax"}]
["Severstal North America (Tesin)","Don Tesin"," 734-344-2814","dtesin@severstalna.com","Industrial Safety Engineer","Steel","Wayne",null,{"$f":"HYPERLINK(\"#'Client Details'!$B$1\",\"Details\")","v":"Details"},{"$f":"HYPERLINK(Options!$B$1, \"Quote\")","v":"Quote"},{"$f":"HYPERLINK(Options!$B$2,\"Fax\")","v":"Fax"}]
["Shaggy Pines Dog Park","Pam Stanley","616-676-9464",null,null,null,null,null,{"$f":"HYPERLINK(\"#'Client Details'!$B$1\",\"Details\")","v":"Details"},{"$f":"HYPERLINK(Options!$B$1, \"Quote\")","v":"Quote"},{"$f":"HYPERLINK(Options!$B$2,\"Fax\")","v":"Fax"}]
["Shambaugh & Sons, division of Havel Bros.","Chris Porter","260-487-7753",null,null,null,null,null,{"$f":"HYPERLINK(\"#'Client Details'!$B$1\",\"Details\")","v":"Details"},{"$f":"HYPERLINK(Options!$B$1, \"Quote\")","v":"Quote"},{"$f":"HYPERLINK(Options!$B$2,\"Fax\")","v":"Fax"}]
["Shamrock Technologies (Kappes)","Bruce Kappes"," 973-242-2999  9-1061","bkappes@shamrocktechnologies.com",null,"Manufacturer","Out of State",null,{"$f":"HYPERLINK(\"#'Client Details'!$B$1\",\"Details\")","v":"Details"},{"$f":"HYPERLINK(Options!$B$1, \"Quote\")","v":"Quote"},{"$f":"HYPERLINK(Options!$B$2,\"Fax\")","v":"Fax"}]
["Shamrock Technologies, Inc.",null,"973-242-2999",null,null,null,null,null,{"$f":"HYPERLINK(\"#'Client Details'!$B$1\",\"Details\")","v":"Details"},{"$f":"HYPERLINK(Options!$B$1, \"Quote\")","v":"Quote"},{"$f":"HYPERLINK(Options!$B$2,\"Fax\")","v":"Fax"}]
["Shape Corporation (McDowell)","Mellisa McDowell"," 616-846-8700",null,"Buyer","Automotive","Muskegon",null,{"$f":"HYPERLINK(\"#'Client Details'!$B$1\",\"Details\")","v":"Details"},{"$f":"HYPERLINK(Options!$B$1, \"Quote\")","v":"Quote"},{"$f":"HYPERLINK(Options!$B$2,\"Fax\")","v":"Fax"}]
["Shape Corporation (Swiftney)","Bryan Swiftney"," 616-844-3266",null,"Purchasing",null,"Muskegon",null,{"$f":"HYPERLINK(\"#'Client Details'!$B$1\",\"Details\")","v":"Details"},{"$f":"HYPERLINK(Options!$B$1, \"Quote\")","v":"Quote"},{"$f":"HYPERLINK(Options!$B$2,\"Fax\")","v":"Fax"}]
["Shape Corporation (Westbrook)","Mike Westbrook"," 616-846-8700 3453","westbrom@shape-corp.com","Safety & Enviromental Manager","Automotive","Muskegon",null,{"$f":"HYPERLINK(\"#'Client Details'!$B$1\",\"Details\")","v":"Details"},{"$f":"HYPERLINK(Options!$B$1, \"Quote\")","v":"Quote"},{"$f":"HYPERLINK(Options!$B$2,\"Fax\")","v":"Fax"}]
["Shaun Smith (Sample)","Shaun Smith",null,null,null,null,null,null,{"$f":"HYPERLINK(\"#'Client Details'!$B$1\",\"Details\")","v":"Details"},{"$f":"HYPERLINK(Options!$B$1, \"Quote\")","v":"Quote"},{"$f":"HYPERLINK(Options!$B$2,\"Fax\")","v":"Fax"}]
["Shaw Stone & Webster","Ben Rogers","269-764-3278",null,null,null,null,null,{"$f":"HYPERLINK(\"#'Client Details'!$B$1\",\"Details\")","v":"Details"},{"$f":"HYPERLINK(Options!$B$1, \"Quote\")","v":"Quote"},{"$f":"HYPERLINK(Options!$B$2,\"Fax\")","v":"Fax"}]
["Shelby DPW (Phillips)","Randy Phillips"," 231-861-2500",null,"Superintendent","Municipal, Cty","Oceana",null,{"$f":"HYPERLINK(\"#'Client Details'!$B$1\",\"Details\")","v":"Details"},{"$f":"HYPERLINK(Options!$B$1, \"Quote\")","v":"Quote"},{"$f":"HYPERLINK(Options!$B$2,\"Fax\")","v":"Fax"}]
["Shelby Fire Department (Thompson)","Mike Thompson"," 519-342-3166",null,null,null,"Out of State",null,{"$f":"HYPERLINK(\"#'Client Details'!$B$1\",\"Details\")","v":"Details"},{"$f":"HYPERLINK(Options!$B$1, \"Quote\")","v":"Quote"},{"$f":"HYPERLINK(Options!$B$2,\"Fax\")","v":"Fax"}]
["Shelby Twp. DPW",null,"586-731-5990",null,null,null,null,null,{"$f":"HYPERLINK(\"#'Client Details'!$B$1\",\"Details\")","v":"Details"},{"$f":"HYPERLINK(Options!$B$1, \"Quote\")","v":"Quote"},{"$f":"HYPERLINK(Options!$B$2,\"Fax\")","v":"Fax"}]
["Sheldrake Point Vineyard","Dave Breeden","607-532-9401",null,null,null,null,null,{"$f":"HYPERLINK(\"#'Client Details'!$B$1\",\"Details\")","v":"Details"},{"$f":"HYPERLINK(Options!$B$1, \"Quote\")","v":"Quote"},{"$f":"HYPERLINK(Options!$B$2,\"Fax\")","v":"Fax"}]
["Shellcast, Inc.","Laura Castonia","231-893-8245",null,null,null,null,null,{"$f":"HYPERLINK(\"#'Client Details'!$B$1\",\"Details\")","v":"Details"},{"$f":"HYPERLINK(Options!$B$1, \"Quote\")","v":"Quote"},{"$f":"HYPERLINK(Options!$B$2,\"Fax\")","v":"Fax"}]
["Shellcast, Inc. (Castonia)","Laura Castonia"," 231-893-8245","lcastonia@shellcastinc.com","HR, Acct.","Manufacturer","Muskegon",null,{"$f":"HYPERLINK(\"#'Client Details'!$B$1\",\"Details\")","v":"Details"},{"$f":"HYPERLINK(Options!$B$1, \"Quote\")","v":"Quote"},{"$f":"HYPERLINK(Options!$B$2,\"Fax\")","v":"Fax"}]
["Sheridan Books Inc.","Tim Welshans","734-475-9145",null,null,null,null,null,{"$f":"HYPERLINK(\"#'Client Details'!$B$1\",\"Details\")","v":"Details"},{"$f":"HYPERLINK(Options!$B$1, \"Quote\")","v":"Quote"},{"$f":"HYPERLINK(Options!$B$2,\"Fax\")","v":"Fax"}]
["Sheridan Books Inc. (Welshans)","Tim Welshans"," 734-475-9145 265","twelshan@sheridanbooks.com",null,"Other","Washtenaw",null,{"$f":"HYPERLINK(\"#'Client Details'!$B$1\",\"Details\")","v":"Details"},{"$f":"HYPERLINK(Options!$B$1, \"Quote\")","v":"Quote"},{"$f":"HYPERLINK(Options!$B$2,\"Fax\")","v":"Fax"}]
["Sherman International Corporation (Arya)","Amit Kumar Arya"," 412-928-2880","aarya@shermanusa.com",null,null,"Out of State",null,{"$f":"HYPERLINK(\"#'Client Details'!$B$1\",\"Details\")","v":"Details"},{"$f":"HYPERLINK(Options!$B$1, \"Quote\")","v":"Quote"},{"$f":"HYPERLINK(Options!$B$2,\"Fax\")","v":"Fax"}]
["Sherwin Williams","Brian Sitz","616-392-7811",null,null,null,null,null,{"$f":"HYPERLINK(\"#'Client Details'!$B$1\",\"Details\")","v":"Details"},{"$f":"HYPERLINK(Options!$B$1, \"Quote\")","v":"Quote"},{"$f":"HYPERLINK(Options!$B$2,\"Fax\")","v":"Fax"}]
["Sherwin-Williams Company (Sitz)","Brian Sitz"," 616-392-7811 226","brian.a.sitz@sherwin.com","Safety & Compliance Manager","Chemical Pharmaceutical","Ottawa",null,{"$f":"HYPERLINK(\"#'Client Details'!$B$1\",\"Details\")","v":"Details"},{"$f":"HYPERLINK(Options!$B$1, \"Quote\")","v":"Quote"},{"$f":"HYPERLINK(Options!$B$2,\"Fax\")","v":"Fax"}]
["Shincor Silicones (Gregory)","Tim Gregory"," 330-630-9860 227","tgregory@shinetsusilicones.com",null,"Manufacturer","Out of State",null,{"$f":"HYPERLINK(\"#'Client Details'!$B$1\",\"Details\")","v":"Details"},{"$f":"HYPERLINK(Options!$B$1, \"Quote\")","v":"Quote"},{"$f":"HYPERLINK(Options!$B$2,\"Fax\")","v":"Fax"}]
["Shoreline Container (Boreman)","Lori Boreman"," 616-399-2088",null,null,null,"Ottawa",null,{"$f":"HYPERLINK(\"#'Client Details'!$B$1\",\"Details\")","v":"Details"},{"$f":"HYPERLINK(Options!$B$1, \"Quote\")","v":"Quote"},{"$f":"HYPERLINK(Options!$B$2,\"Fax\")","v":"Fax"}]
["Shoreline Container (Hylland)","Brent Hylland"," 616-399-2088",null,"Safety Purchasing",null,"Ottawa",null,{"$f":"HYPERLINK(\"#'Client Details'!$B$1\",\"Details\")","v":"Details"},{"$f":"HYPERLINK(Options!$B$1, \"Quote\")","v":"Quote"},{"$f":"HYPERLINK(Options!$B$2,\"Fax\")","v":"Fax"}]
["Shoreline Metal Fabricators, Inc.",null,"231-722-4443",null,null,null,null,null,{"$f":"HYPERLINK(\"#'Client Details'!$B$1\",\"Details\")","v":"Details"},{"$f":"HYPERLINK(Options!$B$1, \"Quote\")","v":"Quote"},{"$f":"HYPERLINK(Options!$B$2,\"Fax\")","v":"Fax"}]
["Shoreline Metal Fabricators, Inc. (Fessen","Andy Fessenden"," 231-722-4443","slmfab@verizon.net","Project Manager",null,"Muskegon",null,{"$f":"HYPERLINK(\"#'Client Details'!$B$1\",\"Details\")","v":"Details"},{"$f":"HYPERLINK(Options!$B$1, \"Quote\")","v":"Quote"},{"$f":"HYPERLINK(Options!$B$2,\"Fax\")","v":"Fax"}]
["Shoreline Recycling & Supply (Laven)","Bryan Laven"," 231-722-6081",null,"EH&S","RECYCLING","Muskegon",null,{"$f":"HYPERLINK(\"#'Client Details'!$B$1\",\"Details\")","v":"Details"},{"$f":"HYPERLINK(Options!$B$1, \"Quote\")","v":"Quote"},{"$f":"HYPERLINK(Options!$B$2,\"Fax\")","v":"Fax"}]
["Sidock Group, Inc. (Burt)","Bill Burt"," 231-722-4900 245","bburt@sidockgroup.com","Project Engineer","Engineering, Architecture","Muskegon",null,{"$f":"HYPERLINK(\"#'Client Details'!$B$1\",\"Details\")","v":"Details"},{"$f":"HYPERLINK(Options!$B$1, \"Quote\")","v":"Quote"},{"$f":"HYPERLINK(Options!$B$2,\"Fax\")","v":"Fax"}]
["Siemens Dematic Corp.",null,null,null,null,null,null,null,{"$f":"HYPERLINK(\"#'Client Details'!$B$1\",\"Details\")","v":"Details"},{"$f":"HYPERLINK(Options!$B$1, \"Quote\")","v":"Quote"},{"$f":"HYPERLINK(Options!$B$2,\"Fax\")","v":"Fax"}]
["Siemens II","Charles Loft","616-772-9011",null,null,null,null,null,{"$f":"HYPERLINK(\"#'Client Details'!$B$1\",\"Details\")","v":"Details"},{"$f":"HYPERLINK(Options!$B$1, \"Quote\")","v":"Quote"},{"$f":"HYPERLINK(Options!$B$2,\"Fax\")","v":"Fax"}]
["Siemens Vai (Chevrette)","Jim Chevrette"," 269-927-3591",null,"Safety Contact",null,"Berrien",null,{"$f":"HYPERLINK(\"#'Client Details'!$B$1\",\"Details\")","v":"Details"},{"$f":"HYPERLINK(Options!$B$1, \"Quote\")","v":"Quote"},{"$f":"HYPERLINK(Options!$B$2,\"Fax\")","v":"Fax"}]
["Sierra Consultants (VerSluis)","David VerSluis"," 800-769-7437","DVerSluis@sierraconsultants.net","President","Contractor EH&S","Kent",null,{"$f":"HYPERLINK(\"#'Client Details'!$B$1\",\"Details\")","v":"Details"},{"$f":"HYPERLINK(Options!$B$1, \"Quote\")","v":"Quote"},{"$f":"HYPERLINK(Options!$B$2,\"Fax\")","v":"Fax"}]
["Sietech (Kaufman)","Bill Kaufman",null,null,null,"Automotive","Out of State",null,{"$f":"HYPERLINK(\"#'Client Details'!$B$1\",\"Details\")","v":"Details"},{"$f":"HYPERLINK(Options!$B$1, \"Quote\")","v":"Quote"},{"$f":"HYPERLINK(Options!$B$2,\"Fax\")","v":"Fax"}]
["Signal Source, The (Day)","Rhett Day"," 866-548-2331","rhett@thesignalsource.com","President","Supplier","Out of State",null,{"$f":"HYPERLINK(\"#'Client Details'!$B$1\",\"Details\")","v":"Details"},{"$f":"HYPERLINK(Options!$B$1, \"Quote\")","v":"Quote"},{"$f":"HYPERLINK(Options!$B$2,\"Fax\")","v":"Fax"}]
["Silbond Corporation (McLaughlin)","Carl McLaughlin"," 517-436-9372","carl.mclaughlin@silbond.com","Industrial Relations Manager","Chemical Pharmaceutical","Lenawee",null,{"$f":"HYPERLINK(\"#'Client Details'!$B$1\",\"Details\")","v":"Details"},{"$f":"HYPERLINK(Options!$B$1, \"Quote\")","v":"Quote"},{"$f":"HYPERLINK(Options!$B$2,\"Fax\")","v":"Fax"}]
["Silver Bullet Firearms Indoor Range",null,"616-249-1911",null,null,null,null,null,{"$f":"HYPERLINK(\"#'Client Details'!$B$1\",\"Details\")","v":"Details"},{"$f":"HYPERLINK(Options!$B$1, \"Quote\")","v":"Quote"},{"$f":"HYPERLINK(Options!$B$2,\"Fax\")","v":"Fax"}]
["Silver Bullet Firearms Indoor Range (Hans","Rick Hansen"," 616-249-1911",null,"Partner","Other","Kent",null,{"$f":"HYPERLINK(\"#'Client Details'!$B$1\",\"Details\")","v":"Details"},{"$f":"HYPERLINK(Options!$B$1, \"Quote\")","v":"Quote"},{"$f":"HYPERLINK(Options!$B$2,\"Fax\")","v":"Fax"}]
["Silver Lake State Park","Deb","231-873-3083",null,null,null,null,null,{"$f":"HYPERLINK(\"#'Client Details'!$B$1\",\"Details\")","v":"Details"},{"$f":"HYPERLINK(Options!$B$1, \"Quote\")","v":"Quote"},{"$f":"HYPERLINK(Options!$B$2,\"Fax\")","v":"Fax"}]
["Silver Needle Inc. (Clapp)","Sue Clapp"," 800-863-7733","sales@silverneedle.net","Customer service","Supplier","Out of State",null,{"$f":"HYPERLINK(\"#'Client Details'!$B$1\",\"Details\")","v":"Details"},{"$f":"HYPERLINK(Options!$B$1, \"Quote\")","v":"Quote"},{"$f":"HYPERLINK(Options!$B$2,\"Fax\")","v":"Fax"}]
["Silver Street, Inc. (Hardy)","Sarah Hardy"," 231-861-2194","shardy@ssimediatechnologies.com","Office Manager","Media Technologies","Oceana",null,{"$f":"HYPERLINK(\"#'Client Details'!$B$1\",\"Details\")","v":"Details"},{"$f":"HYPERLINK(Options!$B$1, \"Quote\")","v":"Quote"},{"$f":"HYPERLINK(Options!$B$2,\"Fax\")","v":"Fax"}]
["Sintel Inc. (Penninga)","Dan Penninga"," 616-842-6960 314","dpenninga@sintelinc.com","Manufacturing Manager","Metal Manufacturers","Ottawa",null,{"$f":"HYPERLINK(\"#'Client Details'!$B$1\",\"Details\")","v":"Details"},{"$f":"HYPERLINK(Options!$B$1, \"Quote\")","v":"Quote"},{"$f":"HYPERLINK(Options!$B$2,\"Fax\")","v":"Fax"}]
["SKC Inc. (Dietrich)","Debbie Dietrich"," 800-752-3389","skcdebbie@aol.com",null,"Supplier","Out of State",null,{"$f":"HYPERLINK(\"#'Client Details'!$B$1\",\"Details\")","v":"Details"},{"$f":"HYPERLINK(Options!$B$1, \"Quote\")","v":"Quote"},{"$f":"HYPERLINK(Options!$B$2,\"Fax\")","v":"Fax"}]
["Skyline Contractors, Inc.",null,"586-803-1745",null,null,null,null,null,{"$f":"HYPERLINK(\"#'Client Details'!$B$1\",\"Details\")","v":"Details"},{"$f":"HYPERLINK(Options!$B$1, \"Quote\")","v":"Quote"},{"$f":"HYPERLINK(Options!$B$2,\"Fax\")","v":"Fax"}]
["Skyline Contractors, Inc. (Papasodaro)","Sabino Papasodaro"," 586-803-1745 11","sabino@skylinecontractorsinc.com",null,"Contractor General","Macomb",null,{"$f":"HYPERLINK(\"#'Client Details'!$B$1\",\"Details\")","v":"Details"},{"$f":"HYPERLINK(Options!$B$1, \"Quote\")","v":"Quote"},{"$f":"HYPERLINK(Options!$B$2,\"Fax\")","v":"Fax"}]
["SL Technologies, Inc.",null,"330-546-6444",null,null,null,null,null,{"$f":"HYPERLINK(\"#'Client Details'!$B$1\",\"Details\")","v":"Details"},{"$f":"HYPERLINK(Options!$B$1, \"Quote\")","v":"Quote"},{"$f":"HYPERLINK(Options!$B$2,\"Fax\")","v":"Fax"}]
["SLAC","Tu Ly",null,null,null,null,null,null,{"$f":"HYPERLINK(\"#'Client Details'!$B$1\",\"Details\")","v":"Details"},{"$f":"HYPERLINK(Options!$B$1, \"Quote\")","v":"Quote"},{"$f":"HYPERLINK(Options!$B$2,\"Fax\")","v":"Fax"}]
["Slagter Construction","Jim Weissert","616-877-0020",null,null,null,null,null,{"$f":"HYPERLINK(\"#'Client Details'!$B$1\",\"Details\")","v":"Details"},{"$f":"HYPERLINK(Options!$B$1, \"Quote\")","v":"Quote"},{"$f":"HYPERLINK(Options!$B$2,\"Fax\")","v":"Fax"}]
["Slagter Construction (O'Connor)","Andy O'Connor"," 616-877-0020","andy@slagter.net","Safety & Compliance Manager","Contractor General","Allegan",null,{"$f":"HYPERLINK(\"#'Client Details'!$B$1\",\"Details\")","v":"Details"},{"$f":"HYPERLINK(Options!$B$1, \"Quote\")","v":"Quote"},{"$f":"HYPERLINK(Options!$B$2,\"Fax\")","v":"Fax"}]
["Slagter Construction (Weissert)","Jim Weissert"," 616-877-0020",null,"Project Manager","Contractor General","Allegan",null,{"$f":"HYPERLINK(\"#'Client Details'!$B$1\",\"Details\")","v":"Details"},{"$f":"HYPERLINK(Options!$B$1, \"Quote\")","v":"Quote"},{"$f":"HYPERLINK(Options!$B$2,\"Fax\")","v":"Fax"}]
["Slifco Electric","Paul Slifco","586-306-0647","prslifco@slifcoelectric.com",null,null,null,null,{"$f":"HYPERLINK(\"#'Client Details'!$B$1\",\"Details\")","v":"Details"},{"$f":"HYPERLINK(Options!$B$1, \"Quote\")","v":"Quote"},{"$f":"HYPERLINK(Options!$B$2,\"Fax\")","v":"Fax"}]
["Smalley Construction","Sue Smalley","231-757-4049",null,null,null,null,null,{"$f":"HYPERLINK(\"#'Client Details'!$B$1\",\"Details\")","v":"Details"},{"$f":"HYPERLINK(Options!$B$1, \"Quote\")","v":"Quote"},{"$f":"HYPERLINK(Options!$B$2,\"Fax\")","v":"Fax"}]
["Smeltzer Orchard Co.","Mike Henschell","231-882-4421","accts.pay@smeltzerorchards.com",null,null,null,null,{"$f":"HYPERLINK(\"#'Client Details'!$B$1\",\"Details\")","v":"Details"},{"$f":"HYPERLINK(Options!$B$1, \"Quote\")","v":"Quote"},{"$f":"HYPERLINK(Options!$B$2,\"Fax\")","v":"Fax"}]
["Smeltzer Orchard Co. (Henschell)","Mike Henschell"," 231-882-4421","mikeh@smeltzerorchards.com","Production Manager","Food","Benzie",null,{"$f":"HYPERLINK(\"#'Client Details'!$B$1\",\"Details\")","v":"Details"},{"$f":"HYPERLINK(Options!$B$1, \"Quote\")","v":"Quote"},{"$f":"HYPERLINK(Options!$B$2,\"Fax\")","v":"Fax"}]
["Smith & Oby Co.","Ron Vranich","216-361-5121",null,null,null,null,null,{"$f":"HYPERLINK(\"#'Client Details'!$B$1\",\"Details\")","v":"Details"},{"$f":"HYPERLINK(Options!$B$1, \"Quote\")","v":"Quote"},{"$f":"HYPERLINK(Options!$B$2,\"Fax\")","v":"Fax"}]
["Smith Brothers Contracting Inc.","Don Smith","616-453-5750",null,null,null,null,null,{"$f":"HYPERLINK(\"#'Client Details'!$B$1\",\"Details\")","v":"Details"},{"$f":"HYPERLINK(Options!$B$1, \"Quote\")","v":"Quote"},{"$f":"HYPERLINK(Options!$B$2,\"Fax\")","v":"Fax"}]
["Smith Group Detroit","Zach Rusu","313-442-8386",null,null,null,null,null,{"$f":"HYPERLINK(\"#'Client Details'!$B$1\",\"Details\")","v":"Details"},{"$f":"HYPERLINK(Options!$B$1, \"Quote\")","v":"Quote"},{"$f":"HYPERLINK(Options!$B$2,\"Fax\")","v":"Fax"}]
["Smucker Bakery Manufacturing Inc.","Karen Eller","419-470-7834",null,null,null,null,null,{"$f":"HYPERLINK(\"#'Client Details'!$B$1\",\"Details\")","v":"Details"},{"$f":"HYPERLINK(Options!$B$1, \"Quote\")","v":"Quote"},{"$f":"HYPERLINK(Options!$B$2,\"Fax\")","v":"Fax"}]
["Sobie Company (Austhof)","Jack Austhof"," 616-698-9800",null,"Owner","Contractor General","Kent",null,{"$f":"HYPERLINK(\"#'Client Details'!$B$1\",\"Details\")","v":"Details"},{"$f":"HYPERLINK(Options!$B$1, \"Quote\")","v":"Quote"},{"$f":"HYPERLINK(Options!$B$2,\"Fax\")","v":"Fax"}]
["Soil and Material Engineering","A/P: Kim Looman","616-406-1756","looman@sme-usa.com",null,null,null,null,{"$f":"HYPERLINK(\"#'Client Details'!$B$1\",\"Details\")","v":"Details"},{"$f":"HYPERLINK(Options!$B$1, \"Quote\")","v":"Quote"},{"$f":"HYPERLINK(Options!$B$2,\"Fax\")","v":"Fax"}]
["Soils & Structures Inc.",null,"800-933-3959",null,null,null,null,null,{"$f":"HYPERLINK(\"#'Client Details'!$B$1\",\"Details\")","v":"Details"},{"$f":"HYPERLINK(Options!$B$1, \"Quote\")","v":"Quote"},{"$f":"HYPERLINK(Options!$B$2,\"Fax\")","v":"Fax"}]
["Soils and Structures Inc. (Erickson)","John Erickson"," 800-933-3959 311","jerickson@soilsandstructures.com",null,"Engineering, Architecture","Muskegon",null,{"$f":"HYPERLINK(\"#'Client Details'!$B$1\",\"Details\")","v":"Details"},{"$f":"HYPERLINK(Options!$B$1, \"Quote\")","v":"Quote"},{"$f":"HYPERLINK(Options!$B$2,\"Fax\")","v":"Fax"}]
["SolEpoxy, Inc. (Groele)","Robert Groele"," 716-372-6300 290","robert.groele@solepoxy.com","VP Engineering","Manufacturer","Out of State",null,{"$f":"HYPERLINK(\"#'Client Details'!$B$1\",\"Details\")","v":"Details"},{"$f":"HYPERLINK(Options!$B$1, \"Quote\")","v":"Quote"},{"$f":"HYPERLINK(Options!$B$2,\"Fax\")","v":"Fax"}]
["Soroc Products (Myers)","Ken Myers"," 616-281-4074",null,"Facilities Manager",null,"Kent",null,{"$f":"HYPERLINK(\"#'Client Details'!$B$1\",\"Details\")","v":"Details"},{"$f":"HYPERLINK(Options!$B$1, \"Quote\")","v":"Quote"},{"$f":"HYPERLINK(Options!$B$2,\"Fax\")","v":"Fax"}]
["Soroc Products (Rostic)","Latarsha Rostic"," 616-281-4055",null,"Buyer",null,"Kent",null,{"$f":"HYPERLINK(\"#'Client Details'!$B$1\",\"Details\")","v":"Details"},{"$f":"HYPERLINK(Options!$B$1, \"Quote\")","v":"Quote"},{"$f":"HYPERLINK(Options!$B$2,\"Fax\")","v":"Fax"}]
["SOS Engineering (Brett)","Brett"," 616-846-5767",null,"Vice President","Engineering/Surveying","Ottawa",null,{"$f":"HYPERLINK(\"#'Client Details'!$B$1\",\"Details\")","v":"Details"},{"$f":"HYPERLINK(Options!$B$1, \"Quote\")","v":"Quote"},{"$f":"HYPERLINK(Options!$B$2,\"Fax\")","v":"Fax"}]
["Soundcoat","Steve Brown","631-242-2200 x152","sbrown@soundcoat.com",null,null,null,null,{"$f":"HYPERLINK(\"#'Client Details'!$B$1\",\"Details\")","v":"Details"},{"$f":"HYPERLINK(Options!$B$1, \"Quote\")","v":"Quote"},{"$f":"HYPERLINK(Options!$B$2,\"Fax\")","v":"Fax"}]
["Soundoff Signal (Hansen)","Mike Hansen"," 616-662-6146","mhansen@soundoffsignal.com","Plant Manager",null,"Ottawa",null,{"$f":"HYPERLINK(\"#'Client Details'!$B$1\",\"Details\")","v":"Details"},{"$f":"HYPERLINK(Options!$B$1, \"Quote\")","v":"Quote"},{"$f":"HYPERLINK(Options!$B$2,\"Fax\")","v":"Fax"}]
["Sourced Materials (Roberts)","Kim Roberts"," 517-467-3010","kim@sourcedmaterials.com",null,null,"Lenawee",null,{"$f":"HYPERLINK(\"#'Client Details'!$B$1\",\"Details\")","v":"Details"},{"$f":"HYPERLINK(Options!$B$1, \"Quote\")","v":"Quote"},{"$f":"HYPERLINK(Options!$B$2,\"Fax\")","v":"Fax"}]
["Sourced Materials (Terwilliger)","Jim Terwilliger"," 517-467-3010","jim@sourcedmaterials.com",null,"Supplier","Clinton",null,{"$f":"HYPERLINK(\"#'Client Details'!$B$1\",\"Details\")","v":"Details"},{"$f":"HYPERLINK(Options!$B$1, \"Quote\")","v":"Quote"},{"$f":"HYPERLINK(Options!$B$2,\"Fax\")","v":"Fax"}]
["South Charleston Sanitary Board","accts payable Arnett Hoston 3047684140",null,null,null,null,null,null,{"$f":"HYPERLINK(\"#'Client Details'!$B$1\",\"Details\")","v":"Details"},{"$f":"HYPERLINK(Options!$B$1, \"Quote\")","v":"Quote"},{"$f":"HYPERLINK(Options!$B$2,\"Fax\")","v":"Fax"}]
["South Charleston Sanitary Board, City of","Rodney Shaw"," 304-767-5417","pumpstationscsb@yahoo.com",null,"Municipal, Cty","Out of State",null,{"$f":"HYPERLINK(\"#'Client Details'!$B$1\",\"Details\")","v":"Details"},{"$f":"HYPERLINK(Options!$B$1, \"Quote\")","v":"Quote"},{"$f":"HYPERLINK(Options!$B$2,\"Fax\")","v":"Fax"}]
["South Charleston Sanitary Board, City of","Rodney Shaw"," 304-767-5417","pumpstationscsb@yahoo.com",null,"Municipal, Cty","Out of State",null,{"$f":"HYPERLINK(\"#'Client Details'!$B$1\",\"Details\")","v":"Details"},{"$f":"HYPERLINK(Options!$B$1, \"Quote\")","v":"Quote"},{"$f":"HYPERLINK(Options!$B$2,\"Fax\")","v":"Fax"}]
["South Charleston Sanitary Board, City of","Rodney Shaw"," 304-767-5417","pumpstationscsb@yahoo.com",null,"Municipal, Cty","Out of State",null,{"$f":"HYPERLINK(\"#'Client Details'!$B$1\",\"Details\")","v":"Details"},{"$f":"HYPERLINK(Options!$B$1, \"Quote\")","v":"Quote"},{"$f":"HYPERLINK(Options!$B$2,\"Fax\")","v":"Fax"}]
["South Haven Area Emergency Services (Wise","Ron Wise"," 616-637-5151","rwise@shaes.org",null,"Fire Department","Van Buren",null,{"$f":"HYPERLINK(\"#'Client Details'!$B$1\",\"Details\")","v":"Details"},{"$f":"HYPERLINK(Options!$B$1, \"Quote\")","v":"Quote"},{"$f":"HYPERLINK(Options!$B$2,\"Fax\")","v":"Fax"}]
["South Haven Charter Township (Stein)","Ross Stein"," 269-637-3305",null,"Supervisor",null,"Kenowa",null,{"$f":"HYPERLINK(\"#'Client Details'!$B$1\",\"Details\")","v":"Details"},{"$f":"HYPERLINK(Options!$B$1, \"Quote\")","v":"Quote"},{"$f":"HYPERLINK(Options!$B$2,\"Fax\")","v":"Fax"}]
["South Haven DPW, City of","Kim Rawlings","269-637-0737",null,null,null,null,null,{"$f":"HYPERLINK(\"#'Client Details'!$B$1\",\"Details\")","v":"Details"},{"$f":"HYPERLINK(Options!$B$1, \"Quote\")","v":"Quote"},{"$f":"HYPERLINK(Options!$B$2,\"Fax\")","v":"Fax"}]
["South Haven DPW, City of (Compton)","Henry Compton"," 269-637-0731","hcompton@south-haven.com",null,"Municipal, Cty","Van Buren",null,{"$f":"HYPERLINK(\"#'Client Details'!$B$1\",\"Details\")","v":"Details"},{"$f":"HYPERLINK(Options!$B$1, \"Quote\")","v":"Quote"},{"$f":"HYPERLINK(Options!$B$2,\"Fax\")","v":"Fax"}]
["South Haven DPW, City of (Dissette)","Brian Dissette"," 269-637-0719","bdissette@south-haven.com","Asst. City Mgr",null,"Van Buren",null,{"$f":"HYPERLINK(\"#'Client Details'!$B$1\",\"Details\")","v":"Details"},{"$f":"HYPERLINK(Options!$B$1, \"Quote\")","v":"Quote"},{"$f":"HYPERLINK(Options!$B$2,\"Fax\")","v":"Fax"}]
["South Haven DPW, City of (Dotson)","Ron Dotson"," 269-637-0730","rdotson@south-haven.com","Public Works Ops Mgr",null,"Van Buren",null,{"$f":"HYPERLINK(\"#'Client Details'!$B$1\",\"Details\")","v":"Details"},{"$f":"HYPERLINK(Options!$B$1, \"Quote\")","v":"Quote"},{"$f":"HYPERLINK(Options!$B$2,\"Fax\")","v":"Fax"}]
["South Haven DPW, City of (Huff)","Roger Huff"," 269-637-0719","rhuff@south-haven.com","Director","Municipality","Van Buren",null,{"$f":"HYPERLINK(\"#'Client Details'!$B$1\",\"Details\")","v":"Details"},{"$f":"HYPERLINK(Options!$B$1, \"Quote\")","v":"Quote"},{"$f":"HYPERLINK(Options!$B$2,\"Fax\")","v":"Fax"}]
["South Haven DPW, City of (Rawlings)","Kim Rawlings"," 269-637-0737","krawlings@south-haven.com","Administrative Assistant","Municipal, Cty","Van Buren",null,{"$f":"HYPERLINK(\"#'Client Details'!$B$1\",\"Details\")","v":"Details"},{"$f":"HYPERLINK(Options!$B$1, \"Quote\")","v":"Quote"},{"$f":"HYPERLINK(Options!$B$2,\"Fax\")","v":"Fax"}]
["South Haven Finishing (Ellison)","Eric Ellison"," 269-937-2047",null,"President","Manufacturer","Van Buren",null,{"$f":"HYPERLINK(\"#'Client Details'!$B$1\",\"Details\")","v":"Details"},{"$f":"HYPERLINK(Options!$B$1, \"Quote\")","v":"Quote"},{"$f":"HYPERLINK(Options!$B$2,\"Fax\")","v":"Fax"}]
["South Haven Water Filtration, City of (Ni","Duane Ninke",null,null,"Supervisor","Municipal, Cty","Van Buren",null,{"$f":"HYPERLINK(\"#'Client Details'!$B$1\",\"Details\")","v":"Details"},{"$f":"HYPERLINK(Options!$B$1, \"Quote\")","v":"Quote"},{"$f":"HYPERLINK(Options!$B$2,\"Fax\")","v":"Fax"}]
["South Haven WWTP, City of","Dave Mulac","269-637-0716",null,null,null,null,null,{"$f":"HYPERLINK(\"#'Client Details'!$B$1\",\"Details\")","v":"Details"},{"$f":"HYPERLINK(Options!$B$1, \"Quote\")","v":"Quote"},{"$f":"HYPERLINK(Options!$B$2,\"Fax\")","v":"Fax"}]
["South Haven WWTP, City of (Mulac)","Dave Mulac"," 269-637-0716",null,"Superintendent","Municipal, Cty","Van Buren",null,{"$f":"HYPERLINK(\"#'Client Details'!$B$1\",\"Details\")","v":"Details"},{"$f":"HYPERLINK(Options!$B$1, \"Quote\")","v":"Quote"},{"$f":"HYPERLINK(Options!$B$2,\"Fax\")","v":"Fax"}]
["South Haven WWTP, City of (Teed)","Tom Teed"," 269-637-0717","tteed@south-haven.com","Maintenance Technician",null,"Van Buren",null,{"$f":"HYPERLINK(\"#'Client Details'!$B$1\",\"Details\")","v":"Details"},{"$f":"HYPERLINK(Options!$B$1, \"Quote\")","v":"Quote"},{"$f":"HYPERLINK(Options!$B$2,\"Fax\")","v":"Fax"}]
["South West Michigan Dust Control",null,null,null,null,null,null,null,{"$f":"HYPERLINK(\"#'Client Details'!$B$1\",\"Details\")","v":"Details"},{"$f":"HYPERLINK(Options!$B$1, \"Quote\")","v":"Quote"},{"$f":"HYPERLINK(Options!$B$2,\"Fax\")","v":"Fax"}]
["Southern Contractors","Stephen Young","270-604-0769 cell",null,null,null,null,null,{"$f":"HYPERLINK(\"#'Client Details'!$B$1\",\"Details\")","v":"Details"},{"$f":"HYPERLINK(Options!$B$1, \"Quote\")","v":"Quote"},{"$f":"HYPERLINK(Options!$B$2,\"Fax\")","v":"Fax"}]
["Southfield Fire Department, City of (Sche","Rick Scheich",null,"rscheich@cityofsouthfield.com",null,"Fire Department","Oakland",null,{"$f":"HYPERLINK(\"#'Client Details'!$B$1\",\"Details\")","v":"Details"},{"$f":"HYPERLINK(Options!$B$1, \"Quote\")","v":"Quote"},{"$f":"HYPERLINK(Options!$B$2,\"Fax\")","v":"Fax"}]
["Southwestern Michigan Dust Control (Kasis","Jim Kasishke"," 269-521-7638","jkasi90@entergy.com",null,"Contractor General","Allegan",null,{"$f":"HYPERLINK(\"#'Client Details'!$B$1\",\"Details\")","v":"Details"},{"$f":"HYPERLINK(Options!$B$1, \"Quote\")","v":"Quote"},{"$f":"HYPERLINK(Options!$B$2,\"Fax\")","v":"Fax"}]
["Spanco (Albright)","Mike Albright"," 800-869-2080","malbright@spanco.com",null,"Supplier","Out of State",null,{"$f":"HYPERLINK(\"#'Client Details'!$B$1\",\"Details\")","v":"Details"},{"$f":"HYPERLINK(Options!$B$1, \"Quote\")","v":"Quote"},{"$f":"HYPERLINK(Options!$B$2,\"Fax\")","v":"Fax"}]
["Spanco (Morgantown)","Arnie Galpin",null,null,null,null,null,null,{"$f":"HYPERLINK(\"#'Client Details'!$B$1\",\"Details\")","v":"Details"},{"$f":"HYPERLINK(Options!$B$1, \"Quote\")","v":"Quote"},{"$f":"HYPERLINK(Options!$B$2,\"Fax\")","v":"Fax"}]
["Sparrow Hospital","Andrea Vougt","517-364-2521",null,null,null,null,null,{"$f":"HYPERLINK(\"#'Client Details'!$B$1\",\"Details\")","v":"Details"},{"$f":"HYPERLINK(Options!$B$1, \"Quote\")","v":"Quote"},{"$f":"HYPERLINK(Options!$B$2,\"Fax\")","v":"Fax"}]
["Sparrow Hospital (Voogt)","Andrea Voogt"," 517-364-2521","andrea.voogt@sparrow.org","Safety Manager","Hospital, Health Care","Ingham",null,{"$f":"HYPERLINK(\"#'Client Details'!$B$1\",\"Details\")","v":"Details"},{"$f":"HYPERLINK(Options!$B$1, \"Quote\")","v":"Quote"},{"$f":"HYPERLINK(Options!$B$2,\"Fax\")","v":"Fax"}]
["Sparta Department of public Works, City o","Randy Carter"," 616-887-8711",null,"Water Superintendant","Municipal, Cty","Kent",null,{"$f":"HYPERLINK(\"#'Client Details'!$B$1\",\"Details\")","v":"Details"},{"$f":"HYPERLINK(Options!$B$1, \"Quote\")","v":"Quote"},{"$f":"HYPERLINK(Options!$B$2,\"Fax\")","v":"Fax"}]
["Sparta DPW","Miles Ring","616-8879301",null,null,null,null,null,{"$f":"HYPERLINK(\"#'Client Details'!$B$1\",\"Details\")","v":"Details"},{"$f":"HYPERLINK(Options!$B$1, \"Quote\")","v":"Quote"},{"$f":"HYPERLINK(Options!$B$2,\"Fax\")","v":"Fax"}]
["Spartan Specialties Ltd.",null,"586-826-8699",null,null,null,null,null,{"$f":"HYPERLINK(\"#'Client Details'!$B$1\",\"Details\")","v":"Details"},{"$f":"HYPERLINK(Options!$B$1, \"Quote\")","v":"Quote"},{"$f":"HYPERLINK(Options!$B$2,\"Fax\")","v":"Fax"}]
["Spartan Stores, Inc. (Behrend)","Chuck Behrend"," 616-878-8630","chuck_behrend@spartanstores.com","Director of Safety and Food Sa","Food","Kent",null,{"$f":"HYPERLINK(\"#'Client Details'!$B$1\",\"Details\")","v":"Details"},{"$f":"HYPERLINK(Options!$B$1, \"Quote\")","v":"Quote"},{"$f":"HYPERLINK(Options!$B$2,\"Fax\")","v":"Fax"}]
["Spartan Stores, Inc. (Sens)","Mark Sens"," 616-878-8630","mark_sens@spartanstores.com","Safety Manager","Food","Kent",null,{"$f":"HYPERLINK(\"#'Client Details'!$B$1\",\"Details\")","v":"Details"},{"$f":"HYPERLINK(Options!$B$1, \"Quote\")","v":"Quote"},{"$f":"HYPERLINK(Options!$B$2,\"Fax\")","v":"Fax"}]
["Specialized Demolition (Van Der Hulst)","Dan Van Der Hulst"," 269-751-4452","specializeddemo@charternet.com","Owner","Contractor General","Allegan",null,{"$f":"HYPERLINK(\"#'Client Details'!$B$1\",\"Details\")","v":"Details"},{"$f":"HYPERLINK(Options!$B$1, \"Quote\")","v":"Quote"},{"$f":"HYPERLINK(Options!$B$2,\"Fax\")","v":"Fax"}]
["Specialty Heat Treating, Inc. (Smidt)","Josh Smidt"," 616-399-6880",null,"Safety Director","Manufacturer","Ottawa",null,{"$f":"HYPERLINK(\"#'Client Details'!$B$1\",\"Details\")","v":"Details"},{"$f":"HYPERLINK(Options!$B$1, \"Quote\")","v":"Quote"},{"$f":"HYPERLINK(Options!$B$2,\"Fax\")","v":"Fax"}]
["Spencer Township Fire Dept","Paul Lotterman","616-984-2200",null,null,null,null,null,{"$f":"HYPERLINK(\"#'Client Details'!$B$1\",\"Details\")","v":"Details"},{"$f":"HYPERLINK(Options!$B$1, \"Quote\")","v":"Quote"},{"$f":"HYPERLINK(Options!$B$2,\"Fax\")","v":"Fax"}]
["Sperian Soll (Carson)","Jeff Carson"," 800-325-6746 1027","jcarson@sperianprotection.com","Systems/Structural Engineer","Supplier","Out of State",null,{"$f":"HYPERLINK(\"#'Client Details'!$B$1\",\"Details\")","v":"Details"},{"$f":"HYPERLINK(Options!$B$1, \"Quote\")","v":"Quote"},{"$f":"HYPERLINK(Options!$B$2,\"Fax\")","v":"Fax"}]
["Spi Pharma, Inc.",null,"616-935-6900",null,null,null,null,null,{"$f":"HYPERLINK(\"#'Client Details'!$B$1\",\"Details\")","v":"Details"},{"$f":"HYPERLINK(Options!$B$1, \"Quote\")","v":"Quote"},{"$f":"HYPERLINK(Options!$B$2,\"Fax\")","v":"Fax"}]
["Spi Pharma, Inc. (Fischer)","Lisa Fischer"," 616-935-6922",null,"EH&S","Pharmaceutical","Ottawa",null,{"$f":"HYPERLINK(\"#'Client Details'!$B$1\",\"Details\")","v":"Details"},{"$f":"HYPERLINK(Options!$B$1, \"Quote\")","v":"Quote"},{"$f":"HYPERLINK(Options!$B$2,\"Fax\")","v":"Fax"}]
["Spi Pharma, Inc. (Patton)","Laura Patton"," 616-935-6900","lpatton@spipharma.com","Safety Director","Pharmaceutical Raw Goods Proce","Ottawa",null,{"$f":"HYPERLINK(\"#'Client Details'!$B$1\",\"Details\")","v":"Details"},{"$f":"HYPERLINK(Options!$B$1, \"Quote\")","v":"Quote"},{"$f":"HYPERLINK(Options!$B$2,\"Fax\")","v":"Fax"}]
["Spring Lake DPW, Village of","Doug Whitley","616-842-1393",null,null,null,null,null,{"$f":"HYPERLINK(\"#'Client Details'!$B$1\",\"Details\")","v":"Details"},{"$f":"HYPERLINK(Options!$B$1, \"Quote\")","v":"Quote"},{"$f":"HYPERLINK(Options!$B$2,\"Fax\")","v":"Fax"}]
["Spring Lake DPW, Village of (Hanson)","John Hanson"," 616-842-1393","john@springlakevillage.org","Asst. Village Mgr","Municipal, Cty","Ottawa",null,{"$f":"HYPERLINK(\"#'Client Details'!$B$1\",\"Details\")","v":"Details"},{"$f":"HYPERLINK(Options!$B$1, \"Quote\")","v":"Quote"},{"$f":"HYPERLINK(Options!$B$2,\"Fax\")","v":"Fax"}]
["Spring Lake DPW, Village of (Parrella)","Kathy Parrella"," 616-842-1393",null,"Receptionist","Municipal, Cty","Ottawa",null,{"$f":"HYPERLINK(\"#'Client Details'!$B$1\",\"Details\")","v":"Details"},{"$f":"HYPERLINK(Options!$B$1, \"Quote\")","v":"Quote"},{"$f":"HYPERLINK(Options!$B$2,\"Fax\")","v":"Fax"}]
["Spring Lake DPW, Village of (Whitley)","Douglas Whitley"," 616-842-1393",null,"Foreman DPW","Municipal, Cty","Ottawa",null,{"$f":"HYPERLINK(\"#'Client Details'!$B$1\",\"Details\")","v":"Details"},{"$f":"HYPERLINK(Options!$B$1, \"Quote\")","v":"Quote"},{"$f":"HYPERLINK(Options!$B$2,\"Fax\")","v":"Fax"}]
["Spring Lake Parks & Cemetery (Schindlbeck","Eric Schindlbeck"," 616-846-6511",null,"Superintendent","Parks & Rec. Maint.","Ottawa",null,{"$f":"HYPERLINK(\"#'Client Details'!$B$1\",\"Details\")","v":"Details"},{"$f":"HYPERLINK(Options!$B$1, \"Quote\")","v":"Quote"},{"$f":"HYPERLINK(Options!$B$2,\"Fax\")","v":"Fax"}]
["Spring Lake Township DPW","Ron Brondyke / Jeremy Statler","616-846-2422 office",null,null,null,null,null,{"$f":"HYPERLINK(\"#'Client Details'!$B$1\",\"Details\")","v":"Details"},{"$f":"HYPERLINK(Options!$B$1, \"Quote\")","v":"Quote"},{"$f":"HYPERLINK(Options!$B$2,\"Fax\")","v":"Fax"}]
["Spring Lake Township DPW (Brondyke)","Ron Brondyke"," 616-846-2422","rbrondyke@springlaketwp.org",null,"Municipal, Cty","Ottawa",null,{"$f":"HYPERLINK(\"#'Client Details'!$B$1\",\"Details\")","v":"Details"},{"$f":"HYPERLINK(Options!$B$1, \"Quote\")","v":"Quote"},{"$f":"HYPERLINK(Options!$B$2,\"Fax\")","v":"Fax"}]
["Spring Meadows Nursery (Berner)","Gail Berner"," 616-846-4729","gail@springmeadownursery.com","Safety Buyer","Nursery","Ottawa",null,{"$f":"HYPERLINK(\"#'Client Details'!$B$1\",\"Details\")","v":"Details"},{"$f":"HYPERLINK(Options!$B$1, \"Quote\")","v":"Quote"},{"$f":"HYPERLINK(Options!$B$2,\"Fax\")","v":"Fax"}]
["SPX Contech (Devers)","Harold Devers"," 989-463-6166 119","harold.devers@contech.spx.com","Safety and Training","Manufacturer","Gratiot",null,{"$f":"HYPERLINK(\"#'Client Details'!$B$1\",\"Details\")","v":"Details"},{"$f":"HYPERLINK(Options!$B$1, \"Quote\")","v":"Quote"},{"$f":"HYPERLINK(Options!$B$2,\"Fax\")","v":"Fax"}]
["St. John Truck & Trailer Service (Noppert","Brian Noppert"," 231-798-1069","briann@stjohntruck.com","Manager",null,"Muskegon",null,{"$f":"HYPERLINK(\"#'Client Details'!$B$1\",\"Details\")","v":"Details"},{"$f":"HYPERLINK(Options!$B$1, \"Quote\")","v":"Quote"},{"$f":"HYPERLINK(Options!$B$2,\"Fax\")","v":"Fax"}]
["St. John-Mittelhauser & Assoc",null,"618-216-3434","mikeb@st-ma.com",null,null,null,null,{"$f":"HYPERLINK(\"#'Client Details'!$B$1\",\"Details\")","v":"Details"},{"$f":"HYPERLINK(Options!$B$1, \"Quote\")","v":"Quote"},{"$f":"HYPERLINK(Options!$B$2,\"Fax\")","v":"Fax"}]
["St. John-Mittelhauser & Associates (Benne","Michael Bennett"," 618-216-3434 206","mikeb@st-ma.com","Field Manager","Contractor EH&S","Out of State",null,{"$f":"HYPERLINK(\"#'Client Details'!$B$1\",\"Details\")","v":"Details"},{"$f":"HYPERLINK(Options!$B$1, \"Quote\")","v":"Quote"},{"$f":"HYPERLINK(Options!$B$2,\"Fax\")","v":"Fax"}]
["St. Joseph Parks, City of (Dickey)","Rory Dickey"," 269-983-6341",null,"Superintendent","Municipal, Cty","Berrien",null,{"$f":"HYPERLINK(\"#'Client Details'!$B$1\",\"Details\")","v":"Details"},{"$f":"HYPERLINK(Options!$B$1, \"Quote\")","v":"Quote"},{"$f":"HYPERLINK(Options!$B$2,\"Fax\")","v":"Fax"}]
["St. Joseph Riverview Cemetery, City of (F","William Fryer"," 269-429-0021",null,"Superintendent","Municipal, Cty","Berrien",null,{"$f":"HYPERLINK(\"#'Client Details'!$B$1\",\"Details\")","v":"Details"},{"$f":"HYPERLINK(Options!$B$1, \"Quote\")","v":"Quote"},{"$f":"HYPERLINK(Options!$B$2,\"Fax\")","v":"Fax"}]
["St. Joseph Streets & Sanitation, City of","Danny Patrick"," 269-983-6341",null,"Superintendent","Municipal, Cty","Berrien",null,{"$f":"HYPERLINK(\"#'Client Details'!$B$1\",\"Details\")","v":"Details"},{"$f":"HYPERLINK(Options!$B$1, \"Quote\")","v":"Quote"},{"$f":"HYPERLINK(Options!$B$2,\"Fax\")","v":"Fax"}]
["St. Joseph Streets & Sanitation, City of","Danny Patrick"," 269-983-6341",null,"Superintendent","Municipal, Cty","Berrien",null,{"$f":"HYPERLINK(\"#'Client Details'!$B$1\",\"Details\")","v":"Details"},{"$f":"HYPERLINK(Options!$B$1, \"Quote\")","v":"Quote"},{"$f":"HYPERLINK(Options!$B$2,\"Fax\")","v":"Fax"}]
["St. Joseph Streets & Sanitation, City of","Danny Patrick"," 269-983-6341",null,"Superintendent","Municipal, Cty","Berrien",null,{"$f":"HYPERLINK(\"#'Client Details'!$B$1\",\"Details\")","v":"Details"},{"$f":"HYPERLINK(Options!$B$1, \"Quote\")","v":"Quote"},{"$f":"HYPERLINK(Options!$B$2,\"Fax\")","v":"Fax"}]
["St. Joseph Water & Sewer, City of (Burand","Craig Burandt"," 269-983-6341",null,"Superintendent","Municipal, Cty","Berrien",null,{"$f":"HYPERLINK(\"#'Client Details'!$B$1\",\"Details\")","v":"Details"},{"$f":"HYPERLINK(Options!$B$1, \"Quote\")","v":"Quote"},{"$f":"HYPERLINK(Options!$B$2,\"Fax\")","v":"Fax"}]
["St. Joseph Water Plant, City of (O'Malley","Michael O'Malley"," 269-983-1240","returned","Water Plant Superintendent","Municipal, Cty","Berrien",null,{"$f":"HYPERLINK(\"#'Client Details'!$B$1\",\"Details\")","v":"Details"},{"$f":"HYPERLINK(Options!$B$1, \"Quote\")","v":"Quote"},{"$f":"HYPERLINK(Options!$B$2,\"Fax\")","v":"Fax"}]
["St. Louis DPW, City of (Abbott)","Mark Abbott",null,null,"Superintendent","Municipal, Cty","Gratiot",null,{"$f":"HYPERLINK(\"#'Client Details'!$B$1\",\"Details\")","v":"Details"},{"$f":"HYPERLINK(Options!$B$1, \"Quote\")","v":"Quote"},{"$f":"HYPERLINK(Options!$B$2,\"Fax\")","v":"Fax"}]
["St. Louis Water & WWTP, City of (Mepham)","Steven Mepham"," 989-681-3567",null,"Superintendent","Municipal, Cty","Gratiot",null,{"$f":"HYPERLINK(\"#'Client Details'!$B$1\",\"Details\")","v":"Details"},{"$f":"HYPERLINK(Options!$B$1, \"Quote\")","v":"Quote"},{"$f":"HYPERLINK(Options!$B$2,\"Fax\")","v":"Fax"}]
["St. Mary's Cement (Kennealy)","Thomas Kennealy"," 616-846-8553","txkennealy@vcsmc.com","Terminal Manager","Sand/Cement/Trucking","Ottawa",null,{"$f":"HYPERLINK(\"#'Client Details'!$B$1\",\"Details\")","v":"Details"},{"$f":"HYPERLINK(Options!$B$1, \"Quote\")","v":"Quote"},{"$f":"HYPERLINK(Options!$B$2,\"Fax\")","v":"Fax"}]
["St. Marys Cement Inc.","Derrick Beaven","231-237-1334",null,null,null,null,null,{"$f":"HYPERLINK(\"#'Client Details'!$B$1\",\"Details\")","v":"Details"},{"$f":"HYPERLINK(Options!$B$1, \"Quote\")","v":"Quote"},{"$f":"HYPERLINK(Options!$B$2,\"Fax\")","v":"Fax"}]
["St. Mary's Concrete (Gooding)","Barry Gooding","(231) 547-9971","bdgooding@vcsmc.com","Electrical Suppervisor","Other","Charelvoix",null,{"$f":"HYPERLINK(\"#'Client Details'!$B$1\",\"Details\")","v":"Details"},{"$f":"HYPERLINK(Options!$B$1, \"Quote\")","v":"Quote"},{"$f":"HYPERLINK(Options!$B$2,\"Fax\")","v":"Fax"}]
["St. Paul Travellers, The (Allen)","Steve Allen"," 616-874-2808","steve-k.allen@stpaul.com","Sr. Risk Control Consultant","Insurance","Kent",null,{"$f":"HYPERLINK(\"#'Client Details'!$B$1\",\"Details\")","v":"Details"},{"$f":"HYPERLINK(Options!$B$1, \"Quote\")","v":"Quote"},{"$f":"HYPERLINK(Options!$B$2,\"Fax\")","v":"Fax"}]
["Stanco Safety Products (McDuff)","Andrea McDuff"," 800-348-1148 12","amcduff@stancomfg.com","Accounting","Supplier","Out of State",null,{"$f":"HYPERLINK(\"#'Client Details'!$B$1\",\"Details\")","v":"Details"},{"$f":"HYPERLINK(Options!$B$1, \"Quote\")","v":"Quote"},{"$f":"HYPERLINK(Options!$B$2,\"Fax\")","v":"Fax"}]
["Standard Sand","Brad Chittenden","616-842-5080 x2","tony is at accts pay Fairmount",null,null,null,null,{"$f":"HYPERLINK(\"#'Client Details'!$B$1\",\"Details\")","v":"Details"},{"$f":"HYPERLINK(Options!$B$1, \"Quote\")","v":"Quote"},{"$f":"HYPERLINK(Options!$B$2,\"Fax\")","v":"Fax"}]
["Stanley Steemer (Dougherty)","Chris Dougherty"," 616-878-7575","chris.dougherty@steemer.com","Operations Manager","Contractor General","Kent",null,{"$f":"HYPERLINK(\"#'Client Details'!$B$1\",\"Details\")","v":"Details"},{"$f":"HYPERLINK(Options!$B$1, \"Quote\")","v":"Quote"},{"$f":"HYPERLINK(Options!$B$2,\"Fax\")","v":"Fax"}]
["Stanley Steemer Great Lakes","Chris Dougherty","616-531-3434",null,null,null,null,null,{"$f":"HYPERLINK(\"#'Client Details'!$B$1\",\"Details\")","v":"Details"},{"$f":"HYPERLINK(Options!$B$1, \"Quote\")","v":"Quote"},{"$f":"HYPERLINK(Options!$B$2,\"Fax\")","v":"Fax"}]
["Stantec","Jeremy Rasmussen","517-349-9499 x-231","jeremy.rasmussen@stantec.com",null,null,null,null,{"$f":"HYPERLINK(\"#'Client Details'!$B$1\",\"Details\")","v":"Details"},{"$f":"HYPERLINK(Options!$B$1, \"Quote\")","v":"Quote"},{"$f":"HYPERLINK(Options!$B$2,\"Fax\")","v":"Fax"}]
["Star Crane & Hoist, Inc. (Derks)","Craig Derks"," 616-892-5500",null,"Safety",null,"Ottawa",null,{"$f":"HYPERLINK(\"#'Client Details'!$B$1\",\"Details\")","v":"Details"},{"$f":"HYPERLINK(Options!$B$1, \"Quote\")","v":"Quote"},{"$f":"HYPERLINK(Options!$B$2,\"Fax\")","v":"Fax"}]
["Star Excavating, Inc. (Busscher)","Roger Busscher"," 616-396-1100",null,"President","Contractor, Excavator","Ottawa",null,{"$f":"HYPERLINK(\"#'Client Details'!$B$1\",\"Details\")","v":"Details"},{"$f":"HYPERLINK(Options!$B$1, \"Quote\")","v":"Quote"},{"$f":"HYPERLINK(Options!$B$2,\"Fax\")","v":"Fax"}]
["Starboard, Inc. (Freeman)","Joe Freeman"," 989-362-4419 193","jfreeman@starboardind.com",null,"Automotive","Iosco",null,{"$f":"HYPERLINK(\"#'Client Details'!$B$1\",\"Details\")","v":"Details"},{"$f":"HYPERLINK(Options!$B$1, \"Quote\")","v":"Quote"},{"$f":"HYPERLINK(Options!$B$2,\"Fax\")","v":"Fax"}]
["State of Michiagan, MIOSHA","Mark Pedo","616-447-2650",null,null,null,null,null,{"$f":"HYPERLINK(\"#'Client Details'!$B$1\",\"Details\")","v":"Details"},{"$f":"HYPERLINK(Options!$B$1, \"Quote\")","v":"Quote"},{"$f":"HYPERLINK(Options!$B$2,\"Fax\")","v":"Fax"}]
["State of Michigan Dept. of Corrections (C","Steve Card"," 616-527-2500 232","cardstf@michigan.gov",null,"State","Ionia",null,{"$f":"HYPERLINK(\"#'Client Details'!$B$1\",\"Details\")","v":"Details"},{"$f":"HYPERLINK(Options!$B$1, \"Quote\")","v":"Quote"},{"$f":"HYPERLINK(Options!$B$2,\"Fax\")","v":"Fax"}]
["Stateline Farms","Chris McCallister","419-923-7355",null,null,null,null,null,{"$f":"HYPERLINK(\"#'Client Details'!$B$1\",\"Details\")","v":"Details"},{"$f":"HYPERLINK(Options!$B$1, \"Quote\")","v":"Quote"},{"$f":"HYPERLINK(Options!$B$2,\"Fax\")","v":"Fax"}]
["Stearns Drilling",null,null,null,null,null,null,null,{"$f":"HYPERLINK(\"#'Client Details'!$B$1\",\"Details\")","v":"Details"},{"$f":"HYPERLINK(Options!$B$1, \"Quote\")","v":"Quote"},{"$f":"HYPERLINK(Options!$B$2,\"Fax\")","v":"Fax"}]
["Stearns Drilling (Herron)","Larry Herron"," 616-698-7770","larry@stearnsdrilling.com","Project Manager","Contractor, Excavator","Kent",null,{"$f":"HYPERLINK(\"#'Client Details'!$B$1\",\"Details\")","v":"Details"},{"$f":"HYPERLINK(Options!$B$1, \"Quote\")","v":"Quote"},{"$f":"HYPERLINK(Options!$B$2,\"Fax\")","v":"Fax"}]
["Stearns Drilling (Stearns)","Joe Stearns"," 616-698-7770","joe@stearnsdrilling.com","President","Contractor, Excavator","Kent",null,{"$f":"HYPERLINK(\"#'Client Details'!$B$1\",\"Details\")","v":"Details"},{"$f":"HYPERLINK(Options!$B$1, \"Quote\")","v":"Quote"},{"$f":"HYPERLINK(Options!$B$2,\"Fax\")","v":"Fax"}]
["Steel Forming Systems (Harms)","Jean Harms"," 616-844-9982",null,"Human Resources",null,"Ottawa",null,{"$f":"HYPERLINK(\"#'Client Details'!$B$1\",\"Details\")","v":"Details"},{"$f":"HYPERLINK(Options!$B$1, \"Quote\")","v":"Quote"},{"$f":"HYPERLINK(Options!$B$2,\"Fax\")","v":"Fax"}]
["Steel Supply & Engineering","Roy Lorenz","616-452-3281",null,null,null,null,null,{"$f":"HYPERLINK(\"#'Client Details'!$B$1\",\"Details\")","v":"Details"},{"$f":"HYPERLINK(Options!$B$1, \"Quote\")","v":"Quote"},{"$f":"HYPERLINK(Options!$B$2,\"Fax\")","v":"Fax"}]
["Steel Supply & Engineering (SS&E) (Scheul","Jim Scheuler"," 616-452-3281 114","jims@steelsupplyengineering.com","General Manager","Contractor General","Kent",null,{"$f":"HYPERLINK(\"#'Client Details'!$B$1\",\"Details\")","v":"Details"},{"$f":"HYPERLINK(Options!$B$1, \"Quote\")","v":"Quote"},{"$f":"HYPERLINK(Options!$B$2,\"Fax\")","v":"Fax"}]
["Steel Technologies (Canton)","Karen Harris","734-397-3500",null,null,null,null,null,{"$f":"HYPERLINK(\"#'Client Details'!$B$1\",\"Details\")","v":"Details"},{"$f":"HYPERLINK(Options!$B$1, \"Quote\")","v":"Quote"},{"$f":"HYPERLINK(Options!$B$2,\"Fax\")","v":"Fax"}]
["Steel Technologies Inc.(Louisville)","Karen Harris","502-245-2110",null,null,null,null,null,{"$f":"HYPERLINK(\"#'Client Details'!$B$1\",\"Details\")","v":"Details"},{"$f":"HYPERLINK(Options!$B$1, \"Quote\")","v":"Quote"},{"$f":"HYPERLINK(Options!$B$2,\"Fax\")","v":"Fax"}]
["Steelcase (Caledonia)","Barbara Goodspeed","616-248-7223",null,null,null,null,null,{"$f":"HYPERLINK(\"#'Client Details'!$B$1\",\"Details\")","v":"Details"},{"$f":"HYPERLINK(Options!$B$1, \"Quote\")","v":"Quote"},{"$f":"HYPERLINK(Options!$B$2,\"Fax\")","v":"Fax"}]
["Steelcase (Desk Systems Plant)","Ken Ladner","616-475-2269",null,null,null,null,null,{"$f":"HYPERLINK(\"#'Client Details'!$B$1\",\"Details\")","v":"Details"},{"$f":"HYPERLINK(Options!$B$1, \"Quote\")","v":"Quote"},{"$f":"HYPERLINK(Options!$B$2,\"Fax\")","v":"Fax"}]
["Steelcase (Kentwood East)","Tom Nichols",null,null,null,null,null,null,{"$f":"HYPERLINK(\"#'Client Details'!$B$1\",\"Details\")","v":"Details"},{"$f":"HYPERLINK(Options!$B$1, \"Quote\")","v":"Quote"},{"$f":"HYPERLINK(Options!$B$2,\"Fax\")","v":"Fax"}]
["Steelcase (Safety Dept.)","Tim Martin","616-247-3190",null,null,null,null,null,{"$f":"HYPERLINK(\"#'Client Details'!$B$1\",\"Details\")","v":"Details"},{"$f":"HYPERLINK(Options!$B$1, \"Quote\")","v":"Quote"},{"$f":"HYPERLINK(Options!$B$2,\"Fax\")","v":"Fax"}]
["Steelcase Inc. (Becker)","Brian M. Becker"," 616-698-1409","bbecker@steelcase.com","Sr. Health and Safety Consulta","Furniture","Kent",null,{"$f":"HYPERLINK(\"#'Client Details'!$B$1\",\"Details\")","v":"Details"},{"$f":"HYPERLINK(Options!$B$1, \"Quote\")","v":"Quote"},{"$f":"HYPERLINK(Options!$B$2,\"Fax\")","v":"Fax"}]
["Steelcase Inc. (Boreham)","Lisa Boreham"," 616-698-5181","lboreham@steelcase.com","Sr. Health and Safety Engineer","Furniture","Kent",null,{"$f":"HYPERLINK(\"#'Client Details'!$B$1\",\"Details\")","v":"Details"},{"$f":"HYPERLINK(Options!$B$1, \"Quote\")","v":"Quote"},{"$f":"HYPERLINK(Options!$B$2,\"Fax\")","v":"Fax"}]
["Steelcase Inc. (Channer)","Maren Channer"," 616-554-4426","mchanner@steelcase.com",null,"Furniture","Kent",null,{"$f":"HYPERLINK(\"#'Client Details'!$B$1\",\"Details\")","v":"Details"},{"$f":"HYPERLINK(Options!$B$1, \"Quote\")","v":"Quote"},{"$f":"HYPERLINK(Options!$B$2,\"Fax\")","v":"Fax"}]
["Steelcase Inc. (Iacovone)","John Iacovone"," 616-246-4887","jiacovon@steelcase.com","Sr. Health and Safety Engineer","Furniture","Kent",null,{"$f":"HYPERLINK(\"#'Client Details'!$B$1\",\"Details\")","v":"Details"},{"$f":"HYPERLINK(Options!$B$1, \"Quote\")","v":"Quote"},{"$f":"HYPERLINK(Options!$B$2,\"Fax\")","v":"Fax"}]
["Steelcase Inc. (Kentwood West)","Lisa Boreham","616-698-5181",null,null,null,null,null,{"$f":"HYPERLINK(\"#'Client Details'!$B$1\",\"Details\")","v":"Details"},{"$f":"HYPERLINK(Options!$B$1, \"Quote\")","v":"Quote"},{"$f":"HYPERLINK(Options!$B$2,\"Fax\")","v":"Fax"}]
["Steelcase Inc. (Ladner)","Ken Ladner"," 616-475-2269","kladner@steelcase.com",null,"Furniture","Kent",null,{"$f":"HYPERLINK(\"#'Client Details'!$B$1\",\"Details\")","v":"Details"},{"$f":"HYPERLINK(Options!$B$1, \"Quote\")","v":"Quote"},{"$f":"HYPERLINK(Options!$B$2,\"Fax\")","v":"Fax"}]
["Steelcase Inc. (Martin)","Tim Martin"," 616-247-3190","tmartin5@steelcase.com","Sr. Industrial Hygienist","Furniture","Kent",null,{"$f":"HYPERLINK(\"#'Client Details'!$B$1\",\"Details\")","v":"Details"},{"$f":"HYPERLINK(Options!$B$1, \"Quote\")","v":"Quote"},{"$f":"HYPERLINK(Options!$B$2,\"Fax\")","v":"Fax"}]
["Steelcase Inc. (Nichols)","Tom Nichols"," 616-247-2988","tnichols@steelcase.com","Facilities Engineer","Furniture","Kent",null,{"$f":"HYPERLINK(\"#'Client Details'!$B$1\",\"Details\")","v":"Details"},{"$f":"HYPERLINK(Options!$B$1, \"Quote\")","v":"Quote"},{"$f":"HYPERLINK(Options!$B$2,\"Fax\")","v":"Fax"}]
["Steelcase Inc., Details (Channer)","Steve Channer"," 616-554-4403","schanner@steelcase.com",null,"Furniture","Kent",null,{"$f":"HYPERLINK(\"#'Client Details'!$B$1\",\"Details\")","v":"Details"},{"$f":"HYPERLINK(Options!$B$1, \"Quote\")","v":"Quote"},{"$f":"HYPERLINK(Options!$B$2,\"Fax\")","v":"Fax"}]
["Steeltech Ltd.",null,"616-243-7920",null,null,null,null,null,{"$f":"HYPERLINK(\"#'Client Details'!$B$1\",\"Details\")","v":"Details"},{"$f":"HYPERLINK(Options!$B$1, \"Quote\")","v":"Quote"},{"$f":"HYPERLINK(Options!$B$2,\"Fax\")","v":"Fax"}]
["Steeltech Ltd. (Schuetz)","Greg Schuetz"," 616-243-7920","lledoux@steeltechltd.com",null,"Steel","Kent",null,{"$f":"HYPERLINK(\"#'Client Details'!$B$1\",\"Details\")","v":"Details"},{"$f":"HYPERLINK(Options!$B$1, \"Quote\")","v":"Quote"},{"$f":"HYPERLINK(Options!$B$2,\"Fax\")","v":"Fax"}]
["Steenland Insurance Agency (Steenland)","Beth Steenland"," 616-784-3322 17","beth@steenland.com",null,"Insurance","Kent",null,{"$f":"HYPERLINK(\"#'Client Details'!$B$1\",\"Details\")","v":"Details"},{"$f":"HYPERLINK(Options!$B$1, \"Quote\")","v":"Quote"},{"$f":"HYPERLINK(Options!$B$2,\"Fax\")","v":"Fax"}]
["Steingass Mechanical","Mike Steingass","330-725-6090",null,null,null,null,null,{"$f":"HYPERLINK(\"#'Client Details'!$B$1\",\"Details\")","v":"Details"},{"$f":"HYPERLINK(Options!$B$1, \"Quote\")","v":"Quote"},{"$f":"HYPERLINK(Options!$B$2,\"Fax\")","v":"Fax"}]
["Stelter & Brinck","Jerry Sebald","513-367-9300 x118",null,null,null,null,null,{"$f":"HYPERLINK(\"#'Client Details'!$B$1\",\"Details\")","v":"Details"},{"$f":"HYPERLINK(Options!$B$1, \"Quote\")","v":"Quote"},{"$f":"HYPERLINK(Options!$B$2,\"Fax\")","v":"Fax"}]
["Sterile Systems Medtronic (Giraud)","Scott Giraud"," 800-875-5560",null,null,"Chemical Pharmaceutical","Kent",null,{"$f":"HYPERLINK(\"#'Client Details'!$B$1\",\"Details\")","v":"Details"},{"$f":"HYPERLINK(Options!$B$1, \"Quote\")","v":"Quote"},{"$f":"HYPERLINK(Options!$B$2,\"Fax\")","v":"Fax"}]
["Steris (Minneapolis)","P Szemacs","440-392-7933",null,null,null,null,null,{"$f":"HYPERLINK(\"#'Client Details'!$B$1\",\"Details\")","v":"Details"},{"$f":"HYPERLINK(Options!$B$1, \"Quote\")","v":"Quote"},{"$f":"HYPERLINK(Options!$B$2,\"Fax\")","v":"Fax"}]
["Steris Isomedix Corporation (Coon Rapids)",null,"763-786-2929",null,null,null,null,null,{"$f":"HYPERLINK(\"#'Client Details'!$B$1\",\"Details\")","v":"Details"},{"$f":"HYPERLINK(Options!$B$1, \"Quote\")","v":"Quote"},{"$f":"HYPERLINK(Options!$B$2,\"Fax\")","v":"Fax"}]
["Steris Isomedix Corporation (Emerich)","Ronald Emerich"," 440-392-7584","ronald_emerich@steris.com","Health, Safety & Environment M","Chemical Pharmaceutical","Out of State",null,{"$f":"HYPERLINK(\"#'Client Details'!$B$1\",\"Details\")","v":"Details"},{"$f":"HYPERLINK(Options!$B$1, \"Quote\")","v":"Quote"},{"$f":"HYPERLINK(Options!$B$2,\"Fax\")","v":"Fax"}]
["Steris Isomedix Corporation (Jackson)","David Jackson"," 440-392-8058","davjacks@steris.com",null,"Chemical Pharmaceutical","Out of State",null,{"$f":"HYPERLINK(\"#'Client Details'!$B$1\",\"Details\")","v":"Details"},{"$f":"HYPERLINK(Options!$B$1, \"Quote\")","v":"Quote"},{"$f":"HYPERLINK(Options!$B$2,\"Fax\")","v":"Fax"}]
["Steris Isomedix Corporation (Mentor)",null,"440-392-7594",null,null,null,null,null,{"$f":"HYPERLINK(\"#'Client Details'!$B$1\",\"Details\")","v":"Details"},{"$f":"HYPERLINK(Options!$B$1, \"Quote\")","v":"Quote"},{"$f":"HYPERLINK(Options!$B$2,\"Fax\")","v":"Fax"}]
["Steris Isomedix Corporation (Spartanburg)","Ron Emerich","864-582-3041",null,null,null,null,null,{"$f":"HYPERLINK(\"#'Client Details'!$B$1\",\"Details\")","v":"Details"},{"$f":"HYPERLINK(Options!$B$1, \"Quote\")","v":"Quote"},{"$f":"HYPERLINK(Options!$B$2,\"Fax\")","v":"Fax"}]
["Steris Isomedix Services, Inc. (Zirngible","Michelle Zirngible"," 763-786-2929 49103","Michelle_Zirngible@steris.com","Plant Manager","Manufacturer","Out of State",null,{"$f":"HYPERLINK(\"#'Client Details'!$B$1\",\"Details\")","v":"Details"},{"$f":"HYPERLINK(Options!$B$1, \"Quote\")","v":"Quote"},{"$f":"HYPERLINK(Options!$B$2,\"Fax\")","v":"Fax"}]
["Sterling (Miscik)","Greg Miscik"," 317-535-1317",null,null,"Supplier","Out of State",null,{"$f":"HYPERLINK(\"#'Client Details'!$B$1\",\"Details\")","v":"Details"},{"$f":"HYPERLINK(Options!$B$1, \"Quote\")","v":"Quote"},{"$f":"HYPERLINK(Options!$B$2,\"Fax\")","v":"Fax"}]
["Stock",null,null,null,null,null,null,null,{"$f":"HYPERLINK(\"#'Client Details'!$B$1\",\"Details\")","v":"Details"},{"$f":"HYPERLINK(Options!$B$1, \"Quote\")","v":"Quote"},{"$f":"HYPERLINK(Options!$B$2,\"Fax\")","v":"Fax"}]
["Stone Plastics (Smalligan)","Chad Smalligan"," 616-748-9740",null,"Safety",null,"Ottawa",null,{"$f":"HYPERLINK(\"#'Client Details'!$B$1\",\"Details\")","v":"Details"},{"$f":"HYPERLINK(Options!$B$1, \"Quote\")","v":"Quote"},{"$f":"HYPERLINK(Options!$B$2,\"Fax\")","v":"Fax"}]
["Stonhard",null,"800-257-7953",null,null,null,null,null,{"$f":"HYPERLINK(\"#'Client Details'!$B$1\",\"Details\")","v":"Details"},{"$f":"HYPERLINK(Options!$B$1, \"Quote\")","v":"Quote"},{"$f":"HYPERLINK(Options!$B$2,\"Fax\")","v":"Fax"}]
["Stonhard (Geldard)","Terry Geldard"," 800-257-7953",null,null,"Other","Out of State",null,{"$f":"HYPERLINK(\"#'Client Details'!$B$1\",\"Details\")","v":"Details"},{"$f":"HYPERLINK(Options!$B$1, \"Quote\")","v":"Quote"},{"$f":"HYPERLINK(Options!$B$2,\"Fax\")","v":"Fax"}]
["Strain Electric Company (Pearson)","Ross Pearson"," 616-453-2108","seco22@netzero.net",null,"Contractor Electrical","Kent",null,{"$f":"HYPERLINK(\"#'Client Details'!$B$1\",\"Details\")","v":"Details"},{"$f":"HYPERLINK(Options!$B$1, \"Quote\")","v":"Quote"},{"$f":"HYPERLINK(Options!$B$2,\"Fax\")","v":"Fax"}]
["Strategic Safety, Inc.","Matt Moltane","810-735-9885","matt@strategicsafety.net",null,null,null,null,{"$f":"HYPERLINK(\"#'Client Details'!$B$1\",\"Details\")","v":"Details"},{"$f":"HYPERLINK(Options!$B$1, \"Quote\")","v":"Quote"},{"$f":"HYPERLINK(Options!$B$2,\"Fax\")","v":"Fax"}]
["Streamlight (Evans)","Geoff Evans"," 800-523-7488 8424","gevans@streamlight.com","Region Sales Manager","Representative","Kent",null,{"$f":"HYPERLINK(\"#'Client Details'!$B$1\",\"Details\")","v":"Details"},{"$f":"HYPERLINK(Options!$B$1, \"Quote\")","v":"Quote"},{"$f":"HYPERLINK(Options!$B$2,\"Fax\")","v":"Fax"}]
["Structural Concepts (Kent)","Don Kent"," 231-798-6300","dkent@structuralconcepts.com","Safety Coordinator","?","Muskegon",null,{"$f":"HYPERLINK(\"#'Client Details'!$B$1\",\"Details\")","v":"Details"},{"$f":"HYPERLINK(Options!$B$1, \"Quote\")","v":"Quote"},{"$f":"HYPERLINK(Options!$B$2,\"Fax\")","v":"Fax"}]
["Structural Preservation Systems",null,"734-282-7760",null,null,null,null,null,{"$f":"HYPERLINK(\"#'Client Details'!$B$1\",\"Details\")","v":"Details"},{"$f":"HYPERLINK(Options!$B$1, \"Quote\")","v":"Quote"},{"$f":"HYPERLINK(Options!$B$2,\"Fax\")","v":"Fax"}]
["Stryker Corporation",null,"269-329-2100",null,null,null,null,null,{"$f":"HYPERLINK(\"#'Client Details'!$B$1\",\"Details\")","v":"Details"},{"$f":"HYPERLINK(Options!$B$1, \"Quote\")","v":"Quote"},{"$f":"HYPERLINK(Options!$B$2,\"Fax\")","v":"Fax"}]
["Stryker Corporation (Sockol)","Joe Sockol"," 269-323-7700 4668","joe.sockol@stryker.com","EH&S Manager","Manufacturer","Kalamazoo",null,{"$f":"HYPERLINK(\"#'Client Details'!$B$1\",\"Details\")","v":"Details"},{"$f":"HYPERLINK(Options!$B$1, \"Quote\")","v":"Quote"},{"$f":"HYPERLINK(Options!$B$2,\"Fax\")","v":"Fax"}]
["Sturgis DPW, City of","Frank Schragg","269-651-2879",null,null,null,null,null,{"$f":"HYPERLINK(\"#'Client Details'!$B$1\",\"Details\")","v":"Details"},{"$f":"HYPERLINK(Options!$B$1, \"Quote\")","v":"Quote"},{"$f":"HYPERLINK(Options!$B$2,\"Fax\")","v":"Fax"}]
["Sturgis DPW, City of (Miller)","Rick Miller"," 269-651-2879","rmiller@ci.sturgis.mi.us","Supervisor","Municipal, Cty","St. Joseph",null,{"$f":"HYPERLINK(\"#'Client Details'!$B$1\",\"Details\")","v":"Details"},{"$f":"HYPERLINK(Options!$B$1, \"Quote\")","v":"Quote"},{"$f":"HYPERLINK(Options!$B$2,\"Fax\")","v":"Fax"}]
["Sturgis DPW, City of (Schragg)","Frank Schragg"," 269-651-2879","fschragg@ci.sturgis.mi.us","Maintenance Manager","Municipal, Cty","St. Joseph",null,{"$f":"HYPERLINK(\"#'Client Details'!$B$1\",\"Details\")","v":"Details"},{"$f":"HYPERLINK(Options!$B$1, \"Quote\")","v":"Quote"},{"$f":"HYPERLINK(Options!$B$2,\"Fax\")","v":"Fax"}]
["Sturgis WWTP, City of",null,"269-659-7250",null,null,null,null,null,{"$f":"HYPERLINK(\"#'Client Details'!$B$1\",\"Details\")","v":"Details"},{"$f":"HYPERLINK(Options!$B$1, \"Quote\")","v":"Quote"},{"$f":"HYPERLINK(Options!$B$2,\"Fax\")","v":"Fax"}]
["Sturgis WWTP, City of (Sikorski)","Tom Sikorski"," 269-659-7250","tsikorski@ci.sturgis.mi.us","Superintendent","Municipal, Cty","St. Joseph",null,{"$f":"HYPERLINK(\"#'Client Details'!$B$1\",\"Details\")","v":"Details"},{"$f":"HYPERLINK(Options!$B$1, \"Quote\")","v":"Quote"},{"$f":"HYPERLINK(Options!$B$2,\"Fax\")","v":"Fax"}]
["Summit Contractors, Inc.",null,"517-575-0881",null,null,null,null,null,{"$f":"HYPERLINK(\"#'Client Details'!$B$1\",\"Details\")","v":"Details"},{"$f":"HYPERLINK(Options!$B$1, \"Quote\")","v":"Quote"},{"$f":"HYPERLINK(Options!$B$2,\"Fax\")","v":"Fax"}]
["Summit Mechanical","Phil Sitarski","810-364-4292",null,null,null,null,null,{"$f":"HYPERLINK(\"#'Client Details'!$B$1\",\"Details\")","v":"Details"},{"$f":"HYPERLINK(Options!$B$1, \"Quote\")","v":"Quote"},{"$f":"HYPERLINK(Options!$B$2,\"Fax\")","v":"Fax"}]
["Summit Training Source, Inc. (Aikins)","Lee Aikins"," 616-949-6560 257","leea@safetyontheweb.com",null,"Supplier","Kent",null,{"$f":"HYPERLINK(\"#'Client Details'!$B$1\",\"Details\")","v":"Details"},{"$f":"HYPERLINK(Options!$B$1, \"Quote\")","v":"Quote"},{"$f":"HYPERLINK(Options!$B$2,\"Fax\")","v":"Fax"}]
["Sun Chemical (Cincinanati)",null,"513-681-5950",null,null,null,null,null,{"$f":"HYPERLINK(\"#'Client Details'!$B$1\",\"Details\")","v":"Details"},{"$f":"HYPERLINK(Options!$B$1, \"Quote\")","v":"Quote"},{"$f":"HYPERLINK(Options!$B$2,\"Fax\")","v":"Fax"}]
["Sun Chemical (Muskegon)",null,"231-788-2371",null,null,null,null,null,{"$f":"HYPERLINK(\"#'Client Details'!$B$1\",\"Details\")","v":"Details"},{"$f":"HYPERLINK(Options!$B$1, \"Quote\")","v":"Quote"},{"$f":"HYPERLINK(Options!$B$2,\"Fax\")","v":"Fax"}]
["Sun Chemical Cincinnati (Beringer)","Arnie Beringer"," 513-681-5950 655","arnie.beringer@na.sunchem.com","EH&S Manager","Chemical Pharmaceutical","Out of State",null,{"$f":"HYPERLINK(\"#'Client Details'!$B$1\",\"Details\")","v":"Details"},{"$f":"HYPERLINK(Options!$B$1, \"Quote\")","v":"Quote"},{"$f":"HYPERLINK(Options!$B$2,\"Fax\")","v":"Fax"}]
["Sun Chemical Cincinnati (Jennings)","Andy Jennings"," 513-681-5950 211",null,null,"Chemical Pharmaceutical","Out of State",null,{"$f":"HYPERLINK(\"#'Client Details'!$B$1\",\"Details\")","v":"Details"},{"$f":"HYPERLINK(Options!$B$1, \"Quote\")","v":"Quote"},{"$f":"HYPERLINK(Options!$B$2,\"Fax\")","v":"Fax"}]
["Sun Chemical Muskegon (Davis)","Denny Davis"," 231-788-2371","dennis.davis@sunchemical.com","Maintenance Manager","Chemical Pharmaceutical","Muskegon",null,{"$f":"HYPERLINK(\"#'Client Details'!$B$1\",\"Details\")","v":"Details"},{"$f":"HYPERLINK(Options!$B$1, \"Quote\")","v":"Quote"},{"$f":"HYPERLINK(Options!$B$2,\"Fax\")","v":"Fax"}]
["Sun Chemical Muskegon (Decker)","Jim Decker"," 231-788-2371 264","deckerj@na.sunchem.com","Safety & Health Specialist","Chemical Pharmaceutical","Muskegon",null,{"$f":"HYPERLINK(\"#'Client Details'!$B$1\",\"Details\")","v":"Details"},{"$f":"HYPERLINK(Options!$B$1, \"Quote\")","v":"Quote"},{"$f":"HYPERLINK(Options!$B$2,\"Fax\")","v":"Fax"}]
["Sun Chemical Muskegon (Geist)","Don Geist"," 231-788-2371 270","don.geist@na.sunchem.com","Maintenance Planning Superviso","Chemical Pharmaceutical","Muskegon",null,{"$f":"HYPERLINK(\"#'Client Details'!$B$1\",\"Details\")","v":"Details"},{"$f":"HYPERLINK(Options!$B$1, \"Quote\")","v":"Quote"},{"$f":"HYPERLINK(Options!$B$2,\"Fax\")","v":"Fax"}]
["Sun Chemical Muskegon (Grunenwald)","Dennis Grunenwald"," 231-788-2371 345",null,"Maintenance Manager",null,"Muskegon",null,{"$f":"HYPERLINK(\"#'Client Details'!$B$1\",\"Details\")","v":"Details"},{"$f":"HYPERLINK(Options!$B$1, \"Quote\")","v":"Quote"},{"$f":"HYPERLINK(Options!$B$2,\"Fax\")","v":"Fax"}]
["Sun Chemical Muskegon (Harrison)","Michael Harrison"," 231-788-2371 339","mike.harrison@na.sunchem.com","Reliability Engineer","Chemical Pharmaceutical","Muskegon",null,{"$f":"HYPERLINK(\"#'Client Details'!$B$1\",\"Details\")","v":"Details"},{"$f":"HYPERLINK(Options!$B$1, \"Quote\")","v":"Quote"},{"$f":"HYPERLINK(Options!$B$2,\"Fax\")","v":"Fax"}]
["Sun Chemical Muskegon (Lampen)","Mike Lampen"," 231-788-2371 241","mike.lampen@sunchemical.com","E&I Team Leader","Chemical Pharmaceutical","Muskegon",null,{"$f":"HYPERLINK(\"#'Client Details'!$B$1\",\"Details\")","v":"Details"},{"$f":"HYPERLINK(Options!$B$1, \"Quote\")","v":"Quote"},{"$f":"HYPERLINK(Options!$B$2,\"Fax\")","v":"Fax"}]
["Sun Chemical Muskegon (Minner)","Rick Minner"," 231-788-2371 226","rick.minner@na.sunchem.com","EH&S Supervisor","Chemical Pharmaceutical","Muskegon",null,{"$f":"HYPERLINK(\"#'Client Details'!$B$1\",\"Details\")","v":"Details"},{"$f":"HYPERLINK(Options!$B$1, \"Quote\")","v":"Quote"},{"$f":"HYPERLINK(Options!$B$2,\"Fax\")","v":"Fax"}]
["Sun Chemical Muskegon (Piper)","Tom Piper"," 231-788-2371 456","tom.piper@na.sunchem.com","Production System Supervisor",null,"Muskegon",null,{"$f":"HYPERLINK(\"#'Client Details'!$B$1\",\"Details\")","v":"Details"},{"$f":"HYPERLINK(Options!$B$1, \"Quote\")","v":"Quote"},{"$f":"HYPERLINK(Options!$B$2,\"Fax\")","v":"Fax"}]
["Sun Chemical Muskegon (VandenBerg)","Everett VandenBerg"," 231-788-2371 169","bob.brenton@na.sunchem.com","EH&S Manager","Chemical Pharmaceutical","Muskegon",null,{"$f":"HYPERLINK(\"#'Client Details'!$B$1\",\"Details\")","v":"Details"},{"$f":"HYPERLINK(Options!$B$1, \"Quote\")","v":"Quote"},{"$f":"HYPERLINK(Options!$B$2,\"Fax\")","v":"Fax"}]
["Sun Chemical Muskegon (VanWye)","Tony VanWye"," 231-788-2371",null,"Safety Lead",null,"Muskegon",null,{"$f":"HYPERLINK(\"#'Client Details'!$B$1\",\"Details\")","v":"Details"},{"$f":"HYPERLINK(Options!$B$1, \"Quote\")","v":"Quote"},{"$f":"HYPERLINK(Options!$B$2,\"Fax\")","v":"Fax"}]
["Sun Chemical Muskegon (Wright)","Phyllis J. Wright"," 231-788-2371 235","phyllis.wright@na.sunchem.com","Purchasing Assistant","Chemical Pharmaceutical","Muskegon",null,{"$f":"HYPERLINK(\"#'Client Details'!$B$1\",\"Details\")","v":"Details"},{"$f":"HYPERLINK(Options!$B$1, \"Quote\")","v":"Quote"},{"$f":"HYPERLINK(Options!$B$2,\"Fax\")","v":"Fax"}]
["Sun Chemical Northlake (Gaughan)","Megan Gaughan"," 708-236-3507","megan.gaughan@na.sunchem.com","EHS Coordinator, North AMerica","Chemical Pharmaceutical","Out of State",null,{"$f":"HYPERLINK(\"#'Client Details'!$B$1\",\"Details\")","v":"Details"},{"$f":"HYPERLINK(Options!$B$1, \"Quote\")","v":"Quote"},{"$f":"HYPERLINK(Options!$B$2,\"Fax\")","v":"Fax"}]
["Sunrise Acres Egg Farms (DeYoung)","Jeremy DeYoung"," 616-896-9827",null,"Safety Director",null,"Ottawa",null,{"$f":"HYPERLINK(\"#'Client Details'!$B$1\",\"Details\")","v":"Details"},{"$f":"HYPERLINK(Options!$B$1, \"Quote\")","v":"Quote"},{"$f":"HYPERLINK(Options!$B$2,\"Fax\")","v":"Fax"}]
["Sunrise Acres Egg Farms (Patmos)","Dick Patmos"," 616-896-9827","sunriseacreseggs@aol.com","President","Food","Ottawa",null,{"$f":"HYPERLINK(\"#'Client Details'!$B$1\",\"Details\")","v":"Details"},{"$f":"HYPERLINK(Options!$B$1, \"Quote\")","v":"Quote"},{"$f":"HYPERLINK(Options!$B$2,\"Fax\")","v":"Fax"}]
["Sunrise Industries Inc. (Phillips)","Louretta Phillips"," 800-537-5504",null,"Customer service","Supplier","N/A",null,{"$f":"HYPERLINK(\"#'Client Details'!$B$1\",\"Details\")","v":"Details"},{"$f":"HYPERLINK(Options!$B$1, \"Quote\")","v":"Quote"},{"$f":"HYPERLINK(Options!$B$2,\"Fax\")","v":"Fax"}]
["Sunset Waste Services (Mealey)","Luke Mealey"," 616-379-0541",null,"Account Manager","Other","Kent",null,{"$f":"HYPERLINK(\"#'Client Details'!$B$1\",\"Details\")","v":"Details"},{"$f":"HYPERLINK(Options!$B$1, \"Quote\")","v":"Quote"},{"$f":"HYPERLINK(Options!$B$2,\"Fax\")","v":"Fax"}]
["Superheat FGH","Brant Augustyniak","419-726-6277",null,null,null,null,null,{"$f":"HYPERLINK(\"#'Client Details'!$B$1\",\"Details\")","v":"Details"},{"$f":"HYPERLINK(Options!$B$1, \"Quote\")","v":"Quote"},{"$f":"HYPERLINK(Options!$B$2,\"Fax\")","v":"Fax"}]
["Superior Environmental",null,"616-667-4000",null,null,null,null,null,{"$f":"HYPERLINK(\"#'Client Details'!$B$1\",\"Details\")","v":"Details"},{"$f":"HYPERLINK(Options!$B$1, \"Quote\")","v":"Quote"},{"$f":"HYPERLINK(Options!$B$2,\"Fax\")","v":"Fax"}]
["Superior Environmental (Gallagher)","Gregg Gallagher"," 616-667-4000","gallagg@superiorenvironmental.com",null,"Contractor EH&S","Kent",null,{"$f":"HYPERLINK(\"#'Client Details'!$B$1\",\"Details\")","v":"Details"},{"$f":"HYPERLINK(Options!$B$1, \"Quote\")","v":"Quote"},{"$f":"HYPERLINK(Options!$B$2,\"Fax\")","v":"Fax"}]
["Superior Environmental (McDuffy)","Michael McDuffy"," 616-677-5255",null,"Purchasing Agent","Contractor EH&S","Kent",null,{"$f":"HYPERLINK(\"#'Client Details'!$B$1\",\"Details\")","v":"Details"},{"$f":"HYPERLINK(Options!$B$1, \"Quote\")","v":"Quote"},{"$f":"HYPERLINK(Options!$B$2,\"Fax\")","v":"Fax"}]
["Superior Environmental Corp. (Enberg)","Chuck Enberg"," 616-667-4000",null,"Health & Safety Officer","Contractor EH&S","Kent",null,{"$f":"HYPERLINK(\"#'Client Details'!$B$1\",\"Details\")","v":"Details"},{"$f":"HYPERLINK(Options!$B$1, \"Quote\")","v":"Quote"},{"$f":"HYPERLINK(Options!$B$2,\"Fax\")","v":"Fax"}]
["Superior Sales (VanderBand)","Dave VanderBand"," 616-896-6500",null,"Safety Director",null,"Ottawa",null,{"$f":"HYPERLINK(\"#'Client Details'!$B$1\",\"Details\")","v":"Details"},{"$f":"HYPERLINK(Options!$B$1, \"Quote\")","v":"Quote"},{"$f":"HYPERLINK(Options!$B$2,\"Fax\")","v":"Fax"}]
["Superior Seafoods (Carlson)","Dennis Carlson"," 616-971-2162 162","dcarlson@superiorseafoods.com","Plant Manager","Food","Kent",null,{"$f":"HYPERLINK(\"#'Client Details'!$B$1\",\"Details\")","v":"Details"},{"$f":"HYPERLINK(Options!$B$1, \"Quote\")","v":"Quote"},{"$f":"HYPERLINK(Options!$B$2,\"Fax\")","v":"Fax"}]
["Superior Stone Products","Brian Dean","616-583-0171",null,null,null,null,null,{"$f":"HYPERLINK(\"#'Client Details'!$B$1\",\"Details\")","v":"Details"},{"$f":"HYPERLINK(Options!$B$1, \"Quote\")","v":"Quote"},{"$f":"HYPERLINK(Options!$B$2,\"Fax\")","v":"Fax"}]
["Superior Stone Products (Dean)","Brian Dean"," 616-583-0171","bdean@superiorstoneproducts.com","Environmental Health & Safety","Manufacturer","Kent",null,{"$f":"HYPERLINK(\"#'Client Details'!$B$1\",\"Details\")","v":"Details"},{"$f":"HYPERLINK(Options!$B$1, \"Quote\")","v":"Quote"},{"$f":"HYPERLINK(Options!$B$2,\"Fax\")","v":"Fax"}]
["Superior Stone Products (Ignatovich)","Fred R. Ignatovich"," 616-583-0171","fred@superiorstoneproducts.com","President","Manufacturer","Kent",null,{"$f":"HYPERLINK(\"#'Client Details'!$B$1\",\"Details\")","v":"Details"},{"$f":"HYPERLINK(Options!$B$1, \"Quote\")","v":"Quote"},{"$f":"HYPERLINK(Options!$B$2,\"Fax\")","v":"Fax"}]
["Supreme Machine (Becker)","Mel Becker"," 616-842-6550",null,"Plant Manager","Manufacturer","Ottawa",null,{"$f":"HYPERLINK(\"#'Client Details'!$B$1\",\"Details\")","v":"Details"},{"$f":"HYPERLINK(Options!$B$1, \"Quote\")","v":"Quote"},{"$f":"HYPERLINK(Options!$B$2,\"Fax\")","v":"Fax"}]
["Survivair (Taylor)","Jim Taylor"," 800-394-0410","jtaylor@bacou-dalloz.com","Service Manager","Supplier","Out of State",null,{"$f":"HYPERLINK(\"#'Client Details'!$B$1\",\"Details\")","v":"Details"},{"$f":"HYPERLINK(Options!$B$1, \"Quote\")","v":"Quote"},{"$f":"HYPERLINK(Options!$B$2,\"Fax\")","v":"Fax"}]
["SW Controls (Maceri)","Joe Maceri",null,"jmaceri@swcontrols.net",null,"Competitor","Wayne",null,{"$f":"HYPERLINK(\"#'Client Details'!$B$1\",\"Details\")","v":"Details"},{"$f":"HYPERLINK(Options!$B$1, \"Quote\")","v":"Quote"},{"$f":"HYPERLINK(Options!$B$2,\"Fax\")","v":"Fax"}]
["SW Controls, Inc.","Joe Maceri","313-718-0127 cell","klindstrom@swcontrols.net",null,null,null,null,{"$f":"HYPERLINK(\"#'Client Details'!$B$1\",\"Details\")","v":"Details"},{"$f":"HYPERLINK(Options!$B$1, \"Quote\")","v":"Quote"},{"$f":"HYPERLINK(Options!$B$2,\"Fax\")","v":"Fax"}]
["Swartz Creek DPW, City of (Svrcek)","Tom Svrcek"," 810-635-4464","tsvrcek@cityofswartzcreek.org","Public Services Director","Municipal, Cty","Genesee",null,{"$f":"HYPERLINK(\"#'Client Details'!$B$1\",\"Details\")","v":"Details"},{"$f":"HYPERLINK(Options!$B$1, \"Quote\")","v":"Quote"},{"$f":"HYPERLINK(Options!$B$2,\"Fax\")","v":"Fax"}]
["Sylvan Township Water & Sewer Authority","Bob Halliwell","734-433-5470",null,null,null,null,null,{"$f":"HYPERLINK(\"#'Client Details'!$B$1\",\"Details\")","v":"Details"},{"$f":"HYPERLINK(Options!$B$1, \"Quote\")","v":"Quote"},{"$f":"HYPERLINK(Options!$B$2,\"Fax\")","v":"Fax"}]
["Symmetry Medical",null,"517-887-3434",null,null,null,null,null,{"$f":"HYPERLINK(\"#'Client Details'!$B$1\",\"Details\")","v":"Details"},{"$f":"HYPERLINK(Options!$B$1, \"Quote\")","v":"Quote"},{"$f":"HYPERLINK(Options!$B$2,\"Fax\")","v":"Fax"}]
["Synagro","Ron Lutz","Cell 616-291-7876",null,null,null,null,null,{"$f":"HYPERLINK(\"#'Client Details'!$B$1\",\"Details\")","v":"Details"},{"$f":"HYPERLINK(Options!$B$1, \"Quote\")","v":"Quote"},{"$f":"HYPERLINK(Options!$B$2,\"Fax\")","v":"Fax"}]
["Synagro (Byron Center)","Ron Lutz",null,null,null,null,null,null,{"$f":"HYPERLINK(\"#'Client Details'!$B$1\",\"Details\")","v":"Details"},{"$f":"HYPERLINK(Options!$B$1, \"Quote\")","v":"Quote"},{"$f":"HYPERLINK(Options!$B$2,\"Fax\")","v":"Fax"}]
["Synagro (Goetsch)","Bill Goetsch"," 517-487-9280","bgoetsch@synagro.com","Technical Services Manager","Contractor EH&S","Ingham",null,{"$f":"HYPERLINK(\"#'Client Details'!$B$1\",\"Details\")","v":"Details"},{"$f":"HYPERLINK(Options!$B$1, \"Quote\")","v":"Quote"},{"$f":"HYPERLINK(Options!$B$2,\"Fax\")","v":"Fax"}]
["Synagro (Lutz)","Ron Lutz"," 517-487-9280","rlutz@synagro.com","Safety Manager","Contractor EH&S","Ingham",null,{"$f":"HYPERLINK(\"#'Client Details'!$B$1\",\"Details\")","v":"Details"},{"$f":"HYPERLINK(Options!$B$1, \"Quote\")","v":"Quote"},{"$f":"HYPERLINK(Options!$B$2,\"Fax\")","v":"Fax"}]
["Synergis Technologies Group","Sandra Soresi","616-245-4400",null,null,null,null,null,{"$f":"HYPERLINK(\"#'Client Details'!$B$1\",\"Details\")","v":"Details"},{"$f":"HYPERLINK(Options!$B$1, \"Quote\")","v":"Quote"},{"$f":"HYPERLINK(Options!$B$2,\"Fax\")","v":"Fax"}]
["Synergis Technology (Dieline Corp.)",null,null,null,null,null,null,null,{"$f":"HYPERLINK(\"#'Client Details'!$B$1\",\"Details\")","v":"Details"},{"$f":"HYPERLINK(Options!$B$1, \"Quote\")","v":"Quote"},{"$f":"HYPERLINK(Options!$B$2,\"Fax\")","v":"Fax"}]
["Synergis Technology Dieline (Huisken)","Robert Huisken"," 616-245-4400 1043","robert.huisken@synergis.us","Management Representative","Manufacturer","Kent",null,{"$f":"HYPERLINK(\"#'Client Details'!$B$1\",\"Details\")","v":"Details"},{"$f":"HYPERLINK(Options!$B$1, \"Quote\")","v":"Quote"},{"$f":"HYPERLINK(Options!$B$2,\"Fax\")","v":"Fax"}]
["Sysco Food Service of Grand Rapids","Jim Brown","616-949-3700",null,null,null,null,null,{"$f":"HYPERLINK(\"#'Client Details'!$B$1\",\"Details\")","v":"Details"},{"$f":"HYPERLINK(Options!$B$1, \"Quote\")","v":"Quote"},{"$f":"HYPERLINK(Options!$B$2,\"Fax\")","v":"Fax"}]
["Sysco Food Services of Grand Rapids (Brow","Jim Brown"," 800-669-6967 4239","brown.jim@grr.sysco.com","Safety Manager","Food","Kent",null,{"$f":"HYPERLINK(\"#'Client Details'!$B$1\",\"Details\")","v":"Details"},{"$f":"HYPERLINK(Options!$B$1, \"Quote\")","v":"Quote"},{"$f":"HYPERLINK(Options!$B$2,\"Fax\")","v":"Fax"}]
["Szudera (VanZyll)","Jerry VanZyll"," 616-459-5673","jszudera99@aol.com",null,"Contractor General","Kent",null,{"$f":"HYPERLINK(\"#'Client Details'!$B$1\",\"Details\")","v":"Details"},{"$f":"HYPERLINK(Options!$B$1, \"Quote\")","v":"Quote"},{"$f":"HYPERLINK(Options!$B$2,\"Fax\")","v":"Fax"}]
["T&A Industrial Distribution","Andy Mueller","262-783-4900",null,null,null,null,null,{"$f":"HYPERLINK(\"#'Client Details'!$B$1\",\"Details\")","v":"Details"},{"$f":"HYPERLINK(Options!$B$1, \"Quote\")","v":"Quote"},{"$f":"HYPERLINK(Options!$B$2,\"Fax\")","v":"Fax"}]
["T.E.S. Filer City Station(CMS Enterprises","Shelly Johnson"," 231-723-6573 105",null,"Safety Director","Power Plant","Manistee",null,{"$f":"HYPERLINK(\"#'Client Details'!$B$1\",\"Details\")","v":"Details"},{"$f":"HYPERLINK(Options!$B$1, \"Quote\")","v":"Quote"},{"$f":"HYPERLINK(Options!$B$2,\"Fax\")","v":"Fax"}]
["T.H. Miller Excavating, Inc. (Miller)","Tom Miller"," 989-593-3399",null,"Owner","Contractor, Excavator","Clinton",null,{"$f":"HYPERLINK(\"#'Client Details'!$B$1\",\"Details\")","v":"Details"},{"$f":"HYPERLINK(Options!$B$1, \"Quote\")","v":"Quote"},{"$f":"HYPERLINK(Options!$B$2,\"Fax\")","v":"Fax"}]
["Tadd Industries (Schneider)","Darlene Schneider"," 616-677-5263 121","dees@taddind.com","Office Manager","Manufacturer","Kent",null,{"$f":"HYPERLINK(\"#'Client Details'!$B$1\",\"Details\")","v":"Details"},{"$f":"HYPERLINK(Options!$B$1, \"Quote\")","v":"Quote"},{"$f":"HYPERLINK(Options!$B$2,\"Fax\")","v":"Fax"}]
["Taplin Environmental Contracting Corp.","Tina Boreham","800-632-4176",null,null,null,null,null,{"$f":"HYPERLINK(\"#'Client Details'!$B$1\",\"Details\")","v":"Details"},{"$f":"HYPERLINK(Options!$B$1, \"Quote\")","v":"Quote"},{"$f":"HYPERLINK(Options!$B$2,\"Fax\")","v":"Fax"}]
["Taplin Environmental Contracting Corporat","Tina Boreham"," 800-632-4176","tina@taplinenvironmental.com","Safety Manager","Contractor EH&S","Kalamazoo",null,{"$f":"HYPERLINK(\"#'Client Details'!$B$1\",\"Details\")","v":"Details"},{"$f":"HYPERLINK(Options!$B$1, \"Quote\")","v":"Quote"},{"$f":"HYPERLINK(Options!$B$2,\"Fax\")","v":"Fax"}]
["Targeting Customer Safety (Swigert)","Neal Swigert"," 616-225-0778","tcsinc@pathwaynet.com","Manufacter's Rep","Representative","Montcalm",null,{"$f":"HYPERLINK(\"#'Client Details'!$B$1\",\"Details\")","v":"Details"},{"$f":"HYPERLINK(Options!$B$1, \"Quote\")","v":"Quote"},{"$f":"HYPERLINK(Options!$B$2,\"Fax\")","v":"Fax"}]
["Tate Engineering Systems (Salisbury) (Jon","Michelle Jones"," 410-242-8800 351","michelle.jones@tate.com","Service Coordinator","Manufacturer","Out of State",null,{"$f":"HYPERLINK(\"#'Client Details'!$B$1\",\"Details\")","v":"Details"},{"$f":"HYPERLINK(Options!$B$1, \"Quote\")","v":"Quote"},{"$f":"HYPERLINK(Options!$B$2,\"Fax\")","v":"Fax"}]
["Tate Engineering Systems (Salisbury, OH)",null,"410-242-8800",null,null,null,null,null,{"$f":"HYPERLINK(\"#'Client Details'!$B$1\",\"Details\")","v":"Details"},{"$f":"HYPERLINK(Options!$B$1, \"Quote\")","v":"Quote"},{"$f":"HYPERLINK(Options!$B$2,\"Fax\")","v":"Fax"}]
["Taylor Fire Department (DiCicco)","Sam DiCicco"," 734-374-1388","sdicicco@ci.taylor.mi.us","Battalion Chief Training/Maint","Fire Department","Wayne",null,{"$f":"HYPERLINK(\"#'Client Details'!$B$1\",\"Details\")","v":"Details"},{"$f":"HYPERLINK(Options!$B$1, \"Quote\")","v":"Quote"},{"$f":"HYPERLINK(Options!$B$2,\"Fax\")","v":"Fax"}]
["Taylor Fire Dept., City of","Jim Piasecki","734-374-1355",null,null,null,null,null,{"$f":"HYPERLINK(\"#'Client Details'!$B$1\",\"Details\")","v":"Details"},{"$f":"HYPERLINK(Options!$B$1, \"Quote\")","v":"Quote"},{"$f":"HYPERLINK(Options!$B$2,\"Fax\")","v":"Fax"}]
["TC Rigging","Tim Carlson","651-283-0598",null,null,null,null,null,{"$f":"HYPERLINK(\"#'Client Details'!$B$1\",\"Details\")","v":"Details"},{"$f":"HYPERLINK(Options!$B$1, \"Quote\")","v":"Quote"},{"$f":"HYPERLINK(Options!$B$2,\"Fax\")","v":"Fax"}]
["TCI Inc. of Michigan","Karl Grant","517-663-5635","karl@tciincofmichigan.com",null,null,null,null,{"$f":"HYPERLINK(\"#'Client Details'!$B$1\",\"Details\")","v":"Details"},{"$f":"HYPERLINK(Options!$B$1, \"Quote\")","v":"Quote"},{"$f":"HYPERLINK(Options!$B$2,\"Fax\")","v":"Fax"}]
["TDS Automation (Miller)","Kim Miller"," 319-483-4786","kim.miller@tdsautomation.com",null,"Manufacturer","Out of State",null,{"$f":"HYPERLINK(\"#'Client Details'!$B$1\",\"Details\")","v":"Details"},{"$f":"HYPERLINK(Options!$B$1, \"Quote\")","v":"Quote"},{"$f":"HYPERLINK(Options!$B$2,\"Fax\")","v":"Fax"}]
["TDS Metrocom (Lhatsang)","TenZin Lhatsang"," 616-464-5534",null,"Account Coordinator","Representative","Kent",null,{"$f":"HYPERLINK(\"#'Client Details'!$B$1\",\"Details\")","v":"Details"},{"$f":"HYPERLINK(Options!$B$1, \"Quote\")","v":"Quote"},{"$f":"HYPERLINK(Options!$B$2,\"Fax\")","v":"Fax"}]
["Team Elmer's","Paul Brink","231.943.3443","pbrink@teamelmers.com",null,null,null,null,{"$f":"HYPERLINK(\"#'Client Details'!$B$1\",\"Details\")","v":"Details"},{"$f":"HYPERLINK(Options!$B$1, \"Quote\")","v":"Quote"},{"$f":"HYPERLINK(Options!$B$2,\"Fax\")","v":"Fax"}]
["Team Elmer's (Brink)","Paul Brink"," 231-943-3443","pbrink@teamelmers.com","Safety Director","Mining","Grand Traverse",null,{"$f":"HYPERLINK(\"#'Client Details'!$B$1\",\"Details\")","v":"Details"},{"$f":"HYPERLINK(Options!$B$1, \"Quote\")","v":"Quote"},{"$f":"HYPERLINK(Options!$B$2,\"Fax\")","v":"Fax"}]
["Technisand, Fairmount Minerals (Meyer)","Scott Meyer"," 800-255-7263 4254",null,"Plant Manager",null,"Berrien",null,{"$f":"HYPERLINK(\"#'Client Details'!$B$1\",\"Details\")","v":"Details"},{"$f":"HYPERLINK(Options!$B$1, \"Quote\")","v":"Quote"},{"$f":"HYPERLINK(Options!$B$2,\"Fax\")","v":"Fax"}]
["Technisand, Fairmount Minerals (Ridley)","Jim Ridley"," 800-255-7263 4228","jim.ridley@fairmountminerals.com","Site Supervisor","Mineral Mining and Processing","Allegan",null,{"$f":"HYPERLINK(\"#'Client Details'!$B$1\",\"Details\")","v":"Details"},{"$f":"HYPERLINK(Options!$B$1, \"Quote\")","v":"Quote"},{"$f":"HYPERLINK(Options!$B$2,\"Fax\")","v":"Fax"}]
["TechniSand, Inc. (Fairmount Mineral)",null,"269-466-4221",null,null,null,null,null,{"$f":"HYPERLINK(\"#'Client Details'!$B$1\",\"Details\")","v":"Details"},{"$f":"HYPERLINK(Options!$B$1, \"Quote\")","v":"Quote"},{"$f":"HYPERLINK(Options!$B$2,\"Fax\")","v":"Fax"}]
["Tecton","Joe Kinder","260-484-4848",null,null,null,null,null,{"$f":"HYPERLINK(\"#'Client Details'!$B$1\",\"Details\")","v":"Details"},{"$f":"HYPERLINK(Options!$B$1, \"Quote\")","v":"Quote"},{"$f":"HYPERLINK(Options!$B$2,\"Fax\")","v":"Fax"}]
["Tennant Co. (Holland)",null,"763-513-1837 MN",null,null,null,null,null,{"$f":"HYPERLINK(\"#'Client Details'!$B$1\",\"Details\")","v":"Details"},{"$f":"HYPERLINK(Options!$B$1, \"Quote\")","v":"Quote"},{"$f":"HYPERLINK(Options!$B$2,\"Fax\")","v":"Fax"}]
["Tenneco Automotive",null,"517-522-5525",null,null,null,null,null,{"$f":"HYPERLINK(\"#'Client Details'!$B$1\",\"Details\")","v":"Details"},{"$f":"HYPERLINK(Options!$B$1, \"Quote\")","v":"Quote"},{"$f":"HYPERLINK(Options!$B$2,\"Fax\")","v":"Fax"}]
["TerHorst & Rinzema Construction (Horst)","Dan Ter Horst"," 616-676-9181",null,"Safety Manager","Contractor General","Kent",null,{"$f":"HYPERLINK(\"#'Client Details'!$B$1\",\"Details\")","v":"Details"},{"$f":"HYPERLINK(Options!$B$1, \"Quote\")","v":"Quote"},{"$f":"HYPERLINK(Options!$B$2,\"Fax\")","v":"Fax"}]
["Terra Contracting (Tannar)","Jay Tannar",null,null,null,"Contractor EH&S","Kalamazoo",null,{"$f":"HYPERLINK(\"#'Client Details'!$B$1\",\"Details\")","v":"Details"},{"$f":"HYPERLINK(Options!$B$1, \"Quote\")","v":"Quote"},{"$f":"HYPERLINK(Options!$B$2,\"Fax\")","v":"Fax"}]
["Terra Contracting, Inc.","A/P - April Palmer","269-375-9595",null,null,null,null,null,{"$f":"HYPERLINK(\"#'Client Details'!$B$1\",\"Details\")","v":"Details"},{"$f":"HYPERLINK(Options!$B$1, \"Quote\")","v":"Quote"},{"$f":"HYPERLINK(Options!$B$2,\"Fax\")","v":"Fax"}]
["Terra Industrial Services (Barrett)","Mary Barrett"," 269-375-9595","mbarrett@terracontracting.net",null,null,"Kalamazoo",null,{"$f":"HYPERLINK(\"#'Client Details'!$B$1\",\"Details\")","v":"Details"},{"$f":"HYPERLINK(Options!$B$1, \"Quote\")","v":"Quote"},{"$f":"HYPERLINK(Options!$B$2,\"Fax\")","v":"Fax"}]
["Terra Industrial Services (Moe)","Greg Moe"," 269-375-9595","gmoe@terraabatement.net",null,"Contractor General","Kalamazoo",null,{"$f":"HYPERLINK(\"#'Client Details'!$B$1\",\"Details\")","v":"Details"},{"$f":"HYPERLINK(Options!$B$1, \"Quote\")","v":"Quote"},{"$f":"HYPERLINK(Options!$B$2,\"Fax\")","v":"Fax"}]
["Terra Industrial Services (Schillo)","Keith Schillo"," 269-375-9595","keith@terracontracting.net","Safety Manager","Contractor General","Kalamazoo",null,{"$f":"HYPERLINK(\"#'Client Details'!$B$1\",\"Details\")","v":"Details"},{"$f":"HYPERLINK(Options!$B$1, \"Quote\")","v":"Quote"},{"$f":"HYPERLINK(Options!$B$2,\"Fax\")","v":"Fax"}]
["Tesa Tape, Inc.","Christene Groth","616-887-3110",null,null,null,null,null,{"$f":"HYPERLINK(\"#'Client Details'!$B$1\",\"Details\")","v":"Details"},{"$f":"HYPERLINK(Options!$B$1, \"Quote\")","v":"Quote"},{"$f":"HYPERLINK(Options!$B$2,\"Fax\")","v":"Fax"}]
["Tesa Tape, Inc. (Phesse)","Philip Phesse"," 616-887-3110","phesse@tesatape.com","Safety Director","Automotive","Kent",null,{"$f":"HYPERLINK(\"#'Client Details'!$B$1\",\"Details\")","v":"Details"},{"$f":"HYPERLINK(Options!$B$1, \"Quote\")","v":"Quote"},{"$f":"HYPERLINK(Options!$B$2,\"Fax\")","v":"Fax"}]
["Testing Engineers & Consultants",null,null,null,null,null,null,null,{"$f":"HYPERLINK(\"#'Client Details'!$B$1\",\"Details\")","v":"Details"},{"$f":"HYPERLINK(Options!$B$1, \"Quote\")","v":"Quote"},{"$f":"HYPERLINK(Options!$B$2,\"Fax\")","v":"Fax"}]
["Testo Inc. (Vickers)","John Vickers"," 800-227-0729","john@testo.com","Sales Manager","Supplier","Out of State",null,{"$f":"HYPERLINK(\"#'Client Details'!$B$1\",\"Details\")","v":"Details"},{"$f":"HYPERLINK(Options!$B$1, \"Quote\")","v":"Quote"},{"$f":"HYPERLINK(Options!$B$2,\"Fax\")","v":"Fax"}]
["Textron Automotive Corp. - CWC Division (","Gary Thomas"," 231-739-2632","gary.thomas@kautex.textron.com","Manager Safety & Occupational","Automotive","Muskegon",null,{"$f":"HYPERLINK(\"#'Client Details'!$B$1\",\"Details\")","v":"Details"},{"$f":"HYPERLINK(Options!$B$1, \"Quote\")","v":"Quote"},{"$f":"HYPERLINK(Options!$B$2,\"Fax\")","v":"Fax"}]
["TH Marsh Construction (Long)","Mandy Long"," 734-261-7000",null,null,"Contractor General","Roscommon",null,{"$f":"HYPERLINK(\"#'Client Details'!$B$1\",\"Details\")","v":"Details"},{"$f":"HYPERLINK(Options!$B$1, \"Quote\")","v":"Quote"},{"$f":"HYPERLINK(Options!$B$2,\"Fax\")","v":"Fax"}]
["The Morton Arboretum",null,null,null,null,null,null,null,{"$f":"HYPERLINK(\"#'Client Details'!$B$1\",\"Details\")","v":"Details"},{"$f":"HYPERLINK(Options!$B$1, \"Quote\")","v":"Quote"},{"$f":"HYPERLINK(Options!$B$2,\"Fax\")","v":"Fax"}]
["The P.F. Laboratories, Inc.","Jeff Kaplan","973-837-5464",null,null,null,null,null,{"$f":"HYPERLINK(\"#'Client Details'!$B$1\",\"Details\")","v":"Details"},{"$f":"HYPERLINK(Options!$B$1, \"Quote\")","v":"Quote"},{"$f":"HYPERLINK(Options!$B$2,\"Fax\")","v":"Fax"}]
["The Scotts Company (Germantown)","Patrick (Pat) Walia","262-242-0500","patrick.walia@scotts.com",null,null,null,null,{"$f":"HYPERLINK(\"#'Client Details'!$B$1\",\"Details\")","v":"Details"},{"$f":"HYPERLINK(Options!$B$1, \"Quote\")","v":"Quote"},{"$f":"HYPERLINK(Options!$B$2,\"Fax\")","v":"Fax"}]
["The Scotts Company (Imlay)",null,"810-724-2875","jeff.mavis@scotts.com",null,null,null,null,{"$f":"HYPERLINK(\"#'Client Details'!$B$1\",\"Details\")","v":"Details"},{"$f":"HYPERLINK(Options!$B$1, \"Quote\")","v":"Quote"},{"$f":"HYPERLINK(Options!$B$2,\"Fax\")","v":"Fax"}]
["The Scotts Company (Marysville)","Joe Oiler","937-644-7201",null,null,null,null,null,{"$f":"HYPERLINK(\"#'Client Details'!$B$1\",\"Details\")","v":"Details"},{"$f":"HYPERLINK(Options!$B$1, \"Quote\")","v":"Quote"},{"$f":"HYPERLINK(Options!$B$2,\"Fax\")","v":"Fax"}]
["The Scotts Company (Mavis)","Jeff Mavis"," 810-724-2875 232","jeff.mavis@scotts.com",null,"Manufacturer","Lapeer",null,{"$f":"HYPERLINK(\"#'Client Details'!$B$1\",\"Details\")","v":"Details"},{"$f":"HYPERLINK(Options!$B$1, \"Quote\")","v":"Quote"},{"$f":"HYPERLINK(Options!$B$2,\"Fax\")","v":"Fax"}]
["The Scotts Company (Medway)","Jim Golden","207-746-9033 x235",null,null,null,null,null,{"$f":"HYPERLINK(\"#'Client Details'!$B$1\",\"Details\")","v":"Details"},{"$f":"HYPERLINK(Options!$B$1, \"Quote\")","v":"Quote"},{"$f":"HYPERLINK(Options!$B$2,\"Fax\")","v":"Fax"}]
["The Scotts Company (Orrville)","Dan Titus","330-352-2803",null,null,null,null,null,{"$f":"HYPERLINK(\"#'Client Details'!$B$1\",\"Details\")","v":"Details"},{"$f":"HYPERLINK(Options!$B$1, \"Quote\")","v":"Quote"},{"$f":"HYPERLINK(Options!$B$2,\"Fax\")","v":"Fax"}]
["Theodore J. Hogan & Associates",null,"630-257-3939",null,null,null,null,null,{"$f":"HYPERLINK(\"#'Client Details'!$B$1\",\"Details\")","v":"Details"},{"$f":"HYPERLINK(Options!$B$1, \"Quote\")","v":"Quote"},{"$f":"HYPERLINK(Options!$B$2,\"Fax\")","v":"Fax"}]
["Therma-Tru Corp.",null,"260-868-5811",null,null,null,null,null,{"$f":"HYPERLINK(\"#'Client Details'!$B$1\",\"Details\")","v":"Details"},{"$f":"HYPERLINK(Options!$B$1, \"Quote\")","v":"Quote"},{"$f":"HYPERLINK(Options!$B$2,\"Fax\")","v":"Fax"}]
["Thermeq",null,"419-878-4400","wrmurry@thermeq.com",null,null,null,null,{"$f":"HYPERLINK(\"#'Client Details'!$B$1\",\"Details\")","v":"Details"},{"$f":"HYPERLINK(Options!$B$1, \"Quote\")","v":"Quote"},{"$f":"HYPERLINK(Options!$B$2,\"Fax\")","v":"Fax"}]
["Thermico Inc.","Bob Huckins","989-496-2927",null,null,null,null,null,{"$f":"HYPERLINK(\"#'Client Details'!$B$1\",\"Details\")","v":"Details"},{"$f":"HYPERLINK(Options!$B$1, \"Quote\")","v":"Quote"},{"$f":"HYPERLINK(Options!$B$2,\"Fax\")","v":"Fax"}]
["Thermo King Michigan (Kooienga)","Dan Kooienga"," 800-968-9378 622","dkooieng@tk-net.com","Service Manager",null,"Kent",null,{"$f":"HYPERLINK(\"#'Client Details'!$B$1\",\"Details\")","v":"Details"},{"$f":"HYPERLINK(Options!$B$1, \"Quote\")","v":"Quote"},{"$f":"HYPERLINK(Options!$B$2,\"Fax\")","v":"Fax"}]
["Thermotron (Hambley)","Sara Hambley"," 616-392-1491","hr@thermotron.com","Training Coordinator",null,"Ottawa",null,{"$f":"HYPERLINK(\"#'Client Details'!$B$1\",\"Details\")","v":"Details"},{"$f":"HYPERLINK(Options!$B$1, \"Quote\")","v":"Quote"},{"$f":"HYPERLINK(Options!$B$2,\"Fax\")","v":"Fax"}]
["Tholstrup (Siggaard)","Torben Siggaard"," 231-798-4371",null,"General Manager",null,"Muskegon",null,{"$f":"HYPERLINK(\"#'Client Details'!$B$1\",\"Details\")","v":"Details"},{"$f":"HYPERLINK(Options!$B$1, \"Quote\")","v":"Quote"},{"$f":"HYPERLINK(Options!$B$2,\"Fax\")","v":"Fax"}]
["Tholstrup Cheese USA, Inc. (Siggard)","Torben Siggard"," 231-798-4371","tosig@arlafoods.com","General Manager","Dairy/Foods","Muskegon",null,{"$f":"HYPERLINK(\"#'Client Details'!$B$1\",\"Details\")","v":"Details"},{"$f":"HYPERLINK(Options!$B$1, \"Quote\")","v":"Quote"},{"$f":"HYPERLINK(Options!$B$2,\"Fax\")","v":"Fax"}]
["Thomas Romanosky, Attorney at Law (Romano","Thomas Romanosky"," 231-726-3410",null,null,null,"Muskegon",null,{"$f":"HYPERLINK(\"#'Client Details'!$B$1\",\"Details\")","v":"Details"},{"$f":"HYPERLINK(Options!$B$1, \"Quote\")","v":"Quote"},{"$f":"HYPERLINK(Options!$B$2,\"Fax\")","v":"Fax"}]
["Thompson Brothers Inc. (Thompson)","Chris Thompson"," 231-766-2828",null,null,"Contractor General","Muskegon",null,{"$f":"HYPERLINK(\"#'Client Details'!$B$1\",\"Details\")","v":"Details"},{"$f":"HYPERLINK(Options!$B$1, \"Quote\")","v":"Quote"},{"$f":"HYPERLINK(Options!$B$2,\"Fax\")","v":"Fax"}]
["Thompson Brothers, Inc.","Chris Thompson","231-766-2828",null,null,null,null,null,{"$f":"HYPERLINK(\"#'Client Details'!$B$1\",\"Details\")","v":"Details"},{"$f":"HYPERLINK(Options!$B$1, \"Quote\")","v":"Quote"},{"$f":"HYPERLINK(Options!$B$2,\"Fax\")","v":"Fax"}]
["Thornapple Township",null,null,null,null,null,null,null,{"$f":"HYPERLINK(\"#'Client Details'!$B$1\",\"Details\")","v":"Details"},{"$f":"HYPERLINK(Options!$B$1, \"Quote\")","v":"Quote"},{"$f":"HYPERLINK(Options!$B$2,\"Fax\")","v":"Fax"}]
["Thornapple Township (Laitila)","Brett Laitila"," 269-795-7202","blaitila@thornapple-twp.org",null,"Fire Department","Barry",null,{"$f":"HYPERLINK(\"#'Client Details'!$B$1\",\"Details\")","v":"Details"},{"$f":"HYPERLINK(Options!$B$1, \"Quote\")","v":"Quote"},{"$f":"HYPERLINK(Options!$B$2,\"Fax\")","v":"Fax"}]
["Three Rivers WWTP, City of (Rozeboom)","James M. Rozeboom"," 269-273-5885","returned","Director","Municipal, Cty","St. Joseph",null,{"$f":"HYPERLINK(\"#'Client Details'!$B$1\",\"Details\")","v":"Details"},{"$f":"HYPERLINK(Options!$B$1, \"Quote\")","v":"Quote"},{"$f":"HYPERLINK(Options!$B$2,\"Fax\")","v":"Fax"}]
["Tiara Yachts (Burger)","Cristyn Burger"," 616-394-4634","cburger@s2yachts.com",null,"Manufacturer","Ottawa",null,{"$f":"HYPERLINK(\"#'Client Details'!$B$1\",\"Details\")","v":"Details"},{"$f":"HYPERLINK(Options!$B$1, \"Quote\")","v":"Quote"},{"$f":"HYPERLINK(Options!$B$2,\"Fax\")","v":"Fax"}]
["Tiles Excavating Inc.","Jon Tiles","616-846-6500",null,null,null,null,null,{"$f":"HYPERLINK(\"#'Client Details'!$B$1\",\"Details\")","v":"Details"},{"$f":"HYPERLINK(Options!$B$1, \"Quote\")","v":"Quote"},{"$f":"HYPERLINK(Options!$B$2,\"Fax\")","v":"Fax"}]
["Tiles Excavating Inc. (Tiles)","Jon Tiles"," 616-846-6500",null,"President","Contractor, Excavator","Ottawa",null,{"$f":"HYPERLINK(\"#'Client Details'!$B$1\",\"Details\")","v":"Details"},{"$f":"HYPERLINK(Options!$B$1, \"Quote\")","v":"Quote"},{"$f":"HYPERLINK(Options!$B$2,\"Fax\")","v":"Fax"}]
["Tim Dolphin",null,null,null,null,null,null,null,{"$f":"HYPERLINK(\"#'Client Details'!$B$1\",\"Details\")","v":"Details"},{"$f":"HYPERLINK(Options!$B$1, \"Quote\")","v":"Quote"},{"$f":"HYPERLINK(Options!$B$2,\"Fax\")","v":"Fax"}]
["Timmins, City of (Michel)","Lonny Michel"," 705-360-2600 2360","lmichel@timmins.ca",null,"Municipal, Cty","Out of State",null,{"$f":"HYPERLINK(\"#'Client Details'!$B$1\",\"Details\")","v":"Details"},{"$f":"HYPERLINK(Options!$B$1, \"Quote\")","v":"Quote"},{"$f":"HYPERLINK(Options!$B$2,\"Fax\")","v":"Fax"}]
["Tippmann Construction, INc. (Whitmore)","Andy Whitmore"," 817-337-5513","exmark1901@yahoo.com","Project Manager","Contractor","UNSURE",null,{"$f":"HYPERLINK(\"#'Client Details'!$B$1\",\"Details\")","v":"Details"},{"$f":"HYPERLINK(Options!$B$1, \"Quote\")","v":"Quote"},{"$f":"HYPERLINK(Options!$B$2,\"Fax\")","v":"Fax"}]
["Tiro Industries, LLC","Dick Dettling","763-572-2839",null,null,null,null,null,{"$f":"HYPERLINK(\"#'Client Details'!$B$1\",\"Details\")","v":"Details"},{"$f":"HYPERLINK(Options!$B$1, \"Quote\")","v":"Quote"},{"$f":"HYPERLINK(Options!$B$2,\"Fax\")","v":"Fax"}]
["Tiro Industries, LLC (Dettling)","Dick Dettling"," 763-572-2839",null,"Maintenance Purchasing",null,"N/A",null,{"$f":"HYPERLINK(\"#'Client Details'!$B$1\",\"Details\")","v":"Details"},{"$f":"HYPERLINK(Options!$B$1, \"Quote\")","v":"Quote"},{"$f":"HYPERLINK(Options!$B$2,\"Fax\")","v":"Fax"}]
["Tiro Industries, LLC (Shovelin)","Dave Shovelin"," 763-572-2840","dshovelin@tirollc.com",null,null,"Out of State",null,{"$f":"HYPERLINK(\"#'Client Details'!$B$1\",\"Details\")","v":"Details"},{"$f":"HYPERLINK(Options!$B$1, \"Quote\")","v":"Quote"},{"$f":"HYPERLINK(Options!$B$2,\"Fax\")","v":"Fax"}]
["Titan Equipment (Byron Center)","John Westerling","616-530-2233",null,null,null,null,null,{"$f":"HYPERLINK(\"#'Client Details'!$B$1\",\"Details\")","v":"Details"},{"$f":"HYPERLINK(Options!$B$1, \"Quote\")","v":"Quote"},{"$f":"HYPERLINK(Options!$B$2,\"Fax\")","v":"Fax"}]
["Titan Equipment (Lansing)","Tom Degeest","517-394-2233",null,null,null,null,null,{"$f":"HYPERLINK(\"#'Client Details'!$B$1\",\"Details\")","v":"Details"},{"$f":"HYPERLINK(Options!$B$1, \"Quote\")","v":"Quote"},{"$f":"HYPERLINK(Options!$B$2,\"Fax\")","v":"Fax"}]
["Titan Equipment Byron Center (Kleynenberg","Eric Kleynenberg"," 616-530-2233","ekleynenberg@titaneq.com",null,"Contractor General","Kent",null,{"$f":"HYPERLINK(\"#'Client Details'!$B$1\",\"Details\")","v":"Details"},{"$f":"HYPERLINK(Options!$B$1, \"Quote\")","v":"Quote"},{"$f":"HYPERLINK(Options!$B$2,\"Fax\")","v":"Fax"}]
["Titan Equipment Lansing (DeGeest)","Tom DeGeest"," 517-394-2233","tdegeest@titaneq.com",null,"Contractor General","Ingham",null,{"$f":"HYPERLINK(\"#'Client Details'!$B$1\",\"Details\")","v":"Details"},{"$f":"HYPERLINK(Options!$B$1, \"Quote\")","v":"Quote"},{"$f":"HYPERLINK(Options!$B$2,\"Fax\")","v":"Fax"}]
["Tittabawassee Township DPW (Trembath)","Douglas Trembath"," 989-695-6517","dtrembath@wadetrim.com","Project Manager","Municipal, Cty","Saginaw",null,{"$f":"HYPERLINK(\"#'Client Details'!$B$1\",\"Details\")","v":"Details"},{"$f":"HYPERLINK(Options!$B$1, \"Quote\")","v":"Quote"},{"$f":"HYPERLINK(Options!$B$2,\"Fax\")","v":"Fax"}]
["TL Masonry",null,"616-527-1800 Main",null,null,null,null,null,{"$f":"HYPERLINK(\"#'Client Details'!$B$1\",\"Details\")","v":"Details"},{"$f":"HYPERLINK(Options!$B$1, \"Quote\")","v":"Quote"},{"$f":"HYPERLINK(Options!$B$2,\"Fax\")","v":"Fax"}]
["Toering Electric Co. (Big Rapids)",null,"231-796-5522",null,null,null,null,null,{"$f":"HYPERLINK(\"#'Client Details'!$B$1\",\"Details\")","v":"Details"},{"$f":"HYPERLINK(Options!$B$1, \"Quote\")","v":"Quote"},{"$f":"HYPERLINK(Options!$B$2,\"Fax\")","v":"Fax"}]
["Toering Electric Co. (DuShane)","Russ DuShane"," 616-245-0271","rdushane@toering.com","Safety Director","Contractor Electrical","Kent",null,{"$f":"HYPERLINK(\"#'Client Details'!$B$1\",\"Details\")","v":"Details"},{"$f":"HYPERLINK(Options!$B$1, \"Quote\")","v":"Quote"},{"$f":"HYPERLINK(Options!$B$2,\"Fax\")","v":"Fax"}]
["Toering Electric Co. (Grand Rapids)","Russ DuShane","616-245-0271",null,null,null,null,null,{"$f":"HYPERLINK(\"#'Client Details'!$B$1\",\"Details\")","v":"Details"},{"$f":"HYPERLINK(Options!$B$1, \"Quote\")","v":"Quote"},{"$f":"HYPERLINK(Options!$B$2,\"Fax\")","v":"Fax"}]
["Toering Electric Co. (Maddox)","Patrick Maddox"," 231-796-5522","pmaddox@toering.com",null,"Contractor Electrical","Kent",null,{"$f":"HYPERLINK(\"#'Client Details'!$B$1\",\"Details\")","v":"Details"},{"$f":"HYPERLINK(Options!$B$1, \"Quote\")","v":"Quote"},{"$f":"HYPERLINK(Options!$B$2,\"Fax\")","v":"Fax"}]
["Tokico (USA)","Caroline Eades(buyer)","859-985-2148",null,null,null,null,null,{"$f":"HYPERLINK(\"#'Client Details'!$B$1\",\"Details\")","v":"Details"},{"$f":"HYPERLINK(Options!$B$1, \"Quote\")","v":"Quote"},{"$f":"HYPERLINK(Options!$B$2,\"Fax\")","v":"Fax"}]
["Tokico USA (Reno)","Lauren Reno"," 859-228-1036","lreno@tokicousa.com",null,"Automotive","Out of State",null,{"$f":"HYPERLINK(\"#'Client Details'!$B$1\",\"Details\")","v":"Details"},{"$f":"HYPERLINK(Options!$B$1, \"Quote\")","v":"Quote"},{"$f":"HYPERLINK(Options!$B$2,\"Fax\")","v":"Fax"}]
["Total Development Solutions","Josh Ingram","703-926-9759",null,null,null,null,null,{"$f":"HYPERLINK(\"#'Client Details'!$B$1\",\"Details\")","v":"Details"},{"$f":"HYPERLINK(Options!$B$1, \"Quote\")","v":"Quote"},{"$f":"HYPERLINK(Options!$B$2,\"Fax\")","v":"Fax"}]
["Total Loss Control Services, Inc. (Behren","Chuck Behrend, Sr."," 616-878-0171",null,"Owner","Contractor EH&S","Kent",null,{"$f":"HYPERLINK(\"#'Client Details'!$B$1\",\"Details\")","v":"Details"},{"$f":"HYPERLINK(Options!$B$1, \"Quote\")","v":"Quote"},{"$f":"HYPERLINK(Options!$B$2,\"Fax\")","v":"Fax"}]
["Total Plastics Inc. (Byers)","Kelly Byers"," 616-530-0055",null,null,"Supplier","Kent",null,{"$f":"HYPERLINK(\"#'Client Details'!$B$1\",\"Details\")","v":"Details"},{"$f":"HYPERLINK(Options!$B$1, \"Quote\")","v":"Quote"},{"$f":"HYPERLINK(Options!$B$2,\"Fax\")","v":"Fax"}]
["Tower Painting & Lamping","Dan Clark",null,null,null,null,null,null,{"$f":"HYPERLINK(\"#'Client Details'!$B$1\",\"Details\")","v":"Details"},{"$f":"HYPERLINK(Options!$B$1, \"Quote\")","v":"Quote"},{"$f":"HYPERLINK(Options!$B$2,\"Fax\")","v":"Fax"}]
["Town and Country Group (Engel)","Lisa Engel"," 616-772-6746","lisae@tcgroupinc.com","Administrative Assistant",null,"Ottawa",null,{"$f":"HYPERLINK(\"#'Client Details'!$B$1\",\"Details\")","v":"Details"},{"$f":"HYPERLINK(Options!$B$1, \"Quote\")","v":"Quote"},{"$f":"HYPERLINK(Options!$B$2,\"Fax\")","v":"Fax"}]
["Towns Brothers Construction (Shaun)","Jan or Shaun"," 231-845-5115",null,"Office Manager/Safety","Construction/Trucking","Mason",null,{"$f":"HYPERLINK(\"#'Client Details'!$B$1\",\"Details\")","v":"Details"},{"$f":"HYPERLINK(Options!$B$1, \"Quote\")","v":"Quote"},{"$f":"HYPERLINK(Options!$B$2,\"Fax\")","v":"Fax"}]
["Toyota Motor Manufacturing Mississippi (E","Kimberly Eich"," 662-317-3136","kimberly.eich@tema.toyota.com",null,"Automotive","Out of State",null,{"$f":"HYPERLINK(\"#'Client Details'!$B$1\",\"Details\")","v":"Details"},{"$f":"HYPERLINK(Options!$B$1, \"Quote\")","v":"Quote"},{"$f":"HYPERLINK(Options!$B$2,\"Fax\")","v":"Fax"}]
["Toyota Tsusho America, Inc.","Jan clark","502-868-3464","jan_clark@taiamerica.com",null,null,null,null,{"$f":"HYPERLINK(\"#'Client Details'!$B$1\",\"Details\")","v":"Details"},{"$f":"HYPERLINK(Options!$B$1, \"Quote\")","v":"Quote"},{"$f":"HYPERLINK(Options!$B$2,\"Fax\")","v":"Fax"}]
["T-R Associates, Inc. (Virbitsky)","Jo-E Virbitsky"," 570-876-4067 1107","jo@trassociates.com",null,null,"Out of State",null,{"$f":"HYPERLINK(\"#'Client Details'!$B$1\",\"Details\")","v":"Details"},{"$f":"HYPERLINK(Options!$B$1, \"Quote\")","v":"Quote"},{"$f":"HYPERLINK(Options!$B$2,\"Fax\")","v":"Fax"}]
["Trace Analytical (Muskegon)","Mike Terry","231-773-5998 x-252","mterry@trace-labs.com",null,null,null,null,{"$f":"HYPERLINK(\"#'Client Details'!$B$1\",\"Details\")","v":"Details"},{"$f":"HYPERLINK(Options!$B$1, \"Quote\")","v":"Quote"},{"$f":"HYPERLINK(Options!$B$2,\"Fax\")","v":"Fax"}]
["Trace Anaylytical Laboratories, Inc. (Min","Jon Mink"," 231-773-5998 241",null,"Technical Systems Manager","Contractor EH&S","Muskegon",null,{"$f":"HYPERLINK(\"#'Client Details'!$B$1\",\"Details\")","v":"Details"},{"$f":"HYPERLINK(Options!$B$1, \"Quote\")","v":"Quote"},{"$f":"HYPERLINK(Options!$B$2,\"Fax\")","v":"Fax"}]
["Trace Anaylytical Laboratories, Inc. (Ter","Mike Terry"," 231-773-5998","mterry@trace-labs.com","QA/QC Manager","Contractor EH&S","Muskegon",null,{"$f":"HYPERLINK(\"#'Client Details'!$B$1\",\"Details\")","v":"Details"},{"$f":"HYPERLINK(Options!$B$1, \"Quote\")","v":"Quote"},{"$f":"HYPERLINK(Options!$B$2,\"Fax\")","v":"Fax"}]
["Track Corporation","Sonya Warber",null,null,null,null,null,null,{"$f":"HYPERLINK(\"#'Client Details'!$B$1\",\"Details\")","v":"Details"},{"$f":"HYPERLINK(Options!$B$1, \"Quote\")","v":"Quote"},{"$f":"HYPERLINK(Options!$B$2,\"Fax\")","v":"Fax"}]
["Track Corporation (Heatherington)","Dave Heatherington"," 616-844-2471 436",null,"Safety Manager","Automotive","Ottawa",null,{"$f":"HYPERLINK(\"#'Client Details'!$B$1\",\"Details\")","v":"Details"},{"$f":"HYPERLINK(Options!$B$1, \"Quote\")","v":"Quote"},{"$f":"HYPERLINK(Options!$B$2,\"Fax\")","v":"Fax"}]
["Tractel Ltd. Fallstop Division (Knapp)","Doug Knapp"," 800-561-3229","doug.knapp@tractel.com","National Sales Manager","www.tractel.com","N/A",null,{"$f":"HYPERLINK(\"#'Client Details'!$B$1\",\"Details\")","v":"Details"},{"$f":"HYPERLINK(Options!$B$1, \"Quote\")","v":"Quote"},{"$f":"HYPERLINK(Options!$B$2,\"Fax\")","v":"Fax"}]
["Trane Company",null,null,"sfarmer@trane.com",null,null,null,null,{"$f":"HYPERLINK(\"#'Client Details'!$B$1\",\"Details\")","v":"Details"},{"$f":"HYPERLINK(Options!$B$1, \"Quote\")","v":"Quote"},{"$f":"HYPERLINK(Options!$B$2,\"Fax\")","v":"Fax"}]
["TransCanada (Bridgman, MI)",null,null,null,null,null,null,null,{"$f":"HYPERLINK(\"#'Client Details'!$B$1\",\"Details\")","v":"Details"},{"$f":"HYPERLINK(Options!$B$1, \"Quote\")","v":"Quote"},{"$f":"HYPERLINK(Options!$B$2,\"Fax\")","v":"Fax"}]
["TransCanada (Weston)","Michael Weston"," 219-781-8516","michael_weston@transcanada.com",null,"Petroleum Related","Berrien",null,{"$f":"HYPERLINK(\"#'Client Details'!$B$1\",\"Details\")","v":"Details"},{"$f":"HYPERLINK(Options!$B$1, \"Quote\")","v":"Quote"},{"$f":"HYPERLINK(Options!$B$2,\"Fax\")","v":"Fax"}]
["Trans-Matic","Joe Hartings","616-820-2407",null,null,null,null,null,{"$f":"HYPERLINK(\"#'Client Details'!$B$1\",\"Details\")","v":"Details"},{"$f":"HYPERLINK(Options!$B$1, \"Quote\")","v":"Quote"},{"$f":"HYPERLINK(Options!$B$2,\"Fax\")","v":"Fax"}]
["Trans-Matic (Eich)","Harvey Eich"," 616-820-2459","heich@transmatic.com","Plant Engineering Mgr",null,"Ottawa",null,{"$f":"HYPERLINK(\"#'Client Details'!$B$1\",\"Details\")","v":"Details"},{"$f":"HYPERLINK(Options!$B$1, \"Quote\")","v":"Quote"},{"$f":"HYPERLINK(Options!$B$2,\"Fax\")","v":"Fax"}]
["Trans-Matic (Hartings)","Joe Hartings"," 616-820-2407","jhartings@transmatic.com","Safety & Training Manager","Automotive","Ottawa",null,{"$f":"HYPERLINK(\"#'Client Details'!$B$1\",\"Details\")","v":"Details"},{"$f":"HYPERLINK(Options!$B$1, \"Quote\")","v":"Quote"},{"$f":"HYPERLINK(Options!$B$2,\"Fax\")","v":"Fax"}]
["Transmatic Precision Metal (Suzho Co.Ltd)","Joe Hartings","616-820-2407",null,null,null,null,null,{"$f":"HYPERLINK(\"#'Client Details'!$B$1\",\"Details\")","v":"Details"},{"$f":"HYPERLINK(Options!$B$1, \"Quote\")","v":"Quote"},{"$f":"HYPERLINK(Options!$B$2,\"Fax\")","v":"Fax"}]
["Traverse City Fire Department, City of (F","Terry Flynn"," 231-922-4930",null,null,"Fire Department","Grand Traverse",null,{"$f":"HYPERLINK(\"#'Client Details'!$B$1\",\"Details\")","v":"Details"},{"$f":"HYPERLINK(Options!$B$1, \"Quote\")","v":"Quote"},{"$f":"HYPERLINK(Options!$B$2,\"Fax\")","v":"Fax"}]
["Trendway (Dowling)","Jim Dowling"," 616-399-3900",null,"Safety Manager","Furniture","Ottawa",null,{"$f":"HYPERLINK(\"#'Client Details'!$B$1\",\"Details\")","v":"Details"},{"$f":"HYPERLINK(Options!$B$1, \"Quote\")","v":"Quote"},{"$f":"HYPERLINK(Options!$B$2,\"Fax\")","v":"Fax"}]
["Tri Buana Persada (Afiandana)","Kiky Afiandana",null,"afiandana@gmail.com",null,null,"Out of State",null,{"$f":"HYPERLINK(\"#'Client Details'!$B$1\",\"Details\")","v":"Details"},{"$f":"HYPERLINK(Options!$B$1, \"Quote\")","v":"Quote"},{"$f":"HYPERLINK(Options!$B$2,\"Fax\")","v":"Fax"}]
["Tri K Construction (Kooiker)","Rick Kooiker"," 616-892-6666",null,"Co-Owner","Contractor EH&S","Ottawa",null,{"$f":"HYPERLINK(\"#'Client Details'!$B$1\",\"Details\")","v":"Details"},{"$f":"HYPERLINK(Options!$B$1, \"Quote\")","v":"Quote"},{"$f":"HYPERLINK(Options!$B$2,\"Fax\")","v":"Fax"}]
["Triad Engineering & Contracting, Inc. (Os","W. Gregory Oster"," 440-786-1000","goster@triad-engineering.com",null,"Engineering, Architecture","Out of State",null,{"$f":"HYPERLINK(\"#'Client Details'!$B$1\",\"Details\")","v":"Details"},{"$f":"HYPERLINK(Options!$B$1, \"Quote\")","v":"Quote"},{"$f":"HYPERLINK(Options!$B$2,\"Fax\")","v":"Fax"}]
["Triangle Associates",null,"616-453-3950",null,null,null,null,null,{"$f":"HYPERLINK(\"#'Client Details'!$B$1\",\"Details\")","v":"Details"},{"$f":"HYPERLINK(Options!$B$1, \"Quote\")","v":"Quote"},{"$f":"HYPERLINK(Options!$B$2,\"Fax\")","v":"Fax"}]
["Triangle Associates (Schievink)","Gregg Schievink"," 616-453-2684","greggs@triangle-inc.com","General Superintendent","Contractor General","Kent",null,{"$f":"HYPERLINK(\"#'Client Details'!$B$1\",\"Details\")","v":"Details"},{"$f":"HYPERLINK(Options!$B$1, \"Quote\")","v":"Quote"},{"$f":"HYPERLINK(Options!$B$2,\"Fax\")","v":"Fax"}]
["Triangle Associates (Ulmor)","Frank Ulmor"," 616-835-6429",null,null,"Contractor General","Kent",null,{"$f":"HYPERLINK(\"#'Client Details'!$B$1\",\"Details\")","v":"Details"},{"$f":"HYPERLINK(Options!$B$1, \"Quote\")","v":"Quote"},{"$f":"HYPERLINK(Options!$B$2,\"Fax\")","v":"Fax"}]
["Triangle Associates (Umlor)","Frank Umlor",null,null,"Stores","Contractor General","Kent",null,{"$f":"HYPERLINK(\"#'Client Details'!$B$1\",\"Details\")","v":"Details"},{"$f":"HYPERLINK(Options!$B$1, \"Quote\")","v":"Quote"},{"$f":"HYPERLINK(Options!$B$2,\"Fax\")","v":"Fax"}]
["Triangle Design Inc.","Tim Sanders","616-895-7330",null,null,null,null,null,{"$f":"HYPERLINK(\"#'Client Details'!$B$1\",\"Details\")","v":"Details"},{"$f":"HYPERLINK(Options!$B$1, \"Quote\")","v":"Quote"},{"$f":"HYPERLINK(Options!$B$2,\"Fax\")","v":"Fax"}]
["Triangle Design Inc. (Sanders)","Tim Sanders"," 616-895-7330","timmy@triangledesign.com","President","Contractor General","Ottawa",null,{"$f":"HYPERLINK(\"#'Client Details'!$B$1\",\"Details\")","v":"Details"},{"$f":"HYPERLINK(Options!$B$1, \"Quote\")","v":"Quote"},{"$f":"HYPERLINK(Options!$B$2,\"Fax\")","v":"Fax"}]
["Triangle Electric Company (Kowynia)","Kelly Kowynia"," 248.399.2200","kkowynia@trielec.com","Safety Director","Contractor Electrical","Macomb",null,{"$f":"HYPERLINK(\"#'Client Details'!$B$1\",\"Details\")","v":"Details"},{"$f":"HYPERLINK(Options!$B$1, \"Quote\")","v":"Quote"},{"$f":"HYPERLINK(Options!$B$2,\"Fax\")","v":"Fax"}]
["Tri-Com Haz Mat (Wenzel)","Janet Wenzel"," 616-949-1500",null,null,null,"Kent",null,{"$f":"HYPERLINK(\"#'Client Details'!$B$1\",\"Details\")","v":"Details"},{"$f":"HYPERLINK(Options!$B$1, \"Quote\")","v":"Quote"},{"$f":"HYPERLINK(Options!$B$2,\"Fax\")","v":"Fax"}]
["Tri-Comm Haz Mat","Greg Ginebaugh","616-554-0807",null,null,null,null,null,{"$f":"HYPERLINK(\"#'Client Details'!$B$1\",\"Details\")","v":"Details"},{"$f":"HYPERLINK(Options!$B$1, \"Quote\")","v":"Quote"},{"$f":"HYPERLINK(Options!$B$2,\"Fax\")","v":"Fax"}]
["Tridonn Construction","Roger Hubestreit","231-777-2681",null,null,null,null,null,{"$f":"HYPERLINK(\"#'Client Details'!$B$1\",\"Details\")","v":"Details"},{"$f":"HYPERLINK(Options!$B$1, \"Quote\")","v":"Quote"},{"$f":"HYPERLINK(Options!$B$2,\"Fax\")","v":"Fax"}]
["Tridonn Construction (Hebestreit)","Roger Hebestreit"," 231-777-2681",null,null,"Contractor General","Muskegon",null,{"$f":"HYPERLINK(\"#'Client Details'!$B$1\",\"Details\")","v":"Details"},{"$f":"HYPERLINK(Options!$B$1, \"Quote\")","v":"Quote"},{"$f":"HYPERLINK(Options!$B$2,\"Fax\")","v":"Fax"}]
["Tridonn Construction (Kelly)","Jim Kelly"," 231-777-2681 223",null,"Safety Director","Contractor General","Muskegon",null,{"$f":"HYPERLINK(\"#'Client Details'!$B$1\",\"Details\")","v":"Details"},{"$f":"HYPERLINK(Options!$B$1, \"Quote\")","v":"Quote"},{"$f":"HYPERLINK(Options!$B$2,\"Fax\")","v":"Fax"}]
["Tridonn Construction (LaCross)","Bernie LaCross"," 231-777-2681",null,"Safety Director","Contractor General","Muskegon",null,{"$f":"HYPERLINK(\"#'Client Details'!$B$1\",\"Details\")","v":"Details"},{"$f":"HYPERLINK(Options!$B$1, \"Quote\")","v":"Quote"},{"$f":"HYPERLINK(Options!$B$2,\"Fax\")","v":"Fax"}]
["Tri-Mer Corporation","Janie Hunt","989-723-7838",null,null,null,null,null,{"$f":"HYPERLINK(\"#'Client Details'!$B$1\",\"Details\")","v":"Details"},{"$f":"HYPERLINK(Options!$B$1, \"Quote\")","v":"Quote"},{"$f":"HYPERLINK(Options!$B$2,\"Fax\")","v":"Fax"}]
["Trinity Environmental Services, Inc.","Rick Schmehil","231-730-2419","rick@trinityenvironmentalservices.com",null,null,null,null,{"$f":"HYPERLINK(\"#'Client Details'!$B$1\",\"Details\")","v":"Details"},{"$f":"HYPERLINK(Options!$B$1, \"Quote\")","v":"Quote"},{"$f":"HYPERLINK(Options!$B$2,\"Fax\")","v":"Fax"}]
["Trinity Environmental Services, Inc. (Sch","Rick Schmehil"," 231-730-2419","rick@trinityenvironmentalservices.com",null,"Contractor EH&S","Muskegon",null,{"$f":"HYPERLINK(\"#'Client Details'!$B$1\",\"Details\")","v":"Details"},{"$f":"HYPERLINK(Options!$B$1, \"Quote\")","v":"Quote"},{"$f":"HYPERLINK(Options!$B$2,\"Fax\")","v":"Fax"}]
["Trinity Lutheran Church",null,"616-949-2510",null,null,null,null,null,{"$f":"HYPERLINK(\"#'Client Details'!$B$1\",\"Details\")","v":"Details"},{"$f":"HYPERLINK(Options!$B$1, \"Quote\")","v":"Quote"},{"$f":"HYPERLINK(Options!$B$2,\"Fax\")","v":"Fax"}]
["Triumph Hospital Detroit","Bob Boyd","313-369-5831",null,null,null,null,null,{"$f":"HYPERLINK(\"#'Client Details'!$B$1\",\"Details\")","v":"Details"},{"$f":"HYPERLINK(Options!$B$1, \"Quote\")","v":"Quote"},{"$f":"HYPERLINK(Options!$B$2,\"Fax\")","v":"Fax"}]
["TRK Engineering Services Inc. (Bousquet)","Paul R. Bousquet"," 734-327-2995","trkeng@apcnetwork.com","Site Engineer Lansing BWL","Engineering, Architecture","Ingham",null,{"$f":"HYPERLINK(\"#'Client Details'!$B$1\",\"Details\")","v":"Details"},{"$f":"HYPERLINK(Options!$B$1, \"Quote\")","v":"Quote"},{"$f":"HYPERLINK(Options!$B$2,\"Fax\")","v":"Fax"}]
["TroyBooke (Walker, MI)","Bob Derby","616-520-5411",null,null,null,null,null,{"$f":"HYPERLINK(\"#'Client Details'!$B$1\",\"Details\")","v":"Details"},{"$f":"HYPERLINK(Options!$B$1, \"Quote\")","v":"Quote"},{"$f":"HYPERLINK(Options!$B$2,\"Fax\")","v":"Fax"}]
["TruHeat, Inc. (Muller)","Nelson Muller"," 269-673-2146 3034",null,"Safety/Purchasing",null,"Allegan",null,{"$f":"HYPERLINK(\"#'Client Details'!$B$1\",\"Details\")","v":"Details"},{"$f":"HYPERLINK(Options!$B$1, \"Quote\")","v":"Quote"},{"$f":"HYPERLINK(Options!$B$2,\"Fax\")","v":"Fax"}]
["Trust Thermal Abatement & Flooring",null,"517-669-8834","davebaldwin@trustthermal.com",null,null,null,null,{"$f":"HYPERLINK(\"#'Client Details'!$B$1\",\"Details\")","v":"Details"},{"$f":"HYPERLINK(Options!$B$1, \"Quote\")","v":"Quote"},{"$f":"HYPERLINK(Options!$B$2,\"Fax\")","v":"Fax"}]
["TRW Automotive (Mt. Vernon)",null,"740-397-3155",null,null,null,null,null,{"$f":"HYPERLINK(\"#'Client Details'!$B$1\",\"Details\")","v":"Details"},{"$f":"HYPERLINK(Options!$B$1, \"Quote\")","v":"Quote"},{"$f":"HYPERLINK(Options!$B$2,\"Fax\")","v":"Fax"}]
["TRW Automotive (Rugnetta)","Vincent C. Rugnetta"," 517-223-7015","fingersmeet@tds.net","Manager","Automotive","Livingston",null,{"$f":"HYPERLINK(\"#'Client Details'!$B$1\",\"Details\")","v":"Details"},{"$f":"HYPERLINK(Options!$B$1, \"Quote\")","v":"Quote"},{"$f":"HYPERLINK(Options!$B$2,\"Fax\")","v":"Fax"}]
["TRW Comm. Steering Systems (Portland)",null,"517-647-0263",null,null,null,null,null,{"$f":"HYPERLINK(\"#'Client Details'!$B$1\",\"Details\")","v":"Details"},{"$f":"HYPERLINK(Options!$B$1, \"Quote\")","v":"Quote"},{"$f":"HYPERLINK(Options!$B$2,\"Fax\")","v":"Fax"}]
["TRW Commercial Steering Systems (Shinaver","Steve Shinaver"," 517-647-0263","steve.shinaver@trw.com",null,"Automotive","Ionia",null,{"$f":"HYPERLINK(\"#'Client Details'!$B$1\",\"Details\")","v":"Details"},{"$f":"HYPERLINK(Options!$B$1, \"Quote\")","v":"Quote"},{"$f":"HYPERLINK(Options!$B$2,\"Fax\")","v":"Fax"}]
["TRW Commercial Steering Systems (Smith)","Mark Smith"," 517-647-0282","mark.h.smith@trw.com","Skilled Trades Facilitator","Automotive","Ionia",null,{"$f":"HYPERLINK(\"#'Client Details'!$B$1\",\"Details\")","v":"Details"},{"$f":"HYPERLINK(Options!$B$1, \"Quote\")","v":"Quote"},{"$f":"HYPERLINK(Options!$B$2,\"Fax\")","v":"Fax"}]
["TRW Commercial Steering Systemsfrank (Put","Al Putvin"," 517-647-0313","al.putvin@trw.com","Facility Engineer","Automotive","Ionia",null,{"$f":"HYPERLINK(\"#'Client Details'!$B$1\",\"Details\")","v":"Details"},{"$f":"HYPERLINK(Options!$B$1, \"Quote\")","v":"Quote"},{"$f":"HYPERLINK(Options!$B$2,\"Fax\")","v":"Fax"}]
["TSC Electronics (Gamble)","Dawn Gamble"," 310-534-2738 103",null,null,null,"Na",null,{"$f":"HYPERLINK(\"#'Client Details'!$B$1\",\"Details\")","v":"Details"},{"$f":"HYPERLINK(Options!$B$1, \"Quote\")","v":"Quote"},{"$f":"HYPERLINK(Options!$B$2,\"Fax\")","v":"Fax"}]
["Tubelite","Charlie Monroe","616-808-2526",null,null,null,null,null,{"$f":"HYPERLINK(\"#'Client Details'!$B$1\",\"Details\")","v":"Details"},{"$f":"HYPERLINK(Options!$B$1, \"Quote\")","v":"Quote"},{"$f":"HYPERLINK(Options!$B$2,\"Fax\")","v":"Fax"}]
["Tuff Built Products, Inc. (Riley)","Colin Riley"," 877-422-6053","criley@tuffbuilt.ca",null,"Supplier","Out of State",null,{"$f":"HYPERLINK(\"#'Client Details'!$B$1\",\"Details\")","v":"Details"},{"$f":"HYPERLINK(Options!$B$1, \"Quote\")","v":"Quote"},{"$f":"HYPERLINK(Options!$B$2,\"Fax\")","v":"Fax"}]
["Tuf-Tug Products (Deuer)","Joey Deuer"," 937-299-1213","tuftug@aol.com",null,"Supplier","Out of State",null,{"$f":"HYPERLINK(\"#'Client Details'!$B$1\",\"Details\")","v":"Details"},{"$f":"HYPERLINK(Options!$B$1, \"Quote\")","v":"Quote"},{"$f":"HYPERLINK(Options!$B$2,\"Fax\")","v":"Fax"}]
["Tulip City Airport (Osbourne)","Mick Osbourne"," 616-392-7831",null,"Safety Director","Airport","Ottawa",null,{"$f":"HYPERLINK(\"#'Client Details'!$B$1\",\"Details\")","v":"Details"},{"$f":"HYPERLINK(Options!$B$1, \"Quote\")","v":"Quote"},{"$f":"HYPERLINK(Options!$B$2,\"Fax\")","v":"Fax"}]
["Tunnel Vision Pipeline Services","Jim Laughbaum","906-786-0460","jlaughbaum@uprubber.com",null,null,null,null,{"$f":"HYPERLINK(\"#'Client Details'!$B$1\",\"Details\")","v":"Details"},{"$f":"HYPERLINK(Options!$B$1, \"Quote\")","v":"Quote"},{"$f":"HYPERLINK(Options!$B$2,\"Fax\")","v":"Fax"}]
["Turner Construction","Carrie Schmechel","616-532-4430",null,null,null,null,null,{"$f":"HYPERLINK(\"#'Client Details'!$B$1\",\"Details\")","v":"Details"},{"$f":"HYPERLINK(Options!$B$1, \"Quote\")","v":"Quote"},{"$f":"HYPERLINK(Options!$B$2,\"Fax\")","v":"Fax"}]
["Turner Construction Company (Barber)","Joseph Barber"," 616-532-4430","jbarber@tcco.com","Superintendent","Contractor General","Kent",null,{"$f":"HYPERLINK(\"#'Client Details'!$B$1\",\"Details\")","v":"Details"},{"$f":"HYPERLINK(Options!$B$1, \"Quote\")","v":"Quote"},{"$f":"HYPERLINK(Options!$B$2,\"Fax\")","v":"Fax"}]
["Turner Construction Company (Schmechel)","Carrie Schmechel"," 616-532-4430","cschmechel@tcco.com","Safety Manager","Contractor General","Kent",null,{"$f":"HYPERLINK(\"#'Client Details'!$B$1\",\"Details\")","v":"Details"},{"$f":"HYPERLINK(Options!$B$1, \"Quote\")","v":"Quote"},{"$f":"HYPERLINK(Options!$B$2,\"Fax\")","v":"Fax"}]
["TYCO ()",null," 610-363-5450",null,null,"Supplier","Na",null,{"$f":"HYPERLINK(\"#'Client Details'!$B$1\",\"Details\")","v":"Details"},{"$f":"HYPERLINK(Options!$B$1, \"Quote\")","v":"Quote"},{"$f":"HYPERLINK(Options!$B$2,\"Fax\")","v":"Fax"}]
["Tyler Fire Equipment (Buffalo)","Home Office","716-684-6442",null,null,null,null,null,{"$f":"HYPERLINK(\"#'Client Details'!$B$1\",\"Details\")","v":"Details"},{"$f":"HYPERLINK(Options!$B$1, \"Quote\")","v":"Quote"},{"$f":"HYPERLINK(Options!$B$2,\"Fax\")","v":"Fax"}]
["UASI (DeRose)","Doug DeRose"," 800-421-7081",null,null,"Supplier","Out of State",null,{"$f":"HYPERLINK(\"#'Client Details'!$B$1\",\"Details\")","v":"Details"},{"$f":"HYPERLINK(Options!$B$1, \"Quote\")","v":"Quote"},{"$f":"HYPERLINK(Options!$B$2,\"Fax\")","v":"Fax"}]
["Ulliman Schutte Construction","Chuck Orick","937-910-9900",null,null,null,null,null,{"$f":"HYPERLINK(\"#'Client Details'!$B$1\",\"Details\")","v":"Details"},{"$f":"HYPERLINK(Options!$B$1, \"Quote\")","v":"Quote"},{"$f":"HYPERLINK(Options!$B$2,\"Fax\")","v":"Fax"}]
["Ultra-Safe Inc. (Sharp)","Marty Sharp"," 800-850-5914","marty@ultrasafeusa.com",null,"Supplier","Out of State",null,{"$f":"HYPERLINK(\"#'Client Details'!$B$1\",\"Details\")","v":"Details"},{"$f":"HYPERLINK(Options!$B$1, \"Quote\")","v":"Quote"},{"$f":"HYPERLINK(Options!$B$2,\"Fax\")","v":"Fax"}]
["UltraTech International, Inc. (Kimball)","Phyl Kimball"," 800-353-1611 211","phyl@stormwater-products.com","Stormwater Market Manager","Supplier","Out State",null,{"$f":"HYPERLINK(\"#'Client Details'!$B$1\",\"Details\")","v":"Details"},{"$f":"HYPERLINK(Options!$B$1, \"Quote\")","v":"Quote"},{"$f":"HYPERLINK(Options!$B$2,\"Fax\")","v":"Fax"}]
["Underwater Kinetics (Putas)","Paul Putas"," 800-327-7388",null,"Industrial Sales Manager","Supplier","Out of State",null,{"$f":"HYPERLINK(\"#'Client Details'!$B$1\",\"Details\")","v":"Details"},{"$f":"HYPERLINK(Options!$B$1, \"Quote\")","v":"Quote"},{"$f":"HYPERLINK(Options!$B$2,\"Fax\")","v":"Fax"}]
["Uniform Color Company","Derek McCormick","616-394-3800","dmccormick@uniformcolor.com",null,null,null,null,{"$f":"HYPERLINK(\"#'Client Details'!$B$1\",\"Details\")","v":"Details"},{"$f":"HYPERLINK(Options!$B$1, \"Quote\")","v":"Quote"},{"$f":"HYPERLINK(Options!$B$2,\"Fax\")","v":"Fax"}]
["Uniform Color Company (McCormick)","Derek McCormick","(616) 394-3800","dmccormick@uniformcolor.com","Safety & Compliance Manager","Chemical Pharmaceutical","Ottawa",null,{"$f":"HYPERLINK(\"#'Client Details'!$B$1\",\"Details\")","v":"Details"},{"$f":"HYPERLINK(Options!$B$1, \"Quote\")","v":"Quote"},{"$f":"HYPERLINK(Options!$B$2,\"Fax\")","v":"Fax"}]
["Unilever Foods North America",null,"260-356-9530","richard.reeves@unilever.com",null,null,null,null,{"$f":"HYPERLINK(\"#'Client Details'!$B$1\",\"Details\")","v":"Details"},{"$f":"HYPERLINK(Options!$B$1, \"Quote\")","v":"Quote"},{"$f":"HYPERLINK(Options!$B$2,\"Fax\")","v":"Fax"}]
["Unilever Foods North America (Huntington)","Richard Reeves"," 260-356-9530 399","richard.reeves@unilever.com","Safety Facilitator","Food","Out of State",null,{"$f":"HYPERLINK(\"#'Client Details'!$B$1\",\"Details\")","v":"Details"},{"$f":"HYPERLINK(Options!$B$1, \"Quote\")","v":"Quote"},{"$f":"HYPERLINK(Options!$B$2,\"Fax\")","v":"Fax"}]
["Union Square Development",null,"616-988-6469","616-450-6936 mobile",null,null,null,null,{"$f":"HYPERLINK(\"#'Client Details'!$B$1\",\"Details\")","v":"Details"},{"$f":"HYPERLINK(Options!$B$1, \"Quote\")","v":"Quote"},{"$f":"HYPERLINK(Options!$B$2,\"Fax\")","v":"Fax"}]
["Uni-Pac, Inc. (Newman)","Theresa Newman"," 269-673-8488","tnewman@room2work.com","Office Manager",null,"Allegan",null,{"$f":"HYPERLINK(\"#'Client Details'!$B$1\",\"Details\")","v":"Details"},{"$f":"HYPERLINK(Options!$B$1, \"Quote\")","v":"Quote"},{"$f":"HYPERLINK(Options!$B$2,\"Fax\")","v":"Fax"}]
["Unishippers (Pasch)","Brian Pasch"," 800-699-1577 1",null,null,"Suppliers","Kent",null,{"$f":"HYPERLINK(\"#'Client Details'!$B$1\",\"Details\")","v":"Details"},{"$f":"HYPERLINK(Options!$B$1, \"Quote\")","v":"Quote"},{"$f":"HYPERLINK(Options!$B$2,\"Fax\")","v":"Fax"}]
["United Sales Associates (Byxbe)","Scott Byxbe",null,"scott.byxbe@unitedsales.com",null,"Representative","Kent",null,{"$f":"HYPERLINK(\"#'Client Details'!$B$1\",\"Details\")","v":"Details"},{"$f":"HYPERLINK(Options!$B$1, \"Quote\")","v":"Quote"},{"$f":"HYPERLINK(Options!$B$2,\"Fax\")","v":"Fax"}]
["United States Steel Corporation (Peters)","Robert Peters"," 313-749-5113","rlpeters@uss.com","Sr. Staff Supervisor, Security","Steel","Wayne",null,{"$f":"HYPERLINK(\"#'Client Details'!$B$1\",\"Details\")","v":"Details"},{"$f":"HYPERLINK(Options!$B$1, \"Quote\")","v":"Quote"},{"$f":"HYPERLINK(Options!$B$2,\"Fax\")","v":"Fax"}]
["United Taconite LLC","Pete Kemp","218-744-7876 buyer","utacpayables@cliffsnr.com",null,null,null,null,{"$f":"HYPERLINK(\"#'Client Details'!$B$1\",\"Details\")","v":"Details"},{"$f":"HYPERLINK(Options!$B$1, \"Quote\")","v":"Quote"},{"$f":"HYPERLINK(Options!$B$2,\"Fax\")","v":"Fax"}]
["United Water - Grand Rapids (Delaney)","Matt Delaney"," 616-974-0673","matthew.delaney@unitedwater.com",null,null,"Kent",null,{"$f":"HYPERLINK(\"#'Client Details'!$B$1\",\"Details\")","v":"Details"},{"$f":"HYPERLINK(Options!$B$1, \"Quote\")","v":"Quote"},{"$f":"HYPERLINK(Options!$B$2,\"Fax\")","v":"Fax"}]
["United Water (Grand Rapids)","Michael Ringelberg","616-940-2414 direct","michael.ringelberg@unitedwater.com",null,null,null,null,{"$f":"HYPERLINK(\"#'Client Details'!$B$1\",\"Details\")","v":"Details"},{"$f":"HYPERLINK(Options!$B$1, \"Quote\")","v":"Quote"},{"$f":"HYPERLINK(Options!$B$2,\"Fax\")","v":"Fax"}]
["United Water (Huber Heights)","Pam Whited","937-233-3292",null,null,null,null,null,{"$f":"HYPERLINK(\"#'Client Details'!$B$1\",\"Details\")","v":"Details"},{"$f":"HYPERLINK(Options!$B$1, \"Quote\")","v":"Quote"},{"$f":"HYPERLINK(Options!$B$2,\"Fax\")","v":"Fax"}]
["United Water (Muskegon)",null,"231-724-2898","david.rowe@unitedwater.com",null,null,null,null,{"$f":"HYPERLINK(\"#'Client Details'!$B$1\",\"Details\")","v":"Details"},{"$f":"HYPERLINK(Options!$B$1, \"Quote\")","v":"Quote"},{"$f":"HYPERLINK(Options!$B$2,\"Fax\")","v":"Fax"}]
["United Water (Oscoda)","Ron Smith / Ryan","989-739-8152","ronald.smith@unitedwater.com",null,null,null,null,{"$f":"HYPERLINK(\"#'Client Details'!$B$1\",\"Details\")","v":"Details"},{"$f":"HYPERLINK(Options!$B$1, \"Quote\")","v":"Quote"},{"$f":"HYPERLINK(Options!$B$2,\"Fax\")","v":"Fax"}]
["United Water (Pontiac)","Matt Delaney","734-341-6994 cell",null,null,null,null,null,{"$f":"HYPERLINK(\"#'Client Details'!$B$1\",\"Details\")","v":"Details"},{"$f":"HYPERLINK(Options!$B$1, \"Quote\")","v":"Quote"},{"$f":"HYPERLINK(Options!$B$2,\"Fax\")","v":"Fax"}]
["United Water (Portage)",null,"269-324-4896","FORMERLY EARTHTECH",null,null,null,null,{"$f":"HYPERLINK(\"#'Client Details'!$B$1\",\"Details\")","v":"Details"},{"$f":"HYPERLINK(Options!$B$1, \"Quote\")","v":"Quote"},{"$f":"HYPERLINK(Options!$B$2,\"Fax\")","v":"Fax"}]
["United Water (Ringelberg)","Michael Ringelberg"," 616-975-4596","michael.ringelberg@unitedwater.com","Safety Coordinator","Contractor EH&S","Kent",null,{"$f":"HYPERLINK(\"#'Client Details'!$B$1\",\"Details\")","v":"Details"},{"$f":"HYPERLINK(Options!$B$1, \"Quote\")","v":"Quote"},{"$f":"HYPERLINK(Options!$B$2,\"Fax\")","v":"Fax"}]
["United Water (Rockwood)","David Kulju","734-379-5652",null,null,null,null,null,{"$f":"HYPERLINK(\"#'Client Details'!$B$1\",\"Details\")","v":"Details"},{"$f":"HYPERLINK(Options!$B$1, \"Quote\")","v":"Quote"},{"$f":"HYPERLINK(Options!$B$2,\"Fax\")","v":"Fax"}]
["United Water (Tawas)",null,"989-362-7619",null,null,null,null,null,{"$f":"HYPERLINK(\"#'Client Details'!$B$1\",\"Details\")","v":"Details"},{"$f":"HYPERLINK(Options!$B$1, \"Quote\")","v":"Quote"},{"$f":"HYPERLINK(Options!$B$2,\"Fax\")","v":"Fax"}]
["United Water (Tawas) (Robb)","Dan Robb"," 989-362-7619",null,"WWTP Manager","Municipal, Cty","Iosco",null,{"$f":"HYPERLINK(\"#'Client Details'!$B$1\",\"Details\")","v":"Details"},{"$f":"HYPERLINK(Options!$B$1, \"Quote\")","v":"Quote"},{"$f":"HYPERLINK(Options!$B$2,\"Fax\")","v":"Fax"}]
["United Water (Timmer)","Gary J. Timmer"," 231-724-2898","gary.timmer@earthtech.com","Regional Safety Coordinator","Contractor EH&S","Muskegon",null,{"$f":"HYPERLINK(\"#'Client Details'!$B$1\",\"Details\")","v":"Details"},{"$f":"HYPERLINK(Options!$B$1, \"Quote\")","v":"Quote"},{"$f":"HYPERLINK(Options!$B$2,\"Fax\")","v":"Fax"}]
["United Water Andrews University (Scheffer","John Scheffers",null,"john.scheffers@unitedwater.com",null,"Municipal, Cty","Berrien",null,{"$f":"HYPERLINK(\"#'Client Details'!$B$1\",\"Details\")","v":"Details"},{"$f":"HYPERLINK(Options!$B$1, \"Quote\")","v":"Quote"},{"$f":"HYPERLINK(Options!$B$2,\"Fax\")","v":"Fax"}]
["United Water Bensenville (Koveski)","Amy Koveski"," 630-350-3486","returned",null,"Municipal, Cty","Out of State",null,{"$f":"HYPERLINK(\"#'Client Details'!$B$1\",\"Details\")","v":"Details"},{"$f":"HYPERLINK(Options!$B$1, \"Quote\")","v":"Quote"},{"$f":"HYPERLINK(Options!$B$2,\"Fax\")","v":"Fax"}]
["United Water General Dynamics (Rowe)","Dave Rowe",null,null,null,"Contractor EH&S","Muskegon",null,{"$f":"HYPERLINK(\"#'Client Details'!$B$1\",\"Details\")","v":"Details"},{"$f":"HYPERLINK(Options!$B$1, \"Quote\")","v":"Quote"},{"$f":"HYPERLINK(Options!$B$2,\"Fax\")","v":"Fax"}]
["United Water Gladwin (Deyarmond)","Richard Deyarmond"," 989-426-4351 22","returned","Operations Manager","Municipal, Cty","Gladwin",null,{"$f":"HYPERLINK(\"#'Client Details'!$B$1\",\"Details\")","v":"Details"},{"$f":"HYPERLINK(Options!$B$1, \"Quote\")","v":"Quote"},{"$f":"HYPERLINK(Options!$B$2,\"Fax\")","v":"Fax"}]
["United Water Huber Hts (Cheshire)","Brian Cheshire"," 937-313-0727","brian.cheshire@earthtech.com","Site Safety Manager","Municipal, Cty","Out of State",null,{"$f":"HYPERLINK(\"#'Client Details'!$B$1\",\"Details\")","v":"Details"},{"$f":"HYPERLINK(Options!$B$1, \"Quote\")","v":"Quote"},{"$f":"HYPERLINK(Options!$B$2,\"Fax\")","v":"Fax"}]
["United Water Huber Hts (West)","Scott West"," 937-233-3292",null,null,"Municipal, Cty","Out of State",null,{"$f":"HYPERLINK(\"#'Client Details'!$B$1\",\"Details\")","v":"Details"},{"$f":"HYPERLINK(Options!$B$1, \"Quote\")","v":"Quote"},{"$f":"HYPERLINK(Options!$B$2,\"Fax\")","v":"Fax"}]
["United Water Oscoda (Buckmeier)","Loretta Buckmeier"," 989-739-8152","returned",null,"Municipal, Cty","Iosco",null,{"$f":"HYPERLINK(\"#'Client Details'!$B$1\",\"Details\")","v":"Details"},{"$f":"HYPERLINK(Options!$B$1, \"Quote\")","v":"Quote"},{"$f":"HYPERLINK(Options!$B$2,\"Fax\")","v":"Fax"}]
["United Water Paw Paw (Harvey)","Bob Harvey",null,"returned","Superintendent","Municipal, Cty","Van Buren",null,{"$f":"HYPERLINK(\"#'Client Details'!$B$1\",\"Details\")","v":"Details"},{"$f":"HYPERLINK(Options!$B$1, \"Quote\")","v":"Quote"},{"$f":"HYPERLINK(Options!$B$2,\"Fax\")","v":"Fax"}]
["United Water Portage (Duell)","Mark Duell"," 269-324-4896","mark.duell@unitedwater.com","Operations Manager","Municipal, Cty","Kalamazoo",null,{"$f":"HYPERLINK(\"#'Client Details'!$B$1\",\"Details\")","v":"Details"},{"$f":"HYPERLINK(Options!$B$1, \"Quote\")","v":"Quote"},{"$f":"HYPERLINK(Options!$B$2,\"Fax\")","v":"Fax"}]
["United Water Portage (Karcher)","Ralph Karcher"," 269-324-4896","rkarchjr@aol.com","On Site Safety Cordinator","Municipal, Cty","Kalamazoo",null,{"$f":"HYPERLINK(\"#'Client Details'!$B$1\",\"Details\")","v":"Details"},{"$f":"HYPERLINK(Options!$B$1, \"Quote\")","v":"Quote"},{"$f":"HYPERLINK(Options!$B$2,\"Fax\")","v":"Fax"}]
["United Water Portage (Robinson)","Mark Robinson"," 920-564-5162","mark.robinson@unitedwater.com","Safety, Health and Environment","Municipal, Cty","Out of State",null,{"$f":"HYPERLINK(\"#'Client Details'!$B$1\",\"Details\")","v":"Details"},{"$f":"HYPERLINK(Options!$B$1, \"Quote\")","v":"Quote"},{"$f":"HYPERLINK(Options!$B$2,\"Fax\")","v":"Fax"}]
["United Water Portland (Freed)","Lonny Freed"," 517-647-6926","lonny.freed@earthtech.com","Superintendent","Municipal, Cty","Ionia",null,{"$f":"HYPERLINK(\"#'Client Details'!$B$1\",\"Details\")","v":"Details"},{"$f":"HYPERLINK(Options!$B$1, \"Quote\")","v":"Quote"},{"$f":"HYPERLINK(Options!$B$2,\"Fax\")","v":"Fax"}]
["United Water Rockwood (Kulju)","Dave Kulju"," 734-379-5652","dave.kulju@earthtech.com2",null,"Municipal, Cty","Wayne",null,{"$f":"HYPERLINK(\"#'Client Details'!$B$1\",\"Details\")","v":"Details"},{"$f":"HYPERLINK(Options!$B$1, \"Quote\")","v":"Quote"},{"$f":"HYPERLINK(Options!$B$2,\"Fax\")","v":"Fax"}]
["United Water SHVUA (Hemsworth)","Dave Hemsworth",null,"dave.hemsworth@earthtech.com",null,"Contractor EH&S","Macomb",null,{"$f":"HYPERLINK(\"#'Client Details'!$B$1\",\"Details\")","v":"Details"},{"$f":"HYPERLINK(Options!$B$1, \"Quote\")","v":"Quote"},{"$f":"HYPERLINK(Options!$B$2,\"Fax\")","v":"Fax"}]
["Unitek Instruments, Inc.",null,"614-291-9909",null,null,null,null,null,{"$f":"HYPERLINK(\"#'Client Details'!$B$1\",\"Details\")","v":"Details"},{"$f":"HYPERLINK(Options!$B$1, \"Quote\")","v":"Quote"},{"$f":"HYPERLINK(Options!$B$2,\"Fax\")","v":"Fax"}]
["Universal Blastco - South Carolina (Sicke","Chris Sicker"," 803-773-6388 108","csicker@isginc.us",null,"Contractor General","Out of State",null,{"$f":"HYPERLINK(\"#'Client Details'!$B$1\",\"Details\")","v":"Details"},{"$f":"HYPERLINK(Options!$B$1, \"Quote\")","v":"Quote"},{"$f":"HYPERLINK(Options!$B$2,\"Fax\")","v":"Fax"}]
["Universal Blastco (Michigan Office)",null,"616-735-6222",null,null,null,null,null,{"$f":"HYPERLINK(\"#'Client Details'!$B$1\",\"Details\")","v":"Details"},{"$f":"HYPERLINK(Options!$B$1, \"Quote\")","v":"Quote"},{"$f":"HYPERLINK(Options!$B$2,\"Fax\")","v":"Fax"}]
["Universal Blastco (Sumter, SC)","Chris Sicker","803-773-6388","csicker@isginc.us",null,null,null,null,{"$f":"HYPERLINK(\"#'Client Details'!$B$1\",\"Details\")","v":"Details"},{"$f":"HYPERLINK(Options!$B$1, \"Quote\")","v":"Quote"},{"$f":"HYPERLINK(Options!$B$2,\"Fax\")","v":"Fax"}]
["Universal Insurance Services Inc. (Steffe","Nathan Steffen"," 616-913-0735","nsteffen@uis-inc.com","Manager, Risk Control Solution","Insurance","Kent",null,{"$f":"HYPERLINK(\"#'Client Details'!$B$1\",\"Details\")","v":"Details"},{"$f":"HYPERLINK(Options!$B$1, \"Quote\")","v":"Quote"},{"$f":"HYPERLINK(Options!$B$2,\"Fax\")","v":"Fax"}]
["University of Michigan Engeneering","Whitney Hovan/Emmelia","734-223-6587",null,null,null,null,null,{"$f":"HYPERLINK(\"#'Client Details'!$B$1\",\"Details\")","v":"Details"},{"$f":"HYPERLINK(Options!$B$1, \"Quote\")","v":"Quote"},{"$f":"HYPERLINK(Options!$B$2,\"Fax\")","v":"Fax"}]
["University of Michigan OSEH (Blatnik)","Heather Blatnik"," 734-615-6367","blatnikh@umich.edu","Environmental Specialist","School","Washtenaw",null,{"$f":"HYPERLINK(\"#'Client Details'!$B$1\",\"Details\")","v":"Details"},{"$f":"HYPERLINK(Options!$B$1, \"Quote\")","v":"Quote"},{"$f":"HYPERLINK(Options!$B$2,\"Fax\")","v":"Fax"}]
["Univertical Chemical Company",null,"260-665-1500","cpontorno@univertical.com",null,null,null,null,{"$f":"HYPERLINK(\"#'Client Details'!$B$1\",\"Details\")","v":"Details"},{"$f":"HYPERLINK(Options!$B$1, \"Quote\")","v":"Quote"},{"$f":"HYPERLINK(Options!$B$2,\"Fax\")","v":"Fax"}]
["Univertical Chemical Company (Pontorno)","Chris Pontorno"," 260-665-1500","cpontorno@univertical.com",null,"Chemical Pharmaceutical","Out of State",null,{"$f":"HYPERLINK(\"#'Client Details'!$B$1\",\"Details\")","v":"Details"},{"$f":"HYPERLINK(Options!$B$1, \"Quote\")","v":"Quote"},{"$f":"HYPERLINK(Options!$B$2,\"Fax\")","v":"Fax"}]
["URI Atlantic Union Resources (Patten)","Chris Patten"," 269-764-3050","chris.patten@nmcco.com",null,"Utility","Van Buren",null,{"$f":"HYPERLINK(\"#'Client Details'!$B$1\",\"Details\")","v":"Details"},{"$f":"HYPERLINK(Options!$B$1, \"Quote\")","v":"Quote"},{"$f":"HYPERLINK(Options!$B$2,\"Fax\")","v":"Fax"}]
["URI Atlantic Union Resources (Pryor)","Dean Pryor",null,null,"Buyer","Utility","Van Buren",null,{"$f":"HYPERLINK(\"#'Client Details'!$B$1\",\"Details\")","v":"Details"},{"$f":"HYPERLINK(Options!$B$1, \"Quote\")","v":"Quote"},{"$f":"HYPERLINK(Options!$B$2,\"Fax\")","v":"Fax"}]
["URI Atlantic Union Resources (Quinn)","Pat Quinn"," 269-764-3661",null,null,null,"Van Buren",null,{"$f":"HYPERLINK(\"#'Client Details'!$B$1\",\"Details\")","v":"Details"},{"$f":"HYPERLINK(Options!$B$1, \"Quote\")","v":"Quote"},{"$f":"HYPERLINK(Options!$B$2,\"Fax\")","v":"Fax"}]
["URS Corp (Dow Midland)","Lauren Edwards","989-636-5077",null,null,null,null,null,{"$f":"HYPERLINK(\"#'Client Details'!$B$1\",\"Details\")","v":"Details"},{"$f":"HYPERLINK(Options!$B$1, \"Quote\")","v":"Quote"},{"$f":"HYPERLINK(Options!$B$2,\"Fax\")","v":"Fax"}]
["URS Corp. (Grand Rapids)",null,"616-574-8500","sherry_slocum@urscorp.com",null,null,null,null,{"$f":"HYPERLINK(\"#'Client Details'!$B$1\",\"Details\")","v":"Details"},{"$f":"HYPERLINK(Options!$B$1, \"Quote\")","v":"Quote"},{"$f":"HYPERLINK(Options!$B$2,\"Fax\")","v":"Fax"}]
["URS Corp. (Slocum)","Sherry Slocum"," 616-574-8500",null,null,null,"Kent",null,{"$f":"HYPERLINK(\"#'Client Details'!$B$1\",\"Details\")","v":"Details"},{"$f":"HYPERLINK(Options!$B$1, \"Quote\")","v":"Quote"},{"$f":"HYPERLINK(Options!$B$2,\"Fax\")","v":"Fax"}]
["US Army Corps of Engineers - Brookville",null,"765-647-6701",null,null,null,null,null,{"$f":"HYPERLINK(\"#'Client Details'!$B$1\",\"Details\")","v":"Details"},{"$f":"HYPERLINK(Options!$B$1, \"Quote\")","v":"Quote"},{"$f":"HYPERLINK(Options!$B$2,\"Fax\")","v":"Fax"}]
["US Army White Sand Missle Range (Anderson","Jeff Anderson"," 505-644-4191","andersoj@wsmr.army.mil",null,"Federal","Out of State",null,{"$f":"HYPERLINK(\"#'Client Details'!$B$1\",\"Details\")","v":"Details"},{"$f":"HYPERLINK(Options!$B$1, \"Quote\")","v":"Quote"},{"$f":"HYPERLINK(Options!$B$2,\"Fax\")","v":"Fax"}]
["US Coast Guard (Bosman)","Gabe Bosman"," 906-632-7290","gabriel.s.bosman@uscg.mil",null,"Federal","Chippewa",null,{"$f":"HYPERLINK(\"#'Client Details'!$B$1\",\"Details\")","v":"Details"},{"$f":"HYPERLINK(Options!$B$1, \"Quote\")","v":"Quote"},{"$f":"HYPERLINK(Options!$B$2,\"Fax\")","v":"Fax"}]
["US Coast Guard (Grand Haven)","Kurt Fink","616-850-2511",null,null,null,null,null,{"$f":"HYPERLINK(\"#'Client Details'!$B$1\",\"Details\")","v":"Details"},{"$f":"HYPERLINK(Options!$B$1, \"Quote\")","v":"Quote"},{"$f":"HYPERLINK(Options!$B$2,\"Fax\")","v":"Fax"}]
["US Coast Guard (Sault Ste. Marie)",null,"906-632-7290",null,null,null,null,null,{"$f":"HYPERLINK(\"#'Client Details'!$B$1\",\"Details\")","v":"Details"},{"$f":"HYPERLINK(Options!$B$1, \"Quote\")","v":"Quote"},{"$f":"HYPERLINK(Options!$B$2,\"Fax\")","v":"Fax"}]
["US Coast Guard (St Ignace)","Chris Timm","216-310-7617-cell",null,null,null,null,null,{"$f":"HYPERLINK(\"#'Client Details'!$B$1\",\"Details\")","v":"Details"},{"$f":"HYPERLINK(Options!$B$1, \"Quote\")","v":"Quote"},{"$f":"HYPERLINK(Options!$B$2,\"Fax\")","v":"Fax"}]
["US Darnell Army Hospital (Ringer)","Marshall Ringer",null,"marshall.ringer@amedd.army.mil",null,"Other","Out of State",null,{"$f":"HYPERLINK(\"#'Client Details'!$B$1\",\"Details\")","v":"Details"},{"$f":"HYPERLINK(Options!$B$1, \"Quote\")","v":"Quote"},{"$f":"HYPERLINK(Options!$B$2,\"Fax\")","v":"Fax"}]
["US Utility Contractors","Bill Scott","419-837-9753",null,null,null,null,null,{"$f":"HYPERLINK(\"#'Client Details'!$B$1\",\"Details\")","v":"Details"},{"$f":"HYPERLINK(Options!$B$1, \"Quote\")","v":"Quote"},{"$f":"HYPERLINK(Options!$B$2,\"Fax\")","v":"Fax"}]
["USA Jet Airlines","Rob Hanes","734-547-7230","rhanes@usajet.aero",null,null,null,null,{"$f":"HYPERLINK(\"#'Client Details'!$B$1\",\"Details\")","v":"Details"},{"$f":"HYPERLINK(Options!$B$1, \"Quote\")","v":"Quote"},{"$f":"HYPERLINK(Options!$B$2,\"Fax\")","v":"Fax"}]
["USA Jet Airlines (Hanes)","Rob Hanes"," 734-547-7286","rhanes@usajet.aero","Stockroom Supervisor","Other","Wayne",null,{"$f":"HYPERLINK(\"#'Client Details'!$B$1\",\"Details\")","v":"Details"},{"$f":"HYPERLINK(Options!$B$1, \"Quote\")","v":"Quote"},{"$f":"HYPERLINK(Options!$B$2,\"Fax\")","v":"Fax"}]
["use for new cust acct",null,null,null,null,null,null,null,{"$f":"HYPERLINK(\"#'Client Details'!$B$1\",\"Details\")","v":"Details"},{"$f":"HYPERLINK(Options!$B$1, \"Quote\")","v":"Quote"},{"$f":"HYPERLINK(Options!$B$2,\"Fax\")","v":"Fax"}]
["Utilimaster",null,"800-862-3454",null,null,null,null,null,{"$f":"HYPERLINK(\"#'Client Details'!$B$1\",\"Details\")","v":"Details"},{"$f":"HYPERLINK(Options!$B$1, \"Quote\")","v":"Quote"},{"$f":"HYPERLINK(Options!$B$2,\"Fax\")","v":"Fax"}]
["Utilimaster (Wegener)","Carmen Wegener"," 574-862-3394","cwegener@utilimaster.com","Safety Manager","Contractor","Elkhart",null,{"$f":"HYPERLINK(\"#'Client Details'!$B$1\",\"Details\")","v":"Details"},{"$f":"HYPERLINK(Options!$B$1, \"Quote\")","v":"Quote"},{"$f":"HYPERLINK(Options!$B$2,\"Fax\")","v":"Fax"}]
["Utility Contracting Company (Gilliam)","Bill Gilliam"," 616-887-8282","b.gilliam@utility-contracting.com","Safety Manager","Contractor Electrical","Kent",null,{"$f":"HYPERLINK(\"#'Client Details'!$B$1\",\"Details\")","v":"Details"},{"$f":"HYPERLINK(Options!$B$1, \"Quote\")","v":"Quote"},{"$f":"HYPERLINK(Options!$B$2,\"Fax\")","v":"Fax"}]
["Utility Lines Company (Morgan)","Ryan Morgan"," 248-721-2621","rmorgan@itctransco.com",null,"Contractor General","Macomb",null,{"$f":"HYPERLINK(\"#'Client Details'!$B$1\",\"Details\")","v":"Details"},{"$f":"HYPERLINK(Options!$B$1, \"Quote\")","v":"Quote"},{"$f":"HYPERLINK(Options!$B$2,\"Fax\")","v":"Fax"}]
["Utility Workers Union of America","Gerald B Robertson","734-776-7654 cell",null,null,null,null,null,{"$f":"HYPERLINK(\"#'Client Details'!$B$1\",\"Details\")","v":"Details"},{"$f":"HYPERLINK(Options!$B$1, \"Quote\")","v":"Quote"},{"$f":"HYPERLINK(Options!$B$2,\"Fax\")","v":"Fax"}]
["VA Medical Center Battle Creek (St. Alvar","Saul St. Alvarez"," 269-966-5600 3951","saul.alvarez@med.va.gov","Industrial Hygienist","Hospital, Health Care","Calhoun",null,{"$f":"HYPERLINK(\"#'Client Details'!$B$1\",\"Details\")","v":"Details"},{"$f":"HYPERLINK(Options!$B$1, \"Quote\")","v":"Quote"},{"$f":"HYPERLINK(Options!$B$2,\"Fax\")","v":"Fax"}]
["Vactor Guzzler Manufacturing","Brian Mascal","815-673-3820",null,null,null,null,null,{"$f":"HYPERLINK(\"#'Client Details'!$B$1\",\"Details\")","v":"Details"},{"$f":"HYPERLINK(Options!$B$1, \"Quote\")","v":"Quote"},{"$f":"HYPERLINK(Options!$B$2,\"Fax\")","v":"Fax"}]
["Vactor Manufacturing, Inc.","Dan Simpson","815-673-3876",null,null,null,null,null,{"$f":"HYPERLINK(\"#'Client Details'!$B$1\",\"Details\")","v":"Details"},{"$f":"HYPERLINK(Options!$B$1, \"Quote\")","v":"Quote"},{"$f":"HYPERLINK(Options!$B$2,\"Fax\")","v":"Fax"}]
["Vactor Manufacturing, Inc. (Mascal)","Brian Mascal"," 815-673-3820","bmascal@vactor.com","Environmental Health & Safety","Manufacturer","Out of State",null,{"$f":"HYPERLINK(\"#'Client Details'!$B$1\",\"Details\")","v":"Details"},{"$f":"HYPERLINK(Options!$B$1, \"Quote\")","v":"Quote"},{"$f":"HYPERLINK(Options!$B$2,\"Fax\")","v":"Fax"}]
["Vactor Manufacturing, Inc. (Simpson)","Dan Simpson"," 815-673-3876","dsimpson@vactor.com",null,"Manufacturer","Out of State",null,{"$f":"HYPERLINK(\"#'Client Details'!$B$1\",\"Details\")","v":"Details"},{"$f":"HYPERLINK(Options!$B$1, \"Quote\")","v":"Quote"},{"$f":"HYPERLINK(Options!$B$2,\"Fax\")","v":"Fax"}]
["Valentine Excavating (CONTACT)","CALL FOR CONTACT"," 269-673-1865",null," -","Excavation","Allegan",null,{"$f":"HYPERLINK(\"#'Client Details'!$B$1\",\"Details\")","v":"Details"},{"$f":"HYPERLINK(Options!$B$1, \"Quote\")","v":"Quote"},{"$f":"HYPERLINK(Options!$B$2,\"Fax\")","v":"Fax"}]
["Valley City Environmental Services","Dar Baas","616-235-1500",null,null,null,null,null,{"$f":"HYPERLINK(\"#'Client Details'!$B$1\",\"Details\")","v":"Details"},{"$f":"HYPERLINK(Options!$B$1, \"Quote\")","v":"Quote"},{"$f":"HYPERLINK(Options!$B$2,\"Fax\")","v":"Fax"}]
["Valley City Environmental Services, Inc.","Eric Beckman"," 616-235-1500","ebeckman@valleycityes.com","Technical Operations Manager","Contractor EH&S","Kent",null,{"$f":"HYPERLINK(\"#'Client Details'!$B$1\",\"Details\")","v":"Details"},{"$f":"HYPERLINK(Options!$B$1, \"Quote\")","v":"Quote"},{"$f":"HYPERLINK(Options!$B$2,\"Fax\")","v":"Fax"}]
["Valley City Environmental Services, Inc.","Eric Beckman"," 616-235-1500","ebeckman@valleycityes.com","Technical Operations Manager","Contractor EH&S","Kent",null,{"$f":"HYPERLINK(\"#'Client Details'!$B$1\",\"Details\")","v":"Details"},{"$f":"HYPERLINK(Options!$B$1, \"Quote\")","v":"Quote"},{"$f":"HYPERLINK(Options!$B$2,\"Fax\")","v":"Fax"}]
["Valley City Environmental Services, Inc.","Eric Beckman"," 616-235-1500","ebeckman@valleycityes.com","Technical Operations Manager","Contractor EH&S","Kent",null,{"$f":"HYPERLINK(\"#'Client Details'!$B$1\",\"Details\")","v":"Details"},{"$f":"HYPERLINK(Options!$B$1, \"Quote\")","v":"Quote"},{"$f":"HYPERLINK(Options!$B$2,\"Fax\")","v":"Fax"}]
["Valley City Plating (Lammers)","Dave Lammers"," 616-245-1223",null,null,"Other","Kent",null,{"$f":"HYPERLINK(\"#'Client Details'!$B$1\",\"Details\")","v":"Details"},{"$f":"HYPERLINK(Options!$B$1, \"Quote\")","v":"Quote"},{"$f":"HYPERLINK(Options!$B$2,\"Fax\")","v":"Fax"}]
["Valley City Plumbing, Inc.",null,"616-863-9524",null,null,null,null,null,{"$f":"HYPERLINK(\"#'Client Details'!$B$1\",\"Details\")","v":"Details"},{"$f":"HYPERLINK(Options!$B$1, \"Quote\")","v":"Quote"},{"$f":"HYPERLINK(Options!$B$2,\"Fax\")","v":"Fax"}]
["Valley City Plumbing, Inv. (Tinker)","Todd Tinker"," 616-863-9524",null,null,"Contractor General","Kent",null,{"$f":"HYPERLINK(\"#'Client Details'!$B$1\",\"Details\")","v":"Details"},{"$f":"HYPERLINK(Options!$B$1, \"Quote\")","v":"Quote"},{"$f":"HYPERLINK(Options!$B$2,\"Fax\")","v":"Fax"}]
["Valley View Poultry","Tobey Arendsen","616-895-7063",null,null,null,null,null,{"$f":"HYPERLINK(\"#'Client Details'!$B$1\",\"Details\")","v":"Details"},{"$f":"HYPERLINK(Options!$B$1, \"Quote\")","v":"Quote"},{"$f":"HYPERLINK(Options!$B$2,\"Fax\")","v":"Fax"}]
["Valley View Poultry (Arendsen)","Tobey Arendsen"," 616-895-7063","vvpoultry@altelco.net",null,"Poultry","Ottawa",null,{"$f":"HYPERLINK(\"#'Client Details'!$B$1\",\"Details\")","v":"Details"},{"$f":"HYPERLINK(Options!$B$1, \"Quote\")","v":"Quote"},{"$f":"HYPERLINK(Options!$B$2,\"Fax\")","v":"Fax"}]
["Valspar (Grand Prairie)",null,null,null,null,null,null,null,{"$f":"HYPERLINK(\"#'Client Details'!$B$1\",\"Details\")","v":"Details"},{"$f":"HYPERLINK(Options!$B$1, \"Quote\")","v":"Quote"},{"$f":"HYPERLINK(Options!$B$2,\"Fax\")","v":"Fax"}]
["Valspar Corporation (Clay)","T.J. Clay"," 309-743-7201","tclary@valspar.com","Quality Engineer Manager","Chemical Pharmaceutical","Out of State",null,{"$f":"HYPERLINK(\"#'Client Details'!$B$1\",\"Details\")","v":"Details"},{"$f":"HYPERLINK(Options!$B$1, \"Quote\")","v":"Quote"},{"$f":"HYPERLINK(Options!$B$2,\"Fax\")","v":"Fax"}]
["Valspar Corporation (Cosens)","Sarah Cosens"," 231-924-8640","scosens@valspar.com",null,"Chemical Pharmaceutical","Newaygo",null,{"$f":"HYPERLINK(\"#'Client Details'!$B$1\",\"Details\")","v":"Details"},{"$f":"HYPERLINK(Options!$B$1, \"Quote\")","v":"Quote"},{"$f":"HYPERLINK(Options!$B$2,\"Fax\")","v":"Fax"}]
["Valspar Corporation (Fremont)","231-924-8655 Purchase","231-924-8626 steveRay",null,null,null,null,null,{"$f":"HYPERLINK(\"#'Client Details'!$B$1\",\"Details\")","v":"Details"},{"$f":"HYPERLINK(Options!$B$1, \"Quote\")","v":"Quote"},{"$f":"HYPERLINK(Options!$B$2,\"Fax\")","v":"Fax"}]
["Valspar Corporation (Indianapolis)","Matt Simon","317-687-6733",null,null,null,null,null,{"$f":"HYPERLINK(\"#'Client Details'!$B$1\",\"Details\")","v":"Details"},{"$f":"HYPERLINK(Options!$B$1, \"Quote\")","v":"Quote"},{"$f":"HYPERLINK(Options!$B$2,\"Fax\")","v":"Fax"}]
["Valspar Corporation (Minneapolis)","David Heyerman","612-375-7365",null,null,null,null,null,{"$f":"HYPERLINK(\"#'Client Details'!$B$1\",\"Details\")","v":"Details"},{"$f":"HYPERLINK(Options!$B$1, \"Quote\")","v":"Quote"},{"$f":"HYPERLINK(Options!$B$2,\"Fax\")","v":"Fax"}]
["Valspar Corporation (Moline)",null,"309-743-7201",null,null,null,null,null,{"$f":"HYPERLINK(\"#'Client Details'!$B$1\",\"Details\")","v":"Details"},{"$f":"HYPERLINK(Options!$B$1, \"Quote\")","v":"Quote"},{"$f":"HYPERLINK(Options!$B$2,\"Fax\")","v":"Fax"}]
["Valspar Corporation (Simon)","Matthew Simon"," 317-687-6733","MSIMON@valspar.com","HSE Manager","Chemical Pharmaceutical","Out of State",null,{"$f":"HYPERLINK(\"#'Client Details'!$B$1\",\"Details\")","v":"Details"},{"$f":"HYPERLINK(Options!$B$1, \"Quote\")","v":"Quote"},{"$f":"HYPERLINK(Options!$B$2,\"Fax\")","v":"Fax"}]
["Valspar Corporation Moline (Dierwechter)","Daryl Dierwechter"," 309-743-7243","ddierwechter@valspar.com",null,"Manufacturer","Out of State",null,{"$f":"HYPERLINK(\"#'Client Details'!$B$1\",\"Details\")","v":"Details"},{"$f":"HYPERLINK(Options!$B$1, \"Quote\")","v":"Quote"},{"$f":"HYPERLINK(Options!$B$2,\"Fax\")","v":"Fax"}]
["Valspar Packaging (Lowen)","Justin Lowen"," 412-734-8608","jlowen@valspar.com",null,"Chemical Pharmaceutical","Out of State",null,{"$f":"HYPERLINK(\"#'Client Details'!$B$1\",\"Details\")","v":"Details"},{"$f":"HYPERLINK(Options!$B$1, \"Quote\")","v":"Quote"},{"$f":"HYPERLINK(Options!$B$2,\"Fax\")","v":"Fax"}]
["Van Andel Institute","Paula Williamson DeBoe","616-234-5000","paula.williamsondeboe@vai.org",null,null,null,null,{"$f":"HYPERLINK(\"#'Client Details'!$B$1\",\"Details\")","v":"Details"},{"$f":"HYPERLINK(Options!$B$1, \"Quote\")","v":"Quote"},{"$f":"HYPERLINK(Options!$B$2,\"Fax\")","v":"Fax"}]
["Van Andel Institute (Cooling)","Jeff Cooling"," 616-234-5794","jeff.cooling@vai.org","Maintenance Supervisor","Other","Kent",null,{"$f":"HYPERLINK(\"#'Client Details'!$B$1\",\"Details\")","v":"Details"},{"$f":"HYPERLINK(Options!$B$1, \"Quote\")","v":"Quote"},{"$f":"HYPERLINK(Options!$B$2,\"Fax\")","v":"Fax"}]
["Van Andel Institute (DeBoe)","Paula Williamson DeBoe"," 616-234-5766","Paula.WilliamsonDeBoe@vai.org","EHS Manager","Other","Kent",null,{"$f":"HYPERLINK(\"#'Client Details'!$B$1\",\"Details\")","v":"Details"},{"$f":"HYPERLINK(Options!$B$1, \"Quote\")","v":"Quote"},{"$f":"HYPERLINK(Options!$B$2,\"Fax\")","v":"Fax"}]
["Van Haren Electric","Rob Van Valkenburg","616-878-3000",null,null,null,null,null,{"$f":"HYPERLINK(\"#'Client Details'!$B$1\",\"Details\")","v":"Details"},{"$f":"HYPERLINK(Options!$B$1, \"Quote\")","v":"Quote"},{"$f":"HYPERLINK(Options!$B$2,\"Fax\")","v":"Fax"}]
["Van Haren Electric (Van Valkenburg)","Rob Van Valkenburg"," 616-878-3000","rvanvalkenburg@vanharen.com","Asst. Project Manager","Contractor Electrical","Kent",null,{"$f":"HYPERLINK(\"#'Client Details'!$B$1\",\"Details\")","v":"Details"},{"$f":"HYPERLINK(Options!$B$1, \"Quote\")","v":"Quote"},{"$f":"HYPERLINK(Options!$B$2,\"Fax\")","v":"Fax"}]
["Van Haren Electric (Wolbers)","Lynn Wolbers"," 616-878-3000","lwolbers@vanharen.com","Service Manager","Contractor Electrical","Kent",null,{"$f":"HYPERLINK(\"#'Client Details'!$B$1\",\"Details\")","v":"Details"},{"$f":"HYPERLINK(Options!$B$1, \"Quote\")","v":"Quote"},{"$f":"HYPERLINK(Options!$B$2,\"Fax\")","v":"Fax"}]
["Van Laan Concrete Construction, Inc. (Van","Scott Van Laan"," 616-698-6397","scottv@vanlaan.com","President","Contractor General","Kent",null,{"$f":"HYPERLINK(\"#'Client Details'!$B$1\",\"Details\")","v":"Details"},{"$f":"HYPERLINK(Options!$B$1, \"Quote\")","v":"Quote"},{"$f":"HYPERLINK(Options!$B$2,\"Fax\")","v":"Fax"}]
["Van Manen Petroleum Group (Penning)","Tom Penning"," 616-453-6344","tomp@vanmanen.com","Commercial / Industrial Sales","Petroleum Related","Kent",null,{"$f":"HYPERLINK(\"#'Client Details'!$B$1\",\"Details\")","v":"Details"},{"$f":"HYPERLINK(Options!$B$1, \"Quote\")","v":"Quote"},{"$f":"HYPERLINK(Options!$B$2,\"Fax\")","v":"Fax"}]
["Van Singel Electric, Inc. ()",null," 616-669-9718",null,null,null,"Ottawa",null,{"$f":"HYPERLINK(\"#'Client Details'!$B$1\",\"Details\")","v":"Details"},{"$f":"HYPERLINK(Options!$B$1, \"Quote\")","v":"Quote"},{"$f":"HYPERLINK(Options!$B$2,\"Fax\")","v":"Fax"}]
["Van Singel Electric, Inc. (Van Singel)","Doug Van Singel"," 616-669-9718",null,null,"Contractor Electrical","Kent",null,{"$f":"HYPERLINK(\"#'Client Details'!$B$1\",\"Details\")","v":"Details"},{"$f":"HYPERLINK(Options!$B$1, \"Quote\")","v":"Quote"},{"$f":"HYPERLINK(Options!$B$2,\"Fax\")","v":"Fax"}]
["Vanden Heuvel Plumbing & Mechanical","Don Vanden Heuvel","616-772-2661",null,null,null,null,null,{"$f":"HYPERLINK(\"#'Client Details'!$B$1\",\"Details\")","v":"Details"},{"$f":"HYPERLINK(Options!$B$1, \"Quote\")","v":"Quote"},{"$f":"HYPERLINK(Options!$B$2,\"Fax\")","v":"Fax"}]
["Vander  Lind & Son (Johnson)","Matt Johnson"," 616-247-0307",null,null,"Competitor Friendly","Kent",null,{"$f":"HYPERLINK(\"#'Client Details'!$B$1\",\"Details\")","v":"Details"},{"$f":"HYPERLINK(Options!$B$1, \"Quote\")","v":"Quote"},{"$f":"HYPERLINK(Options!$B$2,\"Fax\")","v":"Fax"}]
["Vander Jagt Masonry, Inc. (Rozema)","Tom Rozema"," 616-837-8107",null,"President",null,"Ottawa",null,{"$f":"HYPERLINK(\"#'Client Details'!$B$1\",\"Details\")","v":"Details"},{"$f":"HYPERLINK(Options!$B$1, \"Quote\")","v":"Quote"},{"$f":"HYPERLINK(Options!$B$2,\"Fax\")","v":"Fax"}]
["Vander Werf Electric Inc.","Phil & Ralph Vander Werf","1866-684-6442",null,null,null,null,null,{"$f":"HYPERLINK(\"#'Client Details'!$B$1\",\"Details\")","v":"Details"},{"$f":"HYPERLINK(Options!$B$1, \"Quote\")","v":"Quote"},{"$f":"HYPERLINK(Options!$B$2,\"Fax\")","v":"Fax"}]
["VanderHyde Mechanical",null,"616-454-4500",null,null,null,null,null,{"$f":"HYPERLINK(\"#'Client Details'!$B$1\",\"Details\")","v":"Details"},{"$f":"HYPERLINK(Options!$B$1, \"Quote\")","v":"Quote"},{"$f":"HYPERLINK(Options!$B$2,\"Fax\")","v":"Fax"}]
["VanderHyde Mechanical (Meinstma)","Joel Meinstma"," 616-454-4500",null,null,"Contractor HVAC","Kent",null,{"$f":"HYPERLINK(\"#'Client Details'!$B$1\",\"Details\")","v":"Details"},{"$f":"HYPERLINK(Options!$B$1, \"Quote\")","v":"Quote"},{"$f":"HYPERLINK(Options!$B$2,\"Fax\")","v":"Fax"}]
["VanderLind & Son (Beukema)","Shaun Beukema"," 616-247-0307",null,null,"Competitor Friendly","Kent",null,{"$f":"HYPERLINK(\"#'Client Details'!$B$1\",\"Details\")","v":"Details"},{"$f":"HYPERLINK(Options!$B$1, \"Quote\")","v":"Quote"},{"$f":"HYPERLINK(Options!$B$2,\"Fax\")","v":"Fax"}]
["VanderLugt Mulder DeVries Elders (Elders)","Jeffrey Elders"," 616-949-9030 24","jeffe@vmde.com","Certified Public Accountant","Accountant","Kent",null,{"$f":"HYPERLINK(\"#'Client Details'!$B$1\",\"Details\")","v":"Details"},{"$f":"HYPERLINK(Options!$B$1, \"Quote\")","v":"Quote"},{"$f":"HYPERLINK(Options!$B$2,\"Fax\")","v":"Fax"}]
["Vanderlugt Mulder Devries Elders (Kuiper)","Richard Kuiper"," 616-949-9030 36",null,"CPA",null,"Kent",null,{"$f":"HYPERLINK(\"#'Client Details'!$B$1\",\"Details\")","v":"Details"},{"$f":"HYPERLINK(Options!$B$1, \"Quote\")","v":"Quote"},{"$f":"HYPERLINK(Options!$B$2,\"Fax\")","v":"Fax"}]
["Vanderploeg & Lanning","John Keppel & Dan Vanderploeg","616-531-4676",null,null,null,null,null,{"$f":"HYPERLINK(\"#'Client Details'!$B$1\",\"Details\")","v":"Details"},{"$f":"HYPERLINK(Options!$B$1, \"Quote\")","v":"Quote"},{"$f":"HYPERLINK(Options!$B$2,\"Fax\")","v":"Fax"}]
["Vanderploeg & Lanning (Vanderploeg)","Dan Vanderploeg"," 616-531-4676","dan_vpl@ameritech.net",null,"Contractor General","Kent",null,{"$f":"HYPERLINK(\"#'Client Details'!$B$1\",\"Details\")","v":"Details"},{"$f":"HYPERLINK(Options!$B$1, \"Quote\")","v":"Quote"},{"$f":"HYPERLINK(Options!$B$2,\"Fax\")","v":"Fax"}]
["VanEck Construction Inc. (Lori)","Lori"," 616-399-6311",null,"Purchasing Manger",null,"Ottawa",null,{"$f":"HYPERLINK(\"#'Client Details'!$B$1\",\"Details\")","v":"Details"},{"$f":"HYPERLINK(Options!$B$1, \"Quote\")","v":"Quote"},{"$f":"HYPERLINK(Options!$B$2,\"Fax\")","v":"Fax"}]
["Vanguard Fire & Security Systems","Karen Andre / Matt Batchelor","800-444-8719","tthomas@vanguard-fire.com",null,null,null,null,{"$f":"HYPERLINK(\"#'Client Details'!$B$1\",\"Details\")","v":"Details"},{"$f":"HYPERLINK(Options!$B$1, \"Quote\")","v":"Quote"},{"$f":"HYPERLINK(Options!$B$2,\"Fax\")","v":"Fax"}]
["Vanguard Fire & Security Systems (Batchel","Matt Batchelor"," 800-444-8719","info@vanguard-fire.com","Sprinker Install Manager","Contractor General","Kent",null,{"$f":"HYPERLINK(\"#'Client Details'!$B$1\",\"Details\")","v":"Details"},{"$f":"HYPERLINK(Options!$B$1, \"Quote\")","v":"Quote"},{"$f":"HYPERLINK(Options!$B$2,\"Fax\")","v":"Fax"}]
["Vanguard Fire & Security Systems (Cone)","Leslie Cone"," 800-444-8719","lcone@vanguard-fire.com","Mainenance","General Contractor","Kent",null,{"$f":"HYPERLINK(\"#'Client Details'!$B$1\",\"Details\")","v":"Details"},{"$f":"HYPERLINK(Options!$B$1, \"Quote\")","v":"Quote"},{"$f":"HYPERLINK(Options!$B$2,\"Fax\")","v":"Fax"}]
["Vanguard Fire & Security Systems (Goss)","Jeff Goss"," 800-444-8719","jgoss@vanguard-fire.com","EHS Manager","Contractor General","Kent",null,{"$f":"HYPERLINK(\"#'Client Details'!$B$1\",\"Details\")","v":"Details"},{"$f":"HYPERLINK(Options!$B$1, \"Quote\")","v":"Quote"},{"$f":"HYPERLINK(Options!$B$2,\"Fax\")","v":"Fax"}]
["Vanguard Fire & Security Systems (Lesinsk","Nick Lesinski"," 616-245-8719 143","nlesinski@vanguard-fire.com",null,"Contractor General","Kent",null,{"$f":"HYPERLINK(\"#'Client Details'!$B$1\",\"Details\")","v":"Details"},{"$f":"HYPERLINK(Options!$B$1, \"Quote\")","v":"Quote"},{"$f":"HYPERLINK(Options!$B$2,\"Fax\")","v":"Fax"}]
["Vanguard Fire & Security Systems (Yuill)","Jim Yuill"," 800-444-8719","jyuill@vanguard-fire.com","Safety Director",null,"Kent",null,{"$f":"HYPERLINK(\"#'Client Details'!$B$1\",\"Details\")","v":"Details"},{"$f":"HYPERLINK(Options!$B$1, \"Quote\")","v":"Quote"},{"$f":"HYPERLINK(Options!$B$2,\"Fax\")","v":"Fax"}]
["Varano Electric","Tom Varano",null,null,null,null,null,null,{"$f":"HYPERLINK(\"#'Client Details'!$B$1\",\"Details\")","v":"Details"},{"$f":"HYPERLINK(Options!$B$1, \"Quote\")","v":"Quote"},{"$f":"HYPERLINK(Options!$B$2,\"Fax\")","v":"Fax"}]
["Varnum Riddering Schmidt Howlett (Caldwel","Christopher J. Caldwell"," 616-336-6951","cjcaldwell@varnumlaw.com","Attorney at Law","BBB Personal","Kent",null,{"$f":"HYPERLINK(\"#'Client Details'!$B$1\",\"Details\")","v":"Details"},{"$f":"HYPERLINK(Options!$B$1, \"Quote\")","v":"Quote"},{"$f":"HYPERLINK(Options!$B$2,\"Fax\")","v":"Fax"}]
["Varnum Riddering Schmidt Howlett LLPt (Ri","Dale R. Rietberg"," 616-336-6587","DRRIETBERG@varnumlaw.com","Attorney at Law","BBB Personal","Kent",null,{"$f":"HYPERLINK(\"#'Client Details'!$B$1\",\"Details\")","v":"Details"},{"$f":"HYPERLINK(Options!$B$1, \"Quote\")","v":"Quote"},{"$f":"HYPERLINK(Options!$B$2,\"Fax\")","v":"Fax"}]
["VDB Mechanical",null,null,null,null,null,null,null,{"$f":"HYPERLINK(\"#'Client Details'!$B$1\",\"Details\")","v":"Details"},{"$f":"HYPERLINK(Options!$B$1, \"Quote\")","v":"Quote"},{"$f":"HYPERLINK(Options!$B$2,\"Fax\")","v":"Fax"}]
["Veldhoff Septic Service (CONTACT)","CALL FOR CONTACT"," 269-751-8593",null," -","Septic Servicing","Allegan",null,{"$f":"HYPERLINK(\"#'Client Details'!$B$1\",\"Details\")","v":"Details"},{"$f":"HYPERLINK(Options!$B$1, \"Quote\")","v":"Quote"},{"$f":"HYPERLINK(Options!$B$2,\"Fax\")","v":"Fax"}]
["Velting Contractors","Kevin Velting Ext-15","616-949-6660",null,null,null,null,null,{"$f":"HYPERLINK(\"#'Client Details'!$B$1\",\"Details\")","v":"Details"},{"$f":"HYPERLINK(Options!$B$1, \"Quote\")","v":"Quote"},{"$f":"HYPERLINK(Options!$B$2,\"Fax\")","v":"Fax"}]
["Velting Contractors Inc. (Velting)","Kevin Velting"," 616-949-6660 15","kvelting@velting.com","Safety Manager","Contractor General","Kent",null,{"$f":"HYPERLINK(\"#'Client Details'!$B$1\",\"Details\")","v":"Details"},{"$f":"HYPERLINK(Options!$B$1, \"Quote\")","v":"Quote"},{"$f":"HYPERLINK(Options!$B$2,\"Fax\")","v":"Fax"}]
["Venchurs Inc.",null,"517-263-8937",null,null,null,null,null,{"$f":"HYPERLINK(\"#'Client Details'!$B$1\",\"Details\")","v":"Details"},{"$f":"HYPERLINK(Options!$B$1, \"Quote\")","v":"Quote"},{"$f":"HYPERLINK(Options!$B$2,\"Fax\")","v":"Fax"}]
["Ventra (Dennis)","Michael Dennis"," 616-527-1220 2504","mdennis@meridianautosystems.com","EHS Engineer","Automotive","Ionia",null,{"$f":"HYPERLINK(\"#'Client Details'!$B$1\",\"Details\")","v":"Details"},{"$f":"HYPERLINK(Options!$B$1, \"Quote\")","v":"Quote"},{"$f":"HYPERLINK(Options!$B$2,\"Fax\")","v":"Fax"}]
["Ventra (Grand Rapids 29th Street, LLC)",null,"616-464-4939",null,null,null,null,null,{"$f":"HYPERLINK(\"#'Client Details'!$B$1\",\"Details\")","v":"Details"},{"$f":"HYPERLINK(Options!$B$1, \"Quote\")","v":"Quote"},{"$f":"HYPERLINK(Options!$B$2,\"Fax\")","v":"Fax"}]
["Ventra (Jackson)","Celia Jackson"," 616-527-8349","cjackson@meridianautosystems.com","Director of Environmental Affa","Automotive","Ionia",null,{"$f":"HYPERLINK(\"#'Client Details'!$B$1\",\"Details\")","v":"Details"},{"$f":"HYPERLINK(Options!$B$1, \"Quote\")","v":"Quote"},{"$f":"HYPERLINK(Options!$B$2,\"Fax\")","v":"Fax"}]
["Ventra (Manke)","David Manke"," 616-527-1220 2327","dmanke@meridianautosystems.com","Safety Director","Automotive","Ionia",null,{"$f":"HYPERLINK(\"#'Client Details'!$B$1\",\"Details\")","v":"Details"},{"$f":"HYPERLINK(Options!$B$1, \"Quote\")","v":"Quote"},{"$f":"HYPERLINK(Options!$B$2,\"Fax\")","v":"Fax"}]
["Ventra (Murphy)","Chad Murphy"," 616-527-8326","cmurphy@meridianautosystems.com","Environmental Manager","Automotive","Ionia",null,{"$f":"HYPERLINK(\"#'Client Details'!$B$1\",\"Details\")","v":"Details"},{"$f":"HYPERLINK(Options!$B$1, \"Quote\")","v":"Quote"},{"$f":"HYPERLINK(Options!$B$2,\"Fax\")","v":"Fax"}]
["Ventra (Stancil)","Steve Stancil"," 616-527-1220 2327","sstancil@meridianautosystems.com","Safety Manager","Automotive","Ionia",null,{"$f":"HYPERLINK(\"#'Client Details'!$B$1\",\"Details\")","v":"Details"},{"$f":"HYPERLINK(Options!$B$1, \"Quote\")","v":"Quote"},{"$f":"HYPERLINK(Options!$B$2,\"Fax\")","v":"Fax"}]
["Ventra 32nd (Miller)","Lauren Miller"," 616-666-5104","lmiller@ventra.us","Safety Manager","Automotive","Kent",null,{"$f":"HYPERLINK(\"#'Client Details'!$B$1\",\"Details\")","v":"Details"},{"$f":"HYPERLINK(Options!$B$1, \"Quote\")","v":"Quote"},{"$f":"HYPERLINK(Options!$B$2,\"Fax\")","v":"Fax"}]
["Ventra 32nd (Tromp)","Tom Tromp"," 616-949-1250 5736","ttromp@meridianautosystems.com","Environmental Engineer","Automotive","Kent",null,{"$f":"HYPERLINK(\"#'Client Details'!$B$1\",\"Details\")","v":"Details"},{"$f":"HYPERLINK(Options!$B$1, \"Quote\")","v":"Quote"},{"$f":"HYPERLINK(Options!$B$2,\"Fax\")","v":"Fax"}]
["Ventra Grand Rapids 29, LLC (DeWitt)","Marty DeWitt"," 616-464-4939 4963",null,null,"Automotive","Kent",null,{"$f":"HYPERLINK(\"#'Client Details'!$B$1\",\"Details\")","v":"Details"},{"$f":"HYPERLINK(Options!$B$1, \"Quote\")","v":"Quote"},{"$f":"HYPERLINK(Options!$B$2,\"Fax\")","v":"Fax"}]
["Ventra Grand Rapids 29, LLC (Sherman)","Brandon Sherman"," 616-464-4939 4976","bsherman@ventra.us","E-Coat Supervisor","Automotive","Kent",null,{"$f":"HYPERLINK(\"#'Client Details'!$B$1\",\"Details\")","v":"Details"},{"$f":"HYPERLINK(Options!$B$1, \"Quote\")","v":"Quote"},{"$f":"HYPERLINK(Options!$B$2,\"Fax\")","v":"Fax"}]
["Ventra Grand Rapids 29, LLC (Wood)","Chris Wood"," 616-464-4939 4962","cwood@ventra.us","Safety Manager","Automotive","Kent",null,{"$f":"HYPERLINK(\"#'Client Details'!$B$1\",\"Details\")","v":"Details"},{"$f":"HYPERLINK(Options!$B$1, \"Quote\")","v":"Quote"},{"$f":"HYPERLINK(Options!$B$2,\"Fax\")","v":"Fax"}]
["Ventra Lorro (Dickens)","Kay Dickens"," 313-931-1400 137","kdickens@meridianautosystems.com",null,"Automotive","Wayne",null,{"$f":"HYPERLINK(\"#'Client Details'!$B$1\",\"Details\")","v":"Details"},{"$f":"HYPERLINK(Options!$B$1, \"Quote\")","v":"Quote"},{"$f":"HYPERLINK(Options!$B$2,\"Fax\")","v":"Fax"}]
["Ventra Lorro (Register)","Derrick Register"," 313-931-1400","dregister@meridianautosystems.com","EHS Manager","Automotive","Wayne",null,{"$f":"HYPERLINK(\"#'Client Details'!$B$1\",\"Details\")","v":"Details"},{"$f":"HYPERLINK(Options!$B$1, \"Quote\")","v":"Quote"},{"$f":"HYPERLINK(Options!$B$2,\"Fax\")","v":"Fax"}]
["Ventra Plant 1 (Tibbets)","Jon Tibbets"," 616-949-1250 5258","jtibbets@meridianautosystems.com","Facilities Manager","Manufacturer","Kent",null,{"$f":"HYPERLINK(\"#'Client Details'!$B$1\",\"Details\")","v":"Details"},{"$f":"HYPERLINK(Options!$B$1, \"Quote\")","v":"Quote"},{"$f":"HYPERLINK(Options!$B$2,\"Fax\")","v":"Fax"}]
["Veolia Environmental Services","Dave Weaver","937-237-1097",null,null,null,null,null,{"$f":"HYPERLINK(\"#'Client Details'!$B$1\",\"Details\")","v":"Details"},{"$f":"HYPERLINK(Options!$B$1, \"Quote\")","v":"Quote"},{"$f":"HYPERLINK(Options!$B$2,\"Fax\")","v":"Fax"}]
["Veolia Environmental Services (Perugia)","John Perugia"," 248-755-9305",null,null,null,"Out of State",null,{"$f":"HYPERLINK(\"#'Client Details'!$B$1\",\"Details\")","v":"Details"},{"$f":"HYPERLINK(Options!$B$1, \"Quote\")","v":"Quote"},{"$f":"HYPERLINK(Options!$B$2,\"Fax\")","v":"Fax"}]
["Veolia Water - (Dayton)",null,"937-233-7083","ops@tri-cities.org",null,null,null,null,{"$f":"HYPERLINK(\"#'Client Details'!$B$1\",\"Details\")","v":"Details"},{"$f":"HYPERLINK(Options!$B$1, \"Quote\")","v":"Quote"},{"$f":"HYPERLINK(Options!$B$2,\"Fax\")","v":"Fax"}]
["Veolia Water - MBM (Cicero)","Jackei Lawless","708-780-6794",null,null,null,null,null,{"$f":"HYPERLINK(\"#'Client Details'!$B$1\",\"Details\")","v":"Details"},{"$f":"HYPERLINK(Options!$B$1, \"Quote\")","v":"Quote"},{"$f":"HYPERLINK(Options!$B$2,\"Fax\")","v":"Fax"}]
["Veolia Water - MBM (Waters)","Steve Waters"," 708-780-6794","steven.waters@veoliawaterna.com",null,"Municipal, Cty","Out of State",null,{"$f":"HYPERLINK(\"#'Client Details'!$B$1\",\"Details\")","v":"Details"},{"$f":"HYPERLINK(Options!$B$1, \"Quote\")","v":"Quote"},{"$f":"HYPERLINK(Options!$B$2,\"Fax\")","v":"Fax"}]
["Verizon Business (Grant)","Dave Grant"," 616-224-4257","dave.grant@verizonbusiness.com","Operations Manager","Contractor General","Kent",null,{"$f":"HYPERLINK(\"#'Client Details'!$B$1\",\"Details\")","v":"Details"},{"$f":"HYPERLINK(Options!$B$1, \"Quote\")","v":"Quote"},{"$f":"HYPERLINK(Options!$B$2,\"Fax\")","v":"Fax"}]
["Verplank Trucking","George \" Butch\" Brown","616-842-1448",null,null,null,null,null,{"$f":"HYPERLINK(\"#'Client Details'!$B$1\",\"Details\")","v":"Details"},{"$f":"HYPERLINK(Options!$B$1, \"Quote\")","v":"Quote"},{"$f":"HYPERLINK(Options!$B$2,\"Fax\")","v":"Fax"}]
["Verplank Trucking (Brown)","Butch Brown"," 616-842-1448",null,"Safety Manager","Trucking","Ottawa",null,{"$f":"HYPERLINK(\"#'Client Details'!$B$1\",\"Details\")","v":"Details"},{"$f":"HYPERLINK(Options!$B$1, \"Quote\")","v":"Quote"},{"$f":"HYPERLINK(Options!$B$2,\"Fax\")","v":"Fax"}]
["Vestil Manufacturing Co (Sheets)","Joshua Sheets"," 260-665-7586 305",null,null,"Supplier","Na",null,{"$f":"HYPERLINK(\"#'Client Details'!$B$1\",\"Details\")","v":"Details"},{"$f":"HYPERLINK(Options!$B$1, \"Quote\")","v":"Quote"},{"$f":"HYPERLINK(Options!$B$2,\"Fax\")","v":"Fax"}]
["Via Store Systems (Blech)","Jeff Blech"," 616-977-3950","j.blech@viastore.com",null,"Manufacturer","Kent",null,{"$f":"HYPERLINK(\"#'Client Details'!$B$1\",\"Details\")","v":"Details"},{"$f":"HYPERLINK(Options!$B$1, \"Quote\")","v":"Quote"},{"$f":"HYPERLINK(Options!$B$2,\"Fax\")","v":"Fax"}]
["Via Store Systems (Young)","Bruce Young"," 616-977-3950 142","b.young@viastore.com",null,"Manufacturer","Kent",null,{"$f":"HYPERLINK(\"#'Client Details'!$B$1\",\"Details\")","v":"Details"},{"$f":"HYPERLINK(Options!$B$1, \"Quote\")","v":"Quote"},{"$f":"HYPERLINK(Options!$B$2,\"Fax\")","v":"Fax"}]
["Via Store Systems (Zakfeld)","Karl Zakfeld"," 616-977-3950","k.zakfeld@viastore.com",null,"Manufacturer","Kent",null,{"$f":"HYPERLINK(\"#'Client Details'!$B$1\",\"Details\")","v":"Details"},{"$f":"HYPERLINK(Options!$B$1, \"Quote\")","v":"Quote"},{"$f":"HYPERLINK(Options!$B$2,\"Fax\")","v":"Fax"}]
["Viastore Systems","Karl Zakfeld","616-977-3950",null,null,null,null,null,{"$f":"HYPERLINK(\"#'Client Details'!$B$1\",\"Details\")","v":"Details"},{"$f":"HYPERLINK(Options!$B$1, \"Quote\")","v":"Quote"},{"$f":"HYPERLINK(Options!$B$2,\"Fax\")","v":"Fax"}]
["Vi-Chem Corporation (Murrieta)","Liza Murrieta"," 616-247-8501 2028","lmurrieta@vichem.com",null,"Plastics","Kent",null,{"$f":"HYPERLINK(\"#'Client Details'!$B$1\",\"Details\")","v":"Details"},{"$f":"HYPERLINK(Options!$B$1, \"Quote\")","v":"Quote"},{"$f":"HYPERLINK(Options!$B$2,\"Fax\")","v":"Fax"}]
["Viking Energy","Dean Taylor","231-825-2772",null,null,null,null,null,{"$f":"HYPERLINK(\"#'Client Details'!$B$1\",\"Details\")","v":"Details"},{"$f":"HYPERLINK(Options!$B$1, \"Quote\")","v":"Quote"},{"$f":"HYPERLINK(Options!$B$2,\"Fax\")","v":"Fax"}]
["Viking Group (Cranmore)","Bill Cranmore"," 269-945-8206","wcranmore@vikingcorp.com","EH&S Manager","Manufacturer","Barry",null,{"$f":"HYPERLINK(\"#'Client Details'!$B$1\",\"Details\")","v":"Details"},{"$f":"HYPERLINK(Options!$B$1, \"Quote\")","v":"Quote"},{"$f":"HYPERLINK(Options!$B$2,\"Fax\")","v":"Fax"}]
["Viking Group (Lenartowicz)","Tom Lenartowicz"," 269-945-8206","tlenartowicz@vikingcorp.com","EH&S Manager","Manufacturer","Barry",null,{"$f":"HYPERLINK(\"#'Client Details'!$B$1\",\"Details\")","v":"Details"},{"$f":"HYPERLINK(Options!$B$1, \"Quote\")","v":"Quote"},{"$f":"HYPERLINK(Options!$B$2,\"Fax\")","v":"Fax"}]
["Villa Environmental Consultants, Inc.",null,"269-927-2434",null,null,null,null,null,{"$f":"HYPERLINK(\"#'Client Details'!$B$1\",\"Details\")","v":"Details"},{"$f":"HYPERLINK(Options!$B$1, \"Quote\")","v":"Quote"},{"$f":"HYPERLINK(Options!$B$2,\"Fax\")","v":"Fax"}]
["Villa Environmental Consultants, Inc. (La","Eric Larcinese"," 269-927-2434","eric@villaenv.com","Vice President","Contractor EH&S","Berrien",null,{"$f":"HYPERLINK(\"#'Client Details'!$B$1\",\"Details\")","v":"Details"},{"$f":"HYPERLINK(Options!$B$1, \"Quote\")","v":"Quote"},{"$f":"HYPERLINK(Options!$B$2,\"Fax\")","v":"Fax"}]
["Villa Environmental Consultants, Inc. (Vi","Richard Villa"," 269-927-2434","rvilla@villaenv.com",null,"Contractor EH&S","Berrien",null,{"$f":"HYPERLINK(\"#'Client Details'!$B$1\",\"Details\")","v":"Details"},{"$f":"HYPERLINK(Options!$B$1, \"Quote\")","v":"Quote"},{"$f":"HYPERLINK(Options!$B$2,\"Fax\")","v":"Fax"}]
["Violia Environmental Services (Northville","John Perugia","248-755-9305",null,null,null,null,null,{"$f":"HYPERLINK(\"#'Client Details'!$B$1\",\"Details\")","v":"Details"},{"$f":"HYPERLINK(Options!$B$1, \"Quote\")","v":"Quote"},{"$f":"HYPERLINK(Options!$B$2,\"Fax\")","v":"Fax"}]
["Viper N.A.","Jim Mcgee","616-928-1410",null,null,null,null,null,{"$f":"HYPERLINK(\"#'Client Details'!$B$1\",\"Details\")","v":"Details"},{"$f":"HYPERLINK(Options!$B$1, \"Quote\")","v":"Quote"},{"$f":"HYPERLINK(Options!$B$2,\"Fax\")","v":"Fax"}]
["Viper Trailers (Boertman)","Rod Boertman"," 616-837-9759",null,"Owner","Automotive","A",null,{"$f":"HYPERLINK(\"#'Client Details'!$B$1\",\"Details\")","v":"Details"},{"$f":"HYPERLINK(Options!$B$1, \"Quote\")","v":"Quote"},{"$f":"HYPERLINK(Options!$B$2,\"Fax\")","v":"Fax"}]
["Virginia Electronic Component","Steve Vaughan","434-239-3000",null,null,null,null,null,{"$f":"HYPERLINK(\"#'Client Details'!$B$1\",\"Details\")","v":"Details"},{"$f":"HYPERLINK(Options!$B$1, \"Quote\")","v":"Quote"},{"$f":"HYPERLINK(Options!$B$2,\"Fax\")","v":"Fax"}]
["Visser Brothers, Inc. (Mast)","Bill Mast"," 616-363-3825",null,"President","Contractor General","Kent",null,{"$f":"HYPERLINK(\"#'Client Details'!$B$1\",\"Details\")","v":"Details"},{"$f":"HYPERLINK(Options!$B$1, \"Quote\")","v":"Quote"},{"$f":"HYPERLINK(Options!$B$2,\"Fax\")","v":"Fax"}]
["Volverine Building Group","Marty Malek","616-437-1059",null,null,null,null,null,{"$f":"HYPERLINK(\"#'Client Details'!$B$1\",\"Details\")","v":"Details"},{"$f":"HYPERLINK(Options!$B$1, \"Quote\")","v":"Quote"},{"$f":"HYPERLINK(Options!$B$2,\"Fax\")","v":"Fax"}]
["V-Tech Engineering Inc.",null,"616-656-2600",null,null,null,null,null,{"$f":"HYPERLINK(\"#'Client Details'!$B$1\",\"Details\")","v":"Details"},{"$f":"HYPERLINK(Options!$B$1, \"Quote\")","v":"Quote"},{"$f":"HYPERLINK(Options!$B$2,\"Fax\")","v":"Fax"}]
["V-Tech Engineering Inc. (Hall)","Bryan Hall"," 616-656-2600","bryan.hall@vtei.com",null,"Engineering, Architecture","Kent",null,{"$f":"HYPERLINK(\"#'Client Details'!$B$1\",\"Details\")","v":"Details"},{"$f":"HYPERLINK(Options!$B$1, \"Quote\")","v":"Quote"},{"$f":"HYPERLINK(Options!$B$2,\"Fax\")","v":"Fax"}]
["W Soule & Company (Jackson)","Don Jackson"," 269-324-7001","djackson@wsoule.com","Corporate Safety Director","Contractor General","Kalamazoo",null,{"$f":"HYPERLINK(\"#'Client Details'!$B$1\",\"Details\")","v":"Details"},{"$f":"HYPERLINK(Options!$B$1, \"Quote\")","v":"Quote"},{"$f":"HYPERLINK(Options!$B$2,\"Fax\")","v":"Fax"}]
["W Soule & Company (Johnson)","Brett Johnson"," 616-975-6272","bjohnson@wsoule.com",null,"Contractor General","Kent",null,{"$f":"HYPERLINK(\"#'Client Details'!$B$1\",\"Details\")","v":"Details"},{"$f":"HYPERLINK(Options!$B$1, \"Quote\")","v":"Quote"},{"$f":"HYPERLINK(Options!$B$2,\"Fax\")","v":"Fax"}]
["W Soule & Company (McDaniel)","Randy McDaniel"," 269-324-7001","rmcdaniel@wsoule.com",null,"Contractor General","Kalamazoo",null,{"$f":"HYPERLINK(\"#'Client Details'!$B$1\",\"Details\")","v":"Details"},{"$f":"HYPERLINK(Options!$B$1, \"Quote\")","v":"Quote"},{"$f":"HYPERLINK(Options!$B$2,\"Fax\")","v":"Fax"}]
["W Soule & Company (Wynne)","Steve Wynne"," 269-324-7001","swynne@wsoule.com","Safety Director","Contractor General","Kalamazoo",null,{"$f":"HYPERLINK(\"#'Client Details'!$B$1\",\"Details\")","v":"Details"},{"$f":"HYPERLINK(Options!$B$1, \"Quote\")","v":"Quote"},{"$f":"HYPERLINK(Options!$B$2,\"Fax\")","v":"Fax"}]
["W Soule WSC  Millwright Services (Linker)","Gregory Linker"," 269-969-8989","glinker@wsoule.com","President","Contractor General","Calhoun",null,{"$f":"HYPERLINK(\"#'Client Details'!$B$1\",\"Details\")","v":"Details"},{"$f":"HYPERLINK(Options!$B$1, \"Quote\")","v":"Quote"},{"$f":"HYPERLINK(Options!$B$2,\"Fax\")","v":"Fax"}]
["W. B. Wells Co.","David Wells","412-221-0390",null,null,null,null,null,{"$f":"HYPERLINK(\"#'Client Details'!$B$1\",\"Details\")","v":"Details"},{"$f":"HYPERLINK(Options!$B$1, \"Quote\")","v":"Quote"},{"$f":"HYPERLINK(Options!$B$2,\"Fax\")","v":"Fax"}]
["W. S. Jenks (Bylen)","John Bylen"," 202-529-6020","john@wsjenks.com",null,"Competitor","Out of State",null,{"$f":"HYPERLINK(\"#'Client Details'!$B$1\",\"Details\")","v":"Details"},{"$f":"HYPERLINK(Options!$B$1, \"Quote\")","v":"Quote"},{"$f":"HYPERLINK(Options!$B$2,\"Fax\")","v":"Fax"}]
["W. Soule & Company (Grand Rapids)",null,"269-324-7001",null,null,null,null,null,{"$f":"HYPERLINK(\"#'Client Details'!$B$1\",\"Details\")","v":"Details"},{"$f":"HYPERLINK(Options!$B$1, \"Quote\")","v":"Quote"},{"$f":"HYPERLINK(Options!$B$2,\"Fax\")","v":"Fax"}]
["W. Soule & Company (Kalamazoo)",null,"269-324-7001 Gen.",null,null,null,null,null,{"$f":"HYPERLINK(\"#'Client Details'!$B$1\",\"Details\")","v":"Details"},{"$f":"HYPERLINK(Options!$B$1, \"Quote\")","v":"Quote"},{"$f":"HYPERLINK(Options!$B$2,\"Fax\")","v":"Fax"}]
["W. Soule & Company (King Highway)",null,"269-324-7001",null,null,null,null,null,{"$f":"HYPERLINK(\"#'Client Details'!$B$1\",\"Details\")","v":"Details"},{"$f":"HYPERLINK(Options!$B$1, \"Quote\")","v":"Quote"},{"$f":"HYPERLINK(Options!$B$2,\"Fax\")","v":"Fax"}]
["Waanders Concrete (Waanders)","Mark Waanders"," 269-673-6352",null,"Owner","Concrete","Allegan",null,{"$f":"HYPERLINK(\"#'Client Details'!$B$1\",\"Details\")","v":"Details"},{"$f":"HYPERLINK(Options!$B$1, \"Quote\")","v":"Quote"},{"$f":"HYPERLINK(Options!$B$2,\"Fax\")","v":"Fax"}]
["Wachovia Securities, LLC (Karsten)","Andrea Karsten"," 616-975-2020","andrea.karsten@wachoviasec.com",null,"BBB Personal","Kent",null,{"$f":"HYPERLINK(\"#'Client Details'!$B$1\",\"Details\")","v":"Details"},{"$f":"HYPERLINK(Options!$B$1, \"Quote\")","v":"Quote"},{"$f":"HYPERLINK(Options!$B$2,\"Fax\")","v":"Fax"}]
["Wachter Excavating (Wachter)","Joel Wachter"," 616-842-1715","mjjwachter@novagate.com",null,"Contractor, Excavator","Ottawa",null,{"$f":"HYPERLINK(\"#'Client Details'!$B$1\",\"Details\")","v":"Details"},{"$f":"HYPERLINK(Options!$B$1, \"Quote\")","v":"Quote"},{"$f":"HYPERLINK(Options!$B$2,\"Fax\")","v":"Fax"}]
["Wachter Excavating Co.","Joel Wachter","616-842-1715",null,null,null,null,null,{"$f":"HYPERLINK(\"#'Client Details'!$B$1\",\"Details\")","v":"Details"},{"$f":"HYPERLINK(Options!$B$1, \"Quote\")","v":"Quote"},{"$f":"HYPERLINK(Options!$B$2,\"Fax\")","v":"Fax"}]
["Wackenhut (Palisades)","Brad Murdock","269-764-2244",null,null,null,null,null,{"$f":"HYPERLINK(\"#'Client Details'!$B$1\",\"Details\")","v":"Details"},{"$f":"HYPERLINK(Options!$B$1, \"Quote\")","v":"Quote"},{"$f":"HYPERLINK(Options!$B$2,\"Fax\")","v":"Fax"}]
["Wacker Chemical (Barnhart)","Mike Barnhart"," 517-264-8640","michael.barnhart@wacker.com","Mainenance Safety Supervisor","Chemical Pharmaceutical","Lenawee",null,{"$f":"HYPERLINK(\"#'Client Details'!$B$1\",\"Details\")","v":"Details"},{"$f":"HYPERLINK(Options!$B$1, \"Quote\")","v":"Quote"},{"$f":"HYPERLINK(Options!$B$2,\"Fax\")","v":"Fax"}]
["Wacker Chemical (Harsh)","Frank Harsh"," 517-264-8225","frank.harsh@wacker.com","Maintenance Manager","Chemical Pharmaceutical","Lenawee",null,{"$f":"HYPERLINK(\"#'Client Details'!$B$1\",\"Details\")","v":"Details"},{"$f":"HYPERLINK(Options!$B$1, \"Quote\")","v":"Quote"},{"$f":"HYPERLINK(Options!$B$2,\"Fax\")","v":"Fax"}]
["Waddell Electric Co. (French)","Warren French"," 616-791-4860",null,null,"Contractor Electrical","Kent",null,{"$f":"HYPERLINK(\"#'Client Details'!$B$1\",\"Details\")","v":"Details"},{"$f":"HYPERLINK(Options!$B$1, \"Quote\")","v":"Quote"},{"$f":"HYPERLINK(Options!$B$2,\"Fax\")","v":"Fax"}]
["Wade Trim","Brian Gifford","616-363-8181",null,null,null,null,null,{"$f":"HYPERLINK(\"#'Client Details'!$B$1\",\"Details\")","v":"Details"},{"$f":"HYPERLINK(Options!$B$1, \"Quote\")","v":"Quote"},{"$f":"HYPERLINK(Options!$B$2,\"Fax\")","v":"Fax"}]
["WadeTrim Hart WWTP (Cutter)","Paul Cutter"," 231-873-2259","bgifford@wadetrim.com","Project Manager","Municipal, Cty","Oceana",null,{"$f":"HYPERLINK(\"#'Client Details'!$B$1\",\"Details\")","v":"Details"},{"$f":"HYPERLINK(Options!$B$1, \"Quote\")","v":"Quote"},{"$f":"HYPERLINK(Options!$B$2,\"Fax\")","v":"Fax"}]
["Wagner Industrial Electric","Barry Smallwood","937-298-7481","bsmallwood@wagner-ind.com",null,null,null,null,{"$f":"HYPERLINK(\"#'Client Details'!$B$1\",\"Details\")","v":"Details"},{"$f":"HYPERLINK(Options!$B$1, \"Quote\")","v":"Quote"},{"$f":"HYPERLINK(Options!$B$2,\"Fax\")","v":"Fax"}]
["Walbridge Aldinger",null,null,null,null,null,null,null,{"$f":"HYPERLINK(\"#'Client Details'!$B$1\",\"Details\")","v":"Details"},{"$f":"HYPERLINK(Options!$B$1, \"Quote\")","v":"Quote"},{"$f":"HYPERLINK(Options!$B$2,\"Fax\")","v":"Fax"}]
["Walbridge Aldinger (Dawson)","Mike Dawson"," 313-220-4659","mdawson@walbridge.com","Project Safety Manager","Contractor General","Out of State",null,{"$f":"HYPERLINK(\"#'Client Details'!$B$1\",\"Details\")","v":"Details"},{"$f":"HYPERLINK(Options!$B$1, \"Quote\")","v":"Quote"},{"$f":"HYPERLINK(Options!$B$2,\"Fax\")","v":"Fax"}]
["Walbridge Aldinger (LeClair)","Mark LeClair"," 313-963-8000",null,"Corporate Safety Director","Contractor General","Wayne",null,{"$f":"HYPERLINK(\"#'Client Details'!$B$1\",\"Details\")","v":"Details"},{"$f":"HYPERLINK(Options!$B$1, \"Quote\")","v":"Quote"},{"$f":"HYPERLINK(Options!$B$2,\"Fax\")","v":"Fax"}]
["Walbridge Aldinger (Tampa)","Mike Dawson","813-240-5669",null,null,null,null,null,{"$f":"HYPERLINK(\"#'Client Details'!$B$1\",\"Details\")","v":"Details"},{"$f":"HYPERLINK(Options!$B$1, \"Quote\")","v":"Quote"},{"$f":"HYPERLINK(Options!$B$2,\"Fax\")","v":"Fax"}]
["Walker Custom Sheet Metal","Cory Hedberg","616.735.3770","ap@walkercustomersheetmetal.com",null,null,null,null,{"$f":"HYPERLINK(\"#'Client Details'!$B$1\",\"Details\")","v":"Details"},{"$f":"HYPERLINK(Options!$B$1, \"Quote\")","v":"Quote"},{"$f":"HYPERLINK(Options!$B$2,\"Fax\")","v":"Fax"}]
["Walker Custom Sheet Metal (Monaweck)","Jim Monaweck",null,"monaweckj@walkercustomsheetmetal.com","Group Manager","Contractor General","Kent",null,{"$f":"HYPERLINK(\"#'Client Details'!$B$1\",\"Details\")","v":"Details"},{"$f":"HYPERLINK(Options!$B$1, \"Quote\")","v":"Quote"},{"$f":"HYPERLINK(Options!$B$2,\"Fax\")","v":"Fax"}]
["Walker DPW, City of","Pat Paas",null,null,null,null,null,null,{"$f":"HYPERLINK(\"#'Client Details'!$B$1\",\"Details\")","v":"Details"},{"$f":"HYPERLINK(Options!$B$1, \"Quote\")","v":"Quote"},{"$f":"HYPERLINK(Options!$B$2,\"Fax\")","v":"Fax"}]
["Walker DPW, City of (Koning)","Mark Koning"," 616-791-6868","mkoning@ci.walker.mi.us","Director","Municipal, Cty","Kent",null,{"$f":"HYPERLINK(\"#'Client Details'!$B$1\",\"Details\")","v":"Details"},{"$f":"HYPERLINK(Options!$B$1, \"Quote\")","v":"Quote"},{"$f":"HYPERLINK(Options!$B$2,\"Fax\")","v":"Fax"}]
["Walker DPW, City of (Postema)","Gary Postema"," 616-791-6867","gpostema@ci.walker.mi.us","Depy Director","Municipal, Cty","Kent",null,{"$f":"HYPERLINK(\"#'Client Details'!$B$1\",\"Details\")","v":"Details"},{"$f":"HYPERLINK(Options!$B$1, \"Quote\")","v":"Quote"},{"$f":"HYPERLINK(Options!$B$2,\"Fax\")","v":"Fax"}]
["WALK-IN",null,null,null,null,null,null,null,{"$f":"HYPERLINK(\"#'Client Details'!$B$1\",\"Details\")","v":"Details"},{"$f":"HYPERLINK(Options!$B$1, \"Quote\")","v":"Quote"},{"$f":"HYPERLINK(Options!$B$2,\"Fax\")","v":"Fax"}]
["Wallenstein Feed & Supply Ltd","Danielle Bailey","800-265-8858",null,null,null,null,null,{"$f":"HYPERLINK(\"#'Client Details'!$B$1\",\"Details\")","v":"Details"},{"$f":"HYPERLINK(Options!$B$1, \"Quote\")","v":"Quote"},{"$f":"HYPERLINK(Options!$B$2,\"Fax\")","v":"Fax"}]
["Wallenstein Feed & Supply Ltd. (Bailey)","Danielle Bailey"," 800-265-8858","daniellebailey@wfs.ca",null,"Food","Out of State",null,{"$f":"HYPERLINK(\"#'Client Details'!$B$1\",\"Details\")","v":"Details"},{"$f":"HYPERLINK(Options!$B$1, \"Quote\")","v":"Quote"},{"$f":"HYPERLINK(Options!$B$2,\"Fax\")","v":"Fax"}]
["Walter N. Yoder & Sons, Inc.",null,"301-697-0808",null,null,null,null,null,{"$f":"HYPERLINK(\"#'Client Details'!$B$1\",\"Details\")","v":"Details"},{"$f":"HYPERLINK(Options!$B$1, \"Quote\")","v":"Quote"},{"$f":"HYPERLINK(Options!$B$2,\"Fax\")","v":"Fax"}]
["Walters Gardens","Jim Shoemaker","800-925-8377 x202","www.designerdaylily.com",null,null,null,null,{"$f":"HYPERLINK(\"#'Client Details'!$B$1\",\"Details\")","v":"Details"},{"$f":"HYPERLINK(Options!$B$1, \"Quote\")","v":"Quote"},{"$f":"HYPERLINK(Options!$B$2,\"Fax\")","v":"Fax"}]
["Walters Gardens (Fynewever)","Dan Fynewever",null,"drf@waltersgardens.com",null,"Other","Ottawa",null,{"$f":"HYPERLINK(\"#'Client Details'!$B$1\",\"Details\")","v":"Details"},{"$f":"HYPERLINK(Options!$B$1, \"Quote\")","v":"Quote"},{"$f":"HYPERLINK(Options!$B$2,\"Fax\")","v":"Fax"}]
["Walters Gardens (Westendorp)","Jeff Westendorp"," 616-772-5975","jaw@waltersgardens.com","Plant Health Manager","Agriculture","Ottawa",null,{"$f":"HYPERLINK(\"#'Client Details'!$B$1\",\"Details\")","v":"Details"},{"$f":"HYPERLINK(Options!$B$1, \"Quote\")","v":"Quote"},{"$f":"HYPERLINK(Options!$B$2,\"Fax\")","v":"Fax"}]
["Walters Gardens, Inc. (Shoemaker)","Jim Shoemaker"," 616-772-5975",null,"Credit Manager",null,"Ottawa",null,{"$f":"HYPERLINK(\"#'Client Details'!$B$1\",\"Details\")","v":"Details"},{"$f":"HYPERLINK(Options!$B$1, \"Quote\")","v":"Quote"},{"$f":"HYPERLINK(Options!$B$2,\"Fax\")","v":"Fax"}]
["Waltz-Holst Blow Pipe Co.",null,"616-676-8119",null,null,null,null,null,{"$f":"HYPERLINK(\"#'Client Details'!$B$1\",\"Details\")","v":"Details"},{"$f":"HYPERLINK(Options!$B$1, \"Quote\")","v":"Quote"},{"$f":"HYPERLINK(Options!$B$2,\"Fax\")","v":"Fax"}]
["Waltz-Holst Blow Pipe Co. (Lang)","Don Lang"," 616-676-8119","dlang@waltzholst.com","Controller","Contractor HVAC","Kent",null,{"$f":"HYPERLINK(\"#'Client Details'!$B$1\",\"Details\")","v":"Details"},{"$f":"HYPERLINK(Options!$B$1, \"Quote\")","v":"Quote"},{"$f":"HYPERLINK(Options!$B$2,\"Fax\")","v":"Fax"}]
["Ward Electric, Inc. (Ward)","Mike Ward"," 616-676-9675","mikeward36@aol.com","Owner","Contractor Electrical","Kent",null,{"$f":"HYPERLINK(\"#'Client Details'!$B$1\",\"Details\")","v":"Details"},{"$f":"HYPERLINK(Options!$B$1, \"Quote\")","v":"Quote"},{"$f":"HYPERLINK(Options!$B$2,\"Fax\")","v":"Fax"}]
["Washington Mutual Bank (Hartman)","Larry Hartman"," 714-428-4805","larry.hartman@wamu.net",null,"Contractor EH&S","Out of State",null,{"$f":"HYPERLINK(\"#'Client Details'!$B$1\",\"Details\")","v":"Details"},{"$f":"HYPERLINK(Options!$B$1, \"Quote\")","v":"Quote"},{"$f":"HYPERLINK(Options!$B$2,\"Fax\")","v":"Fax"}]
["Waste Management.",null,null,null,null,null,null,null,{"$f":"HYPERLINK(\"#'Client Details'!$B$1\",\"Details\")","v":"Details"},{"$f":"HYPERLINK(Options!$B$1, \"Quote\")","v":"Quote"},{"$f":"HYPERLINK(Options!$B$2,\"Fax\")","v":"Fax"}]
["Watco Mechanical Services","Nichole Chamberlin","814-695-5691",null,null,null,null,null,{"$f":"HYPERLINK(\"#'Client Details'!$B$1\",\"Details\")","v":"Details"},{"$f":"HYPERLINK(Options!$B$1, \"Quote\")","v":"Quote"},{"$f":"HYPERLINK(Options!$B$2,\"Fax\")","v":"Fax"}]
["Watco Mechanical Services (Barroner)","Ray Barroner"," 814-695-5691 236","rbarroner@watcocompanies.com",null,"Other","Out of State",null,{"$f":"HYPERLINK(\"#'Client Details'!$B$1\",\"Details\")","v":"Details"},{"$f":"HYPERLINK(Options!$B$1, \"Quote\")","v":"Quote"},{"$f":"HYPERLINK(Options!$B$2,\"Fax\")","v":"Fax"}]
["Waterville Sheet Metal Company, Inc.",null,"419-878-5050",null,null,null,null,null,{"$f":"HYPERLINK(\"#'Client Details'!$B$1\",\"Details\")","v":"Details"},{"$f":"HYPERLINK(Options!$B$1, \"Quote\")","v":"Quote"},{"$f":"HYPERLINK(Options!$B$2,\"Fax\")","v":"Fax"}]
["Wayland, City of","Stan Gulch","269-792-0686",null,null,null,null,null,{"$f":"HYPERLINK(\"#'Client Details'!$B$1\",\"Details\")","v":"Details"},{"$f":"HYPERLINK(Options!$B$1, \"Quote\")","v":"Quote"},{"$f":"HYPERLINK(Options!$B$2,\"Fax\")","v":"Fax"}]
["Wayland, City of (Adams)","Phil Adams"," 269-792-2581","walyalnd@accn.org","DPW Crew Leader","Municipal, Cty","Allegan",null,{"$f":"HYPERLINK(\"#'Client Details'!$B$1\",\"Details\")","v":"Details"},{"$f":"HYPERLINK(Options!$B$1, \"Quote\")","v":"Quote"},{"$f":"HYPERLINK(Options!$B$2,\"Fax\")","v":"Fax"}]
["Wayland, City of (Brazeau)","Pierre Brazeau"," 269-792-0686","waywater@accn.org","Water / Wastewater Superintend","Municipal, Cty","Allegan",null,{"$f":"HYPERLINK(\"#'Client Details'!$B$1\",\"Details\")","v":"Details"},{"$f":"HYPERLINK(Options!$B$1, \"Quote\")","v":"Quote"},{"$f":"HYPERLINK(Options!$B$2,\"Fax\")","v":"Fax"}]
["Weather Shield Roofing (Bush)","Jim Bush"," 616-243-4040 111","rvaneck@roofsbuilttolast.com","Owner/President","Contractor General","Kent",null,{"$f":"HYPERLINK(\"#'Client Details'!$B$1\",\"Details\")","v":"Details"},{"$f":"HYPERLINK(Options!$B$1, \"Quote\")","v":"Quote"},{"$f":"HYPERLINK(Options!$B$2,\"Fax\")","v":"Fax"}]
["Weather Shield Roofing Systems","Nate Bush","616-243-4040",null,null,null,null,null,{"$f":"HYPERLINK(\"#'Client Details'!$B$1\",\"Details\")","v":"Details"},{"$f":"HYPERLINK(Options!$B$1, \"Quote\")","v":"Quote"},{"$f":"HYPERLINK(Options!$B$2,\"Fax\")","v":"Fax"}]
["WEBB Chemical Service Corp. (Baker)","Melissa Baker"," 231-733-2181",null,"EH&S",null,"Muskegon",null,{"$f":"HYPERLINK(\"#'Client Details'!$B$1\",\"Details\")","v":"Details"},{"$f":"HYPERLINK(Options!$B$1, \"Quote\")","v":"Quote"},{"$f":"HYPERLINK(Options!$B$2,\"Fax\")","v":"Fax"}]
["WEBB Chemical Service Corp. (Convertini)","Kolin Convertini"," 231-733-2181",null,"Plant Manager","Chemical Services","Muskegon",null,{"$f":"HYPERLINK(\"#'Client Details'!$B$1\",\"Details\")","v":"Details"},{"$f":"HYPERLINK(Options!$B$1, \"Quote\")","v":"Quote"},{"$f":"HYPERLINK(Options!$B$2,\"Fax\")","v":"Fax"}]
["WEBB Chemical Service Corp. (Lynn)","Greg Lynn"," 231-733-2181",null,"Warehouse Manager",null,"Muskegon",null,{"$f":"HYPERLINK(\"#'Client Details'!$B$1\",\"Details\")","v":"Details"},{"$f":"HYPERLINK(Options!$B$1, \"Quote\")","v":"Quote"},{"$f":"HYPERLINK(Options!$B$2,\"Fax\")","v":"Fax"}]
["WEBB Chemical Service Corp. (Peterson)","Todd Peterson"," 231-733-2181",null,"Plant Maintenance Lead",null,"Muskegon",null,{"$f":"HYPERLINK(\"#'Client Details'!$B$1\",\"Details\")","v":"Details"},{"$f":"HYPERLINK(Options!$B$1, \"Quote\")","v":"Quote"},{"$f":"HYPERLINK(Options!$B$2,\"Fax\")","v":"Fax"}]
["Webb Electric of Grand Rapids, Inc. (Webb","Brad Webb"," 616-451-2298","webbelectricbrad@tds.net",null,"Contractor Electrical","Kent",null,{"$f":"HYPERLINK(\"#'Client Details'!$B$1\",\"Details\")","v":"Details"},{"$f":"HYPERLINK(Options!$B$1, \"Quote\")","v":"Quote"},{"$f":"HYPERLINK(Options!$B$2,\"Fax\")","v":"Fax"}]
["Weber Precision Grinding ()",null," 616-842-1634",null,null,"Finishing","Ottawa",null,{"$f":"HYPERLINK(\"#'Client Details'!$B$1\",\"Details\")","v":"Details"},{"$f":"HYPERLINK(Options!$B$1, \"Quote\")","v":"Quote"},{"$f":"HYPERLINK(Options!$B$2,\"Fax\")","v":"Fax"}]
["Wedeven Bros. Construction Co. (Wedeven)","Paul Wedeven"," 269-751-5903",null,"President",null,"Ottawa",null,{"$f":"HYPERLINK(\"#'Client Details'!$B$1\",\"Details\")","v":"Details"},{"$f":"HYPERLINK(Options!$B$1, \"Quote\")","v":"Quote"},{"$f":"HYPERLINK(Options!$B$2,\"Fax\")","v":"Fax"}]
["Welch Tile and Marble (Rick)","Rick"," 616-675-4740",null,"Manager",null,"Tile and Marble Installers",null,{"$f":"HYPERLINK(\"#'Client Details'!$B$1\",\"Details\")","v":"Details"},{"$f":"HYPERLINK(Options!$B$1, \"Quote\")","v":"Quote"},{"$f":"HYPERLINK(Options!$B$2,\"Fax\")","v":"Fax"}]
["Weld-Tec Inc. (Harmsen)","Herm Harmsen"," 616-895-9122",null,"Owner","Wellding/Grinding/Custom Fab","Ottawa",null,{"$f":"HYPERLINK(\"#'Client Details'!$B$1\",\"Details\")","v":"Details"},{"$f":"HYPERLINK(Options!$B$1, \"Quote\")","v":"Quote"},{"$f":"HYPERLINK(Options!$B$2,\"Fax\")","v":"Fax"}]
["Weller Radiator","Terry Westedt",null,null,null,null,null,null,{"$f":"HYPERLINK(\"#'Client Details'!$B$1\",\"Details\")","v":"Details"},{"$f":"HYPERLINK(Options!$B$1, \"Quote\")","v":"Quote"},{"$f":"HYPERLINK(Options!$B$2,\"Fax\")","v":"Fax"}]
["Weller Radiator (Westedt)","Terry Westedt"," 616-538-8969","twestedt@partsbyweller.com",null,"Automotive","Kent",null,{"$f":"HYPERLINK(\"#'Client Details'!$B$1\",\"Details\")","v":"Details"},{"$f":"HYPERLINK(Options!$B$1, \"Quote\")","v":"Quote"},{"$f":"HYPERLINK(Options!$B$2,\"Fax\")","v":"Fax"}]
["Wells Fargo Insurance Services"," Eric Krieger","616-336-0103",null,null,null,null,null,{"$f":"HYPERLINK(\"#'Client Details'!$B$1\",\"Details\")","v":"Details"},{"$f":"HYPERLINK(Options!$B$1, \"Quote\")","v":"Quote"},{"$f":"HYPERLINK(Options!$B$2,\"Fax\")","v":"Fax"}]
["Wells Fargo Insurance Services (Krieger)","Eric Krieger"," 616-336-0103","eric_krieger@wellsfargois.com","Risk Control Consultant","Insurance","Kent",null,{"$f":"HYPERLINK(\"#'Client Details'!$B$1\",\"Details\")","v":"Details"},{"$f":"HYPERLINK(Options!$B$1, \"Quote\")","v":"Quote"},{"$f":"HYPERLINK(Options!$B$2,\"Fax\")","v":"Fax"}]
["WESCO (Furrow)","Tim Furrow"," 616-241-2002","tfurrow@wesco.com","Branch Manager","Representative","Kent",null,{"$f":"HYPERLINK(\"#'Client Details'!$B$1\",\"Details\")","v":"Details"},{"$f":"HYPERLINK(Options!$B$1, \"Quote\")","v":"Quote"},{"$f":"HYPERLINK(Options!$B$2,\"Fax\")","v":"Fax"}]
["Wesco (Hammond)","Brandon Hammond"," 269-764-2036",null,"Onsite EH&S Representative","Representative","Van Buren",null,{"$f":"HYPERLINK(\"#'Client Details'!$B$1\",\"Details\")","v":"Details"},{"$f":"HYPERLINK(Options!$B$1, \"Quote\")","v":"Quote"},{"$f":"HYPERLINK(Options!$B$2,\"Fax\")","v":"Fax"}]
["WESCO (Poort)","Jim Poort"," 616-827-6983",null,null,"Representative","Kent",null,{"$f":"HYPERLINK(\"#'Client Details'!$B$1\",\"Details\")","v":"Details"},{"$f":"HYPERLINK(Options!$B$1, \"Quote\")","v":"Quote"},{"$f":"HYPERLINK(Options!$B$2,\"Fax\")","v":"Fax"}]
["WESCO (Welch)","Tricia Welch"," 616-241-2002","twelch@wesco.com",null,"Representative","Kent",null,{"$f":"HYPERLINK(\"#'Client Details'!$B$1\",\"Details\")","v":"Details"},{"$f":"HYPERLINK(Options!$B$1, \"Quote\")","v":"Quote"},{"$f":"HYPERLINK(Options!$B$2,\"Fax\")","v":"Fax"}]
["Wesco Distrbution, Inc. (Pittsburgh) (Aft","Curt Aftanas"," 412-454-2547","caftanas@wesco.com",null,"Representative","Out of State",null,{"$f":"HYPERLINK(\"#'Client Details'!$B$1\",\"Details\")","v":"Details"},{"$f":"HYPERLINK(Options!$B$1, \"Quote\")","v":"Quote"},{"$f":"HYPERLINK(Options!$B$2,\"Fax\")","v":"Fax"}]
["Wesco Distribution (Grand Rapids)","payables Amy Roach","616-241-2002","See note for ext #s",null,null,null,null,{"$f":"HYPERLINK(\"#'Client Details'!$B$1\",\"Details\")","v":"Details"},{"$f":"HYPERLINK(Options!$B$1, \"Quote\")","v":"Quote"},{"$f":"HYPERLINK(Options!$B$2,\"Fax\")","v":"Fax"}]
["Wesco Distribution Icc.","Melinda Wood","888-516-9080",null,null,null,null,null,{"$f":"HYPERLINK(\"#'Client Details'!$B$1\",\"Details\")","v":"Details"},{"$f":"HYPERLINK(Options!$B$1, \"Quote\")","v":"Quote"},{"$f":"HYPERLINK(Options!$B$2,\"Fax\")","v":"Fax"}]
["West Michigan Benefits, Inc. (Nickel)","Jason Nickel"," 616-785-9373",null,"Sales Representative","Supplier","Kent",null,{"$f":"HYPERLINK(\"#'Client Details'!$B$1\",\"Details\")","v":"Details"},{"$f":"HYPERLINK(Options!$B$1, \"Quote\")","v":"Quote"},{"$f":"HYPERLINK(Options!$B$2,\"Fax\")","v":"Fax"}]
["West Michigan Benefits, Inc. (Spratling)","Sandy Spratling"," 616-785-9373",null,null,"Supplier","Kent",null,{"$f":"HYPERLINK(\"#'Client Details'!$B$1\",\"Details\")","v":"Details"},{"$f":"HYPERLINK(Options!$B$1, \"Quote\")","v":"Quote"},{"$f":"HYPERLINK(Options!$B$2,\"Fax\")","v":"Fax"}]
["West Michigan Cabinet Supply (Sterk)","Steve Sterk"," 616-896-6990",null,"President","Manufacturer","Ottawa",null,{"$f":"HYPERLINK(\"#'Client Details'!$B$1\",\"Details\")","v":"Details"},{"$f":"HYPERLINK(Options!$B$1, \"Quote\")","v":"Quote"},{"$f":"HYPERLINK(Options!$B$2,\"Fax\")","v":"Fax"}]
["West Michigan Dock & Market","Jeff Whalen","231-722-6932",null,null,null,null,null,{"$f":"HYPERLINK(\"#'Client Details'!$B$1\",\"Details\")","v":"Details"},{"$f":"HYPERLINK(Options!$B$1, \"Quote\")","v":"Quote"},{"$f":"HYPERLINK(Options!$B$2,\"Fax\")","v":"Fax"}]
["West Michigan Dock & Market (Whalen)","Jeff Whalen"," 231-722-6932",null,"Logistics Manager","Marine Storage and Service","Muskegon",null,{"$f":"HYPERLINK(\"#'Client Details'!$B$1\",\"Details\")","v":"Details"},{"$f":"HYPERLINK(Options!$B$1, \"Quote\")","v":"Quote"},{"$f":"HYPERLINK(Options!$B$2,\"Fax\")","v":"Fax"}]
["West Michigan Glass Coating",null,"800-638-8468",null,null,null,null,null,{"$f":"HYPERLINK(\"#'Client Details'!$B$1\",\"Details\")","v":"Details"},{"$f":"HYPERLINK(Options!$B$1, \"Quote\")","v":"Quote"},{"$f":"HYPERLINK(Options!$B$2,\"Fax\")","v":"Fax"}]
["West Michigan Roofing & Construction (Meg","Michael Megna"," 616-846-1536",null,"Estimator","Contractor General","Ottawa",null,{"$f":"HYPERLINK(\"#'Client Details'!$B$1\",\"Details\")","v":"Details"},{"$f":"HYPERLINK(Options!$B$1, \"Quote\")","v":"Quote"},{"$f":"HYPERLINK(Options!$B$2,\"Fax\")","v":"Fax"}]
["West Michigan Scales","Tom Bieberle","269-685-9521",null,null,null,null,null,{"$f":"HYPERLINK(\"#'Client Details'!$B$1\",\"Details\")","v":"Details"},{"$f":"HYPERLINK(Options!$B$1, \"Quote\")","v":"Quote"},{"$f":"HYPERLINK(Options!$B$2,\"Fax\")","v":"Fax"}]
["West Olive Nursery (Shannon)","Shannon"," 616-399-6184",null,"General Manager",null,"Ottawa",null,{"$f":"HYPERLINK(\"#'Client Details'!$B$1\",\"Details\")","v":"Details"},{"$f":"HYPERLINK(Options!$B$1, \"Quote\")","v":"Quote"},{"$f":"HYPERLINK(Options!$B$2,\"Fax\")","v":"Fax"}]
["West Shore Fire Inc. (Waldrop)","Bob Waldrop"," 800-632-6184",null,"Sales Manager","Competitor","Ottawa",null,{"$f":"HYPERLINK(\"#'Client Details'!$B$1\",\"Details\")","v":"Details"},{"$f":"HYPERLINK(Options!$B$1, \"Quote\")","v":"Quote"},{"$f":"HYPERLINK(Options!$B$2,\"Fax\")","v":"Fax"}]
["West Shore Medical Center (Fark)","Louann Fark"," 231-398-1170",null,null,null,"Manistee",null,{"$f":"HYPERLINK(\"#'Client Details'!$B$1\",\"Details\")","v":"Details"},{"$f":"HYPERLINK(Options!$B$1, \"Quote\")","v":"Quote"},{"$f":"HYPERLINK(Options!$B$2,\"Fax\")","v":"Fax"}]
["Western Michigan University","Dave Kotecki","269-387-5590",null,null,null,null,null,{"$f":"HYPERLINK(\"#'Client Details'!$B$1\",\"Details\")","v":"Details"},{"$f":"HYPERLINK(Options!$B$1, \"Quote\")","v":"Quote"},{"$f":"HYPERLINK(Options!$B$2,\"Fax\")","v":"Fax"}]
["Western Michigan University (Goes)","John Goes"," 269-387-8556","john.goes@wmich.edu","Director","University","Kalamazoo",null,{"$f":"HYPERLINK(\"#'Client Details'!$B$1\",\"Details\")","v":"Details"},{"$f":"HYPERLINK(Options!$B$1, \"Quote\")","v":"Quote"},{"$f":"HYPERLINK(Options!$B$2,\"Fax\")","v":"Fax"}]
["Western Michigan University (Holton)","Patricia Holton"," 269-387-5590","patricia.holton@wmich.edu","Manager, Environmental Health","University","Kalamazoo",null,{"$f":"HYPERLINK(\"#'Client Details'!$B$1\",\"Details\")","v":"Details"},{"$f":"HYPERLINK(Options!$B$1, \"Quote\")","v":"Quote"},{"$f":"HYPERLINK(Options!$B$2,\"Fax\")","v":"Fax"}]
["Western Michigan University (Kotecki)","David Kotecki"," 269-387-5589","david.kotecki@wmich.edu","Industrial Hygienist","School","Kalamazoo",null,{"$f":"HYPERLINK(\"#'Client Details'!$B$1\",\"Details\")","v":"Details"},{"$f":"HYPERLINK(Options!$B$1, \"Quote\")","v":"Quote"},{"$f":"HYPERLINK(Options!$B$2,\"Fax\")","v":"Fax"}]
["Western Michigan University (Penskar)","Don Penskar"," 269-387-8800","donald.penskar@wmich.edu","Director, Logistical Services","University","Kalamazoo",null,{"$f":"HYPERLINK(\"#'Client Details'!$B$1\",\"Details\")","v":"Details"},{"$f":"HYPERLINK(Options!$B$1, \"Quote\")","v":"Quote"},{"$f":"HYPERLINK(Options!$B$2,\"Fax\")","v":"Fax"}]
["Western Michigan University College of En","Jim VanDePolder"," 269-276-3378","james.vandepolder@wmich.edu","Faculty","University","Kalamazoo",null,{"$f":"HYPERLINK(\"#'Client Details'!$B$1\",\"Details\")","v":"Details"},{"$f":"HYPERLINK(Options!$B$1, \"Quote\")","v":"Quote"},{"$f":"HYPERLINK(Options!$B$2,\"Fax\")","v":"Fax"}]
["Western TelComm (Lee)","Dan Lee"," 616-393-0138",null,"EH&S","Utility","Ottawa",null,{"$f":"HYPERLINK(\"#'Client Details'!$B$1\",\"Details\")","v":"Details"},{"$f":"HYPERLINK(Options!$B$1, \"Quote\")","v":"Quote"},{"$f":"HYPERLINK(Options!$B$2,\"Fax\")","v":"Fax"}]
["Westmaas Electric Company (Westmaas)","Scott Westmaas"," 616-247-1185",null,null,"Contractor Electrical","Kent",null,{"$f":"HYPERLINK(\"#'Client Details'!$B$1\",\"Details\")","v":"Details"},{"$f":"HYPERLINK(Options!$B$1, \"Quote\")","v":"Quote"},{"$f":"HYPERLINK(Options!$B$2,\"Fax\")","v":"Fax"}]
["Wexford County Road Commission (Hawkins)","Jerry Hawkins"," 231-775-9731 3030",null,"Superintendent","Municipal, Cty","Wexford",null,{"$f":"HYPERLINK(\"#'Client Details'!$B$1\",\"Details\")","v":"Details"},{"$f":"HYPERLINK(Options!$B$1, \"Quote\")","v":"Quote"},{"$f":"HYPERLINK(Options!$B$2,\"Fax\")","v":"Fax"}]
["Wexford Sand Company- Fairmount Minerals","Sandy","231-389-2819",null,null,null,null,null,{"$f":"HYPERLINK(\"#'Client Details'!$B$1\",\"Details\")","v":"Details"},{"$f":"HYPERLINK(Options!$B$1, \"Quote\")","v":"Quote"},{"$f":"HYPERLINK(Options!$B$2,\"Fax\")","v":"Fax"}]
["Wharf Marina (Fischer)","CJ Fischer"," 616-842-5370",null,"Manager","Marine","Ottawa",null,{"$f":"HYPERLINK(\"#'Client Details'!$B$1\",\"Details\")","v":"Details"},{"$f":"HYPERLINK(Options!$B$1, \"Quote\")","v":"Quote"},{"$f":"HYPERLINK(Options!$B$2,\"Fax\")","v":"Fax"}]
["Whirlpool Corporation(Jones Lang Lasalle)","Steve Roth"," 269-923-3400",null,"EH&S Manager","Manufacturer","Berrien",null,{"$f":"HYPERLINK(\"#'Client Details'!$B$1\",\"Details\")","v":"Details"},{"$f":"HYPERLINK(Options!$B$1, \"Quote\")","v":"Quote"},{"$f":"HYPERLINK(Options!$B$2,\"Fax\")","v":"Fax"}]
["White Cap Construction Supply","Greg Spiros","216-642-9225",null,null,null,null,null,{"$f":"HYPERLINK(\"#'Client Details'!$B$1\",\"Details\")","v":"Details"},{"$f":"HYPERLINK(Options!$B$1, \"Quote\")","v":"Quote"},{"$f":"HYPERLINK(Options!$B$2,\"Fax\")","v":"Fax"}]
["White Industrial Services",null,"616-691-8660",null,null,null,null,null,{"$f":"HYPERLINK(\"#'Client Details'!$B$1\",\"Details\")","v":"Details"},{"$f":"HYPERLINK(Options!$B$1, \"Quote\")","v":"Quote"},{"$f":"HYPERLINK(Options!$B$2,\"Fax\")","v":"Fax"}]
["White Pigeon Paper Company",null,"269-483-7601 x-4241",null,null,null,null,null,{"$f":"HYPERLINK(\"#'Client Details'!$B$1\",\"Details\")","v":"Details"},{"$f":"HYPERLINK(Options!$B$1, \"Quote\")","v":"Quote"},{"$f":"HYPERLINK(Options!$B$2,\"Fax\")","v":"Fax"}]
["White Pigeon Township Fire Department (An","Troy Andrews"," 269-483-9414","andrewswpfd@yahoo.com",null,"Fire Department","St. Joseph",null,{"$f":"HYPERLINK(\"#'Client Details'!$B$1\",\"Details\")","v":"Details"},{"$f":"HYPERLINK(Options!$B$1, \"Quote\")","v":"Quote"},{"$f":"HYPERLINK(Options!$B$2,\"Fax\")","v":"Fax"}]
["Whitehall DPW, City of",null,"231-894-4157",null,null,null,null,null,{"$f":"HYPERLINK(\"#'Client Details'!$B$1\",\"Details\")","v":"Details"},{"$f":"HYPERLINK(Options!$B$1, \"Quote\")","v":"Quote"},{"$f":"HYPERLINK(Options!$B$2,\"Fax\")","v":"Fax"}]
["Whitehall DPW, City of (Armstrong)","Brian Armstrong"," 231-894-4157","armstrong@cityofwhitehall.org","Director","Municipal, Cty","Muskegon",null,{"$f":"HYPERLINK(\"#'Client Details'!$B$1\",\"Details\")","v":"Details"},{"$f":"HYPERLINK(Options!$B$1, \"Quote\")","v":"Quote"},{"$f":"HYPERLINK(Options!$B$2,\"Fax\")","v":"Fax"}]
["Whitehall DPW, City of (Van Geison)","Jack Van Geison"," 231-894-4157",null,"Streets & Utilities Supervisor","Municipal, Cty","Muskegon",null,{"$f":"HYPERLINK(\"#'Client Details'!$B$1\",\"Details\")","v":"Details"},{"$f":"HYPERLINK(Options!$B$1, \"Quote\")","v":"Quote"},{"$f":"HYPERLINK(Options!$B$2,\"Fax\")","v":"Fax"}]
["Whitehall Fire Dept. (Krzykwa)","Chuck Krzykwa"," 231-894-2688","ckrzykwa@whitehallproducts.com","V.P. Manufacturing","Manufacturer","Muskegon",null,{"$f":"HYPERLINK(\"#'Client Details'!$B$1\",\"Details\")","v":"Details"},{"$f":"HYPERLINK(Options!$B$1, \"Quote\")","v":"Quote"},{"$f":"HYPERLINK(Options!$B$2,\"Fax\")","v":"Fax"}]
["Whitehall Fire Dept., City of (Stevens)","Brian Stevens"," 231-578-4537","brian@westshorehomeinspections.com",null,null,"Muskegon",null,{"$f":"HYPERLINK(\"#'Client Details'!$B$1\",\"Details\")","v":"Details"},{"$f":"HYPERLINK(Options!$B$1, \"Quote\")","v":"Quote"},{"$f":"HYPERLINK(Options!$B$2,\"Fax\")","v":"Fax"}]
["Whitehall Industries (Krupinski)","Dan Krupinski"," 231-845-5101 141",null,"Maintenance",null,"Auto Manufacturing",null,{"$f":"HYPERLINK(\"#'Client Details'!$B$1\",\"Details\")","v":"Details"},{"$f":"HYPERLINK(Options!$B$1, \"Quote\")","v":"Quote"},{"$f":"HYPERLINK(Options!$B$2,\"Fax\")","v":"Fax"}]
["Whitehall Parks and Cemetery Dep't. (Kimp","Connie Kimpagne"," 231-894-2167",null,"Supervisor","Municipality","Muskegon",null,{"$f":"HYPERLINK(\"#'Client Details'!$B$1\",\"Details\")","v":"Details"},{"$f":"HYPERLINK(Options!$B$1, \"Quote\")","v":"Quote"},{"$f":"HYPERLINK(Options!$B$2,\"Fax\")","v":"Fax"}]
["Whitehall Products","Chuck Krzykwa","231-894-2688",null,null,null,null,null,{"$f":"HYPERLINK(\"#'Client Details'!$B$1\",\"Details\")","v":"Details"},{"$f":"HYPERLINK(Options!$B$1, \"Quote\")","v":"Quote"},{"$f":"HYPERLINK(Options!$B$2,\"Fax\")","v":"Fax"}]
["Whitehall Products (Santose)","Jeremy Santose"," 231-893-5606 229","jsantose@whitehallproducts.com","Purchasing Manager",null,"Muskegon",null,{"$f":"HYPERLINK(\"#'Client Details'!$B$1\",\"Details\")","v":"Details"},{"$f":"HYPERLINK(Options!$B$1, \"Quote\")","v":"Quote"},{"$f":"HYPERLINK(Options!$B$2,\"Fax\")","v":"Fax"}]
["Whitehall Products, Ltd. (Hammond)","Patti Hammond"," 231-894-2342",null,"EH&S/ HR","Manufacturing -non auto-","Muskegon",null,{"$f":"HYPERLINK(\"#'Client Details'!$B$1\",\"Details\")","v":"Details"},{"$f":"HYPERLINK(Options!$B$1, \"Quote\")","v":"Quote"},{"$f":"HYPERLINK(Options!$B$2,\"Fax\")","v":"Fax"}]
["Wilbur Ellis Co. (Schoenborn)","Kevin Schoenborn"," 231-834-5689",null,"Site Supervisor",null,"Muskegon",null,{"$f":"HYPERLINK(\"#'Client Details'!$B$1\",\"Details\")","v":"Details"},{"$f":"HYPERLINK(Options!$B$1, \"Quote\")","v":"Quote"},{"$f":"HYPERLINK(Options!$B$2,\"Fax\")","v":"Fax"}]
["Wilbur-Ellis Company","Gerrit Herrygers","231-742-1265",null,null,null,null,null,{"$f":"HYPERLINK(\"#'Client Details'!$B$1\",\"Details\")","v":"Details"},{"$f":"HYPERLINK(Options!$B$1, \"Quote\")","v":"Quote"},{"$f":"HYPERLINK(Options!$B$2,\"Fax\")","v":"Fax"}]
["Wilbur-Ellis company (Edmore)","Dale Dosenberry","989-560-8514 cell",null,null,null,null,null,{"$f":"HYPERLINK(\"#'Client Details'!$B$1\",\"Details\")","v":"Details"},{"$f":"HYPERLINK(Options!$B$1, \"Quote\")","v":"Quote"},{"$f":"HYPERLINK(Options!$B$2,\"Fax\")","v":"Fax"}]
["Wilcox Engineering ((none))","(none)"," 231-775-7755",null,"Safety Manager","Engineering, Architecture","Wexford",null,{"$f":"HYPERLINK(\"#'Client Details'!$B$1\",\"Details\")","v":"Details"},{"$f":"HYPERLINK(Options!$B$1, \"Quote\")","v":"Quote"},{"$f":"HYPERLINK(Options!$B$2,\"Fax\")","v":"Fax"}]
["William G Simmons Co","Bill Simmons ext-2","540-726-2436",null,null,null,null,null,{"$f":"HYPERLINK(\"#'Client Details'!$B$1\",\"Details\")","v":"Details"},{"$f":"HYPERLINK(Options!$B$1, \"Quote\")","v":"Quote"},{"$f":"HYPERLINK(Options!$B$2,\"Fax\")","v":"Fax"}]
["William J. Simon CPA (Simon)","Bill Simon"," 616-458-2122","wjsimoncpa@aol.com",null,"Supplier","Kent",null,{"$f":"HYPERLINK(\"#'Client Details'!$B$1\",\"Details\")","v":"Details"},{"$f":"HYPERLINK(Options!$B$1, \"Quote\")","v":"Quote"},{"$f":"HYPERLINK(Options!$B$2,\"Fax\")","v":"Fax"}]
["Williams & Works",null,"616-224-1500",null,null,null,null,null,{"$f":"HYPERLINK(\"#'Client Details'!$B$1\",\"Details\")","v":"Details"},{"$f":"HYPERLINK(Options!$B$1, \"Quote\")","v":"Quote"},{"$f":"HYPERLINK(Options!$B$2,\"Fax\")","v":"Fax"}]
["Williams & Works, Inc. (Leitch)","Jim Leitch"," 616-224-1500","leitch@williams-works.com","GPS Survey Project Manager","Engineering, Architecture","Kent",null,{"$f":"HYPERLINK(\"#'Client Details'!$B$1\",\"Details\")","v":"Details"},{"$f":"HYPERLINK(Options!$B$1, \"Quote\")","v":"Quote"},{"$f":"HYPERLINK(Options!$B$2,\"Fax\")","v":"Fax"}]
["Williams Plant Services","Jim Hall",null,null,null,null,null,null,{"$f":"HYPERLINK(\"#'Client Details'!$B$1\",\"Details\")","v":"Details"},{"$f":"HYPERLINK(Options!$B$1, \"Quote\")","v":"Quote"},{"$f":"HYPERLINK(Options!$B$2,\"Fax\")","v":"Fax"}]
["Williams Plant Services (Bauer)","Tom Bauer"," 269-764-3179",null,"Site Safety Manager",null,"Out of State",null,{"$f":"HYPERLINK(\"#'Client Details'!$B$1\",\"Details\")","v":"Details"},{"$f":"HYPERLINK(Options!$B$1, \"Quote\")","v":"Quote"},{"$f":"HYPERLINK(Options!$B$2,\"Fax\")","v":"Fax"}]
["Williams Plant Services (Brewer)","Heather Brewer"," 269-764-2758",null,"Procurement Specialist",null,"Out of State",null,{"$f":"HYPERLINK(\"#'Client Details'!$B$1\",\"Details\")","v":"Details"},{"$f":"HYPERLINK(Options!$B$1, \"Quote\")","v":"Quote"},{"$f":"HYPERLINK(Options!$B$2,\"Fax\")","v":"Fax"}]
["Williams Plant Services (Hall)","Jim Hall"," 269-764-3642","jhal105@entergy.com","Site Safety Manager","Utility","Out of State",null,{"$f":"HYPERLINK(\"#'Client Details'!$B$1\",\"Details\")","v":"Details"},{"$f":"HYPERLINK(Options!$B$1, \"Quote\")","v":"Quote"},{"$f":"HYPERLINK(Options!$B$2,\"Fax\")","v":"Fax"}]
["Williams Plant Services (Mancil)","Jeff Mancil"," 269-764-3640","jmanc91@entergy.com","Site Supervisor","Power Plant Services","Out of State",null,{"$f":"HYPERLINK(\"#'Client Details'!$B$1\",\"Details\")","v":"Details"},{"$f":"HYPERLINK(Options!$B$1, \"Quote\")","v":"Quote"},{"$f":"HYPERLINK(Options!$B$2,\"Fax\")","v":"Fax"}]
["Williams Plant Services (Petoskey)","Keith Petoskey"," 269-764-3640","kpeto90@entergy.com","Site Superintendent","Power Plant Services","Out of State",null,{"$f":"HYPERLINK(\"#'Client Details'!$B$1\",\"Details\")","v":"Details"},{"$f":"HYPERLINK(Options!$B$1, \"Quote\")","v":"Quote"},{"$f":"HYPERLINK(Options!$B$2,\"Fax\")","v":"Fax"}]
["Williams Plant Services (Polzin)","Dennis Polzin"," 269-764-3600","dpol290@entergy.com","Site Superintendent","Power Plant Services","Out of State",null,{"$f":"HYPERLINK(\"#'Client Details'!$B$1\",\"Details\")","v":"Details"},{"$f":"HYPERLINK(Options!$B$1, \"Quote\")","v":"Quote"},{"$f":"HYPERLINK(Options!$B$2,\"Fax\")","v":"Fax"}]
["Williams Plant Services (Tlachac)","Ron Tlachac"," 269-764-3600","rtlac90@entergy.com","Site Engineer/ Supervisor","Power Plant Services","Out of State",null,{"$f":"HYPERLINK(\"#'Client Details'!$B$1\",\"Details\")","v":"Details"},{"$f":"HYPERLINK(Options!$B$1, \"Quote\")","v":"Quote"},{"$f":"HYPERLINK(Options!$B$2,\"Fax\")","v":"Fax"}]
["Williams Plant Services (Ulbin)","William Ulbin"," 269-764-2263","wulbi90@entergy.com",null,"Contractor General","Out of State",null,{"$f":"HYPERLINK(\"#'Client Details'!$B$1\",\"Details\")","v":"Details"},{"$f":"HYPERLINK(Options!$B$1, \"Quote\")","v":"Quote"},{"$f":"HYPERLINK(Options!$B$2,\"Fax\")","v":"Fax"}]
["Willis of Michigan, Inc. (McConnell)","John McConnell"," 616-827-1210","mcconnell_jr@willis.com","VP of Risk Control","Insurance","Kent",null,{"$f":"HYPERLINK(\"#'Client Details'!$B$1\",\"Details\")","v":"Details"},{"$f":"HYPERLINK(Options!$B$1, \"Quote\")","v":"Quote"},{"$f":"HYPERLINK(Options!$B$2,\"Fax\")","v":"Fax"}]
["Windemuller",null,"616-877-8770",null,null,null,null,null,{"$f":"HYPERLINK(\"#'Client Details'!$B$1\",\"Details\")","v":"Details"},{"$f":"HYPERLINK(Options!$B$1, \"Quote\")","v":"Quote"},{"$f":"HYPERLINK(Options!$B$2,\"Fax\")","v":"Fax"}]
["Windemuller Electric Inc. (Halik)","Joe Halik"," 616-877-8770","jhalik@windemuller.us","Project Manager","Contractor Electrical","Allegan",null,{"$f":"HYPERLINK(\"#'Client Details'!$B$1\",\"Details\")","v":"Details"},{"$f":"HYPERLINK(Options!$B$1, \"Quote\")","v":"Quote"},{"$f":"HYPERLINK(Options!$B$2,\"Fax\")","v":"Fax"}]
["Windemuller Electric Inc. (Kooistra)","Cheryl Kooistra"," 616-877-8770 207","ckooistra@windemuller.us","Safety Administrator","Contractor Electrical","Allegan",null,{"$f":"HYPERLINK(\"#'Client Details'!$B$1\",\"Details\")","v":"Details"},{"$f":"HYPERLINK(Options!$B$1, \"Quote\")","v":"Quote"},{"$f":"HYPERLINK(Options!$B$2,\"Fax\")","v":"Fax"}]
["Windemuller Electric Inc. (Windemuller)","Michael J. Windemuller"," 616-877-8770 215","mwindemuller@windemuller.us","CEO","Contractor Electrical","Allegan",null,{"$f":"HYPERLINK(\"#'Client Details'!$B$1\",\"Details\")","v":"Details"},{"$f":"HYPERLINK(Options!$B$1, \"Quote\")","v":"Quote"},{"$f":"HYPERLINK(Options!$B$2,\"Fax\")","v":"Fax"}]
["Windquest",null,"616-994-7687",null,null,null,null,null,{"$f":"HYPERLINK(\"#'Client Details'!$B$1\",\"Details\")","v":"Details"},{"$f":"HYPERLINK(Options!$B$1, \"Quote\")","v":"Quote"},{"$f":"HYPERLINK(Options!$B$2,\"Fax\")","v":"Fax"}]
["Witt Enterprises Inc.","Marybeth Gramley","440-992-8333",null,null,null,null,null,{"$f":"HYPERLINK(\"#'Client Details'!$B$1\",\"Details\")","v":"Details"},{"$f":"HYPERLINK(Options!$B$1, \"Quote\")","v":"Quote"},{"$f":"HYPERLINK(Options!$B$2,\"Fax\")","v":"Fax"}]
["Witt Mechanical","Mike Roberts","248-596-0460",null,null,null,null,null,{"$f":"HYPERLINK(\"#'Client Details'!$B$1\",\"Details\")","v":"Details"},{"$f":"HYPERLINK(Options!$B$1, \"Quote\")","v":"Quote"},{"$f":"HYPERLINK(Options!$B$2,\"Fax\")","v":"Fax"}]
["Wobig Construction Company (Roth)","Brian Roth"," 989-752-1294","wobigconst@sbcglobal.net",null,"Contractor General","Saginaw",null,{"$f":"HYPERLINK(\"#'Client Details'!$B$1\",\"Details\")","v":"Details"},{"$f":"HYPERLINK(Options!$B$1, \"Quote\")","v":"Quote"},{"$f":"HYPERLINK(Options!$B$2,\"Fax\")","v":"Fax"}]
["Wolf River Lumber, Inc. (Shultz)","Glayds Shultz"," 920-982-2542","gladys@wolfriverlumber.com","Safety","Lumber","Waupaca",null,{"$f":"HYPERLINK(\"#'Client Details'!$B$1\",\"Details\")","v":"Details"},{"$f":"HYPERLINK(Options!$B$1, \"Quote\")","v":"Quote"},{"$f":"HYPERLINK(Options!$B$2,\"Fax\")","v":"Fax"}]
["Wolverine Building Group","Marty Malek","616-437-1059",null,null,null,null,null,{"$f":"HYPERLINK(\"#'Client Details'!$B$1\",\"Details\")","v":"Details"},{"$f":"HYPERLINK(Options!$B$1, \"Quote\")","v":"Quote"},{"$f":"HYPERLINK(Options!$B$2,\"Fax\")","v":"Fax"}]
["Wolverine Building Group (Livingston)","Pat Livingston"," 616-949-3360","plivingston@wolvgroup.com",null,"Contractor General","Kent",null,{"$f":"HYPERLINK(\"#'Client Details'!$B$1\",\"Details\")","v":"Details"},{"$f":"HYPERLINK(Options!$B$1, \"Quote\")","v":"Quote"},{"$f":"HYPERLINK(Options!$B$2,\"Fax\")","v":"Fax"}]
["Wolverine Construction Management (Wolter","Larry Wolters"," 616-248-3001","lwolters@wolvgroup.com",null,"Contractor General","Kent",null,{"$f":"HYPERLINK(\"#'Client Details'!$B$1\",\"Details\")","v":"Details"},{"$f":"HYPERLINK(Options!$B$1, \"Quote\")","v":"Quote"},{"$f":"HYPERLINK(Options!$B$2,\"Fax\")","v":"Fax"}]
["Wolverine Power Cooperative (Barton)","Craig Barton"," 231-775-5700",null,"Safety Manager","Utility","Osceola",null,{"$f":"HYPERLINK(\"#'Client Details'!$B$1\",\"Details\")","v":"Details"},{"$f":"HYPERLINK(Options!$B$1, \"Quote\")","v":"Quote"},{"$f":"HYPERLINK(Options!$B$2,\"Fax\")","v":"Fax"}]
["Wolverine Trenching Service (REX)","REX"," 269-561-2523",null,"Owner","Trenching and Excavating","Allegan",null,{"$f":"HYPERLINK(\"#'Client Details'!$B$1\",\"Details\")","v":"Details"},{"$f":"HYPERLINK(Options!$B$1, \"Quote\")","v":"Quote"},{"$f":"HYPERLINK(Options!$B$2,\"Fax\")","v":"Fax"}]
["Wolverine World Wide (Knight)","Pat Knight"," 616-560-1088","pat.knight@wwwinc.com",null,"Manufacturer","Kent",null,{"$f":"HYPERLINK(\"#'Client Details'!$B$1\",\"Details\")","v":"Details"},{"$f":"HYPERLINK(Options!$B$1, \"Quote\")","v":"Quote"},{"$f":"HYPERLINK(Options!$B$2,\"Fax\")","v":"Fax"}]
["Wolverine World Wide (Shellenbarger)","Amy Shellenbarger"," 616-863-3838",null,null,"Manufacturer","Kent",null,{"$f":"HYPERLINK(\"#'Client Details'!$B$1\",\"Details\")","v":"Details"},{"$f":"HYPERLINK(Options!$B$1, \"Quote\")","v":"Quote"},{"$f":"HYPERLINK(Options!$B$2,\"Fax\")","v":"Fax"}]
["Wonder Makers Environmental Inc. (Pinto)","Michael Pinto"," 269-382-4154","map@wondermakers.com","President","Contractor EH&S","Kalamazoo",null,{"$f":"HYPERLINK(\"#'Client Details'!$B$1\",\"Details\")","v":"Details"},{"$f":"HYPERLINK(Options!$B$1, \"Quote\")","v":"Quote"},{"$f":"HYPERLINK(Options!$B$2,\"Fax\")","v":"Fax"}]
["Wonder Makers Environmental, Inc.",null,null,null,null,null,null,null,{"$f":"HYPERLINK(\"#'Client Details'!$B$1\",\"Details\")","v":"Details"},{"$f":"HYPERLINK(Options!$B$1, \"Quote\")","v":"Quote"},{"$f":"HYPERLINK(Options!$B$2,\"Fax\")","v":"Fax"}]
["Woodard LLC","Jim Porter","989-725-4449",null,null,null,null,null,{"$f":"HYPERLINK(\"#'Client Details'!$B$1\",\"Details\")","v":"Details"},{"$f":"HYPERLINK(Options!$B$1, \"Quote\")","v":"Quote"},{"$f":"HYPERLINK(Options!$B$2,\"Fax\")","v":"Fax"}]
["Woodward (Delp)","Dennis Delp"," 616-772-9171","ddelp@woodward.com",null,"Manufacturer","Ottawa",null,{"$f":"HYPERLINK(\"#'Client Details'!$B$1\",\"Details\")","v":"Details"},{"$f":"HYPERLINK(Options!$B$1, \"Quote\")","v":"Quote"},{"$f":"HYPERLINK(Options!$B$2,\"Fax\")","v":"Fax"}]
["Woodward FST (Eslick)","John Eslick"," 616-772-9171",null,"Safety Director","Aeronautics","Ottawa",null,{"$f":"HYPERLINK(\"#'Client Details'!$B$1\",\"Details\")","v":"Details"},{"$f":"HYPERLINK(Options!$B$1, \"Quote\")","v":"Quote"},{"$f":"HYPERLINK(Options!$B$2,\"Fax\")","v":"Fax"}]
["Woodward FST (Starling)","Gan Uesli Starling"," 616-772-9171 88206","gan.starling@woodward.com","Safety Director","Aeronautics","Ottawa",null,{"$f":"HYPERLINK(\"#'Client Details'!$B$1\",\"Details\")","v":"Details"},{"$f":"HYPERLINK(Options!$B$1, \"Quote\")","v":"Quote"},{"$f":"HYPERLINK(Options!$B$2,\"Fax\")","v":"Fax"}]
["Woodward FST Inc.","Dennis Delp","616-772-9171",null,null,null,null,null,{"$f":"HYPERLINK(\"#'Client Details'!$B$1\",\"Details\")","v":"Details"},{"$f":"HYPERLINK(Options!$B$1, \"Quote\")","v":"Quote"},{"$f":"HYPERLINK(Options!$B$2,\"Fax\")","v":"Fax"}]
["Wray's Septic Tank & Development Co.","Rod Carroll","269-673-4791",null,null,null,null,null,{"$f":"HYPERLINK(\"#'Client Details'!$B$1\",\"Details\")","v":"Details"},{"$f":"HYPERLINK(Options!$B$1, \"Quote\")","v":"Quote"},{"$f":"HYPERLINK(Options!$B$2,\"Fax\")","v":"Fax"}]
["Wray's Septic Tank Inc. (Carroll)","Rod Carroll"," 269-673-4791","wraysseptic@charterinternet.net",null,"Contractor, Excavator","Allegan",null,{"$f":"HYPERLINK(\"#'Client Details'!$B$1\",\"Details\")","v":"Details"},{"$f":"HYPERLINK(Options!$B$1, \"Quote\")","v":"Quote"},{"$f":"HYPERLINK(Options!$B$2,\"Fax\")","v":"Fax"}]
["Wright Coating (Daggett)","Cheryl Daggett"," 269-344-8195","cdaggett@wrightcoating.com",null,"Manufacturer","Kalamazoo",null,{"$f":"HYPERLINK(\"#'Client Details'!$B$1\",\"Details\")","v":"Details"},{"$f":"HYPERLINK(Options!$B$1, \"Quote\")","v":"Quote"},{"$f":"HYPERLINK(Options!$B$2,\"Fax\")","v":"Fax"}]
["Wrist Wand LLC (Boorstein)","Michael Boorstein"," 800-681-9768","michael@wristwand.com","President","Supplier","N/A",null,{"$f":"HYPERLINK(\"#'Client Details'!$B$1\",\"Details\")","v":"Details"},{"$f":"HYPERLINK(Options!$B$1, \"Quote\")","v":"Quote"},{"$f":"HYPERLINK(Options!$B$2,\"Fax\")","v":"Fax"}]
["WS Jenks & Son",null,null,null,null,null,null,null,{"$f":"HYPERLINK(\"#'Client Details'!$B$1\",\"Details\")","v":"Details"},{"$f":"HYPERLINK(Options!$B$1, \"Quote\")","v":"Quote"},{"$f":"HYPERLINK(Options!$B$2,\"Fax\")","v":"Fax"}]
["Wyman-Gordon Forgings Inc.",null,"216-341-0085",null,null,null,null,null,{"$f":"HYPERLINK(\"#'Client Details'!$B$1\",\"Details\")","v":"Details"},{"$f":"HYPERLINK(Options!$B$1, \"Quote\")","v":"Quote"},{"$f":"HYPERLINK(Options!$B$2,\"Fax\")","v":"Fax"}]
["Wynan-Gordon Forgings (Cleveland) (Dumm)","Tony Dumm"," 216-341-0085","tdumm@dropdies.com","Plant Superintendent","Manufacturer","Out of State",null,{"$f":"HYPERLINK(\"#'Client Details'!$B$1\",\"Details\")","v":"Details"},{"$f":"HYPERLINK(Options!$B$1, \"Quote\")","v":"Quote"},{"$f":"HYPERLINK(Options!$B$2,\"Fax\")","v":"Fax"}]
["Wyoming City Hall","Jeff Anderson","616-893-2836",null,null,null,null,null,{"$f":"HYPERLINK(\"#'Client Details'!$B$1\",\"Details\")","v":"Details"},{"$f":"HYPERLINK(Options!$B$1, \"Quote\")","v":"Quote"},{"$f":"HYPERLINK(Options!$B$2,\"Fax\")","v":"Fax"}]
["Wyoming Clean Water Plant, City of",null,"616-261-3550 General","twilson@ci.wyoming.mi.us",null,null,null,null,{"$f":"HYPERLINK(\"#'Client Details'!$B$1\",\"Details\")","v":"Details"},{"$f":"HYPERLINK(Options!$B$1, \"Quote\")","v":"Quote"},{"$f":"HYPERLINK(Options!$B$2,\"Fax\")","v":"Fax"}]
["Wyoming Clean Water Plant, City of (Smith","Craig Smith"," 616-261-3558","csmith@ci.wyoming.mi.us","Information System Supervisor","Municipal, Cty","Kent",null,{"$f":"HYPERLINK(\"#'Client Details'!$B$1\",\"Details\")","v":"Details"},{"$f":"HYPERLINK(Options!$B$1, \"Quote\")","v":"Quote"},{"$f":"HYPERLINK(Options!$B$2,\"Fax\")","v":"Fax"}]
["Wyoming Clean Water Plant, City of (Wilso","Tom Wilson"," 616-261-3573","twilson@wyomingmi.gov","Maintenance Supervisor","Municipal, Cty","Kent",null,{"$f":"HYPERLINK(\"#'Client Details'!$B$1\",\"Details\")","v":"Details"},{"$f":"HYPERLINK(Options!$B$1, \"Quote\")","v":"Quote"},{"$f":"HYPERLINK(Options!$B$2,\"Fax\")","v":"Fax"}]
["Wyoming DPW, City of","Kimberly Oostindie","616-530-7229",null,null,null,null,null,{"$f":"HYPERLINK(\"#'Client Details'!$B$1\",\"Details\")","v":"Details"},{"$f":"HYPERLINK(Options!$B$1, \"Quote\")","v":"Quote"},{"$f":"HYPERLINK(Options!$B$2,\"Fax\")","v":"Fax"}]
["Wyoming Fire Department, City of","Chief Austin","616-530-7250",null,null,null,null,null,{"$f":"HYPERLINK(\"#'Client Details'!$B$1\",\"Details\")","v":"Details"},{"$f":"HYPERLINK(Options!$B$1, \"Quote\")","v":"Quote"},{"$f":"HYPERLINK(Options!$B$2,\"Fax\")","v":"Fax"}]
["Wyoming Fire Department, City of (Austin)","Bob Austin"," 616-530-7250","millerc@ci.wyoming.mi.us","Chief","Fire Department","Kent",null,{"$f":"HYPERLINK(\"#'Client Details'!$B$1\",\"Details\")","v":"Details"},{"$f":"HYPERLINK(Options!$B$1, \"Quote\")","v":"Quote"},{"$f":"HYPERLINK(Options!$B$2,\"Fax\")","v":"Fax"}]
["Wyoming Inventory Department, City of (Gr","Pat Grundy"," 616-530-7271","grundyp@ci.wyoming.mi.us",null,"Municipal, Cty","Ottawa",null,{"$f":"HYPERLINK(\"#'Client Details'!$B$1\",\"Details\")","v":"Details"},{"$f":"HYPERLINK(Options!$B$1, \"Quote\")","v":"Quote"},{"$f":"HYPERLINK(Options!$B$2,\"Fax\")","v":"Fax"}]
["Wyoming Inventory, City of",null,"616-530-7271","Doug Anderson - 299-3074",null,null,null,null,{"$f":"HYPERLINK(\"#'Client Details'!$B$1\",\"Details\")","v":"Details"},{"$f":"HYPERLINK(Options!$B$1, \"Quote\")","v":"Quote"},{"$f":"HYPERLINK(Options!$B$2,\"Fax\")","v":"Fax"}]
["Wyoming Meter Maintenance, City of","\"Steve\"","616-261-3561",null,null,null,null,null,{"$f":"HYPERLINK(\"#'Client Details'!$B$1\",\"Details\")","v":"Details"},{"$f":"HYPERLINK(Options!$B$1, \"Quote\")","v":"Quote"},{"$f":"HYPERLINK(Options!$B$2,\"Fax\")","v":"Fax"}]
["Wyoming Meter Maintenance, City of (Kneib","Mark Kneibel"," 616-261-3561","mkneibel@ci.wyoming.mi.us","Meter Maintenance Foreman","Municipal, Cty","Kent",null,{"$f":"HYPERLINK(\"#'Client Details'!$B$1\",\"Details\")","v":"Details"},{"$f":"HYPERLINK(Options!$B$1, \"Quote\")","v":"Quote"},{"$f":"HYPERLINK(Options!$B$2,\"Fax\")","v":"Fax"}]
["Wyoming Meter Shop, City of","Mark Kneibeel","616-261-3561",null,null,null,null,null,{"$f":"HYPERLINK(\"#'Client Details'!$B$1\",\"Details\")","v":"Details"},{"$f":"HYPERLINK(Options!$B$1, \"Quote\")","v":"Quote"},{"$f":"HYPERLINK(Options!$B$2,\"Fax\")","v":"Fax"}]
["Wyoming Parks Dept., City of","Steve Weatherby",null,null,null,null,null,null,{"$f":"HYPERLINK(\"#'Client Details'!$B$1\",\"Details\")","v":"Details"},{"$f":"HYPERLINK(Options!$B$1, \"Quote\")","v":"Quote"},{"$f":"HYPERLINK(Options!$B$2,\"Fax\")","v":"Fax"}]
["Wyoming Police Dept.","Kurt Robinson","530-7354",null,null,null,null,null,{"$f":"HYPERLINK(\"#'Client Details'!$B$1\",\"Details\")","v":"Details"},{"$f":"HYPERLINK(Options!$B$1, \"Quote\")","v":"Quote"},{"$f":"HYPERLINK(Options!$B$2,\"Fax\")","v":"Fax"}]
["Wyoming Water Treatment Plant, City of",null,"616-669-5290",null,null,null,null,null,{"$f":"HYPERLINK(\"#'Client Details'!$B$1\",\"Details\")","v":"Details"},{"$f":"HYPERLINK(Options!$B$1, \"Quote\")","v":"Quote"},{"$f":"HYPERLINK(Options!$B$2,\"Fax\")","v":"Fax"}]
["Wyoming Water Treatment Plant, City of (B","Gregg Bloemers"," 616-669-5290 109","gbloemers@ci.wyoming.mi.us","Utility Maintenance Shop Forem","Municipal, Cty","Ottawa",null,{"$f":"HYPERLINK(\"#'Client Details'!$B$1\",\"Details\")","v":"Details"},{"$f":"HYPERLINK(Options!$B$1, \"Quote\")","v":"Quote"},{"$f":"HYPERLINK(Options!$B$2,\"Fax\")","v":"Fax"}]
["Wyoming Water Treatment Plant, City of (T","Joe Tardani"," 616-669-5780 127","jtardani@ci.wyoming.mi.us","Utility Maintenance Supervisor","Municipal, Cty","Ottawa",null,{"$f":"HYPERLINK(\"#'Client Details'!$B$1\",\"Details\")","v":"Details"},{"$f":"HYPERLINK(Options!$B$1, \"Quote\")","v":"Quote"},{"$f":"HYPERLINK(Options!$B$2,\"Fax\")","v":"Fax"}]
["Wyoming Water Treatment Plant, City of (V","Rick Velderman"," 616-669-5290 108","rvelderman@wyoming.gov","Utility Maintenance Supervisor","Municipal, Cty","Ottawa",null,{"$f":"HYPERLINK(\"#'Client Details'!$B$1\",\"Details\")","v":"Details"},{"$f":"HYPERLINK(Options!$B$1, \"Quote\")","v":"Quote"},{"$f":"HYPERLINK(Options!$B$2,\"Fax\")","v":"Fax"}]
["Wyoming, City of (Kubiak)","Heather Kubiak"," 616-530-7342","kubiakh@wyomingmi.gov","Risk Control Supervisor","Municipal, Cty","Kent",null,{"$f":"HYPERLINK(\"#'Client Details'!$B$1\",\"Details\")","v":"Details"},{"$f":"HYPERLINK(Options!$B$1, \"Quote\")","v":"Quote"},{"$f":"HYPERLINK(Options!$B$2,\"Fax\")","v":"Fax"}]
["Wyoming, City of (Stapf)","Joseph Stapf"," 616-261-3559","jstapf@ci.wyoming.mi.us","Utilities Director","Municipal, Cty","Kent",null,{"$f":"HYPERLINK(\"#'Client Details'!$B$1\",\"Details\")","v":"Details"},{"$f":"HYPERLINK(Options!$B$1, \"Quote\")","v":"Quote"},{"$f":"HYPERLINK(Options!$B$2,\"Fax\")","v":"Fax"}]
["X-Bar Automation Inc.","Ken Downie","248-616-9890",null,null,null,null,null,{"$f":"HYPERLINK(\"#'Client Details'!$B$1\",\"Details\")","v":"Details"},{"$f":"HYPERLINK(Options!$B$1, \"Quote\")","v":"Quote"},{"$f":"HYPERLINK(Options!$B$2,\"Fax\")","v":"Fax"}]
["X-Bar Automation, Inc. (Downie)","Ken Downie"," 248-616-9890 104","ken@xbarauto.com","Purchasing",null,"Oakland",null,{"$f":"HYPERLINK(\"#'Client Details'!$B$1\",\"Details\")","v":"Details"},{"$f":"HYPERLINK(Options!$B$1, \"Quote\")","v":"Quote"},{"$f":"HYPERLINK(Options!$B$2,\"Fax\")","v":"Fax"}]
["Yacht Basin Marina (Kalk)","Gwen Kalk"," 616-786-2205",null,"Purchasing/Marketing Manager","Marine Storage and Service","Ottawa",null,{"$f":"HYPERLINK(\"#'Client Details'!$B$1\",\"Details\")","v":"Details"},{"$f":"HYPERLINK(Options!$B$1, \"Quote\")","v":"Quote"},{"$f":"HYPERLINK(Options!$B$2,\"Fax\")","v":"Fax"}]
["Yamaha Corp of America",null,"616-575-1321",null,null,null,null,null,{"$f":"HYPERLINK(\"#'Client Details'!$B$1\",\"Details\")","v":"Details"},{"$f":"HYPERLINK(Options!$B$1, \"Quote\")","v":"Quote"},{"$f":"HYPERLINK(Options!$B$2,\"Fax\")","v":"Fax"}]
["Yamaha Musical Products (Kalkman)","Renee Kalkman"," 616-575-1320","rkalkman@yamaha.com",null,"Manufacturer","Kent",null,{"$f":"HYPERLINK(\"#'Client Details'!$B$1\",\"Details\")","v":"Details"},{"$f":"HYPERLINK(Options!$B$1, \"Quote\")","v":"Quote"},{"$f":"HYPERLINK(Options!$B$2,\"Fax\")","v":"Fax"}]
["Yamaha Musical Products (Slater)","Al Slater"," 616-575-1321","aslater@yamaha.com","Facility Engineer","Manufacturer","Kent",null,{"$f":"HYPERLINK(\"#'Client Details'!$B$1\",\"Details\")","v":"Details"},{"$f":"HYPERLINK(Options!$B$1, \"Quote\")","v":"Quote"},{"$f":"HYPERLINK(Options!$B$2,\"Fax\")","v":"Fax"}]
["Yoplait-Columbo",null,"231-832-3285 General","chris.vennix@genmills.com",null,null,null,null,{"$f":"HYPERLINK(\"#'Client Details'!$B$1\",\"Details\")","v":"Details"},{"$f":"HYPERLINK(Options!$B$1, \"Quote\")","v":"Quote"},{"$f":"HYPERLINK(Options!$B$2,\"Fax\")","v":"Fax"}]
["Yorozu Automotive North America, Inc. (Al","Tony Alexander"," 269-969-3788 125","alexander.tony@yorozuautomotive.com","Safety / Training Coordinator","Automotive","Calhoun",null,{"$f":"HYPERLINK(\"#'Client Details'!$B$1\",\"Details\")","v":"Details"},{"$f":"HYPERLINK(Options!$B$1, \"Quote\")","v":"Quote"},{"$f":"HYPERLINK(Options!$B$2,\"Fax\")","v":"Fax"}]
["Young Supply Co","Paul Hoisington","989-754-0441",null,null,null,null,null,{"$f":"HYPERLINK(\"#'Client Details'!$B$1\",\"Details\")","v":"Details"},{"$f":"HYPERLINK(Options!$B$1, \"Quote\")","v":"Quote"},{"$f":"HYPERLINK(Options!$B$2,\"Fax\")","v":"Fax"}]
["Young's Environmental Cleanup, Inc. (Webb","Dave Webber"," 616-785-3374",null,null,"Contractor EH&S","Kent",null,{"$f":"HYPERLINK(\"#'Client Details'!$B$1\",\"Details\")","v":"Details"},{"$f":"HYPERLINK(Options!$B$1, \"Quote\")","v":"Quote"},{"$f":"HYPERLINK(Options!$B$2,\"Fax\")","v":"Fax"}]
["Zeeland BPW (Muller)","Don Muller"," 616-772-6212","donm@bpw.zeeland.mi.us","Electric Operations Mgr",null,"Ottawa",null,{"$f":"HYPERLINK(\"#'Client Details'!$B$1\",\"Details\")","v":"Details"},{"$f":"HYPERLINK(Options!$B$1, \"Quote\")","v":"Quote"},{"$f":"HYPERLINK(Options!$B$2,\"Fax\")","v":"Fax"}]
["Zeeland Cemetery & Parks, City of (Boerse","Irv Boersen"," 616-772-0887",null,"Supervisor","Municipal, Cty","Ottawa",null,{"$f":"HYPERLINK(\"#'Client Details'!$B$1\",\"Details\")","v":"Details"},{"$f":"HYPERLINK(Options!$B$1, \"Quote\")","v":"Quote"},{"$f":"HYPERLINK(Options!$B$2,\"Fax\")","v":"Fax"}]
["Zeeland Chemical (Oudemolen)","Mark Oudemolen"," 616-748-7844",null,"Safety Director","Chemical Pharmaceutical","Ottawa",null,{"$f":"HYPERLINK(\"#'Client Details'!$B$1\",\"Details\")","v":"Details"},{"$f":"HYPERLINK(Options!$B$1, \"Quote\")","v":"Quote"},{"$f":"HYPERLINK(Options!$B$2,\"Fax\")","v":"Fax"}]
["Zeeland Clean Water Plant","Glenn Berghorst","616-772-0873",null,null,null,null,null,{"$f":"HYPERLINK(\"#'Client Details'!$B$1\",\"Details\")","v":"Details"},{"$f":"HYPERLINK(Options!$B$1, \"Quote\")","v":"Quote"},{"$f":"HYPERLINK(Options!$B$2,\"Fax\")","v":"Fax"}]
["Zeeland Clean Water Plant, City of (Bergh","Glenn Berghorst"," 616-772-0873","zwwtp@ci.zeeland.mi.us","Clean Water Plant Supervisor","Municipal, Cty","Ottawa",null,{"$f":"HYPERLINK(\"#'Client Details'!$B$1\",\"Details\")","v":"Details"},{"$f":"HYPERLINK(Options!$B$1, \"Quote\")","v":"Quote"},{"$f":"HYPERLINK(Options!$B$2,\"Fax\")","v":"Fax"}]
["Zeeland Emergency Services (Redder)","Larry Redder"," 616-654-8924","zeelandrescue@chartermi.net",null,"Municipal, Cty","Ottawa",null,{"$f":"HYPERLINK(\"#'Client Details'!$B$1\",\"Details\")","v":"Details"},{"$f":"HYPERLINK(Options!$B$1, \"Quote\")","v":"Quote"},{"$f":"HYPERLINK(Options!$B$2,\"Fax\")","v":"Fax"}]
["Zeeland Farm Services, Inc. (Carper)","Mary Carper"," 616-772-9042","maryc@zfsinc.com","Corporate Safety Manager",null,"Ottawa",null,{"$f":"HYPERLINK(\"#'Client Details'!$B$1\",\"Details\")","v":"Details"},{"$f":"HYPERLINK(Options!$B$1, \"Quote\")","v":"Quote"},{"$f":"HYPERLINK(Options!$B$2,\"Fax\")","v":"Fax"}]
["Zeeland Farm Services, Inc. (Koopman)","Dave Koopman"," 616-748-1873","davek@zfsinc.com",null,"Food","Ottawa",null,{"$f":"HYPERLINK(\"#'Client Details'!$B$1\",\"Details\")","v":"Details"},{"$f":"HYPERLINK(Options!$B$1, \"Quote\")","v":"Quote"},{"$f":"HYPERLINK(Options!$B$2,\"Fax\")","v":"Fax"}]
["Zeeland Farm Services, Inc. (Smith)","Diana Smith"," 616-748-1820","dianas@zfsinc.com","Transportation Safety Speciali",null,"Ottawa",null,{"$f":"HYPERLINK(\"#'Client Details'!$B$1\",\"Details\")","v":"Details"},{"$f":"HYPERLINK(Options!$B$1, \"Quote\")","v":"Quote"},{"$f":"HYPERLINK(Options!$B$2,\"Fax\")","v":"Fax"}]
["Zeeland Fire Rescue","Larry Redder","616-654-8924",null,null,null,null,null,{"$f":"HYPERLINK(\"#'Client Details'!$B$1\",\"Details\")","v":"Details"},{"$f":"HYPERLINK(Options!$B$1, \"Quote\")","v":"Quote"},{"$f":"HYPERLINK(Options!$B$2,\"Fax\")","v":"Fax"}]
["Zeeland Generating Station","Gordon Heeres / Brian Roth","616-772-6641","safreese@cmsenergy.com",null,null,null,null,{"$f":"HYPERLINK(\"#'Client Details'!$B$1\",\"Details\")","v":"Details"},{"$f":"HYPERLINK(Options!$B$1, \"Quote\")","v":"Quote"},{"$f":"HYPERLINK(Options!$B$2,\"Fax\")","v":"Fax"}]
["Zeeland Lumber (Myers)","Julie Myers"," 616-772-2119 109",null,"Safety Coordinator","Lumber","Ottawa",null,{"$f":"HYPERLINK(\"#'Client Details'!$B$1\",\"Details\")","v":"Details"},{"$f":"HYPERLINK(Options!$B$1, \"Quote\")","v":"Quote"},{"$f":"HYPERLINK(Options!$B$2,\"Fax\")","v":"Fax"}]
["Zeeland Street Department, City of (Nienh","Scott Nienhuis"," 616-772-0887",null,"Supervisor","Municipal, Cty","Ottawa",null,{"$f":"HYPERLINK(\"#'Client Details'!$B$1\",\"Details\")","v":"Details"},{"$f":"HYPERLINK(Options!$B$1, \"Quote\")","v":"Quote"},{"$f":"HYPERLINK(Options!$B$2,\"Fax\")","v":"Fax"}]
["Zeeland Street Dept., City of","Scott Nienhuis","616-772-0887",null,null,null,null,null,{"$f":"HYPERLINK(\"#'Client Details'!$B$1\",\"Details\")","v":"Details"},{"$f":"HYPERLINK(Options!$B$1, \"Quote\")","v":"Quote"},{"$f":"HYPERLINK(Options!$B$2,\"Fax\")","v":"Fax"}]
["Zelenka Nurseries (NONE)","NONE"," 616-842-1367",null,"No-Title","Nursery","Ottawa",null,{"$f":"HYPERLINK(\"#'Client Details'!$B$1\",\"Details\")","v":"Details"},{"$f":"HYPERLINK(Options!$B$1, \"Quote\")","v":"Quote"},{"$f":"HYPERLINK(Options!$B$2,\"Fax\")","v":"Fax"}]
["Zellweger Analytics (Walden)","Robert Walden",null,"robert.walden@zelana.com","Fixed System Product Manager","Representative","Jackson",null,{"$f":"HYPERLINK(\"#'Client Details'!$B$1\",\"Details\")","v":"Details"},{"$f":"HYPERLINK(Options!$B$1, \"Quote\")","v":"Quote"},{"$f":"HYPERLINK(Options!$B$2,\"Fax\")","v":"Fax"}]
["Zook Farm Equipment",null,"616-868-6195",null,null,null,null,null,{"$f":"HYPERLINK(\"#'Client Details'!$B$1\",\"Details\")","v":"Details"},{"$f":"HYPERLINK(Options!$B$1, \"Quote\")","v":"Quote"},{"$f":"HYPERLINK(Options!$B$2,\"Fax\")","v":"Fax"}]

{"sheet":"Clients (All)","index":1,"n_rows":4037,"n_cols":24,"rows_kept":4037,"cut":false,"hidden":false,"merged":[]}
["Name","Contact","AltContact","Phone","AltPhone","Fax","Email","CustomerTypeRefFullName","ItemSalesTaxRefFullName","Notes","ShipAddressAddr1","ShipAddressAddr2","ShipAddressAddr3","ShipAddressAddr4","ShipAddressAddr5","ShipAddressCity","ShipAddressState","ShipAddressPostalCode","Salutation","LastName","CustomFieldTitle","CustomFieldBusinessType","CustomFieldCounty","CustomFieldSource"]
["2G TechWorks, Inc. (Powell)","Andrew Powell",null," 616-608-7734",null,null,"andrew@2gtech.com",null,null,"Josh Heller  joshuadheller@gmail.com  mob 616.443.2772","2G TechWorks, Inc.","146 Monroe Center NW",null,null,null,"Grand Rapids","MI","49503",null,"Powell","President","Supplier","Kent"]
["A & B Builders Plumbing-Mechanical",null,"Brian Klein","616-437-6550",null,"616-866-2564",null,null,"Michigan Sales Tax",null,"A & B Builders Plumbing-Mechanical","Attn:","8200 Squirewood Dr.NE",null,null,"Rockford","MI","49321"]
["A & B Packing Co.","Marv Ressor",null,"269-621-3837",null,"269-621-0300",null,null,"Non-Tax","Karen gone\n\nTad.moody@abpacking.com\nToni Chuhak","A & B Packing Co.","Attn:","67602  - 62nd St.",null,null,"Hartford","MI","49057"]
["A & R Erectors Inc.","Lisa",null,"317-271-3429",null,null,null,null,"Out of State",null,"A & R Erectors","Attn: Rick Warrum","1605 Country Club Rd.",null,null,"Indianapolis","IN","46234"]
["A & R Mechanical Services Inc. (Riker)","Rick Riker",null," 616-235-7470",null," 616-235-7474",null,null,null,null,"A & R Mechanical Services Inc.","314 Straight Avenue SW",null,null,null,"Grand Rapids","MI","49504","Mr.","Riker",null,"Contractor General","Kent"]
["A&B Packing Company, Inc. (Barker)","Karen Barker",null," 269-621-3837",null,null,"karen.barker@abpacking.com",null,null,"Referral from Pyramex\n-consists of two plants\n-make different devices for sorting fruits and vegetables\n-Tad, Kevin, Karen\n-working on their safety program now, from scratch","A&B Packing Company, Inc.","67602 62nd St.",null,null,null,"Hartford","MI","49057-9623",null,"Barker","Office Manager","Manufacturer","Berrien"]
["A. Belloli & Sons","Tom Belloli",null,"508-697-2301",null,null,null,null,"Out of State",null,"A. Belloli & Sons","Attn:","829 High St.",null,null,"Bridgwater","MA","02324"]
["AAA Sling & Industrial Supply (Vant)","Dave Vant",null," 616-530-0500",null," 616-530-4878",null,null,null,"Rusty","AAA Sling & Industrial Supply","425  36th Street SW",null,null,null,"Wyoming","MI","49509","Mr.","Vant",null,"Supplier","Kent"]
["AAA Sling Industrial Supply, Inc.",null,"Dave Vant","616-530-0500",null,"616-530-4878",null,null,"NonTx Re-Sale",null,"AAA Sling Industrial Supply, Inc.","Attn:","425 - 36th Street SW",null,null,"Grand Rapids","MI","49509"]
["Aaron Russell"]
["ABB, Inc.","Dawn Sielaff",null,"248-391-9000","248-736-9134","248-391-1448","dawn.m.sielaff@us.abb.com",null,"Michigan Sales Tax",null,"ABB, Inc.","Attn:","1250 Brown Road",null,null,"Auburn Hills","MI","48326"]
["Abbey Homes (Mitchell)","Lance Mitchell",null," 248-819-0291",null,null,"lmitchell@westminsterabbeyhomes.com",null,null,null,"Abbey Homes","2103 Charlton",null,null,null,"Ann Arbor","MI","48103","Mr.","Mitchell","Superintendent","Contractor General","Washtenaw"]
["Abbott Laboratories (Craycraft)","David Craycraft",null," 614-624-6105",null," 614-727-6105",null,null,null,null,"Abbott Laboratories","6480 Busch Blvd.","Building 5",null,null,"Columbus","OH","43229","Mr.","Craycraft",null,"Chemical Pharmaceutical","Out of State"]
["Abbott Laboratories (Gabriel)","Glenn R. Gabriel",null," 847-935-2845",null," 847-937-9679","glenn.gabriel@abbott.com",null,null,null,"Abbott Laboratories","1401 Sheridan Road","05G3; Bldg. NCP14-3",null,null,"N. Chicago","IL","60064","Mr.","Gabriel","Sr. Environmental Engineer","Chemical Pharmaceutical","Out of State"]
["Abbott Laboratories, Ross Products Div. (","Bob Stuart",null," 269-651-0384",null," 269-651-0741","robert.stuart@abbott.com",null,null,"Pete Richardson x0637 handles calibration. \nDavid Sayers Sr. Inventory Coord x0646\nKim Lammlin Supr Rcvg & Stockroom Purch x0626\nKris Gay, Nurse\nPaul Irwin, Eric Killian re: GEMS svc","Abbott Laboratories, Ross Products Div.","901 N. Centerville Road","Dept. 1611, Building 1B",null,null,"Sturgis","MI","49091","Mr.","Stuart",null,"Food","St. Joseph"]
["Abbott Laboratories, Ross Products Div.S","James Pocklington",null," 269-651-0858",null," 269-651-0703","jim.pocklington@abbott.com",null,null,"Paul Irwin Electrical Mntc Planner 269.651.0712","Abbott Laboratories, Ross Products Div.S","901 N. Centerville Road",null,null,null,"Sturgis","MI","49091","Mr.","Pocklington","Maintenace Supervisor","Food","St. Joseph"]
["Abbott Nutrition","Terry",null,"269-651-0645",null,"269-651-0752",null,null,"Non-Tax","11/29/2010 we shipped cal gas to Bob Stuart in error -he is shipping it on at no charge to Indiana. we will take 20$ or so off of his next order in gratatude.\n12/22/10 see ck # 9479 pay;ment for shipping charged in error. Agile still owes Bob Sterart $3.03\n\n12/16/11 spoke with Terry Clemens head buyer Sturgis \nterry.clemens@abbott.com\nat his request changed bill to from Columbus OH to Sturgis MI and forwarded open invoices for 2011. he will close and pay","Abbott Nutrition","Attn:Garry D. Juergens","901 N. Centerville Road",null,null,"Sturgis","MI","49091-1089"]
["Abbott Nutrition (Richmond)","Renee Baker",null,"765-935-8636",null,"765-935-8657",null,null,"Michigan Sales Tax",null,"Abbott Nutrition (Richmond)","Attn:Rene Baker"," PO # R20001237","4200 Industries Rd.",null,"Richmond","IN","47374"]
["Abco Safety","Norm Mitchell",null,"513-772-6464",null,"513-772-9044",null,null,"NonTx Re-Sale",null,"Abco Safety","Attn: Norm Mitchell","11183 woodward lane",null,null,"Cincinnati","OH","45241-1856"]
["ABCO Safety (Mitchell)","Norm Mitchell",null," 513-772-6464",null," 513-772-9044","nmitchell@abcosafety.com",null,null,null,"ABCO Safety","11183 Woodward Lane",null,null,null,"Cincinnati","OH","45241","Mr.","Mitchell",null,"Safety Supplier","Out of State"]
["Abonmarche Group, The (Walker)","Mark Walker",null," 269-927-2295",null," 269-927-1017","mwalker@abonmarche.com",null,null,"Also, Mark Zwar, VP Surveying","Abonmarche Group, The","95 West Main Street",null,null,null,"Benton Harbor","MI","49023","Mr.","Walker","Regulatory Specialist","Contractor EH&S","Berrien"]
["ABS Americas Division",null,null,"440-895-8900","TX - 281-877-6716","440-895-8904",null,null,"Out of State","Pat Walsh ext 4. - Service contact in OH\nSandy Wilson ext. 1 - Accounting contact in OH","ABS Americas Division","Attn:","Westgate Plaza","20325 Center Ridge Rd, Ste. 610",null,"Rocky River","OH","44116"]
["ABS Americas Division (Wilson)","Sandy Wilson",null," 440-895-8900",null," 440-895-8904","abscleveland@eagle.org",null,null,null,"ABS Americas Division","Westgate Plaza","20325 Center Ridge Road, Suite",null,null,"Rocky River","OH","44116","Ms.","Wilson",null,null,"Cuyahoga"]
["Absolute Safety Inc.","John & Vicky Stalmack","231-723-0758 Vicky","231-723-5191","231-560-0788 John","231-723-5375",null,null,"NonTx Re-Sale","emails:\njstlamack@absolutesafetyinc.net\nvstlamack@absolutesafetyinc.net","Absolute Safety Inc.","Attn:Vicky Stalmack","303 Parkdale Ave",null,null,"Manistee","MI","49660"]
["Access Business Group","Shelly Stephens","stv grooms 787-1732","616-787-8343",null,null,null,null,"Non-Tax","do not send copy of invoice to accounting when it is a Credit card order as per Greg Van Dyke 6/4/07\n\nfax Steve Grooms invoices to 787-0319","AMWAY","Maintenance Crib, Rec Dock 06D (Bldg. 26)","AttN: Matt Hoover po#4229050OC","7575 Fulton Street East",null,"Ada","MI","49355"]
["Access Insurance Agencies (Hoedeman)","Jack Hoedeman",null," 616-245-5555",null," 616-245-5556","jack@accessgr.com",null,null,"Casie Ruftin","Access Insurance Agencies","2258 28th Street",null,null,null,"Grand Rapids","MI","49508","Mr.","Hoedeman",null,"Insurance","Kent"]
["Access Insurance Agencies (Mayne)","Sarah Mayne",null," 616-245-5555",null,null,null,null,null,null,"Access Insurance Agencies","2258  - 28th St",null,null,null,"Grand Rapids","MI","49508",null,"Mayne",null,null,"Kent"]
["Access Safety LLC","Jeff Mather","616-915-5731 cell","616-696-1823 home","616-696-3887 office","616-696-4379",null,null,"Use Tax Rental",null,"Access Safety LLC","Attn:","90 Norh Main St.",null,null,"Cedar Springs","MI","49319"]
["Access Safety LLC (Mather)","Jeff Mather",null," 616-696-3887"," 616-696-1823"," 616-696-4379","jeff@accesssafety.biz",null,null,"Chad Ignatowski Pam Sandy Mather  camp 231.266.2186","Access Safety LLC","PO Box 32",null,null,null,"Cedar Springs","MI","49319","Mr.","Mather","Accident Prevention Consultant","Contractor EH&S","Kent"]
["Accident Fund (Leys)","Mary Leys",null," 517-367-1413",null," 517-367-6711","maryl@accidentfund.com",null,null,"Julie Soules, Buyer 517.3671406","Accident Fund","232 South Capitol Avenue","PO Box 40790",null,null,"Lansing","MI","48901-7990","Ms.","Leys",null,"Insurance","Ingham"]
["Accident Fund (Quigley)","Kevin Quigley",null," 616-662-0567",null," 616-662-4332","kevinq@accidentfund.com",null,null,null,"Accident Fund","232 South Capitol Avenue","PO Box 40790",null,null,"Lansing","MI","48901-7990","Mr.","Quigley","Sr. Loss Prevention Consultant","Insurance","Ingham"]
["Accident Fund Insurance (Rabach)","Mike Rabach",null," 231-773-6791"," 888-276-0327"," 231-777-7520","mike3r@accidentfund.com",null,null,null,"Accident Fund Insurance","3696 Tuck-a-Way Terrace",null,null,null,"Muskegon","MI","49444","Mr.","Rabach",null,"Insurance","Kent"]
["Accident Fund Insurance Company","Lou Ann Gill ext.1636","Kevin Quigley 481-4780 cell","888-276-0327","616-662-0567",null,null,null,"Michigan Sales Tax","A/P Julie Soules x1406","Accident Fund Insurance Company","Attn:Kevin Quigley","200 N Grand Ave.",null,null,"Lansing","MI","48901"]
["Accident Fund Insurance Company (Muskegon","Mike Rabach",null,"231-773-6791",null,"231-777-7520",null,null,"Michigan Sales Tax",null,"Accident Fund Insurance Company (Muskegon","Attn: Mike Rabach","3696 Tuck-a-Way Terrace",null,null,"Muskegon","MI","49444"]
["AccuCal","Ed Sarin",null,"989-302-1201",null,"614-386-7210","esarin@charter.net",null,"Michigan Sales Tax",null,"AccuCal","Attn:","130 Broken Arrow Trail",null,null,"Houghton Lake","MI","48629"]
["Accuform Industries, Inc","Nate Mattione",null,"616-318-4766",null,"616-364-0875",null,null,"Michigan Sales Tax",null,"Accuform Industries, Inc","Attn: Nate Matione","1701 Broadway, NW",null,null,"Grand Rapids","MI","49504"]
["Accuform Industries, Inc. (Dunneback)","Scott Dunneback",null," 616-363-3801",null,null,"scott@accuformgr.com",null,null,"Was with Tradesman Fall Protection\nWas with Dan Vos; 1 yr old company; Owner John Beck also has Progressive Building Services and Modern Window Cleaning.\nWorks with Thaler of Ontario. Knocks off anchorages in shop locally. \nUses WL Perry Structural Engineers (Tracy)","Accuform Industries, Inc.","1701 Boradway, NW",null,null,null,"Grand Rapids","MI","49504","Mr.","Dunneback","Operations Manager","Manufacturer","Kent"]
["Accurate Safety","Nancy Lantz (A/P)",null,"989-695-6446","Tom Cell 989-233-3227","989-695-2543","tbrandle@accsafety.com",null,"NonTx Re-Sale","Send Invoices to tbrandle@accsafety.com\nor nlantz@accsafety.com","Consumers Energy (Jackson)","Attn: PO # 4500163083","1955 West Parnell Road",null,null,"Jackson","MI","49201-8643"]
["Accurate Safety Distributors, Inc. (Tippm","Tom Tippman",null," 800-292-8240",null," 989-695-2543","asd@mindnet.org",null,null,"Per Ray Ellis @ ASI & Tom, our cost is 10% over cost. Theresa Eastman is contact.\nTeresa Eastman gone to midland chemical\nPer Dennis Peedan mob 989.233.3228, our cost is ~10% over cost on RAE System parts but may vary.  3M  38% disc.\nMike Corner; Denis Peden Dan Jurkovich","Accurate Safety Distributors, Inc.","10320 N. Thor",null,null,null,"Freeland","MI","48623","Mr.","Tippman","Sales Manager","Competitor","Saginaw"]
["Ace Steel (Pou)","Rudy Pou",null," 269-792-0311",null," 269-792-0372",null,null,null,"Per Metro Hosp Supt Bill Woolworth. Annette is recep.  Lisa? wife.\nRobert Raemer found us through Andy Egan","Ace Steel","2775  8th Street",null,null,null,"Shelbyville","MI","49344","Mr.","Pou","President","Contractor General","Allegan"]
["Ace Steel Erection Inc.",null,null,"800-574-0311","Robert 616-813-4206","269-792-0372",null,null,"Michigan Sales Tax",null,"Ace Steel Erection Inc.","Attn:","2775 - 8th Street",null,null,"Shellbyville","MI","49344"]
["ACI (Goshi)","Rashesh Goshi",null," 734-753-4642 108",null," 734-753-4841",null,null,null,null,"ACI","17608 Commerce Drive",null,null,null,"New Boston","MI","48164","Mr.","Goshi",null,"Other","Wayne"]
["ACME Ladder & Supply Co.","Acct Collette Bingham",null,"800-445-7087","248-543-4420","248-543-8677",null,null,"NonTx Re-Sale","Service contact:  Pat Szakal - cell:  248-388-1679","ACME Ladder & Supply Co.","Attn:","10101 Capital Ave.",null,null,"Oak Park","MI","48237"]
["ACME Ladder & Supply Co. (Szakal)","Pat Szakal",null," 248-543-4420"," 800-445-7087"," 248-543-8677",null,null,null,null,"ACME Ladder & Supply Co.","10101 Capital Ave.",null,null,null,"Oak Park","MI","48237","Mr.","Szakal",null,"Competitor","Oakland"]
["Action Industrial Supply","Paul Wickland",null,"231-727-2423",null,null,null,null,"Michigan Sales Tax",null,"Action Industrial Supply","Attn: Paul Wickland po#A23981","1840 - 6th St.",null,null,"Muskegon","MI","49441"]
["Acuren Inspection","Kyle Kirby 269-377-9927","Kurt Shindledecker","269-377-9927",null,null,null,null,"Michigan Sales Tax",null,"Acuren Inspection","Attn:","101 East H Street",null,null,"Iron Moutain","MI","49801"]
["Ada Fire Department (Duvall)","Jim Duvall",null," 616-676-2376",null," 616-676-2173","jduvall@ada.mi.us",null,null,null,"Ada Fire Department","6990 East Fulton","PO Box 370",null,null,"Ada","MI","49301","Mr.","Duvall","Chief","Fire Department","Kent"]
["ADAC Plastics (Grand Rapids)","Lisa Purcell ext.5872 safety",null,"231-777-2645",null,"231-777-2986","vmiller@adacautomotive.com",null,"Michigan Sales Tax","Send invoices to vmiller@adacautomotive.com","ADAC Plastics","Attn:","3801 - 36th Street SE",null,null,"Grand Rapids","MI","49512"]
["ADAC Plastics (Muskegon)","Lisa Purcell ext.5872 safety","John Leroux","231-777-2645","231-740-0621",null,null,null,"Use Tax Rental","Raymond Hernandez\n  EHS Coordinator\n  231-777-2645 x5872\n\nJake Ruppert - cell:  231-286-4547","ADAC Plastics (Muskegon)","Attn:Jake Ruppard PO#","2050 Port City Blvd",null,null,"Muskegon","MI","49442"]
["ADAC Plastics (Purcell)","Lisa Purcell",null," 616-777-2645 5872",null," 616-464-1294","lpurcell@adacautomotive.com",null,null,"Howard Bignell hbignell@adacautomotive.com  Jan","ADAC Plastics","1801 Keating Ave.",null,null,null,"Muskegon","MI","49442","Ms.","Purcell","EH&S Manager","Manufacturer","Kent"]
["ADAC Plastics (Rupert)","Jake Rupert",null," 231-777-2645 5733",null," 231-777-2986","jrupert@adacautomotive.com",null,null,"Succeeded Derek (sp) McCormick\nLikes Irish Whiskey","ADAC Plastics","2050 Port City Blvd.",null,null,null,"Muskegon","MI","49442","Mr.","Rupert","Health & Safety Coordinator","Manufacturer","Muskegon"]
["ADAC Plastics (Saranac)","Gene Getts","Lisa Purcell ext.5872 safety","616-642-6411","231-777-2645",null,null,null,"Michigan Sales Tax","Heather Tran:  phone: 616-642-6411 x-6110 email:  htran@adacautomotive.com","ADAC Plastics (Saranac)","Attn: Gene Getts","6138 Riverside Dr",null,null,"Saranac","MI","48881"]
["Adams Robinson (Shake)","Dennis Shake",null," 937-274-5318",null," 937-274-0836","dshake@adamsrobinson.com",null,null,null,"Adams Robinson","2735 Needmore Road",null,null,null,"Dayton","OH","45414","Mr.","Shake","Safety Director","Contractor General","Out of State"]
["Adams Robinson Construction Co.",null,null,"937-274-5318",null,"937-274-0836",null,null,"Out of State","Dennis Shake - 937-275-5060 office, 937-272-1739 cell","Adams Robinson Construction Co.","Attn:","2735 Needmore Road",null,null,"Dayton","OH","45414"]
["AdaTownship Fire Department","Chief James Duvall",null,"616-676-2376",null,"616-676-2173",null,null,"Non-Tax Municipality/Utility",null,"Ada Township Fire Dept","Attn: Chief James Duvall","6990 East Fulton",null,null,"Ada Township","MI","49301"]
["Adrian DPW, City of (Dersham)","Keith Dersham",null," 517-264-4829",null," 517-265-8798",null,null,null,null,"Adrian DPW, City of","100 E. Church Street",null,null,null,"Adrian","MI","49221","Mr.","Dersham","City Engineer","Municipal, Cty","Lenawee"]
["Adrian Township Fire Department","Don Betz",null,"517-265-1314",null,"517-266-1672",null,null,"Non-Tax Municipality/Utility",null,"Adrian Township Fire Department","Don Betz","2889 Tipton Hwy",null,null,"Adrian","MI","49221"]
["Advance Security","Dave Balicki",null,"616-774-4011","Cell 616-889-7011","616-774-4077",null,null,"Michigan Sales Tax",null,"Advance Security","Attn: David Balicki","123 Wealthy St. SE",null,null,"Grand Rapids","MI","49503"]
["Advanced Environmental Service (Boddy)","Andy Boddy",null," 616-453-8586",null,null,null,null,null,null,"Advanced Environmental Service","3950 Lake Michigan Drive NW  #A",null,null,null,"Grand Rapids","MI","49534","Mr.","Boddy",null,"Contractor EH&S","Kent"]
["Advanced Supply Co.","Colleen Thompson",null,"1-800-272-9004",null,null,"ktynor@advanced supply.com",null,"NonTx Re-Sale","UPS ACCT# 6058E9\n\nSend Invoices to kgoodwin@advancedsupply.com\n\nBW DISCOUNT:\nInstruments Only - 7% above cost - 35% discount for Agile cost","Advanced Supply Company","Attn:Colleen  PO 40221","8901 W. 192nd Street","Suite D",null,"Mokena","IL","60448"]
["Advanced Supply Company (Lehnerer)","Mike Lehnerer",null," 800-272-9004"," 708-478-4660"," 708-478-4667","mlehnerer@advancedsupply.com",null,null,"Colleen Thompson, Kasey, Kim, Michael (Jr.) (vs. Mike, Sr.) is son; Emil","Advanced Supply Company","8901 West 192nd Street","Suite D",null,null,"Mokena","IL","60448","Mr.","Lehnerer",null,"Supplier","Out of State"]
["Advanced Supply Company (Thompson)","Colleen Thompson",null," 800-272-9004",null," 708-478-4667","cthompson@advancedsupply.com",null,null,"Emil Shadley mob 708.774.0381  eshadley@advancedsupply.com","Advanced Supply Company","8901 West 192nd Street","Suite D",null,null,"Mokena","IL","60448","Ms.","Thompson",null,"Supplier","Out of State"]
["Advantage Cleaning Systems","Jeremy Churchill",null,"616-826-5863 cell","616-875-8569",null,null,null,"Michigan Sales Tax",null,"Advantage Cleaning Systems","Attn: Jeremy Churchill","6151 64 th Ave.",null,null,"Hudsonville","MI","49426"]
["Advantage Cleaning Systems, Inc. (Churchi","Jeremy Churchill",null," 888-204-4616",null," 616-875-8569",null,null,null,null,"Advantage Cleaning Systems, Inc.",null,null,null,null,"Grand Rapids","MI",null,"Mr.","Churchill","Operations Manager","Contractor General","Kent"]
["Advantage Drain Cleaning (Gillons)","Ryan Gillons",null," 269-945-0300",null," 269-945-5390",null,null,null,"Don Colors called for CSE training. Referral from Bill Morey of Hastings DPW, formerly EGR DPW","Advantage Drain Cleaning","1151 Woodlawn","PO Box 393",null,null,"Hastings","MI","49058","Mr.","Gillons","President","Contractor General","Barry"]
["Advantage Drain Cleaning LLC","Ryan Gillons",null,"(269) 945-0300 main","269-838-2168 cell","269-948-4932",null,null,"Michigan Sales Tax","Send invoices to (269) 948-4932","Advantage Drain Cleaning, LLC","1151 East Woodlawn",null,null,null,"Hastings","MI","49058"]
["AECOM (Bittenbender)","Brett Bittenbender",null," 616.975.4665",null," 616.940.4396","Brett.Bittenbender@earthtech.com",null,null,null,"AECOM","5555 Glenwood Hills Parkway SE","PO Box 874",null,null,"Grand Rapids","MI","49588-0874","Mr.","Bittenbender","Engineer","Engineering, Architecture","Kent"]
["AECOM (Grand Rapids)","Brett Bittenbender","Nick Bogater","616-940-4439",null,"616-940-4396",null,null,"Michigan Sales Tax","Dan Titze - O: 616-940-4462 - C: 734-516-6932\nemail:  daniel.titze@aecom.com\nBrad Hoare - O: 616-940-4364 - C: 616-717-3308\nemail:  brad.hoare@aecom.com\nLeanne Miller A/P 616.940.4286\nBrett Hodgson","AECOM (Grand Rapids)","Attn: Brad Hoare","5555 Glenwood Hills Pkwy SE","Suite 300",null,"Grand Rapids","MI","49512"]
["AECOM (Hoare)","Brad Hoare",null," 616-940-4364",null," 616-940-4396","brad.hoare@aecom.com",null,null,null,"AECOM","5555 Glenwood Hills Parkway SE  Ste. 200",null,null,null,"Grand Rapids","MI","49512","Mr.","Hoare",null,"Contractor","Kent"]
["AECOM (Hodgson)","Brett Hodgson",null,null,null," 616-940-4396","brett.hodgson@aecom.com",null,null,"Trained on instrumentation.","AECOM","5555 Glenwood Hills Parkway SE  Ste. 200",null,null,null,"Grand Rapids","MI","49512","Mr.","Hodgson","Safety","Engineering, Architecture","Kent"]
["AECOM (Lansing)","Craig Simon",null,null,"517-775-2564 cell","517-913-5830",null,null,"Michigan Sales Tax",null,"AECOM (Lansing)","Attn:","401 S. Washington Sq.",null,null,"Lansing","MI","48933"]
["AECOM (Lansing) (Simon)","Craig Simon",null,null,null," 517-913-5830","craig.simon@aecom.com",null,null,null,"AECOM (Lansing)","401 S. Washington Square, Ste. 103",null,null,null,"Lansing","MI","48933","Mr.","Simon",null,"Contractor EH&S","Ingham"]
["AECOM (Nolan)","Kristopher Nolan",null," 616-940-4272",null," 616-940-4396","kris.nolan@AECOM.com",null,null,"Carlin Fitzgerald\nKim Armour 616.940.4440\nLeAnn Miller 616.940.4286 A/P","AECOM","5555 Glenwood Hills Parkway SE  Ste. 200",null,null,null,"Grand Rapids","MI","49512","Mr.","Nolan",null,"Engineering, Architecture","Kent"]
["AECOM (Partilla)","Ron Partilla",null," 616-942-9600",null," 616-942-6499",null,null,null,"Steve Baril gone to UP.\nBrett Hodgson mob 616.446.6910; Ryan Wolschleger mob 616.446.6913; Kevin Shaver.  See Travis Westra for local safety needs. Much equip bought by Achmed elKaddah (Chi) and Joel Olive (Richmond, VA)","AECOM","5555 Glenwood Hills Parkway SE","PO Box 874",null,null,"Grand Rapids","MI","49588-0874","Mr.","Partilla","Department Head, Health and Sa","Contractor EH&S","Kent"]
["AECOM (Tolbert)","James Tolbert",null," 616-940-4231",null," 616-940-4396","james.tolbert@aecom.com",null,null,"Trained on instrumentation.","AECOM","5555 Glenwood Hills Parkway SE  Ste. 200",null,null,null,"Grand Rapids","MI","49512","Mr.","Tolbert","Senior Project Director","Engineering, Architecture","Kent"]
["Aegis Safety Consulting, Inc. (Teat)","Gary Teat",null," 616-784-6870",null," 616-784-6871","gteat@aegis-safety.com",null,null,"Also, Eric Offerdahl, Deb Martin","Aegis Safety Consulting, Inc.","420 Morris SE",null,null,null,"Grand Rapids","MI","49503-5320","Mr.","Teat",null,"Contractor EH&S","Kent"]
["Aeriform Instruments (Emerick)","Duane Emerick",null," 800-697-0333",null," 866-697-0333","duane@gasinstruments.com",null,null,null,"Aeriform Instruments","190 Brook Run Drive",null,null,null,"Calloway","VA","24067","Mr.","Emerick","President","Supplier","Out of State"]
["Aeriform Instruments, Inc.",null,null,null,null,null,null,null,"Out of State",null,"Aeriform Instruments, Inc.","Attn:","190 Brookrun Drive",null,null,"Callaway","VA","24067"]
["AES Equipment (Hofstra)","Tom  Hofstra",null," 616-784-6683"," 616-784-6383",null,null,null,null,"CSE Training  per referral from CE Steve Conepacki (sp?) 517.768.5621","AES Equipment","3800 W. River Drive",null,null,null,"Comstock Park","MI","49321","Mr.","Hofstra",null,"Contractor General","Kent"]
["AES Raptor (Vannatta)","Jeff Vannatta",null," 888-990-2990",null," 816-472-0822","jeff@raptorsafety.com",null,null,"Initial mtg w/ Jeff and Bob Hannon at Agile","AES Raptor","1349 Taney Street",null,null,null,"North Kansas City","MO","64116","Mr.","Vannatta","VP, Safety & Training","Supplier","Out of State"]
["AFC","Jim/Cathy",null,"800-952-3293",null,null,null,null,"NonTx Re-Sale",null,"AFC Inc.","Attn: Jim Seneczko","715C SW Almond Street",null,null,"DeMotte","IN","46310"]
["AFC International, Inc. (Seneczko)","Jim Seneczko",null," 800-952-3293",null," 219-987-6826","jseneczko@afcintl.com",null,null,"Recvd -12% off list on Scott sensor  Pam Cathy Emily","AFC International, Inc.","715 Southwest Almond Street","PO Box 894",null,null,"DeMott","IN","46310","Mr.","Seneczko","Vice President","Representative","Out of State"]
["Affordable Window Tint","Robert McHolland",null,"616-399-7048",null,"616-399-7048",null,null,"Michigan Sales Tax",null,"Affordable Window Tint","Attn: Robert McHolland","2546 Plymouth Rock",null,null,"Holland","MI","49424"]
["Affordable Window Tint (McHolland)","Robert McHolland",null," 616-399-7048",null," 616-399-7048","theomi7@sbcglobal.net",null,null,null,"Affordable Window Tint","2546 Plymouth Rock",null,null,null,"Holland","MI","49424","Mr.","McHolland",null,"Competitor","Ottawa"]
["AFH Unlimited","Debbie",null,"937-783-1133",null,"937-783-1157",null,null,"Out of State",null,"AFH Unlimited","Attn: Debbie","10496 Morrow Woodville Rd",null,null,"Blanchester","OH","45107"]
["AGC Inc. (Morgan)","Jesse Morgan",null," 616-842-1820 257",null," 616-842-1851","jmorgan@agc-inc.com",null,null,null,"AGC Inc.","16750 Comstock Street",null,null,null,"Grand Haven","MI","49417","Mr.","Morgan","Operations Manager","Manufacturer","Ottawa"]
["Aggregate Industries (Holmes)","Brett Holmes",null," 269-321-3836",null," 269-321-3838","brett.holmes@aggregate.com",null,null,null,"Aggregate Industries","8075 Creekside Drive, Ste 200",null,null,null,"Kalamazoo","MI","49024","Mr.","Holmes","Safety Advisor","Mining","Kalamazoo"]
["Agile Safety (Burnette)","Elizabeth Burnette",null," 616-301-1402",null," 616-301-1403","elizabeth@agilesafety.com",null,null,null,"Agile Safety","850 Bridge Street NW",null,null,null,"Grand Rapids","MI","49504","Ms.","Burnette",null,"Representative","Kent"]
["Agile Safety (Covington)","Mickey Covington",null,null,null,null,"mickey@agilesafety.com",null,null,"Mickey Covington (McCormick R, Jr.),   Maureen,     Elizabeth\n216-378-9613 home -- do not use","Agile Safety","3400 Landerwood Drive",null,null,null,"Pepper Pike","OH","44124","Mr.","Covington",null,"Distributor","Out of State"]
["Agile Safety (In-House Use)",null,null,null,null,null,null,null,"Non-Tax",null,"Agile Safety","850 Bridge Street NW",null,null,null,"Grand Rapids","MI","49504"]
["Agile Safety LLC (Burnette)","Brandon Burnette",null," 616-301-1402",null," 616-301-1403","brandon@agilesafety.com",null,null,null,"Agile Safety LLC","850 Bridge Street NW",null,null,null,"Grand Rapids","MI","49504","Mr.","Burnette","President","Representative","Kent"]
["Agile Safety LLC (Hammond)","Chris Hammond",null," 616-301-1402",null," 616-301-1403","chris@agilesafety.com",null,null,null,"Agile Safety LLC","850 Bridge Street NW",null,null,null,"Grand Rapids","MI","49504","Mr.","Hammond","Service and Rental Manager","Representative","Kent"]
["Agile Safety LLC (Lemon)","Dan Lemon",null," 616-301-1402",null," 616-301-1403","lemonchief@gmail.com",null,null,"New cell:  320-492-4068\nlemonchief@gmail.com","Agile Safety LLC","850 Bridge Street NW",null,null,null,"Grand Rapids","MI","49503",null,"Lemon","Sales Representative","Representative","Kent"]
["Agile Safety LLC (Ponte)","Grant Ponte",null," 616-301-1402",null," 616-301-1403","grant@agilesafety.com",null,null,null,"Agile Safety LLC","850 Bridge Street NW",null,null,null,"Grand Rapids","MI","49504",null,"Ponte",null,"Representative","Kent"]
["Agile Safety LLC (Smith)","Shaun Smith",null," 616-301-1402",null," 616-301-1403","shaun@agilesafety.com",null,null,null,"Agile Safety LLC","850 Bridge Street NW",null,null,null,"Grand Rapids","MI","49504","Mr.","Smith",null,"Representative","Kent"]
["Agritek Inc. (Weerstra)","John Weerstra",null," 616-786-9200",null,null,null,null,null,null,"Agritek Inc.","4211 Hallacy Drive",null,null,null,"Holland","MI","49424","Mr.","Weerstra","Safety Director",null,"Ottawa"]
["Ahlgren, Perrault & Turner, P.A. (Ahlgren","John L. Ahlgren",null," 603-431-4522",null," 603-427-0005","lawgren@nh.rcn.com",null,null,null,"Ahlgren, Perrault & Turner, P.A.","101 Market Street",null,null,null,"Portsmouth","NH","3801","Mr.","Ahlgren","Attorney at Law","BBB Personal","Rockingham"]
["Air Handling Equipment Co., Inc. (Masters","Greg Masters",null," 517-484-4604",null," 517-484-8605",null,null,null,null,"Air Handling Equipment Co., Inc.","PO Box 4787",null,null,null,"East Lansing","MI","48826","Mr.","Masters",null,"Supplier","Ingham"]
["Air Liquide - Calgaz (Dobbs)","Terry Dobbs",null," 480-814-1178"," 800-638-1197"," 480-814-1391","terry.dobbs@airliquide.com",null,null,"Vicki  Amy  Wanda","Air Liquide - Calgaz","958 W. Redwood Drive",null,null,null,"Chandler","AZ","85248","Ms.","Dobbs","Region Sales Manager - Calgaz","Supplier","Out of State"]
["Air Liquide America - Calgaz (Baker)","George Baker",null," 800-638-1197",null," 410-228-4251","george.baker@airliquide.com",null,null,null,"Air Liquide America - Calgaz","821 Chesapeake Drive",null,null,null,"Cambridge","MD","21613","Mr.","Baker","Engineer","Supplier","Out of State"]
["Air Systems International, Inc. (Ellis)","Ray Ellis",null," 800-866-8100",null," 800-247-5850","ray@airsystems.com",null,null,"Maria Combs; Marcey Ricucci m 757.650.3682\nDwayne King VP Prodn; \nNick Bowden Natl Sales Mgr\nMike Boney AutoCad Guy\nKen Urbano UK\nRay Ellis","Air Systems International, Inc.","821 Juniper Crescent",null,null,null,"Chesapeake","VA","23320","Mr.","Ellis","Sales Manager","Supplier","Out State"]
["AirGas Great Lakes","Jim Borland","Paul Sheldon (Port Huron)","810-730-3639","810-985-6159",null,"jim.borland@airgas.com",null,"Michigan Sales Tax","06/20/2011:  Only warranty order thus far, so no terms have been requested","AirGas Great Lakes (Madison Heights)","Attn:","25455 dequindre Road",null,null,"Madison Heights","MI","48071"]
["Airgas Merchant Gases","Anita",null,"330-454-1330",null,null,null,null,"Out of State",null,"Airgas Merchant Gases","2505 Shepler Church Ave SW",null,null,null,"Canton","OH","44706"]
["AirGas Safety (Customer)","Cari Smitley x3620",null,"800-445-3711",null,null,"cari.smitley@airgas.com",null,"Out of State",null,"AirGas Safety","Attn:","3025 Evergreen Dr. Suite 150",null,null,"Duluth","GA","30096"]
["Airgas Safety (Mitchell)","Becky Mitchell",null," 800-445-3711 3609",null," 800-500-3993",null,null,null,"Orlanda\nAcct# 1156988   Chante Newton, Dennis Evans, Robert Hurley (rtd) all gone","Airgas Safety","2700 Breckinridge",null,null,null,"Duluth","GA","30096","Ms.","Mitchell",null,"Supplier","Out of State"]
["Al's Excavating Inc. (Haverdink)","Dave Haverdink",null," 269-751-5158",null," 269-751-8994",null,null,null,"Met Dave. Showed PPE. Quote PPE","Al's Excavating Inc.","4515 134th Ave.",null,null,null,"Hamilton","MI","49419","Mr.","Haverdink","Operations",null,"Ottawa"]
["Albemarle Corporation","Lynda Antonson","Vicky Montacelli","269-637-8474","accting x156","269-637-8410","apinvoices@albemarle.com",null,"Non-Tax","Mark.Nyboer@albemarle.com\nDirect:  269-639-0267\nCell:  616-218-0277\n\nBill Brooks - Maint. Supervisor - 269-639-0233\n\nTrayton Jordan - Direct 269-639-0120\n\nPhysical Address:\n1421 Kalamazoo St, South Haven, MI 49090","Albemarle Corporation","Attn:","09250 M-140 Hwy",null,null,"South Haven","MI","49090","Mr.","Lalick"]
["Albemarle Corporation (Grant)","Jeff Grant",null," 269-637-8474",null," 269-637-8410","jeff.grant@dsm.com",null,null,"Trayton Jordan works on GA Micro 5 PID\ntrayton.jordan@albemarle.com\nBill Brooks Maintenace Supervisor\nRoss Lyons for arc? per Brent at Buist.\nKen Salome elec   John Kozinski","Albemarle Corporation","1421 Kalamazoo Street",null,null,null,"South Haven","MI","49090","Mr.","Grant","EH&S Manager","Chemical Pharmaceutical","Van Buren"]
["Albemarle Corporation (Jordan)","Trayton Jordan",null," 269-639-0120",null," 269-637-8410","trayton.jordan@albemarle.com",null,null,"Maintenace contact for service of gas detectors","Albemarle Corporation","1421 Kalamazoo Street",null,null,null,"South Haven","MI","49090","Mr.","Jordan",null,"Chemical Pharmaceutical","Van Buren"]
["Albemarle Corporation (Lang)","Chris Lang",null," 269-637-8474",null," 269-637-8410","christopher.lang@dsm.com",null,null,"Trayton Jordan works on GA Micro 5 PID\ntrayton.jordan@albemarle.com\nBill Brooks Maintenace Supervisor\nRoss Lyons for arc? per Brent at Buist.\nKen Salome elec   John Kozinski","Albemarle Corporation","1421 Kalamazoo Street",null,null,null,"South Haven","MI","49090","Mr.","Lang","EH&S","Chemical Pharmaceutical","Van Buren"]
["Albemarle Corporation (Mokma)","Jerry L. Mokma",null," 269-637-8474",null," 269-637-8410","jerry.mokma@albemarle.com",null,null,null,"Albemarle Corporation","1421 Kalamazoo Street",null,null,null,"South Haven","MI","49090","Mr.","Mokma","Mainenance Supervisor",null,"Van Buren"]
["Alberici Constructors (Schneck)","Dave Schneck",null," 734-261-2611"," 414-305-1786"," 734-422-8987",null,null,null,"Met at Pitsch CSE training at American Axle.","Alberici Constructors","13040 Merriman Road",null,null,null,"Livonia","MI","48150-1816","Mr.","Schneck","Field Safety","Contractor General","Wayne"]
["Alcoa Automotive (McCarty)","John McCarty",null," 616-842-3500 1104",null," 231-842-5872",null,null,null,null,"Alcoa Automotive","Michigan Casting Center","14638 Apple Drive",null,null,"Fruitport","MI","49415-9509","Mr.","McCarty","EH&S Manager","Steel","Muskegon"]
["Alcoa Closure Systems International","Sherry Allen (buyer)",null,"765-364-6221",null,"765-364-6238",null,null,"Non-Tax",null,"Alcoa Closure Systems International","Attn:Jim Roberts","1604 Elmore Street",null,null,"Crawfordsville","IN","47933"]
["Alcoa Closure Systems International (Robe","James C.W. Roberts",null," 765-364-7387",null," 765-364-6238","jim.roberts@alcoa.com",null,null,null,"Alcoa Closure Systems International","1604 E. Elmore Street",null,null,null,"Crawfordsville","IN","47933","Mr.","Roberts","EHS Manager","Steel","Out of State"]
["Alcoa Engineered Systems (Yankton, SD)","Katie Kehow (billing)","Daniel Benson","412-553-2360 Billing","605-665-6063-Ship To",null,null,null,"Out of State","<150 lbs. UPS Collect Account # 570220","Alcoa Extrusions, Inc.","Attn:","2500 Alumax Road",null,null,"Yankton","SD","57078"]
["Alcoa Howment Castings (Copley)","Darryl Copley",null," 231-894-7122",null,null,"dcopley@howmet.com",null,null,null,"Alcoa Howment Castings","1600 South Warner Street",null,null,null,"Whitehall","MI","49461","Mr.","Copley","Plant Engineer","Manufacturer","Muskegon"]
["Alcoa Howment Castings (Lindstrom)","Matthew L. Lindstrom",null," 231-894-7639",null," 231-894-7951","mlindstrom@howmet.com",null,null,"Don Moinet Engineer, 894.7736 plant 8 for UCL\nJohn Rebiski Engineer, plant 10 for UCL","Alcoa Howment Castings","One Misco Drive",null,null,null,"Whitehall","MI","49461","Mr.","Lindstrom","Manufacturing Engineer","Manufacturer","Muskegon"]
["Alcoa Howment Castings (Parrish)","Michael F. Parrish",null," 231-894-7144",null," 231-894-7499","mparrish@howmet.com",null,null,null,"Alcoa Howment Castings","1600 South Warner Street",null,null,null,"Whitehall","MI","49461","Mr.","Parrish","Manufacturing Engineer","Manufacturer","Muskegon"]
["Alcoa Howment Castings (Seaver)","Gary Seaver",null," 231-894-7682",null," 231-894-7856","gary.seaver@alcoa.com",null,null,"met; will send pics for fall application","Alcoa Howment Castings","1600 South Warner Street",null,null,null,"Whitehall","MI","49461","Mr.","Seaver","Plant Engineer",null,"Muskegon"]
["Alcoa Howment Castings (Shepherd)","Bruce Shepherd",null," 231-894-7554",null," 231-894-7676","bshepherd@howmet.com",null,null,null,"Alcoa Howment Castings","One Misco Drive",null,null,null,"Whitehall","MI","49461","Mr.","Shepherd","EH&S Manager","Manufacturer","Muskegon"]
["Alcoa Yankton (Benson)","Dan Benson",null," 605-668-2340",null," 605-668-2362","dan.j.benson@alcoa.com",null,null,null,"Alcoa Yankton","2500 Alumax Road",null,null,null,"Yankton","SD","57078","Mr.","Benson","EHS Coordinator","Steel","Out of State"]
["Aleris International, Inc. (Myers)","Brady Myers",null," 517-279-4042",null,null,"brady.myers@aleris.com",null,null,"aluminum recycler  Ken Zortman (Mntc Process Supt.)","Aleris International, Inc.","368 West Garfield Avenue",null,null,null,"Coldwater","MI","49036","Mr.","Myers","Safety Manager","Steel","Branch"]
["Alise Inc (Lynch)","Mick Lynch",null," 269-329-1600",null," 269-329-2494","service@americanhydrogeology.com",null,null,"Ken Imel mob 269.998.2729 fax quote for PAVM XP\nTeri answers phone Lisa (Mick's wife) and Mick handle payables","Alise Inc","6869 S. Sprinkle Road",null,null,null,"Portage","MI","49002","Mr.","Lynch","President","Contractor EH&S","Kalamazoo"]
["Alise Inc (Rogers)","Michael Rogers",null," 608-836-7200 4079",null," 608-828-4797","mike.rogers@americangirl.com",null,null,null,"Alise Inc","8400 Fairway Place",null,null,null,"Middleton","WI","53562","Mr.","Rogers","Facilities Manager","Manufacturer","Out of State"]
["ALJ International","Andrea Shane",null,"260-623-3109",null,"260-623-3433","agshane@profigy.cit",null,"Out of State",null,"ALJAN International","Attn: Andrea Shane","11065 North 600 East",null,null,"Monroeville","IN","46773"]
["All Around Excavating","Chad Zerlaut",null,"231-834-1729","231-629-0198 cell","231-834-5433",null,null,"Michigan Sales Tax",null,"All Around Excavating","Attn:",null,null,null,"Grant","MI","49327"]
["All Phase Hydraulic (Brandon)","Brandon",null," 616-669-3975",null,null,null,null,null,null,"All Phase Hydraulic","3364 Quincy St.",null,null,null,"Hudsonville","MI","49426",null,"Brandon","Safety/Operations",null,"Ottawa"]
["Allegan County Road Commission","Ken Glupker",null,"269-673-2184 x233",null,"269-673-5922",null,null,"Non-Tax Municipality/Utility","Fax Invoices to (269) 673-5922","Allegan County Road Commission","Attn:","1308 Lincoln Rd.",null,null,"Allegan","MI","49010-9762"]
["Allegan County Road Commission (Glupker)","Ken Glupker",null," 269-673-2181 233",null," 269-673-5922","roadcom@alleganroads.org",null,null,null,"Allegan County Road Commission","112 Locust Street",null,null,null,"Allegan","MI","49010","Mr.","Glupker","Equipment Superintendent","Municipal, Cty","Allegan"]
["Allegan DPW, City of","Aaron Haskin",null,"269-673-5511",null,"269-217-7928",null,null,"Non-Tax Municipality/Utility",null,"Allegan DPW, City of","Attn:","691 Airway Dr.",null,null,"Allegan","MI","49010"]
["Allegan DPW, City of (Courtney)","Laurie Courtney",null," 269-673-5511",null," 269-686-9371",null,null,null,"Laurie does purchasing for the DPW.\n-have full-line PPE quote, but are still price conscious","Allegan DPW, City of","112 Locust Street",null,null,null,"Allegan","MI","49010","Mrs.","Courtney","Stockkeeper","Municipal, Cty","Allegan"]
["Allegan DPW, City of (Haskin)","Aaron Haskin",null," 269-673-5511",null," 269-686-9371","ahaskin@charterinternet.com",null,null,"Tammy is Sec.","Allegan DPW, City of","112 Locust Street",null,null,null,"Allegan","MI","49010","Mr.","Haskin","Director","Municipal, Cty","Allegan"]
["Allegan DPW, City of (Wilson)","Jerry Wilson",null," 269-673-5511",null," 269-686-9371",null,null,null,null,"Allegan DPW, City of","112 Locust Street",null,null,null,"Allegan","MI","49010","Mr.","Wilson",null,"Municipal, Cty","Allegan"]
["Allegan Fire Department, City of (Day)","Rick Day",null," 269-673-4459",null," 269-686-8262","allegan101@datawise.net",null,null,null,"Allegan Fire Department, City of","300 Monroe",null,null,null,"Allegan","MI","49010",null,"Day","Fire Chief","Fire Department","Allegan"]
["Allegan Fire Department, City of (Luyk)","Shaun Luyk",null," 269-673-4459",null," 269-686-8262","afd102@charterinternet.com",null,null,null,"Allegan Fire Department, City of","300 Monroe Street",null,null,null,"Allegan","MI","49010",null,"Luyk",null,"Fire Department","Allegan"]
["Allegan Fire District","Chief Bruce Hoyer","Dep. Cheif Shaun Luyk","269-673-4459","cell 269-720-7689","269-686-8262",null,null,"Non-Tax",null,"Allegan Fire District","Chief","300 Monroe Street",null,null,"Allegan","MI","49010"]
["Allegan Metal Finishing Company (AMFCO) (","Walter Bosnowski",null," 269-673-6604",null,null,null,null,null,null,"Allegan Metal Finishing Company (AMFCO)","1274 Lincoln Rd.",null,null,null,"Allegan","MI","49010",null,"Bosnowski","President","Metal Finishing","Allegan"]
["Allegan Police Department (Gorr)","Ltnt. Dennis Gorr",null," 269-673-2115",null,null,null,null,null,null,"Allegan Police Department","170 Monroe St.",null,null,null,"Allegan","MI","49010",null,"Gorr","Head of Police",null,"Allegan"]
["Allegan Wastewater Treatment, City of (Sw","Doug Sweeris",null," 269-686-1117"," 616-673-5511"," 269-673-2869","alleganwwtp@gmail.com",null,null,null,"Allegan Wastewater Treatment, City of","350 North Street",null,null,null,"Allegan","MI","49010","Mr.","Sweeris","Superintendent","Municipal, Cty","Allegan"]
["Allegan WWTP, City of",null,"Doug Sweeris","269-686-1117",null,"269-673-7323",null,null,"Non-Tax Municipality/Utility",null,"Allegan WWTP, City of","Attn: Doug Sweeris","350 North Street",null,null,"Allegan","MI","49010"]
["Allegro Industries (Butler)","Susan Butler",null," 800-622-3530",null," 800-362-7231",null,null,null,"Gary Gray  m 714.315.4800","Allegro Industries","7221 Orangewood Avenue",null,null,null,"Garden Grove","CA","92841","Ms.","Butler",null,"Supplier","Out of State"]
["Allendale Charter Twp. Public Works Dept.","Chad Doornbos",null," 616-895-5142",null," 616-892-7320","cdoornbos108@firehousemail.com",null,null,"Anthony Venhuizen\nSharron Besteman Safety Dir for City","Allendale Charter Twp. Public Works Dept.","11624 - 40th Ave.",null,null,null,"Allendale","MI","49401","Mr.","Doornbos","Technician","Municipal, Cty","Ottawa"]
["Allendale Charter Twp., Public Works","Nina Buist","Chad Doornbos","616-895-5142",null,"616-892-7320",null,null,"Non-Tax Municipality/Utility","Fax invoices to (616) 896-7320","Allendale Charter Twp., Public Works","Attn: Chad Doornbos","11624 - 40th Ave.",null,null,"Allendale","MI","49401"]
["Alliance Techsystems","Joe Brislin",null,"540-639-7862",null,null,"joseph.brislin@atk.com",null,"Out of State",null,"Alliance Techsystems","Attn: Joe Brislin","Route 114","Radford Army Ammunition Plant",null,"Radford","VA","24141"]
["Alliant Energy Edgewater Generating Stati","Jerry Strouf",null," 920-459-6171",null," 920-459-6126","jerrystrouf@alliantenergy.com",null,null,null,"Alliant Energy Edgewater Generating Stati","3739 Lakeshore Drive",null,null,null,"Sheboygan","WI","53081-7233","Mr.","Strouf",null,"Utility","Out of State"]
["Allied Electric, Inc.","Pat Sanford","Elyssa (payables)sp?","616-791-1164",null,"616-791-9361","eogden@alliedelectric.com",null,"Michigan Sales Tax","Pat Sanford - ext. 139\n\nEmail Invoices to eogden@alliedalectricinc.com","Allied Electric, Inc.","Attn:Pat Sanford","2503 Waldorf Ct. NW",null,null,"Grand Rapids","MI","49544"]
["Allied Electric, Inc. (Fraam)","Dave Fraam",null," 616-791-1164",null," 616-791-1168","dfraam@alliedelectricinc.com",null,null,null,"Allied Electric, Inc.","2503 Waldorf Ct. NW",null,null,null,"Grand Rapids","MI","49544","Mr.","Fraam","Service Manager","Contractor Electrical","Kent"]
["Allied Electric, Inc. (Sanford)","Pat Sanford",null," 616-791-1164",null," 616-791-9361","psanford@alliedelectricinc.com",null,null,null,"Allied Electric, Inc.","2503 Waldorf Ct. NW",null,null,null,"Grand Rapids","MI","49544","Mr.","Sanford",null,"Contractor Electrical","Kent"]
["Allied Electric, Inc. (VanSweden)","Dan VanSweden",null," 616-791-1164",null," 616-791-9361","dvansweden@alliedelectricinc.com",null,null,"Dave Fraam (dielectric blankets)  Matt Bertke  Pat Sanford mob 616.292.0693","Allied Electric, Inc.","2503 Waldorf Ct. NW",null,null,null,"Grand Rapids","MI","49544","Mr.","VanSweden","Service Director","Contractor Electrical","Kent"]
["Allied Environmental Services","Dan Clemens",null,"419-227-4004",null,null,null,null,"Out of State",null,"Allied Environmental Services","Attn:","1867 South Dixie Hwy",null,null,"Lima","OH","45804"]
["Allied Mechanical Services, Inc. (DeJong)","Marty DeJong",null," 269-344-0191",null," 269-344-0196","mdejong@alliedmechanical.com",null,null,"Darrel Larsen 269.207.1270 mob is tool shop leader","Allied Mechanical Services, Inc.","5688 East ML Avenue","PO Box 2587",null,null,"Kalamazoo","MI","49048","Mr.","DeJong","Safety Manager","Contractor General","Kalamazoo"]
["Allied Mechanical Services, Inc. (Larsen)","Darrel Larsen",null," 269-344-0191",null," 269-344-0196","dlarsen@alliedmechanical.com",null,null,null,"Allied Mechanical Services, Inc.","5688 East ML Avenue","PO Box 2587",null,null,"Kalamazoo","MI","49001","Mr.","Larsen","Tool Shop Leader","Contractor General","Kalamazoo"]
["Allied Waste Services/Sunset Waste Servic","Sandy Josupiet",null," 800-541-2916",null," 231-777-8073","sjosupiet@republicservices.com",null,null,"larry either retired, got firedor moved to another position\nSandy is Corporate...location unknown","Allied Waste Services/Sunset Waste Servic","261 Olthoff",null,null,null,"Muskegon","MI","49442","Mrs.","Josupiet","Regional Safety Director","Waste Management","Muskegon"]
["Alloy Exchange (Thebo)","Greg Thebo",null," 616-863-0640",null," 616-863-0644","greg@alloyexchangeinc.com",null,null,"Tripp Corl President 616-443-7448  tripp@alloyexchangeinc.com","Alloy Exchange","300 Rockford Park Dr.",null,null,null,"Rockford","MI","49341",null,"Thebo","VP of Operations","Steel","Kent"]
["Allstate Electric, Inc. (Feyen)","Tim Feyen",null," 616-669-2520",null," 616-669-9030","timfeyen@allstateelectric.net",null,null,null,"Allstate Electric, Inc.","1961 Pine Ridge Drive",null,null,null,"Jenison","MI","49428","Mr.","Feyen","Safety","Contractor Electrical","Kent"]
["Allstate Insurance (Hughes)","Kim Hughes",null," 616-458-4995",null,null,null,null,null,"Greg. Car insurance.","Allstate Insurance","2143 Wealthy Street, SE",null,null,null,"East Grand Rapids","MI","49506","Ms.","Hughes","President","Insurance","Kent"]
["Alma College","Mark Cubberly",null,"989-463-7362","home 989-463-7076","989-463-7076",null,null,"NTU",null,"Alma College","Attn: Mark Cubberly","614 West Superior",null,null,"Alma","MI","48801"]
["Alma College (Cubberly)","Mark Cubberly",null," 989-463-7362"," 989-466-0302 home"," 989-463-7076",null,null,null,null,"Alma College","614 West Superior",null,null,null,"Alma","MI","48801","Mr.","Cubberly","Professor of Chemistry","School","Do Not Know"]
["Alma DPW, City of","Lee Coughlin","989-463-8336","989-463-8670",null,"989-463-2531",null,null,"Non-Tax Municipality/Utility","*Acct payable","Alma DPW, City of","Attn: Lee Coughlin","800 Washington",null,null,"Alma","MI","48801"]
["Alma DPW, City of (Coughlin)","Lee Coughlin",null," 989-463-8670",null," 989-463-2531",null,null,null,"Met, bought safety specs","Alma DPW, City of","800 Washington","PO Box 278",null,null,"Alma","MI","48801","Mr.","Coughlin","Superintendent","Municipal, Cty","Gratiot"]
["Alma Water Plant, City of (Pilmore)","Bill Pilmore",null," 989-463-8349",null," 989-463-5574",null,null,null,null,"Alma Water Plant, City of","200 North Lincoln",null,null,null,"Alma","MI","48801","Mr.","Pilmore","Superintendent","Municipal, Cty","Gratiot"]
["Alma WWTP, City of (Walworth)","Donald Walworth",null," 989-463-6506",null," 989-463-5574","dwalworth@ci.alma.mi.us",null,null,null,"Alma WWTP, City of","1000 Washington","PO Box 278",null,null,"Alma","MI","48801","Mr.","Walworth","Superintendent","Municipal, Cty","Gratiot"]
["Almond Products","Darrell Wyatt",null,"616-844-1813",null,"616-844-3053",null,null,"Michigan Sales Tax",null,"Almond Products","Attn: Darrell Wyatt","17150  148th Avenue",null,null,"Spring Lake","MI","49456"]
["Almond Products (Wyatt)","Darrell Wyatt",null," 616-844-1813",null," 616-844-3053",null,null,null,"Lori Bolema x215.  All part of Quoin? Inc.  Also Almond in Musk and Miller Products in GR","Almond Products","17150  148th Avenue",null,null,null,"Spring Lake","MI","49456","Mr.","Wyatt","Maintenance Engineer","Manufacturer","Ottawa"]
["Aloha State Park",null,null,null,null,null,null,null,"Non-Tax Municipality/Utility","Jeremy Spell - 231-625-0211\n","Aloha State Park","Attn:","4347 Third St.",null,null,"Cheboygan","MI","49721"]
["Alpena Reginal Medical Center","Janine (purchasing)",null,"989-591-7581",null,null,null,null,"Michigan Sales Tax",null,"Alpena Reginal Medical Center","Attn: Recieving - John E Lyberg","1501 W. Chisholm St.",null,null,"Alpena","MI","49707"]
["Alpha Technologies of Northern Ireland, L","Liam Duffy",null," 011-442-879418161",null," 011-442-828260548","lduffy@alphatechs.com",null,null,null,"Alpha Technologies of Northern Ireland, L","2-3 Curram Point",null,null,null,"Larne, , BT40AU",null,null,"Mr.","Duffy",null,"Contractor EH&S","Out of State"]
["Alpha Technology (Rauls)","Jody Rauls",null," 517-546-9700 239",null," 517-546-5926","jrauls@altec-us.com",null,null,null,"Alpha Technology","251 Mason","PO Box 168",null,null,"Howell","MI","48844",null,"Rauls",null,null,"Livingston"]
["Alro Steel Corporation (Stachlewitz)","Pat Stachlewitz",null," 517-788-3290",null," 517-780-3466","pstachlewitz@alro.com",null,null,null,"Alro Steel Corporation","3100 E. High Street",null,null,null,"Jackson","MI","49204-0927","Mr.","Stachlewitz",null,"Steel","Jackson"]
["Alstom power (Douglas)","Jill Douglas",null," 269-687-2590",null,null,null,null,null,null,"Alstom power","3130 S. 11th St.",null,null,null,"Niles","MI","49120","Mrs.","Douglas","Site Safety Manager","Utility","Kalamazoo"]
["Alternative Mechanical (Fahl)","Kevin Fahl",null," 616-452-6554 21",null," 616-452-6534","kfahl@altmech.com",null,null,null,"Alternative Mechanical","1200 Jefferson S.E.",null,null,null,"Grand Rapids","MI","49507","Mr.","Fahl",null,"Contractor General","Kent"]
["Alternative Mechanical (Ortega)","Richard Ortega",null," 616-452-6554 24",null," 616-452-6534","rortega@altmech.com",null,null,null,"Alternative Mechanical","1200 Jefferson S.E.",null,null,null,"Grand Rapids","MI","49507","Mr.","Ortega","President","Contractor General","Kent"]
["Alternative Mechanical LLC","Page Kelly x-20 Accting","Dick Ortega / Kevin","616-452-6554",null,null,null,null,"Michigan Sales Tax","Refrences came back at 60days delinquent do not extend terms","Alternative Mechanical","Attn: Mike kramer","1200 Jefferson Ave SE",null,null,"Grand Rapids","MI","49507"]
["Alticor -- Access Business Group (Hammer)","Lisa Hammer",null," 616-787-1153",null," 616-787-4976","lisa_hammer@accessbusinessgroup.com",null,null,"Covers HazMat, Safety, Emergency Mgmt","Alticor -- Access Business Group","7575 Fulton Street East",null,null,null,"Ada","MI","49355","Ms.","Hammer",null,"Manufacturer","Kent"]
["Alticor -- Access Business Group (Heindlm","Joe Heindlmeyer",null," 616-787-8434",null," 616-787-4976","joseph.heindlmeyer@alticor.com",null,null,"Steve Grooms 616.787.1732 steve_grooms@accessbusinessgroup.com\nand Clark working on Martor Megasafe 116001 Safety Knife","Alticor -- Access Business Group","7575 Fulton",null,null,null,"Ada","MI","49355","Mr.","Heindlmeyer","Safety Manager","Manufacturer","Kent"]
["Alticor -- Access Business Group (Kunkle)","Robert Kunkle",null," 616-787-5906",null," 616-787-4976","robert_kunkle@alticor.com",null,null,"Chuck Davison, EHS Mgr. (Vicki Weeks sec'y) \n  Joe Heindlmeyer, Safety Mgr: 787.8434\n      Clark Neu x6214, Lisa Dysland x1153, Paula Mutrynowski\n  Robt Kunkle, Env'l Mgr: x5906\n       Shelly Stephens x8343 (HazMat, Emergy Mgmt)\n  Art Schmude (HazWaste Process Safety)\nDan Walsh Facilities and Mntc Mgr: 787.5134\n  Dan Callan, Group Supr.\n  Neil Buehler, Mntc Mgr 787.7150\n  Pam (secy), x6740\nMike McDonald 787.7278 Capital Projects?\nBill Walrath went to Engg","Alticor -- Access Business Group","7575 Fulton Street East",null,null,null,"Ada","MI","49355","Mr.","Kunkle","EH&S","Manufacturer","Kent"]
["Alticor -- Access Business Group (Neu)","Clark Neu",null," 616-787-6214",null," 616-787-4976","clark_neu@accessbusinessgroup.com",null,null,"Steve Grooms 616.787.1732  was looking at safety knife (martor)\nAndy Brouwer   Matt Hoover Ron Brechting  Al McCarty","Alticor -- Access Business Group","7575 Fulton Street East",null,null,null,"Ada","MI","49355","Mr.","Neu","Safety Coordinator, EH&S","Manufacturer","Kent"]
["Alticor -- Access Business Group (Stephen","Shelly Stephens",null," 616-787-8343",null," 616-787-4976","shelly.stephens@alticor.com",null,null,"Ross Traverse x7608; Mike McDonald x7278;","Alticor -- Access Business Group","7575 Fulton Street East",null,null,null,"Ada","MI","49355","Ms.","Stephens","Safety Coordinator","Manufacturer","Kent"]
["Alticor -- Access Business Group (Travers","Ross Traverse",null," 616-787-7608",null," 616-787-4976","ross_traverse@accessbusinessgroup.com",null,null,null,"Alticor -- Access Business Group","7575 Fulton",null,null,null,"Ada","MI","49355","Mr.","Traverse","Industrial Hygienist","Manufacturer","Kent"]
["Altron Automation, Inc. (McNees)","Ron McNees",null," 616-662-7401",null,null,null,null,null,null,"Altron Automation, Inc.","3523 Highland Dr.",null,null,null,"Hudsonville","MI","49426","Mr.","McNees","President",null,"Ottawa"]
["American Autocoat (Antuma)","Kathy Antuma",null," 616-669-9040",null," 616-669-9064",null,null,null,null,"American Autocoat","3565 Highland Dr.",null,null,null,"Hudsonville","MI","49426","Ms.","Antuma","Human Resources Director",null,"Ottawa"]
["American Axle & Manufacturing","Gerald Timmer",null,"313-974-2860","mob 269-506-7448","313-974-2249",null,null,"Michigan Sales Tax",null,"American Axle & Manufacturing","TRI-Three Rivers Indirect","One Manufacturing Drive",null,null,"Three Rivers","MI","49093"]
["American Axle & Manufacturing (Howard)","Chaileta Howard",null," 313-974-2454",null," 313-974-2445",null,null,null,"Faxed copy of quote to Gerry Timmer for fall protection training.","American Axle & Manufacturing","1840 Holbrook",null,null,null,"Detroit","MI","48212","Ms.","Howard","Purchasing Agent","Automotive","Wayne"]
["American Axle & Manufacturing (Timmer)","Gerry Timmer",null," 269-278-0282",null," 269-278-0209","timmerg@aam.com",null,null,null,"American Axle & Manufacturing","One Manufacturing Drive",null,null,null,"Three Rivers","MI","49093","Mr.","Timmer","EH&S Manager","Automotive","St. Joseph"]
["American Board of Industrial Hygiene (O'D","Lynn O'Donnell",null," 517-321-2638 16",null," 517-321-4624","abih@abih.org",null,null,"h 616.897.5877","American Board of Industrial Hygiene","6015 W. St. Joseph,  Suite 102",null,null,null,"Lansing","MI","48917","Ms.","O'Donnell","Executive Director","Other","Ingham"]
["American Controls Inc.","Mark Murray",null,"248-476-7782 x224",null,null,null,null,"NonTx Re-Sale",null,"American Controls Inc.","Attn: Mark Murray PO#63006","20764 Whitlock St.",null,null,"Farmington Hills","MI","48336"]
["American Electric Power (Swart)","Mark Swart",null," 269-466-2879",null," 269-466-2758",null,null,null,null,"American Electric Power","One Cook Place",null,null,null,"Bridgman","MI","49106","Mr.","Swart","Safety & Health Specialist","Utility","Berrien"]
["American Electric Power Cook Plant","Randy Johns",null,"269-465-5901",null,"269-466-2550",null,null,"Non-Tax",null,"American Electric Power Cook Plant","Attn: Material Center","9970 Red Arrow Highway",null,null,"Bridgman","MI","49106"]
["American Electric Power Cook Plant (Johns","Randy Johns",null," 269-465-5901",null," 269-466-2550","rrjohns@aep.com",null,null,"to page: 269.465.5901  2910  1117  then call-back number","American Electric Power Cook Plant","One Cook Place",null,null,null,"Bridgman","MI","49106","Mr.","Johns","Safety & Health Specialist","Utility","Berrien"]
["American Environmental Group (St. Johns)","Home Office - Main office in notes",null,"330-659-5931","330-659-5930","cell: 815-671-0203",null,null,"Out of State","Main Office:\n3600 Bricksfield Road\nRichfield, OH 44286","American Environmental Group (St. Johns)","David Ovanek","8960 Marquette Street",null,null,"St. Johns","IN","46373"]
["American Hydrogeology",null,"Ken Imel","269-329-1600",null,"269-329-2494",null,null,"Michigan Sales Tax","Visa:  4308-5829-0342-9569  Exp:  10/09\nPO Box 815 - 49081\n\nKen Imel - 269-998-2729 Cell, Amex on file\n\n\n","American Hydrogeology","Attn: Ken Imel","6869 S. Sprinkle Rd.",null,null,"Portage","MI","49002"]
["American Hydrogeology Corporation (Mitche","Bill Mitchell",null," 269-329-1600",null," 269-329-2494","service@americanhydrogeology.com",null,null,"Ken Imel buys PPE","American Hydrogeology Corporation","6869 S. Sprinkle Road",null,null,null,"Portage","MI","49002","Mr.","Mitchell",null,"Contractor EH&S","Kalamazoo"]
["American Mitsuba / CME Corp","Jerry Haines x-235",null,"989-773-0377",null,"989-773-0377",null,null,"Michigan Sales Tax","Todd Greenlee: 989.773.0377 x.2318\n  todd-greenlee@cme.mitsuba-gr.com","American Mitsuba / CME Corp","Attn:","2945 Three Leaves Drive",null,null,"Mt. Pleasant","MI","48858"]
["American Producers Supply","Dianna",null,"740-354-3479",null,null,null,null,"No-Tax Resale OH","Re-Sale Customer (purchase discount)","American Producers Supply","Attn: Diana Pasturzak","1763 - 10th Street",null,null,"Portsmouth","OH","45662"]
["American Rigger's Supply, Inc. (Knehans)","Jim Knehans",null," 913-371-1357",null," 913-371-8547","jfk@kc.rr.com",null,null,null,"American Rigger's Supply, Inc.","1010 Kansas Ave.",null,null,null,"Kansas City","KS","66105","Mr.","Knehans",null,"Competitor","Out of State"]
["American Seating",null,"Harry McKinley","616-732-6648",null,"616-732-6401",null,null,"Non-Tax",null,"American Seating","401 American Seating Center",null,null,null,"Grand Rapids","MI","49504"]
["American Seating Company (Geyer)","Thomas Geyer",null," 616-732-6650",null," 616-732-6401","tgeyer@amseco.com",null,null,null,"American Seating Company","401 American Seating Center",null,null,null,"Grand Rapids","MI","49504-4499","Mr.","Geyer","Environmental Engineer CIH","Furniture","Kent"]
["American Woodmark Co.","Joe Morgan",null,"304-530-1100",null,null,null,null,"Out of State",null,"American Woodmark Co.","Attn: Joe Morgan","587 Robert C Byrd Industrial Park Road",null,null,"Morrefield","WV","26836"]
["AMS Corp. (Kennedy)","Brian Kennedy",null," 231-798-1111",null," 231-798-4000",null,null,null,null,"AMS Corp.","6480 Norton Center Drive",null,null,null,"Muskegon","MI","49441","Mr.","Kennedy","President",null,"Muskegon"]
["Analytical Testing & Consulting Services,","Doug Haase",null," 269-664-6474",null," 269-664-6406","atcsinc@aol.com",null,null,null,"Analytical Testing & Consulting Services,","14625 Doster Road",null,null,null,"Plainwell","MI","49080","Mr.","Haase","Director","Contractor EH&S","Kalamazoo"]
["Anchorage Marine Service and Storage (Coo","Jim Cooper",null," 616-399-6745",null," 616-399-8663",null,null,null,null,"Anchorage Marine Service and Storage","1821 Ottawa Beach Rd.",null,null,null,"Holland","MI","49424","Mr.","Cooper","Manager","Marine","Ottawa"]
["Anderson Building Materials (Shannon)","Shannon",null," 269-983-5543",null,null,"shannon@abmrack.com",null,null,null,"Anderson Building Materials","216 Upton Dr.",null,null,null,"St. Joseph","MI","49085",null,"Shannon","Office Manager","Steel","Allegan"]
["Anderson Development Co. (Green)","Douglas Green",null," 517-263-2121",null,null,"doug.green@anddev.com",null,null,null,"Anderson Development Co.","1415 E. Michigan Street",null,null,null,"Adrian","MI","49221","Mr.","Green",null,"Chemical Pharmaceutical","Lenawee"]
["Anderson Technologies (Prescott)","Paul Prescott",null," 616-844-2505",null,null,null,null,null,null,"Anderson Technologies","14000 172nd Ave.",null,null,null,"Grand Haven","MI","49417","Mr.","Prescott","2nd Shift Manager Safety Buyer",null,"Ottawa"]
["Andy J. Egan Co. Inc.","Patrick Heffron","Andy VanAlstine / Tom","616-791-9952",null,"616-735-4920","ap@andyegan.com",null,"Michigan Sales Tax","~~~~~~~~~~~~~~~~~~~~~~~~~~~~~~\nAdd hidden fee to all orders due to VERY slow bill pay\n~~~~~~~~~~~~~~~~~~~~~~~~~~~~~~\n\nGeneral Phone # 616-791-9952\n\nA/P Debbie Gingrich - fx 616.791.1037\ngingrichd@andyegan.com\n\nAndy VanAlstine - Cell:  269-208-8945, vanalstinea@andyegan.com\n\nTom Godleski - cell: 616-862-0949, email: godleskit@andyegan.com\n\nMike Rubelman\nPat Heffron - Cell:  616-813-2292\nBill \"Durren\" - Cell:  616-889-0109\nCorey Hedberg\nRandy Reynolds - cell: 616-430-1883\nTom Godleski - Receiving Dept.\nDaren Wilson","Andy J. Egan Co. Inc.","Attn: Tom Godleske","2001 Waldorf NW",null,null,"Grand Rapids","MI","49544"]
["Andy J. Egan Co. Inc. (Hedberg)","Corey Hedberg",null," 616-791-9952",null," 616-735-4920","hedbergc@andyegan.com",null,null,null,"Andy J. Egan Co. Inc.","2001 Waldorf NW",null,null,null,"Grand Rapids","MI","49544","Mr.","Hedberg","Group Manager","Contractor General","Kent"]
["Andy J. Egan Co. Inc. (Kamyszek)","Bob Kamyszek",null," 616-791-9952",null," 616-791-1037","kamyszekb@andyegan.com",null,null,null,"Andy J. Egan Co. Inc.","2001 Waldorf NW",null,null,null,"Grand Rapids","MI","49544","Mr.","Kamyszek","Equipment Manager","Contractor General","Kent"]
["Andy J. Egan Co. Inc. (VanAlstine)","Andy VanAlstine",null," 616-791-9952",null," 616-735-4920","vanalstinea@andyegan.com",null,null,"Paul Edington edingtonp@andyegan.com  mob 616.437.6570 Pipe Supt. LG  Chem'l\nBob Cook cookb@andyegan.com  Duct Supt. LG  Chem'l\nPaul Herweyer mob 616.291.2185 Supt at Pfizer Farms\nJoe Bryant  616.318.7643 mob\nMike Rubelman\nDebby Gingrich handles A/P;  \nPatrick Heffron 616-813-2292 mob\nKevin Green mob 248.996.5337\nEmily Ludwick mob 616.889.3373\n4 divisions:\n  - Plumbing / Svc  Andy VanAlstine\n  - Fabrication  Andy VanAlstine\n  - Sheet Metal HVAC  Bob Kamyszek\n  - Spec'y Sheet Metal (SS) non-union  Corey Hedberg mob 616.437.1622\n    Jim Monaweck","Andy J. Egan Co. Inc.","2001 Waldorf NW",null,null,null,"Grand Rapids","MI","49544","Mr.","VanAlstine","Equipment Manager","Contractor General","Kent"]
["Angel's Instrumentation","Adam Graham",null,"757.558.2500 x101",null,null,null,null,"Out of State",null,"Angel's Instrumentation","Adam Graham","928 Canal Drive",null,null,"Chesapeake","VA","23323"]
["Angola WWTP, City of","Kurt Dowell",null,"260-905-6153",null,null,null,null,"Non-Tax Municipality/Utility",null,"Angola WWTP, City of","Kurt Dowell","1095 East Redding",null,null,"Angola","IN","46703"]
["Anlaan Construction",null,"Derrick Arens x-14","616-846-8442",null,"616-846-6761","hilarygrant@anlaan.com",null,"Michigan Sales Tax","Nick Baker - cell: 616-638-4018\nDerrick Arens - ext. 34 - cell: 616-550-8164\nJohn Koster - cell: 616-834-8175","Anlaan Corporation","Attn: John Koster","424 Oak St",null,null,"Spring Lake","MI","49456"]
["Anlaan Corporation (Arens)","Derrick Arens",null," 616-846-8442 34",null," 616-846-6761","derrickarens@anlaan.com",null,null,"Don Anderson Owner  donanderson@anlaan.com and Gerrit Terlaan\nRyan O'Donnell, Engg m 616-437-4329  ryanodonnell@anlaan.com\nBob Hicks mob 517.402.2196  formerly MiOSHA compliance\nRoger Getman is Proj Mgr.\nLynn Dotson mob 616.638.4561\nTom Wagenmaker mob 616.262.4190","Anlaan Corporation","PO Box 333","424 Oak Street",null,null,"Spring Lake","MI","49456","Mr.","Arens","Safety Buyer","Contractor General","Ottawa"]
["Anlaan Corporation (Baker)","Nick Baker",null," 616-846-8442 15",null," 616-846-6761","nickbaker@anlaan.com",null,null,null,"Anlaan Corporation","PO Box 333",null,null,null,"Ferrysburg","MI","49409","Mr.","Baker","Project Manager & EEO Supervis","Contractor General","Ottawa"]
["Annex Design Service (Brent)","Pat Brent",null," 586-254-5880",null,null,"pbrent@annexdesignservice.com",null,null,null,"Annex Design Service","41150 Technology Park Drive  Suite #100",null,null,null,"Sterling Heights","MI","48314","Mr.","Brent",null,"Engineering, Architecture","Macomb"]
["ANR Pipeline Co. (Cornelius)","Craig Cornelius",null," 815-786-3422",null," 815-786-3423","craig.cornelius@elpaso.com",null,null,null,"ANR Pipeline Co.","16774 Sandy Bluff Road",null,null,null,"Sandwich","IL","60548","Mr.","Cornelius",null,"Utility","Out of State"]
["ANR Pipeline Co. (Tweed)","David Tweed",null," 309-667-4642",null," 309-667-4640","david.tweed@elpaso.com",null,null,null,"ANR Pipeline Co.","296 North 600 Avenue",null,null,null,"New Windsor","IL","61465","Mr.","Tweed",null,"Utility","Out of State"]
["Aon Risk Services Central, Inc. (Lerg)","Charlie Lerg",null," 616-336-5515",null," 616-456-7451","charles.lerg@aon.com",null,null,"Met at Lakeside Safety Group presentation on Fall Protection","Aon Risk Services Central, Inc.","171 Monroe Avenue NW",null,null,null,"Grand Rapids","MI","49503","Mr.","Lerg",null,"Insurance","Kent"]
["Apex Environmental Services","Dan Richmond",null,"734 422 5500","313 575 1150","734 422 5500","apexenvironmental@ameritech.net",null,"Michigan Sales Tax",null,"Apex Environmental Services","33114 Warren Road",null,null,null,"Westland","MI","48185"]
["APL Logistics (Rohn)","Shelly Rohn",null," 269-849-0200 219",null," 269-849-2746","susan_thornburg@apllogistics.com",null,null,"APL has a very good safety culture, 1000+ days without a recordable\nSpoke with Tammy who is on safety commitee and she referred me to Shelly and invited me to their safety fair....","APL Logistics","4412 Coloma Rd.",null,null,null,"Coloma","MI","49038",null,"Rohn","Transportation Specialist",null,"Kalamazoo"]
["Applegate Inc. (Myers)","Gary Myers",null," 517-783-2646",null," 517-783-1212","gmyers@applegateincjxn.com",null,null,null,"Applegate Inc.","485 E. South Street",null,null,null,"Jackson","MI","49203","Mr.","Myers","Buyer","Contractor General","Jackson"]
["Applied Manufacturing Technologies"," Martin Bienasz",null,"586-510-3121",null,"586-756-4333",null,null,"Non-Tax","put all charges on Martin Bienasz CC in system\n\nFax pd invoices to Attn: Martin Bienasz 586-756-4333","Applied Manufacturing Technologies","Attn: Martin Bienasz K0021502","2000 Centerwood Drive",null,null,"Warren","MI","48091"]
["Applied Science and Technology (Penniman)","Don Penniman",null," 616-957-5601 202",null," 616-957-5629","dpenniman@asti-env.com",null,null,null,"Applied Science and Technology","660 Cascade West Parkway SE  Suite 210",null,null,null,"Grand Rapids","MI","49546","Mr.","Penniman",null,"Contractor EH&S","Kent"]
["Approved Fire Protection"]
["Arborist Skills Inc. (Hineline)","Dave Hineline",null," 800-469-9258",null," 517-439-0903",null,null,null,null,"Arborist Skills Inc.","3883 Strawberry Hill",null,null,null,"Hillsdale","MI","49242","Mr.","Hineline",null,null,"Hillsdale"]
["Arcadis (Novi)",null,"Dale Arnett x-2258","248-994-2240","313-363-2241 cell","248-994-2241","dale.arnett@arcadis-us.com",null,"Michigan Sales Tax","Field Users:\nMike Priebe - cell: 574-303-4022, email: michael.priebe@arcadis-us.com\nAmber Bmytro - cell: 248-984-6601\n\nHead contact rental:\nChristian Seidel - cell: 248-994-2275\nemail: christian.seidel@arcadis-us.com","Arcadis (Novi)","Attn::Dale Arnett","28550 Cabot Drive","Suite 500",null,"Novi","MI","48377"]
["Arcadis (Seidel)","Christian Seidel",null," 248-994-2275",null," 248-994-2241","christian.seidel@arcadis-us.com",null,null,null,"Arcadis","28550 Cabot Drive  Ste. 500",null,null,null,"Novi","MI","48377","Mr.","Seidel",null,"Contractor EH&S","Oakland"]
["Arcadis US Inc.","Brian Hornyak",null,null,null,null,"accountspayable.administration@arcadis-us.com",null,"Out of State",null,"Arcadis US Inc.","Attn: Brian Hornyak B-0047248.0000","800 Metuchen",null,null,"South Park","NJ"]
["ArcelorMittal Tubular Products","David Liebert",null,"419-342-1371",null,"419-342-1355",null,null,"Michigan Sales Tax",null,"ArcelorMittal Tubular Products","Attn:PO 93010287","132 West Main Street",null,null,"Shelby","OH","44875-1471"]
["Arcelormittal Tubular Products, Inc. (Lie","David Liebhart",null," 419-342-1371"," 419-342-1200"," 419-342-1355","Steel",null,null,null,"Arcelormittal Tubular Products, Inc.","132 West Main",null,null,null,"Shelby","OH","44875","Mr.","Liebhart","Purchasing","Manufacturer","Out of State"]
["Archer Daniels Midland (McGehee)","Maggie McGehee",null," 217-451-4043",null," 217-451-2484","maggie_mcgehee@admworld.com",null,null,null,"Archer Daniels Midland","4666 Faries Parkway",null,null,null,"Decatur","IL","62526","Ms.","McGehee","Safety Manager","Chemical Pharmaceutical","Out of State"]
["Argus - Hazco","Kevin Smith",null,"586-840-3211",null,"586-840-3201","ksmith@argus-hazco.com",null,"Non-Tax","09/30/2009:  per B3\nBW - Discount off list - 10% instruments, 5% parts\nKateri does x234 A/P\n\nDan Kime - 937-824-4400 - Dayton Address\n\n5.12.10 Kevin said he would ensure we would get paid in 30 days.","Argus-Hazco Chesterfield","46400 Continental Dr. #D",null,null,null,"Chesterfield","MI","48047-5206"]
["Argus Hazco (Pervolarakis)","Dimitri Pervolarakis",null," 586-840-3200"," 800.873.0456"," 586.840.3201","dimitri@argus-hazco.com",null,null,null,"Argus Hazco","46400 Continental Dr.",null,null,null,"Chesterfield","MI","48047",null,"Pervolarakis",null,"Competitor","Macomb"]
["Arise Inc.","Allison Toensing",null,"440-746-8880 Direct",null,"440-746-8957","allisontoensing@ariseinc.com",null,"Out of State",null,"Arise Inc.","Attn:Frank Cothran","7219 Rockledge Dr.",null,null,"Charlotte","NC","28210"]
["Arkema Coatings Resins (Hartigh)","Mark Den Hartigh",null," 616-243-4578 121",null," 616-243-5049","mark.denhartigh@arkema.com",null,null,"CCP -- Cook Composites & Polymers\nJeff Mills, Plant Mgr.\nJohn Maartense, Plant Engr x126; mob 616.217.7117\nPat Harig is back\nJeff Gustafson (mntc)\nPlants in Lamont, IL; Saukville, WI; and GR\nBill Lake mntc x21;","Arkema Coatings Resins","1415 Steele SW",null,null,null,"Grand Rapids","MI","49507","Mr.","Hartigh","Maintenance Manager","Chemical Pharmaceutical","Kent"]
["Arkema Inc.","Pat Harig",null,"616-243-4578","cell 890-0904","616-243-5049",null,null,"Michigan Sales Tax","11/2/11 changed name was formerly CCP Cook Composites& Polymers\n\n1/19/12:  Blanket PO# 4500521223 - Max total $1500 - End date 12/31/12\n\nAccounts Payble:  Brian Colter - ext. 113\n\nMark Den Hartigh x-121","Arkema Inc.","Attn:  Mark Den Hartigh","1415 Steele SW",null,null,"Grand Rapids","MI","49507"]
["Armock Mechanical","Todd Tinicer",null,null,null,null,null,null,"Michigan Sales Tax",null,"Armock Mechanical","Mike Cnossen","745 S. State St.",null,null,"Sparta","MI","49345"]
["Armock Mechanical Contractors (Mike)","Mike",null," 616-887-0328",null," 616-887-0624",null,null,null,null,"Armock Mechanical Contractors","745 S. Main Street",null,null,null,"Sparta","MI","49345",null,"Mike","Manager","Mechanical Contractor","Kent"]
["Armor Metal Group","Angela Meade",null,"513-923-5828",null,"513-923-5827",null,null,"Out of State",null,"Armor Metal Group po# 163134","Attn: Angela Meade","4600 N. Mason-Montgomery Rd",null,null,"Mason","OH","45040"]
["Armour Eckrich Meats, LLC","Kim Lowe",null,"765-473-3086  x-272",null,"765-473-0148",null,null,"Out of State","Mike Fritz 765-475-4737 Plant Manager\n\nMichael Aust ext.270, email: michael.aust@Armour-Eckrich.com","Armour Eckrich Meats, LLC","Attn:PO# 4500280642 Michael Aust","3311 South State 19",null,null,"Peru","IN","46970"]
["Armour-Eckrich Meats (Peru) (Aust)","Michael Aust",null," 765-473-3086 270",null,null,"michael.aust@armour-eckrich.com",null,null,null,"Armour-Eckrich Meats (Peru)","3311 South State Road 19",null,null,null,"Peru","IN","46970","Mr.","Aust","Manager, Environmental Health","Food","Out of State"]
["Armstrong Egg Farms (Armstrong)","Ryan Armstrong",null,null,null," 760-749-6539",null,null,null,"Send info on NH3 GasAlertExtreme per Bill Kaufman of Poultry Mgmt","Armstrong Egg Farms","PO Box 2299",null,null,null,"Valley Center","CA","92082","Mr.","Armstrong",null,"Food","Out of State"]
["Armstrong Technical Services","Paul Armstrong",null,"248-698-4842",null,"248-698-8851","armts@aol.com",null,"Michigan Sales Tax",null,"Armstrong Technical Services","Attn: Paul Armstrong","1081 Schuyler Dr.",null,null,"White Lake","MI","48383"]
["Arrow Roofing & Supply","Josh Neumann",null,"616-247-4747",null,null,null,null,"Michigan Sales Tax",null,"Arrow Roofing & Supply","Attn:","3453 Eastern Ave. SE",null,null,"Wyoming","MI","49508"]
["Arrow Roofing & Supply, Inc. (Ring)","Tyler Ring",null," 616-247-4747",null," 616-247-7591","arrowrfg@arrowroofing.com",null,null,"Will consider us. Has two Safe T Ladders already -- may buy more.","Arrow Roofing & Supply, Inc.","3453 Eastern Avenue",null,null,null,"Wyoming","MI","49508","Mr.","Ring",null,"Contractor General","Kent"]
["Artex Labels and Graphics (Williams)","Kim Williams",null," 616-748-9655",null," 616-772-6270",null,null,null,null,"Artex Labels and Graphics","740 Case Karsten Dr.",null,null,null,"Zeeland","MI","49464","Mrs.","Williams","Safety","Manufacturer","Ottawa"]
["Arvilla Oil Field Servece Co.","Dan Grimes",null,"800-589-7776",null,"330-455-9280",null,null,"Out of State",null,"Arvilla Oil Field Service Co.","Attn: Dan Grimes","1821 Moore Ave SE",null,null,"Canton","OH","44707"]
["ArvinMeritor","Shery Joiner",null,"248-435-1475",null,"248-435-6102",null,null,"Michigan Sales Tax","Monique Brewer - cell: 248-670-5382\n\nGeneral Office:  248-435-1530","ArvinMeritor","Attn:Sherry Joiner","2135 West Maple Rd.",null,null,"Troy","MI","48084"]
["ArvinMeritor (Joiner)","Sherry Joiner",null," 248-435-1475",null," 248-435-6102","sherry.joiner@arvinmeritor.com",null,null,"Monique Brewer monique.brewer@arvinmeritor.com\nsending in two pass alarms for service\nJoe Ratta is installing mob 248.670.0257","ArvinMeritor","2135 W. Maple Road",null,null,null,"Troy","MI","48084","Ms.","Joiner","Health & Safety Manager","Automotive","Kent"]
["Asama Coldwater Manufacturing (Matthews)","Andrew Matthews",null," 517-279-1090 115",null," 517-279-1091","andy_matthews@asamacm.com",null,null,null,"Asama Coldwater Manufacturing","180 Asama Parkway",null,null,null,"Coldwater","MI","49036",null,"Matthews",null,"Automotive","Branch"]
["Asama Coldwater Mfg.","Andy Matthews x-115",null,"517-279-1090",null,"517-279-1091","ap@asamacm.com",null,"Non-Tax","Email invoices to ap@asamacm.com\nor fax 517-753-5926\n\nalt fax: 517-753-5926","Asama Coldwater Mfg.","Attn: Andy Matthews","180 Asama Parkway",null,null,"Coldwater","MI","49036"]
["Asbestos Abatement Inc. (Ranshaw)","Todd Ranshaw",null," 517-323-0052",null," 517-323-7382","transhaw@asbestosabatementinc.com",null,null,null,"Asbestos Abatement Inc.","2420 N. Grand River",null,null,null,"Lansing","MI","48906","Mr.","Ranshaw",null,"Contractor General","Ingham"]
["ASD, Inc.","Tom Tippman",null,"989-695-6446",null,"989-695-2543",null,null,"Michigan Sales Tax","15% discount on rental","Accurate Safety Distributors, Inc.","Attn: Tom Tippman","10320 North Thor Drive",null,null,"Freeland","MI","48623","Mr.","Tippman"]
["Ash Stevens Inc.",null,null,null,null,null,null,null,"Michigan Sales Tax",null,"Ash Stevens Inc.","Attn: Allen Belewer","18655 Krause",null,null,"Riverview","MI","48193"]
["Ashland Inc. (Belleville, NJ)","Steve Buchanan",null,null,null,null,null,null,"Out of State","John Morgan cell 201.410.1524 work 973.751.1899","Ashland Inc. (Belleville, NJ)","John Morgan","1361 Alps Rd.",null,null,"Wayne","NJ","07470"]
["Ashland Inc. (Buchanan)","Steve Buchanan",null," 606-329-3952",null,null,"spbuchanan@ashland.com",null,null,"Steven Gould gone?","Ashland Inc.","500 Diederich Blvd.",null,null,null,"Russell","KY","41169","Mr.","Buchanan",null,"Chemical Pharmaceutical","Out of State"]
["ASI Environmental Technologies, Inc. (War","Dave Warner",null," 231-845-0371",null,null,null,null,null,null,"ASI Environmental Technologies, Inc.","410 E. Dowland St.",null,null,null,"Ludington","MI","49660","Mr.","Warner","Project Manager","Environmental Engineering","Mason"]
["ASI Limited (Shultz)","Chris Shultz",null," 317-290-0260"," 317-280-2287"," 317-290-0270","cshultz@asilimited.com",null,null,null,"ASI Limited","7150 Winton Drive  Suite 100",null,null,null,"Indianapolis","IN","46268","Mr.","Shultz","Safety Manager","Contractor General","Out of State"]
["ASI Ltd","Chris Shultz",null,null,null,null,"cshultz@asilimited.com",null,"Michigan Sales Tax",null,"GR Construction Site"]
["ASIG -- Aircraft Service International Gr","Vitas Sprindys",null," 734-942-3525",null,null,"vitas.sprindys@asig.com",null,null,null,"ASIG -- Aircraft Service International Gr","Detroit Metropolitan Airport Building 357",null,null,null,"Detroit","MI","48242","Mr.","Sprindys","Area GSE Maintenance Manager","Contractor General","Wayne"]
["Asphalt Paving Inc. ()",null,null," 231-733-1409",null,null,null,null,null,null,"Asphalt Paving Inc.","1000 E. Sherman Blvd.",null,null,null,"Muskegon","MI","49444",null,null,null,"Contractor General","Muskegon"]
["Asphalt Sealcoating, Inc. (Dave)","Dave",null," 616-842-0009",null,null,null,null,null,null,"Asphalt Sealcoating, Inc.","1805 Industrial Park Dr.",null,null,null,"Grand Haven","MI","49417",null,"Dave","Owner","Contractor General","Ottawa"]
["Assay Technology (Kirkpatrick)","Rena Kirkpatrick",null," 800-833-1258 8112",null,null,null,null,null,null,"Assay Technology","1252 Quarry Lane",null,null,null,"Pleasanton","CA","94566","Ms.","Kirkpatrick",null,"Supplier","Out of State"]
["Astbury Environmental Engineering Inc.","Mary Dunlap",null,"317-472-0999",null,"317-472-0993","mwood@astburyenviro.com",null,"Out of State","UPS Acct# X6X551\n\nEmail invoices to mwood@astburyenviro.com\nchanged to pending net30 Mary to send set up info 11/15/11\n\nAlt email: mdunlap@astburyenviro.com","Astbury Environmental Engineering Inc.","Attn: Mary Dunlap","5757 West 74th Street",null,null,"Indianapolis","IN","46278"]
["Astbury Environmental Engineering Inc. (D","Mary Dunlap",null," 317-472-0999",null," 317-472-0993","mdunlap@astburyenviro.com",null,null,null,"Astbury Environmental Engineering Inc.","5757 West 74th Street",null,null,null,"Indianapolis","IN","46278","Ms.","Dunlap",null,"Engineering, Architecture","Out of State"]
["ASTI Environmental","Gary Bindus","Don Penniman / Matt Ramsey","734-663-3200 ext228","616-957-5601","616-957-5629","cpeltier@asti-env.com",null,"Use Tax Rental","04/30/2004:  Spoke w/ Gary Bindus and he informed us that they pay when their customer's pay them.  This usually translates to 45-60 day terms.\n~~~~~~~~~~~~~~~~~~~~~~~~~~~~~~~~~~~~\n04/2007: put on C.O.D. terms due to slow pay\n~~~~~~~~~~~~~~~~~~~~~~~~~~~~~~~~~~~~\nDon Penniman - 4339-9300-2231-1528 ex 03/12\nMatt Ramsey -  (est 203) Visa: 4339-9300-2231-1569  /  Exp: 03/12\nSean - Visa: 4339-9300-2231-1536 / Exp: 0312\n\nCorp. Office:\nASTI Environmental\nAttn: Gary Bindus\n10448 Citation Drive\nSuite 100\nBrighton, MI 48116\n\ndpenniman@asti-env.com\n\nEmail invoices to cpeltier@asti-env.com","ASTI Environmental","Attn: Matt Ramsey","660 Cascade West Parkway SE",null,null,"Grand Rapids","MI","49546","Mr.","Bindus"]
["ASU Group, The (Kaleefey)","Ed Kaleefey",null," 616-677-2264",null," 616-677-5235","edw1745@asugroup.com",null,null,null,"ASU Group, The","0-1463 Leonard, NW",null,null,null,"Grand Rapids","MI","49544","Mr.","Kaleefey","Sr. Loss Control Consultant","Insurance","Kent"]
["ATC Associates (Bradt)","Dana Bradt",null," 616-698-3131",null," 616-698-1922","bradt19@atc-enviro.com",null,null,"Also, Roy Hoin, Mike Dixon\nMichael Marshall m 616-498-6445  michael.marshall@atcassociates.com\nEric Schupp m 616-893-2456 schupp_76@yahoo.com","ATC Associates","4519 Broadmoor Avenue SE",null,null,null,"Grand Rapids","MI","49512","Ms.","Bradt","Project Manager","Contractor EH&S","Kent"]
["ATC Associates (Grand Rapids)",null,"Sean Miller","616-698-3131",null,"616-698-1922",null,null,"Michigan Sales Tax","Eric Rupnow\nSean Miller\nDana Bradt - email: bradt19@atc-enviro.com\nMatt Kreuyer\nAdam - cell: 616-406-9481\n\n","ATC Associates (Grand Rapids)","Attn:Mike Marshall","4519 Broadmoor Ave SE",null,null,"Grand Rapids","MI","49512","Ms.","Lannon"]
["ATC Associates (Lannon)","Mary Lannon",null," 616-698-3131",null," 616-698-1922","lannon19@atc-enviro.com",null,null,null,"ATC Associates","4519 Broadmoor Avenue SE",null,null,null,"Grand Rapids","MI","49512","Ms.","Lannon","Sr. Project Geologist","Contractor EH&S","Kent"]
["ATC Associates (Miller)","Sean Miller",null," 616-698-3131",null," 616-698-1922","miller39@atc-enviro.com",null,null,null,"ATC Associates","4519 Broadmoor Avenue SE",null,null,null,"Grand Rapids","MI","49512","Mr.","Miller",null,"Contractor EH&S","Kent"]
["ATC Associates (Novi)",null,"Dan Shimoda, CIH ext-125","248-669-5140",null,"248-669-5147","shimoda39@atcassociates.com",null,"Michigan Sales Tax","Dan Shimoda\nAmex:  3783-0191-3161-002  Exp: 01/15\nAmex Address:  3919 16th - Wyandote, MI 48192\n\nFax Invoices to (248) 669-5147","ATC Associates (Novi)","Attn: Dan Shimoda","46555 Humboldt Drive","Suite 100",null,"Novi","MI","48377"]
["ATC Associates (Rupnow)","Craig Rupnow",null," 616-698-3131",null," 616-698-1922","rupnow39@atc-enviro.com",null,null,null,"ATC Associates","4519 Broadmoor Avenue SE",null,null,null,"Grand Rapids","MI","49512","Mr.","Rupnow","President","Contractor EH&S","Kent"]
["Atk Energetic Systems (Radford)",null,"Jay Shorter","540-639-7631 general","540-639-7862 direct",null,null,null,"Out of State",null,"Atk Energetic Systems (Radford)","Army Ammunition Plant","Attn:","Route 114",null,"Radford","VA","24141"]
["Atlantic Commtec Corp.","David Fulford",null,"757-572-9095","gen# 757-363-7575","757-363-3443",null,null,"Michigan Sales Tax",null,"GM Cable Contractors, Inc.","Attn:David Fulford/Dwayne Hughs","9232 Joor Rd.",null,null,"Baton Rouge","LA","70818"]
["Atlantic Union Resources (Prairie Island)","Dean Pryor",null,null,null,"800-400-1009",null,null,"Michigan Sales Tax",null,"Atlantic Union Resources (Prairie Island)","Attn: Dean Pryor","1717 Wakonade Dr. East",null,null,"Welch","MN","55089"]
["Auburn Hills Fire Dept, City of",null,"Nelson Webb","248-370-9461","248-425-1918: Cell","248-370-9358","nwebb@auburnhills.org",null,"Non-Tax Municipality/Utility",null,"Auburn Hills Fire Dept, City of","Attn: Nelson Webb","1827 N. Squirrel Road",null,null,"Auburn Hills","MI","48326"]
["Austin AECOM AAC-MI, Inc.",null,"Jeff Senski","269-329-1170","269-833-5282",null,null,null,"Michigan Sales Tax",null,"Austin AECOM AAC-MI, Inc.","Attn: Michael Pelletier","8135 Cox's Drive,  Ste 213",null,null,"Portage","MI","49002"]
["Austin Company, The (Kortz)","Leo Kortz",null," 269-329-1170",null,null,"leo.kortz@austin.aecom.com",null,null,"\n\nCarlitos Bostic m 269-720-4091\nMichael Kenitzer x23 handles A/P\nSkip (Paul W.) Oberholtzer mob 269-998-2408 re: Pfizer Farms\nKelly Knoper m 269-760-5352\nRandy Beeler (was safety mgr for Skanska\nErica, Secy; Mike Pelletier, Buyer; Ernie Hawkins, Const'n Mgr. Jeff Senske, 269.760.5352 Safety Officer. Tim Glidden.","Austin Company, The","8135 Cox's Drive",null,null,null,"Portage","MI","49002","Mr.","Kortz","Area Superintendent","Contractor General","Kalamazoo"]
["Austin Company, The (Lotz)","Steve Lotz",null," 269-329-1170",null," 269-329-1417","steven.lotz@theaustin.com",null,null,"Mike Pelletier, buyer","Austin Company, The","8135 Cox's Drive","Suite 213",null,null,"Portage","MI","49002","Mr.","Lotz","Safety Director","Contractor General","Kalamazoo"]
["Austin Company, The (Oberholtzer)","Skip Oberholtzer",null," 269-833-7938",null," 269-833-2987","paul.w.oberholtzer@pfizer.com",null,null,"Charles Hammond Proj Mgr  mob 269.760.1219","Austin Company, The","8135 Cox's Drive, Suite 213",null,null,null,"Portage","MI","49002",null,"Oberholtzer",null,"Contractor General","Kalamazoo"]
["Austin Company, The (Pelletier)","Mike Pelletier",null," 269-329-1170 18",null," 269-329-1417","michael.pelletier@austin.aecom.com",null,null,null,"Austin Company, The","7171 Portage Road Building 90",null,null,null,"Portage","MI","49001","Mr.","Pelletier","Buyer","Contractor General","Kalamazoo"]
["Austin Company, The (Rafferty)","Christy Rafferty",null," 269-329-1170 19",null," 269-329-1417","Christy.rafferty@theaustin.com",null,null,"Christy.rafferty@theaustin.com","Austin Company, The","8135 Cox's Drive",null,null,null,"Portage","MI","49002","Ms.","Rafferty",null,"Contractor General","Kalamazoo"]
["Austin Company, The (Senske)","Jeff Senske",null," 269-833-5282",null," 269-833-6641",null,null,null,null,"Austin Company, The","7171 Portage Road Building 90",null,null,null,"Portage","MI","49001","Mr.","Senske","Safety Manager","Contractor General","Kalamazoo"]
["Auto Chassis International","Loic Morel (PO# guy)",null,"248-458-1600",null,"248-816-3282",null,null,"Michigan Sales Tax",null,"ACI NAO, Inc. Plant","Attn:","17608 Commerce Drive",null,null,"Huron Twp","MI","48164"]
["Auto Control (Kerkstra)","Terry Kerkstra",null," 616-669-3100",null," 616-669-3105",null,null,null,"Sister company to Allstate Electric\nHandles water pumping work\nTerry handles safety","Auto Control","1961 Pine Ridge Drive, Suite D",null,null,null,"Jenison","MI","49428","Mr.","Kerkstra","Project Manager","Contractor Electrical","Kent"]
["Auto-Owners Insurance (Kittle)","Darlene Kittle",null," 517-703-8964",null," 517-323-8796",null,null,null,null,"Auto-Owners Insurance","Michigan Underwriting Field Services","PO Box 30323",null,null,"Lansing","MI","48909",null,"Kittle",null,"Insurance","Clinton"]
["Autocam Corporation",null,"Mike Bertsch","616-698-0707",null,"616-698-6876",null,null,"Michigan Sales Tax",null,"Autocam Corporation","Attn:","4436 Broadmoor Ave SE",null,null,"Kentwood","MI","49512"]
["Autocam Corporation (Van Putten)","Dave Van Putten",null," 616-541-8171"," 616-698-0707"," 616-698-6876",null,null,null,"Mike Bertschinger Mntc Mgr 616.541.8182   All CSE farmed out.","Autocam Corporation","4070 East Paris Avenue SE",null,null,null,"Kentwood","MI","49512","Mr.","Van Putten","Safety Director","Automotive","Kent"]
["Autodie International, Inc. (Landino)","Mary Landino",null," 616-356-1413"," 616-454-9361"," 616-356-1410","mary.landino@autodie-llc.com",null,null,null,"Autodie International, Inc.","44 Coldbrook NW",null,null,null,"Grand Rapids","MI","49503","Ms.","Landino","Purchasing","Automotive","Kent"]
["AutoDie LLC",null,null,null,null,null,null,null,"Non-Tax","Mick Bricker - 616-356-1541\n\nrequested terms august of 2010 references came back at pays Net 60. not set up for terms","AutoDie LLC","Attn:","44 Coldbrook NW",null,null,"Grand Rapids","MI","49503"]
["Autoglass Technologies","Kevin D'Argenio",null,"616-893-8105",null,"616-365-1100",null,null,"Michigan Sales Tax",null,"Autoglass Technologies","Attn: Kevin D'Argenio","4434 Plainfield Ave",null,null,"Grand Raids","MI","49525"]
["Autoglass Technologies, Inc. (D'Argenio)","Kevin D'Argenio",null," 616-893-8105",null,null,"autoglasstechnologies@hotmail.com",null,null,null,"Autoglass Technologies, Inc.","4434 Plainfield Ave.",null,null,null,"Grand Rapids","MI","49525","Mr.","D'Argenio","Co-Owner","Auto Glass Repair","Kent"]
["Automat Medicion SRL (Weinberg)","Alberto J. Weinberg",null," 541-145-5500555",null," 541-145-550444","aweinberg@automat.com.ar",null,null,null,"Automat Medicion SRL","Dr. Bielsa 175",null,null,null,"(1427) Buenos Aires, ",null,null,"Mr.","Weinberg","Socio Gerente",null,"Out of State"]
["Automatic Spring Products Corp. (Johnson)","Robin Johnson",null," 616-842-7800",null," 616-842-4380","robinjohnson@automaticspring.com",null,null,"Quote variety of PPE. See Robin Johnson","Automatic Spring Products Corp.","803 Taylor Avenue",null,null,null,"Grand Haven","MI","49417","Ms.","Johnson","Purchasing Agent","Manufacturer","Ottawa"]
["Automatic Spring Products Corp. (Van Dyke","Robert Van Dyke",null," 616-842-7800 128",null," 616-842-4380","bobvandyke@automaticspring.com",null,null,"Nancy Purcell","Automatic Spring Products Corp.","803 Taylor Avenue",null,null,null,"Grand Haven","MI","49417","Mr.","Van Dyke","Human Resources Manager","Manufacturer","Ottawa"]
["Automotive Component Holdings (Schmidt)","Jeff Schmidt",null," 313-755-0855",null," 313-755-0128",null,null,null,null,"Automotive Component Holdings","17000 Rotunda Drive","Room B-314-95",null,null,"Dearborn","MI","48120","Mr.","Schmidt",null,"Automotive","Wayne"]
["Automotive Equipment Specialists",null,null,null,null,null,null,null,"Michigan Sales Tax"]
["Avery Dennison","Bob Potter",null,"440-358-6954",null,"440-358-6939","bob.potter@averydennison.com",null,"OH Lake Co",null,"Avery Dennison","Attn: Bob Potter PO#PR1451206","5750 Heisley Rd.",null,null,"Mentor","OH","44060"]
["Avon Protection Systems Inc.","Pete Swearengen",null,"231-779-6253",null,"231-779-6206",null,null,"Michigan Sales Tax",null,"Avon Protection Systems Inc.","Attn: PO# 011017","411  - 7th Street",null,null,"Cadilac","MI","49601"]
["Avon Protection Systems Inc. (Swearengen)","Pete Swearengen",null," 231-779-6253",null," 231-779-6206","pete.swearengen@avon-rubber.com",null,null,null,"Avon Protection Systems Inc.","503 - 8th Street",null,null,null,"Cadillac","MI","49601","Mr.","Swearengen",null,"Manufacturer","Wexford"]
["Award Window Cleaning Services","Mark Reinhart",null,"616-241-6875",null,null,null,null,"Michigan Sales Tax",null,"Award Window Cleaning Services","Attn: Mark Reinhart","860 Lafayette Ave. NE",null,null,"Gramd Rapids","MI","49503"]
["Award Window Cleaning Services, Inc. (Rei","Mark Reinhardt",null," 616-241-6875",null," 616-241-6877","m.reinhart@awardwindow.com",null,null,null,"Award Window Cleaning Services, Inc.","860 Lafayette Avenue NE",null,null,null,"Grand Rapids","MI","49503","Mr.","Reinhardt",null,"Contractor General","Kent"]
["Axen North America, Inc. (Strasser)","Aida Strasser",null," 609-987-3047",null," 609-987-0204","AStrasser@axensna.com",null,null,null,"Axen North America, Inc.","650 College Road East","Suite 1200",null,null,"Princeton","NJ","8540","Ms.","Strasser",null,null,"Out of State"]
["Axens North America, Inc.",null,"Aida Strasser","609-243-8700","609-987-3047 direct","609-987-0204",null,null,"Out of State",null,"Axens North America, Inc.","Attn: Aida Strasser","650 College Road East","Suite 1200",null,"Princeton","NJ","08540"]
["Axios Incorporated (Westmaas)","Joel Westmaas",null," 616.949.2525 31",null," 616.575.5135","jwestmaas@axiosincorporated.com",null,null,"a HUMR firm. Refered Corium to us","Axios Incorporated","4234 Cascade Road",null,null,null,"Grand Rapids","MI","49546","Mr.","Westmaas",null,"Insurance","Kent"]
["Aztec Producing Co.","Mike Hershberger",null,"231-723-4402",null,"231-774-4421",null,null,"Michigan Sales Tax",null,"Aztec Producing Co.","Attn:","335 North Washington St.",null,null,"Manistee","MI","49660"]
["Aztec Producing Co. (Hershberger)","Mike Hershberger",null," 231-723-4402",null," 231-723-4421","pec@i2k.com",null,null,"Larry is operations lead\nMike Hershburger, Quote Tubes & BW","Aztec Producing Co.","335 North Washington St.",null,null,null,"Manistee","MI","49660","Mr.","Hershberger",null,"Petroleum Related","Manistee"]
["B & B Electrical Contractors Inc.","Len Bal",null,"906-774-9790",null,"906-774-9791",null,null,"Michigan Sales Tax",null,"B & B Electrical Contractors Inc.","Attn: Len Bal","627 Circle Drive",null,null,"Iron Mountain","MI","49801"]
["B & B Yardscape","Brad Gillaspie",null,"269-207-1763","office 269-679-4032",null,null,null,"Michigan Sales Tax",null,"B & B Yardscape","Attn: Brad Gillaspie","6406 West W Ave.",null,null,"Schoolcraft","MI","49087"]
["B & L Bolt, Inc.","Kevin Dieleman",null,"616-248-3838",null,null,null,null,"NonTx Re-Sale",null,"B & L Bolt, Inc.","Attn:","760 - 32nd Street",null,null,"Grand Rapids","MI","49548"]
["B & V Mechanical (Ekkens)","David Ekkens",null," 616-243-7222",null," 616-243-4270","dekkens@bvmechanical.com",null,null,null,"B & V Mechanical","400 - 32nd Street",null,null,null,"Wyoming","MI","49548","Mr.","Ekkens",null,"Contractor General","Kent"]
["B & V Mechanical, Inc. (Greenland)","Matthew Greenland",null," 616-243-7222",null," 616-243-4270","mgreenland@bvmechanical.com",null,null,"Craig Davidson mob 616.318.7918  Dave Ekkens  Dan Bowmen","B & V Mechanical, Inc.","400 - 32nd Street SE",null,null,null,"Wyoming","MI","49548","Mr.","Greenland","Service Manager","Contractor General","Kent"]
["B&B Water / Wastewater Consultants Inc. (","Joseph Baxter",null," 269-877-4196",null," 269-877-4220",null,null,null,"Ronda","B&B Water / Wastewater Consultants Inc.","4402 S. Division",null,null,null,"Moline","MI","49335","Mr.","Baxter","Mechanical","Contractor General","Allegan"]
["B&V Mechanical",null,"Dan Bowmen","616-243-7222",null,"616-243-4270",null,null,"Michigan Sales Tax","Dave Ekkens - Cell: 616-291-4407","B&V Mechanical","Attn:","400 - 32nd Street",null,null,"Wyoming","MI","49548"]
["B.L.D.I.","Joe Berlin","Joe Mark / Rich Spehar","616-459-3737",null,"616-459-5357","operations@bldi.com",null,"Use Tax Rental","04/23/2009:  YSI 556 special pricing:  $600 monthly rate.  Customer never rental in the amount they said they would to bring equipment in.  This pricing is not valid unless they complain\n\nContacts:\nJoe Mark\nRich Spehar\nMeghan Eschbaugh (formerly Calkins) - cell: 616-318-9177\nRenee Pewitt (formerly Laug) - cell: 616-318-9178\nLeslie DeBoer (formerly Smit)\nAmanda Clarkson\nJennifer Guasco\nTanja Burden (AP)\n\nEmail invoices to operations@bldi.com\n","B.L.D.I.","Attn: Joe Berlin","150 Fountain Street NE",null,null,"Grand Rapids","MI","49503"]
["Babcock and Wilcox Const. (Monroe)","Ryan Beisert",null,"734-384-1195",null,null,null,null,"Michigan Sales Tax",null,"Babcock and Wilcox (Monroe)","Attn:Ryan Beisert","c/o: Consumers Energy","3500 East Front Street",null,"Monroe","MI","48161"]
["Babcock and Wilcox Const. (W. Olive)","Brent West",null,"616-738-5425",null,"616-738-5498",null,null,"Michigan Sales Tax","Tony Hall no longer with B&W","Babcock and Wilcox Const.","c/o Consumers Energy Campbell","Attn:Bill Jenerou","17000 Croswell",null,"West Olive","MI","49460"]
["Babcock and Wilcox Const. (Winfield)","Danny Steddum",null,"304-759-3494",null,"304-759-2799",null,null,"Out of State","Reggie Nester in Winfield WV does the shipping and rcving. We screwed up and sent so 7370 to WV shd have gone to MI. Regie overnighted order at his expense to Tom Hawkins in Monroe MI. We owe Tom and especially reggie a big favor","Babcock and Wilcox Const. (Winfield)","Attn: Danny Steddum","1530 Winfield Rd.",null,null,"Winfield","WV","25213"]
["Babcock and Wilcox Construction (Jenerou)","Bill Jenerou",null," 906-286-0068",null,null,"wmjenerou@babcock.com",null,null,"Campbell Site Safety Manager  Uses: Pyramex Intruders, Guardian Fall BW  DBI HLL's","Babcock and Wilcox Construction","943 N. County Road 441",null,null,null,"Manistique","MI","49854","Mr.","Jenerou","Safety Supervisor","Contractor General","Out of State"]
["Babcock and Wilcox Construction (Steddum)","Danny Steddum",null," 304-759-2799",null,null,"drsteddum@babcock.com",null,null,null,"Babcock and Wilcox Construction","1530 Winfield Road","PO Box 116",null,null,"Winfield","WV","25213","Mr.","Steddum",null,"Contractor General","Out of State"]
["Babcock and Wilcox Construction (Wolf)","Gary Wolf",null," 304-759-2799",null,null,null,null,null,null,"Babcock and Wilcox Construction","1530 Winfield Road","PO Box 116",null,null,"Winfield","WV","25213",null,"Wolf","Campbell Plant Site Safety Man","Contractor General","Out of State"]
["Bacou-Dalloz (Ruszkowski)","Marty Ruszkowski",null," 574-277-2153",null," 574-277-2154","mruszkowski@bacou-dalloz.com",null,null,"Survivair Tech Support 800.821.7236","Bacou-Dalloz","51653 Highland Shores Drive",null,null,null,"Granger","IN","46530","Mr.","Ruszkowski","Territory Sales Manager","Supplier","Out State"]
["Bacou-Dalloz (Verschure)","Lane Verschure",null," 616-949-7822"," 800-345-8839 735"," 616-949-7822","lverschure@bacou-dalloz.com",null,null,"Greg Thomas (formerly of Sheridan) is new Gas Specialist (Biosystems) for  MI, IN, IL and OH mob 317.730.6960. Won't consider Agile 'til at least after March, '04.\nLane Verschure Respy, Gas Detection Specilist (Non-Fire) for MI, OH, and Chicago.  Marty -> Joe Novotny (Reg'l Sales Mgr) -> Chris MacKensie (VP Sales).","Bacou-Dalloz","10 Thurber Boulevard",null,null,null,"Smithfield","RI","2917","Mr.","Verschure","Respirator and Gas Detection S","Supplier","Out State"]
["Badger Daylighting (Platt)","Bill Platt",null," 403-506-9986",null,null,"bplatt@badgerinc.com",null,null,null,"Badger Daylighting","2820, 715 - 5th Avenue S.W.",null,null,null,"Calgary","AB","T2P 2X6","Mr.","Platt","Safety Manager","Manufacturer","Out of State"]
["BAE Industries (Mieczkowski)","Chris Mieczkowski",null," 586-531-8673",null,null,"cmieczkowski@baeind.com",null,null,"Referred by his friend Mike Dawson","BAE Industries","24400 Sherwood",null,null,null,"Center Line","MI","48015","Mr.","Mieczkowski",null,"Automotive","Macomb"]
["Bailey Excavating & Grading (Vanarsdal)","Wendy Vanarsdal",null," 269-349-1585",null," 269-349-0960",null,null,null,null,"Bailey Excavating & Grading","1727 Construction Drive",null,null,null,"Kalamazoo","MI","49048","Ms.","Vanarsdal","Safety Director","Contractor, Excavator","Kalamazoo"]
["Baker Industrial Equipment","Mark Chilcoat",null,"330-928-8877",null,"330-923-0615",null,null,"NonTx Re-Sale",null,"Baker Industrial Equipment","2475 State Rd","Attn:Mark Chilcoat",null,null,"Cuyahoga Falls","OH","44223"]
["Baker Tent Rental (Baker)","Steve Baker",null," 616-454-8505"," 800-321-0064"," 616-454-8758",null,null,null,null,"Baker Tent Rental","1330 Taylor Ave. NE",null,null,null,"Grand Rapids","MI","49505","Mr.","Baker",null,"Other","Kent"]
["Baldwin Wallace"]
["Balkema Excavating (Balkema)","Jeff Balkema",null," 269-345-5289",null," 269-345-1137","jbalkema@balkemaexc.com",null,null,null,"Balkema Excavating","1500 River Street",null,null,null,"Kalamazoo","MI","49048","Mr.","Balkema",null,"Contractor, Excavator","Kalamazoo"]
["Ball Corporation (Findlay)",null,null,null,null,null,null,null,"Out of State","Rick Garcia - Office: 419-429-8207 / Fax: 419-429-8291\nemail:  rgarcia@ball.com\n","Ball Corporation (Findlay)","Attn: Rick Garcia","12340 Township Road 99",null,null,"Findlay","OH","45839"]
["Bangor, City of (Selden)","Michael Selden",null," 269-427-5831",null," 269-427-7919","bangormi@btc-bci.com",null,null,"DPW Mgr Cherokee Thompson 269.427.7918   \nmob 269.214.7647\nLarry Nielsen went to Paw Paw","Bangor, City of","City Hall","257 West Monroe",null,null,"Bangor","MI","49013","Mr.","Selden","City Manager","Municipal, Cty","Van Buren"]
["Banks Hardwoods",null,null,"269-483-2323",null,"269-483-2483",null,null,"Michigan Sales Tax","Steve Newburry - email: stevenewburry@bankshardwoods.com","Banks Hardwoods","Attn: Steve Newburry","69937 M-103",null,null,"White Pigeon","MI","49099"]
["Barberton Fire Department (Evans)","Dennis Evans",null," 330-606-1970",null," 330-745-3369","bfdhazmat@aol.com",null,null,null,"Barberton Fire Department","580 Wooster Road West",null,null,null,"Barberton","OH","44203","Mr.","Evans",null,"Fire Department","Out of State"]
["Barberton Fire Dept.",null,"Dennis Evans","330-848-6732",null,"330-745-3369","bfdhazmat@yahoo.com",null,"Non-Tax Municipality/Utility","Dennis is technically retired but works as a contractor to help keep the gas detector inventory organized.","Barberton Fire Dept.","Attn: Dennis Evans","580 Wooster Rd. West",null,null,"Barberton","OH","44203"]
["Barnes & Thornburg LLP (Lawless)","Don Lawless",null," 616-742-3994",null," 616-742-3999","dlawless@btlaw.com",null,null,null,"Barnes & Thornburg LLP","300 Ottawa Avenue NW, Suite 500",null,null,null,"Grand Rapids","MI","49503","Mr.","Lawless",null,null,"Kent"]
["Barton Malow (Shooltz)","Patrick Shooltz",null," 734-615-6115"," 616-874-1154"," 248-436-5001","patrick.shooltz@bartonmalow.com",null,null,"John Gleichman, Mgr; Tim Maguire Safety Supr;\nSkanska see Mark Dumas Southfield Rgl Mgr and Randy Beehler at Pfizer Farms\nTurner: Rob Stuckley in Detroit\nTurner Wolverine / Fryling: for GR Children's Hosp early '06    Stancheff is owner\nTurner/Christman for Metro Hosp.","Barton Malow","26500 American Drive",null,null,null,"Southfield","MI","48034","Mr.","Shooltz","Safety & Health Specialist","Contractor General","Wayne"]
["Bata Plastics","Barb Hammond Accounting","Gene Vis 291-3520 cell","616-452-5300",null,null,null,null,"Michigan Sales Tax","Nina Cole","Bata Plastics","Attn: Nina Cole","1001  -  40th Street SE",null,null,"Grand Rapids","MI","49508"]
["Bata Plastics, Inc. (Vis)","Eugene Vis",null," 616-452-5300",null," 616-452-5301","eugenevis@bataplastics.com",null,null,"Nina Cole, Mike Campbell mikecampbell@bataplastics.com","Bata Plastics, Inc.","1001  40th Street SE",null,null,null,"Grand Rapids","MI","49508","Mr.","Vis","Production Manager","Plastics","Kent"]
["Bathmasters (Yemc)","Kathy Yemc",null," 616-698-6776",null,null,null,null,null,null,"Bathmasters","3051  52nd Street",null,null,null,"Grand Rapids","MI","49512","Ms.","Yemc",null,"Contractor General","Kent"]
["Batteries Plus (Schmuldt)","Dick Schmuldt",null," 616-575-0500",null," 616-575-0700",null,null,null,"Dick Van Lion","Batteries Plus","3031 28th Street SE",null,null,null,"Grand Rapids","MI","49512","Mr.","Schmuldt",null,"Supplier","Kent"]
["Battle Creek DPW, City of (Clark)","Jerome Clark",null," 269-966-3507",null," 269-965-3482",null,null,null,null,"Battle Creek DPW, City of","Public Works Building","150 South Kendall Street",null,null,"Battle Creek","MI","49015","Mr.","Clark","Director, Streets Department","Municipal, Cty","Calhoun"]
["Battle Creek DPW, City of (DeLong)","Larry DeLong",null," 269-966-3513",null," 269-965-3290",null,null,null,null,"Battle Creek DPW, City of","2000 West River Road",null,null,null,"Battle Creek","MI","49015","Mr.","DeLong","Director, WWTP","Municipal, Cty","Calhoun"]
["Battle Creek DPW, City of (Rich)","Dave Rich",null," 269-966-3507",null," 269-965-3482",null,null,null,"Brian Cowhan (269.966.3493) is actually at Water Treatment Plant  behind Bailey Park  250 Brigden Dr. 49014","Battle Creek DPW, City of","Public Works Building","150 South Kendall Street",null,null,"Battle Creek","MI","49015","Mr.","Rich","Director, Water Treatment and","Municipal, Cty","Calhoun"]
["Battle Creek Police Dept.","Sgt. Matt Robinson",null,"269-966-3322",null,null,null,null,"Non-Tax Municipality/Utility","Sgt. Matt Robinson\n  269-966-3322 x1122\n  mrrobinson@ci.battle-creek.mi.us","Battle Creek Police Dept.","Attn:","20 N. Division St.",null,null,"Battle Creek","MI","49017"]
["Battle Creek, City of (McKenzie)","Scott McKenzie",null," 269-966-3407",null," 269-965-3482",null,null,null,null,"Battle Creek, City of","Public Works Building","150 South Kendall Street",null,null,"Battle Creek","MI","49015","Mr.","McKenzie","Risk Manager","Municipal, Cty","Calhoun"]
["Bauer Sheet Metal & Fabrication, Inc. (Se","Ron Sejat",null," 231-773-3244",null," 231-777-3661",null,null,null,null,"Bauer Sheet Metal & Fabrication, Inc.","1550 Evanston Ave.",null,null,null,"Muskegon","MI","49442","Mr.","Sejat",null,"Manufacturer","Muskegon"]
["Bayer Crop Science","Kelly Mathews","Ron Kurburski","231-719-3000 General","231-747-2199 cell",null,"kelly.mathews@bayer.com",null,"Non-Tax","231-719-3013  Larry Doctor\n\nron-231-744-3489\nRon Kurburski  231-747-2199 cell\nOffice direct: 231-719-3065\nEmail: ron.kurburski@bayer.com\nMC - 5569-6300-0035-0799  Exp: 03/12\nBilling:  1740 Whitehall Rd. - 49445\n$3,500 limit per transaction\n\nKelly Mathews handles A/P 231-719-3019\nkelly.mathews@bayer.com\n\nKim VanGills \nMC-5569 6300 0035 4056  Exp: 03-12\nBilling 1740 Whitehall - 49445\nfax# 231-744-2839\n\n\nStephanie Aebig \nMC 5569.6300.0060.3775. ex 05/13 -1740 whitehall\n\nStephanie Aebig\n5569 6300 0060 3775 exp 05/13","Bayer Crop Science","Attn: Ron Kurburski","1740 Whitehall Rd.",null,null,"North Muskegon","MI","49445"]
["Bayer Crop Science (Doctor)","Larry Doctor",null," 231-719-3000"," 231-719-3013",null,"larry.doctor@bayercropscience.com",null,null,"Kim VanGills  Kelly Matthews recep","Bayer Crop Science","1740 Whitehall Road",null,null,null,"Muskegon","MI","49445","Mr.","Doctor","EH&S Manager","Chemical Pharmaceutical","Muskegon"]
["Bayer Crop Science (Kurburski)","Ron Kurburski",null," 231-719-3000",null," 231-744-2839","ron.kurburski@bayercropscience.com",null,null,null,"Bayer Crop Science","1740 Whitehall Road",null,null,null,"North Muskegon","MI","49445","Mr.","Kurburski","Electrical Technician","Chemical Pharmaceutical","Muskegon"]
["Bayer Crop Science (McCann)","Bob McCann",null," 231-719-3000",null," 231-744-2839","bob.mccann@bayercropscience.com",null,null,"Bob has taken over safety since Lisa Fischer left","Bayer Crop Science","1740 Whitehall Road",null,null,null,"North Muskegon","MI","49445",null,"McCann","Safety Director",null,"Muskegon"]
["Bayer Crop Science (Vangills)","Kim Vangills",null," 231-719-3000",null," 231-744-2839",null,null,null,"Met with Kim, Bruce Puls and Rich King on 6.8.09\n-given a full line bid opportunity, full line bid closed.\n-begin to try and stock everything they order\n-reference DSL 2009 Excel Spreadsheet Quote for cost and current list prices","Bayer Crop Science","1740 Whitehall Road",null,null,null,"North Muskegon","MI","49445","Mr.","Vangills","Storekeeper","Chemical Pharmaceutical","Muskegon"]
["Bazen Electric (Lenkiewicz)","Dan Lenkiewicz",null," 616-458-7210",null," 616-458-4741","danlen@bazenelectric.com",null,null,null,"Bazen Electric","750 Ball Avenue NE",null,null,null,"Grand Rapids","MI","49503","Mr.","Lenkiewicz",null,"Contractor Electrical","Kent"]
["Bazen Electric Company",null,"Dan Lenkiewicz","616-458-7210",null,"616-458-4741",null,null,"Michigan Sales Tax","Dan Lenkevicz - cell:  616-437-7115\nJohn Spaans - cell:  616-437-9860","Bazen Electric Company","Attn:","750 Ball NE",null,null,"Grand Rapids","MI","49503"]
["BCN Services (Porterfield)","Tracie M. Porterfield",null," 734-994-4100",null," 434-994-1227",null,null,null,null,"BCN Services","Attn: Benefits","P O Box 1868",null,null,"Ann Arbor","MI","48106","Ms.","Porterfield","Benefits Specialist",null,"N/A"]
["BDN Industrial Hygiene Consultants, Inc.","Julie R Callaway",null,"269-329-1237",null,"269-329-7446",null,null,"Use Tax Rental","Brent Bassett\nMark Hoogewind (GR) - cell: 616-813-0989\nDave Steger - cell: 269-207-6751\nJim Wellington - cell: 269-98-9720","BDN Industrial Hygiene Consultants, Inc.","8105 Valleywood Lane",null,null,null,"Portage","MI","49024","Ms.","Callaway"]
["BDN Industrial Hygiene Consultants, Inc.","Julie R. Callaway",null," 269-329-1237",null," 269-329-7446","jcallaway@bdnihc.com",null,null,null,"BDN Industrial Hygiene Consultants, Inc.","8105 Valleywood Lane",null,null,null,"Portage","MI","49024","Ms.","Callaway","Chief Operations Officer","Contractor EH&S","Kalamazoo"]
["BDN Industrial Hygiene Consultants, Inc.","Julie R. Callaway",null," 269-329-1237",null," 269-329-7446","jcallaway@bdnihc.com",null,null,"Scott MacFarland gone to State of MI\nMark Hoogewind GR mob 616.813.0989; Jeremiah Salmon GR.","BDN Industrial Hygiene Consultants, Inc.","8105 Valleywood Lane",null,null,null,"Portage","MI","49024","Ms.","Callaway","Chief Operations Officer","Contractor EH&S","Kalamazoo"]
["BDN Industrial Hygiene Consultants, Inc.","Julie R. Callaway",null," 269-329-1237",null," 269-329-7446","jcallaway@bdnihc.com",null,null,null,"BDN Industrial Hygiene Consultants, Inc.","8105 Valleywood Lane",null,null,null,"Portage","MI","49024","Ms.","Callaway","Chief Operations Officer","Contractor EH&S","Kalamazoo"]
["Beacon Recycling, Inc. (Bulthuis)","Steven Bulthuis",null," 231-727-0722",null,null,null,null,null,"Brenden Bulthuis partner","Beacon Recycling, Inc.","1241 E. Keating Ave.",null,null,null,"Muskegon","MI","49442","Mr.","Bulthuis","Owner (Primary)","Recycling","Muskegon"]
["Beaver Tree Services (Milker)","Carl Milker",null," 231-652-7274",null,null,null,null,null,"Met with Carl's daughter who plays receptionist\nVery","Beaver Tree Services","8733 Mason Dr.",null,null,null,"Newaygo","MI","49337",null,"Milker","Owner","Contractor General","Muskegon"]
["Beck Industrial Painting","Gayl Beck",null,"616-895-6405",null,null,null,null,"Michigan Sales Tax",null,"Beck Industrial Painting","Attn: Gayl Beck","9594 Lake Michigan Dr.",null,null,"Zeeland","MI","49464"]
["Beck Industrial Painting (Beck)","Gayl Beck",null," 616-895-6405",null,null,"beckindpainting@aol.com",null,null,null,"Beck Industrial Painting","9594 Lake Michigan Dr.",null,null,null,"Zeeland","MI","49464",null,"Beck","Owner/Co-Owner","Painting","Ottawa"]
["Bedford Public Schools","Chris Ray",null,"734-850-6061","419-279-5022 cell",null,"rayc@bedford.k12.mi.us",null,"Non-Tax Municipality/Utility",null,"Bedford Public Schools","Attn:","8486 Douglas Road",null,null,"Temperance","MI","48182"]
["Beech & Rich (Hegner)","Jeanita Hegner",null," 269-968-8012",null," 269-968-9711",null,null,null,null,"Beech & Rich","525 North 20th Street",null,null,null,"Battle Creek","MI","49015","Ms.","Hegner",null,"Contractor General","Calhoun"]
["Beech & Rich Inc.","Helen Glover",null,"269-968-8012",null,"269-968-9711",null,null,"Michigan Sales Tax",null,"Beech & Rich Inc.","Attn: Helen Glover","525 20th Street",null,null,"Springfield","MI","49015"]
["Behr Industries Corporation (Gillette)","Mark Gillette",null," 616-802-4125",null," 616-785-9520","mark.gillette@behrind.com",null,null,null,"Behr Industries Corporation","1020 Seven Mile Road",null,null,null,"Comstock Park","MI","49321","Mr.","Gillette",null,"Automotive","Kent"]
["Belding DPW, City of (Thomas)","Ernie Thomas",null," 616-794-1340",null," 616-794-5742",null,null,null,null,"Belding DPW, City of","120 South Pleasant",null,null,null,"Belding","MI","48809","Mr.","Thomas","Director","Municipal, Cty","Ionia"]
["Belding Fire Department, City of (Moore)","Gregg Moore",null," 616-794-1900 208",null," 616-794-4818",null,null,null,null,"Belding Fire Department, City of","120 South Pleasant",null,null,null,"Belding","MI","48809",null,"Moore",null,"Municipal, Cty","Ionia"]
["Belmont County Emergency Manageement Agcy","Becky Horne",null,"740-695-5984",null,"740-695-6154",null,null,"Non-Tax Municipality/Utility",null,"Belmont County Emergency Mnagmt Agncy","Attn: Becky Horne","68329 Bannock Rd.",null,null,"Saint Clairsville","OH","43950"]
["Benchmark Environmental Consultants","Christopher Gray",null,"214-363-5996",null,"241-363-5994",null,null,"Michigan Sales Tax","COD ONLY poor Pay RECORD","Benchmark Environmental Consultants","Christopher Gray","6116 N. Central Expressway","Suite 808",null,"Dallas","TX","75206","Mr.","Gray"]
["Benny Lanni",null,null,null,null,null,null,null,null,null,"Benny Lanni","46830 Fields Dr.",null,null,null,"Shelby Township","MI","48315"]
["Benteler Automotive (Goshen)","Greg Good",null,"574-537-2887",null,"574-537-2823",null,null,"Non-Tax",null,"Benteler Automotive (Goshen)","Attn: Greg Good","910 S. Eisenhower Drive",null,null,"Goshen","IN","46526"]
["Benteler Automotive (GR)","David Strand",null,"269-665-6005","(616) 245 4607",null,"accounts.payable@benteler.com",null,"Non-Tax","Nick Miedema - office:  616-475-5935\n\nEmail invoices to accounts.payable@benteler.com","Benteler Automotive","Attn: Nick Miedema","3721 Hagen Drive SE",null,null,"Grand Rapids","MI","49548-2342"]
["Benteler Automotive (Miedema)","Nick Miedema",null," 616-475-5935",null," 616-247-5910","nick.miedema@benteler.com",null,null,null,"Benteler Automotive","3721 Hagen Dr. SE",null,null,null,"Grand Rapids","MI","49548","Mr.","Miedema","Safety and Loss Control Specia","Automotive","Kent"]
["Benteler Automotive (Opelika)","Dan Sartin","Jim Boleware","334-364-1860",null,"334-364-1855",null,null,"Non-Tax",null,"Benteler Automotive (Opelika)","Attn:","4401 North Park Drive",null,null,"Opelika","AL","36801"]
["Benteler Automotive (Petzold)","Scott Petzold",null," 616-246-5484",null," 616-245-0203","petzolds@benteler.com",null,null,"Steve Gottbreht left to take care of kid.\nNick Vosovich at Hall Let go 8.06\nMr. Chris Collins at Galesburg 269.665.6005\nChuck Hacht at Hagen -- Let go 8.06\nKeri Boerma","Benteler Automotive","3721 Hagen Drive SE",null,null,null,"Grand Rapids","MI","49548-2342",null,"Petzold","Safety and Loss Control Manage","Automotive","Kent"]
["Benteler Automotive - Goshen (Good)","Greg Good",null," 574-537-2887",null," 574-537-2823","greg.good@benteler.com",null,null,null,"Benteler Automotive - Goshen","910 South Eisenhower",null,null,null,"Goshen","IN","46526","Mr.","Good",null,"Automotive","Out of State"]
["Benteler Automotive Opalika (Letson)","Stephen Letson",null," 334-364-1596",null," 334-737-1767","stephen.letson@benteler.com",null,null,null,"Benteler Automotive Opalika","4401 North Park Drive",null,null,null,"Opelika","AL","36801","Mr.","Letson",null,"Automotive","Out of State"]
["Bentley Publishers",null,null,null,null,null,null,null,null,null,"Bentley Publishers","Attn: Michael Bentley","1734 Massachusetts Ave.",null,null,"Cambridge","MA","02138-1804"]
["Benton Charter Township Water Plant","Stewart Beach",null,"269-925-7284",null,"269-925-7134",null,null,"Non-Tax Municipality/Utility","Stewart Beach - cell: 269-363-8683, email: sbeach@bentonchartertownship-mi.gov","Benton Charter Township Water Plant","Attn: Stewart Beach","1725 Territorial Road",null,null,"Benton Harbor","MI","49022"]
["Benton Harbor - St. Joseph WWTP (Farley)","Chris Farley",null," 269-983-7719 34",null," 269-983-1959","cfarley@qtm.net",null,null,null,"Benton Harbor - St. Joseph WWTP","269 Anchors Way",null,null,null,"St. Joseph","MI","49085","Mr.","Farley","Maintenance Supervisor","Municipal, Cty","Berrien"]
["Benton Harbor - St. Joseph WWTP (Lynch)","Tim Lynch",null," 269-983-7719",null," 269-983-1959","tlynch@qtm.net",null,null,"Al Ernst retired.  Josephine","Benton Harbor - St. Joseph WWTP","269 Anchors Way",null,null,null,"St. Joseph","MI","49085","Mr.","Lynch","Plant Manager","Municipal, Cty","Berrien"]
["Benton Harbor DPW","Alfeda Randolph",null,"269-927-8445",null,"269-927-0373",null,null,"Non-Tax Municipality/Utility","Fax invoices to (269) 927-0373","Benton Harbor DPW","Attn: Accounts Payable","768 Paw Paw Ave",null,null,"Benton Harbor","MI","49022"]
["Benton Harbor DPW (Randolph)","Alfreda Randolph",null," 269-927-8445",null," 269-927-0373","alfreda8345@sbcglobal.net",null,null,null,"Benton Harbor DPW","768 Paw Paw Ave.",null,null,null,"Benton Harbor","MI","49022",null,"Randolph","Administrative Assistant",null,"Berrien"]
["Benton Harbor Water Plant, City of (Fowle","Robert Fowler",null," 269-927-8471",null," 269-869-8469",null,null,null,"Also see Mike O'Malley  momalley@bhcity.org   Greg Alimenti is Supt.","Benton Harbor Water Plant, City of","601 Ridgeway",null,null,null,"St. Joseph","MI","49085","Mr.","Fowler",null,"Municipal, Cty","Berrien"]
["Benton Harbor/ St. Joseph WWTP",null,"Chris Farley","269-983-7719",null,"269-983-1959",null,null,"Non-Tax Municipality/Utility","Fax invoices to (269) 983-1959","Benton Harbor/ St. Joseph WWTP","Attn:","269 Anchors Way",null,null,"St. Joseph","MI","49085"]
["Benzie County Road Commission (Demerly)","Ben Demerly",null," 231-325-3051",null," 231-325-2767",null,null,null,null,"Benzie County Road Commission","11318 Main Street","PO Box 68",null,null,"Honor","MI","49640","Mr.","Demerly","Shop Foreman","Municipal, Cty","Benzie"]
["Berends, Hendricks & Stuit",null,null,"616-261-7336",null,null,"KRoehling@bhsins.com",null,"Michigan Sales Tax","Kevin Roehling - cell: 616-886-4041, email: KRoehling@bhsins.com","Berends, Hendricks & Stuit","Attn:","3055 - 44th Street SW",null,null,"Grandville","MI","49468"]
["Berlin Raceway (Lane)","Scott Lane",null," 616-677-5000 11",null," 616-677-0122","slane@berlinraceway.com",null,null,"Met w/ Mike Strevel and Eric Krieger in fall, then again with Mike and Scott in Feby for hearing protection.","Berlin Raceway","2060 Berlin Fair Drive",null,null,null,"Marne","MI","49435","Mr.","Lane","President","Other","Kent"]
["Berlin-Orange Fire Department","Matt Bennett",null,"616-292-6333","616-527-4880",null,null,null,"Michigan Sales Tax",null,"Berlin-Orange Fire Department","Attn: Matt Bennett","4871 Harwood Rd.",null,null,"Ionia","MI","48846"]
["Berry Plastics (Okoniewski)","Michael Okoniewski",null," 269-435-2425 409",null,null,null,null,null,"was Covalence Coated Products\nalso: Mark Shapton, Plant Mgr x411; Fred Garofalo, Plant Engr x410; Kevin Miller, Safety Miller","Berry Plastics","700 Centreville Road",null,null,null,"Constantine","MI","49042","Mr.","Okoniewski",null,"Paper","Out of State"]
["Betsie Lake Utilities Authority","Ernest Elliott",null,"231.352.9804",null,"231.352.9804",null,null,"Non-Tax Municipality/Utility",null,"Betsie Lake Utilities Authority","Attn: Ernest Elliott","181 Lake Street",null,null,"Frankfort","MI","49635","Mr.","Elliott"]
["Betsie Lake Utilities Authority (Elliott)","Ernest Elliott",null," 231-352-9804",null," 231-352-9804",null,null,null,null,"Betsie Lake Utilities Authority","181 Lake Street","P.O. Box 248",null,null,"Frankfort","MI","49635","Mr.","Elliott","Superintendent","Municipal, Cty","Benzie"]
["Better Bolting","Mike Perry","Billy Chirco","616-301-2454","734-368-4442 cell","616-301-2453",null,null,"Michigan Sales Tax",null,"Better Bolting","Attn:Bill Chirco","2900 Wilson Ave. SW","Suite 410",null,"Grandville","MI","49418"]
["Betz Industries (Tellefsen)","William Tellefsen",null," 616-453-4429",null," 616-453-1033","betzind@aol.com",null,null,null,"Betz Industries","2121 Bristol Avenue, NW",null,null,null,"Grand Rapids","MI","49504","Mr.","Tellefsen","Quality / Technical Manager","Steel","Kent"]
["BGI Inc.","Trudy McEachern",null,"781-891-9380",null,null,null,null,"Out of State",null,"BGI Inc.","Attn: Trudy McEachern","58 Guinan Street",null,null,"Walthan","MA","02451"]
["BGL Asset Services","Bob Meyers",null,"989-772-9111","989-772-8888","989-773-4768",null,null,"Michigan Sales Tax",null,"BGL Asset Services","Attn:","5976 Venture Way",null,null,"Mt. Pleasant","MI","48858"]
["Big Rapids City Garage, City of","Van Johnson",null,"231-796-8998","231-796-8542 garage",null,null,null,"Non-Tax Municipality/Utility",null,"Big Rapids City Garage, City of","Attn: Van Johnson","325 DeKrafft",null,null,"Big Rapids","MI","49307"]
["Big Rapids City Garage, City of (Johnson)","Van Johnson",null," 231-796-8998",null,null,"vjohnson@ci.big-rapids.mi.us",null,null,null,"Big Rapids City Garage, City of","325 Dekrafft",null,null,null,"Big Rapids","MI","49307","Mr.","Johnson","Superintendent","Municipal, Cty","Mecosta"]
["Big Rapids Clean Water Plant, City of","Jack Fraser",null,"231-796-8483",null,null,null,null,"Non-Tax Municipality/Utility",null,"Big Rapids Clean Water Plant, City of","Attn: Jack Fraser","501 River St.",null,null,"Big Rapids","MI","49307"]
["Big Rapids Water Treatment Plant, City of","Carmen Johnson",null,"231-796-6231","231-592-4025 - AP","231-796-1644","cjohnson@netonecom.net",null,"Non-Tax Municipality/Utility",null,"Big Rapids Water Treatment Plant, City of","730 Osceola Street",null,null,null,"Big Rapids","MI","49307","Mr.","Johnson"]
["Big Rapids WWTP, City of (Fraser)","Jack Fraser",null," 231-796-8483",null," 231-796-1563","jfraser@ci.big-rapids.mi.us",null,null,null,"Big Rapids WWTP, City of","500 River ST.",null,null,null,"Big Rapids","MI","49307",null,"Fraser","Plant Manager","Municipal, Cty","Mecosta"]
["Bill Bosch"]
["Bill's Custom Fab, Inc.","Jessica Accounting","Bill Quakenbush","989-772-5817",null,"989-773-7704",null,null,"Michigan Sales Tax",null,"Bill's Custom Fab, Inc.","Attn:","1836 Gover Parkway",null,null,"Mt. Pleasant","MI","48858"]
["BILZ Plumbing and Mechanical (Downs)","Dan Downs",null," 616-842-1336",null," 616-842-0490",null,null,null,null,"BILZ Plumbing and Mechanical","235 Second Street",null,null,null,"Ferrysburg","MI","49409","Mr.","Downs","President","Contractor General","Ottawa"]
["Biolab Chemtura","Steven Marr",null,"517-265-6138",null,null,null,null,"Michigan Sales Tax",null,"Biolab Chemtura","Attn:Steven Marr","1400 East Michigan St.",null,null,"Adrian","MI","49221"]
["BioLab Chemtura (Marr)","Steven Marr",null," 517-265-6138 253",null," 517-265-7650","steven.marr@chemtua.com",null,null,null,"BioLab Chemtura",null,null,null,null,"1400 East","MI",null,"Mr.","Marr","Facilities & Materials Special","Chemical Pharmaceutical","Lenawee"]
["Bios International Corporation (Padden)","Lauren Padden",null," 800-663-4977",null,"(973) 492 8270","padl@biosint.com",null,null,"Denise, Dorel Nasso cut us off.\nLauren gave Agile 20% to start. Will review in 6 months or sooner.","Bios International Corporation","10 Park Place",null,null,null,"Butler","NJ","7405","Ms.","Padden","Sales Manager","Supplier","Out of State"]
["Biotec, Inc.","Colleen Hulst (Buyer)",null,"616-772-2133",null,"616-772-4320",null,null,"NonTx Re-Sale",null,"Biotec, Inc.","Attn:","652 E. Main Ave.",null,null,"Zeeland","MI","49464-1399"]
["Biotech Agronomics","Rick cabot","Kevin Bonney",null,"231-218-6380 Cell","231-882-9690","rcabot@biotechag.com",null,"Michigan Sales Tax","Rick Cabot\n  Operations Manager\n  231-882-7219 office\n  231-218-9336 cell\nrcabot@biotechag.com","Biotech Agronomics","Attn:","1651 US 31",null,null,"Beulah","MI","49616"]
["BioTech Agronomics, Inc. (Bonney)","Kevin Bonney",null," 231-325-5011",null," 231-882-9690","info@biotechag.com",null,null,"Lisa Malkowski info@biotechag.com","BioTech Agronomics, Inc.","425B Michigan Ave.",null,null,null,"Beulah","MI","49617","Mr.","Bonney","President","Contractor General","Benzie"]
["Birds Eye Foods (Rybarczyk)","Bill Rybarczyk",null," 269-561-8211 234",null," 269-561-2758",null,null,null,"Fred Opes   Joe Simaz Mainenance Manager","Birds Eye Foods","100 Sherman St.","P.O. Box 1050",null,null,"Fennville","MI","49408","Mr.","Rybarczyk","EH&S","Food","Allegan"]
["Birks Works Environmental",null,null,"313-891-1310","313-218-6701 cell","313-891-1535",null,null,"Michigan Sales Tax",null,"Birks Works Environmental","Attn: Jeffrey Heard","19719 Mt. Elliott",null,null,"Detroit","MI","48234"]
["Bittersweet Ski Area (Denhardy)","Dave Denhardy",null," 269-694-2032",null,null,null,null,null,null,"Bittersweet Ski Area","600 River Rd.",null,null,null,"Otsego","MI","49078","Mr.","Denhardy","Lift Operations and Maintenanc","Ski Area","Allegan"]
["BKB Construction, Inc.","Acct: Barb Kushner",null,"920-829-5925",null,"920-829-5926","bkushner@bkbconst.com",null,"Out of State",null,"BKB Construction, Inc.","Attn:","304 N. Rosera Street",null,null,"Lena","WI","54139"]
["Black River Builders (Novak)","Joe Novak",null,"(616) 748-9120",null,null,null,null,null,null,"Black River Builders","731 Construction Ct # A",null,null,null,"Zeeland","MI","49464","Mr.","Novak","Owner","Contractor General","Allegan"]
["BlackBerry Window & Door Systems","Accting - Pam","Joe McLean","269-353-8850","269-353-8844","269-353-8843","joejoe61280@yahoo.com",null,"Michigan Sales Tax",null,"BlackBerry Window & Door Systems","Attn: Joe McLean","6477 West KL Ave.",null,null,"Kalamazoo","MI","49006"]
["Blackmer","Leisha McClelland","Kathy Herman ext-9214","616-241-1611","616-248-9214","616-241-0443",null,null,"Michigan Sales Tax","Charles Hacht ext-9214","Blackmer","Attn: PO #151378","1809 Century Ave. SW",null,null,"Grand Rapids","MI","49503"]
["Blackmer (Dennis)","Denny Dennis",null," 616-248-9264 9214",null," 616-475-9359","dennis@blackmer.com",null,null,null,"Blackmer","1809 Century Avenue SW",null,null,null,"Grand Rapids","MI","49503-1530","Mr.","Dennis","Tooling & Fixture Designer","Manufacturer","Kent"]
["Blarney Castle Oil Company (Griffis)","Tracy Griffis",null," 231-864-3111 105",null,null,null,null,null,null,"Blarney Castle Oil Company","12348 US 31 Hwy.",null,null,null,"Bear Lake","MI","49614",null,"Griffis","Health and Safety/Management","Petroleum Related","Manistee"]
["BLD Products Ltd. (Marshall)","Gale Marshall",null," 616-395-5611",null," 616-395-5605",null,null,null,null,"BLD Products Ltd.","534 East 48th Street",null,null,null,"Holland","MI","49423","Mrs.","Marshall","Safety Coordinator","Automotive","Ottawa"]
["BLDI (Berlin)","Joseph Berlin",null," 616-459-3737",null," 616-459-5357","jberlin@bldi.com",null,null,"Joe Mark, Julia Siudyla  Aaron Vis mob 616.318.9178    John Michalec mob 616-318-9179     John Michalec Bus Dev Mgr.","BLDI","150 Fountain Street NE",null,null,null,"Grand Rapids","MI","49503","Mr.","Berlin","President","Contractor EH&S","Kent"]
["BLDI (Mark)","Joseph J. Mark",null," 616-459-3737",null," 616-459-5357","jmark@bldi.com",null,null,null,"BLDI","150 Fountain Street NE",null,null,null,"Grand Rapids","MI","49503","Mr.","Mark","Vice President","Contractor EH&S","Kent"]
["Bliss Clearing Niagara (Roger)","Carol Roger",null," 269-948-5859",null," 269-948-5848","crog@bcn-usa.com",null,null,null,"Bliss Clearing Niagara","1004 East State Street",null,null,null,"Hastings","MI","49058","Ms.","Roger","Human Resources Director","Automotive","Barry"]
["Blue Rhino (Centralia)","Ray Helms",null,"360-669-0043 x102",null,null,"thelms@bluerhino.com",null,"Michigan Sales Tax",null,"Blue Rhino (Centralia)","Attn: Tom Boursaw","3810 Galvin Road",null,null,"Centralia","WA","98531"]
["Blue Rhino (Channohon)","Hersch Collins ext.4",null,"815-521-2970",null,null,null,null,"Out of State",null,"Blue Rhino","Attn: Hersch Collins","24260 S. Northern Illinois Dr.",null,null,"Channohon","IL","60410"]
["Blue Rhino (Hamptonville)","Chris Moxley",null,"336-468-8010",null,null,null,null,"Out of State",null,"Blue Rhino (Hamptonville)","Attn: Chris Moxley","1309 Buck Shoats Rd.",null,null,"Hamptonville","NC","27020"]
["Blue Rhino (Henderson)","John Lewis",null,"303-289-9126",null,null,null,null,"Out of State",null,"Blue Rhino","Attn: John Lewis","9771 Hanover Ct.",null,null,"Henderson","CO","80640"]
["Blue Rhino (Hutchins)","Jim Magrath",null,"214-254-8191",null,"972-225-9181",null,null,"Michigan Sales Tax",null,"Blue Rhino (Hutchins) PO PLA1547","Attn: Jim Magrath","1828 Carbenter Rd.",null,null,"Hutchins","TX","75141"]
["Blue Rhino (Kansas City)","Josh McLeod",null,null,null,null,null,null,"Out of State",null,"Blue Rhino (Kansas City)","Attn: Josh McLeod PO#PLA6911","351 South 62nd St.",null,null,"Kansas City","KS","66111"]
["Blue Rhino (Rubidoux)","Steve Holmes",null,"951-321-4720",null,null,null,null,"Out of State",null,"Blue Rhino (Rubidoux)","Attn: Steve Holmes","1750 Agua Mansa Rd.",null,null,"Rubidoux","CA","92509"]
["Blue Rhino (Tavares)",null,null,"352-343-1762",null,"352-343-2316",null,null,"Out of State","Maintanence Contact:  Brandon Stewart - ext. 6","Blue Rhino (Tavares)","Attn:","300 County Road 448",null,null,"Tavares","FL","32778-6114"]
["Blue Rhino - Corporate (Rhoades)","Jill Rhoades",null," 336-659-6733",null," 336-331-6733","jrhoades@bluerhino.com",null,null,null,"Blue Rhino - Corporate","470 West Hanes Mill Road","Suite 200",null,null,"Winston-Salem","NC","27105","Ms.","Rhoades","Safety Director","Manufacturer","Out of State"]
["Boar's Head Provisions (Boomgard)","Bill Boomgard",null," 616-394-4746",null,null,null,null,null,null,"Boar's Head Provisions","284 Roost Avenue",null,null,null,"Holland","MI","49424","Mr.","Boomgard","Safety","Food","Ottawa"]
["Boar's Head Provisions (Krevda)","David Krevda",null," 616-394-4746",null,null,"david.krevda@boarshead.com",null,null,"Guy Yando","Boar's Head Provisions","284 Roost Avenue",null,null,null,"Holland","MI","49424","Mr.","Krevda","Safety Director","Food","Ottawa"]
["Bob's Roofing, Inc. (Landis)","Pat Landis",null," 231-894-5627",null,null,null,null,null,null,"Bob's Roofing, Inc.","900 Industrial Park Dr.",null,null,null,"Whitehall","MI","49461","Mr.","Landis","Safety","Contractor General","Muskegon"]
["Boc Linde (South Bend)","Jim Copenhaver",null,"574.234.4887",null,"574.234.4510",null,null,"Out of State",null,"Boc Linde (South Bend)","Attn: Jim Copenhaver","3809 W. Calvert Street",null,null,"South Bend","IN","46613"]
["Bond Construction Inc. (Nickels)","Delmer H. Nickels",null," 616-241-6500",null," 616-241-2338",null,null,null,"Met Aaron Snyder at HQ    Dar Rogers","Bond Construction Inc.","2151 Beverly, SW",null,null,null,"Wyoming","MI","49509","Mr.","Nickels","President","Contractor General","Kent"]
["Bonus Environmental","Gary \"Jeff\" Walworth","Jeremiah Salmon","989-779-7686",null,"989-779-7689","jsalmon@bonusenvironmental.com",null,"Michigan Sales Tax","Jeff Cell:  989-621-3862\nJeremiah Salmon Cell:  616-322-3965\nDave  Cell:  989-621-4525","Bonus Environmental","Attn:","304 S. Elizabeth Street",null,null,"Mt. Pleasant","MI","48858"]
["Bonus Environmental (Salmon)","Jeremiah Salmon",null," 989-779-7686",null," 989-779-7689","jsalmon@bonusenvironmental.com",null,null,"Jeff Walworth","Bonus Environmental","304 S. Elizabeth Street",null,null,null,"Mt. Pleasant","MI","48858","Mr.","Salmon","Principal","Contractor EH&S","Isabella"]
["Borculo Polishing Inc.","Michael Biesbrock",null,"616-772-6568",null,"616-772-6569",null,null,"Michigan Sales Tax",null,"Borculo Polishing Inc.","Attn:","541 E. Roosevelt",null,null,"Zeeland","MI","49464"]
["Borculo Polishing Inc. (Biesbrock)","Michael Biesbrock",null," 616-772-6568",null," 616-772-6569",null,null,null,null,"Borculo Polishing Inc.","541 E. Roosevelt",null,null,null,"Zeeland","MI","49464","Mr.","Biesbrock","Operations Manager","Manufacturer","Ottawa"]
["Borg Warner (Homa)","Jeff Homa",null," 231-779-7678",null," 231-775-5749","jhoma@borgwarner.com",null,null,null,"Borg Warner","1100 Wright Street",null,null,null,"Cadillac","MI","49601","Mr.","Homa",null,"Manufacturer","Wexford"]
["BorgWarner Thermal Systems","Jeff Homa","heather martinson acctpbl","231-779-7562","231-779-7533accting","231-775-5749",null,null,"Michigan Sales Tax",null,"BorgWarner Thermal Systems","Attn: Jeff Homa","1100 Write Street",null,null,"Cadilac","MI","49601"]
["Borisch Manufacturing Corporation","Michael Halm","Deb Lewis (purchasing)","616-554-9820","554-9820",null,null,null,"Non-Tax",null,"Borisch Manufacturing Corporation","Attn: Michael Halm","4511 East Paris Ave. SE",null,null,"Kentwood","MI","49512"]
["Borisch Manufacturing Corporation (Griffe","Nathan Griffen",null," 616-554-9820 1155",null," 616-554-9821","nateg@borisch.com",null,null,"buyer, A/P: Denise Langeweg x1230  denisel@borisch.com Mike Halm (GVSU) safety","Borisch Manufacturing Corporation","4511 East Paris SE",null,null,null,"Grand Rapids","MI","49512-5314","Mr.","Griffen","Tool Crib Clerk","Manufacturer","Kent"]
["Borisch Manufacturing Corporation (Halm)","Michael Halm",null," 616-554-9820 1032",null," 616-554-9821","michaelh@borisch.com",null,null,null,"Borisch Manufacturing Corporation","4511 East Paris SE",null,null,null,"Grand Rapids","MI","49512-5314","Mr.","Halm","Safety Manager","Manufacturer","Kent"]
["Bornor Restoration Inc.","Bill Bornor",null,"517-482-1625",null,null,"billb@bornor.com",null,"Michigan Sales Tax"]
["Bornor Restoration, Inc. (Bornor)","Bill Bornor",null," 517-482-1625",null,null,"billb@bornor.com",null,null,null,"Bornor Restoration, Inc.","525 Filley Street",null,null,null,"Lansing","MI","48906","Mr.","Bornor",null,"Contractor General","Ingham"]
["Borroughs Corporation (Gill)","Greg Gill",null," 800-748-0227",null," 269-342-1970","ggill@borroughs.com",null,null,null,"Borroughs Corporation","3002 N. Burdick Street",null,null,null,"Kalamazoo","MI","49004-3483","Mr.","Gill","EH&S Manager","Manufacturer","Kalamazoo"]
["Bosch Mechanical Contractors",null,"Eric Kiliszewski","616-453-5483",null,"616-453-7111",null,null,"Michigan Sales Tax",null,"Bosch Mechanical Contractors","Attn: Eric Kiliszewski","3325 Three Mile Rd NW",null,null,"Grand Rapids","MI","49534"]
["Bosch Reman North (Dunn)","Dan Dunn",null," 616-541-1103",null," 616-541-1148",null,null,null,"Mark Grossbauer now with Mich 1st Responder 616.225.3600","Bosch Reman North","4232 Brockton Drive SE",null,null,null,"Kentwood","MI","49512","Mr.","Dunn",null,"Automotive","Kent"]
["Bouma Corporation",null,"Norm Brady / Ben Buter","616-538-3600","890-1484 Ben cell","616-538-1292","accountspayable@boumacorp.com",null,"Michigan Sales Tax","Email invoices to accountspayable@boumacorp.com","Bouma Corporation","Attn:","4101 Roger B. Chaffee Memorial Blvd. SE",null,null,"Grand Rapids","MI","49548"]
["Bouma Corporation, The (Euker)","Michelle Euker",null," 616-538-3600",null," 616-538-0143","meuker@boumacorp.com",null,null,"Denny Johnson  Dennis Moomey","Bouma Corporation, The","4101 Roger B. Chaffee Memorial Blvd. SE",null,null,null,"Grand Rapids","MI","49548-3443","Ms.","Euker","Cost Accountant","Contractor General","Kent"]
["Bouwens Construction (Bouwens)","Jim Bouwens",null," 616-392-5500",null," 616-392-5556",null,null,null,null,"Bouwens Construction","11379 E. Lakewood Blvd.","PO Box 2158",null,null,"Holland","MI","49422-2158","Mr.","Bouwens","President","Contractor General","Ottawa"]
["Bowker's Fiberglass (Bowker)","Martin Bowker",null," 616-218-1683",null,null,"martin@bowkersfiberglass.com",null,null,"Stopped in last week and found they need respirators, safety glasses/goggles, gloves, the works.  \nCurrently they have no vendor","Bowker's Fiberglass","1987 92nd Ave.",null,null,null,"Zeeland","MI","49464","Mr.","Bowker","Owner","Marine Repair","Ottawa"]
["Bowling Green Fire Dept., City of","Doug Isaacson",null,"419-352-3106",null,"419-354-1800","disaacson@bgohio.org",null,"Out of State",null,"Bowling Green Fire Dept., City of","Attn: Doug Isaacson","552 East Court St.",null,null,"Bowling Green","OH","43402"]
["BP Pipeline (Taylor)","Mike Baum",null,null,null,"734-779-5516",null,null,"Michigan Sales Tax","Mike Baum - Cell: 734-776-6414, email: baummj@pb.com","BP Pipeline (Taylor)","Attn:","8503 Inkster Road",null,null,"Taylor","MI","48180"]
["BP Product N.A. (Granger)",null,null,"574-272-2800",null,"574-273-0376","jeff.lizzi@bp.com",null,"Out of State","Jeff Lizzi - ext. 14\nCell: 574-315-6474\nAmex:  3785-9071-1111-009 Exp: 12/13\nAddress: PO Box 70 - 46530\n\nAlternate Contact:\nRobert (Bob) Neff - ext. 10\nCell:  574-315-6478\n\n\n","BP Product N.A. (Granger)","Attn: Jeff Lizzi","12694 Adams Road",null,null,"Granger","IN","46530"]
["BP Products NA (Furr)","Gary Furr",null," 517-536-8627",null,null,"furrgr@bp.com",null,null,null,"BP Products NA","6777 Brooklyn Road",null,null,null,"Napoleon","MI","49261","Mr.","Furr",null,"Petroleum Related","Out of State"]
["BP Products NA (Napoleon)","Gary Furr",null,"517-536-8627",null,null,null,null,"Michigan Sales Tax","Bill Shaffer\nPhil Fuller - cell:  517-740-0327","BP Products NA (Napoleon)","Attn: Bill Schaffer","6777 Brooklyn Rd.",null,null,"Napoleon","MI","49261"]
["BP&R Engineering (Brechting)","Mike Brechting",null," 616-392-9785",null," 616-392-1791","mbrechting@bpreng.com",null,null,null,"BP&R Engineering","456 Centruy Lane",null,null,null,"Holland","MI","49423","Mr.","Brechting",null,"Engineering, Architecture","Ottawa"]
["BR Metal Products (Klintworth)","Marlene Klintworth",null," 616-842-2140",null," 616-842-7921",null,null,null,null,"BR Metal Products","16933 N. 144th Ave.",null,null,null,"Spring Lake","MI","49456","Ms.","Klintworth","Purchasing Agent","Manufacturer","Ottawa"]
["Bradford Company (Gilbert)","Don Gilbert",null," 616-399-3000",null," 616-399-4044",null,null,null,null,"Bradford Company","13500 Quincy St.",null,null,null,"Holland","MI","49422","Mr.","Gilbert","Safety Advisor",null,"Ottawa"]
["Bradford White (Boyea)","Ralph Boyea",null," 269-795-3364",null," 269-795-2165","rboyea@bradfordwhite.com",null,null,null,"Bradford White","200 Lafayette Street",null,null,null,"Middleville","MI","49333","Mr.","Boyea","Plant Engineer","Manufacturer","Kent"]
["Bradford White (Norris)","Kim Norris",null," 269-795-3364",null," 269-795-2323",null,null,null,null,"Bradford White","200 Lafayette Street",null,null,null,"Middleville","MI","49333",null,"Norris","Safety Director","Manufacturer","Kent"]
["Bradford White Middleville",null,null,"269-795-3364",null,"269-795-2165","LBiermacher@bradfordwhite.com",null,"Non-Tax","Ralph Boyea x-3235\nrboyea@bradfordwhite.com\n\nA/P Lori Biermacher\n\nFedEx# 274072385","Bradford White Middleville","Attn: Ralph Boyea","200 Lafayette Street",null,null,"Middleville","MI","49333"]
["Bradley Corporation (Porte)","Lorri Porte",null," 800-272-3539 6017",null," 262-532-6055",null,null,null,null,"Bradley Corporation","W 142 N9101 Fountain Boulevard",null,null,null,"Menomonee Falls","WI","53051","Ms.","Porte","Emergency Fixtures Rep","Supplier","N/A"]
["Branch County Road Commission","Kevin","Richard Losinski","517-278-2022",null,"517-278-6126",null,null,"Non-Tax Municipality/Utility",null,"Branch County Road Commission","Attn:","23 E. Garfield",null,null,"Coldwater","MI","49036"]
["Branch County Road Commission (Losinski)","Richard Losinski",null," 517-278-2022",null," 517-278-6126","bcrclosinski@cbpu.com",null,null,"per Ed Kaleefy","Branch County Road Commission","23 E. Garfield",null,null,null,"Coldwater","MI","49036","Mr.","Losinski","Superintendent","Municipal, Cty","Branch"]
["Brandon Burnette (home)","Brandon",null,null,null,null,null,null,"Michigan Sales Tax",null,"Brandon Burnette (home)","415 Rosewood SE",null,null,null,"Grand Rapids","MI","49506"]
["Bredeweg & Zylstra, PLC (Franken)","Joshua Franken",null," 616-698-2000",null," 616-698-3692",null,null,null,null,"Bredeweg & Zylstra, PLC","4665 Broadmoor SE",null,null,null,"Grand Rapids","MI","49512","Mr.","Franken",null,"Accountant","Kent"]
["Bredeweg & Zylstra, PLC (Zylstra)","David Zylstra",null," 616-698-2000",null," 616-698-1230","dzylstra@bzcpas.com",null,null,null,"Bredeweg & Zylstra, PLC","4665 Broadmoor SE",null,null,null,"Grand Rapids","MI","49512","Mr.","Zylstra","CPA","Accountant","Kent"]
["Brenner Excavating","Kevin Brenner","Jessica answers the phone","269-793-7531",null,"269-793-3120",null,null,"Michigan Sales Tax",null,"Brenner Excavating","Attn: Kevin Brenner","2841 - 132nd Ave",null,null,"Hopkins","MI","49328"]
["Brenner Excavating (Brenner)","Kevin Brenner",null," 269-793-7531",null," 269-793-3120",null,null,null,null,"Brenner Excavating","2841 -- 132nd Avenue",null,null,null,"Hopkins","MI","49328","Mr.","Brenner","Owner","Contractor, Excavator","Allegan"]
["Brenner Oil Company",null,"JC Sikora","616-399-0919",null,"616-399-9154",null,null,"Michigan Sales Tax",null,"Brenner Oil Company","Attn:","12948 Quincy Street",null,null,"Holland","MI","49424"]
["Brenner Oil Company (Stefanovsky)","Joe Stefanovsky",null," 616-399-0919",null," 616-399-9154","joes@brenneroil.com",null,null,null,"Brenner Oil Company","12948 Quincy Street","PO Box 2367",null,null,"Holland","MI","49422-2367","Mr.","Stefanovsky","President","Petroleum Related","Ottawa"]
["Brenner Oil Company (Willcutt)","Don Willcutt",null," 616-399-0919",null," 616-399-9154","donw@brenneroil.com <donw@brenneroil.com>",null,null,"Gary Zimmerman m 616-886-9872 garyz@brenneroil.com\nJC Sikora bought GA Micro for Detroit. They bought Liquid Transport.","Brenner Oil Company","12948 Quincy Street","PO Box 2367",null,null,"Holland","MI","49422-2367","Mr.","Willcutt","Safety and Compliance Director","Petroleum Related","Ottawa"]
["Brewster Dairy, Inc.","x-3348",null,"330-767-3492",null,"330-767-0151",null,null,"Out of State",null,"Brewster Dairy, Inc.","Attn:","675 South Wabash Ave.",null,null,"Brewster","OH","44613"]
["Brian Bean - Independent Contractor","Brian Bean",null,"330-364-9761","330-204-5577",null,"peb6beans@aol.com",null,"Out of State",null,"Brian Bean - Independent Contractor","2884 Tabor Ridge Road NE",null,null,null,"Mineral City","OH","44656"]
["Brilliance Audio","Randy Amos",null,"616-935-1747",null,"616-935-1847","ramos@brillianceaudio.com",null,"Michigan Sales Tax",null,"Brilliance Audio","Attn: Randy Amos","1704 Eaton Dr.",null,null,"Grand Haven","MI","49417"]
["Brilliance Audio (Bies)","Doug Bies",null," 616-846-5256",null," 616-846-0630","dbies@brillianceaudio.com",null,null,null,"Brilliance Audio","1704 Eaton Dr.",null,null,null,"Grand Haven","MI","49417","Mr.","Bies","Safety/Plant Manager","Audio CD Manufacturing","Ottawa"]
["Brilliance Audio (Wing)","Dave Wing",null," 616-846-5256 747",null," 616-846-0630","dwing@brillianceaudio.com",null,null,null,"Brilliance Audio","1704 Eaton Dr.",null,null,null,"Grand Haven","MI","49417","Mr.","Wing","Maintenance Supervisor","Audio Books/CD","Ottawa"]
["Brinkmann Constructors (Myatt)","Tim Myatt",null," 636-537-9700",null," 636-537-9880","tmyatt@askbrinkmann.com",null,null,null,"Brinkmann Constructors","16650 Chesterfield Grove Road",null,null,null,"Chesterfield","MO","63005","Mr.","Myatt","Safety Director","Contractor General","Out of State"]
["Brinks","Paul J. Stephenson",null,"616-735-3942",null,"616-735-3952",null,null,"Michigan Sales Tax",null,"Brinks Incorporated","Attn:Paul Stephenson","3380 - 3 Mile Road",null,null,"Grand Rapids","MI","49544"]
["Broadwing Communications (Furniss)","Mike Furniss",null," 734-528-9327",null,null,"mike.furniss@broadwing.com",null,null,null,"Broadwing Communications","5655 Carpenter Road",null,null,null,"Ypsilanti","MI","48197-9009","Mr.","Furniss","Director Field Operations","Contractor General","Washtenaw"]
["Broder and Sachse Co.","Ron Carlson",null,"248-321-4513",null,null,"rcarlson@brodersachse.com",null,"Michigan Sales Tax",null,"Broder and Sachse Co.","Attn:Ron Carlson","260 E Brown St.","Suite 200",null,"Birmingham","MI","48009"]
["Brown City Area Fire & Rescue","Jim Groat","home: 810-346-3639","cell: 810-656-6907",null,null,null,null,"Non-Tax Municipality/Utility",null,"Brown City Fire Authority","Attn:","4090 Main Street",null,null,"Brown City","MI","48416"]
["Brown Corporation of Ionia, Inc. (Lewis)","Brad Lewis",null," 616-527-1600 448",null," 616-527-8938","blewis@browncorp.com",null,null,null,"Brown Corporation of Ionia, Inc.","314 South Steele Street",null,null,null,"Ionia","MI","48846","Mr.","Lewis","Mainenance Supervisor","Manufacturer","Ionia"]
["Bruce Miller",null,null,null,null,null,null,null,"Out of State",null,"Bruce Miller","318 West Pitkin Ave",null,null,null,"Pueblo","Colorodo","81004"]
["Bruckner Supply Co. (Allvac NC)",null,null,"516-479-3884",null,"516-953-1586",null,null,"Non-Tax","all Bruckner invoices can be faxed to 561-999-0442","ATI Allvac- Bakers Melt Plant","ALBKR-0022873","6400 Alloy Way",null,null,"Monroe","NC","28111"]
["Bruckner Supply Co. (Dana / Toledo)",null,null,"561-999-9767",null,"516-953-1586",null,null,"NonTx Re-Sale",null,"Bruckner Supply Co. Dana Modules Toledo","Torque-Traction INTG Tech LLC","315 Matzinger Rd. Suite \"A\"","Attn:PO#012806034",null,"Toledo","OH","43612"]
["Bruckner Supply Co. (Port Washington)","Richard Patwell",null,"516-484-6070",null,"516-953-1501",null,null,"Out of State",null,"Bruckner Supply","Attn: Stephen Starn PO#PWB015040564","Non-Product Storeroom","1525 Midway Park Rd.",null,"Bridgeport","WV","26330"]
["Buck Construction (Buck)","Jeff Buck",null," 231-727-2719",null,null,null,null,null,null,"Buck Construction","141 Hartford Ave.",null,null,null,"Muskegon","MI","49442","Mr.","Buck","Owner","Contractor General","Muskegon"]
["Buckeye Construction","Tim Wade",null,"616-855-4191",null,"616-433-6763",null,null,"Michigan Sales Tax",null,"Buckeye Construction","Attn: Josh","6522 Near Point Dr.",null,null,"Caledonia","MI","49316"]
["Buckeye Construction LLP (Wade)","Tim Wade",null," 616-855-4191",null," 616-433-6763","tim.wade@buckeyeconstructionllp.com",null,null,null,"Buckeye Construction LLP","6522 Nearpoint Drive",null,null,null,"Caledonia","MI","49316","Mr.","Wade","Project Manager","Contractor General","Kent"]
["Buckeye Partners, LP (Wagner)","Pierce Wagner",null," 484-232-4427",null," 484-232-4549","pwagner@buckeye.com",null,null,null,"Buckeye Partners, LP","5002 Buckeye Road","PO Box 368",null,null,"Emmaus","PA","18049","Mr.","Wagner",null,"Petroleum Related","Out of State"]
["Buckeye Pipeline","Pat Carroll",null,"574-299-1641",null,null,null,null,"Out of State",null,"Buckeye Pipeline","Attn: Pat Carroll","20630 West Ireland Rd",null,null,"South Bend","IN","466147"]
["Buckeye Terminals LLC (Granger)",null,null,"574-272-2800",null,null,null,null,"Out of State","Jeff Lizzi - ext. 14\nCell: 574-315-6474\n4808-0170-0608-8264 x12/14\nAddress: PO Box 70 - 46530\njeff.lizzi@bp.com\n\nAlternate Contact:\nRobert (Bob) Neff - ext. 10\nCell:  574-315-6478\nraneff@buckeye.com\n\nCapitol Purchases send invoice to :\n\nBuckey Terminals\nAccounts Payable Attn: Rose\n24010 Michigan St.\nHammond IN 46320","Buckeye Terminals LLC","Attn:Robert Neff PO# OP-113697","12694 Adams Road",null,null,"Granger","IN","46530"]
["Buckeye Terminals LLC (Neff)","Robert Neff",null," 574-272-2800 110",null,null,"raneff@buckeye.com",null,null,null,"Buckeye Terminals LLC","12694 Adams Road",null,null,null,"Granger","OH","46530","Mr.","Neff",null,"Petroleum Related","Out of State"]
["Buckley Fire Department (Guernsey)","Elmer Guernsey",null," 231-269-3702",null,null,"buckfire@acegroup.cc",null,null,null,"Buckley Fire Department","5470 Elliott Road",null,null,null,"Buckley","MI","49620",null,"Guernsey","Chief","Fire Department","Wexford"]
["Buckley Fire Dept.","Elmer Guernsey",null,"231-269-3702","cell 231-883-2251",null,null,null,"Michigan Sales Tax",null,"Buckley Fire Dept.","Attn: Elmer Guernsey","5470 Elliott Road",null,null,"Buckley","MI","49620"]
["Build LLC (Williams)","Matt Williams",null," 616-459-2485",null,null,"marae02@msn.com",null,null,null,"Build LLC","458 Norwood SE",null,null,null,"Grand Rapids","MI","49506",null,"Williams",null,"Contractor General","Kent"]
["Buist Electric","Brent Brinks","Craig van Solkema - warehouse","616-878-3315","616-583-5270 Craig","616-878-3556",null,null,"Michigan Sales Tax",null,"Buist Electric","Attn:","8650 Byron Center Rd",null,null,"Byron Center","MI","49315"]
["Buist Electric Co. (Brinks)","Brent Brinks",null," 616-583-5200",null," 616-878-3556","bbrinks@buistelectric.com",null,null,"Craig Van Solkema Stores\nMark Wassink for Fair  Aaron Cooper\nMisfires: Reflective Tees, Smocks, Pfizer Barriers, ArcFlash Blowers, Arc Flash Training WY Over-the-rail Davit for Bridge Lighting;","Buist Electric Co.","8650 Byron Center Rd",null,null,null,"Byron Center","MI","49315","Mr.","Brinks","Safety Director","Contractor Electrical","Kent"]
["Buist Electric Co. (Van Solkema)","Craig Van Solkema",null," 616-878-3315"," 616-583-5270"," 616-878-3556","crvansolkema@buistelectric.com",null,null,null,"Buist Electric Co.","8650 Byron Center Rd",null,null,null,"Byron Center","MI","49315","Mr.","Van Solkema","Stores","Contractor Electrical","Kent"]
["Bultema Brothers Road Contractors Inc.","Steve Bultema",null,"616-455-2240",null,"616-455-0451",null,null,"Michigan Sales Tax",null,"Bultema Brothers Road Contractors Inc.","Attn:","7744 S. Division Ave",null,null,"Grand Rapids","MI","49548"]
["Bultema Brothers Road Contractors, Inc. (","Steve Bultema",null," 616-455-2240",null," 616-455-0451",null,null,null,null,"Bultema Brothers Road Contractors, Inc.","7744 South Division Avenue",null,null,null,"Grand Rapids","MI","49548","Mr.","Bultema","Owner","Contractor General","Kent"]
["Bureau Veritas MI","Marilyn Priddy",null,"269-429-7617",null,null,null,null,"Michigan Sales Tax",null,"Bureau Veritas MI","Attn: Marilyn Priddy","4425 Laural Dr.",null,null,"St. Josephs","MI","49085"]
["Bureau Veritas N.A. (Hoekman)","Brett Hoekman",null," 630-795-3217",null," 630-795-1130",null,null,null,null,"Bureau Veritas N.A.","3140 Finley Road",null,null,null,"Downers Grove","IL","60515","Mr.","Hoekman","Field Operations","Contractor EH&S","Out of State"]
["Bureau Veritas N.A. - Hartford (Bennett)","Mike Bennett",null," 314-269-4054",null,null,"mike.bennett@us.bureauveritas.com",null,null,null,"Bureau Veritas N.A. - Hartford","201 E. Hawthorne Street",null,null,null,"Hartford","IL","62048","Mr.","Bennett",null,"Contractor EH&S","Out of State"]
["Bureau Veritas N.A. - St. Louis Field Off","Aaron Smith",null," 618-476-1516",null," 618-476-1284","asmith@claytongrp.com",null,null,null,"Bureau Veritas N.A. - St. Louis Field Off","3001 Saeger Road",null,null,null,"Millstadt","IL","62260","Mr.","Smith",null,"Contractor EH&S","Out of State"]
["Bureau Veritas NATLSCO (Pressnell)","Matt Pressnell",null," 800-806-5887",null,null,null,null,null,null,"Bureau Veritas NATLSCO","22345 Roethel Drive",null,null,null,"Novi","MI","48375","Mr.","Pressnell","Marketing Manager","Supplier","Out of State"]
["Bureau Veritas NATLSCO (Ruthe)","Kim Ruthe",null," 888-576-7522 3322"," 847-320-2022"," 847-726-3323","kruthe@natlsco.com",null,null,null,"Bureau Veritas NATLSCO","95 Oakwood",null,null,null,"Lake Zurich","IL","60047","Ms.","Ruthe","Marketing Manager","Supplier","Out of State"]
["Burgess Concrete Const.","Albert Croenewald",null,"616-877-0008",null,"616-877-0073",null,null,"Michigan Sales Tax",null,"Burgess Concrete Const.","Attn: Albert Groenewald","1262 Cutting Ind. Dr.",null,null,"Moline","MI","49335"]
["Burgess Concrete Construction, Inc. (Groe","Albert Groenewold",null," 616-877-0008 24",null," 616-877-0073","agroenewold@burgessconcrete.com",null,null,null,"Burgess Concrete Construction, Inc.","1262 Cutting Industrial Drive","P.O. Box 318",null,null,"Moline","MI","49335","Mr.","Groenewold","Project Manager","Contractor General","Allegan"]
["Burgrabbe Masonry, Inc. (Schepers)","Scott Schepers",null," 616-794-0351",null," 616-794-0260",null,null,null,null,"Burgrabbe Masonry, Inc.","820 Reed Street","PO Box 412",null,null,"Belding","MI","48809",null,"Schepers",null,"Contractor General","Ionia"]
["Burkhardt Ridge","Michael Chosid",null,"517-404-7284",null,"517-540-9501",null,null,"Michigan Sales Tax",null,"Burkhardt Ridge","Attn: Michael Chosid","1011 River Line Drive",null,null,"Howell","MI","48843"]
["Burnette Foods (Sherman)","Bill Sherman Jr",null," 269-621-3181",null,null,null,null,null,null,"Burnette Foods","200 State Street",null,null,null,"East Jordon","MI","49727",null,"Sherman","Plant Manager","Food","Kalamazoo"]
["Burnside Industries (VanderWal)","Wendy VanderWal",null," 231-798-3394 417",null," 231-798-2316","wvanderwal@burnside-mfg.com",null,null,null,"Burnside Industries","6830 Grand Haven Rd",null,null,null,"Spring Lake","MI","49456",null,"VanderWal","HR","Manufacturer","Ottawa"]
["Busscher Construction (Busscher)","Kim Busscher",null," 269-857-1222",null,null,null,null,null,null,"Busscher Construction","2922 Blue Star Hwy.",null,null,null,"Saugatuck","MI","49464","Mr.","Busscher","Owner","Contractor General","Ottawa"]
["Busscher's Septic Tank Services ()",null,null," 616-392-9653",null,null,null,null,null,null,"Busscher's Septic Tank Services","11305 E. Lakewood Blvd.",null,null,null,"Holland","MI","49424",null,null,null,"Septic Tanks and Plumbing","Ottawa"]
["BW by Honeywell",null,null,null,null,null,null,null,"NONTXAG",null,"Agile Safety LLC","850 Bridge St. NW",null,null,null,"Grand Rapids","MI","49504"]
["BW Technologies (Heckathorn)","Dennis Heckathorn",null,null," 888-749-8878",null,"dennis.heckathorn@honeywell.com",null,null,"http://www.gasmonitors.com/partners/   user name\nmet Greg Rude mob 403.861.9782\nBryan Bates Exec VP & COO.  mob 972.342.6269  Met at Atlanta AIHCe\nNew Company (2010) Gas Clip Technologies www.gascliptech.com Kyle Kruger\nBob Fields Midwest Gas Instrumentation $30K BW, $240K HA\nLincolnshire\n  Mark Tesselberry\n  Rene\nJustin Denson (trainer)  mob 832.221.1581 (Rbt Huff gone) \nDrew Saunders  Auditor for BW Svc Ctrs  954-695-1855  andrew.saunders@honeywell.com\n***Calgary 800-663-4164*** \nShane McKuen mob 403.860.6397  multigas portables\nAdair Felstad x1810 single gas portables\nBill Tang (Tech Support fixed), Ted Peterson Tech Support fixed\nBilly Grewal billy.grewal@honeywell.com mob 403.818.8892 \nBill Ball formerly Argus near Toronto? william.ball@honeywell.com) fixed systems\nShelley, Jane receptionists\n   Mark Levy \n            <-- Hackenson \n            <-- Carl Johnson Genl Mgr\n            <-- Nick Kostelnic (Sales)  / Ken Schmidt (Mktg) 810.599.1457\n            <-- Kevin Boyle  (US east zone mgr) kevin.boyle@honeywell.com\n                   Office: (973) 839-4168\n                   Mobile: (973) 248-5825\n                   Fax: (973) 839-4178\n                   kevin.boyle2@honeywell.com\n            <-- Dennis Heckathorn\n                 Mike Heinz 630.335.4309 michael.heinz@honeywell.com (Chicago RSM)\n                 Maury Smith 303.884.6651 (Rocky Mtns RSM)\nWill Rowlands 610.608.4038 now Airgas Key Acct Mgr                                     \nDave Das Cust Svc.\nDiane Lassila Mktg Mgr mob 403.667.8125\n  Laureen Lashyn mob 403.617.8775 Trade Show & Advtg Mgr.\n  Brandi Lyseng handles advertising\nTech Svc\n  Ashley\n  Vlad Snjatinski, Jim Willis\n  Tara Mack\n***Arlington 888.749.8878***\nGreg Christopher greg.christopher@honeywell.com  \nGigi Grubbs (Cust Svc Mgr) Evelyn Sims Operator\n   <-- Inside Holly, Annette, Clara, Eden, Teresa\n   <-- Technical Champa Singharath (Supr) champa.singharath@honeywell.com\n        <-- David Flottman dflottman@bwtnet.com, \n        Joe Martinez jose.martinezd2@honeywell.com\n        Elizabeth Ferrino, Pete Tresas, Debra Lindsey, Mike Vigil\nJimmy Blount Sales Mgr. mob\nIL, NW IN Pat Stompanato 630.529.9825;  mob 708.767.3492\nWI, Dakotas IA MN  Francis X. Johnson\nIvan Bond x1916  A/R Gone\nTony Coco  tony_coco@thermadyne.com     acoco@sprynet.com\nDirector - Americas Mktg and Natl Accounts  Thermadyne Industries \nOffice: 636-728-3183   Mobile: 636-328-7240  home: 314 974 0560\nAaron McKinney Techl Svc Mgr gone. to Icon?","BW Technologies","10556 Mogadore Ave NW",null,null,null,"Uniontown","OH","44685","Mr.","Heckathorn","Regional Manager","Supplier","Out of State"]
["Byrnes Sales Associates (Wolf)","Bob Wolf",null," 248-344-0069",null," 248-344-0069","bobw@bsarep.com",null,null,"BSA HQ 815-624-2333   Rose - Bob's support      Cindy","Byrnes Sales Associates","40444 Heatherbrook",null,null,null,"Novi","MI","48375","Mr.","Wolf","Representative","Representative","Oakland"]
["Byron Andres"]
["Byron-Gaines Utility Authority","Dan Van Dyke","Mark Pyper","616-971-0002","Cell: 616-723-3361","616-554-3655","km.balfoort@bgua.org",null,"Non-Tax Municipality/Utility","Email invoices to km.balfoort@bgua.org","Byron-Gaines Utility Authority","Attn: Dan Van Dyke","1381 - 84th Street SE",null,null,"Byron Center","MI","49315"]
["Byron-Gaines Utility Authority (Van Dyke)","Dan Van Dyke",null," 616-971-0002",null," 616-554-3655","dl.vandyke@bgua.org",null,null,"Katie Balfoort km.balfoort@bgua.org  handles A/P   Lynn Thomas is Mgr.  mob 616.299.4499\nMark Pyper; Jim Landis; Barry; Martha;","Byron-Gaines Utility Authority","1381 - 84th Street",null,null,null,"Byron Center","MI","49315","Mr.","Van Dyke","Manager","Municipal, Cty","Kent"]
["C & I  Electric","Jim Erndteman",null,"231-843-5343",null,"231-843-5344",null,null,"Michigan Sales Tax",null,"C & I Electric","Attn: Jim Erndteman","815 First St.",null,null,"Ludington","MI","49431"]
["C & I  Electric (Erndteman)","Jim Erndteman",null," 231-843-5343",null," 231-843-5344","ciertie@t-one.net",null,null,null,"C & I  Electric","815 First St.",null,null,null,"Ludington","MI","49431","Mr.","Erndteman",null,"Contractor Electrical","Mason"]
["C & S Electric Service (Becky)","Becky",null," 616-842-3340",null," 616-842-4467",null,null,null,null,"C & S Electric Service","220 North Ferry",null,null,null,"Grand Haven","MI","49417",null,"Becky",null,"Contractor Electrical","Ottawa"]
["C J Mahan (Herron)","Matthew Herron",null," 614-277-4523"," 614-875-8200",null,"mherron@cjmahan.com",null,null,"Steve Roberts / Mike Horne  Joe Kirk shipping guy","C J Mahan","3400 Southwest Blvd.",null,null,null,"Grove City","OH","43123","Mr.","Herron",null,"Contractor General","Out of State"]
["C&C Enterprised, Inc.","Jan Noble",null,"989-772-5059",null,"989-772-2933",null,null,"NonTx Re-Sale",null,"C&C Enterprises, Inc.","Attn: Jan Noble","1106 North Packard",null,null,"Mt. Pleasant","MI","48858"]
["C&K Industrial Service (Antos)","Marty Antos",null,null,null," 216-642-0059","mantos@ckindustrial.com",null,null,null,"C&K Industrial Service","5617 Schaaf Road",null,null,null,"Independence","OH",null,"Mr.","Antos","Project Manager","Contractor General","Out of State"]
["C.C. Johnson & Malhotra (Sabin)","Bruce Sabin",null," 616-940-2007 102",null," 616-940-1603","BSabin@CCJM.COM",null,null,null,"C.C. Johnson & Malhotra","3310 Eagle Park Drive, Suite 101",null,null,null,"Grand Rapids","MI","49525","Mr.","Sabin",null,"Engineering, Architecture","Kent"]
["C.D. Barnes Associates, Inc.","Dick Bruff",null,"616-299-0628",null,null,null,null,"Michigan Sales Tax",null,"C.D. Barnes Associates, Inc.","Attn:Carter Huffman","3437 Eastern Ave. SE",null,null,"Grand Rapids","MI","49508"]
["C.I.R.",null,null,"248-446-9975",null,null,null,null,"Michigan Sales Tax","Steve Swartzinski\nJacklyn Swartzinski - cell:  734-395-9261","C.I.R.","Attn:","8438 Beacon Lane",null,null,"Northville","MI","48168"]
["Cadillac DPW, City of (Foster)","Dan Foster",null," 616-775-7671",null,null,null,null,null,null,"Cadillac DPW, City of","DPW Garage 1001 6th Street","200 Lake Street",null,null,"Cadillac","MI","49601","Mr.","Foster","Supervisor","Municipal, Cty","Wexford"]
["Cadillac Water Services, City of","Brian Cardinal",null,"231-775-7671",null,null,null,null,"Non-Tax Municipality/Utility","A/P Tera Veddler 231.775.0181 ap@cadillac-mi.net","Cadillac Water Service, City of","Brian Cardinal","200 Lake Street",null,null,"Cadillac","MI","49601","Mr","Cardinal"]
["Cadillac Water Services, City of (Cardina","Brian Cardinal",null," 231-775-7671",null," 221-775-0478",null,null,null,null,"Cadillac Water Services, City of","Water Service Building -- 8th Street","200 Lake Street",null,null,"Cadillac","MI","49601","Mr.","Cardinal","Supervisor","Municipal, Cty","Wexford"]
["Cadillac WWTP, City of (Dietlin)","Jeff Dietlin",null," 616-775-2841",null,null,null,null,null,null,"Cadillac WWTP, City of","WWTP 1121 Plett","200 Lake Street",null,null,"Cadillac","MI","49601","Mr.","Dietlin","Supervisor","Municipal, Cty","Wexford"]
["Cal Chlor (Jareousel)","John Jareousel",null," 231-843-1147",null,null,null,null,null,null,"Cal Chlor","5379 West Sixth St",null,null,null,"Ludington","MI","49431",null,"Jareousel","Safety Manager","Chemical Pharmaceutical","Dry Chemical Processing and Sh"]
["Caledonia Township Fire Department (Fenne","Kyle Fennell",null," 616-891-0140",null," 616-891-1884","kfennell@caledoniatownship.org",null,null,null,"Caledonia Township Fire Department","8192 Broadmoor SE",null,null,null,"Caledonia","MI","49316","Mr.","Fennell",null,"Fire Department","Kent"]
["Caledonia Twp. Fire Dept.","Kyle Fennell",null,"616-891-0140",null,"616-891-1884",null,null,"Non-Tax Municipality/Utility",null,"Caledonia Twp. Fire Dept.","Attn: Kyle Fennell","8192 Broadmoor SE",null,null,"Caledonia","MI","49316"]
["Calvin College","Heather Chapman",null,"616-526-8591",null,null,null,null,"Non-tx Non Prof","\nNon Taxable as a 501C3 NonProfit Fed Tax # 38-3071514","Calvin College","Attn: Heather Chapman","Environmental Health & Safety","1475 Knollcrest Circle SE",null,"Grand Rapids","MI","49546-4401"]
["Calvin College (Chapman)","Heather Chapman",null," 616-526-8591",null," 616-526-8563","hlc5@calvin.edu",null,null,"Jennifer Ambrose","Calvin College","1475 Knollcrest Circle SE",null,null,null,"Grand Rapids","MI","49546-4401","Ms.","Chapman","EHS Manager","School","Kent"]
["Cameron Brothers, Inc. (Sherry)","Sherry",null," 231-464-5801",null,null,null,null,null,null,"Cameron Brothers, Inc.","8736 N. US Highway 31",null,null,null,"Free Soil","MI","49411",null,"Sherry","Office Manager","Contractor General","Manistee"]
["Cameron Mechanical Services (Coraopolis)","Rob Burns",null,"724-273-9300 general","724-273-9161","724-273-9301",null,null,"Out of State",null,"Cameron Mechanical Services (Coraopolis)","Attn:","1000 McClaren Woods Drive",null,null,"Coraopolis","PA","15108"]
["Camp & Cruise (Covell)","Dick Covell",null," 616-677-1274",null," 616-677-3220",null,null,null,null,"Camp & Cruise","1613 Hayes St.",null,null,null,"Walker","MI","49435","Mr.","Covell","Manager","Automotive","Kent"]
["Camp Cruise","Dick Covell",null,"616-677-1274",null,"616-677-3220",null,null,"Michigan Sales Tax",null,"Camp Cruise","Attn: Dick Covell","1613 Hayes Street",null,null,"Marne","MI","49435"]
["Campbell Group, The (Vander Hill)","Steve Vander Hill",null," 616-541-1297",null,null,"svanderhill@acrisure.com",null,null,null,"Campbell Group, The","5664 Prairie Creek Drive SE",null,null,null,"Caledonia","MI","49316","Mr.","Vander Hill",null,"Insurance","Kent"]
["Campbell Inc.","Justin Van Der Sall",null,"419-476-4444","cell 419-260-5802","419-476-9352",null,null,"Michigan Sales Tax",null,"Campbell Inc.","Attn: Justin Van Der Sall","2875 Crane Way",null,null,"Northwood","OH","43619"]
["Campbell Inc. (Van Der Sall)","Justin Van Der Sall",null," 419-476-4444",null," 419-476-9352","jimmyw@campbellinc.com",null,null,"Quote GAXT-A to Jimmy Walters","Campbell Inc.","2875 Crane Way",null,null,null,"Northwood","OH","43619","Mr.","Van Der Sall",null,"Food","Out of State"]
["Camtech Industrial Service","Greg Carson","Clayton 419.575.0194","419-832-1118","cell 419.467.8321","419-832-1118","carsong@verizon.net",null,"OH Henry Co.","Greg Carson - cell: 419-467-8321\nMC:  5572-4400-0001-2000 Exp: 01/12\nBill To Address:  Same entered","Camtech Industrial Service","Attn:","Q123 Country Road 1",null,null,"McClure","OH","43534"]
["Camus Water Technologies","Don Houston",null,"231-788-4934",null,"231-788-6474",null,null,"Michigan Sales Tax",null,"Camus Water Technologies","Don Houston","5307 Evanston Road",null,null,"Muskegon","MI","49442","Mr.","Houston"]
["Camus Water Technologies (Houston)","Don Houston",null," 231-788-4934",null," 231-788-6474","d.houston@adventgrp.com",null,null,"Advent Environ is now company running plant   Gary Vorst","Camus Water Technologies","5307 Evanston Road",null,null,null,"Muskegon","MI","49442","Mr.","Houston","Site Manager","Chemical Pharmaceutical","Muskegon"]
["Canada Ministry of Labor (Gill)","Aaron Gill",null," 604-713-0373",null," 604-713-0345","agill@eao-bc.org",null,null,"GEMS 300 - 3000 users","Canada Ministry of Labor","Ste. 620","8100 Grandville Ave",null,null,"Richmond","BC","V6Y3T6","Mr.","Gill",null,"State","Out of State"]
["Cannon Muskegon Corp.","Andy Whitlock",null,"231-759-2800",null,null,null,null,"Michigan Sales Tax",null,"Cannon Muskegon Corp.","Attn: Andy Whitlock","2875 Lincoln St.",null,null,"Muskegon","MI","49441"]
["Cannon Muskegon Corporation (Whitlock)","Andrew Whitlock",null," 231-759-2800",null,null,"awhitlock@canmkg.com",null,null,"Andrew moved to WA state.","Cannon Muskegon Corporation","2875 Lincoln Street",null,null,null,"Muskegon","MI","49441","Mr.","Whitlock",null,"Manufacturer","Muskegon"]
["Cannonsburg Ski Area (Miller)","Nick Miller",null," 616-874-6711",null,null,null,null,null,null,"Cannonsburg Ski Area","6800 Cannonsburg Rd. NE",null,null,null,"Belmont","MI","49306","Mr.","Miller","Lift Operations and Maintenanc","Ski Area","Kent"]
["Capital Normal University","Tao Tang",null,"716-741-2586",null,null,null,null,"Non-Tax",null,"Capital Normal University","Dr. Tao Tang","8962 Connemara Lane",null,null,"Clarence Center","NY","14032"]
["Capital Technologies International (Galla","Michael Gallagher",null," 412-268-1186",null," 412-268-7759","mikeg@capital-technologies.com",null,null,null,"Capital Technologies International","700 Technology Drive",null,null,null,"Pittsburgh","PA","15219","Mr.","Gallagher","Purchasing Manager","Other","Out of State"]
["Capitol Barricading","Diana Folleth",null,"517-372-1291",null,"517-694-6123",null,null,"NonTx Re-Sale",null,"Capitol Barricading Inc.","Attn: Diana Folleth","1840 Tupelo Trail",null,null,"Holt","MI","48842"]
["Capitol Barricading (Folleph)","Diana Folleph",null," 517-372-1291",null," 517-694-6123",null,null,null,"Interested in Flexstakes","Capitol Barricading","3929 Holt Road",null,null,null,"Holt","MI","48842",null,"Folleph","Purchasing/Office Manager","Contractor General","Lansing"]
["CAPP Inc.","Mark Donato",null,"610.394.1101",null,null,null,null,"Out of State",null,"Unilever GHB - Huntington","Attn:","201 Marple Ave.",null,null,"Clifton Heights","PA","19018"]
["Capsugel (Greenwood)",null,null,"864-223-2270","864-942-6615",null,null,null,"Non-Tax",null,"Capsugel (Greenwood)","Attn:","535 North Emerald Road",null,null,"Greenwood","SC","29646"]
["Carbon Green (Bosch)","Bill Bosch",null," 616-374-3623",null," 866-720-1269","bbosch@cgbioenergy.com",null,null,"Caroline for A/P","Carbon Green","7795 Saddlebag Lake Rd",null,null,null,"Lake Odessa","MI","48849","Mr.","Bosch","EHS Manager","Chemical Pharmaceutical","Ionia"]
["Carbon Green (Hoppes)","Sara Hoppes",null," 616-374-3601",null," 616-374-8740","shoppes@cgbioenergy.com",null,null,"\nControl Room x3651  Victor Stank x3625  Jason Jerke (yur-kee) COO, Mitch Miller (CEO)","Carbon Green","7795 Saddlebag Lake Rd",null,null,null,"Lake Odessa","MI","48849","Ms.","Hoppes",null,"Chemical Pharmaceutical","Ionia"]
["Carbon Green (Rugg)","Willis Rugg",null," 616-374-3624"," 616-374-3600"," 616-374-4127","wrugg@cgbioenergy.com",null,null,null,"Carbon Green","7795 Saddlebag Lake Rd",null,null,null,"Lake Odessa","MI","48849","Mr.","Rugg",null,"Chemical Pharmaceutical","Ionia"]
["Carbon Green (Stank)","Victor Stank",null," 616-374-3625",null," 616-374-4127","vstank@cgbioenergy.com",null,null,null,"Carbon Green","7795 Saddlebag Lake Rd",null,null,null,"Lake Odessa","MI","48849","Mr.","Stank",null,"Chemical Pharmaceutical","Ionia"]
["Carbon Green BioEnergy, LLC","Caroline","Willis Rugg / Bill Bosch","616-374-4000","Maggie 616-374-3640","616-374-8740","carmbruster@cgbioenergy.com",null,"Michigan Sales Tax","\nAccounting for Verasun is Caroline 10/2010. As per Danielle Carbon Green pays tax on all not processing items if the product is used for industrial processing it is tax free. Add tax as needed to the invoices.\n\nPays at net 40 we should see at 45\n\n\n11/06/2009:  Shipments need to be to the attn: of Vick Stank for all orders unless otherwise requested.\n\nMBenham@rbfvii.net\naccounts payable is Caroline Armbruster\ncarmbruster@cgbioenergy.com can email invoices to her 11/2010","Carbon Green BioEnergy, LLC","Attn:  PPE Bill Bosch Agile SO 15698","7795 Saddlebag Lake Rd",null,null,"Lake Odessa","MI","48849"]
["Cardinal Environmental","Patty Deblaey",null,"800-413-7225",null,"920-459-2503","pdeblaey@cardinalenvironmental.com",null,"Michigan Sales Tax",null,"Cardinal Environmental","Attn: Patty Deblaey","3303 Paine Avenue",null,null,"Sheboygan","WI","53081"]
["Cardinal Environmental (Deblaey)","Patty Deblaey",null," 920-413-7225",null," 920-459-2503","pdeblaey@cardinalenvironmental.com",null,null,null,"Cardinal Environmental","3303 Paine Avenue",null,null,null,"Sheboygan","WI","53081","Ms.","Deblaey",null,"Contractor EH&S","Out of State"]
["Cargill Inc. (Harrisonburg)","Bob Evans","Lance Avey","540-568-1463","540-568-1419",null,null,null,"Out of State",null,"Cargill Inc. (Harrisonburg)","Attn:Lance Avey","1 Kratcher Rd",null,null,"Harrisonburg","VA","22802"]
["Cargill Inc. (Kennedy)",null,"Tim Decker","716-665-6570",null,"716-665-9286",null,null,"Out of State",null,"Cargill Inc. (Kennedy)","Attn:","1029 Poland Center",null,null,"Kennedy","NY","14747"]
["Cargill Inc.(Batavia)","Tim LeClair",null,"585-345-1160",null,null,null,null,"Out of State",null,"Cargill Inc.(Batavia)","Attn: Tim LeClair","8849 Wortendyke Rd.",null,null,"Batavia","NY","14020"]
["Cargill, Inc. (Landauer)","Eric Landauer",null," 402-533-4100 1869",null,null,"eric_landauer@cargill.com",null,null,"GEMS website lead","Cargill, Inc.","650 Industrial Road",null,null,null,"Blair","NE","68008","Mr.","Landauer","Operations","Food","Out of State"]
["Cargill, Inc. - Wyalusing (Girven)","Eric Girven",null," 570-746-3000 7784",null," 570-746-6355","eric_girven@cargill.com",null,null,null,"Cargill, Inc. - Wyalusing","1252 Route 706",null,null,null,"Wyalusing","PA","18853","Mr.","Girven",null,"Food","Out of State"]
["CarMax","Kim Watkins",null,"888-601-5567","804-747-0422","804-935-6176",null,null,"Out of State",null,"CarMax","Attn: Kim Watkins","12800 Tuckahoe Creek Pkwy",null,null,"Richmond","VA","23238"]
["Carnegie Mellon (Portnoff)","Marc Portnoff",null," 412-268-3495",null," 412-268-7759","mp1a@andrew.cmu.edu",null,null,null,"Carnegie Mellon","700 Technology Drive",null,null,null,"Pittsburgh","PA","15219","Mr.","Portnoff","Co-Director & Senior Scientist","School","Out of State"]
["Carpenters Local 1836","Bill McAlister",null,"479-967-4240",null,"479-967-5878",null,null,"Out of State",null,"Carpenters Local 1836","Attn: Bill McAlister","1407 S. Knoxville Ave.",null,null,"Russellville","AK","72802"]
["Carry Manufacturing Inc","Jean",null,"989-659-3500",null,null,null,null,"Michigan Sales Tax","son wksforFulton&son","Carry Manufacturing Inc","Attn: Jean","1514 South Knight",null,null,"Munger","MI","48747"]
["Carstensen Contracting Inc.","Kevin Green",null,"402-373-2261","507-825-2026",null,null,null,"Michigan Sales Tax",null,"Carstensen Contracting Inc.","88581 543 RD Ave.",null,null,null,"Bloomfield","NE","68718"]
["Carstensen Contracting Inc. (Green)","Kevin Green",null," 507-825-2026",null," 507-825-2027","kgreen@ccimn.net",null,null,null,"Carstensen Contracting Inc.","PO Box 754",null,null,null,"Pipestone","MN","56164",null,"Green",null,"Contractor General","Out of State"]
["Cascade Die Casting -Great Lakes Div.","Anne Snider",null,"616-887-1771",null,null,null,null,"Michigan Sales Tax",null,"Cascade Die Casting -Great Lakes Div.","Attn: Junior","9983 Sparta Ave.",null,null,"Sparta","MI","49345"]
["Cascade Die Casting Group (Atlantic Div.)","Anthony Blakely",null,"336-882-0186 x1253",null,null,null,null,"Out of State",null,"Cascade Die Casting Group (Atlantic Div.)","Attn: Anthony Blakely","1800 Albertson Rd.",null,null,"High Point","NC","27260"]
["Cascade Die Casting Group (S. Division)","Paul Dieterle",null,"616-281-1660",null,"616-281-1720",null,null,"Michigan Sales Tax",null,"Cascade Die Casting Group","Attn:","7441 South Division Ave.","Suite A1",null,"Grand Rapids","MI","49548"]
["Cascade Die Casting Group Services (Diete","Paul Dieterle",null," 616-281-1660 105",null," 616-281-1720","pdieterle@cascade-cdc.com",null,null,null,"Cascade Die Casting Group Services","7441 South Division Suite A1",null,null,null,"Grand Rapids","MI","49548","Mr.","Dieterle","VP, Human Resources","Manufacturer","Kent"]
["Cascade Die Casting Mid-State Division","Dave Timmer",null,"616-455-4010 ext. 21",null,"616-455-4514","dtimmer@cascade-cdc.com",null,"Michigan Sales Tax",null,"Cascade Die Casting Mid-State Division","Dave Timmer","7750 South Division",null,null,"Grand Rapids","MI","49548","Mr.","Timmer"]
["Cascade Die Casting Mid-State Division (T","Dave Timmer",null," 616-455-4010 21",null," 616-455-4514",null,null,null,"Ultratech lead from Bob Wolf with Grady Kooiker as contact.","Cascade Die Casting Mid-State Division","7750 South Division",null,null,null,"Grand Rapids","MI","49548","Mr.","Timmer",null,"Manufacturer","Kent"]
["Cascade Engineering","Kristine Nietering",null,"616-975-4800",null,"616-975-4900",null,null,"Michigan Sales Tax",null,"Cascade Engineering","Attn: Kristine Nietering","3400 Innovation Court SE",null,null,"Grand Rapids","MI","49512"]
["Cascade Engineering (Nietering)","Kristine Nietering",null," 616-975-4800 4933",null," 616-975-4900","nieteringk@cascadeng.com",null,null,"Kelley Losey mob 616.862.6399","Cascade Engineering","3400 Innovation Court SE",null,null,null,"Grand Rapids","MI","49512","Ms.","Nietering",null,"Plastics","Kent"]
["Cascade Township Fire Department (Bennett","Steve Bennett",null," 616-949-1320",null," 616-285-2330","primetraxvideo@hotmail.com",null,null,"Handles gas detection. Chief John Sigg. Dan Gillespie Lt. Mark Venema?","Cascade Township Fire Department","2865 Thornhills, SE",null,null,null,"Grand Rapids","MI","49546","Mr.","Bennett","Firefighter","Fire Department","Kent"]
["Cascade Township Fire Department (Sigg)","John Sigg",null," 616-949-1320",null," 616-285-2330","jsigg@cascadetwp.com",null,null,null,"Cascade Township Fire Department","2865 Thornhills, SE",null,null,null,"Grand Rapids","MI","49546",null,"Sigg","Chief","Fire Department","Kent"]
["Cascade Township Fire Dept","Steve Bennett","Dan Gillespie","616-949-1320","443-3176 cell Dan","616-285-2330",null,null,"Non-Tax Municipality/Utility",null,"Cascade Township Fire Dept.","Attn:","2865 Thornhills SE",null,null,"Grand Rapids","MI","49546"]
["Casella USA (Selwyn)","Bob Selwyn",null," 800-366-2966"," 877-299-2966"," 603-672-8053","bobselwyn@casellausa.com",null,null,"Rob Brauch mob 716.867.1754  robbrauch@casellausa.com\nBob Selwyn (wife?), Sam Lindeman, Janine Angel, \nDebbie Leilasus (pronounced Lie Lay Shus)   Janine Angel\nJohn Brown svc  Tony Myles --> Paul Ruben Pres. UK","Casella USA","17 Old Nashua Road, #15",null,null,null,"Amherst","NH","3031","Mr.","Selwyn","V.P. Sales & Marketing","Supplier","Out of State"]
["Cavcon, Inc. (Campbell)","Chuck Campbell",null," 304-342-0385",null," 304-342-3479","chuck@cavconinc.com",null,null,"BBB offered BW pricing -15% on insts","Cavcon, Inc.","114 Randolph Street",null,null,null,"Charleston","WV","25362","Mr.","Campbell",null,"Competitor","Out of State"]
["CD Barnes Associates Inc. (Schottke)","Jennifer Schottke",null," 616-241-4491",null," 616-241-1177","jen@cdbarnes.com",null,null,"Dick Bruff mob 299.0628  Kenneth Coulston at GR WWTP trailer mob 616.262.4600","CD Barnes Associates Inc.","3437 Eastern Ave. SE",null,null,null,"Grand Rapids","MI","49508","Ms.","Schottke","Marketing & Business Developme","Contractor General","Kent"]
["CDP Engineers","Steve Green",null,"859-264-7500",null,"859-264-7501",null,null,"Out of State",null,"CDP Engineers","Attn:","3250 Blazer Parkway",null,null,"Lexington","KY","40509"]
["CDR Pigments & Dispersions","Dolores Peters",null,"616-392-1370  x5467",null,"616-392-6594",null,null,"Michigan Sales Tax",null,"CDR Pigments & Dispersions","Dolores Peters","471 Howard Ave.",null,null,"Holland","MI","49424","Ms.","Peters"]
["CE Wilder Road Service Center","Rob Giorgis",null,null,null,null,null,null,"Michigan Sales Tax",null,"CE Wilder Road Service Center","Attn: Rob Giorgis","4141 E. Wilder Road",null,null,"Bay City","MI","48706"]
["Cecil Shoaf (Gene)","Cecil Shoaf (Gene)",null,"765-477-4817",null,null,"shoaf_cecil_e@lilly.com",null,"Out of State",null,"Cecil Shoaf (Gene)","1650 Lilly Rd",null,null,null,"Lafayette","IN","47909"]
["Cedar Crest Dairy (Boes)","John Boes",null," 616-669-5170",null,null,null,null,null,null,"Cedar Crest Dairy","5850 Balsam Dr.",null,null,null,"Hudsonville","MI","49426","Mr.","Boes","Manager","Food Distribution","Ottawa"]
["Cedar Springs Fire Dept., City of (Scholz","Traverse Scholz",null," 616-734-2589",null,null,null,null,null,null,"Cedar Springs Fire Dept., City of","66 South Main Street",null,null,null,"Cedar Springs","MI","49319","Mr.","Scholz","Firefighter","Fire Department","Kent"]
["Celmore Plastics Ltd.","Ryan Hatfield",null,"740-397-0790",null,null,null,null,"Out of State",null,"Celmore Plastics Ltd.","Attn: Ryan Hatfield","350 Pittsburgh Ave.",null,null,"Mount Vernon","OH","43050"]
["Centennial Coatings (Vane)","Pual Mac Vane",null," 616-748-9410",null," 616-748-9411",null,null,null,null,"Centennial Coatings","371 N. Centennial",null,null,null,"Zeeland","MI","49464","Mr.","Vane","President",null,"Ottawa"]
["Central Michigan University","John Dillon",null,"989-774-6555",null,"989-774-1860",null,null,"NTU",null,"Central Michigan University","Attn:John Dillon","Combined Services Bldg","1720 South East Campus Drive",null,"Mount Pleasant","MI","48859"]
["Central Michigan University (Dillon)","John Dillon",null," 989-774-6555",null," 989-774-1860","dillo1je@cmich.edu",null,null,null,"Central Michigan University","1720 South East Campus Dr.","Combined Services Blding",null,null,"Mount Pleasant","MI","48859","Mr.","Dillon","Architecture Trades Supervisor","University","Isabella"]
["Central Michigan University (Walton)","Jennifer Walton",null," 989-774-4189",null," 989-774-1874",null,null,null,null,"Central Michigan University",null,null,null,null,"Mount Pleasant","MI","48859","Ms.","Walton","Safety Coordinator","University","Isabella"]
["Century A&E","Bob Arbetman","Steve Aman","616-456-5227","Bob 616-550-5821","616-456-5228",null,null,"Michigan Sales Tax",null,"Century A&E","Attn: Bob Arbetman","277 Crahen Ave. NE",null,null,"Grand Rapids","MI","49525"]
["Century A&E (Rose)","William T. Rose",null," 616-456-5227",null," 616-456-5228","wrose@centuryae.com",null,null,"Steve Westrick for Safety and Health","Century A&E","168 Louis Campau Promenade NW  Ste 200",null,null,null,"Grand Rapids","MI","49503-2638","Mr.","Rose","Partner","Engineering, Architecture","Kent"]
["Century Floorspace (DeVries)","Mel DeVries",null," 616-988-4524",null," 616-235-0310","mdevries@centuryfloorspace.com",null,null,null,"Century Floorspace","719 Century SW",null,null,null,"Grand Rapids","MI","49503","Mr.","DeVries","Account Manager",null,"Kent"]
["Century Sun Metal Treating","David Query",null,"231-941-7800",null,"231-941-7800",null,null,"Michigan Sales Tax","\nbill to Add on David Query's CC for processing purpose is 2411/49686","Century Sun Metal Treating","Attn: David Query","2411 West Aero Park Ct.",null,null,"Traverse City","MI","49686"]
["Certified Sheet Metal","Andy Kanaar",null,"616-791-6900",null,"616-791-8701","drussell@certifiedsheetmetal.com",null,"NonTx Re-Sale","Nov. 20th 2007 needs new tax exempt form on file\n\nJoe Kastl\nGeorge Regan\nDerrick Stinson\n\ninv to D Russell","Certified Sheet Metal","Attn:Joe Kastl","2458 Waldorf Court NW",null,null,"Grand Rapids","MI","49544","Mr.","Kanaar"]
["Certified Sheet Metal (Kanaar)","Andy Kanaar",null," 616-791-6900 303",null," 616-791-8701","akanaar@certifiedsheetmetal.com",null,null,"Joe Kastl, Gen'l Mgr mob 616.893.4895  Derick Stinson  x304","Certified Sheet Metal","2458 Waldorf Court NW",null,null,null,"Grand Rapids","MI","49544","Mr.","Kanaar","Operations Manager","Contractor General","Kent"]
["Certified Sheet Metal (Regan)","George Regan",null," 616-791-6900",null," 616-791-8701","gregan@certifiedsheetmetal.com",null,null,null,"Certified Sheet Metal","2458 Waldorf Court NW",null,null,null,"Grand Rapids","MI","49544","Mr.","Regan","Project Manager","Contractor General","Kent"]
["CH2M Hill","Steve Beck",null,"304-482-7919",null,null,null,null,"Michigan Sales Tax",null,"CH2M Hill","OMI/Dow Marietta","State Route 7 South","UCC Super Fund Site",null,"Marietta","OH","45750"]
["CH2M Hill (Beck)","Steven Beck",null," 414-272-2426",null," 414-272-4408","sbeck@ch2m.com",null,null,"414.257.4615 Rob Strehlow, Warehouse Mgr., Milwaukee\n352.371.8199 Kevin Mayer, Warehouse Mgr., Gainesville\n720.286.2525 Terry Foxworthy, Warehouse Mgr., Denver\n720.286.2051  John Meidl, Buyer, Denver","CH2M Hill","135 South 84th Street Ste 325",null,null,null,"Milwaukee","WI","53214","Mr.","Beck","EH&S Manager","Engineering, Architecture","Out of State"]
["CH2M Hill (Besuner)","Paige Besuner",null,null,null," 513-530-5541","paige.besuner@ch2m.com",null,null,null,"CH2M Hill","10123 Alliance Road  Suite 300",null,null,null,"Cincinnati","OH","45242","Ms.","Besuner","Project Manager","Engineering, Architecture","Out of State"]
["CH2M Hill (Verbrugge)","James D. Verbrugge",null,null,null,null,"jverbrugge@ch2m.com",null,null,null,"CH2M Hill","PO Box 14218",null,null,null,"West Allis","WI","53214","Mr.","Verbrugge","EH&S","Engineering, Architecture","Out of State"]
["CH2M Hill (W. Allis WI)","John Meidl",null,"720-286-2051",null,"720-286-9015",null,null,"Out of State",null,"CH2M Hill (W. Allis WI)"," PO 922539","2110 Pewaukee Road Ste 102",null,null,"Waukesha","WI","53188"]
["CH2MHill (Okemos)","Brian Constant (buyer)",null,"720-286-3117",null,"720-286-8010",null,null,"Michigan Sales Tax",null,"CH2MHill (Okemos)","2127 University Park Drive","Suite 360",null,null,"Okemos","MI","48864"]
["Chain of Lakes Sewer Authority","Scott Wilson","Bill Moore","231-652-2848",null,"231-652-2873",null,null,"Non-Tax Municipality/Utility",null,"Chain of Lakes Sewer Authority","Attn: Scott Wilson","5546 Evergreen",null,null,"Newago","MI","49337"]
["Challenge Machinery (German)","Bob German",null," 231-799-8484",null,null,null,null,null,null,"Challenge Machinery","6125 Norton Center Dr.",null,null,null,"Muskegon","MI","49441",null,"German","Safety","Manufacturer","Muskegon"]
["Challenge Manufacturing",null,"Mike Schwartz","616-735-6500","616-594-2852",null,"mschwartz@challenge-mfg.com",null,"Michigan Sales Tax",null,"Challenge Manufacturing","Attn:Mike Schwartz","1401 S. Washington Ave.",null,null,"Holland","MI","49422"]
["Charles F. Mann Paint Co.","Becky Jackson",null,"800-920-6266","419-385-0597","419-385-0597",null,null,"Michigan Sales Tax",null,"Charles F. Mann Paint Co.","Attn: Becky Jackson","3638 Marine Rd.",null,null,"Toledo","OH","43609"]
["Charles River Laboratories","Keith Horn ext. 12",null,"269-327-4248",null,"269-327-1599",null,null,"Michigan Sales Tax","Joel Nelson - Maintenance Supervisor","Charles River Laboratories","Research Models and Services","Attn:Donald Rumsey 66011838","9801 Shaver Road",null,"Portage","MI","49024"]
["Charles River Laboratories (Horn)","Keith Horn",null," 269-327-4248 12",null," 269-327-1599","keith.horn@crl.com",null,null,null,"Charles River Laboratories","9801 Shaver Road","PO Box 176",null,null,"Portage","MI","49024","Mr.","Horn","Manager of Plant Engineering","Chemical Pharmaceutical","Kalamazoo"]
["Charles River Laboratories (Nelson)","Joel Nelson",null," 269-327-4248",null," 269-327-1599","jnelson@criver.com",null,null,null,"Charles River Laboratories","9801 Shaver Road","PO Box 176",null,null,"Portage","MI","49024","Mr.","Nelson","Mainenance Supervisor","Chemical Pharmaceutical","Kalamazoo"]
["Charlevoix Electric / Water Dept.",null,null,"231-547-3273",null,"231-547-3600",null,null,"Non-Tax Municipality/Utility","Doug Jacobs - maint. contact - email: djacobs.chx@charterinternet.com\n\nDon Swem - Superintendent","Charlevoix Electric / Water Dept.","Attn:","401 West Carpenter Ave.",null,null,"Charlevoix","MI","49720"]
["Charlevoix WTP / WWTP, City of (Creswell)","Sam Creswell",null," 231-547-3256",null," 231-547-3648","chxwtp@unnet.com",null,null,"H2O Plant: 98 Grand Street  \nWWTP: (Jim Mazur) 15116 Lakeshore Drive 231.547.3274, fx 3648.\nJohn Martin DPW Supt.","Charlevoix WTP / WWTP, City of","210 State Street",null,null,null,"Charlevoix","MI","49720","Mr.","Creswell","Superintendent","Municipal, Cty","Charelvoix"]
["Chelsea Milling (Hein)","Ken Hein",null," 734-475-1361",null," 734-475-4630","ken.hein@chelseamilling.com",null,null,"Doug Weitting","Chelsea Milling","201 W. North Street",null,null,null,"Chelsea","MI","48118","Mr.","Hein",null,"Food","Washtenaw"]
["Chemviron Midwest (Dale)","Nathan Dale",null," 734-437-9074",null," 734-437-9085","nathand@chemviron.com",null,null,null,"Chemviron Midwest","36973 Amrhein Road",null,null,null,"Livonia","MI","48150","Mr.","Dale",null,"Contractor EH&S","UNSURE"]
["Chemviron Midwest (O'Brian)","Kevin O'Brian",null," 734-437-9074",null," 734-437-9085","kevino@chemviron",null,null,null,"Chemviron Midwest","36973 Amrhein Road",null,null,null,"Livonia","MI","48150","Mr.","O'Brian",null,"Contractor EH&S","UNSURE"]
["Chemviron Midwest Inc.","Kevin O'Brien","Nathan Dale","734-437-9074","cell 734-718-3857 Nat","734-437-9085","nathand@chemviron.com",null,"Michigan Sales Tax","President:  Mark Steiner - Cell:  330-465-5112\nEmail:  marks@chemviron.com\n\n\nA/P Janea (jannah) Andrews\n  ph 330.254.2000\n  fax 330-264-2118\n10/15/10 accts payable called and requested change bill to add to Wooster OH - it is ok to fax invoices as well\n\nAlso, Andrea Wild x201","Chemviron Midwest Inc.","Attn: Kevin O'Brien","7796 Boardwalk Road",null,null,"Brighton","MI","48116"]
["Cherry Growers Inc. (Gallop)","Ron Gallop",null," 231-276-9241",null,null,null,null,null,null,"Cherry Growers Inc.","P.O. Box 90",null,null,null,"Grawn","MI","49637",null,"Gallop","Plant Manager",null,"Grand Traverse"]
["Chevron Environmental Management Company","Mark Stella",null," 713-432-2643",null," 713-432-2624","markstella@chevron.com",null,null,null,"Chevron Environmental Management Company","4800 Fournace Place","E 530A",null,null,"Bellaire","TX","77401","Mr.","Stella",null,"Petroleum Related","Out of State"]
["Chevron Environmental Management Company","Mark Stella",null," 713-432-2643"," 281-382-0281"," 713-432-2624","markstella@chevron.com",null,null,null,"Chevron Environmental Management Company","4800 Fournace Place","E 530A",null,null,"Bellaire","TX","77401","Mr.","Stella",null,"Petroleum Related","Out of State"]
["Chevron Environmental Management Company","Mark Stella",null," 713-432-2643"," 281-382-0281"," 713-432-2624","markstella@chevron.com",null,null,null,"Chevron Environmental Management Company","4800 Fournace Place","E 530A",null,null,"Bellaire","TX","77401","Mr.","Stella",null,"Petroleum Related","Out of State"]
["Choctaw-Kaul","Choctaw-Kaul",null,"313-895-3165 x158",null,"313-894-7977",null,null,"NonTx Re-Sale",null,"FMC/dearborn Assembly /Truck","3001 Miller Rd.","Attn: David Allstaedt",null,null,"Dearborn","MI","48121"]
["Choctaw-Kaul Distribution Company (Hawkin","Melissa Hawkins",null," 313-894-9494",null," 313-894-7977","mhawkins@choctawkaul.com",null,null,null,"Choctaw-Kaul Distribution Company","3540 Vinewood Ave.",null,null,null,"Detroit","MI","48208","Ms.","Hawkins",null,"Competitor","Wayne"]
["Choctaw-Kaul Distribution Company (Kocsis","Jerry Kocsis",null," 313-895-3587",null,null,"jkocsis@choctawkaul.com",null,null,null,"Choctaw-Kaul Distribution Company","3540 Vinewood Ave.",null,null,null,"Detroit","MI","48208","Mr.","Kocsis","Buyer","Competitor","Wayne"]
["Chris Hammond (CUSTOMER)"]
["Christie Construction (Christie)","Scott Christie",null," 616-773-5464",null,null,null,null,null,null,"Christie Construction","123 Main St.",null,null,null,"St. Joseph","MI",null,"Mr.","Christie","Owner's Son","Construction","Allegan"]
["Christman Company, The (Staley)","Don Staley",null," 517-482-1488",null," 517-482-3520","don.staley@christmanco.com",null,null,"Kerrie Battige, Keith Heins\nGary Shannon Sr Proj Supt 517-719-0519\nThomas Brennan m 517-819-6449\nJohn Bedard is Proj Mgr in Holland","Christman Company, The","408 Kalamazoo Plaza",null,null,null,"Lansing","MI",null,"Mr.","Staley","Safety Manager","Contractor General","Ingham"]
["Christman Construction(Grand Rapids)","Kerrie Battige",null,"616-608-0262","616-454-4454","616-454-1795",null,null,"Michigan Sales Tax",null,"Christman Construction","Attn: Kerrie Battige","25 Michigan  NE","Suite1100",null,"Grand Rapids","MI","49503"]
["Christman Constructors (Lansing)","Andy Bellmore",null,"517 482 1488","517 749 2144","517 482 3520",null,null,"Michigan Sales Tax",null,"Christman Constructors, Inc.","Andy Bellmore","208 N. Capitol Ave.",null,null,"Lansing","MI","48933","Mr.","Bellmore"]
["Christman Constructors, Inc. (Bellmore)","Andrew Bellmore",null," 517-482-0554",null," 517-482-2882","andy.bellmore@constructorsonline.com",null,null,"Doug Peters is Safety Mgr","Christman Constructors, Inc.","324 E. South Street",null,null,null,"Lansing","MI","48910","Mr.","Bellmore","Stores","Contractor General","Ingham"]
["Chukwu Williams",null,null,null,null,null,null,null,"Michigan Sales Tax",null,"Chukwu Williams","Shop 40","IFEH POWA MARKET OBALENDE IKOYI","LAGOS",null,"NIGERIA",null,"23401"]
["Cintas Corporation (Kentwood) (Curry)","Toby Curry",null," 616-942-9225 3107",null," 616-942-1742","curryt@cintas.com",null,null,null,"Cintas Corporation (Kentwood)","5079 33rd Street SE",null,null,null,"Kentwood","MI","49512","Mr.","Curry","Maintenance Engineer","Other","Kent"]
["Cintas Corporation (Walker)",null,"Bob Smith","616-791-6300",null,"616-791-6700",null,null,"Michigan Sales Tax",null,"Cintas Corporation (Walker)","Attn:","3149 Wilson NW",null,null,"Walker","MI","49544"]
["Cintas Corporation (Walker) (Parkhurst)","Jim Parkhurst",null," 616-791-6300 225",null," 616-791-6700",null,null,null,null,"Cintas Corporation (Walker)","3149 Wilson NW",null,null,null,"Walker","MI","49544","Mr.","Parkhurst","Chief Maintenance Engineer","Other","Walker"]
["Circuit Electric Company ()",null,null," 616-878-4343",null,null,null,null,null,null,"Circuit Electric Company","400  84th Street SW",null,null,null,"Byron Center","MI","49315",null,null,null,"Contractor Electrical","Kent"]
["Citgo Buckeye (Stein)","Bill Stein",null," 616-842-9040 1",null,null,"wstein@citgo.com",null,null,null,"Citgo Buckeye","524 3rd Street",null,null,null,"Ferrysburg","MI","49456","Mr.","Stein",null,"Petroleum Distribution","Ottawa"]
["Citgo Petroleum (Tallmadge OH)","Chris Mercier",null,"330-633-4954",null,null,null,null,"Out of State"]
["Citgo Petroleum Corp. (Baltimore)","Robert Truax",null,"410-355-6500",null,null,null,null,"Out of State",null,"Citgo Petroleum Corp. (Baltimore)","Attn: Robert Truax","2201 Southport Ave.",null,null,"Baltimore","MD","21226"]
["Citgo Petroleum Corp. (Ferrysburg)",null,null,"616-842-9040",null,null,"wstein@citgo.com",null,"Michigan Sales Tax","Bill Stein - email:  wstein@citgo.com, cell:  616-502-0093","Citgo Petroleum Corp. (Ferrysburg)","Attn: Bill Stein","524 Third Street",null,null,"Ferrysburgh","MI","49409"]
["Citgo Petroleum Corp. (Oregon OH)","Rick Bauer",null,"419-654-7902",null,"419-698-8118",null,null,"Out of State",null,"Citgo Petroleum Corp. (Oregon OH)","Attn: Rick Bauer","1840 Otter Creek Rd.",null,null,"Oregon","OH","43616"]
["Citgo Petroleum Corporation (Snouffer)","Chad Snouffer",null," 616-842-9040",null," 616-842-1379","csnouff@citgo.com",null,null,null,"Citgo Petroleum Corporation","524 Third Street","P.O. Box 36",null,null,"Ferrysburg","MI","49409","Mr.","Snouffer","Assistant Terminal Manager",null,"Ottawa"]
["Citgo Petrolium Corp. (Buckeye Terminals)",null,null,null,null,null,null,null,"Michigan Sales Tax"]
["Citgo Petrolium Corp. (Dublin)","Chad Snouffer",null,"614-889-9461",null,null,null,null,"Out of State",null,"Citgo Petrolium Corp. (Dublin)","Attn: Chad Snouffer","6433 Cosgray Rd.",null,null,"Dublin","OH","43016"]
["City Of Fennville (Tuhacek)","Gary Tuhacek",null," 269-561-2444",null," 269-561-2390","fenncity@datawise.net",null,null,null,"City Of Fennville","222 South Maple St.",null,null,null,"Fennville","MI","49408","Mr.","Tuhacek","Superintendent","Municipal, Cty","Allegan"]
["City Service, Etna Supply","Brian Waters",null,null,"616-813-4841",null,null,null,"Michigan Sales Tax",null,"City Service, Etna Supply","Attn: Al Weber","529 - 32nd Street SE",null,null,"Wyoming","MI","49548"]
["City Services, Etna Supply (Waters)","Brian Waters",null," 616-813-4841",null," 616-514-6101","bwaters@etnasupply.com",null,null,"Al Weber is boss. Angela Visner (HUMR Mgr.) 616.514.5126","City Services, Etna Supply","529  32nd Street SE",null,null,null,"Wyoming","MI","49548","Mr.","Waters",null,"Contractor General","Kent"]
["CJ Mahan Construction","Steve Roberts","Mike Horne",null,"614-314-3603",null,"sroberts@cjmahan.com",null,"Out of State",null,"CJ Mahan Construction","Steve Roberts","3400 Southwest Blvd.",null,null,"Grove City","OH","43123"]
["CKI Inc",null,null,"616-791-8708",null,"791-0074",null,null,"Michigan Sales Tax",null,"CKI Inc.","Attn: Michael Sdrzycki","2671 Westwinde NW",null,null,"Grand Rapids","MI","49504"]
["Clark Excavation Company (Kreiner)","Wayne Kreiner",null," 517-322-0370",null," 517-322-2289",null,null,null,null,"Clark Excavation Company","6851 Millett Hwy.",null,null,null,"Lansing","MI","48917","Mr.","Kreiner","Safety Manager","Contractor, Excavator","Ingham"]
["Clark Township WWTP (Landreville)","James Landreville",null," 906-484-2026"," 906-484-3235"," 906-484-6020","clarktwpwwtp@easternup.net",null,null,null,"Clark Township WWTP","PO Box 367",null,null,null,"Cedarville","MI","49719","Mr.","Landreville","Manager","Municipal, Cty","Mackinac"]
["Clarksville Fire Dept / Campbell Twp FD","Bob Cronk",null,"616-693-2133 station",null,"616-693-2211 station",null,null,"Non-Tax Municipality/Utility","Bob Sr. pays invoices\n  cell 616-841-1024\n\nBob Jr. handles gas detection\n\nPaul Hayner","Clarksville Fire Dept / Campbell Twp FD","Attn:","325 S. Main St.",null,null,"Clarksville","MI","48815"]
["Clarksville Fire Dept/Campbell TWSHP (Cro","Bob Cronk",null," 616-693-2133",null," 616-693-2133",null,null,null,null,"Clarksville Fire Dept/Campbell TWSHP","325 S. Main St.",null,null,null,"Clarksville","MI","48815",null,"Cronk",null,null,"Ionia"]
["Clean Air","Benito Faccini","Elizabeth Morales","954-390-7499",null,"954-564-9715",null,null,"Michigan Sales Tax",null,"Clean Air","Attn:","4240 Galt Ocean Drive",null,null,"Fort Lauderdale","FL","33308"]
["Clean Source","Ted Brummel",null,"616-457-1903",null,"616-457-2098",null,null,"Michigan Sales Tax",null,"Clean Source","Attn: Ted Brummel","0-904 Chicago Drive",null,null,"Jenison","MI","49428"]
["Clean Source, The (Brummel)","Ted Brummel",null," 616-457-1903",null," 616-457-2098","thecleansource@hotmail.com",null,null,null,"Clean Source, The","0-904 Chicago Drive",null,null,null,"Jenison","MI","49428","Mr.","Brummel","Manager","Contractor General","Ottawa"]
["Clifford Buck Construction Company, Inc.","Robert Herrmann",null," 231-726-4913",null," 231-728-7410","cbuck1@fte.net",null,null,"Andy Zorn is a project manager  Joy is office person and buyer","Clifford Buck Construction Company, Inc.","500 Irwin Avenue",null,null,null,"Muskegon","MI","49442","Mr.","Herrmann","Project Manager",null,"Muskegon"]
["Clifford Buck Construction Company, Inc.","Robert Herrmann",null," 231-726-4913",null," 231-728-7410","cbuck1@fte.net",null,null,"Andy Zorn is a project manager  Joy is office person and buyer","Clifford Buck Construction Company, Inc.","500 Irwin Avenue",null,null,null,"Muskegon","MI","49442","Mr.","Herrmann","Project Manager",null,"Muskegon"]
["Clifford Buck Construction Company, Inc.","Robert Herrmann",null," 231-726-4913",null," 231-728-7410","cbuck1@fte.net",null,null,"Andy Zorn is a project manager  Joy is office person and buyer","Clifford Buck Construction Company, Inc.","500 Irwin Avenue",null,null,null,"Muskegon","MI","49442","Mr.","Herrmann","Project Manager",null,"Muskegon"]
["Cliffs Michigan Mining Company (Norback)","Tom Norback",null," 906-475-3583",null,null,"thomas.norback@cliffsnr.com",null,null,null,"Cliffs Michigan Mining Company","Empire Mine","101 Empire Mine Road",null,null,"Palmer","MI","49871","Mr.","Norback",null,"Mining","Marquette"]
["Cliffs Michigan Operation (1-Empire Mine)","James Dial",null,"906-475-3647",null,"906-475-2023",null,null,"NTINDPRO",null,"Cliffs Michigan Operations","1100 Superior Ave. East","Suite 1500- District 1412",null,null,"Cleveland","OH","44114-2544"]
["Cliffs Natural Resources (Kemp)","Peter Kemp",null," 218-744-7826",null," 218-744-7874","pete.kemp@cliffsnr.com",null,null,null,"Cliffs Natural Resources","PO Box 180",null,null,null,"Eveleth","MN","55734","Mr.","Kemp","Manager Mine Maintenance","Mining","Out of State"]
["Clio Area Fire Department","Gary M. Domerese",null,"810-686-7676",null,"810-686-8856",null,null,"Non-Tax Municipality/Utility",null,"Clio Area Fire Department","Attn: Chief Domerese","3400 West Vienna Road",null,null,"Clio","MI","48420"]
["Closure Systems (Crawfordsville)","Sherry Allen","Jim Roberts","765-364-6221","765-364-7387","765-364-6238","Sherry.allen@alcoa.com",null,"Out of State",null,"Closure Systems (Crawfordsville)","Attn:","1604 E. Elmore Street",null,null,"Crawfordsville","IN","47933"]
["Clyde Union","Gipp Klein",null,"269-966-4685",null,"269-966-4663",null,null,"Michigan Sales Tax","A/P Eric Hines 269.966.4677","Clyde Union","Attn:Gipp Klein","4600 West Dickman Rd.",null,null,"Battle Creek","MI","49015"]
["ClydeUnion (Klein)","Gipp Klein",null," 269-966-4685",null," 269-966-4663","gklein@clydeunion.com",null,null,"Dan Farmer (Buyer) T: 269-966-4742 dfarmer@clydeunion.com\nJeff Smith Union Tech; Kim Abbott Gipp's asst.; Carrie Case (secy)","ClydeUnion","4600 West Dickman Road",null,null,null,"Battle Creek","MI","49015","Mr.","Klein","EHS & Facilities Manager","Manufacturer","Calhoun"]
["CM Resources, Inc. (Pfizer Kzoo)","Tasha Mazo",null,"269-833-5223",null,"269-833-7377",null,null,"Michigan Sales Tax","11/05/04 Agile shipped pkg to wrong address customer should not have pd shipping but did. overpayment of $12.50 caused credit on customer acct. \n\n$12.50 Credit as of 11/05/04","CM Resources, Inc. (Pfizer Kzoo)","Attn:","7983 South 10th Street",null,null,"Kalamazoo","MI","49009"]
["CMD Corporation (Nackers)","Gregory Nackers",null," 920-380-8319",null," 920-380-8300","greg.nackers@cmd-corp.com",null,null,null,"CMD Corporation","3005 E. Pershing Street",null,null,null,"Appleton","WI","54912-1899","Mr.","Nackers","Sr. Electrical Engineer","Manufacturer","Out of State"]
["CME Mitsuba Corp (Haines)","Jerry Haines",null," 989-773-0377 235",null," 989-773-1105","j-haines@cme.americanmitsuba.com",null,null,"Todd Greenlee 989.779.4949 direct; mob 616.621.8976","CME Mitsuba Corp","2945 Tree Leaves",null,null,null,"Mt. Pleasant","MI","48858","Mr.","Haines","Safety Manager","Automotive","Isabella"]
["CNA","Kellie Baker",null,"616-450-1461",null,null,"kellie.baker@cna.com",null,"Michigan Sales Tax",null,"CNA","Attn: Kellie Baker","2109 Murray Lake Ave.",null,null,"Lowell","MI","49331"]
["Coastal Container (Tammy)","Tammy",null," 616-355-9800",null," 616-355-9801",null,null,null,null,"Coastal Container","1201 Industrial Avenue",null,null,null,"Holland","MI","49423",null,"Tammy","EHS & Facilities Manager",null,"Ottawa"]
["Coca-Cola Bottling Company of Michigan (M","Sherry Moore",null," 616-234-0639",null," 616-234-0650","shemoore@cokecce.com",null,null,null,"Coca-Cola Bottling Company of Michigan","1440 Butterworth Street SW",null,null,null,"Grand Rapids","MI","49504","Ms.","Moore",null,"Food","Kent"]
["Coca-Cola Company",null,null,"269-657-8567 Main",null,"269-657-8428",null,null,"Michigan Sales Tax","~~~~~~~~~~~~~~~~~~~~~~~~~~~~\nCredit Card Info for Candi\n\nVisa:  4715-0046-0005-3219  Exp: 12/09\nFax:  269-657-8469\nPh:  269-657-8470\n~~~~~~~~~~~~~~~~~~~~~~~~~~~~\nJohn Reed - Buyer, works w/ Choeung Chao\nPhone: 269-657-8471\n~~~~~~~~~~~~~~~~~~~~~~~~~~~~\n\nChoeung Chao - cell: 269-655-4300","Coca-Cola Company","Paw Paw Thermal Plant","38279 Red Arrow Highway West",null,null,"Paw Paw","MI","49079"]
["Coca-Cola Company (Chao)","Choeung Chao",null," 269-657-8563",null," 269-657-8428","cchao@coca-cola.com",null,null,null,"Coca-Cola Company","38279 Red Arrow Hwy",null,null,null,"Paw Paw","MI","49079","Mr.","Chao","Calibration Specialist","Other","Van Buren"]
["Coca-Cola Company (Fields)","Dan Fields",null," 269-657-8437",null," 269-657-8483","dfields@na.ko.com",null,null,null,"Coca-Cola Company","38279 Red Arrow Hwy",null,null,null,"Paw Paw","MI","49079","Mr.","Fields","Safety, Environmental & Securi","Other","Van Buren"]
["Coca-Cola Company (Young)","Steve Young",null," 269-657-8567"," 269-657-3171"," 269-657-8483",null,null,null,null,"Coca-Cola Company","38279 Red Arrow Hwy",null,null,null,"Paw Paw","MI","49079","Mr.","Young","Maintenance Planner","Other","Van Buren"]
["Code Red Safety (Shanley)","Meg Shanley",null," 800-499-5253",null," 219-865-5035","mshanley@gas-monitor.net",null,null,"nee Great Lakes Safety  Cindy Mack, buyer; Greg Mohoi mob 219.743.6303   Kim","Code Red Safety","435 Junction Ave",null,null,null,"Schererville","IN","46375-1349","Ms.","Shanley",null,"Supplier","N/A"]
["Coldwater Board of Public Utilities (Spit","Tom Spitzner",null," 517-279-4805",null," 517-278-5107","returned",null,null,null,"Coldwater Board of Public Utilities","75 Waterworks Park Drive",null,null,null,"Coldwater","MI","49036","Mr.","Spitzner","Water Supervisor","Municipal, Cty","Branch"]
["Coldwater Board of Public Utilities (Wood","Dave Woodman",null," 517-279-9531",null," 517-278-5107",null,null,null,null,"Coldwater Board of Public Utilities","100 Jay Street",null,null,null,"Coldwater","MI","49036","Mr.","Woodman","WWTP Supervisor","Municipal, Cty","Branch"]
["Coldwater DMS, City of","Dave Sattler",null,"517-279-7770",null,"517-278-2947",null,null,"Michigan Sales Tax",null,"Coldwater DMS, City of","Attn:","45 Industrial Avenue",null,null,"Coldwater","MI","49036"]
["Coldwater Fire Department, City of (Sherm","Rich Sherman",null," 517-278-4177",null," 517-279-9406","rsherman@coldwater.org",null,null,null,"Coldwater Fire Department, City of","57 Division Street",null,null,null,"Coldwater","MI","49036","Mr.","Sherman",null,"Municipal, Cty","Branch"]
["Coldwater Police Department","Mark Bartell","Lewis Eastmead","517-278-4525",null,"517-279-9406",null,null,"Non-Tax Municipality/Utility",null,"Coldwater Police Department","Attn:","57 Division Street",null,null,"Coldwater","MI","49036"]
["Coldwater Police Department, City of (Bar","Mark Bartell",null," 517-278-4525",null," 262-787-9246","mbartell@coldwater.org",null,null,null,"Coldwater Police Department, City of","57 Division Street",null,null,null,"Coldwater","MI","49036",null,"Bartell",null,"Municipal, Cty","Branch"]
["Cole's Quality Foods, Inc.","Diana Gaulting",null,"231-332-6993",null,null,null,null,"Michigan Sales Tax",null,"Cole's Quality Foods, Inc.","Attn:Connie/ Phil Bonczyk","1188 Lakeshore Drive",null,null,"Muskegon","MI","49441"]
["Cole's Quality Foods, Inc. (Gaultney)","Diana Gaultney",null," 231-722-1651",null," 231-722-6860","dgaultney@coles.com",null,null,"Phil Bonczyk is Maintenance lead  pbonczyk@coles.com Mike Hulsebos is Plant Mgr","Cole's Quality Foods, Inc.","1188 Lakeshore Drive",null,null,null,"Muskegon","MI","49441",null,"Gaultney","Safety Coordinator","Food","Muskegon"]
["Coloma Frozen Foods (Ostyn)","Denny Ostyn",null," 269-944-1431",null,null,null,null,null,"Eddie Sill  Opns Mgr","Coloma Frozen Foods","4090 E. Napier Avenue",null,null,null,"Benton Harbor","MI","49022","Mr.","Ostyn","Plant Mgr",null,"Allegan"]
["Coloma Frozen Foods (Smith)","Brian Smith",null," 269-849-0500 122",null," 269-849-0415","brian@colomafrozen.com",null,null,"Brian is currently the Plant Manager and is best reached by email","Coloma Frozen Foods","4145 Coloma Rd",null,null,null,"Coloma","MI","49038",null,"Smith","Plant Manager",null,"Kalamazoo"]
["Columbia Gas Transmission (Charleston)","Larry Gerwig",null,"cell 304-543-1414",null,null,null,null,"Out of State",null,"Columbia Gas Transmission (Charleston)","Attn: Larry Gerwig","5503 Kanawha Ave. SE",null,null,"Charleston","WV","25304"]
["Columbia Gas Transmission (Lucas)","Marty Sloan",null,"419-892-8912",null,"419-892-8935",null,null,"Michigan Sales Tax",null,"Columbia Gas Transmission (Lucas)","Attn: Marty Sloan","2873 Pleasant Valley Rd",null,null,"Lucas","OH","44843"]
["Columbia Gas Transmission (Pikeville)",null,"Randy Elkins",null,"606-794-0757",null,null,null,"Out of State","Company policy: 90 days cal interval","Columbia Gas Transmission (Pikeville)","Attn:Randy Elkins","6090 Hurricane Road",null,null,"Pikeville","KY","41501"]
["Columbia Gas Transmission (Smithfield)",null,null,"304-334-4106 General",null,"304-334-4123",null,null,"Out of State","Shanda Casto - direct 304-334-4119\n\nRichard Adam - direct 304-334-4101","Columbia Gas Transmission (Smithfield)","Attn:Shanda Casto 304-334-4119","Route 20 South","Route 1 Box 136",null,"Smithfield","WV","26437"]
["Columbia Gas Transmission (Sugar Grove)","Alan Man",null,"740-746-9105",null,null,null,null,"Out of State","Alan Man Direct: 740-746-2232","Columbia Gas Transmission (Sugar Grove)","Attn:","6175 Old Logan Road",null,null,"Sugar Grove","OH","43155"]
["Columbia Township Fire Department (Gruber","Farley Gruber",null," 269-434-6266",null," 269-434-8866","firechief@columbiatwp.com",null,null,null,"Columbia Township Fire Department","County Road 388","PO Box 323",null,null,"Grand Junction","MI","49056",null,"Gruber","Fire Chief","Fire Department","Van Buren"]
["ColumbiaGas Transmission(Lanum Compresor)","Curtis Edelman",null,"304-984-4611",null,null,null,null,"Out of State",null,"Columbia Gas Transmission","Lanum Compressor","Attn: Curtis Edelman","RT 4 Box 144A",null,"Charleston","WV","25312"]
["Commerce Controls Incorporated (Zitterman","Jerry Zitterman",null," 248-476-1442 101",null," 248-476-6122","jpzitterman@commercecontrols.com",null,null,null,"Commerce Controls Incorporated","41069 Vincenti Court",null,null,null,"Novi","MI","48375","Mr.","Zitterman",null,"Manufacturer","Oakland"]
["Commercial Alliance (Thelen)","Ed Thelen",null," 517-622-6760",null," 517-622-6937","EThelen@commercialalliance.biz",null,null,null,"Commercial Alliance","106 N. Marketplace Blvd.",null,null,null,"Lansing","MI","48917","Mr.","Thelen",null,"BBB Personal","Ingham"]
["Commercial Contractors Inc. (Sharky)","Sandy Sharky",null," 616-850-1276"," 616-842-4540",null,null,null,null,null,"Commercial Contractors Inc.","16745 Comstock St.",null,null,null,"Grand Haven","MI","49417","Mrs.","Sharky","Vice President","Contractor General","Ottawa"]
["Commercial Diving & Marine Services, Inc.","Wayne Brusate",null," 810-987-8898"," 800-722-0879"," 810-982-8582",null,null,null,null,"Commercial Diving & Marine Services, Inc.","317 Rawlins",null,null,null,"Port Huron","MI","48060","Mr.","Brusate","President","Contractor General","St. Clair"]
["Commercial Storage & Interiors  (CSI) (Pe","Sandy Pena",null,"408 986-0136",null," 408-986-0138","sandy@csandi.com",null,null,null,"Commercial Storage & Interiors  (CSI)","3194 De La Cruz Blvd   #7",null,null,null,"Santa Clara","CA","95054","Ms.","Pena","President","Supplier","Out of State"]
["Commonwealth Constractors Inc. (Main)","Sean Lucas",null,"864-770-3262",null,null,null,null,"Non-Tax",null,"Commonwealth Constractors Inc.","c/o Shaw/Dickerson Tation","Attn: Sean Lucas","21200 Martinsburg Rd.",null,"Dickerson","MD","20842"]
["Commonwealth Constructors (Mayo)","Michael Mayo",null," 904-588-5795",null,null,"psillc@charter.net",null,null,"Sean Lucas, PID user slucas@comdynam.com  Gerome Trierweiler, buyer","Commonwealth Constructors","573 Duke Power Road",null,null,null,"Mooresboro","NC","28114","Mr.","Mayo",null,"Contractor General","Out of State"]
["Commonwealth Contractors (Plum Point)","Jerome Trierweiler",null,"812-877-4820 x-17",null,null,null,null,"Michigan Sales Tax",null,"Commonwealth Contractors (Po#WH-1172)","c/o Plum Point Power","2732 South Country Rd. 623",null,null,"Osceola","AR","72370"]
["Commonwealth Contractors (Terra Haute)","Jerome Trierweiler x-17",null,"812-877-4820","812-230-6975 cell",null,"jtrierweiler@comdynam.com",null,"Out of State",null,"Commonwealth Contractors (Terra Haute)","Attn:","6466 East Margaret Dr.",null,null,"Terre Haute","IN","47803"]
["Compton Inc.","Stan Compton",null,"269-637-5188",null,"269-637-7224",null,null,"Michigan Sales Tax","request for tax exempt to go to: Erin Sears Fax: 402-938-8589 or Kim Covington fax: 402-938-8603\nArkansas plants tax exemt other plants to vary as to product and plant\n\nFax paid invoices to Stephanie at 269-637-5188","Compton Inc.","Attn: Stan Compton","1201  Eighth Ave.",null,null,"South Haven","MI","49090"]
["Compton, Inc. (Compton)","Stan Compton",null," 269-637-5188",null," 269-637-7224","stancompton2002@yahoo.com",null,null,"Cynthia Compton   Secy is Sue","Compton, Inc.","1201  8th Avenue","PO Box 487",null,null,"South Haven","MI","49090","Mr.","Compton","President","Contractor EH&S","Van Buren"]
["Con Agra Foods","Bill Decker",null,"616-494-1309","616-392-2359","616-394-0830",null,null,"Michigan Sales Tax",null,"Con Agra Dairy Foods","147 East 6th St.",null,null,null,"Holland","MI","49423"]
["Con Agra Foods, Inc. (Morral)",null,null,"740-465-3912",null,"740-465-9121",null,null,"Out of State","Tina Dunn (svc contact) direct: 740-465-5356, email: tina.dunn@conagrafoods.com\n\nJoe Harris (plant mgr.) direct: 740-465-5353","Con Agra Foods, Inc. (Morral)","Attn:","2970 County Hwy. 74",null,null,"Morral","OH","43337"]
["ConAgra Dairy Foods (Allison)","Greg Allison",null," 616-392-2359",null," 616-392-2350","greg.allison@conagrafoods.com",null,null,"Andy Jackson Bill Decker gone","ConAgra Dairy Foods","147 East 6th Street",null,null,null,"Holland","MI","49423","Mr.","Allison","Maintenance Manager","Food","Ottawa"]
["ConAgra Foods, Inc. (Dunn)","Tina Dunn",null," 740-465-5356",null," 740-465-9121","tina.dunn@conagrafoods.com",null,null,null,"ConAgra Foods, Inc.","2970 County Hwy. 74",null,null,null,"Morral","OH","43337","Ms.","Dunn",null,"Food","Out of State"]
["Connan Inc.","MariJo Turner - Accounts Payable",null,"616-772-5454",null,"616-772-0066",null,null,"Michigan Sales Tax",null,"Connan Inc.","Attn: kevin Bekius","160 W. Washington",null,null,"Zeeland","MI","49464"]
["Connan, Inc. (Bekius)","Kevin Bekius",null," 616-772-5454",null," 616-772-0066","kevinb@charterinternet.com",null,null,"Gail Calkins","Connan, Inc.","160 W. Washington",null,null,null,"Zeeland","MI","49464","Mr.","Bekius",null,"Contractor General","Ottawa"]
["Conneaut Telephone Co.","Don Zappittelli",null,"440-593-7140 General","440-593-7100","440-593-6219",null,null,"Out of State",null,"Conneaut Telephone Co.","Attn:","224 State Street",null,null,"Conneaut","OH","44030"]
["ConocoPhillips (Barksdale)","Chad Barksdale",null," 580-767-2007",null,null,"chad.e.barksdale@conocophillips.com",null,null,null,"ConocoPhillips","1000 South Pine Street",null,null,null,"Ponca City","OK","74601","Mr.","Barksdale","Contractor Coordinator","Petroleum Related","Out of State"]
["Consol Energy","Debora Kosmack",null,null,null,null,null,null,"Michigan Sales Tax",null,"Consol Energy","Lab Building Deborah Kosmack","4000 Brownsville Rd",null,null,"South Park","PA","15129"]
["Consol Energy (Kosmack)","Deborah Kosmack",null," 412-854-6592",null," 412-854-6613",null,null,null,null,"Consol Energy","4000 Brownsville Road",null,null,null,"South Park","PA","15129","Ms.","Kosmack",null,"Utility","Out of State"]
["Consolidated Electric Company (McCambridg","Bob McCambridge",null," 616-366-0111",null," 616-366-0114",null,null,null,"Offices in Traverse City and Lansing","Consolidated Electric Company","7962 Clyde Park SW",null,null,null,"Byron Center","MI","48815","Mr.","McCambridge",null,"Contractor Electrical","Kent"]
["Construction Equipment","Scott Wagner",null,"419-625-7192",null,"419-625-6840",null,null,"Out of State",null,"Construction Equipment","Attn: Scott Wagner","3015 Old Rail Road",null,null,"Sandusky","OH","44870"]
["Constructors Incorporated (Beyer)","Kim Beyer",null," 616-791-7000 12",null," 616-791-8200","info@constructorsinc.com",null,null,null,"Constructors Incorporated","1965 Waldorf NW",null,null,null,"Grand Rapids","MI","49544","Mr.","Beyer","President","Contractor General","Kent"]
["Consumers Concrete Corporation","Lisa Boreham",null,"269-342-0136",null,"269-384-0974",null,null,"Michigan Sales Tax",null,"Consumers Concrete Corporation","Attn:April Auger","3508 S. Sprinkle Road",null,null,"Kalamazoo","MI","49003"]
["Consumers Concrete Corporation (Warner)","Mike Warner",null," 269-342-0136",null," 269-384-0974","ibwarner@consumersconcrete.com",null,null,"Patty. Lisa Boreham gone to Steelcase. Brad Meidema?","Consumers Concrete Corporation","3508 S. Sprinkle Road","PO Box 2229",null,null,"Kalamazoo","MI","49003","Mr.","Warner","Safety Director","Manufacturer","Kalamazoo"]
["Consumers Energy (Ballinger)","Corey Ballinger",null," 269-337-2305",null,null,"ceballinger@cmsenergy.com",null,null,"Cory out of K'zoo? Spanco system for Macomb garage","Consumers Energy","35350 Kelly Road",null,null,null,"Clinton Township","MI","48035","Mr.","Ballinger",null,"Utility","Macomb"]
["Consumers Energy (Battle Creek)",null,null,null,null,null,null,null,"Non-Tax Municipality/Utility",null,"Consumers Energy (Battle Creek)","Attn:","311 E. Michigan Ave.",null,null,"Battle Creek","MI","49017"]
["Consumers Energy (Bavin)","John Bavin",null," 517-788-1527",null," 517-788-0902","jpbavin@cmsenergy.com",null,null,"Need to contact Mr. Bavin regarding the gas docks\nas Tim McBride was very interested and said the purchase will need to go through Mr. Bavin","Consumers Energy","One Energy Plaza",null,null,null,"Jackson","MI","49201","Mr.","Bavin","Corporate Industrial Hygienist","Utility","Jackson"]
["Consumers Energy (BC Cobb)","Kevin Gillish",null,"231-727-6231",null,null,null,null,"Non-Tax Municipality/Utility","Kevin Gillish 231-727-6231\n\nKurt Lorenz - direct 231-727-1414\n\nMike Bogard (Kurt's stockroom supervisor)-231-727-6233\n\n\nDan Schmoekel\nCC 5405 0154 2167 3474 exp 03/12\n\nTom Spelman\n5405 0154 1932 7539  exp 01/13","Consumers Energy (BC Cobb)","Attn:Kurt Lorenz","151 N. Causeway",null,null,"Muskegon","MI","49445"]
["Consumers Energy (Big Rock Point)","Karl Ulbrich",null,"231-547-8299",null,"231-237-2596","kjulbrich@cmsenergy.com",null,"Non-Tax",null,"Consumers Energy Big Rock Point","Attn:","10269 U.S. 31 North",null,null,"Charlevoix ","MI","49720","Mr.","Ulbrich"]
["Consumers Energy (Boyne City)","Loren Barnes",null,"517-788-2511",null,"517-788-0065",null,null,"Michigan Sales Tax",null,"Consumers Energy (Boyne City)","Attn: Loren Barnes","Gaylord Peaker","100 N East St.",null,"Boyne City","MI","49712"]
["Consumers Energy (Brady)","Tim Brady",null,null,null,null,"trbrady@cmsenergy.com",null,null,"Tool Committee for sub-metro group for GR Kzoo BC Flint and Jackson","Consumers Energy","2500 E. Cork Street",null,null,null,"Kalamazoo","MI","49001","Mr.","Brady","Tool Committee","Utility","Kalamazoo"]
["Consumers Energy (Campbell)","Karen Spychalski",null,"616-738-3307",null,"616-738-3217",null,null,"Non-Tax Municipality/Utility","Dan McWilliams Credit card 5405 0180 0210 7284 exp 4/2013 CC Bill Add. 17000/49460\nph:616.738.3317\n\nGloria Fax Confirmation\n\nMatt Craig - phone: 616-738-3319, email: mjcraig@cmsenergy.com\nMC: 5405-0180-0210-7284  Exp: 04/12 (17000 - 49460)\n\n10/28/10 as per Dan McWilliams put April Auger -stores Room PO#s on his card but keep them under 2500 per transaction\n\nKaren Spychalski MC 5405.0154.1479.3305 x 04/13\nEmail: \n\nApril Auger - 616-738-3311 Stores 1&2 (1B basement)\n                     616-738-3306 DMC building","Consumers Energy","JH  Campbell-3 Generating Plant","Attn: April Auger","17856 Croswell Street",null,"West Olive","MI","49460","Mr.","Foster"]
["Consumers Energy (Corporate)",null,null,null,null,null,null,null,"Non-Tax Municipality/Utility","Bills are paid at 517-374-2162 Belita is the one to talk to (4/29/11)","Consumers Energy (Corporate)","Attn: Andy Barrett","One Energy Plaza",null,null,"Jackson","MI","49201"]
["Consumers Energy (Croton)","S. H. Hadley",null,null,null,"231-779-1007",null,null,"Non-Tax",null,"Consumers Energy (Croton)","Attn:S H  Hadley","6505 South Swan Ave",null,null,"Newaygo","MI","49337"]
["Consumers Energy (Flint)","AG Barrett(buyer)",null,"517-788-2511",null,"517-788-0065","daparisho@cmsenergy.com",null,"Michigan Sales Tax",null,"Consumers Energy (Flint)","Attn: S. Herrera PO 4500166029","3201 East Court St.",null,null,"Flint","MI","48501"]
["Consumers Energy (Grand Rapids)","Ken Czekaj",null,"616-538-7000",null,null,null,null,"Non-Tax",null,"Consumers Energy (Grand Rapids)","Attn:Ken Czekaj","4000 Clay Avenue",null,null,"Grand Rapids","MI","49548"]
["Consumers Energy (Hudgens)","Josh Hudgens",null," 517-788-1385",null," 517-788-0065","jkhudgens@cmsenergy.com",null,null,null,"Consumers Energy","One Energy Plaza",null,null,null,"Jackson","MI","49201","Mr.","Hudgens","Buyer","Utility","Jackson"]
["Consumers Energy (Jackson)","Richard E. Loughlin (Dick)",null,"517-788-0569",null,"517-788-1828",null,null,"NTU",null,"Consumers Energy (Jackson)","Attn: PO # 4500163083","1955 West Parnell Road",null,null,"Jackson","MI","49201-8643"]
["Consumers Energy (Kalamazoo)","Rick Reeves",null,null,"cell 269-568-5858",null,null,null,"Non-Tax Municipality/Utility",null,"Consumers Energy (Kalamazoo)","Attn: PO#4500166030 D.A. Parisho","2500 East Cork St.",null,null,"Kalamazoo","MI","49001"]
["Consumers Energy (Kandil)","Amro Kandil",null," 517-788-1445",null," 517-788-7086","ahkandil@cmsenergy.com",null,null,null,"Consumers Energy","1945 West Parnall Road Rm 26-201",null,null,null,"Jackson","MI","49203","Mr.","Kandil",null,"Utility","Jackson"]
["Consumers Energy (Kruske)","Michael E. Kruske",null," 989-667-5216",null," 989-667-5160","mekruske@cmsenergy.com",null,null,null,"Consumers Energy","4141 East Wilder Road",null,null,null,"Bay City","MI","48706","Mr.","Kruske","Health Safety Environmental In","Utility","Bay"]
["Consumers Energy (LaBaza)","Mark LaBaza",null," 616-530-4446",null," 616-530-4040","mjlabaza@cmsenergy.com",null,null,null,"Consumers Energy","4000 Clay Avenue","PO Box 201",null,null,"Grand Rapids","MI","49548","Mr.","LaBaza","Sr. Consultant, Corporate Safe","Utility","Kent"]
["Consumers Energy (Livonia)","MP Weese (buyer)",null,"517-788-2539",null,"517-788-0065",null,null,"Non-Tax Municipality/Utility",null,"Consumers Energy (Livonia)","Attn:K. Schweitzer PO 4500069951","11801 Farmington Rd.",null,null,"Livonia","MI","48150"]
["Consumers Energy (Loughlin)","Richard E. Loughlin",null," 517-788-0569",null," 517-788-1828","reloughlin@cmsenergy.com",null,null,"Principal contact for UCL transformer fall protection.\nSaid to see Marvin Walker 989.839.8091 for purchases.","Consumers Energy","1945 West Parnell Road",null,null,null,"Jackson","MI","49201-8643","Mr.","Loughlin","Superintendent","Utility","Jackson"]
["Consumers Energy (Ludington)","Marlene Burnham",null,"231-843-5241",null,null,null,null,"Non-Tax",null,"Consumers Energy","Ludington Generating Plant","PO#:4500151410","3525 South Lakeshore Dr.",null,"Ludington","MI","49431"]
["Consumers Energy (Lugten)","Jerry L. Lugten",null," 517-374-2312"," 517-589-9276",null,"jllugten@cmsenergy.com",null,null,"Key contact for UCL transformer fall protection.","Consumers Energy","530 West Willow Street","PO Box 30162",null,null,"Lansing","MI","48909","Mr.","Lugten","Substation Operations Superint","Utility","Ingham"]
["Consumers Energy (Mt. Morris)","A. G. Barrett","Loren Barnes","517-788-2511",null,"517-788-0065",null,null,"Non-Tax Municipality/Utility",null,"Consumers Energy (Mt. Morris)","Thetford Peaker","Attn: LP Barnes","10500 N. Genesee Rd.",null,"Mt. Morris","MI","48458"]
["Consumers Energy (Oscoda)","Suzane Pate","Kathy Wetzel (buyer)","517-788-2248",null,null,null,null,"Non-Tax Municipality/Utility",null,"Consumers Energy PO#G0445871","Five Channels Dam - Hydro HQ","Attn: WJMELICK","6051 State Route 65",null,"Oscoda","MI","48750"]
["Consumers Energy (Riendeau)","Helen L. Riendeau",null," 517-374-2464",null," 517-374-2177","hlriendeau@cmsenergy.com",null,null,"Interested in Cool Vest, Dielectric Harness, Grace Gems, Grace Strobes","Consumers Energy","530 West Willow",null,null,null,"Lansing","MI","48906","Ms.","Riendeau","Electric Field Manager","Utility","Ingham"]
["Consumers Energy (Saginaw)","Pat Murphy",null,"989-791-5768","cell 989-513-0011",null,null,null,"Non-Tax Municipality/Utility",null,"Consumers Energy (Saginaw)","Attn: Pat Murphy PO4500166028","Saginaw Service Center","2400 Weiss ST.",null,"Saginaw","MI","48602"]
["Consumers Energy (Taylor)","Thomas Taylor",null," 517-788-0675",null," 517-788-0902","jtaylor@cmsenergy.com",null,null,"re: Transformer Fall.\nTim Brady doesn't like CE's home made male base and pipe post system\nEmil Vredenberg, See Jerry Lugden (Constn) and Dick Laughlin (Mntc)","Consumers Energy","1 Jackson Square Room EP6228",null,null,null,"Jackson","MI","49201-2277","Mr.","Taylor","Director of Safety and Health","Utility","Jackson"]
["Consumers Energy (Tippy Dam)","Suzanne Pate",null,"231-779-5510",null,"231-779-1007",null,null,"Non-Tax","Lorren Hannahs\n  231-848-4411","Consumers Energy (Tippy Dam)","Attn: Lorren Hannahs","1325 Tippy Dam Road",null,null,"Wellston","MI","49689"]
["Consumers Energy (Trail Street)","Roger Dayton",null,null,"517-788-8917","517-788-1724",null,null,"Michigan Sales Tax",null,"Consumers Energy Trail Street","Attn:","135 West Trail Street",null,null,"Jackson","MI","48201"]
["Consumers Energy (Walker)","Karen Walker",null," 517-768-3120",null,null,null,null,null,null,"Consumers Energy","3500 E. Miller Road",null,null,null,"Midland","MI","48641","Ms.","Walker",null,null,"Jackson"]
["Consumers Energy (Whiting)","Rachelle Collins",null,"734-848-2668",null,null,null,null,"Michigan Sales Tax",null,"Consumers Energy (Whiting)","Attn: Rachelle Collins","4525 East Erie Rd.",null,null,"Erie","MI","48133"]
["Consumers Energy (Wright)","Amy Wright",null," 517-788-1150",null,null,null,null,null,"Per John Bavin. Also, possibly Kathy Wetzel 517.788.2248","Consumers Energy","One Energy Plaza",null,null,null,"Jackson","MI","49201","Ms.","Wright","Buyer","Utility","Jackson"]
["Consumers Energy BC Cobb (Burmeister)","Kurt Burmeister",null," 231-727-6206",null," 231-727-6251",null,null,null,"Fall Training","Consumers Energy BC Cobb","151 N. Causeway",null,null,null,"Muskegon","MI","49445","Mr.","Burmeister","Outage Safety Coordinator","Utility","Muskegon"]
["Consumers Energy BC Cobb (Coombs)","Alan Coombs",null," 231-727-6216",null,null,"adcoombs@cmsenergy.com",null,null,null,"Consumers Energy BC Cobb","151 N. Causeway",null,null,null,"Muskegon","MI","49445","Mr.","Coombs","Production Engineer","Utility","Muskegon"]
["Consumers Energy BC Cobb (Durand)","Jason Durand",null," 231-727-6218",null," 231-727-6251","jrdurand@cmsenergy.com",null,null,"Tim called looking for info on the embed system so as to present it","Consumers Energy BC Cobb","151 N. Causeway",null,null,null,"Muskegon","MI","49445","Mr.","Durand","Maintenance Supervisor","Utility","Muskegon"]
["Consumers Energy BC Cobb (Gillish)","Kevin Gillish",null," 231-727-6231",null," 231-727-6251","kgillish@cmsenergy.com",null,null,null,"Consumers Energy BC Cobb","151 N. Causeway",null,null,null,"Muskegon","MI","49445","Mr.","Gillish","Electrical Maintenance / I&C S","Utility","Muskegon"]
["Consumers Energy BC Cobb (Jacobsen)","Paul Jacobsen",null," 231-727-",null," 231-727-6251","pdjacobsen@cmsenergy.com",null,null,"Tim Burch 231.727.6328 engr handling CSE winches & mounts\nTom Spelman 231.727.6217, mob 231.578.6251 buying Latchways\nHandles Fall Protection since Mr. Steinberg left.","Consumers Energy BC Cobb","151 N. Causeway",null,null,null,"Muskegon","MI","49445",null,"Jacobsen","Maintenance Supervisor",null,"Muskegon"]
["Consumers Energy BC Cobb (Lambert)","Mark Lambert",null," 231-727-6206",null," 231-727-6251","mrlambert@cmsenergy.com",null,null,"Fall Training","Consumers Energy BC Cobb","151 N. Causeway",null,null,null,"Muskegon","MI","49445","Mr.","Lambert","Mainenance Superintendent","Utility","Muskegon"]
["Consumers Energy BC Cobb (Rowland)","Kevin Rowland",null," 231-727-6316",null," 231-727-6251","klrowland@cmsenergy.com",null,null,"Kelly Ashbay, Safety Elec / Mechl Mntc Crews\nLinda Lavigne, Stores\nPaul Jacobson, Opns Lead","Consumers Energy BC Cobb","151 N. Causeway",null,null,null,"Muskegon","MI","49445","Mr.","Rowland",null,"Utility","Muskegon"]
["Consumers Energy BC Cobb (Sarki)","Tim Sarki",null," 231-727-6100",null," 231-727-6251","tjsarki@cmsenergy.com",null,null,"Took over for Mark Steinberg -Buying Exofit NEX","Consumers Energy BC Cobb","151 N. Causeway",null,null,null,"Muskegon","MI","49445","Mr.","Sarki","Mechanic, Union President","PoWER","Muskegon"]
["Consumers Energy BC Cobb (Schmoekel)","Dan Schmoekel",null," 231-727-6321",null," 231-727-6251","daschmoekel@cmsenergy.com",null,null,"Paul is the nicest contact at COBB, goes by JAKE\nHandles Fall Protection training purchasing, very good guy, does not buy much though, always happy to look at new and different products and point the item in the right direction","Consumers Energy BC Cobb","151 N. Causeway",null,null,null,"Muskegon","MI","49445",null,"Schmoekel","Mechanical Maintenance Supervi",null,"Muskegon"]
["Consumers Energy BC Cobb (Zimmerman)","Dan Zimmerman",null," 231-727-6233",null," 231-727-6250",null,null,null,"Dan handles basic stocking purchases for the Cobb and Ludington hydro plant","Consumers Energy BC Cobb","151 North Causeway",null,null,null,"Muskegon","MI","49445","Mr.","Zimmerman","Stores Supervisor","Utility","Muskegon"]
["Consumers Energy Campbell (Christensen)","Evan Christensen",null," 616-738-5111",null,null,"elchristensen@cmsenergy.com",null,null,null,"Consumers Energy Campbell","17000 Croswell Street",null,null,null,"West Olive","MI","49460","Mr.","Christensen","Maintenance Supervisor","Utility","Ottawa"]
["Consumers Energy Campbell (Dekker)","Terry Dekker",null," 616-738-3242",null," 616-738-3474",null,null,null,"Met briefly. He said he delegates well to his people.\nSean Casey reports to Terry Dekker\n  Terry Vandermolen Elec Supr 616.738.3495\n    Jeff Spelde looked at inside office rooftop HVAC fall prot appn\nShaun Casey  3 Mntc Lead  616-738-3251\nRick Pellegrom","Consumers Energy Campbell","17000 Croswell Street",null,null,null,"West Olive","MI","49460","Mr.","Dekker","Fall Protection Contact","POWER","Ottawa"]
["Consumers Energy Campbell (Henry)","Kristin Henry",null," 616-738-3269",null," 616-738-3217","kristin_henry@cmsenergy.com",null,null,"Quoting on Embed Receiver System today","Consumers Energy Campbell","17000 Croswell Street",null,null,null,"West Olive","MI","49460","Ms.","Henry","Purchasing Agent","Utility","Ottawa"]
["Consumers Energy Campbell (Hice)","Don Hice",null," 616-738-3478",null," 616-738-3474","ddhice@cmsenergy.com",null,null,null,"Consumers Energy Campbell","17000 Croswell Street",null,null,null,"West Olive","MI","49460","Mr.","Hice","Business Manager","Utility","Ottawa"]
["Consumers Energy Campbell (McBride)","Tim McBride",null," 616-738-3261",null," 616-738-3217","trmcbride@cmsenergy.com",null,null,null,"Consumers Energy Campbell","17000 Croswell Street",null,null,null,"West Olive","MI","49460","Mr.","McBride","Performance Supervisor","Utility","Ottawa"]
["Consumers Energy Campbell (Odegma)","Tim Odegma",null," 616-738-3262",null," 616-738-3474",null,null,null,null,"Consumers Energy Campbell","17000 Croswell Street",null,null,null,"West Olive","MI","49460","Mr.","Odegma","EH&S",null,"Ottawa"]
["Consumers Energy Campbell (Sarki)","Rob Sarki",null," 616-738-3250",null,null,null,null,null,"Met briefly. He said he delegates well to his people.\nSean Casey reports to Terry Dekker\n  Terry Vandermolen Elec Supr 616.738.3495\n    Jeff Spelde looked at inside office rooftop HVAC fall prot appn\nShaun Casey  3 Mntc Lead  616-738-3251\nRick Pellegrom  1&2 Mntc Lead  616-738-3255\nLoren Barnes  3 Elec System Owner 616.738.5117\n  Brandon Hershey Elec Engr\n  John Slinkard\nEvan Christiansen\nPat Brackett Elec Planner 616.738.3257\nSteve Littell Elec Mntc Supr\nBob Carlson  3 616.738.3242\nBuyers\n  George Foster 3  616.738.3319\n  Dan McWilliams 1&2  616.738.3317\nCampbell 1&2\n  George Foster does most buying, Kristin Henry assists\n  Rick Pellegrom (Shaun Casey's counterpart)\n  Terry Decker also on safety committee\n  Craig Overway Site Mntc Supr\n  Frank Schaner (from BC Cobb)\nCampbell 3\n  Dan McWilliams 616.738.3317 does most buying damcwilliams@cmsenergy.com\n  April Auger 616.738.3311 - stores, works with Dan McWilliams\n  Shaun Casey 616.738.3251 Mntc Lead head safety comm & handles \n    CSE rescue and fall protn Wants us to stick to DBI SALA\n  Tim Oegama 616.738.3262  EH&S\nFuel Handling\n  Lee Schmiedeknecht mgr 616.738.3349","Consumers Energy Campbell","17000 Croswell Street",null,null,null,"West Olive","MI","49460","Mr.","Sarki","Maintenance Lead",null,"Ottawa"]
["Consumers Energy Campbell (Schmiedeknecht","Lee Schmiedeknecht",null," 616-738-3349",null," 616-738-3219",null,null,null,null,"Consumers Energy Campbell","17000 Croswell Street",null,null,null,"West Olive","MI","49460","Mr.","Schmiedeknecht","Fuel Handling Manager","Utility","Ottawa"]
["Consumers Energy Campbell (Slinkard)","John Slinkard",null," 616-738-5111",null,null,"jdslinkard@cmsenergy.com",null,null,"Lorin was replaced by John Slinkard, very nice guy, very busy...always call first\nLorin is doing a good amount of purchasing\nFall post, quoting on manhole guards","Consumers Energy Campbell","17000 Croswell Street",null,null,null,"West Olive","MI","49460",null,"Slinkard","Maintenance","PoWER","Ottawa"]
["Consumers Energy Campbell (Vandermolen)","Terry Vandermolen",null," 616-738-3495",null," 616-738-3498","tlvandermolen@cmsenergy.comx",null,null,"working on it....\ntook sean casey's position....thank God\nleft multiple messages now with no response\ntry cold-calling in near future","Consumers Energy Campbell","17000 Croswell Street",null,null,null,"West Olive","MI","49460","Mr.","Vandermolen","Electrical Supervisor","Utility","Ottawa"]
["Consumers Energy Campbell 1 & 2 (Pellegro","Rick Pellegrom",null," 616-738-3255",null,null,null,null,null,"Shaun Casey's counterpart in 1&2","Consumers Energy Campbell 1 & 2","17000 Croswell Street",null,null,null,"West Olive","MI","49460","Mr.","Pellegrom","Maintenance Supervisor","Utility","Ottawa"]
["Consumers Energy Campbell 1&2 (McWilliams","Dan McWilliams",null," 616-738-3317",null," 616-738-3498","damcwilliams@cmsenergy.com",null,null,"Currently using us for Reader Specs and trying out the Princeton Tec EOS-IND\nHe BUYS....\nApril Auger for Unit 1&2 Stores; Diane Anderson for Unit 3 Stores.","Consumers Energy Campbell 1&2","17000 Croswell Street",null,null,null,"West Olive","MI","49460","Mr.","McWilliams","Buyer","Utility","Ottawa"]
["Consumers Energy Campbell 3 (Casey)","Shaun Casey",null," 616-738-3251",null," 616-738-3217","smcasey@cmsenergy.com",null,null,"Unit 3 Safety Committee (per Sandy Phillips)\nSteve Boyink, Linda Legard, Jane Zych, Gary Gromaski, Lonnie Morin, Yuvonne Ostrowski, and Don Manning\nNoise monitoring long overdue. Up to John Bavin.  Al Phillips used to do it. Now has a new job.\nInterested in UT sumps for fuel tanks, Basin guard, Drain Guard, and Grates alone from spill pallets.","Consumers Energy Campbell 3","17000 Croswell Street",null,null,null,"West Olive","MI","49460","Mr.","Casey","Maintenance Lead","Utility","Ottawa"]
["Consumers Energy Campbell 3 (Foster)","George Foster",null," 616-738-3319",null," 616-738-3217","grfoster@cmsenergy.com",null,null,"Handles Fall Protection for 3\nsee also Garrick Rochow","Consumers Energy Campbell 3","17000 Croswell Street",null,null,null,"West Olive","MI","49460","Mr.","Foster","Buyer","Utility","Ottawa"]
["Consumers Energy Campbell 3 (Kalkman)","Renee Kalkman",null," 616-738-5490",null," 616-738-","rakalkman@cmsenergy.com",null,null,"Looking into a heat-stress issue for Summer, 2010\nWas referred to Renee by G. Foster\nSo far, she is not taking my calls or appt. attempts\nBrandon knows her, use go to if needed","Consumers Energy Campbell 3","17000 Croswell Street",null,null,null,"West Olive","MI","49460",null,"Kalkman","Site Safety Manager",null,"Ottawa"]
["Consumers Energy Campbell 3 (Kaufman)","Bill Kaufman",null," 616-738-3267",null," 616-738-3217",null,null,null,null,"Consumers Energy Campbell 3","17000 Croswell Street",null,null,null,"West Olive","MI","49460",null,"Kaufman",null,null,"Ottawa"]
["Consumers Energy Campbell 3 (Laferge)","Stacy Laferge",null," 616-738-5138",null," 616-738-",null,null,null,"Interest in wirless worker down system\nTook the place of Tim in Unit 3\nGasteq and Nexteq needs strictly, nice lady\nMIAMI","Consumers Energy Campbell 3","17000 Croswell Street",null,null,null,"West Olive","MI","49460",null,"Laferge","Environmental Health Manager",null,"Ottawa"]
["Consumers Energy Campbell 3 (Oegama)","Tim Oegama",null," 616-738-3262",null," 616-738-3215","tdoegama@cmsenergy.com",null,null,"Campbell 1&2\n  George Foster does most buying, Kristin Henry assists\n  Rick Pellegrom (Shaun Casey's counterpart)\n  Terry Decker also on safety committee\n  Craig Overway Site Mntc Supr\n  Frank Schaner (from BC Cobb)\nCampbell 3\n  Dan McWilliams 616.738.3317 does most buying\n  Shaun Casey 616.738.3251 Mntc Lead head safety comm & handles \n    CSE rescue and fall protn Wants us to stick to DBI SALA\n  Tim Oegama 616.738.3262  EH&S\nFuel Handling\n  Lee Schmiedeknecht mgr 616.738.3349\nStacey Cook (from Big Rock)","Consumers Energy Campbell 3","17000 Croswell Street",null,null,null,"West Olive","MI","49460","Mr.","Oegama","EH&S","Utility","Ottawa"]
["Consumers Energy Campbell 3 (Rochow)","Garrick Rochow",null," 616-738-3297",null," 616-738-3217","gjrochow@cmsenergy.com",null,null,"Frank Schaner (from BC Cobb) now at Campbell 1 & 2\nJason Sharp 616.738.3266","Consumers Energy Campbell 3","17000 Croswell Street",null,null,null,"West Olive","MI","49460","Mr.","Rochow","Site Production Manager","Utility","Ottawa"]
["Consumers Energy Hydro Operations (Pate)","Suzanne Pate",null," 231-779-5510",null," 231-779-1007","sjpate@cmsenergy.com",null,null,"Alan Bingham Hydro Opns Supr mob 517.2744751\n5 Channels, Cooke, Foote, Alcona, Loud","Consumers Energy Hydro Operations","330 Chestnut Street",null,null,null,"Cadillac","MI","49601","Ms.","Pate","Regulatory & Emergency Plannin","Utility","Wexford"]
["Consumers Energy Kalamazoo Service Center","Peter Pryson",null," 269-337-2309",null," 269-337-2458","pspryson@cmsenergy.com",null,null,null,"Consumers Energy Kalamazoo Service Center","2500 Cork Street",null,null,null,"Kalamazoo","MI","49001","Mr.","Pryson",null,"Utility","Kalamazoo"]
["Consumers Energy Karn 1 & 2 (Macomber)","Jim Macomber",null," 989-891-3144",null," 989-891-3120","jwmacomb@cmsenergy.com",null,null,null,"Consumers Energy Karn 1 & 2",null,null,null,null,"Do Not Know","MI",null,"Mr.","Macomber","Safety Committee Chairperson","Utility","Do Not Know"]
["Consumers Energy Karn 1 & 2 (Robishaw)","Ron Robishaw",null," 989-891-3174",null,null,null,null,null,"per Amro. For Trestle HLL project","Consumers Energy Karn 1 & 2",null,null,null,null,"Bay City","MI","48706","Mr.","Robishaw","Maintenance Lead","Utility","Bay"]
["Consumers Energy Ludington (Axdorff)","William Axdorff",null," 231-843-5241"," 231-869-2680"," 231-845-7045","wjaxdorff@cmsenergy.com",null,null,"Left message on 7.16.09\n-Larry was out of offie, his position is covered by Javier....(?)\n-Larry was best contact\nStores are handled by BC Cobb facility\n25 Fulll Time employees at this location","Consumers Energy Ludington","3525 South Lakeshore Drive",null,null,null,"Ludington","MI","49431","Mr.","Axdorff","O&M Supt. / Plant Engineer","Utility","Mason"]
["Consumers Energy Ludington (Krieger)","Dan Krieger",null," 231-843-5241",null,null,"dpkrieger@cmsenergy.com",null,null,null,"Consumers Energy Ludington","3525 South Lakeshore Drive",null,null,null,"Ludington","MI","49431","Mr.","Krieger","Operations and Maintenance Sup","Utility","Mason"]
["Consumers Energy Ludington (Olson)","Andy Olson",null," 231-843-5215",null," 231-845-7045",null,null,null,"One of Paul Jacobsen's employee's at COBB, moved up to the ludington Plant\n-easy-in to the plant","Consumers Energy Ludington","3525 South Lakeshore Drive",null,null,null,"Ludington","MI","49431","Mr.","Olson","Operator/Engineer","Utility/Power","Mason"]
["Consumers Energy Ludington (Richards)","Larry Richards",null," 231-843-5215",null," 231-845-7045","ldrichards@cmsenergy.com",null,null,"Continually calling on Bill, this is not his correct phone number\nNeeds fall protection for transformers.\nJohn Hutchison Opns Supr jrhutchison@cmsenergy.com\n231.843.5217\nWm Schoenlein, Plant Mgr. also over all hydros\nLarry Richards, Mntc Mgr.","Consumers Energy Ludington","3525 South Lakeshore Drive",null,null,null,"Ludington","MI","49431","Mr.","Richards",null,"Utility","Mason"]
["Consumers Energy Ludington Hydro (Beyer)","Mike Beyer",null," 231-843-5251",null," 231-845-7045","mjbeyer@cmsenergy.com",null,null,null,"Consumers Energy Ludington Hydro","3525 South Lakeshore Dr.",null,null,null,"Ludington","MI","49431","Mr.","Beyer","Sr. Technical Analyst","Utility","Mason"]
["Consumers Energy Manistee Service Center","Jeff Kelley",null,null,null,null,null,null,null,"Stopped in a week ago and spoke with Jeff who told me he would let the Field Leader know and he would be in-touch\nStop back again as no phone call was received","Consumers Energy Manistee Service Center",null,null,null,null,"Manistee","MI","49660","Mr.","Kelley",null,"Utility","Mason"]
["Consumers Energy Manistee Service Center","Jeff Kelley",null,null,null,null,null,null,null,"Stopped in a week ago and spoke with Jeff who told me he would let the Field Leader know and he would be in-touch\nStop back again as no phone call was received","Consumers Energy Manistee Service Center",null,null,null,null,"Manistee","MI","49660","Mr.","Kelley",null,"Utility","Mason"]
["Consumers Energy Manistee Service Center","Jeff Kelley",null,null,null,null,null,null,null,"Stopped in a week ago and spoke with Jeff who told me he would let the Field Leader know and he would be in-touch\nStop back again as no phone call was received","Consumers Energy Manistee Service Center",null,null,null,null,"Manistee","MI","49660","Mr.","Kelley",null,"Utility","Mason"]
["Consumers Energy Marysville (Wesch)","John Wesch",null," 810-388-2108",null,null,null,null,null,"Wayne Castle and Charles Treppa. Said to see Tom Fountain.\nTom Fountain gone. Try John Wesch","Consumers Energy Marysville","2510 Bushy Highway",null,null,null,"Marysville","MI",null,"Mr.","Wesch","Safety Director","Utility","St. Clair"]
["Consumers Energy Purchasing (Barrett)","Andy Barrett",null," 517-768-2511",null," 517-788-0065","agbarrett@cmsenergy.com",null,null,null,"Consumers Energy Purchasing","1 Energy Plaza EP2-422",null,null,null,"Jackson","MI","49201","Mr.","Barrett","Supply Chain Analyst","Utility","Jackson"]
["Consumers Energy Sparta Service Center (B","Don Bucholtz",null," 616-606-6103",null,null,"djbucholtz@cmsenergy.com",null,null,null,"Consumers Energy Sparta Service Center","111 Sparta Dr.",null,null,null,"Sparta","MI","49345","Mr.","Bucholtz","Supervisor","Consumers Service","Kent"]
["Consumers Energy Sub Metro (Czekaj)","Ken Czekaj",null," 616-530-4419",null," 616-530-4479","kmczekaj@cmsenergy.com",null,null,"Marv Walker buys equip for sub metro\nCheryl Chapman buys tools and work methods for line dept.","Consumers Energy Sub Metro","4000 Clay Avenue",null,null,null,"Grand Rapids","MI","49548","Mr.","Czekaj",null,"Utility","Kent"]
["Consumers Energy Trail Street (Dayton)","Roger Dayton",null," 517-788-2319",null," 517-788-1724","radayton@cmsenergy.com",null,null,"Bob Sawyer (Roger's Boss  517.788.8917)","Consumers Energy Trail Street","135 West Trail Street",null,null,null,"Jackson","MI","49201","Mr.","Dayton","Technician","Utility","Jackson"]
["Consumers Energy Trail Street (Sawyer)","Robert Sawyer",null," 517-788-8917",null," 517-788-1724",null,null,null,null,"Consumers Energy Trail Street","135 West Trail Street",null,null,null,"Jackson","MI","49201","Mr.","Sawyer","Operations Supervisor","Utility","Jackson"]
["Consumers Energy Whiting (Sims)","Lance Sims",null," 734-848-2647",null,null,"dmsims@cmsenergy.com",null,null,"Also, Rachelle Collins.  Sims buying embeds.","Consumers Energy Whiting","4525 Eas Erie Road",null,null,null,"Erie","MI",null,"Mr.","Sims",null,"Utility","Monroe"]
["Consumers Energy Zeeland Power (Anderson)","Cory Anderson",null," 616-772-6641",null," 616-772-6729",null,null,null,"FR Harness interest","Consumers Energy Zeeland Power","425 North Fairview Road",null,null,null,"Zeeland","MI","49464",null,"Anderson","O&M Supt. / Plant Engineer",null,"Ottawa"]
["Consumers Energy Zeeland Power (Freese)","Scott Freese",null," 616-772-6641",null," 616-772-6729","scott.freese@mirant.com",null,null,null,"Consumers Energy Zeeland Power","425 North Fairview Road",null,null,null,"Zeeland","MI","49464","Mr.","Freese",null,"Utility","Ottawa"]
["Consumers Energy Zeeland Power (Heeres)","Gordon Heeres",null," 616-772-6641",null," 616-772-6729","gordon.heeres@mirant.com",null,null,null,"Consumers Energy Zeeland Power","425 North Fairview Road",null,null,null,"Zeeland","MI","49464","Mr.","Heeres",null,"Utility","Ottawa"]
["Consumers Energy Zeeland Power (Keefe)","George Keefe",null," 616-772-6641",null," 616-772-6729",null,null,null,null,"Consumers Energy Zeeland Power","425 Fairview Road",null,null,null,"Zeeland","MI","49464","Mr.","Keefe","Plant Manager",null,"Ottawa"]
["Consumers Energy Zeeland Power (Manning)","J. Homer Manning III",null," 616-237-4004",null,null,"jhmanning@cmsenergy.com",null,null,null,"Consumers Energy Zeeland Power","425 North Fairview Road",null,null,null,"Zeeland","MI","49464","Mr.","Manning","EH&S Specialist","Utility","Ottawa"]
["Consumers Energy, Hoyt Street (Philips)","Robert",null," 231-727-6525",null," 231-722-9498","rwphilips@cmsenergy.com",null,null,"5 Generating Sites (Regulated)\n  Campbell - Dan Nally, Site Mgr.; Don Hice, Plant Mgr.\n  Carn Weddock - Cal Talley, Site Mgr.\n  JR Whiting (Monroe) - Jack Hanson (did company-wide fall plan)\n  BC Cobb - Bob Malec\n  Ludington - Bill Schounline sp?\nsee also","Consumers Energy, Hoyt Street","2021 Hoyt Street",null,null,null,"Muskegon","MI","49444-1195","Mr.","Philips","Sr. Safety & Health Consultant","Utility","Jackson"]
["Consumers Energy, Hoyt Street (Reinhardt)","Tom Reinhardt",null," 231-727-6500",null," 231-722-9498","tmreinhardt@cmsenergy.com",null,null,null,"Consumers Energy, Hoyt Street","2021 Hoyt Street",null,null,null,"Muskegon","MI","49444",null,"Reinhardt","Trainer","Utility","Muskegon"]
["Conti Corporation (Gonzalez)","Aldo Gonzalez",null," 908-791-4825",null,null,"agonzalez@conticorp.com",null,null,null,"Conti Corporation","One Cragwood Road",null,null,null,"South Plainfield","NJ","7080","Mr.","Gonzalez",null,"Contractor General","Out of State"]
["Continental Dairy (Loyd)","Carl Loyd",null," 616-837-7641 314",null," 616-837-6702","cloyd@csfacilitiesllc.com",null,null,null,"Continental Dairy","999 West Randall Street",null,null,null,"Coopersville","MI","49404","Mr.","Loyd",null,"Food","Ottawa"]
["Controlled Tooling Systems Inc.",null,null,"616-784-7513",null,"616-647-4331",null,null,"Michigan Sales Tax",null,"Controlled Tooling Systems Inc.","Attn:","1186 Seven Mile Road NW",null,null,"Comstock Park","MI","49321"]
["Controlled Tooling Systems Inc. (Deeds)","Cory Deeds",null," 616-453-0954"," 616-784-7513"," 616-453-0966","cdeeds@toolingsystemsgroup.com",null,null,null,"Controlled Tooling Systems Inc.","2476 Waldorf Ct.",null,null,null,"Grand Rapids","MI","49544","Mr.","Deeds",null,"Engineering, Architecture","Kent"]
["Controlled Tooling Systems Inc. (McHenry)","Mike McHenry",null," 616-453-0954",null," 616-453-0966","mmchenry@toolingsystemsgroup.com",null,null,null,"Controlled Tooling Systems Inc.","2476 Waldorf Ct.",null,null,null,"Grand Rapids","MI","49544","Mr.","McHenry","Senior Controls Engineer","Engineering, Architecture","Kent"]
["Cook Inlet Pipe Line Co.","Mike Patterson",null,"907-776-6800 x103",null,"907-263-7300",null,null,"Out of State",null,"Cook Inlet Pipe Line Co.","Attn: Mike Patterson","909 West 9th Avenue",null,null,"Anchorage","AK","99501"]
["Cook Inlet Pipe Line Company (Patterson)","Michael Patterson",null," 907-776-6800 103",null," 907-776-6804","pattersonm@unocal.com",null,null,"Mike Titell said they were going to purchase after the first of the year.\nMargaret Attaway attawaym@unocal.com\nfx 907.263.7990   \nMike Titell rtns Mon 10.10 is electrician\nRay Barnes will call Monday 10.3","Cook Inlet Pipe Line Company","909 W. 9th Avenue",null,null,null,"Anchorage","AK","99501","Mr.","Patterson","Sr. Advising HES Specialist","Petroleum Related","Out of State"]
["Cook Inlet Pipe Line Company-Drift River","Michael Patterson",null,"907-776-6800 x103",null,null,null,null,"Michigan Sales Tax",null,"Cook Inlet Pipe Line Company-Drift River","c/o Kenai Aviation","101 Willow",null,null,"Kenai","AK","99611"]
["Cook-Devos"]
["Cooper Farms (Fort Recovery)","Lisa Timmerman",null,"419-375-4116 General","419-305-5443 Cell","419-375-2145",null,null,"OH AG Exempt","05/03/2011:  Net30 approved by E & CSH\n\nLisa Timmerman\nDeb Faller","Cooper Farms (Fort Recovery)","Attn: Lisa Timmerman","280 Railroad Street",null,null,"Fort Recovery","OH","45846"]
["Cooper-Standard Automotive","Crystal Augustine",null,"989-732-0175",null,null,"caaugustine@cooperstandard.com",null,"Michigan Sales Tax",null,"Cooper-Standard Automotive","Attn:","594 Alpine Road",null,null,"Gaylord","MI","49735"]
["Coopersville Polkton Fire Department (Wal","Lee Waldie",null," 616-997-5847",null," 616-997-8095",null,null,null,"GfG Lead for 450's. Also, Ernie Wiltenburg Asst. Chief","Coopersville Polkton Fire Department","PO Box 75",null,null,null,"Coopersville","MI","49404",null,"Waldie","Fire Chief","Fire Department","Ottawa"]
["Coopersville WWTP","Steve Luke",null,"616-997-9731",null,null,null,null,"Non-Tax Municipality/Utility",null,"Coopersville WWTP","Steve Luke","289 Danforth Street",null,null,"Coopersville","MI","49404"]
["Coopersville WWTP (Luke)","Steve Luke",null," 616-997-9731",null,null,null,null,null,null,"Coopersville WWTP","289 Danforth St.",null,null,null,"Coopersville","MI","49404","Mr.","Luke","Supervisor",null,"Ottawa"]
["Coopersville, City of (Luke)","Steve Luke",null," 616-997-9731",null," 616-997-6679","sluke@cityofcoopersville.com",null,null,"Lisa Harig receptionist","Coopersville, City of","289 Danforth",null,null,null,"Coopersville","MI","49404",null,"Luke","Superintendent WWTP",null,"Ottawa"]
["Coopersville, City of (Ortquist)","Ken Ortquist",null," 616-997-9731",null," 616-997-6679","kortq.comuist@cityofcoopersville",null,null,null,"Coopersville, City of","289 Danforth",null,null,null,"Coopersville","MI","49404",null,"Ortquist","Superintendent DPW",null,"Ottawa"]
["Coopersville, City of (Pelkey)","Stephanie Pelkey",null," 616-997-9731",null," 616-997-6679","spelkey@cityofcoopersville.com",null,null,null,"Coopersville, City of","289 Danforth",null,null,null,"Coopersville","MI","49404",null,"Pelkey","City Clerk","Municipal, Cty","Ottawa"]
["Cornerstone Safety of Sargent Electric (N","Joe Nichols",null," 412-394-7603",null," 412-394-7535","jnichols@sargent.com",null,null,null,"Cornerstone Safety of Sargent Electric","2767 Liberty Ave.",null,null,null,"Pittsburgh","PA","15222","Mr.","Nichols",null,"Competitor","Out of State"]
["Cornerstone Safety Products","Joe Nichols","412-394-7660","412-394-7603 Joe","412-394-4649","412-394-7535",null,null,"Out of State","UPS Acct#67Y489","Cornerstone Safety Products","Attn:","2767 Liberty Ave.",null,null,"Pittsburgh","PA","15222"]
["CoroTech Co.","Jeff Dills",null,"616-456-5552","616-340-4973 cell","616-456-5557",null,null,"NONTXMUNI","A/P handled by Bob Robinson\n\nSpecial Rental Pricing on Micro: $65 per week, Pump: $10 per week\n\nPaul Hendricks - ext. \nJeff Dills - ext. 1\nLarry Snyder - cell: 616-914-2079 - email: lsnyder@corotech.com\n\nController fax 616-247-7333 Bob Robinson\nbrobinson@corotech.com","CoroTech Co.","Attn: Larry Snyder","1222 Burton St. SE",null,null,"Grand Rapids","MI","49507"]
["CoroTech Co. (Dills)","Jeff Dills",null," 616-456-5552",null," 616-456-5557","jdills@corotech.com",null,null,"Joe Napieralski has succeeded Ken Fusee\nLarry Snyder m 616-914-2079\nBob Robinson mob 616.485.9720 brobinson@corotech.com\nJimmy Allman mob 231.740.5365 jallman@corotech.com SE, Atlantic\nBob Wozny mob 231.740.7238 bwozny@corotech.com   North\nLarry Haas mob 616.822.8148    Upper Midwest\nKory Cooper mob 616.217.7014\nKen Kensington\nAndrea Grimaldo\nUse Safety Matters Rob Torrey mob 616.402.1132  o 616.850.0424\nChuck Skalsky","CoroTech Co.","2979 Remico St SW",null,null,null,"Grandville","MI","49418","Mr.","Dills",null,"Contractor General","Kent"]
["CoroTech Co. - (FRP)","Ken Kensington",null,"616-456-5552","616-540-4250","616-261-3102",null,null,"Michigan Sales Tax",null,"CoroTech Co. - (FRP)","Attn:","2979 Remico Street SW",null,null,"Grand Rapids","MI","49418"]
["Correct Mechanical Services (Moelker)","Russ Moelker",null," 616-534-6719",null," 616-534-6737",null,null,null,null,"Correct Mechanical Services","3049 Broadway SW",null,null,null,"Grandville","MI","49418",null,"Moelker",null,null,"Ottawa"]
["CorrPro Companies, Inc.","Mike Celasko",null,"330-723-5082 x-1359","713-460-6000- Houston",null,null,null,"Out of State",null,"CorrPro Companies, Inc.","Attn: Scott Williamson","7000 B Hollister Street",null,null,"Houston","TX","77040"]
["CorrPro Companies, Inc. (Brabson)","Todd Brabson",null," 330-723-5082 1399",null,null,"tbrabson@corrpro.com",null,null,"Mike Zelasko 330.723.5082 x1351","CorrPro Companies, Inc.","1090 Enterprise Drive",null,null,null,"Medina","OH","44256","Mr.","Brabson",null,null,"Out of State"]
["CorrPro Companies, Inc. (Celasko)","Mike Celasko",null," 330-723-5082 1351",null,null,null,null,null,null,"CorrPro Companies, Inc.","1090 Enterprise Drive",null,null,null,"Medina","OH","44256","Mr.","Celasko",null,"Contractor General","Out of State"]
["Country Fresh  A Dean Foods Company (O'Co","Dick O'Connell",null," 616-243-0173 2324",null," 616-748-0480","dick_oconnell@deanfoods.com",null,null,null,"Country Fresh  A Dean Foods Company","355 Mart Street SW",null,null,null,"Grand Rapids","MI","49548-1006","Mr.","O'Connell",null,"Food","Kent"]
["Country Fresh, Inc.","Gail",null,"514-5343","616-514-6324","616-514-5356",null,null,"Non-Tax","Blacket PO for onsight chem spill cart inspection 333657\nCheryl is accounting\n\nCONTACTS:\n~~~~~~~~~~~~~~~~~~~~~~~~~~~~\nTerry LeHigh - cell  616-520-5110\n\nDick O'Connell\nDirect:  616-514-6324\nCell:  616-885-8047  \n~~~~~~~~~~~~~~~~~~~~~~~~~~~~\nFax invoices to Gail at 243-5926\nGenera ph # 616-243-0173\n","Country Fresh, Inc.","Attn: Terry LeHigh","2555 Buchanan Ave SW",null,null,"Grand Rapids","MI","49548-1006"]
["Country Fresh, Inc. (Flint)","Ed Groth",null,"810-232-9193 x1165",null,null,null,null,"Michigan Sales Tax",null,"Country Fresh, Inc. (Flint)","Attn: Ed Groth","609 Chavez",null,null,"Flint","MI","48503"]
["Countryfresh (Flint)","Ed Groth",null,"810-232-9193",null,null,null,null,"Michigan Sales Tax",null,"Countryfresh","Attn:Simbit Stevens","609 Chavez",null,null,"Flint","MI","48503"]
["County of Ottawa Emergency Response (Phil","Dianne Phillips",null," 616-738-4051",null," 616-738-4053","dphillips@miottawa.org",null,null,null,"County of Ottawa Emergency Response","12220 Fillmore Street",null,null,null,"West Olive","MI","49460","Ms.","Phillips","LEPC Coordinator","Municipal, Cty Pub Safety","Ottawa"]
["Covance (Hover)","Steve Hover",null," 269-375-0482 25",null," 269-375-8403",null,null,null,null,"Covance","6321 South 6th Street",null,null,null,"Kalamazoo","MI","49009","Mr.","Hover",null,null,"Kalamazoo"]
["Covanta Energy","Andy Pelton",null,"235-3210 work","616-364-1991 home",null,null,null,"Michigan Sales Tax"]
["Covanta Kent, Inc. (Houn)","Mark Houn",null," 616-235-3210",null," 616-235-3770","mhoun@covantaenergy.com",null,null,null,"Covanta Kent, Inc.","950 Market Avenue SW",null,null,null,"Grand Rapids","MI","49503-4835","Mr.","Houn","Safety Coordinator","Utility","Kent"]
["Covanta Kent, Inc. (Kent)","Brian Kent",null," 616-235-3210",null," 616-235-3770","bkent@covantaenergy.com",null,null,"From Neal Swigert. See also:\nJon Ashley Purch/Stores jashley@covantaenergy.com\nRandy Inman Mntc rinman@, Mark Houn Shift Supr/ Safety mhoun@, Paul Kantola Envl pkantola@, Andy Pelton.","Covanta Kent, Inc.","950 Market Avenue SW",null,null,null,"Grand Rapids","MI","49503-4835","Mr.","Kent","Facility Manager","Utility","Kent"]
["Covert Generating Company (Ray)","Bucky Ray",null," 269-764-3804",null," 269-764-3801","bray@tpfholdings.com",null,null,"Gary Boreham Lead IC&E Tech 269.764.3861, m 269.838.8721 gboreham@tpfholdings.com\nDon Eaddy Lead Mntc Tech\nBrian Kemp bkemp@tpfholdings.com mob 269.876.1875\nRichard Evans Plant Mgr","Covert Generating Company","26000 77th Street",null,null,null,"Covert","MI","49043","Mr.","Ray","EH&S","Utility","Allegan"]
["Covert Generating Facility, Div. of NAES",null,null,"269-764-3800",null,"269-764-3801",null,null,"Michigan Sales Tax","Gary Boreham - ext-3861, cell: 269-838-8721, email: gboreham@tpfholdings.com","Covert Generating Facility, Div. of NAES","Attn:","26000 77th Street",null,null,"Covert","MI","49043"]
["Covert Twp Fire Department (Florey)","Dawn Florey",null," 269-764-1768",null," 269-764-8220","dtflorey@hotmail.com",null,null,null,"Covert Twp Fire Department","74034 34th Avenue",null,null,null,"Covert","MI","49043","Ms.","Florey",null,null,"Allegan"]
["CRA Services Conestoga-Rovers (Bauman)","Waye Bauman",null," 269-344-1230",null," 269-344-8558","wbauman@craworld.com",null,null,"From Tom Olson of Draeger. Has Duval for blanket, but interested in our capabilities.","CRA Services Conestoga-Rovers","4141 Davis Creek Court",null,null,null,"Kalamazoo","MI","49001-0838","Mr.","Bauman","National Construction Manager","Contractor EH&S","Kalamazoo"]
["Cranberry Twp. Volunteer Fire Co.","Chris DeCree",null,"724-776-1196",null,"724-776-9260",null,null,"Out of State",null,"Cranberry Twp. Volunteer Fire Co.","Attn: Chris DeCree","1629 Haine School Rd.",null,null,"Cranberry","PA","16066"]
["Creme Curls Bakery Inc. (Bierling)","Gary Bierling",null," 616-699-6240",null,null,null,null,null,null,"Creme Curls Bakery Inc.","5292 Lawndale Avenue","P.O. Box 276",null,null,"Hudsonville","MI","49426","Mr.","Bierling","Safety & Compliance Manager","Food","Ottawa"]
["Cripps Fontaine Excavating, Inc. (Fontain","Curt Fontaine",null," 269-342-1088"," 269-342-0750"," 269-328-753",null,null,null,"Buying penetrometers","Cripps Fontaine Excavating, Inc.","7729 Douglas Ave.",null,null,null,"Kalamazoo","MI","49009","Mr.","Fontaine","Safety Manager","Contractor, Excavator","Kalamazoo"]
["Cromwell Mechanical, LLC","Bob Conkey",null,"216-373-7378",null,"216-373-7378","bob@cromwellmechanical.com",null,"Michigan Sales Tax",null,"Cromwell Mechanical, LLC","Attn:","6699 Bonnieview Road",null,null,"Cleveland","OH","44143"]
["Crooksville Fire Department","Chief Fred Redfern",null,"740-982-3081","740-704-7816 cell","740-982-2055",null,null,"Out of State",null,"Crooksville Fire Department","Attn:","98 S. Buckeye St.",null,null,"Crooksville","OH","43731"]
["Crooksville Fire Department (Redfern)","Fred Redfern",null," 740-982-3081",null," 740-982-2055",null,null,null,null,"Crooksville Fire Department","98 S. Buckeye St.",null,null,null,"Crooksville","OH","43731","Mr.","Redfern","Fire Chief","Fire Department","Out of State"]
["Crossroads Charter Academy","Trudi Green",null,"231-796-61471",null,null,null,null,"Non-Tax",null,"Crossroads Charter Academy","Attn: Trudi Green","215 N. State St.",null,null,"Big Rapids","MI","49307"]
["Croswell WWTP, City of","Dave Steele",null,"810-679-2459",null,null,null,null,"Non-Tax Municipality/Utility","Dave Steele - email:  wwtp4@sbcglobal.net","Croswell WWTP, City of","Attn: Dave Steele","100 North Howard",null,null,"Croswell","MI","48422"]
["Croswell WWTP, City of (Steele)","Dave Steele",null," 810-679-2459",null," 810-679-2313","wwtp4@sbcglobal.net",null,null,null,"Croswell WWTP, City of","100 N. Howard",null,null,null,"Croswell","MI","48422","Mr.","Steele",null,"Municipal, Cty","Sanilac"]
["Crystal Mountain Resort","Pam Dunham ext.3500",null,"800-968-7686","231-378-2000",null,null,null,"Michigan Sales Tax",null,"Crystal Mountain Resort","Attn: Pam Dunham","12500 Crystal Mountain Dr.",null,null,"Thompsonville","MI","49683-9742"]
["CSM Group (Klok)","Dave Klok",null," 269-746-5600",null," 269-746-5699",null,null,null,null,"CSM Group","13800 East Michigan Avenue",null,null,null,"Galesburg","MI","49053","Mr.","Klok",null,"Contractor EH&S","Kalamazoo"]
["CTI - Capital Technologies International","John Rodaitis",null,"412-805-0590","412-268-3468","412-774-2189",null,null,"Non-Tax","9/30/09 Mike gallager will email set up info today asking for terms - hard copy of invoice 10278 was sent to accounts payable\n\n12/23/09 Lonnie is A/P contact\n\nChanged back to COD on one 30 pending order pd at 60 days","CTI - Capital Technologies International","Attn: Sean Jarrett po#528","700 Technology Drive",null,null,"Pittsburgh","PA","15219"]
["CTS Construction","Donnie Oakes",null,"513-489-8290",null,"513-489-8298","doakes@ctstelecomm.com",null,"Out of State","fax inv to 513-489-8298","CTS Construction","Attn: Donnie Oakes","6661 Corporate Drive",null,null,"Cincinnati","OH","45242"]
["CTS Construction (Oakes)","Donnie Oakes",null," 513-489-8290",null," 513-489-8298","doakes@ctstelecomm.com",null,null,null,"CTS Construction","6661 Corporation Drive",null,null,null,"Cincinanati","OH","45242","Mr.","Oakes",null,"Contractor Electrical","Out of State"]
["CTS Construction (Thornville)","Donnie Oaks",null,"740-323-9435 thnville",null,null,null,null,"Michigan Sales Tax",null,"CTS Construction (Thornville)","Attn: Denny Smith","10113 Jacksontown Rd. SE",null,null,"Thornville","OH","43076"]
["Cumberland Trail Fire Destrict #4","Ken Saffell",null,"740-695-5147",null,"740-695-6630",null,null,"OH Belmont Co."]
["Cummins & Barnard (Bergdolt)","Steve Bergdolt",null," 734-761-9130"," 734-332-6480"," 734-761-9881","sbergdolt@cummins-barnard.com",null,null,"Also, Dan Mitas Proj Mgr","Cummins & Barnard","5405 Data Court",null,null,null,"Ann Arbor","MI","48108","Mr.","Bergdolt",null,"Engineering, Architecture","Washtenaw"]
["Curries Company (Neuwohner)","Jeff Neuwohner",null," 866-350-1938 702"," 641-494-2836",null,"jeff.neuwohner@doorgroup.com",null,null,"Mike Youngers 641.494.2993","Curries Company","251  9th Street SE",null,null,null,"Mason City","IA","50401","Mr.","Neuwohner",null,"Manufacturer","Out of State"]
["CURRIES Division of AADG Inc.","Jeff Neuwohner",null,"866-350-1938",null,null,null,null,"Non-Tax",null,"CURRIES Division of AADG Inc.","Frame Plant","Attn: Jeff Neuwohner","1500  -  12th St. NW",null,"Mason City","IA","50401"]
["Custom Rooling Systems, Inc. (Bouwkamp)","John Bouwkamp",null," 616-748-9880",null," 616-748-9881",null,null,null,null,"Custom Rooling Systems, Inc.","3331 80th Ave.",null,null,null,"Zeeland","MI","49464","Mr.","Bouwkamp","President",null,"Ottawa"]
["Custom Tooling Systems, Inc. (Runyon)","Tom Runyon",null," 616-748-9881",null,null,null,null,null,null,"Custom Tooling Systems, Inc.","3331 80th Ave.",null,null,null,"Zeeland","MI","49464",null,"Runyon","Safety","Manufacturer","Ottawa"]
["Cutlerville Fire Department (Jansen)","Russ Jansen",null," 616-455-7670",null," 616-455-0221","duttonfire@yahoo.com",null,null,"Chief Dan Vander Molen;  Carl Gunderson  Mark Grooters, Firefighter","Cutlerville Fire Department","11 - 68th Street SW",null,null,null,"Grand Rapids","MI","49548",null,"Jansen","Fire Chief","Fire Department","Kent"]
["CWC Textron","Pat Runyan",null,null,"231-739-2632","231-739-2649",null,null,"Non-Tax","Bob Meacham\n  231-739-2632","CWC Textron","Attn: Bob Meachum","1085 West Sherman Blvd",null,null,"Muskegon","MI","49441"]
["Cytec Engineered Materials","Linda Abruntilla(Sr Buyer)",null,"714-666-4301",null,"714-666-4328","Linda.Abruntilla@cytec.com",null,"Michigan Sales Tax",null,"Cytec Engineered Materials","AN-Main Common & FG Warehouse","1440 N. Kraemer Blvd",null,null,"Anaheim","CA","92806"]
["Cytec Engineered Materials (Rooney)","Russ Rooney",null," 714-688-4472",null," 714-688-4498","Russell.Rooney@cytec.com",null,null,null,"Cytec Engineered Materials","1440 N. Kraemer Blvd",null,null,null,"Anaheim","CA","92806","Mr.","Rooney","Operations Manager","Chemical Pharmaceutical","Out of State"]
["Cytec Industries Inc. (Kalamazoo)","E. Daniel Traugott",null,"269-385-1243",null,null,null,null,"Michigan Sales Tax",null,"Cytec Industries Inc. (Kalamazoo)","Attn:","2715 Miller Road",null,null,"Kalamazoo","MI","49001"]
["Cytec Industries Inc. (Traugott)","E. Daniel Traugott",null," 269-385-1243",null,null,null,null,null,"Larry Phillips bought IHSC & RKI products 269.385.1253\nsee Bernard Smith  269.385.1191","Cytec Industries Inc.","2715 Miller Road",null,null,null,"Kalamazoo","MI","49001","Mr.","Traugott","Compliance Manager","Chemical Pharmaceutical","Van Buren"]
["D & K Engineering","Hilary O'Malley",null,"616/453-2324",null,null,null,null,"Michigan Sales Tax",null,"D & K Engineering","Attn: Hilary O'Malley","1975 Waldorf NW Ste C",null,null,"Grand Rapids","MI","49544"]
["D & W Mechanical","Dennis Flynn",null,"231-941-1215",null,"231-941-5007",null,null,"Michigan Sales Tax",null,"D & W Mechanical","Attn: Dennis Flynn","1266 Industry Dr.","Suite A",null,"Traverse City","MI","49686"]
["D. A. Dodd  Mechanical","Justin Steinbeck",null,"269-926-7873",null,"269-926-7871",null,null,"Michigan Sales Tax","Accounts Payable contact Shelly Sill 219-778-4302\n","D. A. Dodd Mechanical","Attn:Justin Steinbeck","1251 Paw Paw Ave.",null,null,"Benton Harbor","MI","49022"]
["D.A.Dodd Mechanical (Boldt)","Jason Boldt",null," 269-926-7873",null," 269-926-7871",null,null,null,"SPANCO lead, closed on fixed rail system","D.A.Dodd Mechanical","1251 Paw Paw Avenue",null,null,null,"Benton Harbor","MI","49022","Mr.","Boldt","Operations Manager","Mechanical","Oceana"]
["D.A.Dodd Mechanical (Steinbeck)","Justin Steinbeck",null," 269-926-7873",null," 269-926-7871","justins@dadodd.com",null,null,"Justin handles the technical side of purchasing for the SPANCO order\n-more business to come\n-call on, but always have an appointment","D.A.Dodd Mechanical","1251 Paw Paw Avenue",null,null,null,"Benton Harbor","MI","49022","Mr.","Steinbeck","Site Supervisor","Mechanical","Oceana"]
["D.C. Cook Nuclear Power Plant (Harner)","John Harner",null," 269-465-5901 2102",null,null,null,null,null,"Quoted Larry on Ultra Safe Twin SRL  -also quoted on harness laundering and inspection","D.C. Cook Nuclear Power Plant","9100 Red Arrow Hwy.",null,null,null,"Bridgman","MI","49106",null,"Harner","EH&S Manager","Utility","Berrien"]
["D.C. Cook Nuclear Power Plant (Schalk)","Bill Schalk",null," 269-465-6101",null,null,null,null,null,"John was referred to me by Dave Steger from BDN as the go-to who oversees Larry Woods","D.C. Cook Nuclear Power Plant","9100 Red Arrow Hwy.",null,null,null,"Bridgman","MI","49106",null,"Schalk","General Contact","Utility","Berrien"]
["D.C. Cook Nuclear Power Plant (Woods)","Larry Woods",null," 269-465-5901",null,null,null,null,null,"Bill is the general contact for AEP D.C. Cook  a good start....","D.C. Cook Nuclear Power Plant","9100 Red Arrow Hwy.",null,null,null,"Bridgman","MI","49106","Mr.","Woods","Safety Director","Utility","Berrien"]
["Dahti Technologies","Joe Ward",null,"616-866-1489",null,"616-866-2881",null,null,"Michigan Sales Tax",null,"Dahti Technologies","Attn:","251 Industrial Drive",null,null,"Rockford","MI","49341"]
["Daimler Chrysler Kenosha Engine Plant (Me","Jean Melvin",null," 262-658-7737",null,null,"jm66@dcx.com",null,null,"Paul Kling 262.658.6136","Daimler Chrysler Kenosha Engine Plant","5555  30th Avenue",null,null,null,"Kenosha","WI","53144","Ms.","Melvin",null,"Automotive","Out of State"]
["Dake Corporation (Lindel)","Lanny Lindel",null," 616-842-7110",null,null,null,null,null,null,"Dake Corporation","724 Robbins Rd.",null,null,null,"Grand Haven","MI","49417","Mr.","Lindel","EH&S","Manufacturer","Ottawa"]
["Dale W. Hubbard Inc.","Brad Grahame",null,"269-345-6000",null,null,null,null,"Michigan Sales Tax","10/05/11\nCC failed - sent set up terms \n3 ref came back good but no months over 2 thousand dollars. I set them up as net 30 with a 2thou limit see how it goes\n\nKim does A/P   fax 269.345.4831","Dale W. Hubbard Inc.","Attn: Brad Grahame","5189 King Highway",null,null,"Kalamazoo","MI","49048"]
["Damascus Township F.D.","Joel Ward",null,"419-748-8777","419-279-9824 cell","419-748-8744","dtfr700@bright.net",null,"Non-Tax Municipality/Utility",null,"Damascus Township F.D.","Attn:","N-422 State Rute 65",null,null,"McClure","OH","43534"]
["Dan Hoe Excavating, Inc. (Maike)","Rich Maike",null," 616-994-6388",null," 616-994-6391","richdanhoe@chartermi.net",null,null,"Tom O'Connell (Principal), Craig Wasson, Estimator (handles safety)","Dan Hoe Excavating, Inc.","13664 Rocky's Road",null,null,null,"Holland","MI","49424","Mr.","Maike","Project Manager","Contractor, Excavator","Ottawa"]
["Dan Lemon"]
["Dan Lemon (Customer)"]
["Dan Valley Excavating","Tony Woodmansee","Greg Norman","269-795-9321","269-838-0054 cell","269-795-8911",null,null,"Michigan Sales Tax","fAX INVOICES TO BARB DYKSTRA 269-795-8911 (10/14/08)","Dan Valley Excavating","Tony Woodmansee","987 Grand Rapids St.",null,null,"Middleville","MI","49333","Mr","Woodmansee"]
["Dan Valley Excavating (Woodmansee)","Tony Woodmansee",null," 269-795-9321",null," 269-795-8911",null,null,null,"Dave Van Elst, Dave Dykstra is President, Sue Thaler A/P, Barb Dykstra Larry Brummel","Dan Valley Excavating","987 Grand Rapids Street","PO Box 40",null,null,"Middleville","MI","49333","Mr.","Woodmansee",null,"Contractor, Excavator","Kent"]
["Dan Vos Construction Company","Dan Woltjer",null,"616-676-9169",null,"616-676-2435",null,null,"Michigan Sales Tax","Brian Kuhlman - cell: 616-293-4848","Dan Vos Construction Company","Attn:Brian Kuhlman","6160 East Fulton",null,null,"Ada","MI","49301"]
["Dan Vos Construction Company (Ellens)","Brad Ellens",null," 616-676-9169",null," 616-676-2435","brade@danvoscc.com",null,null,null,"Dan Vos Construction Company","6160 E. Fulton","PO Box 189",null,null,"Ada","MI","49301-0189","Mr.","Ellens",null,"Contractor General","Kent"]
["Dan Vos Construction Company (Kuhlman)","Brian Kuhlman",null," 616-676-9169",null," 616-676-2435","briank@danvoscc.com",null,null,"Romel Cabrera Estimator 616.916.3039\nCurt Cusack now with Lynn Masonry next door.\nDan Woltjer mob 616-293-9605 stores\nRon Visser, Proj Mgr mob 616.644.0413, 616.293.2435\nPaul Nederveld\nScott Dunneback, Proj Mgr (Steel) mob 616.340.0679\nElaine provided logo for 1st aid kits\nJoe Pitsch mob 616.813.2366\nJeremy 616.291.5219","Dan Vos Construction Company","6160 E. Fulton","PO Box 189",null,null,"Ada","MI","49301-0189","Mr.","Kuhlman","Safety & Health Specialist","Contractor General","Kent"]
["Dan Vos Construction Company (Mattson)","Jonathan Mattson",null," 616-676-9169",null," 616-676-2435","jonathanm@danvoscc.com",null,null,null,"Dan Vos Construction Company","6160 E. Fulton","PO Box 189",null,null,"Ada","MI","49301-0189","Mr.","Mattson",null,"Contractor General","Kent"]
["Dan Vos Construction Company (Nederveld)","Paul Nederveld",null," 616-425-2883"," 616-676-9169"," 616-676-2435","pauln@danvoscc.com",null,null,null,"Dan Vos Construction Company","6160 E. Fulton","PO Box 189",null,null,"Ada","MI","49301-0189","Mr.","Nederveld",null,"Contractor General","Kent"]
["Dan Vos Construction Company (Tiffany)","Lon Tiffany",null," 616-676-9169",null," 616-676-2435","lont@danvoscc.com",null,null,null,"Dan Vos Construction Company","6160 E. Fulton","PO Box 189",null,null,"Ada","MI","49301-0189","Mr.","Tiffany",null,"Contractor General","Kent"]
["Dan Vos Construction Company (Visser)","Ron Visser",null," 616-676-9169",null," 616-676-2435","ronv@danvoscc.com",null,null,null,"Dan Vos Construction Company","6160 E. Fulton","PO Box 189",null,null,"Ada","MI","49301-0189","Mr.","Visser",null,"Contractor General","Kent"]
["Daniel Kloosterman"]
["Daniel Safety Products (Daniel)","Mary Ann Daniel",null," 800-910-3891",null," 256-878-8494",null,null,null,"Tammy, Bruce Barnes, Mary Ann's son is Thomas","Daniel Safety Products","PO Box 1401",null,null,null,"Albertville","AL","35950","Ms.","Daniel",null,"Supplier","Out of State"]
["Daniel T Holman"]
["Darigold (Whitlock)","Andrew Whitlock",null," 360-325-6555"," 734-272-8898",null,"andrew.whitlock@darigold.com",null,null,"Was with Cannon Muskegon. Quote MAX XT II and Microdock","Darigold","8424 Depot Road",null,null,null,"Lynden","WA","98264","Mr.","Whitlock","EH & S Manager","Food","Out of State"]
["Darling International (Chehowski)","Troy Chehowski",null," 517-279-9731",null," 517-278-8157",null,null,null,"Rendering Plant. Marty Slocum Plant Mgr. Quote Troy Micro","Darling International","600 Jay Street",null,null,null,"Coldwater","MI","49036","Mr.","Chehowski","Garage Manager","Other","Branch"]
["Data Speed Inc.","Paul Fleck",null,"248-828-8201",null,null,null,null,"Michigan Sales Tax",null,"Data Speed Inc.","Attn: Paul Fleck","2805 Ranieri Drive",null,null,"Troy","MI","48085"]
["Dave Cole Decorators","Larry",null,"616-887-9465",null,null,null,null,"Michigan Sales Tax",null,"Dave Cole Decorators","Attn:","325 Martindale St.",null,null,"Sparta","MI","49345"]
["Dave Cole Decorators (Rosebrook)","Larry Rosebrook",null," 616-887-9465",null," 616-887-9464","bob@dcd-inc.com",null,null,"Paul Cole (not an owner) is a site super","Dave Cole Decorators","325 Martindale St.",null,null,null,"Sparta","MI","49345","Mr.","Rosebrook","Safety Director","Contractor General","Kent"]
["Dave's Dozing (Wiersma)","Ray Wiersma",null," 616-877-4882",null," 616-877-4901","tom@davesdozing.com",null,null,"Tom Blouw","Dave's Dozing","4685 Division Street","PO Box",null,null,"Moline","MI","49335","Mr.","Wiersma",null,"Contractor, Excavator","Allegan"]
["Dave's Dozing, Inc.","Ray Wiersma",null,"616-877-4882",null,"616-877-4901",null,null,"Michigan Sales Tax",null,"Dave's Dozing, Inc.","Attn: Ray Wiersma","4685 Division Street",null,null,"Moline","MI","49335"]
["Davidson Plyforms, Inc.","Steve Kilbourn",null,"616-956-0033",null,"616-956-0041",null,null,"Non-Tax","Rob Howitt","Davidson Plyforms, Inc.","Attn: PO 38929","5505  33rd Street SE",null,null,"Grand Rapids","MI","49512"]
["Davidson Plyforms, Inc. (Kilbourn)","Steve Kilbourn",null," 616-956-0033",null," 616-956-0041","skilbourn@plyforms.com",null,null,"Bruce Duer is Maintenance Mgr. ext. 313","Davidson Plyforms, Inc.","5505  33rd Street SE",null,null,null,"Grand Rapids","MI","49512","Mr.","Kilbourn",null,"Furniture","Kent"]
["Davidson Plyforms, Inc. (Vruggink)","Curt Vruggink",null," 616-956-0033 370",null," 616-954-9255",null,null,null,"Curt Vruggink. Andy Johnson is plant engineer.  Dean Huizenga dhuizenga@plyforms.com\nRob Howitt rhowitt@plyforms.com","Davidson Plyforms, Inc.","5505  33rd Street SE",null,null,null,"Grand Rapids","MI","49512","Mr.","Vruggink",null,"Furniture","Kent"]
["Davis Construction","Heather Hendges","Rob Kaliniak","517-322-3800 Lansing","616-456-0059","616-456-0383",null,null,"Michigan Sales Tax",null,"Davis Construction","Attn:","456 Plymouth NE","Suite B",null,"Grand Rapids","MI","49505","Ms."]
["Davis Construction Company (Dunsmore)","Dean Dunsmore",null," 517-322-3800",null," 517-322-0305",null,null,null,null,"Davis Construction Company","5236 Dumond Court","Suite A",null,null,"Lansing","MI","48917","Mr.","Dunsmore","Superintendent","Contractor General","Ingham"]
["Davis Construction Company (Hendges)","Heather Hendges",null," 517-322-3800",null," 517-322-0305","heatherhendges@voyager.net",null,null,"Mike Davis President   Lisa Schultz Purchasing\nRob Kaliniak  m 517.819.1108  re: SRLs\nTim Schafer 517-712-0498  Dean Dunsmore Supt 517-819-1110","Davis Construction Company","5236 Dumond Court","Suite A",null,null,"Lansing","MI","48917","Ms.","Hendges","Safety Director","Contractor General","Ingham"]
["Davis Construction Company (Schafer)","Tim Schafer",null," 616-456-0059",null," 616-456-0383",null,null,null,null,"Davis Construction Company","456 Plymouth NE","Suite B",null,null,"Grand Rapids","MI","49505","Mr.","Schafer",null,"Contractor General","Kent"]
["Davon Manufacturing (Davon)","Jeremy Davon",null," 616-896-7888",null,null,null,null,null,null,"Davon Manufacturing","3531 Perry St.",null,null,null,"Hudsonville","MI","49426",null,"Davon","Owner's Son","Manufacturer","Ottawa"]
["Dawn Food Products","Bob Hite","Mike Wilcox","517-789-4445",null,"517-789-4495",null,null,"Michigan Sales Tax",null,"Dawn Food Products","Attn:","2021 Micor Drive",null,null,"Jackson","MI","49203"]
["Dawn Food Products (Hite)","Bob Hite",null," 517-789-4445",null," 517-789-4495","bhite@dawnfoods.com",null,null,null,"Dawn Food Products","2021 Micor Drive",null,null,null,"Jackson","MI","49203","Mr.","Hite","Safety Director","Food","Jackson"]
["Dawson Associates, Inc.",null,null,"770-963-0207",null,null,null,null,"Out of State"]
["Dawson Associates, Inc. (Bragg)","Andy Bragg",null," 800-282-4782",null," 770-822-5873","a.bragg@dawsonassoc.com",null,null,"Clint Anderson m 770.337.0038","Dawson Associates, Inc.","922-B Hurricane Shoals Road",null,null,null,"Lawrenceville","GA","30043","Mr.","Bragg","V.P. Sales and Operations","Supplier","Out of State"]
["Day & Zimmermann NPS","Dean","Daisy in Palisades","573-220-6971 cell","269-764-3661","269-764-2816",null,null,"Michigan Sales Tax","(573) 592-7400 accting\n573-592-7440 fax acct pabl","Day & Zimmermann NPS","Atlantic Union Resources, Inc.","Palisades Nuclear Power Plant",null,null,"27780 Blue Star Hwy Covert","MI","49043"]
["Day & Zimmermann NPS (Main)","Gary Lewis",null,"740-598-7148",null,"740-598-7149",null,null,"Out of State",null,"Day & Zimmermann NPS(PA)","Attn: Gary Lewis","306 County Rd 7",null,null,"Brilliant","OH","43913"]
["Day & Zimmermann NPS (Rogers)","Ben Rogers",null," 269-764-3039",null," 269-764-3049",null,null,null,"Tim Foco    Ben's Maine Cell 207-649-3324","Day & Zimmermann NPS","Cooling Towers","27780 Blue Star Hwy",null,null,"Covert","MI","49043","Mr.","Rogers",null,"Contractor General","Do Not Know"]
["DayGlo","Eugene Crnjac",null,"216-391-7070",null,null,null,null,"OH IND PROC",null,"DayGlo PO # A98644","Attn:Alex Shparner","1570 Highland Rd.",null,null,"Twinsburg","OH","44087"]
["Dayton Bd of  Power & Light (Dayton)","Garry Tindall",null,"937-549-2641",null,null,null,null,"Non-Tax Municipality/Utility",null,"Dayton Bd of Power & Light","Attn: GarryTindall / John Gates","J M Stuart Station","745 US Rt 52",null,"Dayton","OH","45101"]
["Dayton Power and Light Co.(Aberdeen)","Mary Maher",null,"937-549-2641",null,null,null,null,"OH Municipality",null,"Dayton Power and Light Co.","Attn: PO # 623764","J.M. Stuart Station","4 Miles East US 52",null,"Aberdeen","OH","45101"]
["DBI Sala Capital Safety (Bryant)","Charley Bryant",null," 800-328-6146",null," 651-388-5065","cbryant@capitalsafety.com",null,null,"651.385. extn number\nSandy (operator), Sam (Samantha) Novek x6205 are good, but promoted\nVanessa Stockwell \n-- KC (Kim Clancy) not so good x6203\n-- Kim Krie x6201\n-- Lindsay idiot\n+ Dan Shefveland x6259\nEd Plant x6222\nNick Davis x6276\nChris Coyle x6271\n+ Brian Shores x6348 good\nKelly Walsh x6214 bad info on life preserver\nClaudia Bonnie x6216\nMaria Szenszi x6267\nDiane David x\nBob Turner (Dynamic) mob 630-417-1075\nTim Weiss x6245 in Svc \nGreg Berg (svc and netting) x6258\nJim Kafka x6202\nCraig Firl is expert x6221 \nMike Brandt x6210 Guardrail Proj Mgr  419.367.9525 mob\nIgor Grichtchenko 701.388.6249\nAndy Babiak 701.388.6250","DBI Sala Capital Safety","3833 Sala Way",null,null,null,"Red Wing","MN","55066","Mr.","Bryant",null,"Supplier","Out of State"]
["DBI Sala Capital Safety UCL (Holden)","Rick Holden",null," 800-455-9673"," 204-878-9092"," 204-694-7612","rickh.unique@mts.net",null,null,"Dagmar Stryk handles A/R     Becky from Czech    Ruth,  Ann\nThey base timing on post mark.\nAndy Babiak mob 204.229.2599  new 701.388.6250\nold mob 701-388-6251\nGarry Hamilton mob 204.995.2511\nEgor (long ee) mob 701.388.6249\nCall Sam Brock at Capital Safety for availability of stock items\nTim Weiss x6245 in Svc (very good) also Jamie Rodriguez (Ms.) very good\nCory Klippenstine is new general manager","DBI Sala Capital Safety UCL","1500 King Edward Street",null,null,null,"Winnipeg","MB","R3H 0R5","Mr.","Holden","Central Region Territory Manag","Supplier","Out State"]
["De Jager Construction Inc.","John Slendebroek","Linda DeKruyter","530-0060",null,"530-8619",null,null,"Michigan Sales Tax",null,"De Jager Construction Inc.","Attn: Linda DeKruyter","75 - 60th Street SW",null,null,"Wyoming","MI","49548"]
["De Jager Construction Inc. (Slendebroek)","John Slendebroek",null," 616-530-0060",null," 616-530-8619","bids@dejagerconstruction.com",null,null,"Linda De Kruyter","De Jager Construction Inc.","75 - 60th Street, SW",null,null,null,"Wyoming","MI","49548","Mr.","Slendebroek","Safety Manager","Contractor General","Kent"]
["De Young Builders LLC (Nyland)","Steve Nyland",null," 616-392-7225",null," 616-392-7226","M_DeYoung_Builders@SBCGlobal.net",null,null,null,"De Young Builders LLC","496 Lincoln Ave.",null,null,null,"Holland","MI","49423","Mr.","Nyland","Operations Manager","Contractor General","Ottawa"]
["DEA - Pittsburgh District Office","Andrew Petyak",null,"412-777-6966",null,null,"andrew.j.petyak@usdoj.gov",null,"NTXFED",null,"DEA - Pittsburgh District Office","Attn: Andrew J. Petyak","1781 McKees Rock Road",null,null,"McKees Rocks","PA","15136"]
["DEA - Pittsburgh District Office (Petyak)","Andrew Petyak",null," 412-777-6966",null," 412-777-1822",null,null,null,null,"DEA - Pittsburgh District Office","1781 McKees Rocks road",null,null,null,"McKees Rock","PA","15136","Mr.","Petyak",null,"Federal","Out of State"]
["Dean Boiler, Inc.","Ed Koert",null,"616-784-2696",null,"616-784-5654",null,null,"Michigan Sales Tax","A/P Handled by Fran Nelson","Dean Boiler, Inc.","Attn: Ed Koert","1824 - Three Mile Road, NW",null,null,"Grand Rapids","MI","49544"]
["Dean Boiler, Inc. (Koert)","Ed Koert",null," 616-784-2696",null," 616-784-5654","ekoert@deanboiler.com",null,null,"Deb is Secy.","Dean Boiler, Inc.","1824  Three Mile Road, NW",null,null,null,"Grand Rapids","MI","49544","Mr.","Koert",null,"Contractor General","Kent"]
["Dean Flego",null,null,"631-925-6231",null,null,"Dflego@aol.com",null,"Out of State",null,"Dean Flego","81 Rinaldo Road",null,null,null,"Northport","NY","11768"]
["DeAngelo Brothers Inc.",null,null,"217-423-0455",null,"217-423-0477",null,null,"Out of State","Joe Deckard - cell: 217-519-4929 - email: jdeckard@dbiservices.com\n\nA/P:  Sandy Lowe","DeAngelo Brothers Inc.","Attn:","2332 North 40th Street",null,null,"Decatur","IL","62526"]
["Debouter Vance P CPA PC (Debouter)","Vance Debouter",null," 440-774-6400",null,null,null,null,null,null,"Debouter Vance P CPA PC","181 West College St.",null,null,null,"Oberlin","OH","44074",null,"Debouter","CPA",null,"N/A"]
["DECC Co.",null,null,"616-245-0431",null,"616-245-8865",null,null,"Michigan Sales Tax","Lisa Miller - Direct:  616-588-2832\n\n6/10 credit ref came back good but pays at 45 consistently","DECC Co.","Attn:","1266 Wollen Ave. SW",null,null,"Grand Rapids","MI","49507"]
["DECC Co. (Kooy)","Kim Kooy",null," 616-588-2821",null," 616-245-8865","kkooy@decc.com",null,null,"Jamie gone to CA, Lisa Mueller still EHS Mgr? lmueller@decc.com","DECC Co.","1266 Wollen Avenue SW",null,null,null,"Grand Rapids","MI","49507","Ms.","Kooy",null,"Manufacturer","Kent"]
["Deiters & Helmers Electirc Inc. (Deiters)","Tim Deiters",null," 616-842-9222",null," 616-842-9670",null,null,null,null,"Deiters & Helmers Electirc Inc.","1619 Marion Avenue",null,null,null,"Grand Haven","MI","49417","Mr.","Deiters",null,null,"Muskegon"]
["Delete this customer",null,"Ray Barroner ext-236","814-965-5691",null,null,null,null,"Out of State",null,"Watco Mechanical Services","Attn:","Rt 22 & Berwind Drive",null,null,"Hollidaysburg","PA","16648"]
["Delhi Charter Township (Woodard)","Larry Woodard",null," 517-699-3874",null," 517-699-3864",null,null,null,null,"Delhi Charter Township","1492 Aurelius Road",null,null,null,"Holt","MI","48842","Mr.","Woodard","Superintendent & Safety Coordi","Municipal, Cty","Ingham"]
["Delisle Associates Ltd.","Beverly Delisle","Dan DiPasquale / Matt Wood / John Lollar","269-373-4500",null,"269-373-1044",null,null,"Use Tax Rental",null,"Delisle Associates Ltd.","Attn:","5050 South Sprinkle Road",null,null,"Portage","MI","49002"]
["DeLisle Associates Ltd. (Burch)","Jeffery Burch",null," 269-373-4500 161"," 269-373-1039 162"," 269-373-1044","jeffb@delisleassociatesltd.com",null,null,null,"DeLisle Associates Ltd.","5050 South Sprinkle Road",null,null,null,"Portage","MI","49002","Mr.","Burch","Director of Training","Contractor EH&S","Kalamazoo"]
["DeLisle Associates Ltd. (DiPasquale)","Dan DiPasquale",null," 269-373-4500",null," 269-373-1044",null,null,null,null,"DeLisle Associates Ltd.","5050 South Sprinkle Road",null,null,null,"Portage","MI","49002","Mr.","DiPasquale",null,"Contractor EH&S","Kalamazoo"]
["DeLisle Associates Ltd. (Millgard)","Greg Millgard",null," 269-373-4500 120"," 269-373-1039 120"," 269-373-1044",null,null,null,"Met Mark Delisle. Also, Thos Boecher, Dir. IH Svcs\nBrad Shook Lab Dir m 269.998.9764\nAlison Robinson asked re: cal gas disposal\nChris Carew","DeLisle Associates Ltd.","5050 South Sprinkle Road",null,null,null,"Portage","MI","49002","Mr.","Millgard","Field Operations Manager","Contractor EH&S","Kalamazoo"]
["Delphi Corp. (Warren, OH)","John Janis",null,"330-240-8545 cell","330-373-3445 desk",null,"john.janis@delphi.com",null,"Out of State",null,"Delphi Corp. (Warren, OH)","Attn: John Janis","Mail Station : 14C","1265 North River Rd",null,"Warren","OH","44483-3852"]
["Delray Mechanical","Paul Nagel",null,"313-843-5330",null,"313-843-6933","nagel@tir.com",null,"Michigan Sales Tax",null,"Delray Mechanical","Attn: Paul Nagel","667 South Post",null,null,"Detroit","MI","48209"]
["Delta Consultants","Jason Phillips",null,"800-477-7411","412-217-6794","248-699-0232","jphillips@deltaenv.com",null,"Michigan Sales Tax",null,"Delta Consultants","Attn:","39810 Grand River","Suite C-100",null,"Novi","MI","48375"]
["Delta Environmental Consultants (Phillips","Jason Phillips",null," 800-447-7411",null," 248-699-0232","jphillips@deltaenv.com",null,null,null,"Delta Environmental Consultants","39810 Grand River Avenue Suite C-100",null,null,null,"Novi","MI","48375","Mr.","Phillips","Staff Engineer","Contractor EH&S","Oakland"]
["Dematic Corp. (Sissell)","Stephfan Sissell",null," 616-913-6531",null," 616-913-5500","stephfan.sissell@rapistan.com",null,null,"Bonnie Jangda","Dematic Corp.","507 Plymouth Avenue NE",null,null,null,"Grand Rapids","MI","49505","Mr.","Sissell","Corporate Safety Specialist","Manufacturer","Kent"]
["Dematic Corp. (Van Slooten)","Tom Van Slooten",null," 616-913-6349",null," 616-913-6203","thomas.vanslooten@siemens.com",null,null,null,"Dematic Corp.","507 Plymouth Avenue NE",null,null,null,"Grand Rapids","MI","49505","Mr.","Van Slooten","Commodity Manager","Manufacturer","Kent"]
["Denso International America, Inc.","Karen Croly(Buyer)",null,"248-372-8200",null,"248-213-2487",null,null,"Michigan Sales Tax",null,"Denso International America, Inc.","Southfield Ship & Rec. Whse.","24777 Denso Drive",null,null,"Southfield","MI","48034"]
["Denso Manufacturing (Carter)","Robert Carter",null," 870-622-9535",null," 870-622-9563","robert_carter@denso-diam.com",null,null,null,"Denso Manufacturing","100 Denso Road",null,null,null,"Osceola","AR","72370","Mr.","Carter",null,"Automotive","Out of State"]
["Denso Manufacturing (Darga)","Kate Darga",null," 248-372-8392",null," 248-213-2381","kathryn_darga@denso-diam.com",null,null,null,"Denso Manufacturing","24777 Denso Drive MC4330","PO Box 5047",null,null,"Southfield","MI","48086","Ms.","Darga",null,"Automotive","Oakland"]
["Denso Manufacturing (Godin)","Gary Godin",null," 248-372-8239",null,null,"gary_godin@denso-diam.com",null,null,null,"Denso Manufacturing","24777 Denso Drive MC4330","PO Box 5047","MC: 4330",null,"Southfield","MI","48086","Mr.","Godin","Senior Environmental Engineer","Automotive","Oakland"]
["Denso Manufacturing (Jakubiak)","Paul Jakubiak",null," 269-565-8727",null," 269-966-2127","Paul_Jakubiak@denso-diam.com",null,null,null,"Denso Manufacturing","One Denso Road",null,null,null,"Battle Creek","MI","49015","Mr.","Jakubiak","Senior Specialist","Automotive","Calhoun"]
["Denso Manufacturing (Kilbride)","Melissa Kilbride",null," 248-372-8238",null," 248-213-2381","melissa_kilbride@denso-diam.com",null,null,null,"Denso Manufacturing","24777 Denso Drive MC4330","PO Box 5047",null,null,"Southfield","MI","48086","Ms.","Kilbride","Safety Engineer","Automotive","Oakland"]
["Denso Manufacturing (LeForge)","Scott LeForge",null," 269-565-8729",null," 269-966-2127","scott_leforge@denso-diam.com",null,null,"Paul Bishop, Jim Doroh 269.565.8488\nTom Zahrt Mgr. HUMR; Patrick Lamanuzzi Sr. Process Engr","Denso Manufacturing","One Denso Road",null,null,null,"Battle Creek","MI","49015","Mr.","LeForge",null,"Automotive","Calhoun"]
["Denso Manufacturing (Osceola - AR)","Terri Meadow (Purchasing)","Bob Carter","870-622-9535",null,"870-622-9563",null,null,"Out of State",null,"Denso Manufacturing (Osceola - AR)","Attn: Ms. Jimmie Lambert PO#3762","100 Denso Road",null,null,"Osceola","AR","72370"]
["Denso Manufacturing (Smith)","Jody Smith",null," 269-565-8562",null," 269-841-8562","jody_smith@denso-diam.com",null,null,null,"Denso Manufacturing","One Denso Road",null,null,null,"Battle Creek","MI","49015","Ms.","Smith","Advanced Environmental Enginee","Automotive","Calhoun"]
["Denso Manufacturing (Southfield)","Melissa Kilbride MC4330",null,"248-372-8238",null,null,null,null,"Michigan Sales Tax",null,"Denso Manufacturing (Southfield)","Attn:","MC:","24777 Denso Drive",null,"Southfield","MI","48086"]
["Denso Manufacturing (Walter)","Bob Walter",null,null,null,null,"bob_walter@denso-diam.com",null,null,null,"Denso Manufacturing","One Denso Road",null,null,null,"Battle Creek","MI","49015","Mr.","Walter","Facilities Manager","Automotive","Calhoun"]
["Denso Manufacturing (Webb)","Jeff Webb",null," 269-565-8731",null," 269-966-2127","jeff_webb@denso-diam.com",null,null,"Paul Bishop, Jim Doroh 269.565.8488\nTom Zahrt Mgr. HUMR; Patrick Lamanuzzi Sr. Process Engr","Denso Manufacturing","One Denso Road",null,null,null,"Battle Creek","MI","49015","Mr.","Webb",null,"Automotive","Calhoun"]
["Denso Manufacturing DMMI (Williams)","Tom Williams",null,null,null," 269-660-9795","tom_williams@denso-diam.com",null,null,null,"Denso Manufacturing DMMI","One Denso Road",null,null,null,"Battle Creek","MI","49015","Mr.","Williams","Quality Section Leader","Automotive","Calhoun"]
["Denso Manufacturing Michigan, Inc.","Scott","Ishil (accounting)","269-565-8729","269-565-1592","269-966-2127",null,null,"Michigan Sales Tax","Ishil in Accounting needs to get a copy of all invoices phone 269-565-1592 Fax 269-968-7205\n\n\n01/27/2010:  Jeff Webb traded-in his doseBadge kit for a future credit.  The credit will be one of the following:\n$600 for a new 5-pk dosimeters\n$500 for a new 3-pk dosimeters\nCredit taken on SO # 11118\n\nPaul Jakubiak\nDirect: 269-565-8727, Cell: 269-317-3549\n","Denso Manufacturing Michigan, Inc.","Attn: Jeff Webb PO#319804","One Denso Road",null,null,"Battle Creek","MI","49037"]
["Deshler FD","Doug Powell",null,"419-278-3771","419-278-2296 hm",null,null,null,"Out of State",null,"Deshler Fire Station","Doug Powell","126 East Main St.",null,null,"Deshler","OH","43516"]
["Detroit Diesel Reman North (Severns)","Ralph Severns",null," 616-541-1114",null," 616-541-1148","rsever01@ddrn.detroitdiesel.com",null,null,null,"Detroit Diesel Reman North","4232 Brockton Drive SE",null,null,null,"Kentwood","MI","49512","Mr.","Severns","Environmental and Facilities M","Automotive","Kent"]
["Detroit Diesel Reman-North","Ralph Severns",null,null,null,null,null,null,"Michigan Sales Tax",null,"Detroit Diesel Reman-North","Attn:","4232 Brockton Dr. SE",null,null,"Kentwood","MI","49512"]
["DeVries Construction (Lameyer)","John Lameyer",null," 616-454-1446",null,null,null,null,null,"per Chris Tinney of DeeVries Property.  Also, Mike Bob Ed","DeVries Construction","1345 Monroe NW",null,null,null,"Grand Rapids","MI","49505","Mr.","Lameyer",null,"Contractor General","Kent"]
["DeVries Property Ventures, LLC (Tinney)","Chris Tinney",null,null,null,null,null,null,null,"DeVries Construction Mike, Bob, Ed","DeVries Property Ventures, LLC","1345 Monroe NW",null,null,null,"Grand Rapids","MI","49503","Mr.","Tinney",null,"Contractor General","Kent"]
["DeWeerd & Van Dyke (Pyle)","Mark Pyle",null," 616-669-6740",null," 616-669-7329",null,null,null,null,"DeWeerd & Van Dyke","3790 Chicago Dr.",null,null,null,"Hudsonville","MI","49426","Mr.","Pyle","Safety",null,"Ottawa"]
["Deweerdt Poultry Farm","Steve DeWeerdt",null,"269-751-6941","616-836-4397 cell",null,null,null,"NONTXAG","Dan doesn't not want to delivery - ship if possible","DeWeerdt Poultry Farm","Attn: Steve DeWeerdt","4980 140th Ave",null,null,"Holland","MI","49423"]
["DeWind Dewatering","Lee DeHaan",null,"616-875-7580",null,"616-875-7334",null,null,"Michigan Sales Tax",null,"DeWind Dewatering","Attn:Lee DeHaan","13685 Rocky's Road",null,null,"Holland","MI","49424"]
["DeWind Dewatering (DeHaan)","Lee DeHaan",null," 616-786-9681",null," 616-875-7334",null,null,null,"Chris Tompkins mob 616.218.3298","DeWind Dewatering","13685 Rocky's Road",null,null,null,"Holland","MI","49424","Mr.","DeHaan","Storekeeper","Contractor, Excavator","Ottawa"]
["Dexter Axle (Parks)","Larry Parks",null," 260-636-2195",null," 260-636-3030","lparks@dexteraxle.com",null,null,null,"Dexter Axle","500 South 7th Street","PO Box 108",null,null,"Albion","IN","46701","Mr.","Parks","Industrial Safety Engineer","Automotive","Out of State"]
["Dexter Axle Company","Sue Harlan","Larry Parks","260-636-2195",null,"260-636-3030",null,null,"Michigan Sales Tax",null,"Dexter Axle Company","Attn: Larry Parks","500 South 7th Street",null,null,"Albion","IN","46701"]
["DHE Plumbing & Mechanical","Nathan Heyboer (owner)",null,"616-896-8414","cell 616-262-9694","616-896-8565",null,null,"Michigan Sales Tax","06/08/2010:  B3 authorized $1000 credit limit","DHE Plumbing & Mechanical","Attn: Eric Heyboer","5001 - 40th Ave.",null,null,"Hudsonville","MI","49426"]
["DHE Plumbing & Mechanical (Heyboer)","Nate Heyboer",null," 616-896-8414",null," 616-896-8565","nate@dheplumbing.com",null,null,null,"DHE Plumbing & Mechanical","2425 - 40th Ave.",null,null,null,"Hudsonville","MI","49426","Mr.","Heyboer",null,"Contractor General","Kent"]
["Diamond Concrete Sawing (Diekevers)","Mike Diekevers",null," 616-245-3100",null," 616-245-3223",null,null,null,"Also, Don Borgic, Mntc Mgr  mob 616.813.2209\nAaron Louisell, Genl Mgr  mob 616.862.7654","Diamond Concrete Sawing","855 Godfrey Ave. SW",null,null,null,"Grand Rapids","MI","49503","Mr.","Diekevers",null,"Contractor, Excavator","Kent"]
["Diamond Drilling","Don Borgic",null,"616-245-3100",null,"616-245-3223",null,null,"Michigan Sales Tax",null,"Diamond Concrete Sawing","Attn:James Koerner","855 Godfrey Ave. SW",null,null,"Grand Rapids","MI","49503"]
["Dienetics (Overholt)","Tony Overholt",null," 616-667-1600",null," 667-010-0",null,null,null,null,"Dienetics","2206 Pine Ridge Dr.",null,null,null,"Jenison","MI","49428","Mr.","Overholt","Safety",null,"Ottawa"]
["Dietel Welding",null,null,"231-287-8630",null,null,null,null,"Michigan Sales Tax",null,"Dietel Welding","Attn: Bruce Dietel","9432 E.  - 48th St",null,null,"Chase","MI","49623"]
["Dimension Four Painting, Inc. (Lawie)","Shelley Lawie",null," 231-798-2474",null," 231-798-1465",null,null,null,null,"Dimension Four Painting, Inc.","1090 Gateway Blvd.",null,null,null,"Muskegon","MI","49441","Mrs.","Lawie","Field Supervisor/Co-Owner","Painting","Muskegon"]
["Display Pack","Andrew Montgomery",null,"616-574-6169",null,"616-234-6169",null,null,"Michigan Sales Tax",null,"Display Pack","Attn:","1340 Monroe Ave. NW",null,null,"Grand Rapids","MI","49505"]
["Display Pack (Montgomery)","Andrew Montgomery",null," 616-574-6169",null," 616-234-6169","amontgomery@displaypack.com",null,null,null,"Display Pack","1340 Monroe Ave. NW",null,null,null,"Grand Rapids","MI","49505","Mr.","Montgomery","Safety Director","Manufacturer","Kent"]
["Diversified Machine (Twa)","Mary Twa",null," 231-894-9051",null," 231-894-4706",null,null,null,null,"Diversified Machine","5353 Wilcox",null,null,null,"Montague","MI","49437","Ms.","Twa",null,null,"Muskegon"]
["Diversified Mechanical Services, Inc.","Timothy P O'Hara","Jeff Howley","616-785-2735","204-3944 Jeff cell","616-785-2738",null,null,"Michigan Sales Tax","Tim O'Hara Cell:  269-838-4597\n\nMichelle O'Hara\nmichelle@diversifiedmechanical.com","Diversified Mechanical Services, Inc.","Attn: Timothy P. O'Hara","844 West River Center Drive",null,null,"Comstock Park","MI","49321","Mr.","O'Hara"]
["Diversified Mechanical Services, Inc. (O'","Timothy O'Hara",null," 616-785-2735",null," 616-785-2738","tim@diversifiedmechanical.com",null,null,"Michelle wife  Tom O'Hara mob 269.838.4595  tom@diversifiedmechanical.com\nsee Adam Gibson  517.486.6190 x133 Global Service.com Riga Ethanol Plant","Diversified Mechanical Services, Inc.","844 West River Center Drive",null,null,null,"Comstock Park","MI","49321","Mr.","O'Hara",null,"Contractor General","Kent"]
["Dixon Engineering","Eric Binkowski",null,"616.374.3221",null,"616.374.7116",null,null,"Michigan Sales Tax",null,"Dixon Engineering","Eric Binkowski","1104 Third Avenue",null,null,"Lake Odessa","MI","48849","Mr.","Binkowski"]
["Dixon Engineering, Inc. (Binkowski)","Eric Binkowski",null," 616-374-3221 309",null," 616-374-7116",null,null,null,null,"Dixon Engineering, Inc.","1104 Third Ave.",null,null,null,"Lake Odessa","MI","48849","Mr.","Binkowski",null,"Contractor General","Ionia"]
["Dixon Environmental, Inc.","Jim Dixon","Justin Martisius","616-742-5511",null,null,null,null,"Michigan Sales Tax","Christopher L. Tort","Dixon Environmental, Inc.","Attn:","1560 North Taylor Ave N",null,null,"Grand Rapids","MI","49505"]
["Dixon Environmental, Inc. (Dixon)","Jim Dixon",null," 616-742-5511",null," 616-742-5522","jdixon@dixonenv.com",null,null,null,"Dixon Environmental, Inc.","750 Ottawa Avenue NW",null,null,null,"Grand Rapids","MI","49503","Mr.","Dixon","President","Contractor EH&S","Kent"]
["DL Morse & Associates Inc.","Dan Morse",null,null,null,null,null,null,"Michigan Sales Tax",null,"DL Morse & Associates Inc.","Attn:Dan Morse","1745 Holton Rd.",null,null,"Muskegon","MI","49445"]
["DLZ Michigan Inc. (Stieber)","Elizabeth Stieber",null," 517-393-6800",null,null,"estieber@dlzcorp.com",null,null,null,"DLZ Michigan Inc.","1425 Keystone Ave.",null,null,null,"Lansing","MI","48911","Ms.","Stieber",null,"Contractor EH&S","Ingham"]
["DLZ Michigan, Inc.","Elizabeth Stieber",null,"517-393-6800",null,"517-272-7390",null,null,"Michigan Sales Tax",null,"MDNRE-RRD","Newberry Field Office","Attn:","5100 State Highway M-123",null,"Newberry","MI","49868"]
["Doran Lefaive","Doran Lefaive",null,"269-377-2284",null,"616-301-1403",null,null,"Michigan Sales Tax",null,"Doran Lefaive","5401 Heathrow Ave",null,null,null,"Kalamazoo","MI","49009"]
["Double L Enterprises (Lohman)","Kevin Lohman",null," 231-894-5988",null," 231-894-8826",null,null,null,"Hal Williams Safety","Double L Enterprises","5215 Industrial Park Drive",null,null,null,"Montague","MI","49437","Mr.","Lohman",null,null,"Muskegon"]
["Double O Incorporated (Otis)","Mike Otis",null," 616-878-3998",null,null,"mikeo@doubleoincorporated",null,null,null,"Double O Incorporated","2091 Sprinkle Road",null,null,null,"Kalamazoo","MI","49001","Mr.","Otis",null,"Contractor General","Kalamazoo"]
["Douglas DPW (Rodgers)","Max Rodgers",null," 269-857-2763",null,null,null,null,null,null,"Douglas DPW","486 Water St.",null,null,null,"Douglas","MI","49406","Mr.","Rodgers","Superintendent","Municipal, Cty","Allegan"]
["Douglas DPW, City of","Max Rodgers",null,"269-857-2763",null,null,"mrodgers@ci.douglas.mi.us",null,"Non-Tax Municipality/Utility","email invoices for Max Rodgers to mrodgers@ci.douglas.mi.us","Douglas DPW, City of","Attn:Max Rodgers","86 West Center",null,null,"Douglas","MI","49406"]
["Douglas Safety Systems","Cheryl Rahl","Bev Reed","989-687-7600",null,"989-687-7601",null,null,"Michigan Sales Tax",null,"Douglas Safety Systems","Attn:","2655 N. M-30","Suite #6",null,"Sanford","MI","48657"]
["Doumouras (Doumouras)","Jim Doumouras",null," 847-583-0967",null,null,"jamesihsuperman@aol.com",null,null,"ComEd, InsituForm, WR Grace, Coca-Cola, Nicor\nHome 847-583-0967","Doumouras","7612 West Monroe",null,null,null,"Niles","IL","60714","Mr.","Doumouras","Safety Manager","Contractor General","Out of State"]
["Dow Chemical","Amanda Mickler",null,"989-638-2226",null,"989-636-9975",null,null,"Michigan Sales Tax",null,"Dow Chemical","Attn: Amanda Mickler","1803 Building Door E",null,null,"Midland","MI","48674"]
["Dow Chemical Co./Occichem Corporation (Gl","Jim Glover",null," 231-845-4474",null,null,null,null,null,"Met with Jim. company is switching from DOW to Occichem   waiting to see how safety will be distributed whether it be blanket or by individual sites and occasions","Dow Chemical Co./Occichem Corporation","1600 S. Madison St.",null,null,null,"Ludington","MI","49431","Mr.","Glover","EH&S","Chemical Pharmaceutical","Mason"]
["Dow Chemical Company (Ryder)","Mike Ryder",null," 231-845-4390",null," 231-845-4592",null,null,null,null,"Dow Chemical Company","South Madison Street",null,null,null,"Ludington","MI","49431","Mr.","Ryder","EH&S","Chemical Pharmaceutical","Mason"]
["Dow Corning (Behmlander)","Doug Behmlander",null," 989-496-7049",null," 989-496-7084","doug.behmlander@dowcorning.com",null,null,null,"Dow Corning","5300 S. 11 Mile Road",null,null,null,"Auburn","MI","48611",null,"Behmlander","Safety & Loss Prevention Offic","Chemical Pharmaceutical","Bay"]
["Dow Corning (Hayward)","David Hayward",null," 989-496-7110",null," 989-496-7100","david.hayward@dowcorning.com",null,null,null,"Dow Corning","Aub1007","PO Box 994",null,null,"Midland","MI","48686-0994","Mr.","Hayward",null,"Chemical Pharmaceutical","Bay"]
["Dow Corning (Midland)","Ethan Good",null,"989-496-4514",null,"989-496-5956",null,null,"Michigan Sales Tax",null,"Dow Corning (Midland)","Attn: Ethan Good","3901 South Saginaw Rd","Bldg 5103",null,"Midland","MI","48686"]
["Dow Corning Corporation (Whelton)","Michael D. Whelton",null," 989-496-7007",null," 989-496-8609","m.whelton@dowcorning.com",null,null,"See Jeff Gray 989.496.1094 for Fall Protection; Mike Weaver 989.496.6342 for Instrumentation in IH Lab; Jeff Foisel 989.496.5870 Global Mgr Lab Facilities.\nJeff Fox also in Safety","Dow Corning Corporation","2200 West Salzburg Road","PO Box 994",null,null,"Midland","MI","48686","Mr.","Whelton","Michigan Area Safety","Chemical Pharmaceutical","Bay"]
["Down Syndrome Association fo West Mi",null,null,null,null,null,null,null,"Non-Tax"]
["Down Under Municipal Services",null,null,"269-344-0127  X-207",null,"269-344-1038",null,null,"Michigan Sales Tax","Angela Provost A/P\nJason Gumbis is Controller for all of Terra companies.\n\nKeith Schillo - 269-420-7379 cell","Down Under Municipal Services","Attn: Keith Schillo","5100 West Michigan Ave",null,null,"Kalamazoo","MI","49006"]
["Down Under Municipal Services (Draft)","Tim Draft",null," 269-344-0127",null," 269-344-1038","tdraft@downundermunicipal.com",null,null,null,"Down Under Municipal Services","5100 West Michigan Ave",null,null,null,"Kalamazoo","MI","49006","Mr.","Draft","Client Services Manager","Contractor General","Kalamazoo"]
["Down Under Municipal Services (Lang)","Ken Lang",null," 269-344-0127 207",null," 269-344-1038","ken@downundermunicipal.com",null,null,"Demo'd rebreather to: Ken Lang, Bill Taplin (Divn Mgr) and Brad Ritchie.\nA divn of Terra Envl.  Steve Taplin is an owner.  Dennis Taplin, Tim Draft\nGR office: 616.837.9368  fx 616.837.9450","Down Under Municipal Services","5100 West Michigan Ave",null,null,null,"Kalamazoo","MI","49006","Mr.","Lang",null,"Contractor General","Kalamazoo"]
["Downtown Alliance","Lonnie Theobold",null,"616-477-3788",null,null,null,null,"Michigan Sales Tax",null,"Downtown Alliance","Attn: Lonnie Theobold","77 Monroe Center St",null,null,"Grand Rapids","MI","49523"]
["Draeger Safety, Inc. (Hickman)","Joe Hickman",null," 800-922-5518 209"," 412-788-5909"," 888-794-3807","joe.hickman@draeger.com",null,null,"Now Gordon (Gordie) Roe x85989  Matt Cromer x85538","Draeger Safety, Inc.","101 Technology Drive",null,null,null,"Pittsburgh","PA","15275","Mr.","Hickman",null,"Supplier","Out of State"]
["Draeger Safety, Inc. (Warn)","Russell Warn",null," 800-858-1737",null," 888-794-3807","russell.warn@draeger.com",null,null,"Ralf Drews (draves) (Wes Kenneweg) <-- Graham Roberts, Controller\n  <-- John Gannon Sales & Mktg Mgr\n Acct # 150042934\nLarry Killian, VP Sales\n  Divn Sales Mgrs\n    Northeastern Timothy West m 412.996.5918\n    Southeastern Jerry Blanton m 803.443.8761\nCust. Serv. Mgr. Donna Weido (wee-doe) x85642 donna.weido@draeger.com\n East -   Dave Clemens, Darla Cassiadoro and Karen Cox\n West -  Brian Flavin, Shawn Yuscavage and Laverne Walker\n Central -  Tom Fleming and Lynn Waxler\n    Karen Cox x85639\n    Ed Ligus - Sr. Project Mgr. for Gas Detection\n    Russ Warn  RSM central east\n *  Mike Yanosky  Tech Support \n *  Carl Bateman Tech Support\n    Mike Marich Tech Support SCBA\n *  Rolfe Stange  x85515 Very Good\n    Tom Fleming\n    Dave Clemens\n    Shawn Yuscavage\n    Lynn Waxler\n    \n  Gunther Huber (fixed Equip contact in PA)\n  Matt Cromer (Demos)\n  Joe Hickman (Service)\n  Gordon Roe (Rentals) \n  Dave Tucker (A/R)\nDraeger Fixed 800.230.5029 Nancy Norman, Susan, Jim Harrod\n   MI Distn: Forberg Kirsten Myers 248.288.5330; Paul Hauser\n   IL Distn: Great Lakes Analytical Ted Strojny Sr.  219.933.5330\nCust. Svc.  Linda;\n11.10 dan.hirsh gone; John Cushman gone; Julie Malinowski  PM for SCBA Rick Wanek Single Gas, X-zone 412.298.9023 richard.wanek@draeger.com","Draeger Safety, Inc.",null,null,null,null,"Troy","MI","48084","Mr.","Warn","Regional Sales Manager","Supplier","Oakland"]
["Driesenga & Associates, Inc. (Holland)","Dan Marlor",null,"616-396-0255",null,"616-396-0100",null,null,"Michigan Sales Tax","Dan Marlor Cell:  616-218-1470","Driesenga & Associates, Inc. (Holland)","Attn:","455 E. 8th Street","Suite 100",null,"Holland","MI","49423"]
["DRS Technologies Inc.","Greg Beane",null,null,"859-393-0552",null,null,null,"Out of State",null,"DRS Technologies Inc.","Attn:","7375 Industrial Road",null,null,"Florence","KY","41042"]
["DRS Technologies Inc. (Beane)","Greg Beane",null," 859-393-0552",null,null,"gbeane@drs-ssi.com",null,null,null,"DRS Technologies Inc.","7375 Industrial Road",null,null,null,"Florence","KY","41042","Mr.","Beane",null,"Manufacturer","Out of State"]
["DSSI","Daren Cabble",null,"248-208-8358",null,null,null,null,"Out of State",null,"Attn: Dwight Shanks DS42-1068196","Modine MFG/Buena Vista","1221 Magnolia Ave.",null,null,"Buena Vista","VA","24416"]
["DTE Energy (Alpena)","Steve Kaminski",null,"989-354-2797",null,null,null,null,"Michigan Sales Tax",null,"DTE Energy (Alpena)","Attn: Steve Kaminski","1111 North US Hyw 23",null,null,"Alpena","MI","49707"]
["DTE Energy (Big Rapids)","Mike Newman",null,"231-592-3277","231-583-3278","231-796-7554",null,null,"Non-Tax",null,"DTE Energy (Big Rapids)","Attn:","609 Bjornson",null,null,"Big Rapids","MI","49307"]
["DTE Energy (Cadillac)","Matt Logan",null,"231-463-5860",null,null,null,null,"Michigan Sales Tax",null,"DTE Energy (Cadillac)","Attn: Matt Logan","1560 Marty Paul",null,null,"Cadillac","MI","49601"]
["DTE Energy (Grand Rapids)","Jim Schultz","Robert Flemings","632-2694","616-632-2673",null,null,null,"Non-Tax","Robert Flemings - cell:  616-550-8174\n\n\nToni Harris (female) pays Robert Flemings bills for all bills w/ po call and fax to her and she will facilitate payment\n\npf: \nfx: 616-632-2683","DTE Energy (Grand Rapids)","Attn:Robert Flemings","444 Wealthy Street",null,null,"Grand Rapids","MI","49503"]
["DTE Energy (Grayling)","Aaron Millikin",null,"989-348-2112","989-329-4284 cell",null,null,null,"Non-Tax Municipality/Utility",null,"DTE Energy (Grayling)","Attn: Jason Hatfield","2476 Industrial Dr.",null,null,"Grayling","MI","49738"]
["DTE Energy (Kalkaska)","Safety First",null,null,null,null,null,null,"Michigan Sales Tax",null,"DTE Energy (Kalkaska)","Attn: Barry Hatfield","1250 Michcon Ln",null,null,"Kalkaska","MI","49646"]
["DTE Energy (Ludington)","Stephen Lipps",null,"231-757-3731",null,"231-757-9706",null,null,"Michigan Sales Tax","Do not keep Steve's card on file. Call if needed.","DTE Energy (Ludington)","Attn: Stephen Lipps","2230 West US 10 Hwy",null,null,"Ludington","MI","49431"]
["DTE Energy (Mt. Pleasant)","Rick Krell",null,"989-330-7492",null,null,null,null,"Michigan Sales Tax",null,"DTE Energy (Mt. Pleasant)","Attn: Rick Krell","111 East Pickerd",null,null,"Mount Pleasant","MI","48858"]
["DTE Energy (Tawas)","Jere Sieloff",null,"989-362-3011",null,"989-362-7505","sieloffj@dteenergy.com",null,"Michigan Sales Tax",null,"DTE Energy (Tawas)","Attn: Jere Sieloff","1101 West M-55",null,null,"Twas City","MI","48763"]
["DTE Energy MichCon (Banks)","Karen Banks",null," 231-592-3277",null," 231-796-7554","banksk@dteenergy.com",null,null,null,"DTE Energy MichCon","609 Bjornson Road","Dock A",null,null,"Big Rapids","MI","49307","Ms.","Banks",null,"Utility","Mecosta"]
["DTE Energy MichCon (Flemings)","Robert Flemings",null," 616-632-2673"," 800-562-6194"," 616-632-2606","flemingsr@dteenergy.com",null,null,"Wants to buy SCOTT equip. John Rosendahl is Safety. Jack Buter is buyer. Sal Amato is key guy for instrumentation.","DTE Energy MichCon","444 Wealthy Street SW",null,null,null,"Grand Rapids","MI","49503","Mr.","Flemings","Manager","Utility","Kent"]
["DTE Energy MichCon (Newman)","Mike Newman",null," 231-592-3278",null," 231-796-7554","newmanm@dteenergy.com",null,null,null,"DTE Energy MichCon","609 Bjornson Road","Dock A",null,null,"Big Rapids","MI","49307","Mr.","Newman",null,"Utility","Mecosta"]
["DTE Energy MichCon (Simmons)","Robert Simmons",null," 616-632-2644",null," 616-632-2727","simmonsrm@dteenergy.com",null,null,null,"DTE Energy MichCon","444 Wealthy",null,null,null,"Grand Rapids","MI","49503","Mr.","Simmons","Environmental Engineer","Utility","Kent"]
["DTR Industries",null,null,"419-358-2121",null,"419-358-9331",null,null,"OH IND PROC","02/03/2011:  B3 requested Net30 terms\n\nBill Martin","DTR Industries","Attn: Bill Martin","320 Snider Road",null,null,"Bluffton","OH","45817"]
["DTR Industries, Inc (Jones)","Laura Jones",null," 419-358-2121",null,null,"ljones@dtroh.com",null,null,"Bill Martin 1 x246","DTR Industries, Inc","320 Snider Road",null,null,null,"Bluffton","OH","45817","Ms.","Jones","Safety Coordinator","Manufacturer","Out of State"]
["Du Pont (Bean)","Tammy Bean",null," 256-878-1981"," 800-931-3456"," 256-878-2652",null,null,null,null,"Du Pont","70 Grimes Dr.",null,null,null,"Guntersville","AL","35976",null,"Bean",null,"Supplier","N/A"]
["Dubric Equipment","Jon Couturier",null,"800-848-0022",null,null,"jcouturier@dubric.com",null,"Michigan Sales Tax",null,"Dubric Equipment","Attn:","3737 Laramie Dr.",null,null,"Comstock Park","MI","49321"]
["Duke Energy (Ashpabula, OH)","Andy Cranfill",null,"440-994-1550",null,"440-994-1717",null,null,"Out of State",null,"Duke Energy (Ashpabula, OH)","Attn: Andy Cranfill","2700 Middle Rd.",null,null,"Ashpabula","OH","44004"]
["Duke Energy Field Services","Robert Ratkus",null,"724-643-2151",null,null,null,null,"Michigan Sales Tax",null,"Duke Energy Field Services","Attn: Robert Ratkus","3851 Beaver/Midland Rd.",null,null,"Midland","PA","15059"]
["Duncan Aviation - Battle Creek (Jones)","Mack Jones",null," 269-969-8400",null," 269-969-8432","mack_jones@duncanaviation.com",null,null,null,"Duncan Aviation - Battle Creek","15745 South Airport Road",null,null,null,"Battle Creek","MI","49015","Mr.","Jones",null,null,"Calhoun"]
["Duncan Industrial Solutions","Jill Veen",null,"231-894-7019",null,"405-488-3910",null,null,"Michigan Sales Tax",null,"Duncan Industrial Solutions","Attn: Jill Veen","c/o Howmet Castings","3850 White Lake Dr.",null,"Whitehall","MI","49461"]
["Duperon Corporation","Beth Powers",null,"989-754-8800",null,"989-754-2175",null,null,"Michigan Sales Tax",null,"Duperon Corporation","Attn:","515 N. Washington, 1st Floor",null,null,"Saginaw","MI","48607"]
["Duperon Corporation (Powers)","Beth Powers",null," 989-548-800",null," 989-754-2175","bpowers@duperon.com",null,null,null,"Duperon Corporation","515 N. Washington, 1st Floor",null,null,null,"Saginaw","MI","48607","Ms.","Powers","Project Manager","Contractor General","Saginaw"]
["DuPont (Richmond)","Dan Pezzat",null,"804-383-3920",null,"804-383-3189",null,null,"Out of State",null,"DuPont Spot 345","Dan Pezzat","5200 DuPont Sit Rd.",null,null,"Richmond","VA","23234"]
["DuPont Personal Protection (Wilson)","Kevin Wilson",null," 843-335-5907",null," 843-335-8599",null,null,null,"Frank Cross, Tyler Stuart","DuPont Personal Protection",null,null,null,null,"Wayne","MI",null,"Mr.","Wilson","Inside Sales","Supplier","Wayne"]
["Dura Automotive Systems, Inc (Baker)","Jill Baker",null," 231-587-0269"," 231-587-9157"," 231-587-0279",null,null,null,null,"Dura Automotive Systems, Inc","310 Palmer Park Road",null,null,null,"Mancelona","MI","49659","Ms.","Baker","Purchasing Agent",null,"Antrim"]
["Dura Automotive Systems, Inc. (Kentwood)","Jim Kemp",null,"616-957-9544",null,null,null,null,"Michigan Sales Tax",null,"Dura Automotive Systems, Inc.","Attn:","2929 32nd Street SE, Unit D",null,null,"Kentwood","MI","49518"]
["Dura Automotive Systems, Inc. (Mancelona)","Jill Baker",null,"231-587-0279",null,"231-587-0279",null,null,"Michigan Sales Tax",null,"Dura Automotive Systems, Inc.","Jill Baker","310 Palmer Park Road",null,null,"Mancelona","MI","49659","Ms.","Baker"]
["Durkin Equipment Company",null,null,"314-432-2040",null,"314-432-8588",null,null,"Out of State","06/22/2011: BW Service Reseller \nPM - $75 (std. 4-gas)\nCal Only:  $40 (std. 4-gas)\nInstruments:  15% list\nParts:  10% off list\n\nJerry Fulghum - cell: 314-422-9504, email: jere@durkininc.com","Durkin Equipment Company","Attn:","2383 Chaffee Road",null,null,"St. Louis","MO","63146"]
["Dutton Fire Department (Jansen)","Russ Jansen",null," 616-541-0119"," 616-698-9550"," 616-541-0120","duttonfire@yahoo.com",null,null,null,"Dutton Fire Department","3471 68th Street",null,null,null,"Dutton","MI","49316",null,"Jansen","Fire Chief","Fire Department","Kent"]
["Dutton Fire Dept.","Chief Russ Jansen","son Steve","616-541-0119","616-299-6055 Russ","616-541-0120",null,null,"Non-Tax",null,"Dutton Fire Dept.","c/o Dutton Auto Body Shop","3385 68th Street",null,null,"Dutton","MI","49316","Mr.","Jansen"]
["DVK Construction, Inc.","Tony Roussey",null,"616-698-6810",null,"616-698-6923",null,null,"Michigan Sales Tax",null,"DVK Construction, Inc.","Attn:","5031 -- 68th Street SE",null,null,"Caledonia","MI","49316"]
["DVK Construction, Inc. (Unknown)","Unknown",null," 616-698-6810",null," 616-698-6923","ken@dvkinc.com",null,null,"Ken Pitchford gone. To Erhardt?  Tony Roussey gone to E&V","DVK Construction, Inc.","5031 -- 68th Street SE",null,null,null,"Caledonia","MI","49316",null,"Unknown",null,"Contractor General","Kent"]
["DVT Electric","Jim Warners",null,"616-538-0039",null,"616-538-1752",null,null,"Michigan Sales Tax",null,"DVT Electric","Attn:","5151 S. Division",null,null,"Wyoming","MI","49548"]
["DVT Electric (Warners)","Jim Warners",null," 616-538-0039",null,null,"jim@dvtelectric.com",null,null,null,"DVT Electric","5151 S. Division Avenue",null,null,null,"Wyoming","MI","49548","Mr.","Warners",null,"Contractor Electrical","Kent"]
["DW Hill Inc.","Matt Grifford",null,"810-765-5238",null,null,null,null,null,null,"DW Hill Inc.","Attn: Matt Grifford","6215 King Road",null,null,"Marine City","MI","48039"]
["Dykema Excavating","Gary Woodruff",null,"616-363-6895",null,"616-363-1150",null,null,"Michigan Sales Tax","no freight charge on drain guards included in price as per BBB 1/21/05","Dykema Excavating","Attn: Gary Woodruff","1730 Three Mile Road NW",null,null,"Grand Rapids","MI","49505"]
["Dykema Excavators, Inc.","Gary Woodruff",null,"616-363-6895",null,"616-363-1150",null,null,"Michigan Sales Tax",null,"Dykema Excavators, Inc.","Attn:Gary Woodruff","1730 Three Mile Road NW",null,null,"Grand Rapids","MI","49505"]
["Dykema Excavators, Inc. (Sikkema)","Dave Sikkema",null," 616-363-8989",null," 616-363-1150",null,null,null,null,"Dykema Excavators, Inc.","1730 Three Mile Road NW",null,null,null,"Grand Rapids","MI","49505","Mr.","Sikkema","Purchasing","Contractor, Excavator","Kent"]
["Dykema Excavators, Inc. (Woodruff)","Gary Woodruff",null," 616-363-6895",null," 616-363-1150","gwoodruff@dykemaexcavators.com",null,null,"Quote micro, hardhats, rainsuits. Dave Sikkema in Stores mob 822.7811\nMet w Gary and Bill Hoogerhyde mob 616.318.3436 re: drain guards for Lacks","Dykema Excavators, Inc.","1730 Three Mile Road NW",null,null,null,"Grand Rapids","MI","49505","Mr.","Woodruff","Safety Manager","Contractor, Excavator","Kent"]
["Dynamic Conveyor Corp. (Thomas)","Rick Thomas",null," 231-798-1483",null," 231-798-7739",null,null,null,null,"Dynamic Conveyor Corp.","5980 Grand Haven Rd.",null,null,null,"Muskegon","MI","49441","Mr.","Thomas","Purchasing Agent","Manufacturer","Muskegon"]
["Dynamic Sales & Marketing (Turner)","Bob Turner",null," 630-876-8850",null," 630-876-8851","dynamicsalesinc@aol.com",null,null,null,"Dynamic Sales & Marketing","PO Box 841",null,null,null,"West Chicago","IL","60186","Mr.","Turner",null,"Representative","Out of State"]
["E & R Industrial Sales","Pat  or Nancy",null,"586-795-2400",null,"586-620-5314",null,null,"NonTx Re-Sale",null,"E & R Industrial Sales","Attn: PO#","40800 Enterprise Drive",null,null,"Sterling Heights","MI","48314"]
["E. P. S. Engineered Protection Systems (N","Gerald Nelson",null," 800-966-9199"," 616-459-0281",null,"gnelson@epssecurity.com",null,null,null,"E. P. S. Engineered Protection Systems","750 Front Street NW",null,null,null,"Grand Rapids","MI","49504","Mr.","Nelson",null,"Contractor General","Kent"]
["E.K. Blessing Co. Inc","Keith Reitz",null,"574-293-0833",null,null,"kreitz@ekblessing.com",null,"Out of State",null,"E.K. Blessing Co. Inc.","Attn: Keith Reitz","1301 West Beardsley Ave.",null,null,"Elkhart","IN","46514"]
["E.R.M. - Holland (Adams)","Rob Adams",null," 616-738-7390"," 616-399-3500"," 616-399-3777","rob.adams@erm.com",null,null,"also 616.283.6758","E.R.M. - Holland","3352 128th Street",null,null,null,"Holland","MI","49424","Mr.","Adams",null,"Contractor EH&S","Ottawa"]
["E.R.M. - Holland (Beck)","Mike Beck",null," 616-738-7320"," 616-399-3500"," 616-399-3777","mike.beck@erm.com",null,null,"A/P 610.524.3500 Maryann, Rhonda Baker, Rita \nBrian Beach, Tom O'Connell","E.R.M. - Holland","3352 128th Street",null,null,null,"Holland","MI","49424","Mr.","Beck",null,"Contractor EH&S","Ottawa"]
["E.R.M. - Holland (O'Connell)","Thomas P. O'Connell, P.E.",null," 616-738-7340"," 616-399-3500"," 616-399-3777","tomas.o'connell@erm.com",null,null,null,"E.R.M. - Holland","3352 128th Street",null,null,null,"Holland","MI","49424","Mr.","O'Connell",null,"Contractor EH&S","Ottawa"]
["E.R.M. - Holland (Sterkenburg)","Paul Sterkenburg",null," 616-738-7351",null," 616-399-3777","paul.sterkenburg@erm.com",null,null,null,"E.R.M. - Holland","3352 128th Street",null,null,null,"Holland","MI","49424","Mr.","Sterkenburg","Project Manager","Contractor EH&S","Ottawa"]
["E.R.M. - Holland (Weber)","Chad Weber",null," 616-738-7341"," 616-399-3500"," 616-399-3777","chad.weber@erm.com",null,null,"also 616.283.6758","E.R.M. - Holland","3352 128th Street",null,null,null,"Holland","MI","49424","Mr.","Weber",null,"Contractor EH&S","Ottawa"]
["E.S.H., Inc.","Beth Fuselier",null,"866-836-3800","281-930-8880","281-930-8511",null,null,"NonTx Re-Sale",null,"E.S.H., Inc.","Attn:","2323 Center Street, Ste. B",null,null,"Deer Park","TX","77536"]
["Eagle Alloy (Velez)","Lisa Velez",null," 231-788-7012",null," 231-788-5753","lvelez@eaglealloy.com",null,null,null,"Eagle Alloy","5142 Evanston Ave.",null,null,null,"Muskegon","MI","49442","Ms.","Velez","HR","Manufacturer","Muskegon"]
["Eagle Aluminum Cast Products","Doug Schlattman",null,"231-726-4290","231-282-4024 cell","231-726-4295",null,null,"Michigan Sales Tax",null,"Eagle Aluminum Cast Products","Attn:Doug Schlattman","664 West Clay Ave.",null,null,"Muskegon","MI","49440"]
["Eagle Environmental (Sherman)","Art Sherman",null," 847-400-5351",null," 847-400-5381","ajseagle@tds.net",null,null,null,"Eagle Environmental","3653 Woodhead Drive",null,null,null,"Northbrook","IL","60062-1816","Mr.","Sherman",null,"Contractor EH&S","Out of State"]
["Eagle Fabrication & Repair","John Bradbury",null,"419-898-1369",null,"same",null,null,"Out of State",null,"Eagle Fabrication & Repair","Attn:","610 Locust Street",null,null,"Oak Harbor","OH","43449"]
["Eagle Mountain Environmental","Tara Schmidt",null,"724-473-8601",null,"724-473-8606",null,null,"Out of State",null,"Eagle Mountain Environmental","Attn: Tara Schmidt","321 Perry Highway",null,null,"Harmony","PA","16037"]
["Eagle Tec Inc. (Savara)","John Savara",null," 616-285-8888",null," 616-285-8862","jsavara@aol.com",null,null,null,"Eagle Tec Inc.","PO Box 6231",null,null,null,"Grand Rapids","MI","49516","Mr.","Savara",null,"Representative","Kent"]
["Earthtech (Grand Rapids/Nolan)","Kristopher Nolan",null,"616-940-4272","616-299-6800 cell","616-940-4396",null,null,"Michigan Sales Tax",null,"Earthtech (Grand Rapids/Nolan)","5555 Glenwood Hills Parkway SE",null,null,null,"Grand Rapids","MI","49588-0874"]
["Earthtech (Leslie)","Nick Hautamaki",null,"517-589-5700",null,"517-589-5318",null,null,"Michigan Sales Tax",null,"Earthtech (Leslie)","Attn:","640 Washburn",null,null,"Leslie","MI","49251"]
["Earthtech (Okmulgee)","Mike Moore","Chuck Carpenter","918-756-1408",null,null,null,null,"Out of State",null,"Earthtech (Okmulgee)","Attn:","1711 South Madison Ave.",null,null,"Okmulgee","OK","74447"]
["Earthtech (Portland)","Lonny Freed",null,"517-647-6926",null,"517-647-2937",null,null,"Michigan Sales Tax",null,"Earthtech (Portland)","Attn:","600 Morse Drive",null,null,"Portland","MI","48875"]
["Earthtech (SHVUA)","Dave Hemsworth",null,null,null,null,null,null,"Michigan Sales Tax",null,"Earthtech (SHVUA)","Attn: Dave Hemsworth","34001 West Jefferson",null,null,"Brownstown","MI","48173"]
["Earthtech (Warren)","Krista Sheldon","Dave Hemsworth",null,"586-264-2530",null,null,null,"Michigan Sales Tax",null,"Earthtech (Warren)","Attn:","32360 Warkop",null,null,"Warren","MI","48093"]
["East Coast Repair & Fabrication","Paul Grenier",null,"757-455-9600",null,"757-455-6717","plgrenier@yahoo.com",null,"Out of State",null,"East Coast Repair & Fabrication","Attn:","5803 Curlew Drive","Suite #D",null,"Norfolk","VA","23503"]
["East Grand Rapids DPW, City of","Bill Morey","Terry Terbeek","616-940-4870",null,"616-940-4872",null,null,"Non-Tax Municipality/Utility",null,"East Grand Rapids DPW, City of","Attn: Terry Terbeck","2310 Reeds Lake Blvd.",null,null,"East Grand Rapids","MI","49506","Mr.","Terbeck"]
["East Grand Rapids DPW, City of (Stehouwer","James Stehouwer",null," 616-940-4870",null," 616-940-4872","jstehouwer@eastgr.org",null,null,null,"East Grand Rapids DPW, City of","2310 Reeds Lake Blvd.",null,null,null,"East Grand Rapids","MI","49506","Mr.","Stehouwer","Streets & Utilities Foreman","Municipal, Cty","Kent"]
["East Grand Rapids DPW, City of (Terbeck)","Terry Terbeck",null," 616-940-4870",null," 616-940-4872",null,null,null,null,"East Grand Rapids DPW, City of","2310 Reeds Lake Blvd.",null,null,null,"East Grand Rapids","MI","49506","Mr.","Terbeck",null,"Municipal, Cty","Kent"]
["East Grand Rapids DPW, City of (VanVels)","Leah VanVels",null," 616-949-1750",null," 616-831-6144",null,null,null,"Wendy McDonald of Parks and Recreation handles  1st Aid Kits and AEDs","East Grand Rapids DPW, City of","750 Lakeside Drive",null,null,null,"East Grand Rapids","MI","49506","Ms.","VanVels","Grounds Maintenance Supervisor","Municipal, Cty","Kent"]
["East Grand Rapids Public Safety, City of","Charles Lark",null," 616-949-7010",null," 616-940-4829","clark@eastgr.org",null,null,null,"East Grand Rapids Public Safety, City of","770 Lakeside Drive SE",null,null,null,"East Grand Rapids","MI","49506-3029",null,"Lark","Support Services Commander","Municipal, Cty","Kent"]
["East Grand Rapids Public Safety, City of","Charles Lark",null," 616-949-7010",null," 616-940-4829","clark@eastgr.org",null,null,null,"East Grand Rapids Public Safety, City of","770 Lakeside Drive SE",null,null,null,"East Grand Rapids","MI","49506-3029",null,"Lark","Support Services Commander","Municipal, Cty","Kent"]
["East Grand Rapids Public Safety, City of","Charles Lark",null," 616-949-7010",null," 616-940-4829","clark@eastgr.org",null,null,null,"East Grand Rapids Public Safety, City of","770 Lakeside Drive SE",null,null,null,"East Grand Rapids","MI","49506-3029",null,"Lark","Support Services Commander","Municipal, Cty","Kent"]
["East Grand Rapids, Parks and Rec. City of","Pat Skunda",null,"949-1750",null,"831-6144",null,null,"Non-Tax Municipality/Utility",null,"East Grand Rapids, Parks and Rec, City of","Attn: Wendy McDonald","750 Lakeside Dr.",null,null,"East Grand Rapids","MI","49506"]
["East Jordan Iron Works","Mike Vander Moelen",null,"616-538-2040",null,"616-538-4990",null,null,"Non-Tax","Applied for Credit in July of 2010 Agile sent off references and could only get one reference back ( good ref avg. pay 14 days)","East Jordan Iron Works","Grand Rapids Area Yard","5075 Clyde Park, SW",null,null,"Wyoming","MI","49509"]
["East Jordan Iron Works (Doebel)","John Doebel",null," 231-536-4560",null," 231-536-4418","jdoebel@ejiw.com",null,null,null,"East Jordan Iron Works","301 Spring Street",null,null,null,"East Jordan","MI",null,"Mr.","Doebel",null,"Steel","Charlevoix"]
["East Muskegon Roofing and Sheet Metal","Ben Kanaar x2230","Tom Sorenson","231-744-2461",null,"231-744-9156","kmead@eastmuskegon.com.",null,"Non-Tax","Accounting Person (helps w/ Certified as well)\nLucrezia\n\nDoug Davis\n\ninv to K mead","East Muskegon Roofing and Sheet Metal","Attn:Tom","1665 Holton Road",null,null,"Muskegon","MI","49445"]
["East Muskegon Roofing and Sheet Metal (Ka","Ben Kanaar",null," 231-744-2461 2230",null," 231-744-9156","bkanaar@eastmuskegon.com",null,null,"Brian Hesse x2236  bhesse@eastmuskegon.com  mob 231.206.7145\nMatt Brink Foreman mbrink@eastmuskegon.com","East Muskegon Roofing and Sheet Metal","1665 Holton Road",null,null,null,"Muskegon","MI","49445","Mr.","Kanaar",null,"Contractor General","Muskegon"]
["East Tawas City Fire Department","Ron Klinger","Bill Deckett","989-362-3685",null,"206-339-7324",null,null,"Non-Tax Municipality/Utility",null,"East Tawas City Fire Department","c/o East Tawas City Hall","Attn: Ron Klinger","760 Newman St",null,"East Tawas","MI","48730"]
["Eaton Rapids Police Department (Eddy)","Kim Eddy",null," 517-663-8118 8136",null," 517-663-1932","keddy@ci.eaton-rapids.mi.us",null,null,null,"Eaton Rapids Police Department","101 Line Street",null,null,null,"Eaton Rapids","MI","48827","Ms.","Eddy",null,"Municipal, Cty","Eaton"]
["eBAY Sales",null,null,null,null,null,null,null,"Out of State"]
["EC Enterprise (Pinney)","Diane Pinney",null," 616-243-2257",null," 616-243-2347",null,null,null,null,"EC Enterprise","101 Garden Street",null,null,null,"Grand Rapids","MI","49507","Ms.","Pinney",null,"Manufacturer","Kent"]
["Ecosystems Strategies Inc. (Rider)","Colleen Rider",null," 845-452-1658",null," 845-485-7083","colleen@ecosystemsstrategies.com",null,null,null,"Ecosystems Strategies Inc.","24 Davis Avenue",null,null,null,"Poughkeepsie","NY","12603","Ms.","Rider",null,null,"Out of State"]
["ECS&R","Gus Hegner",null,"814-425-7773",null,"814-425-3201","gushegner@ecsr.net",null,"Out of State",null,"ECS&R","Attn:","3237 Highway 19",null,null,"Cochranton","PA","16314"]
["ECS&R (Hegner)","Gus Hegner",null," 814-425-7773",null," 814-425-3201","g_hegner@yahoo.com",null,null,null,"ECS&R","3237 Highway 19",null,null,null,"Cochranton","PA","16314","Mr.","Hegner","Regulatory Specialist",null,"Out of State"]
["Edw. C. Levy Co. (Wagaman)","Terry Wagaman",null," 313-429-2327"," 313-843-7200"," 313-849-9480",null,null,null,null,"Edw. C. Levy Co.","8800 Dix Avenue",null,null,null,"Detroit","MI","48209","Mr.","Wagaman","EH&S Manager","Contractor General","Wayne"]
["Edy's Grand Ice Cream (McElroy)","Joe McElroy",null," 260-483-3102",null,null,"joe.mcelroy@us.nestle.com",null,null,null,"Edy's Grand Ice Cream","3426 N. Wells Street",null,null,null,"Fort Wayne","IN","46808","Mr.","McElroy",null,"Food","Allen"]
["Egelston Dept of Parks","Herb Schaeffer",null,null,null,null,null,null,"Non-Tax Municipality/Utility",null,"Egelston Dept of Parks","Attn: Herb Schaeffer","5380 East Apple Ave.",null,null,"Muskegon","MI","49442"]
["Egelston DPW","Larry Rushack",null,"231-788-3729",null,null,null,null,"Non-Tax Municipality/Utility",null,"Egelston DPW Sewer Dept.","Attn:Herb Schaeffer","5380 E. Apple Ave.",null,null,"Muskegon","MI","49442"]
["Egelston DPW (Schaeffer)","Herb Schaeffer",null," 231-788-3729",null,null,"hshafer@egelstontwp.org",null,null,null,"Egelston DPW","5380 E. Apple Ave.",null,null,null,"Muskegon","MI","49442","Mr.","Schaeffer","Maintenance Lead","Municipal, Cty","Muskegon"]
["EHS Compliance Resource","Jim Clark",null,"989-345-7233","989-965-0296","989-345-7233",null,null,"Michigan Sales Tax",null,"EHS Compliance Resource","Attn: Jim Clark","5970 West M-76",null,null,"West Branch","MI","48661"]
["EI (Cook)","J. Lindsay Cook",null," 919-657-7500 246",null," 919-657-7551","cook@ei1.com",null,null,"Met at Casella booth AIHce '08","EI","2101 Gateway Centre Boulevard, Suite 200",null,null,null,"Morrisville","NC","27560","Mr.","Cook",null,"Contractor EH&S","Out of State"]
["Eikenhout (Meekhof)","Mark Meekhof",null," 616-459-4523",null," 616-459-4051",null,null,null,"Windows, roofing, siding","Eikenhout","346 Wealthy SW",null,null,null,"Grand Rapids","MI","49501-2806","Mr.","Meekhof",null,"Contractor General","Kent"]
["Elan Nutrition (Diehl)","Mike Diehl",null," 616-464-3041",null," 616-940-9971","mdiehl@elannutrition.com",null,null,null,"Elan Nutrition","4490  44th Street SE",null,null,null,"Grand Rapids","MI","49512","Mr.","Diehl","R&D, Associate Process Enginee","Food","Kent"]
["Elberta, Village of ()",null,null," 231-352-4071",null," 231-352-4033","fredum@villageofelberta.org",null,null,"Gum gone to Frankfort","Elberta, Village of","PO Box 8",null,null,null,"Elberta","MI","49628",null,null,"Village Superintendent","Municipal, Cty","Benzie"]
["Electronic Safety of Houston, Inc. (Carme","Carmen",null," 281-930-8880",null," 281-930-8511","carmen@gas-monitors.com",null,null,null,"Electronic Safety of Houston, Inc.","2323 Center Street","Suite B",null,null,"Deer Park","TX","77536",null,"Carmen",null,"Supplier","Out State"]
["Electronic Safety of Houston, Inc. (Jense","David Jensen",null," 866-836-3800",null," 281-930-8511","david@gas-monitors.com",null,null,null,"Electronic Safety of Houston, Inc.","2323 Center Street","Suite B",null,null,"Deer Park","TX","77536","Mr.","Jensen","President","Supplier","Out State"]
["ELIZABETH BURNETTE (CUSTOMER)",null,null,null,null,null,null,null,"Out of State"]
["Elmridge Construction (White)","Jim White",null," 616-453-6379",null," 616-453-3250",null,null,null,null,"Elmridge Construction","2727 Elmridge Drive N.W.",null,null,null,"Grand Rapids","MI","49544",null,"White",null,"Contractor General","Kent"]
["Elvex Corporation (Westerdal)","Roland Westerdal",null," 203-743-2488",null," 203-791-2278","roland@elvex.com",null,null,"Chris (Ms.) in Cust svc is helpful. So is Amy Thomas.\nRoland Westerdal is President  Bob Marczak mob 203.331.6756","Elvex Corporation","13 Trowbridge Drive","PO Box 850",null,null,"Bethel","CT","06801-0850","Mr.","Westerdal","President","Supplier","Out of State"]
["Elzinga & Volkers","Bob Gleck",null,"616-392-2383 General",null,null,null,null,"Michigan Sales Tax","Tom Dejonge - ext. 157","Elzinga & Volkers","Attn:Todd Grzegorski","86 East Sixth Street",null,null,"Holland","MI","49423-2996"]
["Elzinga and Volkers, Inc. (Brown)","Dan Brown",null," 616-392-2383",null,null,null,null,null,null,"Elzinga and Volkers, Inc.","86 E. 6th St.",null,null,null,"Holland","MI","49423","Mr.","Brown","Site Manager","Contractor/Builder","Ottawa"]
["Elzinga and Volkers, Inc. (DeCloux)","Guy DeCloux",null," 616-392-2383",null,null,null,null,null,null,"Elzinga and Volkers, Inc.","86 E. 6th St.",null,null,null,"Holland","MI","49423","Mr.","DeCloux","Safety","Contractor General","Ottawa"]
["Elzinger & Volkers (Bobeldyk)","Mark Bobeldyk",null," 616-392-2383",null," 616-392-3752",null,null,null,"not availible,  left card","Elzinger & Volkers","86 East Sixth Street",null,null,null,"Holland","MI","49423-2996","Mr.","Bobeldyk","Area Superintendent, Safety","Contractor General","Ottawa"]
["Elzinger & Volkers (DeJonge)","Tom DeJonge",null," 616-392-2383",null," 616-392-3752","tdejonge@elzinga-volkers.com",null,null,null,"Elzinger & Volkers","86 East Sixth Street",null,null,null,"Holland","MI","49423-2996","Mr.","DeJonge","Warehouse Manager","Contractor","Ottawa"]
["Emerald Spa Corporation (Busscher)","Steve Busscher",null," 616-698-2601 113",null," 616-698-0861","sbusscher@emeraldspa.com",null,null,null,"Emerald Spa Corporation","4150 East Paris Ave.",null,null,null,"Kentwood","MI","49512","Mr.","Busscher","Plant Manager","Manufacturer","Kent"]
["Emergency Response & Training Solutions","Clay Richter",null,"440-543-2400 x304",null,"440-543-2444",null,null,"Michigan Sales Tax",null,"Emergency Response & Training Solutions","Attn:","84101 Chagrin Rd.","Suite 15B",null,"Chagrin","OH","44023"]
["Emergency Response & Training Solutions (","Jerry Miller",null," 440-543-2400",null," 440-543-2444","jerrtmiller@comcast.net",null,null,null,"Emergency Response & Training Solutions","8401 Chagrin Road","Suite 15B",null,null,"Chagrin Falls","OH","44023","Mr.","Miller",null,"Contractor EH&S","Out of State"]
["Emergency Vehicle (Burns)","Tammy Burns",null," 616-225-9200",null,null,"tammy@evsinc.org",null,null,null,"Emergency Vehicle","1650 Callaghan Drive",null,null,null,"Grandville","MI","48838","Ms.","Burns",null,"Fire Department","Kent"]
["Emergency Vehicle Services","Tammy Burns",null,"616-225-9200",null,null,null,null,"NonTx Re-Sale",null,"Emergency Vehicle Services","Tammy Burns","1650 Callaghan Dr.",null,null,"Greenville","MI","48838"]
["Emergent Biosolutions (Hawkins-Badge)","Anne Hawkins-Badge",null," 517-327-6807",null,"517 327 1501","hawkinsbadgea@ebsi.com",null,null,"Randy Senger, Envl Specialist  sengerr@ebsi.com","Emergent Biosolutions","3500 N. Martin Luther King Jr. Blvd.",null,null,null,"Lansing","MI","48906","Ms.","Hawkins-Badge","Senior EHS Manager","Chemical Pharmaceutical","Ingham"]
["Emergent Biosolutions (Thompson)","Angela Thompson",null," 517-327-1640",null,"517 327 1501","thompsona@ebsi.com",null,null,null,"Emergent Biosolutions","3500 N. Martin Luther King Jr. Blvd.",null,null,null,"Lansing","MI","48906","Ms.","Thompson","Senior Buyer","Chemical Pharmaceutical","Ingham"]
["Empire Company Inc. (Coates)","Paul Coates",null," 616-772-7272",null,null,null,null,null,null,"Empire Company Inc.","8181 Logistic Dr.",null,null,null,"Zeeland","MI","49464","Mr.","Coates","Safety",null,"Ottawa"]
["Empire Refactory Services",null,null,"616-261-1546",null,"616-261-1593",null,null,"Michigan Sales Tax","Tim Krouse / Gaylon Hoffman","Empire Refactory Services","Attn:","2000 Byron Center Court",null,null,"Wyoming","MI","49519"]
["Employers Association of West Michigan (S","Cheryl Swineheart",null," 231-759-0916",null," 231-759-2100","cswineheart@eawm.net",null,null,"Lisa Sabourin re: Round Table Talk?","Employers Association of West Michigan","2155 West Sherman Boulevard",null,null,null,"Muskegon","MI","49441","Ms.","Swineheart","President / CEO","Other","Muskegon"]
["Employment Traditions",null,"Matt Labron","616-891-7808",null,"616-891-7811","mlabron@employmenttraditions.com",null,"Michigan Sales Tax","Matt Labron's Personal Credit Card\nVisa:  4432-2071-8027-3998  Exp:  09/10\n3490 Radar Rd.\nSault Ste. Marie, MI 49783","Employment Traditions","Attn:","8990 N. Rogers Dr.","Suite 3A",null,"Caledonia","MI","49316"]
["Employment Traditions (Hill)","Steve Vander Hill",null," 616-891-6287",null," 616-974-9683","svanderhill@employmenttraditions.com",null,null,null,"Employment Traditions","8980 North Rodgers Drive,  Suite A",null,null,null,"Caledonia","MI","49316","Mr.","Hill",null,"Insurance","Kent"]
["Enbridge Energy","Dennis Esterline",null,"517-260-0735",null,"734-856-1238",null,null,"Michigan Sales Tax",null,"Enbridge Energy","Attn:Tom Peterson","3751 Mackinaw Road",null,null,"Bay City","MI","48706"]
["Enercon (Balloun)","Dan Balloun",null," 269-764-2484",null,null,"dball92@entergy.com",null,null,"Mark Stoddard","Enercon","Palisades Nuclear Plant","27780 Blue Star Memorial Hwy",null,null,"Covert","MI",null,"Mr.","Balloun",null,"Utility","Van Buren"]
["Enerpipe Ltd. (Munith)",null,"Dennis Potter",null,"517-596-2629","517-596-3172",null,null,"Michigan Sales Tax",null,"Enerpipe Ltd. (Munith)","Attn:","8350 Huttenlocker",null,null,"Munith","MI","49259"]
["Engine Power Components",null,null,"616-846-0110",null,"616-847-0500",null,null,"Michigan Sales Tax","Kathy Antuma","Engine Power Components","Attn:","1333 Fulton Street",null,null,"Grand Haven","MI","49417"]
["Engine Power Components (Deans)","Jude Deans",null," 616-846-0110",null," 616-847-0500",null,null,null,"cold called, also see Jon Bunda","Engine Power Components","1333 Fulton","P.O. Box 837",null,null,"Grand Haven","MI","49417","Ms.","Deans",null,"Automotive","Muskegon"]
["Engineering Design Solutions, PLC (Ahmed)","Irfan Ahmed",null," 269-352-1765",null," 269-353-5157","iahmed@enggdesigns.com",null,null,null,"Engineering Design Solutions, PLC","6433 Belgian Avenue, Ste 100",null,null,null,"Kalamazoo","MI","49009",null,"Ahmed","President","Engineering, Architecture","Kalamazoo"]
["Entergy (Killona)","Jeff Seeber",null,null,null,null,null,null,null,null,"Entergy (Killona)","Attn: Jeff Seeber","17265 River Rd.",null,null,"Killona","LA","70057"]
["Entergy (Riverbend Station)","Jacque R. Courville",null,null,null,null,null,null,"Out of State",null,"Entergy (Riverbend Station)","Attn: Jacque R. Courville","5485 US Hwy 61",null,null,"St. Francisville","LA","70775"]
["Entergy Indian Point","Thomas Mitchell",null,"914-734-5764",null,null,"tmitche@entergy.com",null,"Michigan Sales Tax","\n\nemail invoices to tmitche@entergy.com","Entergy Indian Point","Attn: Thomas Mitchell po#TRMXLC","450 Broadway",null,null,"Buchanan","NY","10511"]
["Entergy Indian Point (Mitchell)","Thomas Mitchell",null," 914-734-5764",null,null,"tmitche@entergy.com",null,null,null,"Entergy Indian Point","Broadway and Bleakley Avenue",null,null,null,"Buchanan","NY","10511","Mr.","Mitchell",null,"Utility","Out of State"]
["Entergy Killona (Seeber)","Jeff Seeber",null,null,null," 504-464-3258","jseeber@entergy.com",null,null,null,"Entergy Killona","17265 River Road",null,null,null,"Killona","LA","70057","Mr.","Seeber",null,"Utility","Out of State"]
["Entergy Palisades","Paul Johnson",null,"269-764-2610",null,"269-764-2251",null,null,"NTDRPAY","Paul Johnson's Home Address:\n14723 - 73rd Street\nSouth Haven, MI 49090\n\n* Mark \"Leave Without Signature\" for Home Shipments\nReset date for Pauls card is the 29th of the month\n\n~~~~~~~~~~~~~~~~~~~~~~~~~~~~~~~~~~\nas of 11/25/08 NMC would like to be taxable for MI\n\nJason Gosler's CC 5567 0900 0136 6124  exp 11/11 \nblue star add. \nfax rct to Jason 269-764-2071\n\nMike Pyne MC 5567-0900-0178-9218 Exp: 09/13\n\nDave Rawlins 5567-0900-0136-0259 Exp: 03/12","Palisades Nuclear Plant","Attn: Paul Johnson","27780 Blue Star Memorial Hwy",null,null,"Covert","MI","49043"]
["Entergy Palisades (Beilfuss)","Vern Beilfuss",null," 269-764-2673",null,null,"vbeilfu@entergy.com",null,null,"Cooling Tower Proj., also Jim Alderink 269.764.2685\nBen Rogers mob 207.649.3324 reports to Dan Tessin of URI /  Atl Union\n    2009 outage: ph 269.764.3278  fx 269.764\nJody Haumersen 269.764.3076 Turbine Mgr. for 09.2007 Outage","Entergy Palisades","Palisades Nuclear Plant","27780 Blue Star Memorial Hwy",null,null,"Covert","MI","49043","Mr.","Beilfuss",null,"Utility","Van Buren"]
["Entergy Palisades (Couturier)","Debra Couturier",null," 269-764-2360",null," 269-764-2085",null,null,null,null,"Entergy Palisades","Palisades Nuclear Plant","27780 Blue Star Memorial Hwy",null,null,"Covert","MI","49043","Ms.","Couturier","Buyer","Utility","Van Buren"]
["Entergy Palisades (Cowan)","David Cowan",null," 269-764-2412",null,null,"dcowan@entergy.com",null,null,null,"Entergy Palisades","Palisades Nuclear Plant","27780 Blue Star Memorial Hwy",null,null,"Covert","MI","49043","Mr.","Cowan",null,"Utility","Van Buren"]
["Entergy Palisades (Crocker)","Timothy Crocker",null," 269-764-2856",null,null,"tcrocke@entergy.com",null,null,"Cooling tower sump guardrail project.","Entergy Palisades","Palisades Nuclear Plant","27780 Blue Star Memorial Hwy",null,null,"Covert","MI","49043","Mr.","Crocker",null,"Utility","Van Buren"]
["Entergy Palisades (Daggett)","Greg Daggett",null," 269-764-2488"," 350-3"," 269-764-2078",null,null,null,null,"Entergy Palisades","Palisades Nuclear Plant","27780 Blue Star Memorial Hwy",null,null,"Covert","MI","49043","Mr.","Daggett",null,"Utility","Van Buren"]
["Entergy Palisades (Dalrymple)","James Dalrymple",null," 269-764-2176",null,null,"jdalrym@entergy.com",null,null,null,"Entergy Palisades","Palisades Nuclear Plant","27780 Blue Star Memorial Hwy",null,null,"Covert","MI","49043","Mr.","Dalrymple","Maintenance M&TE","Utility","Van Buren"]
["Entergy Palisades (Fordham)","Anthony Fordham",null," 269-764-2858",null,null,"afordha@entergy.com",null,null,"Cooling tower sump guardrail project.","Entergy Palisades","Palisades Nuclear Plant","27780 Blue Star Memorial Hwy",null,null,"Covert","MI","49043","Mr.","Fordham",null,"Utility","Van Buren"]
["Entergy Palisades (Gosler)","Jason Gosler",null," 269-764-2161",null," 269-764-2071","jgosler@entergy.com",null,null,"Met. Entered Agile into his computer. Met Joel Mergen (x3110 Supply Chain Mgr) briefly.","Entergy Palisades","Palisades Nuclear Plant","27780 Blue Star Memorial Hwy",null,null,"Covert","MI","49043","Mr.","Gosler",null,"Utility","Van Buren"]
["Entergy Palisades (Grimes)","Tim Grimes",null," 269-764-2000 2466",null," 269-764-2251","tgrimes@entergy.com",null,null,"Bottle grip and pulley system for Q cylinders","Entergy Palisades","Palisades Nuclear Plant","27780 Blue Star Memorial Hwy",null,null,"Covert","MI","49043","Mr.","Grimes",null,"Utility","Van Buren"]
["Entergy Palisades (Hager)","Joe Hager",null," 269-764-2536"," 306-2"," 269-764-2724",null,null,null,"Quote Apex Pros, DriCal, Micros, Breather Box Service, Demo Heat Stress Monitors.","Entergy Palisades","Palisades Nuclear Plant","27780 Blue Star Memorial Hwy",null,null,"Covert","MI","49043","Mr.","Hager","Industrial Hygienist","Utility","Van Buren"]
["Entergy Palisades (Hartmann)","Jean Hartmann",null," 269-764-2922",null,null,"jhartm5@entergy.com",null,null,null,"Entergy Palisades","Palisades Nuclear Plant","27780 Blue Star Memorial Hwy",null,null,"Covert","MI","49043","Ms.","Hartmann",null,"Utility","Van Buren"]
["Entergy Palisades (Helms)","Jennifer Helms",null," 269-764-2000",null,null,"JHELMS1@entergy.com",null,null,null,"Entergy Palisades","Palisades Nuclear Plant","27780 Blue Star Memorial Hwy",null,null,"Covert","MI","49043","Ms.","Helms","Warehouse Manager","Utility","Van Buren"]
["Entergy Palisades (Huss)","Ed Huss",null," 269-764-2912",null," 269-764-2085","ed.huss@entergy.com",null,null,"Met. Entered Agile into his computer. Met Joel Mergen (x3110 Supply Chain Mgr) briefly.","Entergy Palisades","Palisades Nuclear Plant","27780 Blue Star Memorial Hwy",null,null,"Covert","MI","49043","Mr.","Huss","Purchasing and Inventory Manag","Utility","Van Buren"]
["Entergy Palisades (Johnson)","Paul L. Johnson",null," 269-764-2610"," 357-5"," 269-764-2251","pjohns4@entergy.com",null,null,"Quote ladder rung covers","Entergy Palisades","Palisades Nuclear Plant","27780 Blue Star Memorial Hwy",null,null,"Covert","MI","49043","Mr.","Johnson","Manager, Safety & Health","Utility","Van Buren"]
["Entergy Palisades (Kasishke)","John Kasishke",null," 269-764-2360",null," 269-764-2360","jkasish@entergy.com",null,null,null,"Entergy Palisades","Palisades Nuclear Plant","27780 Blue Star Memorial Hwy",null,null,"Covert","MI","49043","Mr.","Kasishke","Procurement Specialist","Utility","Van Buren"]
["Entergy Palisades (Lasota)","Brian Lasota",null," 269-764-2888",null,null,"blasota@entergy.com",null,null,"Buyer for Michael Sicard, Ops Mgr","Entergy Palisades","Palisades Nuclear Plant","27780 Blue Star Memorial Hwy",null,null,"Covert","MI","49043","Mr.","Lasota","Manager","Utility","Van Buren"]
["Entergy Palisades (Lyon)","Alan Lyon",null," 269-764-2921",null,null,"alyon@entergy.com",null,null,"Techs:\n  Adam Niemer 269.764.2598  aniemer@entergy.com\n  Jim Clark 269.764.2547  cell: 269-876-2840  jclar16@entergy.com","Entergy Palisades","Palisades Nuclear Plant","27780 Blue Star Memorial Hwy",null,null,"Covert","MI","49043","Mr.","Lyon",null,"Utility","Van Buren"]
["Entergy Palisades (Nicholson)","Tim Nicholson",null," 269-764-2000 2341"," 269-764-2341"," 269-764-2050","tnicho1@entergy.com",null,null,null,"Entergy Palisades","Palisades Nuclear Plant","27780 Blue Star Memorial Hwy",null,null,"Covert","MI","49043","Mr.","Nicholson","Buyer/Stores","Utility","Van Buren"]
["Entergy Palisades (Plachta)","Chris Plachta",null," 269-764-2199",null," 269-764-2078","cplacht@entergy.com",null,null,null,"Entergy Palisades","Palisades Nuclear Plant","27780 Blue Star Memorial Hwy",null,null,"Covert","MI","49043","Mr.","Plachta","QA Specialist IV","Utility","Van Buren"]
["Entergy Palisades (Pyne)","Michael Pyne",null," 269-764-2115",null,null,"mpyne@entergy.com",null,null,null,"Entergy Palisades","Palisades Nuclear Plant","27780 Blue Star Memorial Hwy",null,null,"Covert","MI","49043","Mr.","Pyne",null,"Utility","Van Buren"]
["Entergy Palisades (Rawlins)","David Rawlins",null," 269-764-2412"," 269-757-7808",null,"drawlin@entergy.com",null,null,"Bottle grip and pulley system for Q cylinders","Entergy Palisades","Palisades Nuclear Plant","27780 Blue Star Memorial Hwy",null,null,"Covert","MI","49043","Mr.","Rawlins",null,"Utility","Van Buren"]
["Entergy Palisades (Ridley)","Karyn J. Ridley",null," 269-764-2290",null," 269-764-2251","kridley@entergy.com",null,null,null,"Entergy Palisades","Palisades Nuclear Plant","27780 Blue Star Memorial Hwy",null,null,"Covert","MI","49043","Ms.","Ridley","Plant Safety Coordinator / Hea","Utility","Van Buren"]
["Entergy Palisades (Watkins)","Doug Watkins",null," 269-764-3267",null," 269-764-2251","dwatki1@entergy.com",null,null,null,"Entergy Palisades","Palisades Nuclear Plant","27780 Blue Star Memorial Hwy",null,null,"Covert","MI","49043","Mr.","Watkins",null,"Utility","Van Buren"]
["Entergy River Bend Station (Courville)","Jacque Courville",null,null,null,null,"jcourv1@entergy.com",null,null,null,"Entergy River Bend Station","5485 US Hwy 61",null,null,null,"St. Francisville","LA","70775","Mr.","Courville",null,"Utility","Out of State"]
["Entergy Vermont Yankee (Mulverhill)","Chad Mulverhill",null," 802-258-5664",null,null,"cmulver@entergy.com",null,null,null,"Entergy Vermont Yankee","546 Governor Hunt Rd",null,null,null,"Vernon","VT","5354","Mr.","Mulverhill",null,"Utility","Out of State"]
["Enviro-Flow Company",null,"Mike Gonder","740-819-0176",null,"740-453-8622",null,null,"Out of State",null,"Enviro-Flow Company","Attn:","4830 N. Pointe Drive",null,null,"Zanesville","OH","43701"]
["EnviroDesign, Inc.","Terry Check",null,"770-346-0207",null,null,"tcheck@envirodesign.com",null,"Michigan Sales Tax",null,"EnviroDesign, Inc.","Terry Check","165 Clipper Bay Dr.",null,null,"Alpharetta","GA","30005"]
["Envirologic Technologies (Stegink)","Dave Stegink",null," 269-342-1100",null," 269-342-4945","dstegink@envirologic.com",null,null,"Dave Warwick, Jeff Hawkins  per Joe Berlin","Envirologic Technologies","2960 Interstate Parkway",null,null,null,"Kalamazoo","MI","49048-9600","Mr.","Stegink",null,"Contractor EH&S","Kalamazoo"]
["Environment Safety & Health",null,"Ken Pierce","517-622-1890",null,"231-258-6993",null,null,"Michigan Sales Tax",null,"Environment Safety & Health","Attn: Ken Pierce","7937 Hartel Road",null,null,"Grand Ledge","MI","48837"]
["Environmental Coordination Svc & Recyclin","Gus Hegner",null,"814-425-7773",null,null,null,null,"Out of State",null,"En'vl Coordination Service & Recycling","Attn: Gus Hegner","3237 US Highway 19",null,null,"Cochranton","PA","16314"]
["Environmental Installation Services, Inc.","Bob Peterson","eisrobert@aol.com","616-248-2702","616-262-9832 Cell","616-248-2720",null,null,"Michigan Sales Tax",null,"Environmental Installation Services, Inc.","Attn:","3230 Jefferson SE",null,null,"Wyoming","MI","49548"]
["Environmental Partners (Horne)","Mark Horne",null," 616-928-9128",null," 616-928-9126","mark.horne@enviro-partners.com",null,null,"Jeff Pfost m 616.218.8353  Bruce Connell  Dale DeKraker","Environmental Partners","305 Hoover Boulevard, Suite 200",null,null,null,"Holland","MI","49423","Mr.","Horne",null,"Contractor EH&S","Ottawa"]
["Environmental Partners, Inc.",null,"Mark Horne","616-928-9128","616-218-7770 cell","616-928-9126",null,null,"Michigan Sales Tax","Bruce Connell - direct: 616-928-9127\nMark Horne - email: mark.horne@enviro-partners.com","Environmental Partners, Inc.","Attn:","305 Hoover Boulevard","Suite 200",null,"Holland","MI","49423"]
["Environmental Quality Company (Andersen)","David Andersen",null,null,null,null,"david.andersen@eqonline.com",null,null,null,"Environmental Quality Company","49350 N I-94 Service Dr",null,null,null,"Belleville","MI","48111","Mr.","Andersen",null,"Chemical Pharmaceutical","Wayne"]
["Environmental Recycling Group","Rick Schmehil","616-299-8081","800-459-0021","7344379650vicky-accts","231-894-8102",null,null,"Use Tax Rental","Todd Hendrick cell:  313-350-4778\nemail:  thendrick@sqsenvironmental.com","Environmental Recycling Group","West Michigan Division","Attn Rick Schmehil","4455 Roger B Chaffee Dr SE",null,"Grand Rapids","MI","49548-7522"]
["Environmental Waste & Recovery Svs.","Tim O'Leary",null,"616-520-1352 cell tim","989-643-0700","989-643-0900","toleary@mpioil.com",null,null,null,"Environmental Waste & Recovery Svs.","Attn: Tim O'Leary","246 N Eddy St.",null,null,"Merrill","MI","48637"]
["EOCT (Kahn)","Clark Kahn",null," 269-383-6960",null," 269-383-6967","kahntest@kalamazoo.net",null,null,null,"EOCT","4000 Portage Road",null,null,null,"Kalamazoo","MI","49001","Dr.","Kahn","President","Contractor EH&S","Kalamazoo"]
["Epicenter Design",null,null,null,null,null,null,null,"NonTx Re-Sale"]
["ERB Industries, Inc. (Meier)","Paul Meier",null," 800-800-6522 339",null," 800-232-9372","pmeier@e-erb.com",null,null,null,"ERB Industries, Inc.","1 Safety Way",null,null,null,"Woodstock","GA","30188-1237","Mr.","Meier","National Sales Manager","Supplier","Out of State"]
["Erhardt Construction","Adam Reeves",null,"616-676-1222",null,"616-676-1676",null,null,"Michigan Sales Tax","Adam Reeves:  cell 616-318-3366\nBrett Frisbey:  cell 616-893-7748\nCraig Schroeder:  cell 616-893-3074\nMark Felt:  cell 616-893-3008","Erhardt Construction","Attn:","6060 Fulton Street E",null,null,"Ada","MI","49301-0208"]
["Erhardt Construction (Dean)","Bob Dean",null," 616-451-3671"," 616-676-1222"," 616-451-4640",null,null,null,null,"Erhardt Construction","6060 East Fulton","PO Box 208",null,null,"Ada","MI","49301-0208","Mr.","Dean","Superintendent","Contractor General","Kent"]
["Erhardt Construction (Felt)","Mark Felt",null," 616-676-1222"," 616-825-2936"," 616-676-1676","mfelt@Erhardtcc.com",null,null,null,"Erhardt Construction","6060 East Fulton","PO Box 208",null,null,"Ada","MI","49301-0208","Mr.","Felt",null,"Contractor General","Kent"]
["Erhardt Construction (Smith)","Matt Smith",null," 616-676-1222",null," 616-676-1676","msmith@erhardtcc.com",null,null,null,"Erhardt Construction","6060 East Fulton","PO Box 208",null,null,"Ada","MI","49301-0208","Mr.","Smith",null,"Contractor General","Kent"]
["Erhardt Construction (Town)","Taggart Town",null," 616-676-1222 20",null," 616-676-1676","ttown@erhardtcc.com",null,null,"Steve Pepper stores\nConstn Group\n  Dave Vander Hyde mob 616.299.1264\n  Bob Dean at Christ Reformed 26th & Groskopf Road\n  Don Van Beek  Aquinas\n  Brett Frisby\n  Glen Marshall\n  Don Reisler\nFacility Solns Matt Smith Group Leader \n  Don DeLange Field Supr","Erhardt Construction","6060 East Fulton","PO Box 208",null,null,"Ada","MI","49301-0208","Mr.","Town","Vice President Field Operation","Contractor General","Kent"]
["Erhardt Construction (Van Beek)","Don Van Beek",null," 616-451-9481",null," 616-451-9554",null,null,null,null,"Erhardt Construction","201 Monroe Avenue, Suite 100",null,null,null,"Grand Rapids","MI","49503","Mr.","Van Beek","Superintendent","Contractor General","Kent"]
["Eric Rodriguez","Eric",null,null,null,null,null,null,"Out of State"]
["Erickson Electric Service, Inc. (Erickson","Tom Erickson",null," 616-842-3706"," 800-300-8186"," 616-842-3930","terickson@ericksonelec.com",null,null,null,"Erickson Electric Service, Inc.","1505 Grant Ave.",null,null,null,"Grand Haven","MI","49417","Mr.","Erickson","President","Contractor Electrical","Ottawa"]
["Erickson's Inc. (Hartwell)","Henry Hartwell",null," 231-744-1686",null," 231-744-8996",null,null,null,null,"Erickson's Inc.","2217 Lake Ave.",null,null,null,"North Muskegon","MI","49445","Mr.","Hartwell","Safety Manager",null,"Muskegon"]
["Erie Press Systems",null,null,"814-455-3941",null,"814-455-7749",null,null,"Out of State","Accounts Payable: Nancy Dombrowski \nPH:814-455-3941 x676\nFax : 814-453-3053\n\nMatt DiLoreto x-636 (service contact)\n\nUPS Acct# 242366","Erie Press Systems","Attn: Matt DiLoreto","1253 West 12th Street",null,null,"Erie","PA","16501"]
["ERM (Holland)",null,null,"616-399-3500",null,"616-399-3777","ERMNorthernDivisionAP@erm.com",null,"Use Tax Rental","**  CONTACTS  **\nMatt Kwiatkowski - 616-738-7396-Of. / 616-283-7535 Cell\nPaul Sterkenburg - 616-738-7351-Of. / 616-283-7155 Cell\npaul.sterkenburg@erm.com\nTom Brunell - 616-738-7350, email: thomas.brunell@erm.com\nBrian Beach - 616-283-7165 Cell\nChuck Doezema - 616-738-7353 Office\nRob Adams - 616-738-7390 office\nDan Rusiecki -  616-283-7158 cell, email:  daniel.rusiecki@erm.com\n\nAccounting in Rolling Meadows IL \n  A/P Debbie Moss 847.258.8946 debra.moss@erm.com\n  old A/P Melissa Nash 847-258-8969 melissa.nash@erm.com\n\nemail all invoices to ERMNorhterDivisionAP@erm.com","ERM (Holland)","Attn: Mike Beck","3352 128th Street",null,null,"Holland","MI","49424","Mr.","Adams"]
["ERM (St. Paul)","Lindsey Iredale","April Anderson","651-846-2870","651-225-4554",null,null,null,"Out of State",null,"ERM (St. Paul)","Attn:","190 East 5th Street","Suite 255",null,"St. Paul","MN","55101"]
["Ershigs Inc (Crist)",null,"Ben Walsh","360-305-7597","850-549-1230 cell",null,null,null,"Out of State",null,"Ershigs Inc (Crist)  po#70105","Attn: Ben Walsh","c/o Crist Electric Generating","11999 Pate St.",null,"Pensicola","FL","32514"]
["Ershigs Inc (Grand Bay)",null,"Anthony Migues",null,"251-865-0912",null,null,null,"Out of State",null,"Ershigs Inc (Grand Bay)","Attn:","12050 Interchange Drive",null,null,"Grand Bay","AL","36541"]
["Ershigs Inc. (Aberdeen)",null,"Colin Harbin",null,"937-549-2687",null,null,null,"Out of State",null,"Ershigs Inc. (Aberdeen)","c/o: Dayton Power & Light - JM Stuart","Attn: Colin Harbin","US 52 - 4 Miles East of Aberdeen",null,"Aberdeen","OH","45101"]
["Ershigs Inc. (AEP Clifty Creek)",null,"Marshall Crum","360-305-7597 cell",null,null,null,null,"Out of State",null,"Ershigs Inc. (AEP Clifty Creek)","Attn: Marshall Crum","1335 Clifty Hollow Road",null,null,"Madison","IN","47250"]
["Ershigs Inc. (AEP Conesville)",null,null,"360-305-7597",null,null,null,null,"Michigan Sales Tax",null,"Ershigs Inc.c/o AEP Conesville FGD Projec","Mick Porter/Scott Babcock po77316","47201 Country Road 273",null,null,"Conesville","OH","43811"]
["Ershigs Inc. (Bellingham)","Kim Stephan","Sandy Brackins","360-733-2620 office","360-254-8208",null,null,null,"Michigan Sales Tax","Kim - 360-650-6929","Ershigs Inc. (Bellingham)","Attn:","7710 NE Vancouver Mall Drive","Suite G",null,"Bellingham","WA","98227"]
["Ershigs Inc. (Brilliant)",null,null,"740-598-7160",null,null,null,null,"Out of State",null,"Ershigs Inc. (Brilliant)","AEP Cardinal WFGD Project","Attn: Brian Mayo","306 County Road 7 East",null,"Brilliant","OH","43913"]
["Ershigs Inc. (Bucks)",null,"Joey Flowers",null,"850-336-5518",null,null,null,"Out of State",null,"Ershigs Inc. (Bucks)","c/o: Barry Electric Generating Plant","Attn: Joey Flowers","15300 Highway 43 North",null,"Bucks","AL","36512"]
["Ershigs Inc. (Cliffside)",null,"Jeff Allen","828-657-2402","828-657-6050",null,null,null,"Out of State",null,"Ershigs Inc. (Cliffside)","Attn:","Duke Energy Cliffside","573 Duke Power Rd.",null,"Mooreboro","NC","28114"]
["Ershigs Inc. (Clinton)",null,"James Lape","865-945-3745","228-697-2775 cell",null,null,null,"Out of State",null,"Ershigs Inc. (Clinton)","c/o: TVA - Bull Run Fossil Plant","Attn:","1265 Edgemoor Road",null,"Clinton","TN","45101"]
["Ershigs Inc. (Crsap)",null,"Gary Moore",null,"360-303-0172",null,null,null,"Out of State",null,"Ershigs Inc. (Crsap)","Attn:","12 Miles South of Moundsville on","West Virginia Route 2",null,"Crsap","WV","26041"]
["Ershigs Inc. (East Palatka)","Mary Bovard (Purchasing)",null,"251-865-0912",null,null,null,null,"Out of State",null,"Ershigs Inc. (East Palatka)","Attn: Helen Hinton","392 US HWY 17S",null,null,"East Palatka","FL","32131"]
["Ershigs Inc. (Evans)","Kendra Hersman",null,"360-305-7597",null,null,null,null,"Michigan Sales Tax",null,"Ershigs Inc. (Evans)","Kendra Hersman","9 Citation Drive",null,null,"Evans","WV","25241"]
["Ershigs Inc. (Harriman)","Darrell Allen",null,"228-239-0051",null,null,null,null,"Michigan Sales Tax",null,"Ershigs Inc. (Harriman)","Attn: Darrell Allen","714 Swan Pond Road",null,null,"Harriman","TN","37748"]
["Ershigs Inc. (Huntington)","Mark Chaffins",null,"360-296-0192",null,null,null,null,"Michigan Sales Tax",null,"Ershigs Inc. (Huntington)","Attn: Mark Chaffins","#6 Woodridge Estates",null,null,"Huntington","WV","25704"]
["Ershigs Inc. (Indianapolis)",null,"Rick Johnson",null,"317-787-2850",null,null,null,"Out of State",null,"Ershigs Inc. (Indianapolis)","c/o: IPL Harding","Attn:","3700 S. Harding Street",null,"Indianapolis","IN","46217"]
["Ershigs Inc. (Kemmerer)","Mark Chaffins",null,"360-296-0192",null,null,"mchaffins@ershigs.com",null,"Out of State",null,"Ershigs Inc. (Kemmerer)","Pacificorp Energy-Naughton Plant","6 Miles South of Kemmerer","Attn: Kevin Parker",null,"Kemmerer","WY","83101"]
["Ershigs Inc. (Kyger Creek)","Kendra Hersman",null,"360-305-7597",null,null,null,null,"Out of State",null,"Ershigs Inc. (Kyger Creek)","Attn: Jeremy Skiver Gate #2","c/o AEP Kyger Creek","5758 State Route 7 North",null,"Cheshire","OH","45620"]
["Ershigs Inc. (Manchester)","Brian Dever","Casey Thornburg / Casey Thornburg","937-549-3035",null,null,"mchaffins@ershigs.com",null,"OH Adams Co.","Mark Chaffins new home add: 1/27/12 \n488 Sherwood Dr. Huntington WV","Ershigs Inc. (Manchester)","c/o:","Attn: Mark Chaffins","3105 US Route 52",null,"Manchester","OH","45144"]
["Ershigs Inc. (New Haven)","Sandy Brackins","nancy (billing)360-527-3446","360-254-8208","billing fx 360-733-26","360-254-8211","sbrackins@ershings.com",null,"Out of State",null,"Ershigs Inc. (New Haven)","Attn: James Templeton","Rt. 62 Graham Station",null,null,"New Haven","WV","25265"]
["Ershigs Inc. (Stratton)",null,"Jeremy Skiver","740-537-9122","228-697-2775","740-537-9123",null,null,"Out of State",null,"Ershigs Inc. (Stratton)","c/o: Sammis Generating Station","Attn:","500 - 2nd Ave.",null,"Stratton","OH","43961"]
["Ershigs Inc. (Vancouver)","Sandy Brackins ext.224","Mark Chaffins safety mgr","360-254-8208","360-296-0192 cell",null,null,null,"Out of State","Bree Lawrence A/P Tulsa  918.477.9371 x3428\n\nBritney Romine Grand Bay, AL for all field rental 251-865-0912\n\nMark Chaffins safety mgr - cell: 360-296-0192\nemail:  MChaffins@ershigs.com\nAmand Evans (helper)\nBrian Mayo - cell:  360-305-8606\n\nSend hard copy of inbvoices after emailing to Mark's home add. \n488 Sherwood Dr.\nHuntington WV 25704","Ershigs Inc. (Iuka, MS)","c/o: Tri-State Commerce Park","Attn: Scott Babcock","751 County Rd 989, Bld. 1026",null,"Iuka","MS","38852"]
["Ershigs Inc. (Walluala)",null,"Jim Ehmke",null,"509-545-3306",null,null,null,"Out of State",null,"Ershigs Inc. (Walluala)","Boise Paper - Wallula Main","Attn:","31831 W. Highway 12",null,"Wallula","WA","99363"]
["Ershigs Inc. (Willow Island)","Mark Daley","Kendra Hersman",null,"360-305-7597",null,null,null,"Out of State",null,"Ershigs Inc. (Willow Island)","Attn:","c/o: Pullman / Allegheny Pleasents","#1 Tower Station Blvd.",null,"Willow Island","WV","26134"]
["Ershigs Inc. (Winfield)",null,"Jeff Ellis",null,"304-759-3636",null,null,null,"Out of State",null,"Ershigs (Winfield)","Attn: Jeff Ellis","1530 Winfield Road, Route 35",null,null,"Winfield","WV","25213"]
["Ershigs Inc.(Pullman Power)","Sandy Brackin",null,null,null,null,null,null,"Michigan Sales Tax",null,"Ershigs Inc.(Pullman Power)","Attn: CECP Project","6 Miles North of St. Johns, AZ on Hwy 191",null,null,"St. Johns","AZ","85936"]
["Ershigs, Inc. (Brackins)","Sandy Brackins",null," 360-254-8208",null," 360-254-8211","sbrackins@ershigs.com",null,null,"Toby Droughton 360.393.1331 called re: M5PID","Ershigs, Inc.","7710 NE Vancouver Mail Drive, Suite G",null,null,null,"Vancouver","WA","98662","Ms.","Brackins",null,"Contractor General","Out of State"]
["Ershigs, Inc. (Chaffins)","Mark Chaffins",null," 360-296-0192",null,null,"MChaffins@ershigs.com",null,null,null,"Ershigs, Inc.","7710 NE Vancouver Mail Drive, Suite G",null,null,null,"Vancouver","WA","98662","Mr.","Chaffins","Sr. Field Safety Manager","Contractor General","Out of State"]
["Ershigs, Inc. (Chambers)","Bruce Chambers",null," 251-865-0912",null," 251-865-0936","BChambers@ershigs.com",null,null,null,"Ershigs, Inc.","12050 Interchange Drive",null,null,null,"Grand Bay","AL","36541","Mr.","Chambers",null,"Contractor General","Out of State"]
["Erwin Quarder","Ron Roys",null,"616-575-1616",null,"616-575-1600 x-223",null,null,"Michigan Sales Tax",null,"Erwin Quarder","Attn:Ron Roys","5101 Kraft Ave.",null,null,"Grand Rapids","MI","49512"]
["Erwin Quarder (Roys)","Ron Roys",null," 616-575-1600 223",null," 616-575-1616","rroys@quarder.com",null,null,null,"Erwin Quarder","5101 Kraft Avenue",null,null,null,"Gand Rapids","MI","49512","Mr.","Roys","Materials Manager","Plastics","Kent"]
["ESCO Company (Ego)","Max Ego",null," 231-727-6410",null," 231-727-6452",null,null,null,"Bruce Katje Regulatory Compliance 727.6459; L. Ray Klink VP Opns;","ESCO Company","2340 Roberts Street","PO Box 448",null,null,"Muskegon","MI","49443","Mr.","Ego","Safety Contact","Chemical Pharmaceutical","Muskegon"]
["Espec (Jaglowski)","Chuck Jaglowski",null," 616-896-6100 6159",null," 616-896-6150",null,null,null,null,"Espec","4141 Central Parkway",null,null,null,"Hudsonville","MI","49426","Mr.","Jaglowski","Plant Manager","Manufacturer","Ottawa"]
["Espec (Wychers)","Dale Wychers",null," 616-896-6100",null," 616-896-6150",null,null,null,null,"Espec","4141 Central Parkway",null,null,null,"Hudsonville","MI","49426",null,"Wychers","Safety Director",null,"Ottawa"]
["Euclid Chemical Co. (Babcock)","Matt Babcock",null,null,null,null,"mbabcock@euclidchemical.com",null,null,null,"Euclid Chemical Co.","19218 Redwood Road",null,null,null,"Cleveland","OH","44110","Mr.","Babcock",null,"Chemical Pharmaceutical","Out of State"]
["Euroway Engineering Inc. (Tseng)","Boris Tseng",null," 886-424-726110",null," 886-424-752603","euroway-boris@umail.hinet.net",null,null,null,"Euroway Engineering Inc.","1st Floor, No. 316",null,null,null,"Wen Hsin S. 5th Road",null,null,"Mr.","Tseng","Sales Engineer",null,"Out of State"]
["Everett's Landscape Managemanet","Julie Ardner/Brian Diemer",null,"616-698-8064",null,null,null,null,"Use Tax Rental",null,"Everett's Landscape Managemanet","Julie Ardner/Brian Diemer","7884 Eastern Ave SE",null,null,"Grand Rapids","MI"]
["Everett's Landscape Management, Inc. (Die","Brian Diemer",null," 616-698-8064",null,null,"brian23@everettslandscape.com",null,null,null,"Everett's Landscape Management, Inc.","7884 Eastern Avenue, SE",null,null,null,"Grand Rapids","MI",null,"Mr.","Diemer",null,"Contractor General","Kent"]
["Excel Electric",null,null,"616-532-9575",null,"616-532-3632",null,null,"Michigan Sales Tax","Chris Pylman - cell: 616-514-8708","Excel Electric","Attn: Chris Pylman","2636 Sanford SW",null,null,"Grandville","MI","49418"]
["Excela Health Latrobe Hospital (Herskovit","Kevin Herskovitz",null," 724-575-3669",null," 724-832-4113",null,null,null,null,"Excela Health Latrobe Hospital","1 Mellon Way",null,null,null,"Latrobe","PA","15650","Mr.","Herskovitz",null,"Hospital, Health Care","Out of State"]
["Executive Threads (Dykstra)","Robert Dykstra",null," 616-247-7801",null," 616-247-7806","support@perfectpunch.net",null,null,null,"Executive Threads","1348 Burton Street SE",null,null,null,"Grand Rapids","MI","49507","Mr.","Dykstra",null,"Supplier","Kent"]
["Extendicare/Tendercare","Don Barnes",null,"616-532-6343",null,null,null,null,"Michigan Sales Tax",null,"Extendicare/Tendercare","Don Barnes","247 Bellevue SW",null,null,"Wyoming","MI","49548"]
["Extruded Metals (Choate)","Robert Choate",null," 616-794-4866",null," 616-794-1544","bchoate@extrudedmetals.com",null,null,"Mark Pedo lead for rental / purch of sampling equip.","Extruded Metals","302 Ashfield",null,null,null,"Belding","MI","48809","Mr.","Choate","Safety Manager","Manufacturer","Ionia"]
["Exxel Engineering","Bob Van Laar",null,"616-2912282",null,null,null,null,"Michigan Sales Tax",null,"Dan Valley Excavating"]
["Exxel Engineering (VanLaar)","Bob VanLaar",null," 616-291-2282",null,null,null,null,null,null,"Exxel Engineering","5252 Clyde Park Ave. SW",null,null,null,"Grand Rapids","MI","49509","Mr.","VanLaar",null,"Engineering, Architecture","Kent"]
["F.P. Greenhouses (Fischer)","Bob Fischer",null,null,null,null,null,null,null,null,"F.P. Greenhouses","Seminole Rd.",null,null,null,"Muskegon Heights","MI",null,"Mr.","Fischer","Co-Owner","Nursery","Muskegon"]
["FAA (Belleville MI)","Ned Gibson",null,"810-630-8416",null,null,null,null,"NTXFED",null,"FAA AF Superior SMO","Attn: Musa Abuzir","8808 Beck RD.","Willow Run Airport East",null,"Belleville","MI","48111"]
["FAA (GreenBay)","Ned Gibson",null,"810-630-8416",null,null,null,null,"NTXFED",null,"FAA SUP SMO PSU D/S","Attention: Rick Neustadter","Austin Straubel International Airport","2077 Airport Drive, Box 17",null,"Green Bay","WI","54313"]
["Fab-Lite, Inc. (Hayes)","Christine Hayes",null," 231-723-9700"," 231-398-8286"," 231-723-6620","chayes@fablite.com",null,null,"Met with Christine\n-currently using Safety Services, but open to using us for value added items\n-keep in touch and bring by some cut resistant samples from time to time\n-very nice lady\n**partner company with MetalWorks in Ludington**","Fab-Lite, Inc.","330 Washington St.",null,null,null,"Manistee","MI","49660","Mrs.","Hayes","Safety/HR","Cabinet Makers","Manistee"]
["Fagerdala USA - Marysville, Inc.",null,"Paul Landschoot ext. 115","810-388-9881",null,"810-338-9915",null,null,"Non-Tax",null,"Fagerdala USA - Marysville, Inc.","Attn:","2700 Willis Street",null,null,"Marysville","MI","48040"]
["Fagerdala USA - Marysville, Inc. (Landsch","Paul Landschoot",null," 810-388-9881 115",null," 810-388-9915","plandschoot@fagerdala.com",null,null,null,"Fagerdala USA - Marysville, Inc.","2700 Willis Street",null,null,null,"Marysville","MI","48040",null,"Landschoot",null,"Manufacturer","St. Clair"]
["Fairmont Minerals Standard Sand (Closs)","Roy Closs",null," 616-846-1400",null," 616-846-1440",null,null,null,"Per Roy Hanson. Mailling address: POBox 121, GH 49417  Sampling done out of Cadillac regional HQ. Al Slater at other Grand Haven site has Fall issues.","Fairmont Minerals Standard Sand","18153 North Shore Drive",null,null,null,"Spring Lake","MI","49456","Mr.","Closs","Plant Superintendent","Mining","Ottawa"]
["Fairmount Minerals (Chapman)","Chris Chapman",null," 616-842-5080",null," 616-847-2141","cchapman@fairmountminerals.com",null,null,null,"Fairmount Minerals","14201 Lakeshore Dr.","PO Box 290",null,null,"Grand Haven","MI","49417","Mr.","Chapman","Safety","Mining","Ottawa"]
["Fairmount Minerals (Slater)","Alan Slater",null," 616-842-5080 3",null," 616-847-2141",null,null,null,"alan.slater@fairmount.com   only send email's at Alan's request.\nBrad Chittenden","Fairmount Minerals","14201 Lakeshore Dr.","PO Box 290",null,null,"Grand Haven","MI","49417","Mr.","Slater","Supervisor","Mining","Ottawa"]
["FallTech Alexander Andrew, Inc. (Kemp)","John Kemp",null," 800-719-4619"," 610-642-0537"," 323-752-5613","golfjohn@aol.com",null,null,"Scott Campbell Trainor  mob 317.946.0366  katie, Rose;  Dan Redden Prod. Mgr.","FallTech Alexander Andrew, Inc.","10240 S. Alameda Street",null,null,null,"South Gate","CA","90280","Mr.","Kemp","Region Sales Manager","Supplier","Out of State"]
["Farmers' Implement, LLC",null,"Scott Schreffler","262-629-4104",null,"262-629-4030",null,null,"Out of State",null,"Farmers' Implement, LLC","Attn:","525 Railroad St.",null,null,"Allenton","WI","53002"]
["Fastenal (Ludington, MI)","Ted Morehouse",null,"231-843-8788",null,null,null,null,"NonTx Re-Sale",null,"Fastenal (Ludington, MI)","Attn: Ted Morehouse","4905 West US 10",null,null,"Ludington","MI","49431"]
["Fastenal Co. (Fond Du Lac, WI)",null,null,"920-929-6595",null,null,null,null,"Out of State",null,"Fastenal Co. (Fond Du Lac, WI)","Attn:","611 Triangle Rd",null,null,"Fond Du Lac","WI","54935-9107"]
["FCCI Insurance Group (Hudson)","Linda Hudson",null," 269-321-0103",null," 317-816-4775","lhudson@fcci-group.com",null,null,null,"FCCI Insurance Group","PO Box 1778",null,null,null,"Portage","MI","49081-1778","Ms.","Hudson","Loss Control Consultant","Insurance","Kalamazoo"]
["Federal Aviation Administration, US (Gibs","Ned Gibson",null," 810-630-8416",null," 810-630-8416","ned.gibson@faa.gov",null,null,null,"Federal Aviation Administration, US","6059 Maple Avenue",null,null,null,"Swartz Creek","MI","48473","Mr.","Gibson",null,"Other","Genesee"]
["Federal Correctional Institution (Elkton)",null,"Betsy Kosko x-1100","330-420-6200",null,null,null,null,"Non-Tax Municipality/Utility",null,"Federal Correctional Institution (Elkton)","Attn:","8730 Scroggs Road",null,null,"Elkton","OH","44415"]
["federal mogul"]
["Federal-Mogul (Cambridge)",null,"Jerry Moore ext. 273","740-432-2393",null,"740-439-7650",null,null,"Non-Tax",null,"Federal-Mogul (Cambridge)","Attn: Jerry Moore","6420 Glenn Highway Road",null,null,"Cambridge","OH","43725"]
["Federal-Mogul (Greenville)","Garry Foerster",null,"616-754-1284",null,null,null,null,"Non-Tax",null,"Federal-Mogul (Greenville)","Attn:","510 Grove Street",null,null,"Greenville","MI","48838"]
["Federal-Mogul (Southfield)","Cindy Narasco",null,"248-354-6745",null,"248-354-9499",null,null,"Michigan Sales Tax",null,"Federal-Mogul (Southfield)","Attn: Cindy Narasco","26555 Northwestern Hyway",null,null,"Southfield","MI","48033"]
["Federal-Mogul (Sparta)",null,null,null,"616-887-6431",null,null,null,"Non-Tax","Safety Contact: Kathy Jo DeVault - 616-887-1428 (this is a fax#)","Federal-Mogul","Attn: Kathy Jo DeVault","200 South Maple St.",null,null,"Sparta","MI","49345"]
["Federal-Mogul Corp. (DeVault)","Kathy Jo DeVault",null," 616-887-6431",null," 616-887-1428","kathy.devault@federalmogul.com",null,null,null,"Federal-Mogul Corp.","200 South Maple St.",null,null,null,"Sparta","MI","49345","Ms.","DeVault","Safety Director","Automotive","Kent"]
["Federal-Mogul Corp. (Foerster)","Gary Foerster",null," 616-887-6431",null," 616-887-1428","gary.foerster@federalmogul.com",null,null,null,"Federal-Mogul Corp.","200 South Maple St.",null,null,null,"Sparta","MI","49345","Mr.","Foerster","Safety Director","Automotive","Kent"]
["FedEx (Brown)","Lisa Brown",null," 800-448-9961 9557",null,null,null,null,null,"Agile Account# 268091459 (Ground - Express)\nGround Freight Account# 87879694 (old # -- 400 Mich\n94825095 new # -- 850 Bridge\nFedex Ground Freight   866.393.4585\nFedex Air Freight (>150 lbs) 800.332.0807\nYellow 800.610.6500-5-0\nUSF Holland 616.538.9500\nGeneral Ph# 800-GO-FEDEX","FedEx","3885 Airway","Building J2",null,null,"Memphis","TN","38116","Ms.","Brown","Account Representative","Supplier","Out of State"]
["Felco Contractors","Jeff Felinski","Toby 231-638-3885","231-759-0924",null,"231-755-0605","felcocontractors@verison.net",null,"Michigan Sales Tax",null,"Felco Contractors","Attn:","856 Pulaski Avenue",null,null,"Muskegon","MI","49441"]
["Felco Contractors (Felinski)","Jeff Felinski",null," 231-759-0924",null," 231-755-0605",null,null,null,"Heard of Agile through Schippers. Needs CSE equipment.","Felco Contractors","856 Pulaski Avenue",null,null,null,"Muskegon","MI","49441","Mr.","Felinski","President","Contractor General","Muskegon"]
["Fenton, City of","Steve Guy",null,"810-629-2261",null,"810-629-2004","sguy@cityoffenton.org",null,"Michigan Sales Tax",null,"Fenton, City of","Attn: Steve Guy","301 S. Leroy St.",null,null,"Fenton","MI","48430"]
["Fernandez Builbers (Fernandez)","Leo Fernandez",null," 269-561-5239",null,null,null,null,null,null,"Fernandez Builbers","2763 58th St.",null,null,null,"Fennville","MI","49408","Mr.","Fernandez","Owner","Building","Allegan"]
["Ferris State University (Bula)","Roger M. Bula",null," 231-591-5933",null," 231-591-2770","bular@ferris.edu",null,null,null,"Ferris State University","General Services Building","111 W. Knollview Drive",null,null,"Big Rapids","MI","49307-2740","Mr.","Bula","Environmental Engineer","School","Mecosta"]
["Ferris State University (General Svc Bld)",null,"Roger Bula, P.E.",null,"231-591-5933","231-591-2770","bular@ferris.edu",null,"Non-Tax","2/26/04 called multipl people in accting 400 oak and 111 W Knollview are both incorrect CC mailing add. ran CC through w bad Add. Accounting Contact Annette 231-591-2924","Ferris State University","Attn: Roger Bula","111 W. Knollview Drive",null,null,"Big Rapids","MI","49307"]
["Ferris State University (McKay)","Mike McKay",null," 231-591-2147",null," 231-591-2978","mckaym@ferris.edu",null,null,null,"Ferris State University","420 Oak Street","Prakken 150",null,null,"Big Rapids","MI","49307","Mr.","McKay","Safety Manager","School","Mecosta"]
["Ferris State University EH&S Mgmt. (McCor","Brad McCormick",null," 231-591-2278",null," 231-591-3788","mccormib@ferris.edu",null,null,null,"Ferris State University EH&S Mgmt.","200 Ferris Drive","VFS 300B",null,null,"Big Rapids","MI","49307-2740","Mr.","McCormick","Associate Professor","School","Mecosta"]
["Ferris State University EH&S Mgmt. (Rodab","Gary Rodabaugh",null," 231-591-2308"," 231-972-4779"," 231-591-3788","rodabaugh@ferris.edu",null,null,"Program shutting down. ph 231.972.2831; fx 231.972.4779","Ferris State University EH&S Mgmt.","200 Ferris Drive","VFS 300B",null,null,"Big Rapids","MI","49307-2740","Dr.","Rodabaugh","Professor","School","Mecosta"]
["Ferrysburg DPW","George Dunnings","acctg debbie Wierenga 616-842-5803","616-842-5803",null,"616-844-0200",null,null,"Non-Tax Municipality/Utility",null,"Ferrysburg DPW","Attn: George Dunnings","410 Fith Street",null,null,"Ferrysburg","MI","49409"]
["Ferrysburg DPW (Dunning)","George Dunning",null," 616-842-5803",null," 616-844-0200",null,null,null,null,"Ferrysburg DPW","408 Fifth Street",null,null,null,"Ferrysburg","MI","49409","Mr.","Dunning","Superintendent","Municipal, Cty","Ottawa"]
["Fettig Labs",null,"Pat Fettig","616-245-3000",null,"616-245-3299",null,null,"Michigan Sales Tax",null,"Fettig Labs","Attn:","900 Godfrey S.W.",null,null,"Grand Rapids","MI","49503"]
["Feyen Zylstra (Grand Rapids)","Vern 224-7128","Doug McGravey","616-224-7133","616-224-7707","616-224-7190",null,null,"Michigan Sales Tax",null,"Feyen Zylstra (Grand Rapids)","Attn: Doug McGravey","700 Butterworth",null,null,"Grand Rapids","MI","49504","Mr.","O'Brian"]
["Feyen Zylstra (Traverse City)",null,"Mary Fischer","231-486-8803",null,"231-486-8882",null,null,"Michigan Sales Tax",null,"Feyen Zylstra (Traverse City)","Attn:","2969 Keystone Road",null,null,"Traverse City","MI","49686"]
["Feyen-Zylstra (Buursma)","George Buursma",null," 616-224-7114"," 616-224-7707"," 616-224-7190",null,null,null,null,"Feyen-Zylstra","700 Butterworth SW",null,null,null,"Grand Rapids","MI","49504","Mr.","Buursma",null,"Contractor Electrical","Kent"]
["Feyen-Zylstra (McGarvey)","Doug McGarvey",null," 616-224-7133",null," 616-224-7190","dougm@fzcorp.com",null,null,null,"Feyen-Zylstra","700 Butterworth SW",null,null,null,"Grand Rapids","MI","49504","Mr.","McGarvey","Warehouse Manager","Contractor Electrical","Kent"]
["FHC Franklin Holwerda Company (Appleyard)","Brent Appleyard",null," 616-538-3231",null," 616-538-2797",null,null,null,"Michelle is great.Tiffany","FHC Franklin Holwerda Company","2509 -- 29th Street, SW","PO Box 9100",null,null,"Wyoming","MI","49509","Mr.","Appleyard",null,"Contractor General","Kent"]
["FHC Franklin Holwerda Company (Kiliszewsk","Eric Kiliszewski",null," 616-538-3231",null," 616-538-2797","eric@franklinholwerda.com",null,null,"Roy Whitten mob 616.366.3358  rwhitten@franklinholwerda.com","FHC Franklin Holwerda Company","2509 -- 29th Street, SW","PO Box 9100",null,null,"Wyoming","MI","49509","Mr.","Kiliszewski","Director of Support Services","Contractor General","Kent"]
["FiberTeq","Mike Yusko",null,"217-443-3955 x2716",null,"217-443-3783",null,null,"Out of State","Mike Yusko - mike.yusko@fiberteq.com\n\nSkip Thompson - skipt@fiberteq.com","FiberTeq","Attn:","3650 Southgate Dr.",null,null,"Danville","IL","61834"]
["FiberTeq (Yusko)","Mike Yusko",null," 217-443-3955 2716",null,null,"mike.yusko@fiberteq.com",null,null,null,"FiberTeq","3650 Southgate Dr.",null,null,null,"Danville","IL","61834","Mr.","Yusko",null,"Manufacturer","Vermilion"]
["Field Environmental Instruments",null,"Patrick Mulholland","800-393-4009",null,"412-436-2616",null,null,"Out of State",null,"Field Environmental Instruments","Attn:","301 Brushton Ave.","Suite A",null,"Pittsburgh","PA","15221"]
["Field's Fire Protection, Inc.","Jeff Goss",null,"616-453-2200","616-550-6465 cell","616-453-5600",null,null,"NonTx Re-Sale","Requested terms 08/10  we let the first order go through as pending. paid at net 60. discount for resale . 2/3 of references came back as paid at net 60. - we have left them on COD","Field's Fire Protection, Inc.","Attn: Jeff Goss","3901 Three Mile NW",null,null,"Grand Rapids","MI","49534"]
["Fifth Third Bank (Boss)","William Boss",null," 616-653-5080",null," 616-653-5842","bill.boss@53.com",null,null,"also, Kathy 616.653.5086","Fifth Third Bank","111 Lyon NW","MD RMNR3B",null,null,"Grand Rapids","MI","49503","Mr.","Boss",null,"Supplier","Kent"]
["Fifth Third Bank (Olson)","Karen Olson",null," 616-653-5006",null," 616-653-5827","karen.olson@53.com",null,null,null,"Fifth Third Bank","111 Lyon NW","MD RMOBGE",null,null,"Grand Rapids","MI","49503","Ms.","Olson","Assistant Vice President","BBB Personal","Kent"]
["Fifth Third Bank (Sorsen)","Ben Sorsen",null," 616-653-5393",null," 616-653-5839","ben.sorsen@53.com",null,null,"Rob Jamula mob 616-481-5673 ?\nBrenda Ball promoted 616.653.5364 Commercial Banking\nJim Stephens Mortgage 616.771.4371","Fifth Third Bank","111 Lyon NW","MD R16501",null,null,"Grand Rapids","MI","49503","Mr.","Sorsen","Commercial Real Estate","Supplier","Kent"]
["Filter & Coating Technology","Brad Davis/Scott Foley",null,"616-784-3228",null,"616-784-2015",null,null,"NonTx Re-Sale","05/05/2011:  History is 10% off list Air Systems","Filter & Coating Technology","Attn: Scott Foley","5706 West River",null,null,"Belmont","MI","49306"]
["Firestone (Jordan)","Paul Jordan",null," 515-208-8481",null,null,"jordanpaul@firestoneag.com",null,null,null,"Firestone","4600 N.W. 2nd Avenue","PO Box 1295",null,null,"Des Moines","IA","50305","Mr.","Jordan",null,"Manufacturer","Out of State"]
["First Companies","Craig Schroeder",null,"616-698-5000",null,null,null,null,"Michigan Sales Tax",null,"First Companies","Attn: Craig Schroeder","4380 Brockton Dr. SE #1",null,null,"Grand Rapids","MI","49512"]
["First United Methodist Church","Patsy McGillivray",null,"451-2879",null,"616-451-4893",null,null,"Non-Tax",null,"First United Methodist Church","Attn: Patsy McGillivray","2227 East Fulton",null,null,"Grand Rapids","MI","49503"]
["Fishbeck, Thompson, Carr & Huber (Alati)","Anthony Alati",null," 248-324-2090",null," 248-324-0930","apalati@ftch.com",null,null,null,"Fishbeck, Thompson, Carr & Huber","39255 Country Club Drive","Suite B-25",null,null,"Farmington Hills","MI","48331","Mr.","Alati","Geologist","Engineering, Architecture","Oakland"]
["Fishbeck, Thompson, Carr & Huber (Campbel","Todd Campbell",null," 269-375-1356",null," 269-375-2889","tccampbell@ftch.com",null,null,null,"Fishbeck, Thompson, Carr & Huber","4775 Campus Drive",null,null,null,"Kalamazoo","MI","49008","Mr.","Campbell","Geologist","Engineering, Architecture","Kent"]
["Fishbeck, Thompson, Carr & Huber (Carr)","Chuck Carr",null," 517-627-1141",null," 517-627-1433","cscarr@ftch.com",null,null,"Paul Viles pjviles@ftch.com","Fishbeck, Thompson, Carr & Huber","7402 Westshore Drive Suite 110",null,null,null,"Lansing","MI",null,"Mr.","Carr","Inspector","Engineering, Architecture","Ingham"]
["Fishbeck, Thompson, Carr & Huber (Colvin)","Michael Colvin",null," 616-464-3729",null," 616-464-3992","mdcolvin@ftch.com",null,null,"Env'l: Michael Colvin\nCivil: Joe Platte\nMechanical: Paul Koops\nProcess:  John Barczewski  m616.464.3754\nMike Apgar; Mike Ingersoll m 616-446-8309; Kevin Kietzman m 616-318-0947; Joel Kohtz","Fishbeck, Thompson, Carr & Huber","1515 Arboretum Drive SE",null,null,null,"Grand Rapids","MI","49546","Mr.","Colvin","Senior Project Manager","Engineering, Architecture","Kent"]
["Fishbeck, Thompson, Carr & Huber (Kimber)","Eric Kimber",null," 616-464-3752",null," 616-464-3992","ejkimber@ftch.com",null,null,"Looking to add another PID. K'zoo MiniRAE 2000 still has periodic drift problems as reported by Brad.","Fishbeck, Thompson, Carr & Huber","1515 Arboretum Drive SE",null,null,null,"Grand Rapids","MI","49546","Mr.","Kimber","Hydrogeologist","Engineering, Architecture","Kent"]
["Fishbeck, Thompson, Carr & Huber (Koops)","Paul Koops",null," 616-464-3868",null," 616-464-3999","pekoops@ftch.com",null,null,null,"Fishbeck, Thompson, Carr & Huber","1515 Arboretum Drive SE",null,null,null,"Grand Rapids","MI","49546","Mr.","Koops",null,"Engineering, Architecture","Kent"]
["Fishbeck, Thompson, Carr & Huber (Peuler)","Brad Peuler",null," 269-375-3824",null," 269-375-2889","bdpeuler@ftch.com",null,null,null,"Fishbeck, Thompson, Carr & Huber","4775 Campus Drive",null,null,null,"Kalamazoo","MI","49546","Mr.","Peuler",null,"Engineering, Architecture","Kent"]
["Fishbeck, Thompson, Carr & Huber (Platte)","Joe Platte",null," 616-464-3937"," 616-575-3824"," 616-464-3996","jrplatte@ftch.com",null,null,"Env'l: Michael Colvin\nCivil: Joe Platte\nMechanical: Paul Koops\nProcess:  John Barczewski  m616.464.3754\nMike Apgar; Mike Ingersoll m 616-446-8309; Kevin Kietzman m 616-318-0947; Joel Kohtz","Fishbeck, Thompson, Carr & Huber","1515 Arboretum Drive SE",null,null,null,"Grand Rapids","MI","49546","Mr.","Platte","Senior Civil Engineer","Engineering, Architecture","Kent"]
["Fishbeck, Thompson, Carr & Huber (Van Put","Judy Van Putten",null," 616-575-3824",null," 616-464-3992","jevanputten@ftch.com",null,null,"Peter Lepczyk mob 231.463.5981","Fishbeck, Thompson, Carr & Huber","1515 Arboretum Drive SE",null,null,null,"Grand Rapids","MI","49546","Ms.","Van Putten","Purchasing Agent","Engineering, Architecture","Kent"]
["Fishbeck, Thompson, Carr & Huber (Yowaish","James Yowaish",null," 616-464-3777",null," 616-575-8155","jyowaish@ftch.com",null,null,null,"Fishbeck, Thompson, Carr & Huber","1515 Arboretum Drive SE",null,null,null,"Grand Rapids","MI","49546","Mr.","Yowaish","Facilities Supervisor","Engineering, Architecture","Kent"]
["Fisher Safety Store",null,null,"419-697-4855",null,"419-697-4854","dawn.halka@thermorfisher.com",null,"Out of State","05/11/2011:  No charge for Ground shiping on all repairs going to Oregon, OH\n\nTina Mann - 419-697-4855\nDawn Halka\nCharlie Sink\nMike Stack\nDeb LaCourse\n\n05/11/2011:\nSERVICE RESELLER: \nPM - $75 (std. 4-gas)\nPM - $80 (std. 4-gas plus PID)\nCal Only:  $40 (std. 4-gas)\nParts:  10% off list","Fisher Safety Store","Attn:","c/o BP Toledo Refinery","4001 Cedar Point Road",null,"Oregon","OH","43616"]
["Fit Testing Services, Inc. (Marshall)","David Marshall",null," 616-464-1118",null," 616-855-1786","dmarshall@fittestservices.com",null,null,null,"Fit Testing Services, Inc.","4512 Zandy Way NE",null,null,null,"Rockford","MI","49341","Mr.","Marshall",null,"Fire Department","Kent"]
["Flat Rock Fire Department","Chief William Vack","acts pbl Wendy Clark","734-789-2338","acts pbl 734-789-2318","734-783-0316","firechief@flatrockmi.org",null,"Michigan Sales Tax","Tax exempt # 38-6007216","Flat Rock Fire Department","Attn: Chief Vack","25500 Gibraltar Rd.",null,null,"Flat Rock","MI","48134"]
["Fleet Engineers Inc. (Dewitt)","Mark Dewitt",null," 231-777-2537 305",null," 231-773-8399","mdewitt@fleetengineers.com",null,null,null,"Fleet Engineers Inc.","1800 Keating Ave.",null,null,null,"Muskegon","MI","49442","Mr.","Dewitt","Personnel Manager","Automotive"]
["Fleis & Vandenbrink Engineering, Inc.","Kabitha Ambikadevi",null,"616-977-1000 x-131",null,null,null,null,"Michigan Sales Tax",null,"Fleis & Vandenbrink Engineering, Inc.","Attn:","2960 Lucerne Dr. SE",null,null,"Grand Rapids","MI","49546"]
["Fleis & Vandenbrink Engineering, Inc. (Fl","Larry J. Fleis",null," 616-942-3612"," 616-977-1000"," 616-977-1005","lfleis@fveng.com",null,null,null,"Fleis & Vandenbrink Engineering, Inc.","2960 Lucerne Dr. SE",null,null,null,"Grand Rapids","MI","49546","Mr.","Fleis","President","Engineering, Architecture","Kent"]
["Fleis & Vandenbrink Engineering, Inc. (Gr","Richard Grant",null," 616-977-1000"," 616-977-1000"," 616-977-1005","rgrant@fveng.com",null,null,null,"Fleis & Vandenbrink Engineering, Inc.","2960 Lucerne Dr. SE",null,null,null,"Grand Rapids","MI","49546","Mr.","Grant","Engineer","Engineering, Architecture","Kent"]
["Fleis & Vandenbrink Engineering, Inc. (Ri","Brian Rice",null," 616-977-1000",null," 616-977-1005","brice@fveng.com",null,null,"Phil Vannoy? Randy Krischnas? Richard Grant? has a 2020\nKavitha Ambikadevi bought Draeger Pump and H2S tubes\nkambikadevi@fveng.com","Fleis & Vandenbrink Engineering, Inc.","2960 Lucerne Drive SE",null,null,null,"Grand Rapids","MI","49546","Mr.","Rice","Environmental Engineer","Engineering, Architecture","Kent"]
["Fleiss & Vanderbrink Engineering, Inc. (G","Gregory Ginebaugh",null," 616-977-1000",null," 616-977-1005","gginebaugh@fveng.com",null,null,null,"Fleiss & Vanderbrink Engineering, Inc.","2960 Lucerne Drive SE",null,null,null,"Grand Rapids","MI","49546","Mr.","Ginebaugh",null,"Engineering, Architecture","Kent"]
["Flint Group Pigments (Blystra)","Mike Blystra",null," 616-393-5397",null," 616-392-6594","mike.blystra@pigments.flintgrp.com",null,null,"Bob Prislipski  buys day to day safety stuff\nMark Nybore is maintenance supervisor","Flint Group Pigments","471 Howard Avenue",null,null,null,"Holland","MI","49424","Mr.","Blystra","EH&S","Manufacturer","Ottawa"]
["Foley's Pump Service","Tom Newman",null,"800-528-7018",null,"203-748-6314","tom@foleyspump.com",null,"Out of State",null,"Foley's Pump Service","Attn:","30 Miry Brook Road",null,null,"Danbury","CT","06810"]
["Forberg Scientific","Safety First Customer",null,null,null,null,null,null,"Michigan Sales Tax",null,"Troy Branch","Attn: Anthony Russo","2719 Industrial Row",null,null,"Troy","MI","48084-7015"]
["Ford Motor Company",null,"Gordon Burns",null,"313-220-0055","313-337-5592",null,null,"Michigan Sales Tax",null,"Ford Motor Company","Attn: Gordon Burns","20400 Oakwood Receiving B",null,null,"Dearborn","MI","48124"]
["Ford Motor Company (Bradley)","John Bradley",null," 313-322-3930",null," 313-845-7453","jbradle1@ford.com",null,null,null,"Ford Motor Company","Fuel Cell Center","1201 Village Road",null,null,"Dearborn","MI","48121","Mr.","Bradley",null,"Automotive","Wayne"]
["Ford Motor Company (Burns)","Gordon Burns",null,null,null," 313-337-5592","gburns3@ford.com",null,null,"Gordon Burns --> Gerry Reidl 313.805.0970  --> Jackie Shuk 734.323.3913","Ford Motor Company","Safety Innovation Lab","20400 Oakwood   Receiving B",null,null,"Dearborn","MI","48124","Mr.","Burns","EMR / EHS / QEMS Rep. & Progra","Automotive","Wayne"]
["Ford Motor Company (Taylor)","Jim Taylor",null," 313-220-0055",null,null,"jtayl292@ford.com",null,null,null,"Ford Motor Company",null,null,null,null,"Dearborn","MI",null,"Mr.","Taylor",null,"Automotive","Wayne"]
["Foremost Insurance Group","Pete Murrey","Todd Johnston 616-956-8194","616-956-8195",null,"616-956-8276",null,null,"Michigan Sales Tax",null,"Foremost Insurance Group","Attn:","5230 - 33rd St., S.E.",null,null,"Grand Rapids","MI","49512"]
["Fortis Metal Works","Marisol Corona",null,"602-242-1200",null,"602-296-0370",null,null,"Michigan Sales Tax",null,"Fortis Metal Works","Attn: Marisol Corona","1831 West Colter St","Suite 208   ph:602 242-1200",null,"Phoenix","AZ","85015"]
["Fortuna Energy","George Hardin","607-738-5690","hm-607-583-4401","607-795-5690",null,null,null,"Michigan Sales Tax",null,"Fortuna Energy","Attn:George Hardin","6145 Wolf Run Road",null,null,"Campbell","NY","14821"]
["Four Winns (Mulder)","Barb Mulder",null," 231-775-1351",null," 231-779-2348",null,null,null,null,"Four Winns","925 Frisbie Street",null,null,null,"Cadillac","MI","49601","Ms.","Mulder","EH&S Manager","Manufacturer","Wexford"]
["Fox Construction Co., Inc. (Fox)","James Fox",null," 616-897-4536",null," 616-897-4541",null,null,null,"Chris' friend","Fox Construction Co., Inc.","1890 Woodfern SE",null,null,null,"Lowell","MI","49331","Mr.","Fox",null,"Contractor General","Kent"]
["Fox Manufacturing (Fox)","Steve Fox",null," 586-468-1421",null," 586-468-2390","foxman@i-is.com",null,null,null,"Fox Manufacturing","32535 South River Road",null,null,null,"Harrison Township","MI","48045","Mr.","Fox","President","Manufacturer","Wayne"]
["Fox River Water Reclamation District (Sey","Judie Seyller",null,null,null,null,"jseyller@frwrd.com",null,null,null,"Fox River Water Reclamation District","Raymond Street & Purify Drive","PO Box 328",null,null,"Elgin","IL","60121","Ms.","Seyller",null,"Municipal, Cty","Out of State"]
["Franklin Holwerda Company (FHC)","Eric Kiliszewski",null,"616-538-3231","616-293-4747 cell","616-538-2797","rwhitten@franklinholwerda.com",null,"Use Tax Rental","Micah Holt handles A/P\n\nBrad Anderson - 616-366-5978","Franklin Holwerda Company","Attn:","2509 - 29th Street SW",null,null,"Wyoming","MI","49509","Mr.","Kiliszewski"]
["Free Spirit Ent. (Larry)","Larry",null," 231-739-2124",null,null,null,null,null,null,"Free Spirit Ent.","2200 Roberts St.",null,null,null,"Muskegon","MI","49444",null,"Larry","Safety/Management",null,"Muskegon"]
["Fremont DPW (Hettinger)","Brian Hettinger",null," 231-924-2101",null,null,null,null,null,null,"Fremont DPW","101 E. Main St.",null,null,null,"Fremont","MI","49412","Mr.","Hettinger","Superintendent","Municipal, Cty","Lake"]
["Frisby Aerospace, Inc.",null,"Andrew Scott","336-766-9036","336-714-1338","336-766-9064",null,null,"Out of State",null,"Frisby Aerospace, Inc.","Attn:","4520 Hampton Road",null,null,"Clemmons","NC","27012"]
["Fruitport Charter Township",null,"Dale Lee","231-865-3158",null,"231-865-3118",null,null,"Non-Tax Municipality/Utility",null,"Fruitport Charter Township","Attn: Dale Hilliard","6543 Airline Rd.",null,null,"Fruitport","MI","49415"]
["Fruitport Charter Township Water (Alder)","Bob Alder",null," 231-865-3158",null," 231-865-3118",null,null,null,"also, Ron Langlois  They have a GX82","Fruitport Charter Township Water","6543 Airline Rd.",null,null,null,"Fruitport","MI","49415","Mr.","Alder","Supervisor","Municipal, Cty","Muskegon"]
["Fruitport Charter Township Water (Farrah)","Matt Farrah",null," 231-865-3158",null," 231-865-3118","mfarrah@fruitporttownship.com",null,null,"New Superintendent from East GR\n-Dale Lee was moved to his old position\n-Matt is only seen by appointment for now","Fruitport Charter Township Water","6543 Airline Rd.",null,null,null,"Fruitport","MI","49415","Mr.","Farrah","Superintendent","DPW","Muskegon"]
["Fruitport Charter Township Water (Hilliar","Dale Hilliard",null," 231-865-3158",null," 231-865-3118","dhilliard@fruitporttownship.com",null,null,null,"Fruitport Charter Township Water","6543 Airline Rd.",null,null,null,"Fruitport","MI","49415","Mr.","Hilliard","Utility Foreman","Municipal, Cty","Muskegon"]
["Fruitport Charter Township Water (Lee)","Dale Lee",null," 231-865-3158",null," 231-865-3118","dlee@fruitporttownship.com",null,null,null,"Fruitport Charter Township Water","6543 Airline Rd.",null,null,null,"Fruitport","MI","49415","Mr.","Lee","Supervisor","Municipal, Cty","Muskegon"]
["FTC&H - (Farmington Hills)","Judy VanPuten","248-324-2120 Kevin O'Brian","616-464-3937",null,"616-4643996","Lora Sage",null,"Michigan Sales Tax","Stephanie:  248-324-2146\n\nkjobrien@ftch.com\nKevin O'Brien","FTC&H - (Farmington Hills)","Attn:Judy","39255 Country Club Drive","Suite B25",null,"Farmington Hills","MI","48331"]
["FTC&H - (G.R.)",null,null,null,null,"616-464-3996",null,null,"Michigan Sales Tax","Judy VanPutten - Office: 616-464-3758\nChris Huver - Cell 616-460-8362\nRubin VanDam - 616-464-3833\nSean Wagest - Office 616-464-3967, Cell 616-446-0459\nJoe Platte - Office: 616-464-3937\nMichael Colvin - Office: 616-464-3729\nJasper Gondhi - 616-821-5485\n\nA/P Deb Shroufe  fax 616.464.3994","F.T.C.H. - (G.R.)","Attn:Judy Van Putten","1515 Arboretum Drive SE",null,null,"Grand Rapids","MI","49546","Mr.","Platte"]
["FTC&H - (Kzoo)","Todd Campbell","Brad Peuler","269-375-1356","269-375-1360","269-375-2889",null,null,"Michigan Sales Tax",null,"FTC&H - (Kzoo)","Attn: Brad Pevler","4775 Campus Drive",null,null,"Kalamazoo","MI","49008"]
["Fuel Systems LLC","Pat Day","Melissa VanKlomznberg","616-735-0300",null,"616-453-6565",null,null,"Michigan Sales Tax","08/11/2005:  Walker Plant Shipping UPS Acct.# 423069","Fuel Systems LLC","Attn:","1988 Alpine NW",null,null,"Grand Rapids","MI","49544",null,"MUST USE UPS ACCT# !!!"]
["Furmaite","John Waters","Sam","800-666-1390",null,"801-975-1504",null,null,"Out of State",null,"Furmaite","Attn: John Waters","3782 West 2340 South","Suite C",null,"West Valley City","UT","84120"]
["Future Environmental, Inc.","Craig Haisma (regional Mngr)",null,"866-579-6900",null,"616-784-2017","futureenv@yahoo.com",null,"Michigan Sales Tax","Craig Haisma - email: futureenv@yahoo.com","Future Environmental, Inc.","Attn:","3658 Mill Creek Ave. NE",null,null,"Comstock Park","MI","49321"]
["G. Freeland Roofing","Maria Pleiness",null,"231-845-6322",null,"231-843-7161",null,null,"Michigan Sales Tax",null,"G. Freeland Roofing","Attn: Maria Pleiness","417 E. Dowland St.",null,null,"Ludington","MI","49660"]
["G. Freeland Roofing Systems, Inc. (Freela","Gordy Freeland",null," 231-845-6322",null," 231-843-7161",null,null,null,"Gordy is owner, Dave is Superintendent","G. Freeland Roofing Systems, Inc.","417 E. Dowland St.",null,null,null,"Ludington","MI","49660","Mr.","Freeland","Owner","Contractor General","Mason"]
["Gabriel  Performance Products",null,null,null,null,"440-992-3204",null,null,"OH AshtabulaCo.","Kelly Hinkley - direct: 440-992-3278, email: kelly_hinkley@gabepro.com","Gabriel  Performance Products","Attn: Kelly Hinkley","725 State Road",null,null,"Ashtabula","OH","44004"]
["Gale Roofing (Darryl)","Darryl",null," 231-873-5289",null,null,null,null,null,null,"Gale Roofing","3006 W. Polk Rd.",null,null,null,"Hart","MI","49420",null,"Darryl",null,"Contractor General","Oceana"]
["Gannett Fleming, Inc.","Tony & Matt Miller","608-770-1502 cell Tony","608-836-1500",null,"608-831-3337",null,null,"Out of State",null,"Gannett Fleming","Attn:","8025 Exceisior Dr.",null,null,"Madison","WI","53717-1900"]
["Gary Wozniak","Gary Wozniak",null,"269-567-3613",null,"269-567-9440",null,null,"Michigan Sales Tax",null,"Gary Wozniak","6493 Eats H Avenue",null,null,null,"Kalamazoo","MI","49048"]
["GCA Service Group","Harmony Amant x-234","Jim Doumouras","630-629-4044 Acct.","630-743-9498 cell",null,null,null,"Out of State",null,"GCA Service Group","Attn:","7612 West Monroe Street",null,null,"Niles","IL","60714"]
["GDK Construction",null,null,"616-355-0300",null,"616-355-0301",null,null,"Michigan Sales Tax","Ross Kruitahof - cell:  616-886-8311","GDK Construction","Attn:","12 West 8th Street","Suite 250",null,"Holland","MI","49423"]
["GDK Construction Company (Faber)","Lindsay Faber",null," 616-355-0300",null," 616-355-0301","LINDSAY@GDKCONSTRUCTION.COM",null,null,null,"GDK Construction Company","12 West 8th Street  Suite 250",null,null,null,"Holland","MI","49423","Ms.","Faber",null,"Contractor General","Kent"]
["GDK Construction Company (Knoll)","Lisa Knoll",null," 616-355-0300",null,null,null,null,null,null,"GDK Construction Company","12 West 8th Street  Suite 250",null,null,null,"Holland","MI","49423","Ms.","Knoll","Project Manager Assistant","Contractor General","Kent"]
["GE (Morrison, IL)",null,"Scott Stephens","815-772-1365",null,"815-772-1122",null,null,"Out of State",null,"GE (Morrison, IL)","Scott Stephens","709 West Wall St.",null,null,"Morrison","IL","61254"]
["GE Aviation (Biaglow)","Jim Biaglow",null," 802-773-9121 1644",null,null,"jim.biaglow@ge.com",null,null,"Quote GEMS systems","GE Aviation","270 Windcrest Road",null,null,null,"N. Clarendon","VT","5701","Mr.","Biaglow",null,"Manufacturer","Out of State"]
["GE Energy (Cincinnati) (Ursuliak)","John Ursuliak",null," 513-682-6471",null," 513-682-6479","john.ursuliak@ge.com",null,null,null,"GE Energy (Cincinnati)","64 Circle Freeway Drive",null,null,null,"Cincinnati","MI","45246","Mr.","Ursuliak","Field Engineer",null,"Out of State"]
["GE Energy (Cincinnati, OH)",null,null,null,null,null,null,null,"Out of State","John Ursuliak\nOffice:  513-682-6471\nFax:  513-682-6479\nCell:  513-417-5259\nemail: john.ursuliak@ge.com","GE Energy (Cincinnati, OH)","Attn:","64 Circle Freeway Drive",null,null,"Cincinnati, OH45246"]
["GE Energy (Holland, MI)","Gondon Heeres",null,"248-262-2715","cell 616-610-0141",null,null,null,"Michigan Sales Tax",null,"GE Energy (Holland, MI)","Attn: Gordon Heeres","2290 Sunset Bluff Dr.",null,null,"Holland","MI","49424"]
["GE Energy (Lima OH)","John Ursuliak",null,"513-417-5259",null,null,null,null,"Out of State",null,"GE Energy (Lima OH)","Attn: John Ursuliak","1150 S. Metccalf St.",null,null,"Lima","OH","45804"]
["GE Equipment Services (Powell)","Michael Powell",null," 616-534-3756",null," 616-534-1390","michael.powell2@ge.com",null,null,null,"GE Equipment Services","2361 Chicago Drive SW",null,null,null,"Grand Rapids","MI","49519","Mr.","Powell",null,"Automotive","Kent"]
["GE Lighting Inc. (Conneaut, OH)","Stan Palagyi - Maint. Mgr.","Mike McCroskey - Safety Mgr.","440-593-1156","Stan x244 / Mike x223","440-593-6802","michael.mccroskey@ge.com",null,"Out of State",null,"GE Lighting Inc. (Conneaut, OH)","Stan Palagyi","880 Maple Ave.",null,null,"Conneaut","OH","44030"]
["GE Lighting Inc. (McCroskey)","Michael McCroskey",null," 440-593-1156 223",null,null,"michael.mccroskey@ge.com",null,null,null,"GE Lighting Inc.","880 Maple Ave.",null,null,null,"Conneaut","OH","44030","Mr.","McCroskey",null,"Manufacturer","Out of State"]
["GE Lighting Inc. (Palagyi)","Stan Palagyi",null," 440-593-1156 224",null,null,null,null,null,null,"GE Lighting Inc.","880 Maple Ave.",null,null,null,"Conneaut","OH","44030","Mr.","Palagyi","Maintenance Manager","Manufacturer","Out of State"]
["GE LNP Plastics (Daniels)","Bill Daniels",null,null,null,null,"bill.daniels@ge.com",null,null,null,"GE LNP Plastics","945 South Marr Road",null,null,null,"Columbus","OH","47201","Mr.","Daniels","EHS Manager","Plastics","Out of State"]
["GE Power Systems (Burns)","Todd Burns",null," 330-622-8910",null," 330-630-9501","william.burns@ge.com",null,null,null,"GE Power Systems","184 South Avenue",null,null,null,"Tallmadge","OH","44278","Mr.","Burns",null,"Manufacturer","Out of State"]
["GE Power Systems (Tallmadge, OH)","Todd Burns",null,"330-622-8910",null,"330-630-9501",null,null,"Out of State",null,"GE Power Systems (Tallmadge, OH)","Attn: WM Todd Burns","GE Power Systems",null,null,"Tallmadge","OH","44278"]
["Gebben's Concrete, Inc. (Mast)","Kelly Mast",null," 616-772-6172",null," 616-772-9828",null,null,null,null,"Gebben's Concrete, Inc.","3255 Production Court",null,null,null,"Zeeland","MI","49464","Mr.","Mast","Estimator",null,"Ottawa"]
["General Chemical (Lineske)","Lloyd Lineske",null," 601-799-2380",null,null,"llineske@genchemcorp.com",null,null,"Samantha runs the entire facility, not a ton of employees","General Chemical","187 JJ Holcomb Road",null,null,null,"Picayune","MI","39466","Mr.","Lineske",null,"Chemical Pharmaceutical","Out of State"]
["General Chemical (Samantha)","Samantha",null," 231-723-6266",null," 231-723-8840",null,null,null,"GEMS lead","General Chemical","1501 Main St.",null,null,null,"Manistee","MI","49660",null,"Samantha","Plant Manager","Chemical Pharmaceutical","Mason"]
["General Mills Hannibal (Klueppel)","Janet Klueppel",null," 573-231-3417",null,null,"Janet.Klueppel@genmills.com",null,null,null,"General Mills Hannibal","One Red Devil Road",null,null,null,"Hannibal","MO","63401","Ms.","Klueppel","Safety Manager","Food","Out of State"]
["General Mills Yoplait (Dawson)","Jim Dawson",null," 231-832-6218 287",null,null,"jim.dawson@genmills.com",null,null,null,"General Mills Yoplait","128 E. Slosson Avenue",null,null,null,"Reed City","MI","49677","Mr.","Dawson","Plant Engineer","Food","Osceola"]
["General Mills Yoplait (Vennix)","Chris Vennix",null," 231-832-6287 287",null," 231-832-6278","chris.vennix@genmills.com",null,null,"Barry Allen 231.832.6277\nJoe Schriner; Randy Newman x 532 (231-832-6532   mob: 231.629.2939) is buyer","General Mills Yoplait","128 E. Slosson Avenue",null,null,null,"Reed City","MI","49677","Mr.","Vennix","Safety Manager","Food","Osceola"]
["General Motors (Hoffman)","Michael Hoffman",null," 248-753-2833",null,null,"michael.hoffman@gm.com",null,null,null,"General Motors","Mail Code: 483-520-232","2000 Centerpoint Parkway",null,null,"Pontiac","MI","48341","Mr.","Hoffman","Sr. Project Engineer","Automotive","Oakland"]
["General Motors Anderson (McEntire)","George McEntire",null," 765-730-6064",null,null,"gnmcentire@aol.com",null,null,null,"General Motors Anderson","4678 E. 100 S",null,null,null,"Anderson","IN","46017","Mr.","McEntire",null,"Automotive","Out of State"]
["General Motors Corp. (Grand Rapids)","Keith Welcher",null,"616-246-3009",null,"616-246-3035",null,null,"Non-Tax",null,"General Motors Corp. (Grand Rapids)","Attn:","Receiving Dock (7am-2:30pm)","300 - 36th Street SW",null,"Grand Rapids","MI","49548-2107"]
["General Motors Corp. (Pontiac)","Ray Reid",null,"248.830.8096",null,"248.456.4066",null,null,"Michigan Sales Tax",null,"General Motors Corp. (Pontiac)","Attn:Mike Boyle","660 South Boulevard East","Bldg. 52 Dock 214",null,"Pontiac","MI","48341-3128"]
["General Motors Corp. (Proving Ground)","Dawn Gallinger","Karen Green","248-685-5178","248-685-4795","248-685-7376",null,null,"Non-Tax",null,"GM Proving Grounds","Attn:Chuck Ciotti m/C 483-331-000","3300 General Motors Rd",null,null,"Milford","MI","48380"]
["General Motors Corp. (Whie Marsh)","Patrick Law",null,"443-425-1447",null,null,null,null,"Out of State",null,"General Motors Corp. (Whie Marsh)","Attn: Patric Law","10301 Philadelphia Rd.",null,null,"White Marsh","MD","21162"]
["General Motors Corporation Proving Ground","John Moses",null," 248-685-6549",null," 248-684-3612","john.a.moses@gm.com",null,null,null,"General Motors Corporation Proving Ground","3300 General Motors Road","MC:483-370-220",null,null,"Milford","MI","48380-3726","Mr.","Moses",null,"Automotive","Oakland"]
["General Motors Powertrain (Chambers)","Mark Chambers",null," 989-757-1855",null," 989-757-1652","mark.chambers@gm.com",null,null,null,"General Motors Powertrain","1629 N. Washington",null,null,null,"Saginaw","MI","48602","Mr.","Chambers","UAW IH Technician","Automotive","Saginaw"]
["Genesee County Drain Commission",null,null,"810-732-7870",null,"810-732-9773",null,null,"Non-Tax Municipality/Utility",null,"Genesee County Drain Commission","Division of Water & Waste Services","G-4610 Beecher Road",null,null,"Flint","MI","48532"]
["Genesis Air",null,"Larry Tester","616-874-9536",null,"616-874-2938",null,null,"Michigan Sales Tax",null,"Genesis Air","Attn: Larry Tester","8412 Kreuter Road",null,null,"Rockford","MI","49341"]
["Gentex Corp. (East Riley St.)","Brenda Wisniewski",null,"616-772-1590",null,"616-772-2837",null,null,"Michigan Sales Tax",null,"Gentex Corporation","Attn:","58 East Riley Street",null,null,"Zeeland","MI","49464"]
["Gentex Corp. (N. Centenial)","Tom Kelly",null,"616-772-1800",null,null,null,null,"Michigan Sales Tax",null,"Gentex Corp. (N. Centenial)","Attn:","600 North Centenial",null,null,"Zeeland","MI","49464"]
["Gentex Corp. (North State St.)","Bill Bryker",null,"616-772-1590",null,"616-772-0789",null,null,"Michigan Sales Tax",null,"Gentex Corporation","Attn:","675 North State St.",null,null,"Zeeland","MI","49464"]
["Gentex Corporation (Bryker)","Bill Bryker",null," 616-772-1590 664",null," 616-772-0789","billb@gentex.com",null,null,null,"Gentex Corporation","675 N. State Street",null,null,null,"Zeeland","MI","49464","Mr.","Bryker","Synthetic Chemistry Lab Manage","Automotive","Ottawa"]
["Gentex Corporation (Wisniewski)","Brenda Wisniewski",null," 616-772-1590 4748"," 616-772-1800"," 616-772-2837","bwisniewski@gentex.com",null,null,null,"Gentex Corporation","58 E. Riley Street",null,null,null,"Zeeland","MI","49464","Ms.","Wisniewski","Safety / Security Administrato","Automotive","Ottawa"]
["Genzink Steel (Rollins)","Sue Rollins",null," 616-392-1437",null," 616-392-2423",null,null,null,null,"Genzink Steel","40 E. 64th Street",null,null,null,"Holland","MI","49423","Ms.","Rollins","Safety Manager",null,"Ottawa"]
["Genzink Steel (Stewart)","Nate Stewart",null," 616-494-8463",null," 616-392-9520","nstewart@genzink.com",null,null,null,"Genzink Steel","40 E. 64th Street",null,null,null,"Holland","MI","49423","Mr.","Stewart","Facilities Manager","Steel","Kent"]
["Geo-Solutions Inc.","Bill Resnick",null,"724-396-7331",null,null,"bresenic@geo-solutions.com",null,"Michigan Sales Tax","CC for Peter Maltese 5523-1908-0143 3554 x138 goes to \nGeo-Solutions Inc.\nAttn: Peter Z. Maltese\n35 Carlsbad\nPittsburgh, PA 15239","Former Phizer Plant",null,null,null,null,"Holland","MI"]
["Geocon Inc.","Dave Timmer",null,"616-457-6409","cell 299-8087","616-457-7110",null,null,"Michigan Sales Tax",null,"Geocon Inc.","Attn: Dave Timmer","0-1296 Chicago Dr.",null,null,"Jenison","MI","49428"]
["Geocon Inc. (Timmer)","Dave Timmer",null," 616-457-6409",null," 616-457-7110",null,null,null,null,"Geocon Inc.","0-1296 Chicago Drive SW",null,null,null,"Jenison","MI","49428","Mr.","Timmer","Construction Coordinator","Contractor EH&S","Ottawa"]
["George J Martin & Sons (Mangold)","Jeff Mangold",null," 578-477-7577",null," 518-477-9750",null,null,null,"Gary ext. 111","George J Martin & Sons","2 Cooper Ave.",null,null,null,"Rensselaer","NY","12144","Mr.","Mangold",null,"Contractor Electrical","Out of State"]
["Georgetown Charter Township",null,"Joel Hanenburg / Denny Bishop","616-457-2340",null,"616-457-3670",null,null,"Non-Tax Municipality/Utility","Mike Marks\n  616-889-6421 cell","Georgetown Charter Township","Attn:","1515 Baldwin St.",null,null,"Jenison","MI","49429"]
["Georgetown Charter Township (Hannenburg)","Joel Hannenburg",null," 616-457-2340",null," 616-457-3670","bhannon12@gmail.com",null,null,null,"Georgetown Charter Township","1515 Baldwin St.","PO Box 769",null,null,"Jenison","MI","49429","Mr.","Hannenburg",null,"Municipal, Cty","Kent"]
["Georgetown Charter Township (Steigenga)","Mike Steigenga",null," 616-457-2340",null," 616-457-3670",null,null,null,"Denny Bishop is DPW Director  d.bishop@gtwp.com","Georgetown Charter Township","1515 Baldwin St.","PO Box 769",null,null,"Jenison","MI","49429","Mr.","Steigenga",null,"Municipal, Cty","Kent"]
["Georgetown Construction Company (Parsh)","Dave Parsh",null," 616-669-6000",null," 616-669-6391",null,null,null,null,"Georgetown Construction Company","6601 Wilshere Drive",null,null,null,"Jenison","MI","49428","Mr.","Parsh","Engineer","Contractor General","Ottawa"]
["Georgia-Pacific (Batavia, OH)",null,"Hyder Syed","513-536-3047","Cell 513-623-7159","404-232-4455",null,null,"Out of State",null,"Georgia-Pacific (Batavia, OH)","Hyder Syed","Containerboard & Packaging","4225 Curliss Lane",null,"Batavia","OH","45103"]
["Georgia-Pacific (Milan, MI)",null,null,null,null,null,null,null,"Michigan Sales Tax","Bud Brown - phone: 734-439-4922","Georgia-Pacific (Milan, MI)","Attn:","951 County Street",null,null,"Milan","MI","48160"]
["Georgia-Pacific Milan (Brown)","Bud Brown",null," 734-439-4922",null,null,"gabrown@gapac.com",null,null,null,"Georgia-Pacific Milan","951 County Street",null,null,null,"Milan","MI","48160","Mr.","Brown",null,"Paper","Monroe"]
["Georgian Bay Fire & Safety Ltd. (Lutzmann","Michael Lutzmann",null," 800-265-3197",null," 519-273-7251","mlutzmann@gbfire.com",null,null,"GEMS reseller?","Georgian Bay Fire & Safety Ltd.","51 Griffith Road","RR3",null,null,"Stratford","ON","N5A6S4","Mr.","Lutzmann",null,"Competitor","Out of State"]
["Geospacial Corp.",null,"Pete Monday","724-353-3404",null,"734-353-3049",null,null,"Out of State",null,"Geospacial Corp.","Attn:","229 Howes Run Road",null,null,"Sarver","PA","16055"]
["Geospatial Corporation (Monday)","Pete Monday",null," 724-353-3404",null," 724-353-3049","pmonday@geospatialcorporation.com",null,null,null,"Geospatial Corporation","229 Howes Run Road",null,null,null,"Sarver","PA","16055","Mr.","Monday",null,"Contractor General","Out of State"]
["Geotech (Henderickson)","Jake Henderickson",null," 800-275-5325"," 517-655-5616"," 517-655-1157",null,null,null,null,"Geotech","1099 West Grand River Ave.",null,null,null,"Williamston","MI","48895","Mr.","Henderickson",null,"Supplier","Ingham"]
["GeoTrans, Inc. (Smith)","Kevin Smith",null," 734-213-4071",null," 734-213-5008","ksmith@geotransinc.com",null,null,null,"GeoTrans, Inc.","710 Avis Drive",null,null,null,"Ann Arbor","MI","48108","Mr.","Smith",null,"Contractor EH&S","Out of State"]
["Gerace Construction","Chris Brown ext. 140",null,"989-496-2440",null,"989-496-2465",null,null,"Michigan Sales Tax",null,"Gerace Construction","Attn: Chris Brown","4055 S. Saginaw Rd.",null,null,"Midland","MI","48640"]
["Gerber Construction","Terry Gerber",null,"231-846-0047 cell","231-832-2792","231-832-3874",null,null,"Michigan Sales Tax","Bill - cell:  231-629-2949\nTim - cell:  231-629-1309\nJill Terryn","Gerber Construction","Terry Gerber","415 S. Morse St.",null,null,"Reed City","MI","49677"]
["Gerber Construction Company (Gerber)","Terry Gerber",null," 231-832-2792",null," 231-832-3874",null,null,null,"Jill handles safety issues  Julie recep","Gerber Construction Company","415 Morse",null,null,null,"Reed City","MI","49677","Mr.","Gerber",null,"Contractor EH&S","Osceola"]
["Gerber/Nestle Nutritional (Conklin)","Pat Conklin",null," 231-928-2314",null,null,null,null,null,null,"Gerber/Nestle Nutritional","123 Gerber Way",null,null,null,"Fremont","MI","49235","Mr.","Conklin","Safety Manager","Nutritional Production","Lake"]
["Getman Corp.","Deb Couturier",null,"269-427-5611 x315",null,"269-427-8781",null,null,"Michigan Sales Tax",null,"Getman Corp.","Attn: PO# 091810","59750 - 34th Ave.",null,null,"Bangor","MI","49013"]
["Gezon Motors (Strotbaum)","Terry Strotbaum",null," 616-361-7361"," 800-878-9422"," 616-361-6634",null,null,null,null,"Gezon Motors","3985 Plainfield Ave., NE",null,null,null,"Grand Rapids","MI","49525","Mr.","Strotbaum","Sales Representative","Supplier","Kent"]
["GfG Instrumentation Inc. (Henderson)","Bob Henderson",null," 800-959-0329 5001",null," 734-769-1888","bhenderson@gfg-inc.com",null,null,"Dan Hirsh 724.719.5009, dhirsh@gfg-inc.com\n  126 Westbury Drive, Moon Twp, PA  15108\nLars Bottern mob 860.830.2382\nJeff Allsworth fixed x5987\nEd Dittberner fixed x5987\nSteve Wright portables, svc\nTony Poley tpoley@gfg-inc.com  x5109 prodn mgr\nRon Manduch, inside sales\nDave Bartley for Pfizer O2\nMark Gonyea died 2010\nFrancis X. Johnson mob 414.688.1522 gone 1.1.11","GfG Instrumentation Inc.","1194 Oak Valley Drive, Ste 20",null,null,null,"Ann Arbor","MI","48108","Mr.","Henderson",null,"Supplier","Washtenaw"]
["Gheen's Painting Inc.","Manuel Gheen 740-590-3700","Randy Mitchell","740-949-0405","740-590-3657 cell","740-949-0206","gpi@direcway.com",null,"Out of State",null,"Gheen's Painting Inc.","Attn:","50771 Rainbow Ridge",null,null,"Long Bottom","OH","45743"]
["GHSP","Garry Eppard",null,"231-873-6509",null,"231-837-5263",null,null,"Michigan Sales Tax",null,"GHSP","Attn: Garry Eppard","1500 Industrial Park Drive",null,null,"Hart","MI","49420"]
["GHSP (Bird)","Jim Bird",null," 616-842-5500"," 616-842-7230"," 616-842-7230",null,null,null,null,"GHSP","1250 S. Beechtree Street",null,null,null,"Grand Haven","MI","49417","Mr.","Bird","Safety Contact","Automotive","Muskegon"]
["GHSP (Eppard)","Garry Eppard",null," 231-873-6500 36509"," 231-873-6509"," 231-837-5263","eppardg@ghsp.com",null,null,null,"GHSP","1500 Industrial Park Drive",null,null,null,"Hart","MI","49420","Mr.","Eppard","Maintenance","Automotive","Oceana"]
["Gillhespy Inc.","Dendel Claven","Gerry Geile","616-459-0125","616-318-5364 Dendel",null,null,null,"Michigan Sales Tax",null,"Gillhespy Inc.","Attn: Dendel Claven","532 Grandville SW",null,null,"Grand Rapids","MI","49503"]
["Gillhespy, Inc. (Geile)","Mark Geile",null," 616-459-0125"," 800-466-0125"," 616-459-1227","mgeile@gillhespy.com",null,null,"Gerald is dad; Needs PPE for Toledo airport tank yanks.","Gillhespy, Inc.","532 Grandville SW",null,null,null,"Grand Rapids","MI","49503","Mr.","Geile","President","Contractor General","Kent"]
["Gillison Excavating (Elie)","Susan & Elie",null," 231-882-4677",null,null,null,null,null,"Susan is a trucker but seemed to be influencial in what goes on in the office.   Elie sec'y","Gillison Excavating","7704 Cadillac Hwy.",null,null,null,"Benzonia","MI","49616",null,"Elie","Office Staff","Excavating","Manistee"]
["Gladwin DPW, City of (Molski)","Tom Molski",null," 989-426-6946",null," 989-426-6932",null,null,null,null,"Gladwin DPW, City of","1000 West Cedar",null,null,null,"Gladwin","MI","48624","Mr.","Molski",null,"Municipal, Cty","Gladwin"]
["Gleason Construction","Jay Gleason ext.6",null,"419-865-7480","419-490-5901","419-865-5526",null,null,"Out of State",null,"Gleason Construction Co. Inc.","Attn: Brenda","1405 Kieswetter Rd.",null,null,"Holland","OH","43528"]
["Gleason Construction Co. Inc. (Gleason)","Jay Gleason",null," 419-865-7480 128",null," 419-865-5526","jasonjay435372@yahoo.com",null,null,null,"Gleason Construction Co. Inc.","9127 Old Airport Highway",null,null,null,"Holland","OH","43528","Mr.","Gleason",null,"Contractor General","Lucas"]
["Global Glove & Safety Manufacturing (Wagn","Craig Wagner",null," 763-450-0110",null," 763-416-2148","craig.wagner@globalglove.com",null,null,"Mike Gompers VP Sales and Marketing\nSage, Dave, Izzy, Eric Schwanz Warehouse Mgr. Melissa\nKathy Mork Admin Asst. Eric Sosa\nCraig and Bob Hannon visit Monday, 7.13.04","Global Glove & Safety Manufacturing","17700  -   113th Ave",null,null,null,"Maple Grove","MN","55369","Mr.","Wagner","President","Supplier","Out of State"]
["Global Remediation Technologies Inc. (Ben","Eric Benson",null," 231-941-8622",null," 231-941-4131","eric@grtusa.com",null,null,null,"Global Remediation Technologies Inc.","1102 Cass Street",null,null,null,"Traverse City","MI","49684","Mr.","Benson","Project Manager","Contractor EH&S","Traverse"]
["Global Remediation Technology",null,"Adam Segerlind","231-941-8622",null,"231-941-8622",null,null,"Michigan Sales Tax",null,"Global Remediation Technology","Attn:","1102 Cass Street",null,null,"Traverse City","MI","49684"]
["Globe Paving (Hrab)","Tony Hrab",null," 269-746-5771",null,null,null,null,null,"was with Portage DPW","Globe Paving","14536 E. Michigan Ave.",null,null,null,"Galesburg","MI","49053","Mr.","Hrab",null,"Contractor General","Kent"]
["GMI Composites (Unser)","John F. Unser",null," 231-755-1611",null," 231-755-1613",null,null,null,null,"GMI Composites","1355 W. Sherman Blvd.",null,null,null,"Muskegon","MI","49441","Mr.","Unser","Engineering Manager","Manufacturer","Muskegon"]
["Goodrich (Uniontown)",null,null,null,"330-374-2469","330-374-2290","guy.shemwell@goodrich.com",null,"Out of State","Guy Shemwell - email: guy.shemwell@goodrich.com","Goodrich (Uniontown)","Attn: Guy Shemwell","1555 Corporate Woods Parkway",null,null,"Uniontown","OH","44685",null,"Shemwell"]
["Gordon Food Service (Buffinga)","Lance Buffinga",null," 616-717-7885",null,null,null,null,null,null,"Gordon Food Service","420  50th Street SW",null,null,null,"Grand Rapids","MI","49548","Mr.","Buffinga",null,"Food","Kent"]
["Gordon Food Service (Justice)","Danny Justice",null," 248-486-8397",null,null,"danny.justice@gfs.com",null,null,null,"Gordon Food Service","7770 Kenington Court",null,null,null,"Brighton","MI","48116","Mr.","Justice",null,"Food","Livingston"]
["Gove Associates, Inc. (Shumaker)","Craig Shumaker",null," 616-385-0011",null," 616-382-6972",null,null,null,"Ralph Freed, David Harn. Have old QTrak and DustTrak","Gove Associates, Inc.","1601 Portage Street",null,null,null,"Kalamazoo","MI","49001-3899","Mr.","Shumaker","Senior Project Manager","Contractor EH&S","Kalamazoo"]
["GP Field Services","Scott Pope",null,"970-984-2301","303-667-3640 - Cell",null,"scottpope@gpfieldservices.com",null,"Out of State",null,"GP Field Services","Scott Pope","387 Faas Range Road",null,null,"New Castle","CO","81647","Mr.","Pope"]
["GR8",null,null,"616-813*7885",null,null,null,null,"Michigan Sales Tax",null,"GR8","Mark Booth","PO Box 712",null,null,"Ada","MI","49301"]
["Grace Industries (Emmett)","Paul Emmett",null," 800-969-6933",null," 410-286-2401","pemmett@graceindustries.com",null,null,"Judy Vagh (nice) answers phone, Barb Phillips in  Acct.\nAllen Warren Sls Mgr\nTodd Householder mob: 724-977-1051\n800-969-6933 x 215    thouseholder@graceindustries.com \ncovers: IL, IN, KY, MI, OH TN and WI\nAssy Line for dely status Judy 800.969.6933\nLarry Shifflett mob 410.794.6262 lshifflett@graceindustries.com  Business Development\n+Kampmans own company\nAmy, Tony,  Mr. Pat Miller\nCraig Walker (fired by Allen Walker sls mgr)\nDanny Jarboe  301.908.0616  Jack Jarboe\nRandy Ference rference@graceindustries.com, Paul Emmett at Factory in Fredonia, PA  800.969.6933\nLarry Shifflett mob 443-532-4845  645 Keith Lane PO Box 1225 Owings, MD 20736","Grace Industries","305 Bend Hill Road",null,null,null,"Fredonia","PA","16124","Mr.","Emmett",null,"Supplier","Out of State"]
["Graceland Fruit, Inc. (Nugent)","P. Nugent",null," 231-352-7181",null," 231-352-4711","pnugent@gracelandfruit.com",null,null,null,"Graceland Fruit, Inc.","1123 Main Street",null,null,null,"Frankfort","MI","49635","Mr.","Nugent",null,"Food","Benzie"]
["Grand Haven , City of (Sutterfield)","Lisa Sutterfield",null," 616-847-4888",null," 616-842-0085","lsutterfield@grandhaven.org",null,null,null,"Grand Haven , City of","519 Washington Avenue",null,null,null,"Grand Haven","MI","49417","Ms.","Sutterfield","Assistant City Mgr","Municipal, Cty","Ottawa"]
["Grand Haven Board of Light & Power, City","Jeff Chandler",null," 616-842-6355 3012",null," 616-842-3511","jchandler@ghblp.org",null,null,null,"Grand Haven Board of Light & Power, City","Sims Generating Station","1231 N. Third",null,null,"Grand Haven","MI","49417","Mr.","Chandler","Instrument Department Supervis","Utility","Ottawa"]
["Grand Haven Board of Light & Power, City",null,"Jeff Chandler","616-842-6355","ext. 3012",null,null,null,"Non-Tax",null,"Grand Haven Board of Light & Power, City","Sims Generating Station","1231 N. Third",null,null,"Grand Haven","MI","49417"]
["Grand Haven Board of Light & Power, City","Jeff Chandler",null," 616-842-6355 3012",null," 616-842-3511","jchandler@ghblp.org",null,null,null,"Grand Haven Board of Light & Power, City","Sims Generating Station","1231 N. Third",null,null,"Grand Haven","MI","49417","Mr.","Chandler","Instrument Department Supervis","Utility","Ottawa"]
["Grand Haven Board of Light & Power, City","Jeff Chandler",null," 616-842-6355 3012",null," 616-842-3511","jchandler@ghblp.org",null,null,null,"Grand Haven Board of Light & Power, City","1700 Eaton Drive",null,null,null,"Grand Haven","MI","49417","Mr.","Chandler","Instrument Department Supervis","Utility","Ottawa"]
["Grand Haven Board of Power & Light Servic","Michael Welling",null," 616-846-9200 3041",null," 616-846-3114","mwelling@ghblp.org",null,null,null,"Grand Haven Board of Power & Light Servic","1700 Eating Dr.",null,null,null,"Grand Haven","MI","49417","Mr.","Welling","Engineering Assistant","Utility","Ottawa"]
["Grand Haven Charter Township","Dan Tlachac",null,"616-604-6318",null,"616-604-0039","dtlachac@ght.org",null,"Non-Tax Municipality/Utility",null,"Grand Haven Charter Township","Attn: Suzanne Proksa","13300 168th Ave.",null,null,"Grand Haven","MI","49417"]
["Grand Haven Charter Township (Boomguaard)","Bette Boomguaard",null," 616-842-5988 410",null," 616-842-9419",null,null,null,null,"Grand Haven Charter Township","13300  168th Avenue",null,null,null,"Grand Haven","MI","49417","Mr.","Boomguaard",null,"Municipal, Cty","Ottawa"]
["Grand Haven Charter Township (Tlachac)","Dan Tlachac",null," 616-604-6318",null," 616-604-0039","dtlachac@ght.org",null,null,null,"Grand Haven Charter Township","13300  168th Avenue",null,null,null,"Grand Haven","MI","49417","Mr.","Tlachac",null,"Municipal, Cty","Ottawa"]
["Grand Haven Charter Township (VerBerkmoes","Mark VerBerkmoes",null," 616-842-5988",null," 616-842-9419",null,null,null,null,"Grand Haven Charter Township","13300  168th Avenue",null,null,null,"Grand Haven","MI","49417","Mr.","VerBerkmoes",null,"Municipal, Cty","Ottawa"]
["Grand Haven Charter Township Fire Dept.","Tom Gerencer",null,"616-842-5988",null,"616-842-9617",null,null,"Michigan Sales Tax",null,"Grand Haven Fire Department","Attn:Bryce Dennings","13250 168th Ave.",null,null,"Grand Haven","MI","49417"]
["Grand Haven Charter Township Fire Dept. (","Brice Dennings",null," 616-842-5988",null," 616-842-9419",null,null,null,null,"Grand Haven Charter Township Fire Dept.","13300  168th Avenue",null,null,null,"Grand Haven","MI","49417","Mr.","Dennings",null,"Municipal, Cty","Ottawa"]
["Grand Haven Coast Guard (Hemp)","Robert Hemp",null," 616-850-2502",null," 616-850-2502","robert.e.hemp@uscg.mil",null,null,null,"Grand Haven Coast Guard","650 South Harbor Dr.",null,null,null,"Grand Haven","MI","49417",null,"Hemp","Commanding Officer","Federal","Ottawa"]
["Grand Haven Coast Guard (Henk)","Scott Henk",null," 616-850-2502",null," 616-850-2502","scott.w.henk@uscg.mil",null,null,null,"Grand Haven Coast Guard","650 South Harbor Dr.",null,null,null,"Grand Haven","MI","49417","Mr.","Henk","Unsure/Purchasing","Federal","Ottawa"]
["Grand Haven Dept. of Public Safety (Wrigh","Sergeant Wright",null," 616-842-3460",null," 616-847-6050",null,null,null,"Called and got Mr. Wright's name, left message regarding Cyalume, try again","Grand Haven Dept. of Public Safety","525 Washington Ave.",null,null,null,"Grand Haven","MI","49417",null,"Wright","Sergeant","Municipal, Cty","Ottawa"]
["Grand Haven Dept. of Public Safety, City","Brad Risher",null," 616-842-3460",null," 616-847-6050",null,null,null,null,"Grand Haven Dept. of Public Safety, City","525 Washington Avenue",null,null,null,"Grand Haven","MI","49417",null,"Risher",null,"Municipal, Cty","Ottawa"]
["Grand Haven Dept. of Public Safety, City","Brad Risher",null," 616-842-3460",null," 616-847-6050",null,null,null,null,"Grand Haven Dept. of Public Safety, City","525 Washington Avenue",null,null,null,"Grand Haven","MI","49417",null,"Risher",null,"Municipal, Cty","Ottawa"]
["Grand Haven Dept. of Public Safety, City","Brad Risher",null," 616-842-3460",null," 616-847-6050",null,null,null,null,"Grand Haven Dept. of Public Safety, City","525 Washington Avenue",null,null,null,"Grand Haven","MI","49417",null,"Risher",null,"Municipal, Cty","Ottawa"]
["Grand Haven DPW, City of","Chuck Nowak",null,"616-847-3493","mob 638-7696","616-847-3470",null,null,"Non-Tax Municipality/Utility",null,"Grand Haven DPW, City of","Attn:","1120 Jackson St.",null,null,"Grand Haven","MI","49417"]
["Grand Haven DPW, City of (Beaton)","Julie Beaton",null," 616-847-3493",null," 616-847-3470","jbeaton@grandhaven.org",null,null,null,"Grand Haven DPW, City of","1120 Jackson Street",null,null,null,"Grand Haven","MI","49417","Ms.","Beaton","Facilities & Special Projects","Municipal, Cty","Ottawa"]
["Grand Haven DPW, City of (Hunter)","Bill Hunter",null," 616-847-3493",null," 616-847-3470","bhunter@grandhaven.org",null,null,"Referral from Joe VanderStel","Grand Haven DPW, City of","1120 Jackson Street",null,null,null,"Grand Haven","MI","49417","Mr.","Hunter","Streets & Utilities Mgr","Municipal, Cty","Ottawa"]
["Grand Haven DPW, City of (Jarmac-Kirk)","Diane Jarmac-Kirk",null," 616-847-3493",null," 616-847-3470","dkirk@grandhaven.org",null,null,null,"Grand Haven DPW, City of","1120 Jackson Street",null,null,null,"Grand Haven","MI","49417","Ms.","Jarmac-Kirk","Administrative Assistant","Municipal, Cty","Ottawa"]
["Grand Haven DPW, City of (Kendall)","Kevin Kendall",null," 616-847-3493",null," 616-847-3470","kkendall@grandhaven.org",null,null,null,"Grand Haven DPW, City of","1120 Jackson Street",null,null,null,"Grand Haven","MI","49417","Mr.","Kendall","Asst. Director","Municipal, Cty","Ottawa"]
["Grand Haven DPW, City of (Nowak)","Chuck Nowak",null," 616-847-3493",null," 616-847-3470","cnowak@grandhaven.org",null,null,"Dan Czarnecki (Director) Dennis Scott (Crew Leader) handles gas detection and winches; Patti Munch, secy.","Grand Haven DPW, City of","1120 Jackson Street",null,null,null,"Grand Haven","MI","49417","Mr.","Nowak","Director","Municipal, Cty","Ottawa"]
["Grand Haven DPW, City of (Vivian)","Dan Vivian",null," 616-847-3493",null," 616-847-3470","dvivian@grandhaven.org",null,null,"Dan Czarnecki (Director) Dennis Scott (Crew Leader) handles gas detection and winches; Patti Munch, secy.","Grand Haven DPW, City of","1120 Jackson Street",null,null,null,"Grand Haven","MI","49417","Mr.","Vivian","Facilities Manager","Municipal, Cty","Ottawa"]
["Grand Haven Plastics (Wagenmaker)","Kris Wagenmaker",null," 616-846-4950",null,null,null,null,null,null,"Grand Haven Plastics",null,null,null,null,"Grand Haven","MI","49417",null,"Wagenmaker",null,"Plastics","Ottawa"]
["Grand Haven Township Fire/Rescue (Gerence","Tom Gerencer",null," 616-842-5988",null," 616-842-9617","tgerencer@ght.org",null,null,"Matt Switzer and Bryce ? are on R&D team for new products -looking for the Air Light\nMark at the Township Bldg. is a great contact as he is on the Fire Staff as well\nReferral from Dan Tlachac\nCurrently bought flare sticks, will be in need of portable emergency lighting\n-easiest seen by appointment","Grand Haven Township Fire/Rescue","13250 168th Ave.",null,null,null,"Grand Haven","MI","49417","Mr.","Gerencer","Fire Chief","Fire Department","Ottawa"]
["Grand Haven WWTP, City of","Wally Wittaniemi","Cell 616-638-8906","616-842-3215",null,"616-847-4880",null,null,"Non-Tax Municipality/Utility","Wally Wittaniemi - cell:  616-502-7223, email: wwittaniemi@grandhaven.org\n\n","City of Grand Haven WWTP","Attn: Wally Wittaniemi","1525 Washington",null,null,"Grand Haven","MI","49417","Mr.","Rouwhorst"]
["Grand Haven WWTP, City of (Rouwhorst)","Rick Rouwhorst",null," 616-842-3215 1",null," 616-847-4880","rrouwhorst@grandhaven.org",null,null,null,"Grand Haven WWTP, City of","1525 Washington",null,null,null,"Grand Haven","MI","49417","Mr.","Rouwhorst","Operations Supervisor","Municipal, Cty","Ottawa"]
["Grand Ledge WWTP City of",null,"acct 517-627-2149","517-627-5744","acct fx 517-627-9796","517-627-8917",null,null,"Non-Tax Municipality/Utility","Jeff LaVoye\n\nMike Martin","Grand Ledge WWTP City of","Attn: Jeff LaVoye","109 Fitzgerald Park Drive",null,null,"Grand Ledge","MI","48837"]
["Grand Ledge WWTP, City of (LaVoye)","Jeff LaVoye",null," 517-627-5744",null," 517-627-8917",null,null,null,"Mike Martin","Grand Ledge WWTP, City of","109 Fitzgerald Park Drive",null,null,null,"Grand Ledge","MI","48837","Mr.","LaVoye",null,"Municipal, Cty","Eaton"]
["Grand Rapids Chair Co.",null,"Beth Lieverdink","616-389-1344",null,"616-774-0563",null,null,"Michigan Sales Tax",null,"Grand Rapids Chair Co.","Attn:Beth Lieverdink","625 Chestnut Street SW",null,null,"Grand Rapids","MI","49503"]
["Grand Rapids Chair Company (Lieverdink)","Beth Lieverdink",null," 616-389-1344",null," 616-774-0563","blieverdink@grandrapidschair.com",null,null,null,"Grand Rapids Chair Company","625 Chestnut Street NW",null,null,null,"Grand Rapids","MI","49503","Ms.","Lieverdink","Human Resource Manager","Furniture","Kent"]
["Grand Rapids City","Chris Cudworth",null,"616-456-4533",null,null,null,null,"Non-Tax Municipality/Utility",null,"Grand Rapids, City of","Chris Cudworth","1900 Oak Industrial Dr. NE",null,null,"Grand Rapids","MI","49505"]
["Grand Rapids Community College","John (JR) Roy",null,"616-234-3850",null,"616-234-3855",null,null,"NTU","Matt McKay / Brian Schultz","Grand Rapids Community College","Attn:Matt / Eric","143 Bostwick Ave",null,null,"Grand Rapids","MI","49503-3295"]
["Grand Rapids Community College (Greene)","Phillip Greene",null," 616-234-3811",null," 616-234-4952","pgreene@grcc.edu",null,null,null,"Grand Rapids Community College","622 Godfrey Avenue SW",null,null,null,"Grand Rapids","MI","49503-3295","Mr.","Greene","Program Manager","School","Kent"]
["Grand Rapids Community College (Matthewso","Mansfield W. Matthewson",null," 616-234-3850",null," 616-234-3855",null,null,null,"Phillip X. Greene 616.234.3811","Grand Rapids Community College","143 Bostwick Ave",null,null,null,"Grand Rapids","MI","49503-3295","Mr.","Matthewson","Director of Purchasing","School","Kent"]
["Grand Rapids Community College (Milito)","Joseph Milito",null," 616-234-4057",null," 616-234-3977","jmilito@grcc.edu",null,null,"John JR Roy 616.234.3936. Trained Mntc on ABC's of Fall Protn.","Grand Rapids Community College","143 Bostwick Ave. NE",null,null,null,"Grand Rapids","MI","49503-3295","Mr.","Milito","Assistant Director, Facilities","School","Kent"]
["Grand Rapids Community College MTEC (Shel","Eric Sheldon",null,null,null,null,"esheldon@grcc.edu",null,null,"Eric Sheldon\n  Eric Endreszl  248.421.8989  eendreszl@grcc.edu\n  Gene Kihn (keen) ekihn@grcc.edu\n  Matt McKay\n  Julie Parks (purch)  616.460.6920 616.234.3714\n    Alyce Stark (secy)  616.234.3746","Grand Rapids Community College MTEC","622 Godfrey Avenue SW",null,null,null,"Grand Rapids","MI","49503-3295","Mr.","Sheldon",null,"School","Kent"]
["Grand Rapids Equal Opportunity Department","Ingrid Scott-Weekley",null,null,null,null,null,null,null,null,"Grand Rapids Equal Opportunity Department","300 Monroe Ave. NW","Suite 840",null,null,"Grand Rapids","MI","49503","Ms.","Scott-Weekley","Director","Municipal, Cty","Kent"]
["Grand Rapids Fire Department, City of (Ca","Doug Carley",null," 616-245-8186"," 616-281-4732 home"," 616-245-8186","dcarley@ci.grand-rapids.mi.us",null,null,"Also, Capt Tony Hedges for chevron mats","Grand Rapids Fire Department, City of","38 Lagrave SE",null,null,null,"Grand Rapids","MI","49503",null,"Carley","Lt.","Fire Department","Kent"]
["Grand Rapids Fire Department, City of (Sz","Chief Gary Szotko",null," 616-456-3900",null," 616-456-3898",null,null,null,"Kurt Baragar","Grand Rapids Fire Department, City of","38 LaGrave SE",null,null,null,"Grand Rapids","MI","49503",null,"Szotko",null,"Fire Department","Kent"]
["Grand Rapids Fire Dept., City of","Doug Carley",null,"245-8186",null,null,null,null,"Non-Tax Municipality/Utility","Payments made by Christina Ledefma Ph:456-3900 FX:456-3577","Grand Rapids Fire Dept., City of","Attn:","38 Lagrave SE",null,null,"Grand Rapids","MI","49503"]
["Grand Rapids Gravel Co. (GR)","Dave Oostindie","Dave Oostindie","616-538-9000","616-538-2104 Dispatch","616-538-8877",null,null,"Michigan Sales Tax",null,"Grand Rapids Gravel Co. (GR)","Attn:Dave Oostindie","2700 28th Street SW",null,null,"Grand Rapids","MI","49509","Mr.","Oostindie"]
["Grand Rapids Gravel Co. (Grandville)",null,null,"538-9000",null,null,null,null,"Michigan Sales Tax",null,"Grand Rapids Gravel #4","Attn:","3706 Busch Drive SW",null,null,"Grandville","MI","49509"]
["Grand Rapids Gravel Co. (Holland)",null,"Jeff Vander Lip","888-424-9800","616-399-3059","616-399-8872",null,null,"Michigan Sales Tax",null,"Kalkman Redi-Mix Co.","Attn:","13180 Quincy Street",null,null,"Holland","MI","49424"]
["Grand Rapids Gravel Co. (Muskegon)",null,null,null,null,null,null,null,"Michigan Sales Tax",null,"Port City Redi-Mix","Attn:","1780 Sheridan Road",null,null,"Muskegan","MI","49444"]
["Grand Rapids Gravel Company (Oostindie)","Dave Oostindie",null," 616-538-9000"," 616-538-2104"," 616-538-8877","daveo@grgravel.com",null,null,"Gary Bos is Opns Mgr. Have Q300-10. Will be getting Micro and Casella Apex Pro.","Grand Rapids Gravel Company","2700 --  28th Street SW","PO Box 9160","27 - 28th Street, SW",null,"Grand Rapids","MI","49509","Mr.","Oostindie","Assistant Operations Manager","Mining","Kent"]
["Grand Rapids IT Dept., City of (Liptrot)","Shawn Liptrot",null," 616-456-4280",null," 616-456-3448","sliptrot@ci.grand-rapids.mi.us",null,null,null,"Grand Rapids IT Dept., City of","201 Market Street, SW",null,null,null,"Grand Rapids","MI","49503","Ms.","Liptrot","IT Manager","Municipal, Cty","Kent"]
["Grand Rapids Lake Filtration, City of (Ga","Doug Gay",null," 616-456-3302",null," 616-456-3948","dgay@grcity.us",null,null,"John Allen Supt.\n  Bill Chapman Mntc Mgr\n    Paul Panzegrau (Mntc 3)\n    Ben West (Mech 3)\n    Dave Wheeler (Mech 3)\n    Bill Mesler (Head Elec) --see re: Arc Flash","Grand Rapids Lake Filtration, City of","17350 Lake Michigan",null,null,null,"West Olive","MI","49460","Mr.","Gay",null,"Municipal, Cty","Ottawa"]
["Grand Rapids Lake Michigan Water Filtrati","John Allen",null," 616-456-3927",null," 616-456-3948","jallen@grcity.us",null,null,"John is highly interested in Princeton Tec headlamps\n-quoting today","Grand Rapids Lake Michigan Water Filtrati","17350 Lake Michigan Dr.",null,null,null,"West Olive","MI","49460","Mr.","Allen","Supervisor","Water","Ottawa"]
["Grand Rapids Parks, City of","Phil Orcasitas 901-2686",null,null,null,null,null,null,"Non-Tax Municipality/Utility",null,"Grand Rapids Parks, City of","Attn: Steve Krogman","201 Market Ave. SW",null,null,"Grand Rapids","MI","49503"]
["Grand Rapids Police Department, City of (","Capt. Belk",null," 616-456-4431"," home",null,null,null,null,"Chevron mats","Grand Rapids Police Department, City of","1 Monroe Center",null,null,null,"Grand Rapids","MI","49503",null,"Belk","Captain","Fire Department","Kent"]
["Grand Rapids Polishing","Lisa Shelly",null,"616-241-5421",null,null,null,null,"Michigan Sales Tax",null,"Grand Rapids Polishing","Attn: Lisa Shelly","3000 Hillcroft Ave",null,null,"Wyoming","MI"]
["Grand Rapids Polishing (Shelly)","Lisa Shelly",null," 616-241-5421",null,null,null,null,null,"Owner Ben Bishop at BDO Seidman 616.802.3445   mob 616.644.0180  bbishop@bdo.com","Grand Rapids Polishing","3000 Hillcroft Avenue",null,null,null,"Wyoming","MI","49509","Ms.","Shelly","Plant Manager","Manufacturer","Kent"]
["Grand Rapids Popcorn","Traverse/Mary",null,"800-968-4027","616-785-9080","616-785-9075",null,null,"Michigan Sales Tax",null,"Grand Rapids Popcorn","4675 West River Drive Ne",null,null,null,"Grand Rapids","MI","49321-8923"]
["Grand Rapids Public Schools","Tom Peterson",null,"616-819-3036",null,"616-819-3012",null,null,"Non-Tax Municipality/Utility",null,"Grand Rapids Public Schools","900 Union Ave. NE",null,null,null,"Grand Rapids","MI","49503"]
["Grand Rapids Public Schools (Peterson)","Tom Peterson",null," 616-819-3036",null," 616-819-3012",null,null,null,null,"Grand Rapids Public Schools","900 Union Ave NE",null,null,null,"Grand Rapids","MI","49503","Mr.","Peterson",null,"School","Kent"]
["Grand Rapids Purchasing, City of (Reyna)","Jose Reyna",null," 616-456-4075",null,null,null,null,null,"Amy Merren x3171  616.456.3952  616-456-3173","Grand Rapids Purchasing, City of","300 Monroe Ave. N.W.",null,null,null,"Grand Rapids","MI","49503","Mr.","Reyna","Director","Municipal, Cty","Kent"]
["Grand Rapids Purchasing, City of (Wojciak","Tony Wojciakowski",null," 616-456-3173",null," 616-436-3339",null,null,null,null,"Grand Rapids Purchasing, City of","300 Monroe Ave. N.W.",null,null,null,"Grand Rapids","MI","49503","Mr.","Wojciakowski","Buyer","Municipal, Cty","Kent"]
["Grand Rapids Sewer Maintenance, City of",null,"Larry Ross",null,"616-456-3246","616-456-3736",null,null,"Non-Tax Municipality/Utility",null,"Grand Rapids Sewer Maintenance, City of","Attn:Lary Ross","660 Market SW",null,null,"Grand Rapid","MI","49503"]
["Grand Rapids Sewer Maintenance, City of (","Sandy Rowan",null," 616-456-3246",null," 616-456-3736","srowan@ci.grand-rapids.mi.us",null,null,null,"Grand Rapids Sewer Maintenance, City of","660 Market, SW",null,null,null,"Grand Rapids","MI","49503","Ms.","Rowan","Storm & Sanitary Sewer Supervi","Municipal, Cty","Kent"]
["Grand Rapids Spring & Stamping",null,null,null,null,null,null,null,"Michigan Sales Tax",null,"Grand Rapids Spring & Stamping","3670 Millcreek NE",null,null,null,"Comstock Park","MI","49321"]
["Grand Rapids Stormwater Management, City","Randy Lemoine",null," 616-456-3253",null," 616-456-3198","rlemoine@ci.grand-rapids.mi.us",null,null,"David Leach is Asst.","Grand Rapids Stormwater Management, City","1120 Monroe Ave. NW  2nd Floor",null,null,null,"Grand Rapids","MI","49503","Mr.","Lemoine","Project Engineer","Municipal, Cty","Kent"]
["Grand Rapids Stormwater Management, City","Randy Lemoine",null," 616-456-3253",null," 616-456-3198","rlemoine@ci.grand-rapids.mi.us",null,null,"David Leach is Asst.","Grand Rapids Stormwater Management, City","1120 Monroe Ave. NW  2nd Floor",null,null,null,"Grand Rapids","MI","49503","Mr.","Lemoine","Project Engineer","Municipal, Cty","Kent"]
["Grand Rapids Stormwater Management, City","Randy Lemoine",null," 616-456-3253",null," 616-456-3198","rlemoine@ci.grand-rapids.mi.us",null,null,"David Leach is Asst.","Grand Rapids Stormwater Management, City","1120 Monroe Ave. NW  2nd Floor",null,null,null,"Grand Rapids","MI","49503","Mr.","Lemoine","Project Engineer","Municipal, Cty","Kent"]
["Grand Rapids Township Fire Department (Ra","Robert Radakovitz",null," 616-361-9208 229",null," 616-361-6620","chief@grandrapidstwp.org",null,null,null,"Grand Rapids Township Fire Department","1836 East Beltline",null,null,null,"Grand Rapids","MI","49525","Mr.","Radakovitz","Director of Public Safety Serv","Municipal, Cty","Kent"]
["Grand Rapids Traffic Safety, City of","616-456-3281",null,null,null,null,null,null,"Non-Tax Municipality/Utility","Margo Lawrence - Office: 616-456-3847\nDan Buchner - Cell: 616-724-7441","Grand Rapids Traffic Safety, City of","Attn: Scott Ringelberg","509 Wealthy SW",null,null,"Grand Rapids","MI","49503"]
["Grand Rapids Traffic Safety, City of (Law","Margo Lawrence",null," 616-456-3747",null,null,"mlawrence@grcity.us",null,null,null,"Grand Rapids Traffic Safety, City of","509 Wealthy St. SW",null,null,null,"Grand Rapids","MI","49503","Ms.","Lawrence",null,"Municipal, Cty","Kent"]
["Grand Rapids Water Customer Service","Dave Cywinski",null,"616-456-3904",null,null,"dcywinski@ci.grand-rapids.mi.us",null,"Non-Tax Municipality/Utility","Email invoices to Dave.","Grand Rapids Water Customer Service","Attn: Dave Cywinski","1101 Monroe Ave. NW",null,null,"Grand Rapids","MI","49503"]
["Grand Rapids Water Dept., City of","Dave Cywinski",null,"616-456-3904",null,null,"dcywinski@ci.grand-rapids.mi.us",null,"Non-Tax Municipality/Utility",null,"Grand Rapids Water Dept., City of","Attn: David Cywinski","1101 Monroe NW",null,null,"Grand Rapids","MI","49503"]
["Grand Rapids Water Dept., City of (Cywins","Dave Cywinski",null," 616-456-3904",null,null,"dcywinski@ci.grand-rapids.mi.us",null,null,null,"Grand Rapids Water Dept., City of","1101 Monroe NW",null,null,null,"Grand Rapids","MI","49503","Mr.","Cywinski",null,"Municipal, Cty","Kent"]
["Grand Rapids Water Filtration Plant",null,"Dave Wheeler",null,"616-456-3882",null,null,null,"Non-Tax Municipality/Utility","Doug Gay - Office: 616-456-3302, email:  dgay@grcity.us\nEmail repair quotes\n\nRudy Beal - cell: 616-706-5593","Grand Rapids Water Filtration Plant","Attn: Doug Gay","17350 Lake Michigan",null,null,"West Olive","MI","49460"]
["Grand Rapids Water Systems, City of","Bill Birdsall","Mike Kierwiak","616-456-3904 Mike",null,"616-456-4384 Mike",null,null,"Non-Tax Municipality/Utility",null,"Grand Rapids Water Systems, City of","Attn: Mike Kierwiak","1100 Monroe NW",null,null,"Grand Rapids","MI","49503"]
["Grand Rapids Water Works Stock Room","Bob Lutz",null,"616-456-4053",null,"616-456-4384",null,null,"Non-Tax Municipality/Utility","Dan Feldpausch / Mike - end user supervisors - 616-456-4077","Grand Rapids Water Works Stock Room","Attn: Bob Lutz","1900 Oak Industrial Drive",null,null,"Grand Rapids","MI","49505",null,"Birdsall"]
["Grand Rapids WWTP Instrument Shop City of","Steve Wilson / Jeff Konkle",null,"616-456-3767",null,"616-456-3711",null,null,"Non-Tax Municipality/Utility","Jeff Konkle - email:  jkonkle@grand-rapids.mi.us","Grand Rapids WWTP Instrument Shop City of","Attn: Laron Morgan","1300 Market SW",null,null,"Grand Rapids","MI","49503"]
["Grand Rapids WWTP Stock Room, City of","Ramona Rogers",null,"616-456-3812",null,"616-456-3908",null,null,"Non-Tax Municipality/Utility",null,"Grand Rapids WWTP Stock Room, City of","Attn:Laron Morgan","Environmental Protection (44)","1300 Market SW",null,"Grand Rapids","MI","49503","Ms.","Hockey"]
["Grand Rapids WWTP, City of (Kuzawa)","Kathie Kuzawa",null," 616-456-3635",null," 616-456",null,null,null,"Promoted over Ben West. New contact for UCL, per Laron Morgan.","Grand Rapids WWTP, City of","1300 Market, SW",null,null,null,"Grand Rapids","MI","49503","Ms.","Kuzawa","Maintenance Supervisor","Municipal, Cty","Kent"]
["Grand Rapids WWTP, City of (Morgan)","Laron P. Morgan",null," 616-456-3668",null," 616-456-3711","lmorgan@grcity.us",null,null,null,"Grand Rapids WWTP, City of","1300 Market, SW",null,null,null,"Grand Rapids","MI","49503","Mr.","Morgan","Utility Supervisor","Municipal, Cty","Kent"]
["Grand Rapids WWTP, City of (Rogers)","Ramona Rogers",null,null,null,null,"rrogers@grcity.us",null,null,null,"Grand Rapids WWTP, City of","1300 Market, SW",null,null,null,"Grand Rapids","MI","49503","Ms.","Rogers","Stockroom","Municipal, Cty","Kent"]
["Grand Rapids WWTP, City of (Wilson)","Steve Wilson",null," 616-456-3767",null," 616-456-3711","swilson@grcity.us",null,null,null,"Grand Rapids WWTP, City of","1300 Market, SW",null,null,null,"Grand Rapids","MI","49503","Mr.","Wilson","Instrument Technician","Municipal, Cty","Kent"]
["Grand Rapids, City of (Gillespie)","Joe Gillespie",null," 616-456-3306",null," 616-456-3728","joe.gillespie@ci.grand-rapids.mi.us",null,null,"Joe Pio is colleague","Grand Rapids, City of","300 Monroe Avenue NW",null,null,null,"Grand Rapids","MI","49503","Mr.","Gillespie","Safety Technician","Municipal, Cty","Kent"]
["Grand Rapids, City of (Ivey)","Doug Ivey",null," 616-456-3238",null,null,null,null,null,null,"Grand Rapids, City of","273 Market Ave SW",null,null,null,"Grand Rapids","MI","49503","Mr.","Ivey","Public Works Stockroom","Municipal, Cty","Kent"]
["Grand Rapids, City of (Lutz)","Bob Lutz",null," 616-456-4053",null," 616-456-3770","rlutz@grcity.us",null,null,"Hugh Novak 616.456.4529 works with Bob Lutz (Water)\nDave Cywinski (Super Dave) or Joe Cassalino (Meter Mntc)\nRose Hockey (Mntc stores) (by gas pumps) Streets, lighting, central stores\nBetty Holmes (WWTP)\nAmy Merren (Downtown Purch)\nBill Birdsall gone 2010","Grand Rapids, City of","1900 Oak Industrial Drive",null,null,null,"Grand Rapids","MI","49503","Mr.","Lutz","Stores Manager","Municipal, Cty","Kent"]
["Grand River Construction, Inc.","Rick Parcheta",null,"616-669-5611",null,"616-669-3466",null,null,"Michigan Sales Tax","John Spavalle","Grand River Construction, Inc.","Attn: John Spavalle","5025  -40th Ave.",null,null,"Hudsonville","MI","49426"]
["Grand River Construction, Inc. (Buell)","Stan Buell",null," 616-669-5611 14",null," 616-669-3466",null,null,null,"Will bring boss over to look at HLL systems.","Grand River Construction, Inc.","5210 36th Ave.",null,null,null,"Hudsonville","MI","49426","Mr.","Buell","Safety","Contractor General","Ottawa"]
["Grand River Construction, Inc. (Maggini)","Anthony Maggini",null," 616-669-5611",null," 616-669-3466",null,null,null,"met Bob Duquet  459.1765 GR Art Mus GRAM phone\nKeith Sullivan  Stan Buell, Safety Coordinator","Grand River Construction, Inc.","5210  36th Avenue","PO Box 323",null,null,"Hudsonville","MI","49423","Mr.","Maggini","Superintendent","Contractor General","Kent"]
["Grand River Construction, Inc. (Parcheta)","Rick Parcheta",null," 616-669-5611 14",null," 616-669-3466","rparcheta@grandriverconstruction.com",null,null,null,"Grand River Construction, Inc.","5210 36th Ave.",null,null,null,"Hudsonville","MI","49426","Mr.","Parcheta",null,"Contractor General","Ottawa"]
["Grand River Construction, Inc. (Ray)","Matt Ray",null," 616-454-3229",null," 616-454-3669","mray@grandriverconstruction.com",null,null,"Met with On-Site Super, Cory at Allegan WWTP today\nMentioned our willingness to work with them on-site if needed\nKeith remains a bit of a jerk","Grand River Construction, Inc.","5210  36th Avenue","PO Box 323",null,null,"Hudsonville","MI","49423","Mr.","Ray",null,"Contractor General","Kent"]
["Grand River Construction, Inc. (Sullivan)","Keith Sullivan",null," 616-669-5611",null," 616-669-3466","ksullivan@grandriverconstruction.com",null,null,"met Bob Duquet  459.1765 GR Art Mus GRAM phone\nKeith Sullivan  Stan Buell, Safety Coordinator","Grand River Construction, Inc.","5210 36th Ave.",null,null,null,"Hudsonville","MI","49426","Mr.","Sullivan","Equipment Manager",null,"Ottawa"]
["Grand River Navigation Co., Inc.",null,null,"440-930-2024","440-930-2042","440-930-2099",null,null,"Michigan Sales Tax",null,"Grand River Navigation Co., Inc.","Attn:","515 Moore Road, Suite 2",null,null,"Avon Lake","OH","44012"]
["Grand River Navigation Co., Inc. (Bamyea)","Sam Bamyea",null," 440-930-2024"," 440-930-2042"," 440-930-2099","sambomyea@aol.com",null,null,null,"Grand River Navigation Co., Inc.","515 Moore Road","Suite 2",null,null,"Avon Lake","OH","44012",null,"Bamyea","Manager Personnel & Administra","Other","Out of State"]
["Grand Transformers Incorporated (Kirchner","Carol Kirchner",null," 616-842-5430",null," 616-846-9137","carol.kirchner@gtipower.com",null,null,null,"Grand Transformers Incorporated","1500 Marion Avenue",null,null,null,"Grand Haven","MI","49417-0799","Ms.","Kirchner","Director of Human Resources","Manufacturer","Ottawa"]
["Grand Traverse County DPW (Heymes)","Ben Heymes",null," 231-995-6039",null," 231-995-6053","bheymes@co.grand-traverse.mi.us",null,null,null,"Grand Traverse County DPW","2650 LaFranier",null,null,null,"Traverse City","MI","49686","Mr.","Heymes","Technician","Municipal, Cty","Grand Traverse"]
["Grand Traverse County DPW (Smith)","Mike Smith",null," 231-922-4896",null," 231-922-2068","dpwshop@co.grand-traverse.mi.us",null,null,null,"Grand Traverse County DPW","361 Welch Ct.",null,null,null,"Traverse City","MI","49686","Mr.","Smith",null,"Municipal, Cty","Grand Traverse"]
["Grand Traverse DPW, County of","Ben Heymes",null,"231-995-6039","231-645-0674 cell",null,null,null,"Non-Tax Municipality/Utility","George Champlin\n  231-590-2658\n\nUPS# 08AE39","Grand Traverse DPW, County of","Attn: Ban Heymes","2650 LaFranier",null,null,"Traverse City","MI","49686"]
["Grand Valley Automation, Inc.","Mark Cisler",null,"616-224-7036",null,null,null,null,"Michigan Sales Tax",null,"Grand Valley Automation, Inc.","Attn:","4275 Spartan Industrial Drive",null,null,"Grandville","MI","49418"]
["Grand Valley State University (Allendale)","David Cox",null,"616-331-3083","890-2307 cell Dave","616-331-3841",null,null,"Non-Tax","when sending to Jim Visser CAC needs to follow his name that is the building designation\n\nMake sure a department is referenced in the Ship to Address of the Invoice, so that A/P knows which department to bill internally.","Grand Valley State University (Allendale)","Attn:David Cox","1 Campus Drive",null,null,"Allendale","MI","49401-9403","Mr.","Cox"]
["Grand Valley State University (Cox)","David Cox",null," 616-331-3083"," 616-340-2875"," 616-331-3841","coxd@gvsu.edu",null,null,"Dan Bare o 616.331.3334  mob 717.575.1153, Hoon Lee in Ceramics Shop\nQuoted GasPoint LEL to Dave, who forwarded it on to Bill Lucksted, Operations Manager for the MAREC facility in Muskegon\nsee Bill Grimaldi, Whs Mgr for PPE  616.331.3859\nKen Stanton, G","Grand Valley State University","1 Campus Drive",null,null,null,"Allendale","MI","49401-9403","Mr.","Cox","Safety Manager","School","Ottawa"]
["Grand Valley State University (DeHaan)","Brandon DeHaan",null," 616-331-3255",null," 616-331-3310","dehaanb@gvsu.edu",null,null,"Mike is a very nice guy currently buying eyewash caps to replace current, non approved models","Grand Valley State University","1 Campus Drive","Service Building",null,null,"Allendale","MI","49401-9403",null,"DeHaan","Assistant Director","School","Ottawa"]
["Grand Valley State University (Feenstra)","Dave Feenstra",null," 616-331-3856",null," 616-331-8530","feenstrd@gvsu.edu",null,null,"Tom Michalak Energy Engr 616.331.2696","Grand Valley State University","1 Campus Drive",null,null,null,"Allendale","MI","49401-9403","Mr.","Feenstra","Maintenance Supervisor","University","Ottawa"]
["Grand Valley State University (G.R.)","Greg Green",null,"616-331-3686",null,"616-331-3350",null,null,"NTU",null,"Grand Valley State University","Cook-Devos Center For Health Sciences","Attn:David Huzen CHS 455","301 Michigan Street NE",null,"Grand Rapids","MI","49503"]
["Grand Valley State University (Green)","Greg Green",null," 616-331-3686"," 616-281-3916"," 616-331-3350","greeng@gvsu.edu",null,null,"Abby is support staff in suite 200 Mingyu Wu","Grand Valley State University","Cook-Devos Center For Health Sciences","301 Michigan Street NE",null,null,"Grand Rapids","MI","49503","Mr.","Green",null,"Academia","Kent"]
["Grand Valley State University (Huizen)","Dave Huizen",null," 616-331-5596",null,null,"huizend@gvsu.edu",null,null,null,"Grand Valley State University","Cook-Devos Center For Health Sciences","301 Michigan Street NE",null,null,"Grand Rapids","MI","49503","Mr.","Huizen",null,"University","Kent"]
["Grand Valley State University (Lucksted)","William P. Lucksted",null," 616-331-6689",null," 616-331-7289","lucksteb@gvsu.edu",null,null,null,"Grand Valley State University","219 C Devos Center","401 W. Fulton St.",null,null,"Grand Rapids","MI","49504-6431","Mr.","Lucksted","Manager of Operations","University","Kent"]
["Grand Valley State University (Marcinkows","Jeff Marcinkowski",null," 616-331-3872",null," 616-331-8530","marcijef@gvsu.edu",null,null,null,"Grand Valley State University","107 Central Utilities Building","1 Campus Drive",null,null,"Allendale","MI","49401-9403","Mr.","Marcinkowski","Assistant Maintenance Supervis",null,"Ottawa"]
["Grand Valley State University (Michalak)","Tom Michalak",null," 616-331-2696",null," 616-331-8530","michalat@gvsu.edu",null,null,null,"Grand Valley State University","1 Campus Drive",null,null,null,"Allendale","MI","49401-9403","Mr.","Michalak","HVAC Tech","University","Ottawa"]
["Grand Valley State University (Muskegon)","Silvia Lichnerowicz",null,"616-331-6905",null,"616-331-6910",null,null,"Non-Tax",null,"Grand Valley State University (Muskegon)","Attn:Bill Lucksted","200 Viridian Dr.",null,null,"Muskegon","MI","49440"]
["Grand Valley State University (Rhodes-Sor","Valerie Rhodes-Sorrelle",null," 616-331-2283",null," 616-331-3287","rhodesv@gvsu.edu",null,null,null,"Grand Valley State University","277 Lake Michigan Hall","1 Campus Dr.",null,null,"Allendale","MI","49401-9403","Ms.","Rhodes-Sorrelle","C.P.M., A.P.P.","University","Ottawa"]
["Grand Valley State University (Schrotenbo","Mike Schrotenboer",null," 616-890-1908",null," 616-331-3230",null,null,null,"Michelle DeWitt  Purchasing  616.331.8925  dewittmi@gvsu.edu\nsold Eagle product to Jim \n-never fear the Fischer Scientific Competitive bid...non-existent","Grand Valley State University","Padnos Hall","1 Campus Drive",null,null,"Allendale","MI","49401-9403",null,"Schrotenboer","Maintenance","University","Ottawa"]
["Grand Valley State University (Seufert)","Jim Seufert",null," 616-331-8628",null," 616-331-3230","seufertj@gvsu.edu",null,null,"Tom Michalak Energy Engr 616.331.2696","Grand Valley State University","322a Padnos Hall","1 Campus Drive",null,null,"Allendale","MI","49401-9403","Mr.","Seufert","Lab Safety Specialist","Chemistry/Biology Lab","Ottawa"]
["Grand Valley State University (Snell)","Steve Snell",null," 616-331-3840",null," 616-331-3841","snells@gvsu.edu",null,null,null,"Grand Valley State University","1 Campus Drive",null,null,null,"Allendale","MI","49401-9403","Mr.","Snell","Arborist","School","Ottawa"]
["Grand Valley State University (Westrick)","Dale Westrick",null," 616-331-5795"," 616-331-7222"," 616-331-7222","westrida@gvsu.edu",null,null,null,"Grand Valley State University","Cook-Devos Center For Health Sciences","301 Michigan Street NE",null,null,"Grand Rapids","MI","49503","Mr.","Westrick","Assistant Equipment Coordinato","School","Kent"]
["Grandtech, Inc. (Van Harn)","J. C. Van Harn",null," 616-878-1000"," 616-293-9576"," 616-261-5988","grandtech@michwave.com",null,null,null,"Grandtech, Inc.","5665 Ivanrest Ave.  SW",null,null,null,"Grandville","MI","49418","Mr.","Van Harn","President","Contractor General","Kent"]
["Grandville DPW,City of","Dennis Nelson",null,"616-538-1990",null,"616-530-6255",null,null,"Non-Tax Municipality/Utility",null,"Grandville DPW, City of","4095 White St.",null,null,null,"Grandville","MI","49418"]
["Grandville WWTP, City of","Randy Hertstein",null,"616-457-0720",null,"616-457-0315",null,null,"Non-Tax Municipality/Utility",null,"Grandville WWTP, City of","Attn: Bill Grysen","4747 Jenison Rd",null,null,"Grandville","MI","49418","Mr.","Hertstein"]
["Grandville WWTP, City of (Grysen)","Bill Grysen",null," 616-457-0720",null," 616-457-0315",null,null,null,"Met 5.22.03  See Todd Wibright re: UCL Tanker Access Ladder. Also wants info on  UCL boom arms","Grandville WWTP, City of","4747 Jenison Road",null,null,null,"Grandville","MI","49418","Mr.","Grysen","Assistant Superintendent","Municipal, Cty","Kent"]
["Grandville WWTP, City of (Wibright)","Todd Wibright",null," 616-457-0720",null," 616-457-0315","wibrightt@cityofgrandville.com",null,null,null,"Grandville WWTP, City of","4747 Jenison Road",null,null,null,"Grandville","MI","49418","Mr.","Wibright","Superintendent","Municipal, Cty","Kent"]
["Grandville, City of (Cheshire)","Mike Cheshire",null," 616-538-1990",null," 616-530-6255",null,null,null,null,"Grandville, City of","4095 White Street",null,null,null,"Grandville","MI","49418","Mr.","Cheshire","Superintendent","Municipal, Cty","Kent"]
["Grandville, City of (Nelson)","Dennis Nelson",null," 616-538-1990",null," 616-530-6255","nelsond@cityofgrandville.com",null,null,"Bonnie orders PPE","Grandville, City of","4095 White Street",null,null,null,"Grandville","MI","49418","Mr.","Nelson","Operator","Municipal, Cty","Kent"]
["Grandville, City of (Robert)","Bonnie Robert",null," 616-538-1990",null," 616-530-6255",null,null,null,"Bonnie buys PPE","Grandville, City of","4095 White Street",null,null,null,"Grandville","MI","49418","Ms.","Robert",null,"Municipal, Cty","Kent"]
["Grant Tower",null,"Brian Sharp","231-834-5665",null,"231-834-7870",null,null,"Michigan Sales Tax",null,"Grant Tower","Attn:","13064 Wisner Ave.",null,null,"Grant","MI","49327"]
["Grant Tower (Sharp)","Brian Sharp",null," 231-834-5665",null," 231-834-7870","bsharp@granttower.com",null,null,null,"Grant Tower","13064 Wisner Ave",null,null,null,"Grant","MI","49327","Mr.","Sharp","Project Manager","Contractor, Excavator","Newaygo"]
["Grantex (Reynolds)","Gordon Reynolds Sr.",null," 616-241-1191",null," 616-245-3608","gmr@grantexinc.com",null,null,null,"Grantex","3433 Lousma Dr.",null,null,null,"Grand Rapids","MI","49548","Mr.","Reynolds",null,"Other","Kent"]
["Grapids Irrigation (Katerberg)","Aaron Katerberg",null," 616-235-6666 13",null," 616-235-1505",null,null,null,null,"Grapids Irrigation","800 Lafayette NE",null,null,null,"Grand Rapids","MI","49503","Mr.","Katerberg",null,"Contractor General","Kent"]
["Graver Technologies (Bellingham)","Bill Bellingham",null," 585-624-1330",null,null,"bbellingham@gravertech.com",null,null,null,"Graver Technologies","300 West Main Street",null,null,null,"Honeoye Falls","NY","14472","Mr.","Bellingham",null,"Manufacturer","Out of State"]
["Gray Bar Electric (Stratton)","Bill Stratton",null," 419-228-7441",null," 419-228-4049","william.stratton@gbe.com",null,null,null,"Gray Bar Electric","990 West Grand Ave.",null,null,null,"Lima","OH","45801","Mr.","Stratton",null,"Contractor Electrical","Out of State"]
["Graybar","Bill Stratton",null,"419-228-7441",null,"419-228-4049",null,null,"Out of State",null,"Graybar po#4503849966","Attn:Bill Stratton","990 W. Grand Ave",null,null,"Lima","OH","45801"]
["Grayling Fire Dept.","Steve Eddy",null,"989-348-6319",null,"989-348-0931",null,null,"Non-Tax Municipality/Utility",null,"Grayling Fire Dept.","Attn: Steve Eddy","1041 City Blvd.",null,null,"Grayling","MI","49738"]
["Great Canadian Holidays","Troy Thompson",null,"519-896-8687",null,"519-896-2373",null,null,"OUT OF COUNTRY",null,"Great Canadian Holidays","353 Manitou Drive",null,null,null,"Kitchener","ON","N2C 1L5"]
["Great Canadian Holidays (Thompson)","Troy Thompson",null," 800.461.8687"," 519-896-7352"," 519.896.2373","troythompson@greatcanadianholidays.com",null,null,null,"Great Canadian Holidays","36 Sasaga Drive",null,null,null,"Kitchener","ON","N2C 2G6","Mr.","Thompson",null,"Manufacturer","Out of State"]
["Great Lake Woods, Inc. (Riemersma)","Michael Riemersma",null," 616-399-3300",null," 616-399-3679","mriemersma@greatlakewoods.com",null,null,null,"Great Lake Woods, Inc.","3303 John F. Donnelly Dr.",null,null,null,"Holland","MI","49424","Mr.","Riemersma","Purchasing/Marketing",null,"Ottawa"]
["Great Lakes Access Inc.","Daniel Vandenberg","Rob Jones","616-248-5438",null,null,null,null,"NonTx Re-Sale",null,"Great Lakes Access Inc.","Attn: Rob","1935 Century Ave. SW",null,null,"Grand Rapids","MI","49503"]
["Great Lakes Contracting","Raymond J. Buikema","Jane Kalavitz","616-846-8888","616-638-0196 cell Ray","616-846-8899","jkalavitz@glccontracting.com",null,"NonTx Re-Sale","Jane Kalavitz - email: jkalavitz@glccontracting.com","Great Lakes Contracting","Raymond J. Buikema","14370 - 172nd Ave.",null,null,"Grand Haven","MI","49417-9000","Mr.","Buikema"]
["Great Lakes Contracting (Buikema)","Ray Buikema",null," 616-846-8888",null," 616-846-8899","ray@glccontracting.com",null,null,"Ken Osika, President\nRoger's Cell 616-638-0202 (pick-up/delivery guy)\nSold Jackson hard hats @ $12.00 ea.\nprice was balked at, try to find a better source\n-AO Safety is their faceshield preference\n-put together a general quote on PPE\n-Jane is key person and buyer\nUses white hard hats","Great Lakes Contracting","14370 - 172nd Avenue",null,null,null,"Grand Haven","MI","49417","Mr.","Buikema","President","Contractor General","Ottawa"]
["Great Lakes Contracting (Osika)","Ken Osika",null," 616-846-8888",null," 616-846-8899","kosika@glccontracting.com",null,null,null,"Great Lakes Contracting","14370 - 172nd Avenue",null,null,null,"Grand Haven","MI","49417","Mr.","Osika","Engineer","Contractor General","Ottawa"]
["Great Lakes Energy","Dan King","231-652-8179 Bev","231-652-1651","231-582-6521 acctng","231-652-8186","kfoster@glenergy.com",null,"Michigan Sales Tax","pays MI sales tax \nMust have PO on all orders over $1000\npurchasing agent Larry Failing 231-582-0288 ext 1324\nAccting phone 231-582-6521\naccting fx 231-582-3681\n\nsend the invoices via email to kfoster@glenergy.com as of 5/4/11","Great Lakes Energy","Attn:Bev Bumstead","1 Cooperative Center Drive",null,null,"Newaygo","MI","49337"]
["Great Lakes Energy (Boyne City)","Tim Hartwick",null,null,null,null,null,null,"Michigan Sales Tax",null,"Great Lakes Energy (Boyne City)","Attn: Tim Hartwick","1323 Boyne Ave.",null,null,"Boyne City","MI","49712"]
["Great Lakes Energy (Bumstead)","Bev Bumstead",null," 231-652-1651",null,null,"bbumstead@glenergy.com",null,null,"Stopped at the Hart, MI office and was referred to Bev in Newaygo\nMet with Bev and the co-Safety Director Dan King today","Great Lakes Energy","1 Cooperative Center Dr.",null,null,null,"Newaygo","MI","49337",null,"Bumstead","Safety Coordinator, Corp.","Utility","Muskegon"]
["Great Lakes Energy (Failing)","Larry Failing",null," 888-485-2537",null,null,null,null,null,"Met with Dan today -interested in grounding equipment and FR Harnesses","Great Lakes Energy","1323 Boyne Ave.",null,null,null,"Boyne City","MI","49712","Mr.","Failing","Purchasing","Utility","Mason"]
["Great Lakes Energy (King)","Dan King",null," 231-652-1651",null,null,"dking@glenergy.com",null,null,"Stopped at the GLE office in Hart, MI and was referred tot his person as well as their Newaygo office\n-follow up","Great Lakes Energy","1 Cooperative Center Dr.",null,null,null,"Newaygo","MI","49337","Mr.","King","Assistant Safety Director",null,"Muskegon"]
["Great Lakes Insulating Systems",null,"Christine Price / Dave Maltese","616-530-2327","299-0325 Cell Dave","616-530-2810",null,null,"Michigan Sales Tax",null,"Gale / Proside","Attn: Christine Price","3030 Sangra Ave. SW","Suite 101",null,"Grandville","MI","49418"]
["Great Lakes Marina (Geerlings)","Ed Geerlings",null," 231-759-8230",null," 231-755-6437","egeerlings@greatlakesmarina.com",null,null,null,"Great Lakes Marina","1920 Lakeshore Dr.",null,null,null,"Muskegon","MI","49441","Mr.","Geerlings","General Manager","Marine","Muskegon"]
["Great Lakes Painting (Taylor)","Rick Taylor",null," 616-399-6495",null," 616-399-6495","divers2@sbcglobal.net",null,null,null,"Great Lakes Painting","6547 Butternut Drive",null,null,null,"West Olive","MI","49460","Mr.","Taylor","President","Contractor General","Ottawa"]
["Great Lakes Safety & Supply","Cindy Mack",null,"219-865-5040",null,"219-865-5035",null,null,"NonTx Re-Sale","Giving terms for last chance 10/01/04 if they do not pay in a 30 day window then chance to COD","Great Lakes Safety & Supply","435 Junction Avenue",null,null,null,"Schererville","IN","46375-1349"]
["Great Lakes Safety & Supply (Shanley)","Meg Shanley",null," 708-354-2532"," 800-499-5253"," 708-352-1072","theshanleys@sbcglobal.net",null,null,null,"Great Lakes Safety & Supply","326 N. Ashland",null,null,null,"LaGrange","IL","60526","Ms.","Shanley",null,"Supplier","N/A"]
["Great Lakes Safety Code Red Safety and Re","Randall Hall",null," 281-998-8773",null," 281-998-3990","rhall@gas-monitor.net",null,null,null,"Great Lakes Safety Code Red Safety and Re",null,null,null,null,"TBD","TX",null,"Mr.","Hall",null,"Supplier","Out of State"]
["Great Lakes Sales & Marketing (Pritz)","Jim Pritz",null," 219-325-0637",null," 219-325-3096","jpritz@glsmi.com",null,null,null,"Great Lakes Sales & Marketing","601 State Street, Suite F",null,null,null,"LaPorte","IN","46350","Mr.","Pritz",null,"Representative","Out of State"]
["Great Lakes Trackworks (Roberts)","Jeff Roberts",null," 269-964-7053",null," 269-968-6726","admin@greatlakestrackworks.com",null,null,"Frida is office manager","Great Lakes Trackworks","PO Box 2341",null,null,null,"Battle Creek","MI","49016","Mr.","Roberts",null,"Contractor General","Calhoun"]
["Great Lakes Wood Finishing (Schon)","Andrew Schon",null," 616-399-3300",null,null,null,null,null,null,"Great Lakes Wood Finishing","3300 JF Donnelly",null,null,null,"Holland","MI","49444","Mr.","Schon","Safety Director","Manufacturer","Holland"]
["Green Valley Agricultural (Brown)","Chris Brown",null," 269-751-5856",null,null,"sfitzpatrick@greenvalleyag.com",null,null,null,"Green Valley Agricultural","5476  136th Avenue",null,null,null,"Hamilton","MI","49419","Mr.","Brown",null,"Chemical Pharmaceutical","Allegan"]
["Greenbrier PSD #1","Dave Grey",null,"304-645-6632",null,"304-645-5362",null,null,"Out of State",null,"Greenbrier PSD #1","Attn: Dave Grey","9035 Seneca Trail South",null,null,"Ronceverte","WV","24970"]
["Greenville Public Services, City of (Ledg","Thomas Ledger",null," 616-754-5098",null," 616-754-0538",null,null,null,null,"Greenville Public Services, City of","411 S. Lafayette Street",null,null,null,"Greenville","MI","48838","Mr.","Ledger","Director","Municipal, Cty","Montcalm"]
["Greenville Tool & Die","Mickey Bos",null,"616-754-5693",null,null,null,null,"Michigan Sales Tax",null,"Greenville Tool & Die","Attn: Mickey Bos","1215 South Lafayette Road",null,null,"Greenville","MI","48838"]
["Greenville WWTP, City of (Baxter)","Gene Baxter",null," 616-754-5802",null," 616-754-0538",null,null,null,null,"Greenville WWTP, City of","411 S. Lafayette Street",null,null,null,"Greenville","MI","48838","Mr.","Baxter","Superintendent","Municipal, Cty","Montcalm"]
["Groendyke Transport (Charles)","Trevor Charles",null," 580-213-9213",null," 580-242-3350","tcharles@groendyke.com",null,null,null,"Groendyke Transport","2510 Rock Island Blvd.",null,null,null,"Enid","OK","73701","Mr.","Charles",null,"Contractor General","Out of State"]
["Groendyke Transport (Gigoux)","Brian Gigoux",null," 580-213-9202"," 800-843-2103"," 580-242-3350","bgigoux@groendyke.com",null,null,"Trevor Charles works for Brian\nDon Querciagrossa is Brian's boss?","Groendyke Transport","2510 Rock Island Blvd.",null,null,null,"Enid","OK","73701","Mr.","Gigoux",null,"Contractor General","Out of State"]
["Groendyke Transport, Inc.","Brian Gigoux","Trevor Charles","580-213-9202",null,"580-242-3350",null,null,"Out of State","Crystal Gilbreath\nemail: cgilbreath@groendyke.com\n\nTrevor Charles, Purch\nPh:  580-213-9213\nfax: 580-242-3350\ntcharles@groendyke.com\n\nRobt. Bisel, A/P\n800.843.2103\nfax 580.213.9295","Groendyke Transport, Inc.","Attn: Brian Gigoux","299 East Donovan",null,null,"Kansas City","KS","66115"]
["Grooters Green Group","Howard McNees",null,"616-776-0033",null,"616-776-0070",null,null,"Michigan Sales Tax",null,"Grooters Green Group","Attn:Candy Starr","4633 Patterson Ave. SE","Suite B",null,"Grand Rapids","MI","49512"]
["Groundwater & Environmental Svc Inc.","Jenny Petoskey x-4377","800-263-1545","800-368-0337",null,null,null,null,"Out of State",null,"Groundwater & Environmental Svcs Inc.","Attn: Jenny Petoskey","4113 Vincennes Rd.",null,null,"Indianapolis","IN","46268"]
["GRR Pipe, Inc.","Shaun Beukema",null,"247-0307",null,"247-0322",null,null,"Non-Tax",null,"Grr Pipe, Inc.","Attn:PO- 021423","1649 Century S.W.",null,null,"Grand Rapids","MI","49503",null,"SEE NOTE IN ADDL INFO"]
["Guardian Fall Protection (Fickenworth)","John Fickenworth",null," 800-466-6385",null," 800-670-7892","johnf@guardianfall.com",null,null,"Kevin Holden  Let go 1.2010\nTroy in WA is an ass.\nDawn Pollock is nice. 6 -2 local  800.466.6385 x117\nLikelihood of being on shelf W.VA, TX, WA, OH, IL\nColumbus, OH\nChris Fosnaugh Natl Acct Exec P- 614/846-2525 *302  C- 614/302-6708\nper Pritz Tommy Lee certifies for SRL service\nJohn Fickenworth 513.446.8135 Guardian rep in Cincinatti\nSold 10.1.04   Bud & Wendy gone.  Ed Markwart (nee Spyder) lead now.\nJim Pritz 847-867-9489 new rep. Jim Dvorak Upper Midwest Territory Mgr\nShaun Barnes of  contact    Shaunb@guardianfall.com\n614.846.2525  x306   m 440.465.9393   fax 866.733.8170\nZach Van Norman Sutton Ignash mob 614.579.1974 inside support, OH\nGlenn Smith of OH is Inside Sales reg'l contact for CA FL Canada\nJasson Farrier Sales Mgr 614.846.2525 x301 jason@guardianfall.com\nKevin Holden Midwest Regl Mgr  mob 513.607.5955\nJoe Nolan East Coast Regl Mgr  mob 413.335.0250 not helpful\nEngg\n  Matt Vollmer (VP Opns)\n  Ben Rushwald","Guardian Fall Protection","26513 79th Avenue South",null,null,null,"Kent","WA","98032",null,"Fickenworth","Regional Manager","Supplier","Out of State"]
["GZA","Sue Swiger",null,"616-956-6123",null,"616-956-6171",null,null,"Michigan Sales Tax",null,"GZA","Attn: Sue Swiger","6159  -28th Street","Suite 24",null,"Grand Rapids","MI","49546"]
["H & K Construction (Todd)","Todd",null," 269-673-3098",null,null,null,null,null,null,"H & K Construction","770 N. Main St.",null,null,null,"Allegan","MI","49010",null,"Todd","Safety","Contractor General","Allegan"]
["H & M Demolition",null,"Phil Hekman / Scott Tucker","616-394-4201",null,"616-394-4307",null,null,"Michigan Sales Tax","Joleen pays bills inv fax:616-394-4304\n\nNO TERMS COD OR CASH ONLY NO EXEPTIONS","H & M Demolition","Attn:","4277 - 1/2 Blue Star",null,null,"Holland","MI","49423"]
["H & M Demolition (Tucker)","Scott Tucker",null," 616-394-4201",null," 616-394-4307",null,null,null,"Anthony mob 269.206.1296","H & M Demolition","4277 - 1/2 Blue Star",null,null,null,"Holland","MI","49423","Mr.","Tucker","Owner","Contractor General","Ottawa"]
["H & P Technologies",null,null,null,null,null,null,null,"NonTx Re-Sale"]
["H D Edwards & Co. (Potter)","John Potter",null," 313-834-3388",null," 313-834-1757",null,null,null,null,"H D Edwards & Co.","8550 Linder Ave","PO Box 38250",null,null,"Detroit","MI","48238-0250","Mr.","Potter",null,null,"Wayne"]
["H&H Tube","Dawn Sullivan (purchasing)","Ken Ide","989-983-2800",null,"989-983-2710",null,null,"Non-Tax",null,"H&H Tube","Attn:","579 Garfield St.",null,null,"Vanderbilt","MI","49795"]
["H. C. Brill Company","Michael Diehl",null,"404-519-5191 cell",null,"770-938-8668",null,null,"Michigan Sales Tax",null,"H. C. Brill Company","Attn: Mike Diehl","1912 Montreal Road",null,null,"Tucker","GA","30084"]
["H.S. Die and Engineering, Inc. (Galentine","Seth Galentine",null," 616-453-5451",null," 616-453-4590","sgalentine@hsdie.com",null,null,null,"H.S. Die and Engineering, Inc.","0-215 Lake Michigan Dr. NW",null,null,null,"Grand Rapids","MI","49534",null,"Galentine","Purchasing","Tooling and Engineering","Ottawa"]
["H2scan Corporation (Witzel)","Ken Witzel",null," 800-760-6924",null," 949-721-9647","kenwitzeldetgas@aol.com",null,null,"Cyril Berg 661.775.9575 x618","H2scan Corporation","PO Box 844",null,null,null,"Corona del Mar","CA","92625","Mr.","Witzel",null,"Supplier","Out of State"]
["Hagan Pipe Testing Inc.","Larry Hagan",null,"502-426-5670",null,null,null,null,"Out of State",null,"Hagan Pipe Testing Inc.","Attn: Larry Hagan","1400 Girard Dr.",null,null,"Louisville","KY","40222"]
["Hagemeyer North America","Susan Williams",null,"231-894-7019",null,null,null,null,"Non-Tax",null,"Howmet Plant 5  (Hagemeyer)","Howmet PO#D5-59860-P","1600 S. Warner St.",null,null,"Whitehall","MI","49461"]
["Hall Electric Co. (Leenhauts)","Nate Leenhauts",null,"(231) 726-5001",null,null,"nleenhouts@halljones.com",null,null,null,"Hall Electric Co.","1965 Sanford Street",null,null,null,"Muskegon","MI","49441",null,"Leenhauts","Estimator","Contractor Electrical","Muskegon"]
["Hallack Contracting, Inc. (Hallack)","Dan Hallack",null," 231-873-5081",null,null,null,null,null,null,"Hallack Contracting, Inc.","4223 W. Polk Rd.",null,null,null,"Hart","MI","49420",null,"Hallack"," -","General Contractor","Oceana"]
["Hamilton Farm Bureau (Kiss)","Kathy Kiss",null," 269-751-5171 7107",null," 269-751-5206","kkiss@hfb.com",null,null,"Gary Brink\nBW training at Holland location; Bob Neinhuis is manager","Hamilton Farm Bureau","4670 E. Washington",null,null,null,"Hamilton","MI","49419","Ms.","Kiss",null,"Food","Ottawa"]
["Hamilton Farm Bureau/CHS","Kathy Kiss ext. 7107",null,"269-751-5171",null,"269-751-5206",null,null,"Michigan Sales Tax",null,"Hamilton Farm Bureau","Attn: Kathy Kiss","4670 E. Washington",null,null,"Hamilton","MI","49419"]
["Hamilton Steel Fabricators (Lampen)","Rudy Lampen",null," 269-751-8757",null,null,null,null,null,null,"Hamilton Steel Fabricators","3290 M-40 Hwy.",null,null,null,"Hamilton","MI","49419","Mr.","Lampen","Safety Director","Steel Fabrication","Allegan"]
["Hammersmith","Russ Campbell",null,"616-452-2400",null,"616-452-0353","russc@hamersmithequipment.com",null,"Michigan Sales Tax",null,"Hammersmith","Attn: Russ Campbell","1621 Century Ave. SW",null,null,"Grand Rapids","MI","49503"]
["Hammersmith Equipment Col. (Campbell)","Russ Campbell",null," 616-452-2400",null," 616-452-0353","russc@hammersmithequipment.com",null,null,null,"Hammersmith Equipment Col.","1621 Century Avenue SW",null,null,null,"Grand Rapids","MI","49503","Mr.","Campbell",null,"Competitor","Kent"]
["Hampton Fire Department","Ron Rybak",null,"989-893-7791",null,null,null,null,"Non-Tax Municipality/Utility",null,"Hampton Fire Department","Attn: Ron Rybak","949 North Wagner Rd.",null,null,"Essexville","MI","48732"]
["Hansen Balk",null,"Brian Hunter",null,"616-458-1414","616-458-6868","bhunter@hansenbalk.com",null,"Non-Tax","spoke to nicloel 8/17/09 and explained that we can do CC at delivery ofr 30 days but not cc at 30 days. I will put this one  through but she will change in their system not ot do again","Hansen Balk","Brian Hunter","1230 Monroe Ave. NW",null,null,"Grand Rapids","MI","49505"]
["Hansen Balk Steel Treating Company (Hunte","Brian Hunter",null," 616-458-1414",null," 616-458-6868","bhunter@hansenbalk.com",null,null,null,"Hansen Balk Steel Treating Company","1230 Monroe Ave. NW",null,null,null,"Grand Rapids","MI","49505","Mr.","Hunter","Operations Manager","Manufacturer","Kent"]
["Hanson Brick",null,null,"817-690-8132",null,null,null,null,"Out of State",null,"Hanson Brick","Attn:","500 NE 14th Ave.",null,null,"Mineral Wells","TX","76067"]
["Hanson Brick (Anderson)","Paul Anderson",null," 817-690-8132",null,null,"paul.anderson@hanson.com",null,null,"GEMS for several sites?","Hanson Brick","500 NE 14th Avenue",null,null,null,"Mineral Wells","TX","76067","Mr.","Anderson","Engineering Manager","Manufacturer","Out of State"]
["Harbor Isle Marina (Daniels)","Jeff Daniels",null," 269-982-0812",null,null,null,null,null,null,"Harbor Isle Marina","143 Anchor's Way",null,null,null,"St. Joseph","MI","49085","Mr.","Daniels","General Manager","Marine","Allegan"]
["Harbor Steel (Adam)","Adam",null," 231-739-7152",null," 231-733-0544",null,null,null,null,"Harbor Steel","1115 E. Broadway",null,null,null,"Muskegon","MI","49444",null,"Adam","Purchasing Manager","Steel","Muskegon"]
["Hardman Construction inc. (Loeser)","Jeff Loeser",null," 231-845-1236",null,null,null,null,null,"Jeff uses mostly all Guardian Products and is lookinginto a dual SRL or Double Legged Lanyard with Rebar ends\nQuoted and he was able to go wihtout","Hardman Construction inc.","242 South Brye Rd.",null,null,null,"Ludington","MI","49431",null,"Loeser","Safety and Site Manager Campbe","Contractor General","Mason"]
["Hardtech (Preston)","Phil Preston",null," 517-244-8812",null," 517-244-8899","phil.preston@hardtech.gestamp.com",null,null,null,"Hardtech","200 Kipp",null,null,null,"Mason","MI","48854","Mr.","Preston","EH&S Manager","Automotive","Ingham"]
["Harietta State Fish Hatchery (Chesney)","Jeri Chesney",null," 231-389-2211",null," 231-389-2910","chesneyj@michigan.gov",null,null,"Jeri is the Overseeing Safety Director for the Fish Hatcheries of Michigan\nInterested in Gas Detection","Harietta State Fish Hatchery","6801 Thirty Mile Rd.",null,null,null,"Harietta","MI","49638-9701",null,"Chesney","Maintenance Mechanic/Safety","State","Wexford"]
["Harlan W Van Blaricum"," Nancy Van Blaricum","Harlan Van Blaricum","734-426-3341",null,null,"hwvb4@yahoo.com",null,"Michigan Sales Tax",null,"Harlan W Van Blaricum","Attn: Harlan Van Blaricum","9880 Island Lake Road",null,null,"Dexter","MI","48130"]
["Harmsen Construction",null,"Dave Harmsen","616-772-2200",null,"616-772-2299",null,null,"Michigan Sales Tax",null,"Harmsen Construction","Attn:","2437 84th Ave.",null,null,"Zeeland","MI","49464"]
["Harmsen Construction (Harmsen)","Scott Harmsen",null," 616-772-2200",null," 616-772-2299",null,null,null,null,"Harmsen Construction","2437 84th Ave.",null,null,null,"Zeeland","MI","49464","Mr.","Harmsen","Safety",null,"Ottawa"]
["Hart DPW (Whitney)","Brad Whitney",null," 231-638-2052",null,null,null,null,null,"Met with Brad and a worker there...Jason griggs","Hart DPW","1010 S. State St.",null,null,null,"Hart","MI","49420","Mr.","Whitney","Supervisor","Municipal, Cty","Oceana"]
["Hart DPW, City of","Brad Whitney",null,"231-873-2488",null,null,null,null,"Non-Tax Municipality/Utility",null,"Hart DPW, City of","Attn: Brad Whitney","407 S. State Street",null,null,"Hart","MI","49420"]
["Hart DPW, City of (Dillingham)","Dave Dillingham",null," 231-873-3100",null," 231-873-1557",null,null,null,null,"Hart DPW, City of","407 S. State Street",null,null,null,"Hart","MI","49420","Mr.","Dillingham","Superintendent","Municipal, Cty","Oceana"]
["Hart WWTP, City of","Brian Gifford",null,"231-873-2259",null,"231-873-7451",null,null,"Non-Tax Municipality/Utility",null,"Hart WWTP, City of","Attn: Brian Gifford","2687 North 88th Ave",null,null,"Hart","MI","49420"]
["Hartford Insurance Company (Longman)","Eric Longman",null," 616-891-7949",null,null,"elongman@thehartford.com",null,null,null,"Hartford Insurance Company","7585 Thornapple River Dr.",null,null,null,"Caledonia","MI","49316","Mr.","Longman","Loss Control Manager","Insurance","Kent"]
["Hartford Insurance Company (Ringnalda)","Kenneth Ringnalda",null," 616-261-2297"," 800-759-1579 57447"," 616-261-2297","kringnalda@thehartford.com",null,null,"Info on quiet air nozzles. ASSE noise presentation.","Hartford Insurance Company","3949 Sparks Drive SE  Ste 110",null,null,null,"Grand Rapids","MI","49546-6193","Mr.","Ringnalda","Sr. Loss Control Consultant","Insurance","Kent"]
["Hastings Mutual Insurance Company",null,"Dick Love","616-742-5821",null,"877-520-0452",null,null,"Michigan Sales Tax",null,"Hastings Mutual Insurance Company","Attn:","2138 Globe NE",null,null,"Grand Rapids","MI","49503"]
["Hastings Mutual Insurance Company (Longma","Eric Longman",null," 269-671-4122",null," 877-520-4369","elongman@hastingsmutual.com",null,null,null,"Hastings Mutual Insurance Company","15928 Woodlawn Beach Drive",null,null,null,"Hickory Corners","MI","49060","Mr.","Longman","Loss Control Manager","Insurance","Kent"]
["Hastings Mutual Insurance Company (Love)","Dick Love",null," 616-742-5821",null," 877-520-0452","dlove@hastingsmutual.com",null,null,null,"Hastings Mutual Insurance Company","2138 Globe NE",null,null,null,"Grand Rapids","MI","49503","Mr.","Love","Senior Loss Control Consultant","Insurance","Kent"]
["Hauschild Custom Builder & Remodeler, Inc",null,"Matt Hauschild","616-676-1723","616-299-1167 Cell","616-676-1723",null,null,"Michigan Sales Tax",null,"Hauschild Custom Builder & Remodeler, Inc","Attn:","9650 - 2 Mile Road",null,null,"Lowell","MI","49331"]
["Havel, An Emcor Company (Sherwood)","Tyler Sherwood",null," 269-344-9646",null," 269-344-3621","tsherwood@shambaugh.com",null,null,null,"Havel, An Emcor Company","8233 Neptune","Sutie #1",null,null,"Kalamazoo","MI","49009","Mr.","Sherwood",null,"Contractor Electrical","Kalamazoo"]
["Haviland Corp.","Jan Bell / Milo",null,"361-6691  x233",null,null,null,null,"Michigan Sales Tax",null,"Haviland Corp.","Attn:Milo","421 Ann St. NW",null,null,"Grand Rapids","MI","49504"]
["Haviland Products Company (Mastbergen)","Bob Mastbergen",null," 616-361-6691",null," 616-361-9772",null,null,null,null,"Haviland Products Company","421 Ann Street NW",null,null,null,"Grand Rapids","MI","49504-2075","Mr.","Mastbergen","HazMat Coordinator","Chemical Pharmaceutical","Kent"]
["Haviland Products Company (Westman)","Rick Westman",null," 616-361-6691 209",null," 616-361-9772",null,null,null,"Stopped by K'zoo plant, met Kevin Rex. Said will show UCL tanker access ladder lit to Brian Brannan (plant supr) 800.627.2111","Haviland Products Company","421 Ann Street NW",null,null,null,"Grand Rapids","MI","49504-2075","Mr.","Westman","Safety Manager","Chemical Pharmaceutical","Kent"]
["Haworth Big Rapids Components (Bussell)","Chris Bussell",null," 231-527-6662",null,null,null,null,null,null,"Haworth Big Rapids Components","300 N. Bronson Ave.",null,null,null,"Big Rapids","MI","49307","Mr.","Bussell",null,"Furniture","Mecosta"]
["Haworth Inc. (DeCrocker)","Brian DeCrocker",null," 231-845-0607",null,null,null,null,null,"brian is seen strictly by appt.","Haworth Inc.","5170 Progress Dr.",null,null,null,"Ludington","MI","49431",null,"DeCrocker","Site Safety Manager","Furniture","furniture Manufacturing"]
["Haworth, Inc. (Brandsen)","Ken Brandsen",null," 616-393-1999",null,null,"ken.brandsen@haworth.com",null,null,null,"Haworth, Inc.","One Haworth Center",null,null,null,"Holland","MI","49423","Mr.","Brandsen","Corporate EH&S Manager","Furniture","Ottawa"]
["Haworth, Inc. (Kozminski)","Jim Kozminski",null," 616-393-1533",null,null,null,null,null,"Doing real-time aerosol monitoring for wood dust\nJack Verbeek x1523\nRed Brown x4137 Dryer for rags","Haworth, Inc.","One Haworth Center",null,null,null,"Holland","MI","49423","Mr.","Kozminski","Environmental Engineer","Furniture","Ottawa"]
["Haworth, Inc. (Sanders)","Carl Sanders",null,null,null,null,null,null,null,null,"Haworth, Inc.","One Haworth Center",null,null,null,"Holland","MI","49423","Mr.","Sanders","Safety Engineer","Furniture","Ottawa"]
["Haworth, Inc. (Utsey)","Lori Utsey",null," 269-673-5421",null,null,null,null,null,null,"Haworth, Inc.","640 River St.",null,null,null,"Allegan","MI","49010","Mrs.","Utsey","Safety Director","Furniture","Allegan"]
["Hayes Lemmerz (Brink)","Paul Brink",null," 517-299-0120",null,null,"pbrink@hayes-lemmerz.com",null,null,null,"Hayes Lemmerz",null,null,null,null,"Lansing","MI",null,"Mr.","Brink",null,"Automotive","Ingham"]
["Hayes Lemmerz (Todabaugh)","Eric Todabaugh",null," 231-894-3420",null," 231-894-4706",null,null,null,null,"Hayes Lemmerz","5353 Wilcox Rd.",null,null,null,"Montague","MI","49437","Mr.","Todabaugh","Safety","Automotive","Muskegon"]
["Hayes Mechanical","Terry Ancel","Matt Ireland","773-784-0000","773-910-5891 Cell","773-784-0010",null,null,"Michigan Sales Tax",null,"Hayes Mechanical","Attn:","2160 N. Ashland Ave.",null,null,"Chicago","IL","60614"]
["Hazco Services","Kevin Smith",null,"586-840-3200",null,"586-840-3201",null,null,"Michigan Sales Tax",null,"Hazco Services","Attn: Kevin Smith","46400 Continental Dr.",null,null,"Chesterfield","MI","48047"]
["HazMat Solutions",null,null,"616-850-9036","269-317-8220","616-850-3029","sue@hazmatsolutions.net",null,"Michigan Sales Tax","Dean Blauser\nSusan Blauser","HazMat Solutions","Attn:","13750 - 172nd Ave",null,null,"Grand Haven","MI","49417","Mr.","Blauser"]
["HazMat Solutions, Inc. (Blauser)","Dean Blauser",null," 616-850-9036",null," 616-850-3029","dean@hazmatsolutions.net",null,null,null,"HazMat Solutions, Inc.","13623 Lakeshore Drive",null,null,null,"Grand Haven","MI","49417","Mr.","Blauser","Hazardous Materials Specialist","Contractor EH&S","Ottawa"]
["HBK Engineering","Doran Durling",null,"312-432-0076",null,null,null,null,"Out of State",null,"HBK Engineering","Attn:","921 W. Van Buren St.",null,null,"Chicago","IL","60607"]
["HC Brill (Diehl)","Michael Diehl",null,null,null," 770-938-8668","michael.diehl@hcbrill.com",null,null,null,"HC Brill","1912 Montreal Road",null,null,null,"Tucker","GA","30084","Mr.","Diehl","Sr. Project Engineer","Food","Out of State"]
["HC Starck Fabricated Products (Damrau)","Larry Damrau",null," 517-279-9511",null," 517-279-9512",null,null,null,null,"HC Starck Fabricated Products","460 Jay Street",null,null,null,"Coldwater","MI","49036","Mr.","Damrau",null,"Steel","Branch"]
["HC Starck Inc. (Viland)","Don Viland",null," 517-279-3549 372",null," 517-279-9512","don.viland@hcstarck.com",null,null,"Dan Flinta gone to IN. Bought 3 BW Max's. Quote DeTunes and Zem.","HC Starck Inc.","460 Jay Street",null,null,null,"Coldwater","MI","49036","Mr.","Viland","Sr. HSE Engineer","Steel","Branch"]
["Health / Safety Training & Consulting","Ed Sarin",null,"989-302-1201",null,"408-228-8459","esarin@core.com",null,"Michigan Sales Tax",null,"Health / Safety Training & Consulting","Attn:","345 Goldenrod",null,null,"Houghton Lake","MI","48629","Mr.","Sarin"]
["Health / Safety Training & Consulting (Ca","Scott Carroll",null,null,null," 231-946-4945","carrollhstc@aol.com",null,null,null,"Health / Safety Training & Consulting","PO Box 2458",null,null,null,"Traverse City","MI","48685-2458","Mr.","Carroll","President","Contractor EH&S","Grand Traverse"]
["Health / Safety Training & Consulting (Sa","Ed Sarin",null,null," 989-302-4328"," 614-386-7210","esarin@charter.net",null,null,null,"Health / Safety Training & Consulting","345 Goldenrod",null,null,null,"Houghton Lake","MI","48629","Mr.","Sarin",null,"Contractor EH&S","Roscommon"]
["Heartland Environmental","John Sill","Bonnie","574-289-1191",null,"574-289-7480",null,null,"Out of State",null,"Heartland Environmental","Attn:John Sill","3410 Mishiwaka Avenue",null,null,"South Bend","IN","46615"]
["Heartland Environmental (Sill)","John Sill",null," 574-289-1191",null," 574-289-7480","jasill@heartlandenv.com",null,null,null,"Heartland Environmental","3410 Mishiwaka Avenue",null,null,null,"South Bend","IN","46615","Mr.","Sill",null,"Contractor EH&S","Out of State"]
["Heath Outdoor Products","Tom Vander Voord",null,null,null,null,null,null,"Michigan Sales Tax",null,"Heath Outdoor Products","Attn: Tom Vander Voord","140 Mill St.",null,null,"Coopersville","MI","49404"]
["Heath Outdoor Products (Voord)","Tom Vander Voord",null," 616-997-8181 29",null," 616-997-9491","tvandervoord@heathmfg.com",null,null,null,"Heath Outdoor Products","140 Mill Street",null,null,null,"Coopersville","MI","49404","Mr.","Voord",null,"Manufacturer","Kent"]
["Heinz (Holland)","Lance Buffinga",null,"616-836-9611 cell",null,null,null,null,"Michigan Sales Tax","11/19/2010:  B3 gave approval eventhough at the time we had one \"good\" reply from their references.","Heinz (Holland)","Attn: Lance Buffinga","431 West 16th Street",null,null,"Holland","MI","49423"]
["Helms Caulking (Eisen)","Bruce Eisen",null," 616-538-7520",null," 616-538-6944",null,null,null,null,"Helms Caulking","6724 Pine Ridge Court",null,null,null,"Jenison","MI","49428","Mr.","Eisen","Safety","Contractor General","Ottawa"]
["Hemlock Semiconductor Corp.","Keith McCoy",null,"989-642-5201x2581","cell 989-859-7095",null,null,null,"Michigan Sales Tax",null,"Hemlock Semiconductor Corp.","Deliver to Main Gate -Keith McCoy","12334 Geddes Rd.",null,null,"Hemlock","MI","48626"]
["Heneveld Group LLC",null,null,"616-772-5957",null,"616-772-4287",null,null,"Michigan Sales Tax","Joe Ricord - Direct: 616-648-3294\n\n10/5/10 Credit refferences came back that they pay on 60 Days average. Spoke to the president Dan Heneveld and he assures me they ewill pay in net 30. we will hold his personal card as back up  if they don't pay call him before running.","Heneveld Group LLC","Attn:","480 N. Fairview Road",null,null,"Zeeland","MI","49464"]
["Henkel Chemical Management",null,null,"615-255-7222",null,"615-255-4659",null,null,"Non-Tax",null,"Magna Donnelly Corp/545","C/O Henkel Chemical Mgmt","Control# WC110906A","700 South Park Drive",null,"Newaygo","MI","49337"]
["Herbruck's (Crosby)","Dave Crosby",null," 616-902-4157",null,null,"dcrosby@herbrucks.com",null,null,null,"Herbruck's","478 West Porland",null,null,null,"Lake Odessa","MI","48849","Mr.","Crosby",null,"Poultry","Ionia"]
["Herbruck's (Lake Odessa - Farm)","Joe Whorley","Rich Miller","616-642-9421","616-902-2017 cell RM","616-642-9826",null,null,"Michigan Sales Tax","e-mail invoices to phuver@herbrucks.com\n\nShip to Rich Miller at:\n478 West Porland\nLake Odessa, MI 48849","Herbruck's (Lake Odessa - Farm)","Attn: Rich Miller","478 West Porland",null,null,"Lake Odessa","MI","48849","Mr.","Whorley"]
["Herbruck's (Miller)","Rich Miller",null," 616-642-9421",null," 616-642-9826","rmiller@herbrucks.com",null,null,null,"Herbruck's","478 West Porland",null,null,null,"Lake Odessa","MI","48849","Mr.","Miller",null,"Poultry","Ionia"]
["Herbruck's (Whorley)","Joe Whorley",null," 616-642-9421 1154",null," 616-642-9826",null,null,null,null,"Herbruck's","6425 W. Grand River Ave.",null,null,null,"Saranac","MI","48881","Mr.","Whorley","Production Manager","Poultry","Ionia"]
["Hercules Inc.","John McCallar","Josepine Cooper","912-966-6239",null,null,null,null,"Michigan Sales Tax",null,"Hercules Inc.","John McCallar","3000 Louisville Road",null,null,"Savannah","GA","31415"]
["Hercules Incorporated (McCallar)","John McCallar",null," 912-966-6239",null," 912-966-6202","jmccallar@herc.com",null,null,null,"Hercules Incorporated","3000 Louisville Road",null,null,null,"Savannah","GA","31415","Mr.","McCallar","Purchasing","Chemical Pharmaceutical","Out of State"]
["Hercules Incorporated (Murawski)","Rich Murawski",null," 601-584-3235",null," 601-584-3206","rmurawski@herc.com",null,null,null,"Hercules Incorporated","613 W. 7th Street",null,null,null,"Hattiesburg","MS","39401","Mr.","Murawski","Quality Coach","Chemical Pharmaceutical","Out of State"]
["Hercules Incorporated (Nutt)","Kim Nutt",null," 503-224-1200 274",null," 503-227-0073","knutt@herc.com",null,null,null,"Hercules Incorporated","3366 NW Yeon",null,null,null,"Portland","OR","97210","Ms.","Nutt","Safety & Environmental Supervi","Chemical Pharmaceutical","Out of State"]
["Heritage Farms (Zeerip)","Susan and Craig Zeerip",null," 231-854-8846",null," 231-854-1425","heritage@ncats.net",null,null,"Craig and Susan are very nice and seemed to be a very low-maintenance safety customer","Heritage Farms","1888 S. Maple Island Rd.",null,null,null,"Fremont","MI","49412","Mr.","Zeerip","Owners/Operators","Fruit and Farming","Lake"]
["Heritage Management","Adam Ketner","Tim Young","616-485-0595","616-458-9722",null,"tim@heritagemanagement.info",null,"Michigan Sales Tax","09/20/2011:  Net30 per Elizabeth","Heritage Management","68 Ransom NE, Suite A",null,null,null,"Grand Rapids","MI","49503"]
["Herman Miller (Spring Lake)","Rich DeLeau - 836-8061 cell","616-296-5877","616-296-5997","Deb Lambert","616-296-4188",null,null,"Michigan Sales Tax",null,"Herman Miller (Spring Lake)","Attn: Rich DeLeau","LOC:  1108","855 East Main Ave",null,"Zeeland","MI","49464"]
["Herman Miller (Zeeland)",null,null,null,null,null,null,null,"Michigan Sales Tax",null,"Herman Miller (Zeeland)","Attn:Jamie Bauer","855 E. Main Ave",null,null,"Zeeland","MI","49464"]
["Herman Miller Inc. (Arocha)","Mary Arocha",null," 616-836-8907",null,null,null,null,null,null,"Herman Miller Inc.","855 East Main Avenue",null,null,null,"Zeeland","MI","49464","Mrs.","Arocha","Safety Coordinator","Furniture","Ottawa"]
["Herman Miller Inc. (Bosch)","Roger Bosch",null," 616-836-8907",null,null,"roger_bosch@hermanmiller.com",null,null,null,"Herman Miller Inc.","855 East Main Avenue",null,null,null,"Zeeland","MI","49464","Mr.","Bosch","Electrical Plant Engineer","Furniture","Ottawa"]
["Herman Miller Inc. (Egeler)","Tom Egeler",null," 616-654-5736",null," 616-654-3345","tom_egeler@hermanmiller.com",null,null,null,"Herman Miller Inc.","17170 Hickory St.",null,null,null,"Spring Lake","MI","49546","Mr.","Egeler","Supervising Safety Specialist","Furniture","Ottawa"]
["Herman Miller Spring Lake (Lambert)","Deb Lambert",null," 616-296-5877",null," 616-296-4188","deb_lambert@hermanmiller.com",null,null,null,"Herman Miller Spring Lake","17170 Hickory",null,null,null,"Spring Lake","MI","49456","Ms.","Lambert",null,"Furniture","Ottawa"]
["Herman Miller Spring Lake (Wolbrink)","Steve Wolbrink",null,"616 654 7878",null," 616-296-7881","steve_wolbrink@hermanmiller.com",null,null,"Pat Braak","Herman Miller Spring Lake","17155 Van Wagner Road",null,null,null,"Spring Lake","MI","49456","Mr.","Wolbrink","Safety","Furniture","Ottawa"]
["Hesperia DPW (Ward)","Ken Ward",null," 231-854-3029"," 231-854-6205 HALL"," 231-854-0263",null,null,null,null,"Hesperia DPW","33 E. Michigan",null,null,null,"Hesperia","MI","49421","Mr.","Ward","Supervisor","Municipal, Cty","Lake"]
["HexArmor",null,null,"616-459-4144",null,"616-459-2242",null,null,"Michigan Sales Tax",null,"HexArmor","Attn:","2000 Oak Industrial Drive NE",null,null,"Grand Rapids","MI","49505"]
["Hibbard In Shore","Andrew Fonts",null,"248-330-5951",null,null,"shop@hibbardinshore.com",null,"Michigan Sales Tax",null,"Hibbard In Shore","Attn: Andrew Fonts","361 Gallogly Rd.",null,null,"Lake Angelus","MI","48326"]
["Hidecker Wheatlike","Mike Sims",null,"231-832-1170",null,"231-832-4385","mike_sims@rcpls",null,"Michigan Sales Tax",null,"Hidecker Wheatlike","PO Box 147","420 Roth Street",null,null,"Reed City","MI","49677"]
["High Concrete Group","Jaime Ollila",null,"937-748-5730",null,"937-748-9748",null,null,"Out of State",null,"High Concrete Group","Attn:","95 Mound Park Drive",null,null,"Springboro","OH","45066"]
["High Voltage Maintenance","Eric Nation",null,"937-278-0811",null,"937-278-7791",null,null,"Non-Tax",null,"High Voltage Maintenance","Attan: Eric Nation","5100 Energy Drive, ",null,null,"Dayton","OH","45414"]
["Highlight Industries, Inc. (Smit)","Kathy Smit",null," 616-531-2464 208",null," 616-531-1720","kathys@highlightindustries.com",null,null,"Safety contact is Carl Reiser, Prodn Mgr x202","Highlight Industries, Inc.","2694 Prairie Street SW",null,null,null,"Wyoming","MI","49509","Ms.","Smit","Purchasing Manager","Manufacturer","Kent"]
["Hilite Int'l (Bazzett)","Lou Bazzett",null," 231-894-3336",null," 231-894-3255","lou.bazzett@us.hilite.com",null,null,null,"Hilite Int'l","2001 Peach St",null,null,null,"Whitehall","MI","49461","Ms.","Bazzett",null,null,"Muskegon"]
["Hillsdale County Sheriff's Dept.","Lt. David Braxmaier",null,"517-437-7317",null,"517-437-0822",null,null,"Michigan Sales Tax",null,"Hillsdale County Sheriff's Dept.","Attn: Lt. David Braxmaier","165 West fayette Street",null,null,"Hillsdale","MI","49242"]
["Hoffman & Harpst Co., Inc.","Denny Dixon","Shirley - Accounting","419-241-8134",null,"419-241-1927","shirleyhoffmanharpst@yahoo.com",null,"OH Lucas Co.","email Shirley paid invoice","Hoffman & Harpst Co., Inc.","Attn:","642 E. Woodruff Ave.",null,null,"Toledo","OH","43604"]
["Hogan & Associates, Theodore J. (Hogan)","Ted Hogan",null," 630-257-3939 101",null," 630-257-3121","dfedor@tjhinc.com",null,null,"TH, Dan Fedor, and Robt Tsai started Prototrack","Hogan & Associates, Theodore J.","103 Stephen Street",null,null,null,"Lemont","IL","60439","Mr.","Hogan",null,"Contractor EH&S","Out of State"]
["Holcim (Hagerstown)",null,null,"301-739-1150",null,null,null,null,"Out of State","Ralph Belin - ext.268\nralph.belin@holcim.com","Holcim (Hagerstown)","Attn: Ralph Belin","1260 Security Road",null,null,"Hagerstown","MD","21742"]
["Holcim - Hagerstown (Belin)","Ralph Belin",null," 301-739-1150 268",null,null,"ralph.belin@holcim.com",null,null,null,"Holcim - Hagerstown","1260 Security Road",null,null,null,"Hagerstown","MD","21742","Mr.","Belin",null,"Manufacturer","Out of State"]
["HOLD FOR NEW CUSTOMER",null,null,null,null,null,null,null,"Michigan Sales Tax"]
["Holland (Bowden)","Colline Bowden",null," 231-773-3271 4329",null," 231-773-4655",null,null,null,"Mike Ferenz gone see Colline","Holland","1950 Industrial Blvd.",null,null,null,"Muskegon","MI","49443","Ms.","Bowden","Safety Contact","Manufacturer","Muskegon"]
["Holland Bar Stool Co.","Chad Lemmen",null,"616-396-6311",null,"616-399-6037",null,null,"Michigan Sales Tax",null,"Holland Bar Stool Co.","Attn: Chad","12839 Corporate Circle Place",null,null,"Holland","MI","49424"]
["Holland BPW","Rita Meurer","David Cyrus","616-355-1581 Amy 1582","616-355-1646","616-355-1550","accountspayable@hollandbpw.com",null,"Non-Tax Municipality/Utility","Accounts payable phone 616-355-1517\nfax 616-355-1550\ne-mail invoices to accountspayable@hollandbpw.com\nA/P Ms. Sam Roberts 616.355.1516\nA/P Ms. Janie Avery 616.355.1517\n\nSHIPPING HAS TO BE A QUOTED LINE ITEM\nHolland UPS Acct# 4XX133\n\n","Holland BPW","Attn: Water Treatment","625 Hastings Ave.",null,null,"Holland","MI","49423"]
["Holland BPW J.D.Y. Power Plant, City of","Paul Gamby",null,"616-355-1208","616-355-1581","616-355-1240",null,null,"Michigan Sales Tax","SHIPPING HAS TO BE A QUOTED LINE ITEM\nHolland UPS Acct# 4XX133\n\nA/P Ms. Sam Roberts 616.355.1516\nA/P Ms. Janie Avery 616.355.1517\n\nFred Heiser","Holland BPW, JDY Power Plant","Attn: PO 057336","64 Pine Ave.",null,null,"Holland","MI","49423"]
["Holland BPW Power Plant, City of (Brugger","Gary Brugger",null," 616-355-1205",null," 616-355-1240","gbrugger@hollandbpw.com",null,null,null,"Holland BPW Power Plant, City of","64 Pine Avenue",null,null,null,"Holland","MI","49423","Mr.","Brugger","Maintenance Supervisor","Municipal, Cty","Ottawa"]
["Holland BPW Power Plant, City of (Gamby)","Paul Gamby",null," 616-355-1208",null," 616-355-1240","pgamby@hollandbpw.com",null,null,null,"Holland BPW Power Plant, City of","64 Pine Avenue",null,null,null,"Holland","MI","49423","Mr.","Gamby","Maintenance Planner","Municipal, Cty","Ottawa"]
["Holland BPW Streets Dept., City of","Don Steele","Rita","616-355-1646","616-355-1520","616-355-1550",null,null,"Non-Tax Municipality/Utility","SHIPPING HAS TO BE A QUOTED LINE ITEM\nHolland UPS Acct# 4XX133\n\nA/P Ms. Sam Roberts 616.355.1516\nA/P Ms. Janie Avery 616.355.1517","Holland BPW Streets Dept., City of","Attn: Nick King","625 Hastings Ave.",null,null,"Holland","MI","49423","Mr.","Steele"]
["Holland BPW Streets Dept., City of (Steel","Don Steele",null," 616-355-1646"," 616-355-1520"," 616-355-1560","dsteele@hollandbpw.com",null,null,null,"Holland BPW Streets Dept., City of","625 Hastings Avenue",null,null,null,"Holland","MI","49423","Mr.","Steele","Water / Wastewater Services Su","Municipal, Cty","Ottawa"]
["Holland BPW Water Plant, City of","Jim Van De Wege","Paul Hascher","616-355-1500",null,"616-355-2450",null,null,"Non-Tax Municipality/Utility","Accounts payable Alicia 616-355-1516 needs PO on invoice call Alicia if delinquent\n\nA/P Ms. Sam Roberts 616.355.1516\nA/P Ms. Janie Avery 616.355.1517\n\nSHIPPING HAS TO BE A QUOTED LINE ITEM\nHolland UPS Acct# 4XX133\n\nRoss DeVries:  616-355-1587\n\nPhysical address:\n46 Lakeshore Dr Holland, MI 49424","Holland BPW Water Plant, City of","Attn: POD# 056453","625 Hastings Ave.",null,null,"Holland","MI","49423","Mr.","Van De Wege"]
["Holland BPW Water Plant, City of (Broene)","David Broene",null," 616-355-1587"," 616-399-9410"," 616-355-1559","dbroene@hollandbpw.com",null,null,null,"Holland BPW Water Plant, City of","625 Hastings Avenue",null,null,null,"Holland","MI","49423","Mr.","Broene",null,"Municipal, Cty","Ottawa"]
["Holland BPW Water Plant, City of (Van De","Jim Van De Wege",null," 616-355-1698"," 616-355-1589"," 616-355-2450","jvandewege@hollandbpw.com",null,null,null,"Holland BPW Water Plant, City of","625 Hastings Avenue",null,null,null,"Holland","MI","49423","Mr.","Van De Wege","Superintendent","Municipal, Cty","Ottawa"]
["Holland BPW WWTP, City of","Mike Grenier","Dave Verhoef","616-355-1263",null,null,null,null,"Non-Tax Municipality/Utility","SHIPPING HAS TO BE A QUOTED LINE ITEM\nHolland UPS Acct# 4XX133\n\nA/P Ms. Sam Roberts 616.355.1516\nA/P Ms. Janie Avery 616.355.1517\n\nJim Kragt - Lead Maintenance Operations\n  616-355-1267\n  jkragt@hollandbpw.com","Holland BPW WWTP, City of","Attn: Mike Grenier","42 South River Ave.",null,null,"Holland","MI","49423"]
["Holland BPW WWTP, City of (Bush)","Bill Bush",null," 616-355-1263",null," 616-355-1006","wbush@hollandbpw.com",null,null,null,"Holland BPW WWTP, City of","42 South River Ave.",null,null,null,"Holland","MI","49423","Mr.","Bush",null,"Municipal, Cty","Ottawa"]
["Holland BPW WWTP, City of (Grenier)","Mike Grenier",null," 616-355-1250",null," 616-355-1006","mgrenier@hollandbpw.com",null,null,null,"Holland BPW WWTP, City of","42 South River Ave.",null,null,null,"Holland","MI","49423","Mr.","Grenier","Supervisor",null,"Ottawa"]
["Holland BPW WWTP, City of (Hoef)","Dave Ver Hoef",null," 616-355-1250"," 616-355-1250"," 616-355-1006",null,null,null,null,"Holland BPW WWTP, City of","42 South River Ave.",null,null,null,"Holland","MI","49423","Mr.","Hoef","Superintendent","Municipal, Cty","Ottawa"]
["Holland BPW, City of (Chatman)","Pat Chatman",null," 616-355-1212",null," 616-355-1240","pchatman@hollandbpw.com",null,null,"Pat handles stores of PPE and basic safety equipment for Holland JDY","Holland BPW, City of","64 Pine Ave.",null,null,null,"Holland","MI","49423",null,"Chatman","Stockkeeper",null,"Ottawa"]
["Holland BPW, City of (Crumb)","John Crumb",null," 616-355-1647",null," 616-355-1550","jcrumb@hollandbpw.com",null,null,"Spoke with Fred on the phone in late June of 2009, very nice gentleman\n-came from Steelcase, needs a few weeks to become acclimated to the position and will be needing an introduction","Holland BPW, City of","625 Hastings Ave",null,null,null,"Holland","MI","49423","Mr.","Crumb","Water / Wastewater Services Su","Municipal, Cty","Ottawa"]
["Holland BPW, City of (Harper)","Jack Harper",null," 616-355-1621",null," 616-355-1560","jharper@hollandbpw.com",null,null,null,"Holland BPW, City of","625 Hastings Avenue",null,null,null,"Holland","MI","49423","Mr.","Harper","Line Crew Supervisor","Municipal, Cty","Ottawa"]
["Holland BPW, City of (Hascher)","Paul Hascher",null," 616-355-1573",null," 616-355-1240","phascher@hollandbpw.com",null,null,null,"Holland BPW, City of","64 Pine Ave.",null,null,null,"Holland","MI","49423","Mr.","Hascher","Safety Director","Municipal, Cty","Ottawa"]
["Holland BPW, City of (Heiser)","Fred Heiser",null," 616-355-1205",null," 616-355-1240","fheiser@hollandbpw.com",null,null,"David Cyrus succeeded by John Crumb","Holland BPW, City of","64 Pine Ave.",null,null,null,"Holland","MI","49423","Mr.","Heiser","Superintendent  JDY Power Plan","Utility/Power","Ottawa"]
["Holland BPW, City of (Kragt)","Jim Kragt",null," 616-355-1267",null," 616-355-1006","jkragt@hollandbpw.com",null,null,null,"Holland BPW, City of","625 Hastings Ave",null,null,null,"Holland","MI","49423","Mr.","Kragt","Lead Maintenance Water/Wastewa","Municipal, Cty","Ottawa"]
["Holland BPW, City of (Meurer)","Rita Meurer",null," 616-355-1581",null," 616-355-1583","rmeurer@hollandbpw.com",null,null,null,"Holland BPW, City of","625 Hastings Avenue",null,null,null,"Holland","MI","49423","Ms.","Meurer","Purchasing Agent","Municipal, Cty","Ottawa"]
["Holland BPW, City of (Trevino)","Martin Trevino",null," 616-218-1781",null," 616-","mtrevino@hollandbpw.com",null,null,null,"Holland BPW, City of","625 Hastings Avenue",null,null,null,"Holland","MI","49423","Mr.","Trevino","Service and Maintenance","Municipal, Cty","Ottawa"]
["Holland BPW, City of (Willis)","Doug Willis",null," 616-355-1623",null," 616-355-1550","dwillis@hollandbpw.com",null,null,null,"Holland BPW, City of","625 Hastings Ave",null,null,null,"Holland","MI","49423","Mr.","Willis","Supervisor, Transmission Group","Municipal, Cty","Ottawa"]
["Holland BPW, City of (Yost)","Amy Yost",null," 616-355-1582",null," 616-355-1584","ayost@hollandbpw.com",null,null,null,"Holland BPW, City of","625 Hastings Avenue",null,null,null,"Holland","MI","49423","Ms.","Yost","Senior Buyer","Municipal, Cty","Ottawa"]
["Holland Charter Township","Jeff Landaal",null,"616-396-1891",null,"616-396-9714",null,null,"Non-Tax Municipality/Utility",null,"Holland Charter Township","Attn: Jeff Landaal (Water Dept.)","353 North 120th Ave.",null,null,"Holland","MI","49424"]
["Holland Charter Township (Landaal)","Jeff Landaal",null," 616-396-1891",null," 616-396-9714",null,null,null,null,"Holland Charter Township","353 North 120th Ave.",null,null,null,"Holland","MI","49424","Mr.","Landaal",null,"Municipal, Cty","Ottawa"]
["Holland Charter Township (Vanderkolk)","Tom Vanderkolk",null," 616-396-2345",null,null,"tomv@hct.holland.mi.us",null,null,null,"Holland Charter Township","353 North 120th Ave.",null,null,null,"Holland","MI","49424","Mr.","Vanderkolk","Director",null,"Ottawa"]
["Holland City of, Human Resources","Chanda Koryto",null,"616-355-1318",null,null,null,null,"Non-Tax Municipality/Utility",null,"Holland City of, Human Resources","City Hall","Attn: Chanda Koryto","270 S. River Ave.",null,"Holland","MI","49423"]
["Holland Department of Parks & Cemetery","Andy Kenyon",null,"616-928-2450",null,null,null,null,"Non-Tax Municipality/Utility",null,"Holland Department of Parks & Cemetrry","Attn:Andy Kenyon","429 E. 24th Street",null,null,"Holland","MI","49423"]
["Holland Engineering",null,null,"616-392-5938",null,"616-392-2116",null,null,"Michigan Sales Tax","Jon (pronounced Yan) Larsen\nJerry Masson - cell: 616-886-0516","Holland Engineering","Attn: Jerry Masson","220 Hoover Blvd., Suite 2",null,null,"Holland","MI","49523"]
["Holland Engineering (Wasson)","Jerry Wasson",null," 616-886-0516",null,null,"jwasson@hollandengineering.com",null,null,null,"Holland Engineering","220 Hoover Boulevard",null,null,null,"Holland","MI","49423","Mr.","Wasson",null,"Engineering, Architecture","Ottawa"]
["Holland Hospital","Bill Graves(subcontractor)",null,"616-394-3163",null,"616-394-2164","biomed_equipment@hoho.org",null,"Non-Tax","BioMed Guys:\nJeff Ruiz\nMark Veldhouse - cell: 616-402-1596","East Muskegon Roofing c/o","Holland Hospital","Attn:Dave Torrnga","602 Michigan Ave",null,"Holland","MI","49423"]
["Holland Hospital (Frost)","Sue Frost",null," 616-394-3144",null,null,null,null,null,null,"Holland Hospital","602 Michigan Ave.",null,null,null,"Holland","MI","49423","Mrs.","Frost","Building and Engineering Manag","Medical","Ottawa"]
["Holland Motor Pool / Streets","Barry Wassink",null,"616-928-2411",null,null,null,null,"Non-Tax Municipality/Utility",null,"Holland Motor Pool / Streets","Attn: Barry Wassink","333 Wyngarden Way",null,null,"Holland","MI"]
["Holland Park and Cemetery, City of (Kenyo","Andy Kenyon",null," 616-928-2457",null," 616-928-2455","a.kenyon@cityofholland.com",null,null,null,"Holland Park and Cemetery, City of","429 E. 24th Street",null,null,null,"Holland","MI","49423","Mr.","Kenyon","Parks Supervisor","Municipal, Cty","Ottawa"]
["Holland Park Dept., City of",null,"Andy Kenyon",null,"616-928-2465",null,null,null,"Non-Tax Municipality/Utility",null,"Holland Park Dept., City of","Attn: Andy Kenyon","429 East 24th Street",null,null,"Holland","MI","49423"]
["Holland Transportation Service, City of (","Nick King",null," 616-928-2437",null," 616-928-2408","king@cityofholland.com",null,null,null,"Holland Transportation Service, City of","333 Winegarden Way",null,null,null,"Holland","MI","49423","Mr.","King","Street Superintendent","Municipal, Cty","Ottawa"]
["Holland Transportation Services, City of",null,"Nick King",null,"616-928-2437","616-928-2408",null,null,"Non-Tax Municipality/Utility",null,"Holland Transportation Services, City of","Attn: Nick King","333 Wyngarden Way",null,null,"Holland","MI","49423"]
["Holland Windmill, City of","Ad VandenAkker",null,"pronounced ak",null,null,null,null,"Non-Tax Municipality/Utility",null,"Holland Windmill, City of","Ad VandenAkker","625 Hastings Ave.",null,null,"Holland","MI","49423"]
["Holland, City of (Rahn)","Gary Rahn",null," 616-355-1316",null," 616-546-7054","g.rahn@cityofholland.com",null,null,"Chanda Kuryto\nWindmill: \n  Alisa (ah.lee.zah) Crawford 616.393.6313 mob 616.218.8749       alisa.maidenmills@gmail.com\n  Volunteer Dick  616.546.9232,  mob 616.610.2367\n  Ad Vanden Akker 616.355.1031 a.vandenakker@cityofholland.com","Holland, City of","270 South River Avenue",null,null,null,"Holland","MI","49423","Mr.","Rahn","Director of Human Resources","Municipal, Cty","Ottawa"]
["Hollingsworth & Vose Co.",null,null,"508-668-0295",null,"508-668-6526",null,null,"Out of State","Kathy Pubb - 978-448-7054, email: kathy.puff@hovo.com","Hollingsworth & Vose","Attn: Rick Angus","PO#136942","219 Townsend Rd.",null,"West Groton","MA","01472"]
["Hollingsworth and Vose (Angus)","Rick Angus",null," 978-448-7102",null,null,"rick.angus@hovo.com",null,null,null,"Hollingsworth and Vose","219 Townsend Road",null,null,null,"West Groton","MA","1472","Mr.","Angus",null,"Manufacturer","Out of State"]
["Holly Construction","Gary Madill",null,"734-397-0040",null,"734-397-7017",null,null,"Michigan Sales Tax",null,"Holly Construction","5800 Belleville Rd",null,null,null,"Belleville","MI","48111"]
["Holly Construction (Madill)","Gary Madill",null," 734-397-0040",null," 734-397-7017","gary@hollyconst.com",null,null,"Bought 6 Clip Extreme H2S for a Marathon job.","Holly Construction","5800 Belleville Road",null,null,null,"Belleville","MI","48111","Mr.","Madill","Controller","Contractor General","Wayne"]
["Homerich Inc.","accurate / Theresa",null,"989-695-6446",null,null,null,null,"Michigan Sales Tax",null,"Homerich Inc.","Attn: John Hart","400 W. Dennis Ave.",null,null,"Olathe","KS","66061"]
["Honeywell (Castilleja)","Gabriel Castilleja",null," 817-215-9807",null,null,"gabriel.castilleja@honeywell.com",null,null,null,"Honeywell",null,null,null,null,"Dallas","MI",null,"Mr.","Castilleja",null,"Chemical Pharmaceutical","Out of State"]
["Honeywell (Cox)","Mark Cox",null," 225-642-4405",null," 225-642-4445","mark.cox2@honeywell.com",null,null,null,"Honeywell","5525 Highway 3115",null,null,null,"Carville","LA","70721","Mr.","Cox","Buyer","Manufacturer","Out of State"]
["Honeywell (Fombell PA)","David Renz",null,null,null,null,null,null,"Michigan Sales Tax",null,"Honeywell (Fombell PA)","Attn: PO 4501618700","Route 588 & Hartzell School Rd.",null,null,"Fombell","PA","16123"]
["Honeywell (Hopewell)",null,null,null,"804-541-5902",null,"Cell 804-339-7665",null,"Out of State","Tina for Credit card # 804-541-5730 for\n\naccts are paid by Karen at karen.marshall@honeywell.com if invoices are not pd send to her email. Eventually, all invoices need to go to elpaso TX\n\nas of 1/10 The person in stores is dale Locket 804-541-5864\nKimberly is the only one who uses chips \nstores orders tubes\n\nKimberly Eich - 804-541-5902, cell: 804-339-7665","Honeywell","Attn:PO 4501718852","905 East Randolph Road","Building 15-Stores Receiving",null,"Hopewell","VA","23860"]
["Honeywell (Metropolis Plant)","Mark Cox",null,null,null,null,null,null,"Non-Tax",null,"Honeywell Specialty Materials","Attn: PO# 4501688139 Ashley Landry","2768 North US 45 Rd.",null,null,"Metropolis","IL","62960"]
["Honeywell (Orange Plant)",null,null,"480-592-7380 accting",null,null,null,null,"Non-Tax",null,"Honeywell (Orange Plant)","PO# 4501068868","Chemical Row","3927 Hwy 1006",null,"Orange","TX","77630"]
["Honeywell (Pottsville Plant)",null,null,"accts pabl480-5927380",null,null,null,null,"Non-Tax",null,"Honeywell (Pottsville Plant)","PO #4501004134","98 Westwood Rd",null,null,"Pottsville Plant","PA","17901"]
["Honeywell (Weiss)","Judson Weiss",null," 570-621-6211",null,null,"judson.weiss@honeywell.com",null,null,null,"Honeywell","98 Westwood Road",null,null,null,"Pottsville","PA","17901","Mr.","Weiss",null,"Manufacturer","Out of State"]
["Honeywell Analytics (Fritts)","Allen Fritts",null," 847-955-8200",null,null,"Allen.Fritts.jr@honeywell.com",null,null,"Send po's to HA_CustomerService@honeywell.com\nCarl Johnson <-- Allen Fritts HA sales mob 919.349.1979  <-- TBD\n  (Kevin McKeegue mktg mob 440.334.3216 same level as Fritts)\nCustomer Svc Mgr: Jill Hutchinson 847.955.8377 jill.hutchinson@honeywell.com prvt fax 630.762.5125\nRich Banducci Training Mgr\n  Kelly Murray (Supr) Portables\n  Mourto Skouros (Supr) High Tech & Ind'l  847.955.4144\n  Dianna Higareda\nTraining  / TechGuru  John Lucas  mob 267.317.5259 Philly off 215.659.3661                       **Industrial john.lucas2@honeywell.com\n    2.10 -- John promoted to HA Trainer\n**High Tech mike.holmes2@honeywell.com  847.955.8227   m 847.691.1886\n    12.10 -- helped explain IR148\nXNX Product Mgr: Ben Owens\nApplications and Tech Support\n  Glen Hayden  847.955.8217  glen.hayden@honeywell.com\n  Bruce Christensen  847.955.8233  bruce.christensen@honeywell.com\n  Mark Sherrett  847.955.8339  mark.sherrett@honeywell.com\n Ind'l  -- Fixed  Bruce and Glen; Henry Henderson (847.955.8268) order entry (and expedites).\n High Tech -- IR 148 \n    Nate Campbell 847.955.8484, \n    Wm Wieland (order entry) 847.955.8393\n Portables -- All pretty much handle\n Commercial -- (Manning, Vulcain) Bruce and Glen, also;\n   Manning  Frank Castro 913.712.5573 frank.j.castro@honeywell.com\n                  Lisa Keithley 913.712.5572 lisa.keithley@honeywell.com\n   Vulcain  Walter Fierera (?)  800.563.2967\nAlso, \n    - Kenny Carroll mob 913.620.8330 Kansas City\n    - Troy Baker mob 805.512.3180 Calif\nDave McGill Mgr Repair & Field Service (On-site)\nTech Support After-Market Service:\n  Chris Sloan (Supr, Inside Svc Dept.) \n    Amando  847.955.8262\n    Sarom  847.955.8426\n    Mike Gula  847.955.8457\n  Mottice GONE!  Bruce Royer GONE!","Honeywell Analytics","405 Barclay Blvd.",null,null,null,"Lincolnshire","IL","60069","Mr.","Fritts","National Sales Manager","Supplier","Out of State"]
["Honeywell Analytics (Riggs)","Keith Riggs",null," 847-955-8200",null,null,"keith.riggs@honeywell.com",null,null,null,"Honeywell Analytics","405 Barclay Blvd.",null,null,null,"Lincolnshire","IL","60069","Mr.","Riggs","Great Lakes Regional Sales Man","Supplier","Out of State"]
["Honeywell Burdick & Jackson","Bill To: 480-592-7380",null,null,null,"231-728-8226",null,null,"Michigan Sales Tax",null,"Honeywell Burdick & Jackson","Attn:","1953 South Harvey Street",null,null,"Muskegon","MI","49442"]
["Honeywell Burdick & Jackson (Davis)","Dick Davis",null," 231-725-6200 6200",null," 231-728-8226","richard.davis3@honeywell.com",null,null,null,"Honeywell Burdick & Jackson","1953 S. Harvey Street",null,null,null,"Muskegon","MI","49442-6184","Mr.","Davis","Safety & Compliance Manager","Chemical Pharmaceutical","Muskegon"]
["Honeywell Burdick & Jackson (Halvorson)","Jeff Halvorson",null," 231-725-6268",null," 231-728-8226","jeff.halvorson@honeywell.com",null,null,null,"Honeywell Burdick & Jackson","1953 S. Harvey Street",null,null,null,"Muskegon","MI","49442-6184","Mr.","Halvorson","Safety & Compliance Manager","Chemical Pharmaceutical","Muskegon"]
["Honeywell Burdick & Jackson (Hammann)","John Hammann",null," 231-725-6260",null," 231-728-8226",null,null,null,null,"Honeywell Burdick & Jackson","1953 S. Harvey Street",null,null,null,"Muskegon","MI","49442-6184","Mr.","Hammann","Safety Director",null,"Muskegon"]
["Honeywell Burdick & Jackson (North)","Dave North",null," 231-725-6224 6224",null," 231-728-8226","dave.north@honeywell.com",null,null,null,"Honeywell Burdick & Jackson","1953 S. Harvey Street",null,null,null,"Muskegon","MI","49442-6184","Mr.","North","Production Specialist","Chemical Pharmaceutical","Muskegon"]
["Honeywell Burdick & Jackson (Riggs)","Tim Riggs",null," 231-725-6229",null," 231-728-8226","tim.riggs@honeywell.com",null,null,null,"Honeywell Burdick & Jackson","1953 S. Harvey Street",null,null,null,"Muskegon","MI","49442-6184","Mr.","Riggs",null,"Chemical Pharmaceutical","Muskegon"]
["Honeywell Danville (Suits)","Brett Suits",null," 217-446-4700 24",null," 217-446-1358","brett.suits@honeywell.com",null,null,"Recommended to Agile by \nRich Fluharty - HSE Small Sites Coordinator - 804-318-0228\nDavid Renz - HSE Manager - 724-452-1179","Honeywell Danville","209 Brewer Road",null,null,null,"Danville","IL","61834","Mr.","Suits",null,"Manufacturer","Out of State"]
["Honeywell Electronic Materials (Renz)","David Renz",null," 724-452-1179",null,null,"david.renz@honeywell.com",null,null,null,"Honeywell Electronic Materials","195 Hartzell School Road",null,null,null,"Fombell","PA","16123","Mr.","Renz",null,"Manufacturer","Out of State"]
["Hope College (Gunnink)","Jerry Gunnink",null," 616-395-7770",null," 616-395-7768","gunnink@hope.edu",null,null,null,"Hope College","178 East 11th Street",null,null,null,"Holland","MI","49423","Mr.","Gunnink","Director of Occupational Healt","University","Ottawa"]
["Hope College (Maybury)","Greg Maybury",null," 616-395-7671",null," 616-395-7432","maybury@hope.edu",null,null,null,"Hope College","DeWitt Center","141 East 12th Street",null,null,"Holland","MI","49422",null,"Maybury","Director of Operations","University","Ottawa"]
["Hopkins Township (Evans)","Mark Evans",null," 269-793-3184",null,null,null,null,null,null,"Hopkins Township","142 E. Main St.",null,null,null,"Hopkins","MI","49328","Mr.","Evans","Supervisor","Municipal, Cty","Allegan"]
["Horizon Environmental","Bill Farrell",null,"616-554-3210",null,"616-554-3211",null,null,"Michigan Sales Tax","Mike Potter Cell: 616-293-2623\nDavid Bandlow","Horizon Environmental","Attn: Michael Potter","4771 50th Street","Suite One",null,"Grand Rapids","MI","49512"]
["Horizon Environmental (Farrell)","Bill Farrell",null," 616-554-3210",null," 616-554-3211","wjfarrell@horizonenv.com",null,null,"Send cards for distribution. Others: Doug Kilmer, Mike Potter, Chris Miron, Bill Davidson, Brian Greenwell, Charlene McGue\nJohn Morgan mob 616-723-3613","Horizon Environmental","4771 50th Street SE   Suite One",null,null,null,"Grand Rapids","MI","49512","Mr.","Farrell","Sr. Project Toxicologist","Contractor EH&S","Kent"]
["Horizon Environmental (Smith)","KC Smith",null," 616-554-3210",null," 616-554-3211",null,null,null,null,"Horizon Environmental","4771 50th Street SE   Suite One",null,null,null,"Grand Rapids","MI","49512","Mr.","Smith",null,"Contractor EH&S","Kent"]
["Horizon Environmental' (Kilmer)","Doug Kilmer",null," 616-554-3210",null," 616-554-3211","dskilmer@horizonenv.com",null,null,"Responsible for equipment.  Has 5  2020's. Also Gx's\nCharlene McGue; Mike Potter; Chris Miron; Ed Culver mob 616.893.0949; Bill Farrell; Bill Davidson; Brian Greenwell","Horizon Environmental'","4771 50th Street SE",null,null,null,"Grand Rapids","MI","49512","Mr.","Kilmer","Sr. Project Geologist","Contractor EH&S","Kent"]
["Horn & Associates Inc.","David Horn",null,"859-744-2232","cell 859-771-3963",null,null,null,"Out of State",null,"Horn & Associates Inc.","Attn: David Horn","216 North Main St.",null,null,"Winchester","KY","40391"]
["Hortech, Inc. (Baar)","Brandon Baar",null," 616-842-1392",null," 616-842-3273","brandon@hortech.com",null,null,null,"Hortech, Inc.","14109 Cleveland Ave.",null,null,null,"Spring Lake","MI","49456","Mr.","Baar","Human Resource Manager",null,"Ottawa"]
["House of Flavors, Inc. (Klinger)","Doug Klinger",null," 231-845-7369",null," 231-845-7371",null,null,null,null,"House of Flavors, Inc.","110 N. William Street",null,null,null,"Ludington","MI","49431","Mr.","Klinger","Safety Director","Food","Mason"]
["Howard Miller (Sawyer)","Dave Sawyer",null," 616-772-7277 221",null," 616-772-1670",null,null,null,null,"Howard Miller","860 E. Main Ave.",null,null,null,"Zeeland","MI","49464","Mr.","Sawyer","Human Resource Manager","Manufacturer","Ottawa"]
["Hsingo Engineering Co. Ltd. (Tseng)","Richard Tseng",null,null,null," 886-423-952951","hsingo.tw@msa.hinet.net",null,null,null,"Hsingo Engineering Co. Ltd.","No. 116, Shu-Te 9th St.",null,null,null,null,"Shu-Te",null,"Mr.","Tseng",null,null,"Out of State"]
["HTI (Ingersoll)","Kevin Ingersoll",null," 616-698-7270",null,null,"kingersoll@heatxfer.com",null,null,null,"HTI","4720 44th Street",null,null,null,"Kentwood","MI","49512","Mr.","Ingersoll","Buyer","Manufacturer","Kent"]
["Hubbard Plumbing & Drains Inc.",null,"Pat Hubbard (female)","269-962-1070",null,"269-962-1540",null,null,"Michigan Sales Tax",null,"Hubbard Plumbing & Drains Inc.","Attn: Pat Hubbard","7275 Tower Road",null,null,"Battle Creek","MI","49014"]
["Hubbardston, Village of","Everett Genereux",null,"989-981-6768",null,null,null,null,"Non-Tax Municipality/Utility",null,"Hubbardston, Village of","Attn: Everett Genereux","305 Russell St.",null,null,"Hubbardston","MI","48845"]
["Hubbardston, Village of (Genereux)","Everett Genereux",null," 989-981-6768",null," 989-981-6768",null,null,null,null,"Hubbardston, Village of","305 Russell St.",null,null,null,"Hubbardston","MI","48845",null,"Genereux","Cheif",null,"N/A"]
["Hubbell Roth & Clark, Inc.","Thomas Maxwell",null,"248-454-6300",null,"248-338-2592",null,null,"Michigan Sales Tax","Grand Rapids - Tom Grant - 616-454-4286","Hubbell Roth & Clark, Inc.","Attn: Thomas Maxwell","555 Hulet Dr.",null,null,"Bloomfield Hills","MI","48303"]
["Hubbell, Roth & Clark, Inc. (Benoit)","Dennis Benoit",null," 616-454-4286",null," 616-454-4278","dbenoit@hrc-engr.com",null,null,null,"Hubbell, Roth & Clark, Inc.","801 Broadway NW, Suite 215",null,null,null,"Grand Rapids","MI","49504","Mr.","Benoit",null,"Engineering, Architecture","Kent"]
["Hudsonville Creamery & Ice Cream Company","Chris Polich",null," 616-546-4005",null," 616-546-4020","chris@hudsonvilleicecream.com",null,null,null,"Hudsonville Creamery & Ice Cream Company","345 East 48th Street",null,null,null,"Holland","MI","49423","Mr.","Polich","Plant Superintendent","Food","Ottawa"]
["Hudsonville Creamery & Ice Cream Company","Chris Polich",null," 616-546-4005",null," 616-546-4020","chris@hudsonvilleicecream.com",null,null,null,"Hudsonville Creamery & Ice Cream Company","345 East 48th Street",null,null,null,"Holland","MI","49423","Mr.","Polich","Plant Superintendent","Food","Ottawa"]
["Hudsonville Creamery & Ice Cream Company","Chris Polich",null," 616-546-4005",null," 616-546-4020","chris@hudsonvilleicecream.com",null,null,null,"Hudsonville Creamery & Ice Cream Company","345 East 48th Street",null,null,null,"Holland","MI","49423","Mr.","Polich","Plant Superintendent","Food","Ottawa"]
["Hudsonville DPW, City of","Dan \"Dutch\" Besteman x-424",null,"616-669-0200","616-299-7223 cell","616-669-6123","@hudsonville.org",null,"Non-Tax",null,"Hudsonville DPW, City of","Attn: Dutch Bestemon","3275 Central Blvd.",null,null,"Hudsonville","MI","49426","Mr.","Gorney"]
["Hudsonville DPW, City of (Besteman)","Dutch Besteman",null," 616-669-7196",null," 616-669-6123","dbestema@hudsonville.org",null,null,null,"Hudsonville DPW, City of","3275 Central Blvd.",null,null,null,"Hudsonville","MI","49426","Mr.","Besteman","Superintendent","Municipal, Cty","Ottawa"]
["Hudsonville DPW, City of (Lambert)","Amy Lambert",null," 616-669-7196",null," 616-669-6123","alambert@hudsonville.org",null,null,null,"Hudsonville DPW, City of","3275 Central Blvd.",null,null,null,"Hudsonville","MI","49426","Ms.","Lambert",null,"Municipal, Cty","Ottawa"]
["Hughes Builders (Hughes)","Randy Hughes",null," 231-773-0077",null,null,"randy@hughesbuildersinc.net",null,null,null,"Hughes Builders","3279 E. Laketon Ave.",null,null,null,"Muskegon","MI","49442","Mr.","Hughes","Co-Owner","Contractor General","Muskegon"]
["Hukill Environmental Services","Frank Simcic",null,"440-399-0624 Michell","800-962-1143","440-232-9477",null,null,"Michigan Sales Tax",null,"Hukill Environmental Services","Attn: Frank Simcic","7013 Krick Rd.",null,null,"Bedford","OH","44146-4493"]
["Huron Fire Dept.","Kevin Gadd",null,"419-433-3544",null,null,null,null,"Non-Tax Municipality/Utility",null,"Huron Fire Dept.","Attn: Kevin Gadd PO# 59546","417 Main Street",null,null,"Huron","OH","44839"]
["Huron Sales & Marketing (Todd)","Jim Todd",null," 614-442-0368",null," 614-442-7529","jtodd1@columbus.rr.com",null,null,"Meeting with Jim and Ed Minor of ASA 6.12.03","Huron Sales & Marketing","4843 Widner Street",null,null,null,"Columbus","OH","43220","Mr.","Todd",null,"Representative","Out of State"]
["Hurst Industries",null,null,"616-784-4040",null,"616-785-7900","tdupont@hurstind.com",null,"Use Tax Rental","Email invoices to tdupont@hurstind.com\n\nGary Vereeke","Hurst Industries","Attn: Scott Dixon","5800 Safety Drive",null,null,"Belmont","MI","49306"]
["Hurst Mechanical (Borst)","Russ Borst",null," 616-784-4040",null," 616-785-7900","russ@hurstind.com",null,null,null,"Hurst Mechanical","5800 Safety Drive",null,null,null,"Belmont","MI","49306","Mr.","Borst","V.P. Service","Contractor General","Kent"]
["Hurst Mechanical (Vereeke)","Gary Vereeke",null," 616-784-4040",null," 616-785-7900",null,null,null,null,"Hurst Mechanical","5800 Safety Drive",null,null,null,"Belmont","MI","49306","Mr.","Vereeke",null,"Contractor General","Kent"]
["Hy-Safe Inc. (Anzaldi)","Chuck Anzaldi",null," 877-485-7387",null," 877-887-7277","canzaldi@hysafetech.com",null,null,"Dan Neal, outside sales;  Baron","Hy-Safe Inc.","964 Commerce Drive",null,null,null,"Union Grove","WI","53182","Mr.","Anzaldi","Inside Sales","Supplier","Out of State"]
["Hydaker Wheatlike (Sims)","Mike Sims",null," 231-832-1170",null," 231-832-4385","mike_sims@rcpls.com",null,null,null,"Hydaker Wheatlike","420 Roth Street","PO Box 147",null,null,"Reed City","MI","49677","Mr.","Sims","Safety Director","Utility","Osceola"]
["ICC Electric","Allen Woern",null,"616-886-8084",null,"616-897-5179","awoern@icc-electric.com",null,"Michigan Sales Tax",null,"ICC Electric","Attn:","10974 Jesses Lane",null,null,"Lowell","MI","49331"]
["Ice Mountain","David Jeffery",null,"231-823-8100","cell 231-598-8361",null,null,null,"Michigan Sales Tax",null,"Ice Mountain","19275  - 8 mile",null,null,null,"Stanwood","MI","49346"]
["ICON Safety (Wong)","Liam Wong",null," 562-809-3066 102",null," 562-865-5711","lwong@iconsafetyco.com",null,null,"Brian Bates' new company Gas Clip Tech\nPatty Alcorn","ICON Safety","20016 State Road",null,null,null,"Cerritos","CA","90703","Mr.","Wong",null,"Supplier","Out of State"]
["IDG - Northeast Division","Kevin LaBonte",null,"906-774-3991",null,"906-774-2501",null,null,"Michigan Sales Tax",null,"IDG - Northeast Division","Attn: Kevin LaBonte","One Superior Way",null,null,"Ontonagon","MI","49953"]
["IHMC (Morris)","Rich Morris",null," 616-238-9157",null,null,"maint@ihmparish.com",null,null,null,"IHMC","1935 Plymouth Road SE",null,null,null,"Grand Rapids","MI","49506","Mr.","Morris",null,null,"Kent"]
["IHSC, Inc.","Bob Dupont",null,"941-485-6050",null,"941-485-9121",null,null,"Out of State",null,"IHSC  Inc.","Attn: Bob Dupont","218 Pameto Rd",null,null,"Nokomis","FL","34275"]
["IHSC, Inc. (Dupont)","Bob Dupont",null," 941-485-6050",null," 941-485-9121","rdupont@ihscinc.com",null,null,"Chris Fisher of AWCII is contact 877.374.0206  fax 888.823.8233","IHSC, Inc.","PO Box 448",null,null,null,"Nokomis","FL","34274","Mr.","Dupont",null,"Supplier","Out of State"]
["II Stanley Co., Inc. (Slater)","Peter Slater",null," 269-660-7777 2313",null,null,"peter_slater@iistanleybc.com",null,null,null,"II Stanley Co., Inc.","1500 Hill-Brady Road",null,null,null,"Battle Creek","MI","49015","Mr.","Slater","EH&S Manager","Automotive","Calhoun"]
["ILC Dover",null,null,"302-335-3911",null,"302-335-5693","persaa@ilcdover.com",null,"Out of State",null,"ILC Dover","Attn:","One Moonwalker Road",null,null,"Frederica","DE","19946"]
["ILC Dover (Edwards)","Thomas Edwards",null," 302-335-3911 339",null," 302-335-3123","tom.edwards@ilcdover.com",null,null,null,"ILC Dover","One Moonwalker Road",null,null,null,"Frederica","DE","19946-2080","Mr.","Edwards","Sr. Design Engineer","Manufacturer","Out of State"]
["IMC Potash Hersey Inc. (Folkertsma)","Ken Folkertsma",null," 231-832-1208",null," 231-832-3349",null,null,null,null,"IMC Potash Hersey Inc.","1395 - 135th Ave",null,null,null,"Hersey","MI","49639","Mr.","Folkertsma",null,"Mining","Osceola"]
["IMC Potash Hersey Inc. (Wagner)","Ellen Wagner",null," 231-832-1208",null," 231-832-3349","eawagner@imcglobal.com",null,null,null,"IMC Potash Hersey Inc.","1395 - 135th Avenue",null,null,null,"Hersey","MI","49639","Ms.","Wagner","EHS Supervisor","Mining","Osceola"]
["IMCC (Bruesch)","Chuck Bruesch",null," 231-798-8575",null," 231-798-9350",null,null,null,null,"IMCC","1165 North Gateway Blvd",null,null,null,"Norton Shore","MI","49441","Mr.","Bruesch",null,null,"Muskegon"]
["Imco Reinforced Plastics, Inc. (Price)","Bill Price",null," 800-899-4626",null," 856-234-3964","imcofrp@netzero.net",null,null,"For Pfizer Tank Ladder","Imco Reinforced Plastics, Inc.","858 N. Lenola Road",null,null,null,"Moorestown","NJ","8057","Mr.","Price",null,"Supplier","Out of State"]
["Imlay City Fire Department, City of (Reav","Kip Reaves",null," 810-724-6262",null," 810-724-3109","kreaves@imlaycity.org",null,null,null,"Imlay City Fire Department, City of","350 East Third Street",null,null,null,"Imlay City","MI","48444",null,"Reaves",null,"Fire Department","Lapeer"]
["Impact Environmental Services","Gary LePine",null,"734-955-9500","734-552-5200","734-955-5870",null,null,"Michigan Sales Tax",null,"Impact Environmental Services","Attn: Gary  LePine","28171 Northline Road",null,null,"Romulus","MI","48174"]
["Impact Environmental Services (LePine)","Gary LePine",null," 734-955-9500",null," 734-955-5870",null,null,null,null,"Impact Environmental Services","28171 Northline Road",null,null,null,"Romulus","MI","48174","Mr.","LePine",null,"Contractor EH&S","Wayne"]
["Independence Township",null,"Jerry Sharp","248-625-1924",null,"248-625-1776",null,null,"Non-Tax Municipality/Utility",null,"Independence Township","Attn: Jerry Sharp","6500 Citation Drive",null,null,"Clarkston","MI","48346"]
["Indian Point Energy Center","Scott Bianco",null,"845-597-5580",null,null,null,null,"Michigan Sales Tax",null,"Indian Point Energy Center","Attn: Scott Bianco","450 Broadway Ste 3",null,null,"Buchanan","NY","10511"]
["Indian Point Energy Center (Monahan)","Brendan Monahan",null," 914-804-4819",null,null,"bmonaha@entergy.com",null,null,"Scott Bianco 845.597.5580","Indian Point Energy Center","450 Broadway, Suite 3",null,null,null,"Buchanan","NY","10511","Mr.","Monahan",null,"Utility","Out of State"]
["Industrial Health Sciences, Inc. (Krebs)","William H. Krebs",null," 313-885-8225",null," 313-885-3130","whkrebs@umich.edu",null,null,null,"Industrial Health Sciences, Inc.","1014 Bishop Road",null,null,null,"Grosse Pointe Park","MI","48230","Dr.","Krebs","President","Contractor EH&S","Macomb"]
["Industrial Resources","Tony Varga",null,"616-791-7500",null,"616-791-7501",null,null,"Michigan Sales Tax",null,"Industrial Resources","Attn:Tony Varga","3123 Wilson NW",null,null,"Grand Rapids","MI","49534"]
["Industrial Safety Products","Tom Coneglio",null,"216-524-0360",null,"216-524-2567",null,null,"No-Tax Resale OH","UPS account# 471223\n\nSERVICE RESELLER: \nPM - $75 (std. 4-gas) - $55 (single-gas)\nCal Only:  $40 (std. 4-gas)\nParts:  10% off list\n\nFax Invoices to (216) 524-2567","Industrial Safety Products","Attn: Tom Coneglio","6091 Carey Drive",null,null,"Cleveland","OH","44125"]
["Industrial Safety Products (Coneglio)","Tom Coneglio",null," 216-524-0360",null," 216-524-2567","tconeglio@indsaf.com",null,null,null,"Industrial Safety Products","6091 Carey Drive",null,null,null,"Cleveland","OH","44125","Mr.","Coneglio","Gas Detection/Calibration","Competitor","Cuyahoga"]
["Industrial Scientific (Milne)","Kevin Milne",null," 800-338-3287"," 636-300-9982",null,"kmilne@indsci.com",null,null,"Kevin Miller VP & GM, American Sales 412.370.1356\nKent Beaver Regl Sales Mgr North 412.716.0450\nLee Smith is regional ISC person for Airgas, in Atlanta 404.729.7632\nKevin Milne mob 314.308.0462,  636.300.9982 (h) KS MO IL MI IN KY             1/2 OH  kmilne@indsci.com\nGarth Miller VP Cust Svc\n(Mike Schoonover gone as of mid-Jan 09)\n800.detects   Tech Support for fixed\n  Jake Woodling  x1911  jwoodling@indisc.com\n  Morgan Sessie  x1963  msessie@indsci.com\n  Joshua Lazzari  x1964  jlazzari@indsci.com docks only\nMatt Thiel mob 412.370.9833 Fixed System Guru PM/Sls Mgr Eastern US","Industrial Scientific",null,null,null,null,"St. Louis","MO",null,"Mr.","Milne","District Sales Manager","Supplier","Out of State"]
["Industrial Stainless Inc.",null,"Mike Hebel","920-497-1861","920-371-1168 direct","920-496-945","mikeh@industrialstainlessinc.com",null,"Out of State",null,"Industrial Stainless Inc.","Attn:","1680 S. Vanderberg Road",null,null,"Green Bay","WI","54311"]
["Industrial Stainless Inc. (Hebel)","Mike Hebel",null," 920-593-6101",null,null,"mikeh@industrialstainlessinc.com",null,null,null,"Industrial Stainless Inc.","1680 South Vandenberg",null,null,null,"Green Bay","WI","54311","Mr.","Hebel",null,"Manufacturer","Out of State"]
["Infrasource (Perry)","Shannon Perry",null," 616-784-1313",null," 616-","shannon.perry@infrasourceinc.com",null,null,"was Sub Surface\nRon Sharp at EGR said to see Shannon Perry or Craig Hole","Infrasource","5959 Comstock Park Avenue",null,null,null,"Comstock Park","MI","49321","Mr.","Perry",null,"Contractor General","Kent"]
["Infrastructure Alternatives (Kuhlman)","Teri Kuhlman",null," 616-647-3300",null," 616-647-3301",null,null,null,"Jim Penrod, Bob Stephens are principals;  Judy is sec'y","Infrastructure Alternatives","960 West River Center Drive",null,null,null,"Comstock Park","MI","49321","Ms.","Kuhlman",null,"Contractor General","Kent"]
["Infrastructure Services","Rick Balas",null,"419-467-0143","419-841-8597","419-841-3157",null,null,"Out of State",null,"Infrastructure Services","Attn: Rick Balas","3351 Silica Road",null,null,"Sylvania","OH","43560"]
["Ingham County (Hudgins)","Jim Hudgins",null," 517-676-7309",null," 517-676-7230","jhudgins@ingham.org",null,null,null,"Ingham County","121 E. Maple Street","PO Box 319",null,null,"Mason","MI","48854","Mr.","Hudgins",null,"Municipal, Cty","Ingham"]
["Ingham County Parks (Buckley)","Tim Buckley",null," 517-676-7190",null," 517-244-7190","tbuckley@ingham.org",null,null,null,"Ingham County Parks","801 Grovenburg Road",null,null,null,"Holt","MI","48842","Mr.","Buckley",null,"Municipal, Cty","Ingham"]
["Ingham County Parks (Emens)","Coe Emens",null," 517-749-2493",null,null,"cemens@ingham.org",null,null,null,"Ingham County Parks","1601 E. Cavanaugh Road",null,null,null,"Lansing","MI","48910","Mr.","Emens",null,"Municipal, Cty","Ingham"]
["Ingham County Parks Dept. (Hawk Island)",null,null,null,null,null,null,null,"Non-Tax Municipality/Utility","Service Contact\nCoe Emens - Office: 517-676-2233, Cell: 517-749-2493","Hawk Island Park","Attn: Coe Emens","1601 E. Cavanaugh",null,null,"Lansing","MI","48910"]
["Inland Environmental Services","John Adams","cell616-821-5848","888-355-5547","616-975-1942","616-975-1952",null,null,"Use Tax Rental","as per Leslie Klein went ahead and pd invoice 977  on ccredit care. changed customer status to COD only.","Inland Services","Attn:","2851 Charlevoix Dr.",null,null,"Grand Rapids","MI","49546","Mr.","Adams"]
["Inland Environmental Services (Adams)","John Adams",null," 888-355-5547"," local"," 616-975-1952",null,null,null,null,"Inland Environmental Services","2851 Charlevoix Dr.","Suite 302",null,null,"Grand Rapids","MI","49546","Mr.","Adams","Crew Leader","Contractor EH&S","Kent"]
["Inland Environmental Services (Jensen)","Tom Jensen",null," 616-975-1942",null," 616-975-1952","tjensen@inlandservices.com",null,null,"MWEA lagoon mtg. Kevin Chandler, Mike McCracken, John Adams (Crew Leader) mob 616.821.5848. Leslie Klein","Inland Environmental Services","2851 Charlevoix Drive","Suite 302",null,null,"Grand Rapids","MI","49546","Mr.","Jensen","Vice President","Contractor EH&S","Kent"]
["Ino-Teck Inc.","Aaron Hutchinson",null,"586-336-0856",null,"586-336-0863",null,null,"NonTx Re-Sale","GM supplier and city of DTW DO NOT GIVE TERMS","Ino-Teck Inc.","Attn: Accounts Payable","68950 Powell Road",null,null,"Romeo","MI","48065-0502"]
["Insituform Technologies USA","Jim Doumouras","636-530-8776 brenda glenn","630-257-2200 ext. 116","636-530-8000 gen# MO","630-257-9712",null,null,"Michigan Sales Tax","Accounts Payable Brenda Glen FX: 636-530-8745 ph:800-234-2992\n\nEvery invoice needs to be faxed to Brenda Glen.\nEach new invoice for Rental (each new month) needs a new po# those are given by Lauren  PH: 630-243-6964 FX:630-257-9721\n\ncall get new po then fax a copyof invoice to brenda glen and another copy to Lauren Harry","Insituform Technologies USA","Jim Doumouras","12897 Main Street",null,null,"Lemont","IL","60439","Mr.","Doumouras"]
["Integrated Building Solutions","Matt Tomes",null,"889-3070","616-719-6856 cell","616-855-6425",null,null,"Michigan Sales Tax",null,"Integrated Building Solutions","Attn:Bill Hephner","4351 Red Key Court",null,null,"Grandville","MI","49418"]
["Integrated Building Solutions (Damic)","Kevin Damic",null,null,null," 616-855-6425","kdamic@ibscontrols.com",null,null,"Buyer installer for SHWWTP / CCJ&M Gas Detection Project","Integrated Building Solutions","4351 Red Key Court",null,null,null,"Grandville","MI","49418","Mr.","Damic",null,"Contractor General","Kent"]
["Integrated Building Solutions (Tomes)","Matt Tomes",null,null,null," 616-855-6425","matt@ibscontrols.com",null,null,null,"Integrated Building Solutions","4351 Red Key Court",null,null,null,"Grandville","MI","49418","Mr.","Tomes",null,"Contractor General","Kent"]
["Integrated Fabric Resource (Stockdale)","Todd Stockdale",null," 616-772-2052 109",null," 616-772-2068","toddsto@ifrinc.com",null,null,null,"Integrated Fabric Resource","10875 Chicago Dr.",null,null,null,"Zeeland","MI","49464","Mr.","Stockdale","Vice President of Operations a",null,"Ottawa"]
["Integrity Tree Service","Tim Guikema",null,"616-895-9600",null,"616-895-9602",null,null,"NONTXAG",null,"Integrity Tree Service","Attn: Tim Guikema","5926 Fillmore",null,null,"Allendale","MI","49401"]
["Integrity Tree Service (Guikema)","Tim Guikema",null," 616-895-9600",null," 616-895-9602","timg@integritytree.com",null,null,null,"Integrity Tree Service","5926 Fillmore",null,null,null,"Allendale","MI","49401","Mr.","Guikema",null,"Contractor General","Ottawa"]
["Intercon Messaging Inc. (Linde)","Nicole Linde",null," 877-999-5581",null,null,"nlinde@interconmessaging.com",null,null,null,"Intercon Messaging Inc.","6226-50 Avenue, Box 6295",null,null,null,"Drayton Valley","AB","T7A 1R7","Ms.","Linde",null,"Other","Out of State"]
["International Dioxcide, Inc. (a DuPont Co","Ben Borzenski",null," 401-295-3637",null," 401-295-7108","ben.m.borzenski@usa.dupont.com",null,null,"BW Robert Huff referred his company\nHelen Krafton helen.m.krafton@usa.dupont.com","International Dioxcide, Inc. (a DuPont Co","40 Whitecap Drive",null,null,null,"North Kingstown","RI","2852","Mr.","Borzenski",null,"Manufacturer","Out of State"]
["International Dioxcide, Inc. (Dupont)",null,null,null,null,null,"'idi.acct@usa.dupont.com'",null,"Out of State","PURCHASING\nphone:  401-295-3632\nfax:  401-295-7108\n\nACCOUNTING  Pam\nphone:  401-295-3633\nfax:  401-295-2893\n\nBen Borzenski - office: 401-295-3637\nemail for inv 'idi.acct@usa.dupont.com'","International Dioxcide, Inc. (Dupont)","Attn: Ben Borzenski","40 Whitecap Drive",null,null,"North Kingstown","RI","02852"]
["International Marketing Service, Inc",null,null,"616-534-2655",null,null,null,null,"Non-Tax",null,"International Marketing Service, Inc","Attn:Tom Wisinski","2606 Thornwood SW",null,null,"Wyoming","MI","49509"]
["International Personnel Protection","Jeff Stull",null,"512-344-5588",null,null,null,null,"Michigan Sales Tax",null,"Total Fire Group","Attn: Chris Nitz","1 Inovation Ct.",null,null,"Dayton","OH","45414"]
["International Tooling Solutions (Kirkbrid","Lou Kirkbride",null," 616-459-8285",null," 616-459-7710",null,null,null,"Robert Ringler is Purch Mgr. Was Mag? Steel.","International Tooling Solutions","731 Broadway N.W.","PO Box 2387",null,null,"Grand Rapids","MI","49501","Mr.","Kirkbride","Foreman","Manufacturer","Kent"]
["Intertek Caleb Brett",null,"Chris Gorzelewski","419-866-4004","419-467-2979 cell","419-866-4003","christopher.gorzelewski@intertek.com",null,"Out of State","applied for terms 1/2011. two references came back good, can not get response from 3rd reference","Intertek Caleb Brett","Attn:Chris Gorzelewski","1020 S. Holland Sylvania Rd.",null,null,"Holland","OH","43528"]
["INVENTORY"]
["Ion Science (Hewitt)","Geoff Hewitt",null," 802-244-5153",null," 802-244-8942","geoff.hewitt@ionscience-americas.com",null,null,"Justin Blackman mob 802.598.2199 justin.blackman@ionscience-americas.com, Karen","Ion Science","162 South Main Street","PO Box 558",null,null,"Waterbury","VT","5676","Mr.","Hewitt",null,"Supplier","Out of State"]
["Ionia DPW, City of (Cunningham)","Gary Cunningham",null," 616-527-5786",null,null,null,null,null,null,"Ionia DPW, City of","303 S. Jackson",null,null,null,"Ionia","MI","48846","Mr.","Cunningham","Director","Municipal, Cty","Ionia"]
["Ionia WWTP, City of (Kenyon)","Chris Kenyon",null," 616-527-0370 102",null," 616-527-6002","dirutilities@city.ionia.mi.us",null,null,"Joe Lafler in Lab buys some PPE and calibrates old GX82.","Ionia WWTP, City of","720 Wells Street",null,null,null,"Ionia","MI","48846","Mr.","Kenyon","Director","Municipal, Cty","Ionia"]
["IPL / AES (Flinta)","Dan Flinta, CIH CSP",null," 317-261-8560",null," 317-630-0660","dan.flinta@aes.com",null,null,null,"IPL / AES","1230 W. Morris Street",null,null,null,"Indianapolis","IN","46221",null,"Flinta","Sr. Occupational Health & Safe","Utility","Out of State"]
["Ira Township Fire Dept.","Jason Keller",null,"586-725-7771",null,null,null,null,"Non-Tax Municipality/Utility",null,"Ira Township Fire Dept.","Attn: Jason Keller","7065 Meldrum Rd.",null,null,"FairHaven","MI","48023"]
["Ironwood, City of","Karen Gullan, Clerk","Jim Ansami","906-932-5050",null,"906-932-5745",null,null,"Non-Tax Municipality/Utility","Jim Ansami - 906-932-3631 Direct","Ironwood, City of","Attn:","213 S. Marquette St.",null,null,"Ironwood","MI","49938"]
["IRST Immediate Response Spill Technologie","Dan Parker",null," 502-267-0101"," 800-255-6073"," 502-267-0181","dan@ciagent.com",null,null,null,"IRST Immediate Response Spill Technologie","PO Box 7427",null,null,null,"Louisville","KY","40257-0427","Mr.","Parker","President","Supplier","Out of State"]
["Irwin Seating Company (Kuzee)","Ann Kuzee",null," 616-574-7331",null," 616-784-1550",null,null,null,"Mark Atchison Mfg Engr","Irwin Seating Company","3251 Fruit Ridge Avenue, NW","PO Box 2429",null,null,"Grand Rapids","MI","49544","Ms.","Kuzee","Human Resources Director","Furniture","Kent"]
["ISC Restoration",null,"Mark Stamann","616-887-7840",null,"616-887-8972","iscrestore@charter.net",null,"Use Tax Rental","Suzie Stamann handles A/P iscrestore@charter.net","ISC Restoration","Attn: Mark Stamann","830 - 10 Mile Road NW",null,null,"Sparta","MI","49345"]
["ITC - Brownstown Station","Mike Mobley",null,"734-547-0266 x 232",null,null,null,null,"Michigan Sales Tax","INVOICE MUST INCLUDE:\n- PO#\n- PO# line item number\n- Description of line item number\n- Amount invoiced\n- ID of sales tax billed\n- Invoice date, invoice number & terms\n- Sod to company should match company of PO#\n- Ship to address (location)","ITC - Brownstown Station","Attn: Mike Mobley","25868 Hall Road",null,null,"Woodhaven","MI","48183"]
["ITC - Stephens Warehouse",null,null,null,null,null,null,null,"Michigan Sales Tax","Larry Smith - Warehouse Mgr. -  cell: 248-721-0573\nJerome Triplett - Field Tech - cell: 248-721-2988\n\nUPS# 32Y503\n\nRef: Work Order 570714 - this note was in \"special instructions\"  not sure if it should have been or not\n\n\nINVOICE MUST INCLUDE:\n- PO#\n- PO# line item number\n- Description of line item number\n- Amount invoiced\n- ID of sales tax billed\n- Invoice date, invoice number & terms\n- Sod to company should match company of PO#\n- Ship to address (location)","ITC - Stephens Warehouse","Attn: Larry Smith","12500 E. Ten Mile Rd.",null,null,"Warren","MI","48089"]
["ITC Midwest-Albert Lea Warehouse","Mike Mobley",null,"248-946-3410",null,"248-946-3378",null,null,"Michigan Sales Tax","INVOICE MUST INCLUDE:\n- PO#\n- PO# line item number\n- Description of line item number\n- Amount invoiced\n- ID of sales tax billed\n- Invoice date, invoice number & terms\n- Sod to company should match company of PO#\n- Ship to address (location)","ITC Midwest-Albert Lea Warehouse","Attn: Tim Woodward","20789 - 780th Ave.",null,null,"Albert lea","MN","56007"]
["ITC Midwest-Perry Warehouse","Mike Mobley",null,"734-547-0266",null,null,null,null,"Michigan Sales Tax","INVOICE MUST INCLUDE:\n- PO#\n- PO# line item number\n- Description of line item number\n- Amount invoiced\n- ID of sales tax billed\n- Invoice date, invoice number & terms\n- Sod to company should match company of PO#\n- Ship to address (location)","ITC Midwest-Perry Warehouse","Attn:","504 Research Dr.","Highway 141",null,"Perry","IA","50220"]
["ITC Transmission (Asselin)","David Asselin",null," 586-757-8611",null," 586-757-8620","dasselin@itctransco.com",null,null,"ITC Larry Smith\nUtility Lines Construction Services, Inc. 12500 East Ten Mile, Warren, MI 48089","ITC Transmission","39500 Orchard Hill Place","Suite 200",null,null,"Novi","MI","48375","Mr.","Asselin",null,"Utility","Oakland"]
["ITC Transmission (Cooperman)","Jason Cooperman",null," 248-946-3419",null," 248-946-3378","jcooperman@itctransco.com",null,null,null,"ITC Transmission","27175 Energy Way",null,null,null,"Novi","MI","48377","Mr.","Cooperman",null,"Contractor Electrical","Oakland"]
["ITC Transmission (Mobley)","Mike Mobley",null," 248-946-3410",null," 734-547-0292","mmobley@itctransco.com",null,null,null,"ITC Transmission","39500 Orchard Hill Place","Suite 200",null,null,"Novi","MI","48375","Mr.","Mobley",null,"Contractor Electrical","Oakland"]
["ITC, METC - Gaylord Warehouse",null,"Ben Morgan",null,"989-745-3556",null,null,null,"Michigan Sales Tax","INVOICE MUST INCLUDE:\n- PO#\n- PO# line item number\n- Description of line item number\n- Amount invoiced\n- ID of sales tax billed\n- Invoice date, invoice number & terms\n- Sod to company should match company of PO#\n- Ship to address (location)","ITC, METC - Gaylord Warehouse","Attn: Jason Cooperman","995 Dickerson Road",null,null,"Gaylord","MI","49735"]
["ITC, METC - Kawkawlin Warehouse",null,"Barb Maat","989-671-0616",null,"989-671-0758",null,null,"Michigan Sales Tax","A/P Katie Welch 248.946.3445\nkwelch@itctransco.com\n\nINVOICE MUST INCLUDE:\n- PO#\n- PO# line item number\n- Description of line item number\n- Amount invoiced\n- ID of sales tax billed\n- Invoice date, invoice number & terms\n- Sod to company should match company of PO#\n- Ship to address (location)","ITC, METC - Kawkawlin Warehouse","Attn:","2401 S. Huron Road",null,null,"Kawkawlin","MI","48631"]
["ITC, METC - Main",null,null,null,null,null,null,null,"Non-Tax","INVOICE MUST INCLUDE:\n- PO#\n- PO# line item number\n- Description of line item number\n- Amount invoiced\n- ID of sales tax billed\n- Invoice date, invoice number & terms\n- Sod to company should match company of PO#\n- Ship to address (location)","ITC","Attn: PO# ITCMS-0000011634","27175 Energy Way",null,null,"Novi","MI","48377"]
["ITC, METC - Wayland Warehouse","Jason Cooperman - Buyer",null,"734-547-0266 x-252",null,null,null,null,"Michigan Sales Tax","Marcus Youcker - cell:  248-200-9851\n\nMike Jinks - cell: 248-721-2310\nemail:  mjinks@itctransco.com\n\nAaron - cell: 248-200-9861 cell\n\nINVOICE MUST INCLUDE:\n- PO#\n- PO# line item number\n- Description of line item number\n- Amount invoiced\n- ID of sales tax billed\n- Invoice date, invoice number & terms\n- Sod to company should match company of PO#\n- Ship to address (location)","ITC, METC - Wayland Warehouse","Attn: Mike Jinks","801 S. Main Street",null,null,"Wayland","MI","49348"]
["ITC- Belleville Warehouse","Jim Hyde",null,"248-755-4527",null,null,null,null,"Michigan Sales Tax",null,"ITC- Belleville Warehouse","Attn:","10885 Textile Road",null,null,"Belleville","MI","48111"]
["ITS Manufacturing Solutions",null,"Tracy Zomberg","616-284-2900","616-773-6727","616-284-2910",null,null,"Michigan Sales Tax","10/31/2008:  Purchased building from Synergis, first order is a test for payment terms.","ITS Manufacturing Solutions","Attn:","2066 Bristol Ave. NW",null,null,"Walker","MI","49504"]
["ITT (Mejeur)","Tom Mejeur",null," 616-406-1281",null,null,"tmejeur@itt-tech.edu",null,null,null,"ITT","1980 Metro Court",null,null,null,"Wyoming","MI",null,"Mr.","Mejeur",null,"School","Kent"]
["ITW Drawform","Derrick Scheidel",null,"616-772-1910 ext.223",null,"616-772-9572","derricks@drawform.com",null,"Michigan Sales Tax",null,"ITW Drawform","Attn: Derrick  Scheidel","500 Fairview",null,null,"Zeeland","MI","49464"]
["ITW Drawform (Gardner)","Karen Gardner",null," 616-772-1910",null," 616-772-9572",null,null,null,null,"ITW Drawform","500 Fairview",null,null,null,"Zeeland","MI","49464","Mrs.","Gardner","Human Resource Manager","Manufacturer","Ottawa"]
["ITW Drawform (Scheidel)","Derrick Scheidel",null," 616-772-1910 223",null," 616-772-9572","DerrickS@drawform.com",null,null,null,"ITW Drawform","500 Fairview",null,null,null,"Zeeland","MI","49464","Mr.","Scheidel","EHS Coordinator","Manufacturer","Ottawa"]
["J & F Steel Corporation (Woods)","Rick Woods",null," 616-669-3003",null," 616-669-0815",null,null,null,null,"J & F Steel Corporation","6600 Center Industrial Dr.",null,null,null,"Jenison","MI","49429","Mr.","Woods","Safety","Steel","Ottawa"]
["J. D'Amico, Inc.",null,null,"781-961-3700",null,"781-986-4667",null,null,"Out of State","Eric Newborn - cell: 617-594-0744","J. D'Amico, Inc.","Attn: Eric Newborn","10 York Ave.",null,null,"Randolph","MA","02368"]
["J. D'Amico, Inc. (Newborn)","Eric Newborn",null," 781-961-3700",null," 781-986-4667","eric@jdamico.com",null,null,null,"J. D'Amico, Inc.","10 York Ave.",null,null,null,"Randolph","MA","2368","Mr.","Newborn",null,"Contractor General","Out of State"]
["Jack Dykstra Excavating, Inc.","Jack Dykstra",null,"616-453-4827",null,"616-453-5335",null,null,"Michigan Sales Tax","Jack Dykstra - cell: 616-291-1893","Jack Dykstra Excavating, Inc.","Attn: Jack Dykstra Jr.","3677 - 3 Mile Road NW",null,null,"Grand Rapids","MI","49534"]
["Jack Dykstra Excavating, Inc. (Dykstra)","Jack Dykstra",null," 616-453-4827",null," 616-453-5335",null,null,null,null,"Jack Dykstra Excavating, Inc.","3677 3 Mile Road NW",null,null,null,"Grand Rapids","MI","49544","Mr.","Dykstra","President","Contractor, Excavator","Kent"]
["Jackson County Parks Department (Youmans)","Chris Youmans",null," 517-768-2920",null," 517-788-4684",null,null,null,"Mickey Covington Lead","Jackson County Parks Department","1992 Warren Avenue",null,null,null,"Jackson","MI","49203","Mr.","Youmans","Maintenance Supervisor","Municipal, Cty","Kent"]
["Jackson DPW, City of",null,"Greg Lucas / SanDee Porter",null,"517-768-6064",null,"sporter@cityofjackson.org",null,"Non-Tax Municipality/Utility",null,"Jackson DPW, City of","Attn: SanDee Porter","521 Water Street",null,null,"Jackson","MI","49203"]
["Jackson DPW, City of (Lucas)","Greg Lucas",null," 517-768-6064",null," 517-788-4639","glucas@cityofjackson.org",null,null,"Met Paul Winkleplek, in charge while Greg on guard duty. Lillian","Jackson DPW, City of","521 Water Street",null,null,null,"Jackson","MI","49203","Mr.","Lucas","General Foreman","Municipal, Cty","Jackson"]
["Jackson DPW, City of (Porter)","SanDee Porter",null," 517-768-6083",null," 517-788-4639","sporter@cityofjackson.org",null,null,null,"Jackson DPW, City of","521 Water Street",null,null,null,"Jackson","MI","49203","Ms.","Porter","Public Works Assistant","Municipal, Cty","Jackson"]
["Jackson Fire Dept., City of",null,null,"517-788-4150","Dep. Cf. David Wooden","517-788-4637",null,null,"Non-Tax Municipality/Utility","Cf. Dave Van Stempvoort\n\nCraig Reppert","Jackson Fire Dept., City of","Attn: Craig Reppert/Dave VanStempvoort","518 N. Jackson",null,null,"Jackson","MI","49201"]
["Jackson Parks and Recreation, City of (St","Tom Steiger",null," 517-788-4176",null," 517-788-4691",null,null,null,null,"Jackson Parks and Recreation, City of","Francis Street",null,null,null,"Jackson","MI","49203","Mr.","Steiger","Supervisor","Municipal, Cty","Jackson"]
["Jackson Safety Products (Patrick)","Ron Patrick",null," 734-673-8871",null,null,"rpatrick@jacksonsafety.com",null,null,"L3 Pricing per Ron ~6.25.2009","Jackson Safety Products","5801 Safety Drive NE",null,null,null,"Belmont","MI","49306","Mr.","Patrick","Representative","Supplier","Kent"]
["Jackson Water Services, City of","Dan Bujanda",null,"517-768-6103",null,"517-788-4691",null,null,"Non-Tax Municipality/Utility",null,"Jackson Water Services, City of","Attn:","515 Water Street",null,null,"Jackson","MI","49203"]
["Jackson Water Services, City of (Bujanda)","Dan Bujanda",null," 517-768-6103"," 517-788-4090"," 517-788-4691","dbujanda@cityofjackson.org",null,null,"Demo'd Micro and PPE. Quote. Tom Steiger is Supr for Parks. FD is Brian Thurston","Jackson Water Services, City of","515 Water Street",null,null,null,"Jackson","MI","49203","Mr.","Bujanda","Water Services Manager","Municipal, Cty","Jackson"]
["Jackson Water Services, City of (Shaw)","Ron Shaw",null," 517-768-6107",null," 517-788-4691","rshaw@cityofjackson.org",null,null,null,"Jackson Water Services, City of","515 Water Street",null,null,null,"Jackson","MI","49203","Mr.","Shaw","Meter Services Supervisor","Municipal, Cty","Jackson"]
["Jackson Water Treatment Plant, City of","Bob Koehn (Cane)",null,"517-788-4073",null,null,null,null,"Non-Tax Municipality/Utility",null,"Jackson Water Treatment Plant, City of","Attn: Bob Koehn","740 E. Mansion St.",null,null,"Jackson","MI","49203"]
["Jackson Water Treatment Plant, City of (K","Bob Koehn",null," 517-788-4073",null," 517-780-4773","bkoehn@dmci.net",null,null,null,"Jackson Water Treatment Plant, City of","740 E. Mansion Street",null,null,null,"Jackson","MI","49203","Mr.","Koehn","Asst. Water Plant Supervisor","Municipal, Cty","Jackson"]
["Jackson WWTP, City of (Lenardson)","Mary Lenardson",null," 517-788-4075",null," 517-788-4641","jwwtp@dmci.net",null,null,"Francis Nwachukwu Supr Indl Pretreatment","Jackson WWTP, City of","2995 Lansing Avenue",null,null,null,"Jackson","MI","49202-1653","Ms.","Lenardson","Chemist / Lab Supervisor","Municipal, Cty","Jackson"]
["Jackson-Merkey Contractors, Inc. (Bartlet","Jim Bartlett",null," 231-728-9344",null," 231-726-2060",null,null,null,null,"Jackson-Merkey Contractors, Inc.","555 E. Western Ave.",null,null,null,"Muskegon","MI","49442-1039",null,"Bartlett","Equipment Manager","Contractor, Excavator","Muskegon"]
["Jackson-Merkey Contractors, Inc. (Merkey)","Gary Merkey",null," 231-728-9344",null," 231-726-2060","gmerkey@jackson-merkey.com",null,null,null,"Jackson-Merkey Contractors, Inc.","555 E. Western Ave.",null,null,null,"Muskegon","MI","49442-1039",null,"Merkey",null,"Contractor General","Muskegon"]
["Jackson-Merkey Contractors, Inc. (Studema","Craig Studeman",null," 231-728-9344",null," 231-726-2060","cstudema@jackson-merkey.com",null,null,"Gary Merkey decn makr on CSE equip\nsee Jim Bartlett for stores\nsee Steve Fink at Musk Cnty Soil Erosion for drain guards","Jackson-Merkey Contractors, Inc.","555 E. Western Ave.",null,null,null,"Muskegon","MI","49442-1039","Mr.","Studeman",null,"Contractor, Excavator","Muskegon"]
["Jacobs Engineering",null,"Bob Pierce 225-268-7779",null,"269-833-1192",null,null,null,"Michigan Sales Tax",null,"Pfizer Inc. - Kalamazoo","No Shipping Address Yet",null,null,null,"Call for Delivery"]
["Jacobs Sverdrup (Hartford)","Bud Hartford",null," 313-294-6102",null," 313-383-2924","david.hartford@jacobs.com",null,null,null,"Jacobs Sverdrup","8000 Enterprise Drive",null,null,null,"Allen Park","MI","48101","Mr.","Hartford","Health, Safety & Environmental","Automotive","Wayne"]
["Jacobs Sverdrup (Knott)","David Knott",null," 313-294-6113",null," 313-383-2924","david.knott@jacobs.com",null,null,null,"Jacobs Sverdrup","8000 Enterprise Drive",null,null,null,"Allen Park","MI","48101","Mr.","Knott",null,"Automotive","Wayne"]
["Jamar Company","Jeff Zdebski",null,"906-228-5614",null,null,null,null,"Michigan Sales Tax",null,"Jamar Company","Attn Jeff Zdebski","International Paper","US Highway @",null,"Quinnesec","MI","49876"]
["Jamar Company (Zdebski)","Jeff Zdebski",null," 906-228-5614 14",null," 906-228-6575",null,null,null,null,"Jamar Company","PO Box 650",null,null,null,"Marquette","MI","49855","Mr.","Zdebski","Safety Director","Paper","Kent"]
["James E. Fulton & Sons",null,"John Nichols","269-385-3311",null,"269-385-1005",null,null,"Michigan Sales Tax",null,"James E. Fulton & Sons","Attn:","2516 Miller Road",null,null,"Kalamazoo","MI","49001"]
["James E. Fulton & Sons (Fulton)","Jim Fulton, Jr.",null," 269-385-3311",null," 269-385-1005","jimjr@fultonexcavating.com",null,null,null,"James E. Fulton & Sons","2516 Miller Road",null,null,null,"Kalamazoo","MI","49001","Mr.","Fulton",null,"Contractor General","Kalamazoo"]
["James E. Fulton & Sons (Nichols)","John Nichols",null," 269-385-3311",null," 269-385-1005","john@fultonexcavating.com",null,null,"Met also James Powell jpowell@fultonexcavating.com","James E. Fulton & Sons","2516 Miller Road",null,null,null,"Kalamazoo","MI","49001","Mr.","Nichols","Safety Manager","Contractor General","Kalamazoo"]
["James E. Fulton & Sons (Powell)","James Powell",null," 269-385-3311",null," 269-385-1005","jpowell@fultonexcavating.com",null,null,null,"James E. Fulton & Sons","2516 Miller Road",null,null,null,"Kalamazoo","MI","49001","Mr.","Powell",null,"Contractor General","Kalamazoo"]
["James River Laser & Equpment","John Meise",null,"540-389-9700",null,"540-389-2275",null,null,"Out of State",null,"James River Laser & Equpment","Attn:John Meise","711 South Broad Street",null,null,"Salem","VA","24153"]
["James River Laser and Equipment (Meise)","John Meise",null," 540-389-9700",null," 540-389-2275",null,null,null,"Per Mickey. Bought Cal gas","James River Laser and Equipment","711 South Broad Street",null,null,null,"Salem","VA","24153","Mr.","Meise",null,"Competitor","Out of State"]
["James Strobridge","Jim Strobridge",null,"616-458-9937","616-550-4688 cell","616-458-0111","cihstro@iserv.net",null,"Michigan Sales Tax",null,"Jim Strobridge","923 Van Buren NW",null,null,null,"Grand Rapids","MI","49504","Mr.","Strobridge"]
["James Strobridge (Strobridge, CIH)","James Strobridge, CIH",null," 616-458-9937",null," 616-458-0111","cihstro@iserv.net",null,null,null,"James Strobridge","923 Van Buren NW",null,null,null,"Grand Rapids","MI","49504","Mr.","Strobridge, CIH","Owner","Contractor EH&S","Kent"]
["James, Anderson & Associates, Inc. (Ander","Robert Anderson",null," 517-349-8066",null," 517-349-7870","robertanderson@jaa-inc.com",null,null,null,"James, Anderson & Associates, Inc.","2123 University Park Drive #130",null,null,null,"Okemos","MI","48864","Mr.","Anderson",null,"Contractor EH&S","Ingham"]
["Janesville Acoustics","Jack Frost",null,"419-668-4474",null,"419-660-2015","jfrost@janesvilleacoustics.com",null,"OH Huron Co.",null,"Janesville Acoustics","Attn:","2700 Patterson Ave SE",null,null,"Grand Rapids","MI","49546"]
["Janesville Acoustics (Kent)","Don Kent",null,null,null,null,"don.kent@janesvilleacoustics.com",null,null,null,"Janesville Acoustics","3232 Kraft SE",null,null,null,"Kentwood","MI","49512",null,"Kent","Safety Manager","Manufacturer","Kent"]
["JBI LLC (Bolger)","James Bolger",null," 734-663-1784",null," 734-663-3693","jbidata@aol.com",null,null,null,"JBI LLC","2730 W. Ellsworth Road",null,null,null,"Ann Arbor","MI","48108","Mr.","Bolger","Director","Contractor EH&S","Washtenaw"]
["JBS Packerland, Inc.",null,"Chris Johnson","269-685-6886",null,"269-685-2605",null,null,"Non-Tax","Charity McKenzie - ext.236 - Charity.McKenzie@jbssa.com\n\nDrex McCalvin (Safety Mgr.) ext. 127 - Drex.McCalvin@jbssa.com","JBS Packerland, Inc.","Attn:","11 - 11th Street",null,null,"Plainwell","MI","49080"]
["JBS Packerland.com (Johnson)","Chris Johnson",null," 269-685-2534",null," 269-685-0388","chris.johnson@jbspackerland.com",null,null,"Charity.McKenzie@jbssa.com, Drex.McCalvin@jbssa.com\nChris Johnson Safety Mgr, Bruce McClintock Boiler & Refrigeration Mgr.; Bill Rhodes Safety Tech; Jose reports to HUMR","JBS Packerland.com","11 -- 11th Street",null,null,null,"Plainwell","MI","49080-0247","Mr.","Johnson","Safety Manager","Food","Allegan"]
["JBS Packerland.com (Keister)","Fred Keister",null," 269-685-6886 197",null," 269-685-2605","fred.keister@sfbeef.com",null,null,"nee Smithfield Beef Group,  Murco","JBS Packerland.com","11 -- 11th Street",null,null,null,"Plainwell","MI","49080-0247","Mr.","Keister","Purchasing Manager","Food","Allegan"]
["JD Fusion & Supply","Jim Howland",null,"517-647-1895",null,"517-647-1895","jkahow@sbcglobal.net",null,"Michigan Sales Tax","Jim's cell:  517-...-...","JD Fusion & Supply","Attn:","10207 Frost Raod",null,null,"Portland","MI","48875"]
["JD Platinum Electric LLC","David Fritz",null,"740-756-4120",null,null,null,null,"NonTx Re-Sale","Always tax exempt for instal and resell per David 1/3.1/11 form on file","JD Platinum Electric LLC","Attn: David Fritz","5975 Coonpath Road NW",null,null,"Carroll","OH","43112"]
["JD Platinum Electric LLC (Fritz)","David M. Fritz",null," 614-332-0106",null," 740-756-9197","davef7@columbus.rr.com",null,null,"HA Lead for fixed","JD Platinum Electric LLC","5975 Coonpath Road NW",null,null,null,"Carroll","OH","43112","Mr.","Fritz","Owner","Contractor Electrical","Fairfield"]
["Jergens Piping (Kettwich)","Keith Kettwich",null,null,null,null,"keith@jergenspiping.com",null,null,"per Ken Sparks","Jergens Piping","9830 Portage Road",null,null,null,"Portage","MI","49002","Mr.","Kettwich",null,"Contractor General","Kalamazoo"]
["John Manville Corp.","John Cannon",null,"419-878-7291","gen 3419-878-8111",null,null,null,"Out of State",null,"John Manville Corp.","Attn:John Cannon","6050 North River Road",null,null,"Waterville","OH","43566"]
["John W. Potter Inc. (Potter)","John Potter",null," 616-453-5423",null," 616-453-9620",null,null,null,null,"John W. Potter Inc.","2700 Calann NW",null,null,null,"Grand Rapids","MI","49544","Mr.","Potter",null,"Contractor General","Kent"]
["Johney Klap"]
["Johnson & Johnson Pharmaceutical R&D (Nes","Fred Neske",null,null,null,null,"fneske@prdus.jnj.com",null,null,null,"Johnson & Johnson Pharmaceutical R&D","?, ,",null,null,null,null,null,null,"Mr.","Neske","EH&S","Chemical Pharmaceutical","Out of State"]
["Johnson Construction (Bergsma)","Paul Bergsma",null," 616-538-3740",null," 616-538-9881","paul@johnson-construction.com",null,null,null,"Johnson Construction","2442 -- 28th Street SW",null,null,null,"Wyoming","MI","49509","Mr.","Bergsma",null,"Contractor General","Kent"]
["Johnson Construction (Johnson)","Duane Johnson",null," 616-538-3740",null," 616-538-9881",null,null,null,null,"Johnson Construction","2442  28th Street SW",null,null,null,"Wyoming","MI","49509","Mr.","Johnson","Vice President","Contractor General","Kent"]
["Johnson Controls (Maplewood)",null,null,null,null,null,null,null,"Michigan Sales Tax","Emily Ludwick - office: 616-394-8551\n\nJeff Lindman - \nVISA: 4246-0441-0091-6158   EXP: 01/13\n\nGreg Elliott Pager 616-218-2449\noffice 616-394-2773","Johnson Controls (Maplewood)","Attn:","88 East 48th Street",null,null,"Holland","MI","49423"]
["Johnson Controls (Southview)","Dale Hoffer",null,null,null,null,null,null,"Non-Tax",null,"Johnson Controls (Southview)","Attn: Dale Hoffer","1600 S. Washington",null,null,"Holland","MI","49423"]
["Johnson Controls, Inc. (Deleau)","Rich Deleau",null," 616-283-2725",null,null,"richard.a.deleau@jci.com",null,null,"Dale Hoffer Site Opns Supr 616.394.6817; mob 616.510.1939","Johnson Controls, Inc.","1600 S. Washington",null,null,null,"Holland","MI","49423",null,"Deleau","EH&S","Automotive","Ottawa"]
["Johnson Controls, Inc. (DeVries)","Chaunda DeVries",null," 616-394-1678",null,null,"chaunda.k.devries@jci.com",null,null,"Greg Elliott mob 616.218.2449; (o) 616.394.2773\ngregory.j.elliott@jci.com\nDale Hoffer Site Opns Supr 616.394.6817; mob 616.510.1939\nDale.M.Hoffer@jci.com","Johnson Controls, Inc.","1600 S. Washington",null,null,null,"Holland","MI","49423","Ms.","DeVries",null,"Automotive","Ottawa"]
["Johnson Controls, Inc. (Keller)","Frank Keller",null," 734-947-5014",null,null,"frank.j.keller@jci.com",null,null,null,"Johnson Controls, Inc.","9800 Inkster Road",null,null,null,"Romulus","MI","48174","Mr.","Keller","Safety Manager","Automotive","Wayne"]
["Johnson Electric",null,"Jeff Butzer",null,"616-257-1281","616-257-1202",null,null,"Non-Tax",null,"Johnson Electric","Attn:","3495 Viaduct SW",null,null,"Grandville","MI","49418"]
["Johnson Electric (Butzer)","Jeff Butzer",null," 616-257-1281"," 616-257-1200"," 616-257-1202","jbutzer@inteccompany.com",null,null,"Safety Committee meets 1st Tues of Month\nMike Dykema, VP sometimes buys, Gary Derum? Road and State Park Projects\nJeff is son of Ed, founder (retired)\nIntec is parent company\n  Midstate Security\n  Johnson Electric\n  Others","Johnson Electric","3495 Viaduct SW",null,null,null,"Grandville","MI","49418","Mr.","Butzer","Project Manager","Contractor Electrical","Kent"]
["Johnson Electric (Dykema)","Jeff Dykema",null," 616-257-1225"," 616-257-1200"," 616-257-1202","jdykema@inteccompany.com",null,null,"Dad  one of the owners Mike Dykema (VP) mob 616.291.3709  mdykema@inteccompany.com\nsecy is Jody McKinney","Johnson Electric","3495 Viaduct SW",null,null,null,"Grandville","MI","49418","Mr.","Dykema","Service Supervisor","Contractor Electrical","Kent"]
["Johnson Technology (Boucon)","Phil Boucon",null," 231-777-7195",null," 231-773-1397",null,null,null,"Phil is Cameron counterpart in Safety at the Latimer Site","Johnson Technology","2034 Latimer Drive",null,null,null,"Muskegon","MI","49442",null,"Boucon","Safety and Health Co Manager","Manufacturer","Muskegon"]
["Johnson Technology (Crux)","Erik Crux",null," 231-777-7176",null,null,"erik.crux@ge.com",null,null,null,"Johnson Technology","2034 Latimer Drive",null,null,null,"Muskegon","MI","49442","Mr.","Crux","Technician","Manufacturer","Muskegon"]
["Johnson Technology (Kuipers)","Paul Kuipers",null," 231-767-7472",null," 231-777-8615","paul.kuipers@ge.com",null,null,"erik.crux@ge.com","Johnson Technology","2034 Latimer Drive",null,null,null,"Muskegon","MI","49442","Mr.","Kuipers","Facilities and Maintenance","Manufacturer","Muskegon"]
["Johnson Technology (Main)","Cameron Main",null," 231-767-7435",null," 231-773-1397","cameron.main@ge.com",null,null,null,"Johnson Technology","2034 Latimer Drive",null,null,null,"Muskegon","MI","49442","Mr.","Main","Environmental Health & Safety","Manufacturer","Muskegon"]
["Johnson Technology (Reagan)","David Reagan",null," 231-777-7110",null," 231-773-1397","dave.reagan@ae.ge.com",null,null,null,"Johnson Technology","2034 Latimer Drive",null,null,null,"Muskegon","MI","49442",null,"Reagan","EH & S Manager","Manufacturer","Muskegon"]
["Johnson Technology (Reasoner)","Rick Reasoner",null," 231-777-7160",null," 231-773-1397","rick.reasoner@ge.com",null,null,"Met with Paul Kuipers, Dave Reagan, Thomas Veihl (GEnx Programs) to go over fixed H2.\nToney Romans","Johnson Technology","2034 Latimer Drive",null,null,null,"Muskegon","MI","49442","Mr.","Reasoner","Maintenance Manager","Manufacturer","Muskegon"]
["Johnson Technology/GE Aviation","Cameron Main",null,"231-767-7435",null,"231-773-1397","cameron.main@GE.com",null,"Non-Tax",null,"Johnson Technology","Attn: Theresa Johnson","6060 NortonCenter Dr.",null,null,"Muskegon","MI","49441"]
["Johnston Boiler Company",null,"Rick Ewing","616-842-5050",null,"616-842-9589",null,null,"Non-Tax","Rick Ewing x307\n\nUPS Acct.# 453307\n\nFax invoices to 616-842-1854","Johnston Boiler Company","Attn: Rick Ewing","300 Pine Street",null,null,"Ferrysburg","MI","49409"]
["Johnston Boiler Company (Ewing)","Rick Ewing",null," 616-842-5050 307",null," 616-842-9589","rewing@johnstonboiler.com",null,null,null,"Johnston Boiler Company","PO Box 300",null,null,null,"Ferrysburg","MI","49409-0300","Mr.","Ewing","Director of Operations","Manufacturer","Ottawa"]
["Joseph M. Day Company (Saltz)","Vicky Saltz",null," 989-755-0583"," 800-837-0583"," 989-755-1309","vicky@josephmday.com",null,null,null,"Joseph M. Day Company","1840 N. Michigan Ave.",null,null,null,"Saginaw","MI","48602","Ms.","Saltz",null,"Boiler Making","Saginaw"]
["JOST International Corp. (Myers)","Rick Myers",null," 616-223-3341"," 800-253-5105"," 616-846-0310","menglish@jostintemational.com",null,null,null,"JOST International Corp.","1770 Hayes Road","P.O. Box 327",null,null,"Grand Haven","MI","49417",null,"Myers","GH Operations/Purchasing Manag","Manufacturer","Muskegon"]
["Joynitt Communications (Joynson)","Jon Joynson",null," 269-857-5742",null,null,"jon@joynitt.com",null,null,null,"Joynitt Communications","PO Box 565",null,null,null,"Douglas","MI","49406","Mr.","Joynson",null,"Contractor General","Allegan"]
["JR Automation (Cooper)","Joel Cooper",null," 616-820-3313",null,null,"jcooper@jrauto.com",null,null,null,"JR Automation","13365 Tyler Street",null,null,null,"Holland","MI","49424","Mr.","Cooper",null,"Contractor General","Ottawa"]
["JRD Sales and Service, Inc","John \"JR\" Reed",null,"412-923-1020",null,"412-923-1021","jr@jrdsales.com",null,"Out of State",null,"JRD Sales and Service, Inc","Attn:","1200 Arch Street - Suite 105",null,null,"Carnegie","PA","15106"]
["JSJ Corporation (Anderson)","Bruce Anderson",null," 616-842-6350",null,null,null,null,null,null,"JSJ Corporation","700 Robbins Rd.",null,null,null,"Grand Haven","MI","49417","Mr.","Anderson","EH&S","Chemical Pharmaceutical","Ottawa"]
["JW Didado Electric, Inc.",null,null,"330-374-0070",null,null,null,null,"Out of State","George Bare - cell: 330-801-7137, email: george@jwdidado.com","JW Didado Electric, Inc.","Attn: George Bare","580 Vernon Odom Boulevard",null,null,"Akron","OH","44307"]
["JWK Construction (Meyers)","Mark Meyers",null," 616-538-9102",null," 616-538-7557",null,null,null,"Also, Steve Karsten","JWK Construction","2167 Beverly Avenue SW",null,null,null,"Wyoming","MI","49519","Mr.","Meyers",null,"Contractor General","Kent"]
["K & G Tool Company ()",null,null," 616-846-3690",null,null,null,null,null,null,"K & G Tool Company","16679 Comstock St.",null,null,null,"Grand Haven","MI","49417",null,null,null,"Tool Manufacturing","Ottawa"]
["K & H (Helmholdt)","Doug Helmholdt",null," 616-877-4910",null,null,"dh@kandh.com",null,null,"Concrete Cutter","K & H","1159 Electric Avenue",null,null,null,"Moline","MI","49335","Mr.","Helmholdt",null,"Contractor Electrical","Allegan"]
["Kalamazoo Boiler Company Inc. (Wilson)","Mike Wilson",null," 517-741-3600",null,null,"mwilson@kazooboilerco.com",null,null,null,"Kalamazoo Boiler Company Inc.","8480 M 60",null,null,null,"Union City","MI","49094-9669","Mr.","Wilson",null,"Contractor General","Branch"]
["Kalamazoo County Drain Commission (Layman","Kellie Layman",null," 269-384-8117",null," 269-383-8862","kllaym@kalcounty.com",null,null,"Bill French (KL's boss wbfren@kalcounty.com) said to see her re: UT.","Kalamazoo County Drain Commission","201 W. Kalamazoo Avenue",null,null,null,"Kalamazoo","MI","49007","Ms.","Layman","Soil Erosion","Municipal, Cty","Kalamazoo"]
["Kalamazoo Electric",null,"Scott Bryer",null,null,null,null,null,"Michigan Sales Tax",null,"Kalamazoo Electric","Attn:","6185 W. KL Ave.",null,null,"Kalamazoo","MI","49009"]
["Kalamazoo Lake Sewer and Water Authority",null,null,"269-857-2709",null,null,null,null,"Non-Tax","Daryl VanDyke - cell: 616-836-0863","Kalamazoo Lake Sewer and Water Authority","Attn: Daryl VanDyke po 585626","6449 Old Allegan Rd.",null,null,"Saugatuck","MI","49453"]
["Kalamazoo Lake Water & Sewer Authority (V","Daryl VanDyke",null," 269-857-2709",null,null,"daryl@klswa.com",null,null,null,"Kalamazoo Lake Water & Sewer Authority","6449 Old Allegan Rd.",null,null,null,"Saugatuck","MI","49453",null,"VanDyke","Plant Superintendent","Water Treatment","Allegan"]
["Kalamazoo Public Safety",null,null,"269-337-8120 main",null,null,null,null,"Non-Tax Municipality/Utility","Capt. Jon Uribe\n  269-998-3262 cell\n\nTim Millard\n  Email paid invoices to: millardt@kalamazoocity.org\n  269-720-3304 cell","Kalamazoo Public Safety","Kalamazoo Valley Enforcement Team","Attn:","150 E. Crosstown Pkwy. Suite A",null,"Kalamazoo","MI","49001"]
["Kalamazoo Public Service Dept., City of","Mike Echols",null,"616-337-8751",null,null,null,null,"Non-Tax Municipality/Utility",null,"Kalamazoo Public Service Dept., City of","Attn: Mike Echols","415 Stockbridge Ave",null,null,"Kalamazoo","MI","49001-8751"]
["Kalamazoo Public Services, City of (Beard","Richard Beardslee",null," 269-337-8686",null," 269-337-8699","beardsleer@kalamazoocity.org",null,null,null,"Kalamazoo Public Services, City of","1415 N. Harrison",null,null,null,"Kalamazoo","MI","49007-2565","Mr.","Beardslee","Wastewater System Manager","Municipal, Cty","Kalamazoo"]
["Kalamazoo Public Services, City of (Echol","Michael Echols",null," 269-337-8751",null,null,null,null,null,null,"Kalamazoo Public Services, City of","415 Stockbridge Avenue",null,null,null,"Kalamazoo","MI","49001-2898","Mr.","Echols","Wastewater Collection Supervis","Municipal, Cty","Kalamazoo"]
["Kalamazoo Public Services, City of (Gonza","Albert Gonzales",null," 269-337-8539",null," 269-337-8699","gonzales",null,null,"Likes BW Micro. Needs help with Drager single gas.\nJeff Springer. Quote cal gas to Albert.","Kalamazoo Public Services, City of","1415 N. Harrison",null,null,null,"Kalamazoo","MI","49007-2565","Mr.","Gonzales","Process Control Electronic Tec","Municipal, Cty","Kalamazoo"]
["Kalamazoo Public Services, City of (McCle","Bob McClenney",null," 269-337-8146",null," 269-552-6450","mcclenneyb@kalamazoocity.org",null,null,"Demo'd UCL. Likes 2-pc w/ Reese Hitch Mount. Also likes Ironman harness.  Reports to Jeff Bye.\nQuote UCL and variety of PPE. Met w/ Bob, Mike Echols and Troy Cook. See Marv Miller in Stores  269.337.8749\nPer Mike Echols, see also Teresa Flutie in Capita","Kalamazoo Public Services, City of","415 Stockbridge Avenue",null,null,null,"Kalamazoo","MI","49001-2898","Mr.","McClenney","Field Services Assistant Manag","Municipal, Cty","Kalamazoo"]
["Kalkman Redi-Mix Company (Vander Lip)","Jeff Vander Lip",null," 888-424-9800"," 616-399-3059"," 616-399-8872",null,null,null,"A GR Gravel Company. Dave Oostindie is Safety Contact.\n-all of the buying is done out of the Grand Rapids Gravel location","Kalkman Redi-Mix Company","13180 Quincy Street",null,null,null,"Holland","MI","49424","Mr.","Vander Lip","Foreman","Mining","Ottawa"]
["Kamminga & Roodvoets, Inc. (De Ward)","Robert De Ward",null," 616-949-0800",null," 616-949-1894","deward.rob@kandrinc.com",null,null,"Stopped by, nc, lm. Met Greg Forde. Demo'd Drainguard.","Kamminga & Roodvoets, Inc.","3435 Broadmoor S.E.",null,null,null,"Grand Rapids","MI","49512","Mr.","De Ward","Risk Manager","Contractor General","Kent"]
["Kamminga & Roodvoets, Inc. (Forde)","Greg Forde",null," 616-949-0800 129",null," 616-949-1894","fordegr@kandrinc.com",null,null,null,"Kamminga & Roodvoets, Inc.","3435 Broadmoor S.E.",null,null,null,"Grand Rapids","MI","49512","Mr.","Forde","Construction Coordinator","Contractor General","Kent"]
["Kamp Oil Inc.","Dennis Trendt",null,"800-444-5267",null,null,null,null,"Michigan Sales Tax",null,"Kamp Oil Inc.","Dennis Trendt","3650 Eastern Ave. SE",null,null,"Grand Rapids","MI","49508","Mr.","Trendt"]
["Kamp Oil Inc. (Trendt)","Dennis Trendt",null," 800-444-5267",null," 616-241-4780","dennis@kampoil.com",null,null,null,"Kamp Oil Inc.","3650 Eastern Ave. SE",null,null,null,"Grand Rapids","MI","49508",null,"Trendt","Business Manager","Petroleum Related","Kent"]
["Kamps (McDonald)","Bob McDonald",null," 616-453-9676",null," 616-453-4373","bobm@kampspallets.com",null,null,"Mitchell Kamps called re: CSE equip rental","Kamps","2900 Peach Ridge NW",null,null,null,"Grand Rapids","MI","49534","Mr.","McDonald","Plant Manager","Manufacturer","Kent"]
["Kamps Inc. (Wood Resource Division)","Mitchell Kamps",null,"616-453-1986",null,"616-453-4373","mitch@kampspallets.com",null,"Michigan Sales Tax",null,"Kamps Inc. (Wood Resource Division)","Attn:","2900 Peachridge NW",null,null,"Grand Rapids","MI","49534"]
["Kandu, Inc. (DeSlaw)","Russ DeSlaw",null," 616-396-3585",null," 616-396-2073",null,null,null,null,"Kandu, Inc.","4190 Sunnyside Dr.",null,null,null,"Holland","MI","49424","Mr.","DeSlaw","Safety Director",null,"Ottawa"]
["Kappeler, Robert","Robert Kappeler",null,null,null,null,null,null,"Out of State",null,"Kappeler, Robert","516 Torlage Drive",null,null,null,"Dayton","OH","45431"]
["Katerberg Verhage","Marc Verhage",null,"616-949-3030",null,"616-831-0078",null,null,"Michigan Sales Tax",null,"Katerberg Verhage","Attn: Marc Verhage","3717 Michigan NE",null,null,"Grand Rapids","MI","49525"]
["KCI","Mike Caswell",null,"502-361-1669",null,"502-367-7010",null,null,"Out of State",null,"KCI","Mike Caswell","3708 Manslick Road",null,null,"Louisville","KY","40215","Mr.","Caswell"]
["KEBS, Inc. (Ries)","Jamerson Ries",null," 517-339-1014",null," 517-339-8047","jries@kebs.com",null,null,"Project back on track for MI Biodiesel.\nKarl Weber kweber@kebs.com","KEBS, Inc.","2116 Haslett Road",null,null,null,"Haslett","MI","48840","Mr.","Ries","Project Manager","Engineering, Architecture","Ingham"]
["Kee Safety (Kirk)","Andrew Kirk",null,null," 800-851-5181 142",null,"akirk@keesafety.com",null,null,"Nancy Secy in Buffalo\nJohn Carlson x150  877.397.9475 in Chicago","Kee Safety","100 Stradtman Street",null,null,null,"Buffalo","NY","14206","Mr.","Kirk","National Sales Manager","Supplier","Out of State"]
["Kellogg's Snacks","Charles Fassnacht",null,"419-332-1518",null,"419-332-1598",null,null,"Michigan Sales Tax",null,"Kellogg's Snacks","Attn: Charles Fassnacht","922 Wolff Avenue",null,null,"Fremont","OH","43420"]
["Kellogg's Snacks (Fassnacht)","Charles Fassnacht",null," 419-332-1518 11",null," 419-332-1598","charles.fassnacht@kellogg.com",null,null,null,"Kellogg's Snacks","922 Wolff Avenue",null,null,null,"Fremont","OH","43420","Mr.","Fassnacht",null,"Food","Out of State"]
["Kellogg's Snacks (Harris)","Ronnie Harris",null," 616-475-8201",null,null,null,null,null,"Ronnie Harris office at 3750 RBC Drive \nGreg in shipping 616.475.8250 goes aloft on HLL system\nJan Brown security                Kurt- Purch","Kellogg's Snacks","3300 Roger B Chaffee SE",null,null,null,"Grand Rapids","MI","49548-2324","Mr.","Harris","Safety","Food","Kent"]
["Ken Coryell Trucking","Dan Bussell",null,"616-527-9770",null,null,null,null,"Michigan Sales Tax",null,"Ken Coryell Trucking","460 E. David Hwy.","Attn: Dan Bussell",null,null,"Ionia","MI","48846"]
["Ken Coryell Trucking, Inc. (Bussell)","Dan Bussell",null," 616-527-9770",null," 616-527-9776",null,null,null,null,"Ken Coryell Trucking, Inc.","460 E. David Highway",null,null,null,"Ionia","MI","48846","Mr.","Bussell","Manager",null,"Ionia"]
["Ken DeHaan",null,null,null,null,null,null,null,null,null,"Ken DeHaan","7024 Abgkubg Road",null,null,null,"Portage","MI","49024"]
["Kendall Electric (Benton Harbor)","Mike (location manager)",null,"269-925-3244",null,null,null,null,"NonTx Re-Sale",null,"Kendall Electric","Attn:","1405 South M-139",null,null,"Benton Harbor","MI","49022"]
["Kendall Electric, Inc. (Feltner)","Kevin Feltner",null," 269-925-3244",null," 269-925-4685","kevin.feltner@kendallelectric.com",null,null,"Kevin is our friend down in the SouthWest Portion of MI\nHe will be floating leads our way when appropriate.","Kendall Electric, Inc.","1405 South M-139",null,null,null,"Benton Harbor","MI","49022",null,"Feltner","Account Manager","Contractor Electrical","Berrien"]
["Kenneth Crosby NY LLC","Beth Falk",null,"716-375-3658",null,null,null,null,"Out of State",null,"Dresser Rand/Kenneth Crosby (NY)","PO 32107","Paul Clark Drive","Attn: Main Tool Crib PLT1",null,"Olean","NY","14760"]
["Kenneth Schulz","Kenneth Schulz",null,"517-214-5924",null,null,null,null,"Michigan Sales Tax",null,"Kenneth Schulz","4360 Barton Rd.",null,null,null,"Lansing","MI","48917"]
["Kenowa Industries (Sprik)","Steven Sprik",null," 616-392-7080 130",null," 616-392-5223","steven.sprik@kenowa.com",null,null,null,"Kenowa Industries","11405 E. Lakewood Blvd.",null,null,null,"Holland","MI","49424","Mr.","Sprik","Purchasing Manager","Manufacturer","Ottawa"]
["Kent City DPW, City of (Evink)","Steve Evink",null," 616-678-7232"," 800-758-3962 pager"," 616-678-4256","returned",null,null,null,"Kent City DPW, City of","83 Spring Street",null,null,null,"Kent City","MI","49330","Mr.","Evink",null,"Municipal, Cty","Kent"]
["Kent Companies","Charles K. Van Vliet",null,"616-534-4909 General",null,"616-534-4890",null,null,"Michigan Sales Tax",null,"Kent Companies","Attn:Chuck Van Vliet","130 -- 60th Street, SW",null,null,"Grand Rapids","MI","49548"]
["Kent Companies (Van Vliet)","Charles K. Van Vliet",null," 616-534-4909 4140",null," 616-534-4890","chuckv@kentcompanies.com",null,null,"Dan Fordon mob 616.291.3984 prices out installations (HLL)\nChris Fennema mob 616.299.6048","Kent Companies","130 -- 60th Street, SW",null,null,null,"Grand Rapids","MI","49548","Mr.","Van Vliet","Corporate EH&S Manager","Contractor General","Kent"]
["Kent County DPW","Michael Ball",null,"616-336-2580",null,"616-336-3338",null,null,"Non-Tax Municipality/Utility","Janna Brackett 889-5516 (cell)\n\nAll calibration test sheets need to be emailed to:\nConstance.Westgate@kentcountymi.gov","Kent County DPW","Attn:","1500 Scribner Ave. NW",null,null,"Grand Rapids","MI","49504"]
["Kent County DPW (Ball)","Michael Ball",null," 616-336-3694",null," 616-336-3338","returned",null,null,"Norm Vande Roer is Supt. x2579; norm.vanderoer@kentcounty.org","Kent County DPW","1500 Scribner Avenue NW",null,null,null,"Grand Rapids","MI","49504","Mr.","Ball","Asst. Superintendent, Operatio","Municipal, Cty","Kent"]
["Kent County DPW (Brackett)","Jana Brackett",null," 616-336-3694",null," 616-336-2580",null,null,null,null,"Kent County DPW","1500 Scribner Avenue NW",null,null,null,"Grand Rapids","MI","49504","Ms.","Brackett",null,"Municipal, Cty","Kent"]
["Kent County DPW (Danenberg)","Nate Danenberg",null," 616-336-3693",null," 616-336-2580",null,null,null,null,"Kent County DPW","1500 Scribner Avenue NW",null,null,null,"Grand Rapids","MI","49504","Mr.","Danenberg","Senior Utility Operator","Municipal, Cty","Kent"]
["Kent County DPW (Landis)","Ron Landis",null," 616-336-4370",null," 616-336-3338","ron.landis@kentcountymi.gov",null,null,null,"Kent County DPW","1500 Scribner Avenue NW",null,null,null,"Grand Rapids","MI","49504","Mr.","Landis",null,"Municipal, Cty","Kent"]
["Kent County DPW (Spohn)","Randal Spohn",null," 616-336-3606",null," 616-336-3338","randy.spohn@kentcounty.org",null,null,null,"Kent County DPW","1500 Scribner Avenue NW",null,null,null,"Grand Rapids","MI","49504-3233","Mr.","Spohn","Supervisor, Utilities Division","Municipal, Cty","Kent"]
["Kent County Purchasing Office (Denhof)","Jon Denhof",null," 616-336-3500",null,null,null,null,null,null,"Kent County Purchasing Office","300 Monroe Avenue, 2nd Floor",null,null,null,"Grand Rapids","MI","49503","Mr.","Denhof","Purchasing Manager","Municipal, Cty","Kent"]
["Kent County Road & Park Commission (Bergm","Ron Bergman",null," 616-242-6901 2855",null," 616-827-3091",null,null,null,null,"Kent County Road & Park Commission","1500 Scribner, NW",null,null,null,"Grand Rapids","MI","49504","Mr.","Bergman",null,"Municipal, Cty","Kent"]
["Kent County Road & Park Commission (Byrne","Jerry Byrne",null," 616-242-6950",null," 616-242-6983",null,null,null,null,"Kent County Road & Park Commission","1500 Scribner, NW",null,null,null,"Grand Rapids","MI","49504","Mr.","Byrne","Director of Maintenance and Lo","Municipal, Cty","Kent"]
["Kent County Road & Park Commission (Kocsi","Jeffrie Kocsis",null," 616-242-6917",null," 616-242-6974","jkocsis@kentcountyroads.net",null,null,"Bruce Bitely handles safety. 242.6952","Kent County Road & Park Commission","1500 Scribner, NW",null,null,null,"Grand Rapids","MI","49504","Mr.","Kocsis","Engineer for Maintenance","Municipal, Cty","Kent"]
["Kent County Road & Park Commission (McAll","Jim McAllister",null," 616-242-6917",null," 616-242-6974","jmcallister@kentcountyroads.net",null,null,null,"Kent County Road & Park Commission","1500 Scribner, NW",null,null,null,"Grand Rapids","MI","49504","Mr.","McAllister",null,"Municipal, Cty","Kent"]
["Kent County Road & Park Commission (McDon","George McDonough",null," 616-336-0200",null," 616-336-0201",null,null,null,"Said to see Jerry Byrnes  mob 616.242.6952","Kent County Road & Park Commission","84th Street & US 131",null,null,null,"Byron Center","MI","49315","Mr.","McDonough","Superintendent","Municipal, Cty","Kent"]
["Kent County Road & Park Commission (Porri","Terry Porritt",null," 616-242-6924",null," 616-336-2370","tporritt@kentcountyroads.net",null,null,null,"Kent County Road & Park Commission","1500 Scribner Avenue NW",null,null,null,"Grand Rapids","MI","49504","Mr.","Porritt","Safety Director","Municipal, Cty","Kent"]
["Kent County Road & Park Commission (Tiche","Phil Tichelaar",null," 616-336-2982",null,null,null,null,null,null,"Kent County Road & Park Commission","4949 S. Complex Drive",null,null,null,"Grand Rapids","MI","49512","Mr.","Tichelaar","Superintendent","Municipal, Cty","Kent"]
["Kent County Road Commission & Park Trust","Terry Porritt",null,"616-242-6927 gen #",null,"616-242-6980",null,null,"Non-Tax Municipality/Utility",null,"Kent County Road Commission & Park Trust","Attn: Terry Porritt","1500 Scribner Ave. NW",null,null,"Grand Rapids","MI","49504"]
["Kent County Road Commission (Wiegerink)","Mary Wiegerink",null," 616-242-6928",null," 616-242-6980","mwiegerink@kentcountyroads.net",null,null,"Dominic Merlington","Kent County Road Commission","1500 Scribner, NW",null,null,null,"Grand Rapids","MI","49504","Ms.","Wiegerink","Asst. Director of Finance -- P","Municipal, Cty","Kent"]
["Kent County Sheriff's Department (Stewart","Jack Stewart",null," 616-632-6258",null," 616-632-6260",null,null,null,null,"Kent County Sheriff's Department","701 Ball Avenue NE",null,null,null,"Grand Rapids","MI","49503",null,"Stewart",null,"Municipal, Cty","Kent"]
["Kent County Sheriff's Department (Weemhof","Jan Weemhoff",null," 616-336-4091",null," 616-336-2440","jan.weemhoff@kentcounty.org",null,null,null,"Kent County Sheriff's Department","701 Ball NE",null,null,null,"Grand Rapids","MI","49503","Ms.","Weemhoff",null,"Municipal, Cty","Kent"]
["Kent County Sheriff's Dept","Jim Van Bendegom","buyer Jan Weemhoff",null,"616-336-4091",null,null,null,"Non-Tax Municipality/Utility",null,"Kent County Sheriff's Dept.","701 Ball NE",null,null,null,"Grand Rapids","MI","49503-3111","Mr.","Van Bendegom"]
["Kent Power Inc.","Ron Fast","Travers O'Brian","616-678-5775","616-799-2292 cell","616-678-4100",null,null,"Michigan Sales Tax","Jerry Ritzenhein\n\nRod Miller 616-799-5635 cell\n","Kent Power Inc.","Attn: Rod Miller","90 Spring Street",null,null,"Kent City","MI","49330"]
["Kent Power Inc. (Butler)","Bonnie Butler",null," 616-678-5775",null," 616-678-4100","bbutler@kentpower.com",null,null,null,"Kent Power Inc.","90 Spring Street","PO Box 327",null,null,"Kent City","MI","49330","Ms.","Butler","Buyer","Contractor Electrical","Kent"]
["Kent Power Inc. (Fast)","Ron Fast",null," 616-678-5775",null," 616-678-2470","rfast@kentpower.com",null,null,null,"Kent Power Inc.","90 Spring Street","PO Box 327",null,null,"Kent City","MI","49330","Mr.","Fast","Safety Manager","Contractor Electrical","Kent"]
["Kent Power Inc. (Kennedy)","Rob Kennedy",null," 616-678-5775",null," 616-678-4100","rkennedy@kentpower.com",null,null,"Possy some of Titan lanyards.","Kent Power Inc.","90 Spring Street","PO Box 327",null,null,"Kent City","MI","49330","Mr.","Kennedy","Safety Administrator","Contractor Electrical","Kent"]
["Kent Power Inc. (Ritzenhein)","Jerry Ritzenhein",null," 616-678-5775",null," 616-678-4100","jritzenhein@kentpower.com",null,null,null,"Kent Power Inc.","90 Spring Street","PO Box 327",null,null,"Kent City","MI","49330","Mr.","Ritzenhein","Superintendent, Gas Division","Contractor Electrical","Kent"]
["Kentwood DPW, City of","Terry Steenhagen",null,"616-554-0817",null,null,"steenhagent@ci.kentwood.mi.us",null,"Non-Tax Municipality/Utility","Ken McNett - 616-554-0735\nTerry Steenhagen - 616-485-8603 cell\nJohn Gorney - 616-554-0825","Kentwood DPW, City of","Attn:","5068 Breton Ave. SE",null,null,"Kentwood","MI","49508"]
["Kentwood DPW, City of (Gorney)","John Gorney",null," 616-554-0825",null," 616-554-0744","gorneyj@ci.kentwood.mi.us",null,null,"Terry Steenhagen handles gas detection\nPhil Tietz -- Purch; Risk Mgmt\nRichard Piggatt -- recep\nSafety Comm:\n  John Gorney\n  Ron Leverence -- Handles PPE\n  Ken McNett -- Water Sewer Crew Leader  616.554.0735\n  Pete Fennema -- Streets\n  Ken Hoevenaar -- Par","Kentwood DPW, City of","4900 Breton Ave. SE","PO Box 8848",null,null,"Kentwood","MI","49518-8848","Mr.","Gorney","Operations / Utilities Manager","Municipal, Cty","Kent"]
["Kentwood DPW, City of (Leverence)","Ron Leverence",null," 616-554-0762"," 616-554-0829"," 616-554-0744",null,null,null,null,"Kentwood DPW, City of","4900 Breton Ave. SE","PO Box 8848",null,null,"Kentwood","MI","49518-8848","Mr.","Leverence",null,"Municipal, Cty","Kent"]
["Kentwood DPW, City of (Steenhagen)","Terry Steenhagen",null," 616-554-0733"," 616-554-0829"," 616-656-5288","steenhagent@ci.kentwood.mi.us",null,null,null,"Kentwood DPW, City of","4900 Breton Ave. SE","PO Box 8848",null,null,"Kentwood","MI","49518-8848","Mr.","Steenhagen",null,"Municipal, Cty","Kent"]
["Kentwood Fire Dept., City of",null,"Steve Hoving @ station#2","616-554-0806","949-1780 Station#2","616-656-5318","See note section for details",null,"Non-Tax Municipality/Utility","04/14/2009:  \n\nSteve Hoving sites in Station #2\nPhone: 616-949-1780\nFax: 616-554-0785\n4151 Embassy Dr. SE\nKentwoood, MI 49546\n\nFax a copy of Steve's invoices to him please","Kentwood Fire Dept., City of","Attn:Steve Hoving","4775 Walma Ave. S.E. (Station#1)",null,null,"Kentwood","MI","49518-8848"]
["Kentwood Fire Dept., City of (Ginebaugh)","Gregory Ginebaugh",null," 616-554-0807 VM 3163",null," 616-554-0799","ginebaugh@www.ci.kentwood.mi.us",null,null,null,"Kentwood Fire Dept., City of","4775 Walma Ave., S.E.","P.O. Box 8848",null,null,"Kentwood","MI","49518-8848","Mr.","Ginebaugh","Captain","Fire Department","Kent"]
["Kentwood Fire Dept., City of (Hoving)","Steve Hoving",null," 616-534-7117"," 616-554-0806",null,"hovings@ci.kentwood.mi.us",null,null,null,"Kentwood Fire Dept., City of","4151 Embassy Dr. SE",null,null,null,"Kentwood","MI","49512","Mr.","Hoving",null,"Municipal, Cty","Kent"]
["Kentwood Powder Coat","Denny Zuller",null,"616-698-8181",null,"616-698-7575",null,null,"Michigan Sales Tax",null,"Kentwood Powder Coat","Attn: Denny Zuller","3900 Swank SE",null,null,"Grand Rapids","MI","49512-3961"]
["Kentwood Powder Coat (Zuller)","Denny Zuller",null," 616-698-8181",null," 616-698-7575","dzuller@kentwoodpowder.com",null,null,null,"Kentwood Powder Coat","3900 Swank Drive SE",null,null,null,"Grand Rapids","MI","49512","Mr.","Zuller",null,"Automotive","Kent"]
["Kentwood Water Dept., City of","Terry Steenhagen",null,"616-554-0734","616-485-8603 Mobile","616-698-7118",null,null,"Non-Tax Municipality/Utility",null,"Kentwood Water Dept., City of","Terry Steenhagen","4900 Breton Ave. SE",null,null,"Kentwood","MI","49518"]
["Kentwood, City of (Beke)","Jim Beke",null," 616-554-0737",null,null,null,null,null,"Contact for Groundwater permits. Ultratech target.","Kentwood, City of","4900 Breton Ave., S.E.","P.O. Box 8848",null,null,"Kentwood","MI","49518-8848","Mr.","Beke","Engineering Technician","Municipal, Cty","Kent"]
["Kentwood, City of (Kane)","Karla Kane",null," 616-554-0772 1779",null," 616-656-5288","kanec@ci.kentwood.mi.us",null,null,null,"Kentwood, City of","4900 Breton SE","PO Box 8848",null,null,"Kentwood","MI","49518-8848","Ms.","Kane","Buyer","Municipal, Cty","Kent"]
["Kentwood, City of (Tietze)","Phil Tietze",null," 616-554-0829 1779",null," 616-656-5288","tietzp@ci.kentwood.mi.us",null,null,"Mary Premoda called and asked that we send an info sheet","Kentwood, City of","4900 Breton SE","PO Box 8848",null,null,"Kentwood","MI","49518-8848","Mr.","Tietze","Purchasing Manager","Municipal, Cty","Kent"]
["Kenwal Steel Co.",null,"Sandy Cervos",null,"219-764-5845",null,null,null,"Michigan Sales Tax",null,"Kenwal Steel Co.","Attn:","307 Tech Drive",null,null,"Burns Harbor","IN","46304"]
["Kerkstra Precast (Dood)","Tim Dood",null," 616-457-4920",null," 616-457-6440","tdood@kerkstra.com",null,null,null,"Kerkstra Precast","3373 Busch Drive",null,null,null,"Grandville","MI","49418","Mr.","Dood","Sales","Manufacturer","Kent"]
["Kerkstra Precast Inc.","Scott Hartman",null,"616-224-6159 main",null,null,null,null,"Michigan Sales Tax","Pat Twork - Maintenance Mgr. - cell: 616-293-3081\nemail:  ptwork@kerkstra.com","Kerkstra Precast Inc.","Attn: Pat Twork","3373 Busch Drive",null,null,"Grandville","MI","49418-1341"]
["Kerkstra Spancrete Great Lakes (DeKock)","Kurt DeKock",null," 616-224-6159 306",null," 616-224-6163","kdekock@kerkstra.com",null,null,null,"Kerkstra Spancrete Great Lakes","1330 Chicago Drive",null,null,null,"Jenison","MI","49428","Mr.","DeKock","Facilities Manager","Manufacturer","Kent"]
["Kerkstra Spancrete Great Lakes (Hartmann)","Scott Hartmann",null," 616-224-6159 306",null," 616-224-6163","shartmann@kerkstra.com",null,null,"Leonard Johnson asked for more info on Reliance","Kerkstra Spancrete Great Lakes","1330 Chicago Drive",null,null,null,"Jenison","MI","49428","Mr.","Hartmann","Master Scheduler","Manufacturer","Kent"]
["Kerkstra Spancrete Great Lakes (Plantenga","Dave Plantenga",null," 616-224-6159 315",null," 616-224-6163","dplantenga@kerkstra.com",null,null,"Quote Scott for Chip Henline (mob 616.262.7282) proposal","Kerkstra Spancrete Great Lakes","1330 Chicago Drive",null,null,null,"Jenison","MI","49428","Mr.","Plantenga","Plant Manager","Manufacturer","Kent"]
["Kerkstra Spancrete Great Lakes (Van Ooyen","Cal Van Ooyen",null," 616-301-1561",null," 616-224-6163","cvanooyen@kerkstra.com",null,null,"Send credit appn to Henry Hofman at 224.2651\nBill Woodman Mntc Supr mob 616.293.9161\nFall protection equipment per Jeff Mather.","Kerkstra Spancrete Great Lakes","1330 Chicago Drive",null,null,null,"Jenison","MI","49428","Mr.","Van Ooyen","Engineer","Manufacturer","Kent"]
["Kerkstra Waste Recovery & Enviro. Svc.",null,"Tim O'Leary","616-366-2040","616-366-7040 Cell Tim","616-662-2678",null,null,"Michigan Sales Tax","04/17/2008:  \nLegal Address (pending move):\n1651 S. Walker Road\nMuskegon, MI 49442","Kerkstra Waste Recovery & Enviro. Svc.","Attn: Tim O'Leary","8507 - 48th Ave.",null,null,"Hudsonville","MI","49426"]
["Kerkstra Waste Recovery & Enviro. Svc. (O","Tim O'Leary",null," 616-366-2040",null," 616-662-2678",null,null,null,null,"Kerkstra Waste Recovery & Enviro. Svc.","8507 - 48th Ave.",null,null,null,"Hudsonville","MI","49426","Mr.","O'Leary",null,null,"Ottawa"]
["Kewit (G.R. Mich. St. Project)",null,null,"Paul: 703-297-2755","James: 616-233-0601","616-233-0602",null,null,"Michigan Sales Tax",null,"Kewitt","Attn: Ricardo","820 Monroe Ave.","Suite 113",null,"Grand Rapids","MI","49503"]
["Key Energy Services (Jane Lew)","George Wilhelm",null,"304-517-3039 cell",null,null,null,null,"Out of State",null,"Key Energy Services (Jane Lew)","Attn: George Wilhelm","396 Industrial Park Rd",null,null,"Jane Lew","WV","26378"]
["Key Energy Services (Mt. Pleasant)","John Davisson","Glenn Archer","989-773-7939","307-679-6123",null,null,null,"Michigan Sales Tax","Alternate Address:\n336 Emerson Ave.\nEvanston, WY 82930","Key Energy Services (Mt. Pleasant)","Attn:","2193 Northway Dr.",null,null,"Mt. Pleasant","MI","48858"]
["Key Energy Services (Rock Springs)","Glenn Archer",null,"307-679-6123",null,null,null,null,"Michigan Sales Tax",null,"Key Energy Services (Rock Springs)","Attn:Glenn Archer","605 Mohawk Dr.",null,null,"Rock Springs","WY","82901"]
["Key Energy Services (Weston WV)","Glenn Archer",null,"307-679-6123",null,null,null,null,"Michigan Sales Tax",null,"Key Energy Services (Weston WV)","Attn:Steve Cornell","600 Dutchman Lane",null,null,"Weston","WV","26452"]
["Key Mart Inc. (Stephan)","Ken Stephan",null," 800-228-7755",null," 772-220-7920",null,null,null,"Ernie Stephan, Dad. Ken is son. Barbara Benner","Key Mart Inc.","3010 S.E. Monroe Street",null,null,null,"Stuart","FL","34997","Mr.","Stephan",null,"Supplier","Out of State"]
["Keystone Foods (Hadding)","Tim Hadding",null," 419-727-6629",null,null,"tim.hadding@keystonefoods.com",null,null,null,"Keystone Foods","1015 New York Avenue",null,null,null,"Toledo","OH","43611","Mr.","Hadding","Sr. Distribution Manager","Food","Out of State"]
["Kinder Morgan - River Transportation","Carol Hummel ext. 15","Carol_Hummel@kindermorgan.com","513-941-0500","513-210-8109 cell","513-941-0506",null,null,"Out of State","Gary Ceal - VISA 4715-6322-3770-5049, Exp. 02/13\nJeremy Erickson - VISA 4715-6322-4749-0715, Exp. 09/13","Kinder Morgan - River Transportation","Attn:Jeremy Erickson","5297 River Road",null,null,"Cincinnati","OH","45233"]
["Kinder Morgan, Pinney Dock (Ashtabula)","Brad Biro",null,"440-964-7186 x212","440-645-7725cell","440-964-5210","brad_biro@kindermorgan.com",null,"Out of State",null,"Kinder Morgan, Pinney Dock (Ashtabula)","Attn: Brad Biro","1149 East 5th Street",null,null,"Ashtabula","OH","44004"]
["King & MacGregor Environmental (Kelly)","Theresa Kelly",null," 616-957-1231",null," 616-957-2198",null,null,null,"Soil Erosion Show. Sally gave me info. GR is HQ. They have 4 offices.","King & MacGregor Environmental","2520 Woodmeadow SE",null,null,null,"Grand Rapids","MI","49546","Ms.","Kelly","Landscaping Architect","Contractor EH&S","Kent"]
["Kirby Risk Electrical Supply","Jeff Blount",null,"765-457-5255",null,"765-457-1331",null,null,"Out of State",null,"Kirby Risk Electrical Supply","Attn: Jeff Blount","1813 East Vaile Ave.",null,null,"Kokomo","IN","46901"]
["Klaasen Electric Inc. (De Vries)","Bob De Vries",null," 616-738-8760",null," 616-738-8769",null,null,null,null,"Klaasen Electric Inc.","2525 Van Ommen Dr.",null,null,null,"Holland","MI","49424","Mr.","De Vries","President","Contractor Electrical","Ottawa"]
["Knape & Vogt","Scott Johnson",null,"616-459-3311",null,"616-458-4577","dan.suttorp@kv.com",null,"Non-Tax","requested terms 07/09 one good reference, one average pay 22 days beyond due, one does not release credit references.\n\nAgile did two orders with pending status poth paid at 60 days\n10/11 Scott Johnson's Amex card 3782 988 269 11251  ex 08/13","Knape & Vogt","Attn:Dan Suttorp","2700 Oak Industrial Drive",null,null,"Grand Rapids","MI","49505-6083"]
["Knape & Vogt (Suttorp)","Dan Suttorp",null," 616-459-3311 245",null," 616-458-4577","dan.suttorp@kv.com",null,null,"HUMR Scott Johnson x280                    Dan Grzegorski gone\nJim Tawney jim.tawney@kv.com  Mntc\nRon Roys ron.roys@kv.com Purch x239;    Erin Nukic x213","Knape & Vogt","2700 Oak Industrial Drive",null,null,null,"Grand Rapids","MI","49505-6083","Mr.","Suttorp","Corporate EH&S Manager","Manufacturer","Kent"]
["Knoll (Barsamian)","Alex Barsamian",null," 616-957-7203",null," 616-957-7245","abarsamian@knoll.com",null,null,"Kathy Boerma gone.Alex Barsamian lead for CoolShirt","Knoll","4300  36th Street, SE","PO Box 8829",null,null,"Grand Rapids","MI","49518-8829",null,"Barsamian","Safety Manager","Furniture","Kent"]
["Knoll Inc.","Jennifer Ritsema",null,"231-755-9296",null,"231-755-9280","jritsmema@knoll.com",null,"Michigan Sales Tax",null,"Knoll Inc.","Attn: Jen Ritsema","2800 Estes Dr.",null,null,"Muskegon","MI","49441"]
["Knoll Inc. (Ritsema)","Jennifer Ritsema",null," 231-755-9296",null," 231-755-9280","jritsema@knoll.com",null,null,null,"Knoll Inc.","2800 Estes Dr.",null,null,null,"Muskegon","MI","49441",null,"Ritsema","Safety Director","Furniture Manufacturing","Muskegon"]
["Koch Environmental Analytical Consultants","Dick Koch",null," 269-792-9935",null," 269-792-9935","arkoch@charter.net",null,null,"Works with ERM and PM Env'l of Lansing see Jeff Rostoni or Sean Carrivu (sp?) of PM","Koch Environmental Analytical Consultants","303 Park Street",null,null,null,"Wayland","MI","49348","Dr.","Koch","President","Contractor EH&S","Allegan"]
["Koch Materials Company (Schmied)","Randall Schmied",null," 231-352-9678",null," 231-352-4866",null,null,null,null,"Koch Materials Company","1300 Furnace Avenue","PO Box 188",null,null,"Elberta","MI","49628","Mr.","Schmied","Terminal Manager","Petroleum Related","Benzie"]
["Koeze Company","Bill Ryszka",null,"616-724-2601",null,"616-530-1819",null,null,null,null,"Koeze","Bill Ryszka","2555 Burlingame Avenue SW",null,null,"Wyoming","MI","49509","Mr.","Ryszka"]
["Koeze Company (Anderson)","Melanie Anderson",null," 616-724-2617",null," 616-530-1819","manderson@koeze.com",null,null,"Bill Ryska and Beb Bronsink get QNFT","Koeze Company","2555 Burnlingame Avenue",null,null,null,"Grand Rapids","MI","49509","Ms.","Anderson",null,"Food","Kent"]
["Koeze Company (Feenstra)","John Feenstra",null," 616-724-2601 1401",null," 616-530-1819","jfeenstra@koeze.com",null,null,"Bill Ryszka bought respirators","Koeze Company","2555 Burnlingame Avenue",null,null,null,"Grand Rapids","MI","49509","Mr.","Feenstra","Materials Manager","Food","Kent"]
["Kooi Industrial Painting Co.",null,null,"616-245-3052",null,"616-245-6237",null,null,"Michigan Sales Tax","10/01/2009:  CSH changed terms to NET30 as a test\n\nJames Bierens - email: jim@kooipainting.com\nBruce MacLeod","Kooi Industrial Painting Co.","Attn:James Bierens","225 Graham Street SW",null,null,"Grand Rapids","MI","49503"]
["Kooi Industrial Painting Co. (Bierens)","James Bierens",null," 616-245-3052",null," 616-245-6237","jim@kooipainting.com",null,null,null,"Kooi Industrial Painting Co.","225 Graham Street SW",null,null,null,"Grand Rapids","MI","49503","Mr.","Bierens",null,"Contractor General","Kent"]
["Kooi Industrial Painting Co. (MacLeod)","Bruce MacLeod",null," 616-245-3052",null," 616-245-6237","bruce@kooipainting.com",null,null,null,"Kooi Industrial Painting Co.","225 Graham Street SW",null,null,null,"Grand Rapids","MI","49503","Mr.","MacLeod",null,"Contractor General","Kent"]
["Koops Well Drilling (Beckley)","Russ Beckley",null," 269-651-5071",null,null,null,null,null,null,"Koops Well Drilling","3811 58th St.",null,null,null,"Holland","MI","49423","Mr.","Beckley","Safety Director","Well Drilling","Ottawa"]
["Kore, Inc.","Dan Jones",null,"616-785-5900",null,null,null,null,"Michigan Sales Tax",null,"Kore, Inc.","Attn: Dan Jones","5263 - 6 Mile Ct. NW",null,null,"Comstock Park","MI","49321"]
["Koster Excavating",null,"Dave Grasman","616-457-2320",null,"616-457-0870",null,null,"Michigan Sales Tax",null,"Koster Excavating","Attn:","1074 Chicago Drive",null,null,"Jenison","MI","49428"]
["Koster Excavating Inc. (Grasman)","Dave Grasman",null," 616-457-2320",null,null,null,null,null,null,"Koster Excavating Inc.","1074 Chicago Drive",null,null,null,"Jenison","MI","49428","Mr.","Grasman",null,"Contractor, Excavator","Kent"]
["Kraus & Kessenich (Kessenich)","Joe Kessenich",null," 616-957-1625",null," 616-957-4080","joe.kandk@sbcglobal.net",null,null,null,"Kraus & Kessenich","1025 Spaulding Ave., SE",null,null,null,"Grand Rapids","MI","49546-3703","Mr.","Kessenich",null,"Engineering, Architecture","Kent"]
["Kraus & Kessenich Civil Engineers",null,null,"616-957-1625",null,null,null,null,"Michigan Sales Tax",null,"Kraus & Kessenich","Attn: John Kraus","1025 Spaulding Ave SE",null,null,"Grand Rapids","MI","49546"]
["Kruger Commodities (Lemley)","Don Lemley",null," 269-751-0560",null," 268-751-8929",null,null,null,"Full line quoting today, met with Don last week and he's getting ripped off by Grainger\nDon is main contact, wife's name is Kay, she is the Office Manager, very nice lady","Kruger Commodities","5900 Old Allegan Rd.",null,null,null,"Hamilton","MI","49419","Mr.","Lemley","Site Manager","Rendering/Processing","Allegan"]
["Kruger Commodities Inc.","Don Lemley",null,"269-751-0560",null,"269-751-8929",null,null,"Non-Tax",null,"Kruger Commodities Inc.","Attn: Don Lemley","5900 Old Allegan Road",null,null,"Hamilton","MI","49419"]
["Kruszynski Construction","Scott Kruszynski",null,"231-206-6077",null,null,"wenkru@hotmail.com",null,"Michigan Sales Tax",null,"Kruszynski Construction","Attn:","7901 S. Warner",null,null,"Fremont","MI","49412"]
["Kubota Metal Corp","Wayne John",null,"705-325-2781",null,"705-325-5887",null,null,"OUT OF COUNTRY",null,"Kubota Metal Corp","Attn: Wayne John","25 Commerce Road",null,null,"Orillia","ON","L3V6L6"]
["Kubota Metal Corp (John)","Wayne John",null," 705-325-2781",null," 705-325-5887","john@kubotametal.com",null,null,null,"Kubota Metal Corp","25 Commerce Rd",null,null,null,"Orilla","ON","L3V6L6",null,"John",null,"Steel","N/A"]
["Kurdziel Iron of Rothbury, Inc. (Cobb)","Vince Cobb",null," 231-893-1415",null," 231-894-3700",null,null,null,null,"Kurdziel Iron of Rothbury, Inc.","2625 W. Winston Rd.",null,null,null,"Rothbury","MI","49452","Mr.","Cobb",null,"Steel","Muskegon"]
["Kurent Safety Inc.","Matt Kuzel","Beth Cavanaugh","217-429-8889","866-587-3681","217-429-8890","bcavanaugh@kurentsafety.com",null,"NonTx Re-Sale","3.9.07  On all sales or purchases with Kurent Safety cost is simply list price less discount to determine actual cost to seller, then multiply by 1.1.\n\n\nBeth Cavanaugh - email: bcavanaugh@kurentsafety.com\nGeoff Harbison - cell: 217-519-0511, email: gharbison@kurentsafety.com\nEmail invoices with acctual shipping in and out broken down\n\n10/20/2010:  \nPM - $75 (std. 4-gas)\nCal Only:  $40 (std. 4-gas)\nParts:  10% off list (when we get 25%)","KURENT SAFETY","Attn:","3650 East Williams St",null,null,"Decatur","IL","62521","Mr.","Kuzel"]
["Kurent Safety, Inc. (Harbison)","Geoff Harbison",null," 866-587-3681",null," 217-429-8890","gharbison@kurentsafety.com",null,null,null,"Kurent Safety, Inc.","3650 East William Street",null,null,null,"Decatur","IL","62521","Mr.","Harbison","Owner","Supplier","Out of State"]
["Kurent Safety, Inc. (Kuzel)","Matt Kuzel",null," 866-587-3681",null," 217-429-8890","mrkuzel@kurentsafety.com",null,null,"Geoff Harbison is partner mob 217.519.0511","Kurent Safety, Inc.","3650 East William Street",null,null,null,"Decatur","IL","62521","Mr.","Kuzel","Owner","Supplier","Out of State"]
["L & L Products (74100 Van Dyke)","Kara Wawrowski","Bob Kress / Shelly","586-336-3519",null,"586-336-2069",null,null,"Michigan Sales Tax",null,"L & L Products","Attn: Bob Kress","74100 Van Dyke",null,null,"Romeo","MI","48065"]
["L & L Products (Roffe)","Shelly Roffe",null," 586-336-3494",null," 586-336-3588",null,null,null,null,"L & L Products","74100 Van Dyke",null,null,null,"Romeo","MI","48065","Ms.","Roffe",null,"Manufacturer","Macomb"]
["L & L Sawmill, Inc. (Latsch)","Ed Latsch",null," 231-788-2005",null,null,null,null,null,null,"L & L Sawmill, Inc.","500 Maple Island Rd.",null,null,null,"Muskegon","MI","49442","Mr.","Latsch",null,"Other","Muskegon"]
["L & W Engineering Company (Coffman)","Gloria Coffman",null," 734-397-8085"," 734-398-7138"," 734-397-3711","gcoffman@lweng.com",null,null,null,"L & W Engineering Company","6771 Haggerty Road",null,null,null,"Belleville","MI","48111","Ms.","Coffman","Safety & Training Coordinator","Manufacturer","Wayne"]
["L & W Engineering Company (Sutton)","Virgette Sutton",null," 734-397-7419",null," 734-397-7297","vsutton@lweng.com",null,null,null,"L & W Engineering Company","6301 Haggerty Road",null,null,null,"Belleville","MI","48111","Ms.","Sutton",null,"Manufacturer","Wayne"]
["L-A Electric (Fort Wayne)",null,"Scott Arnold","260-497-0520","260-410-4265","260-497-0816",null,null,"Out of State",null,"L-A Electric (Fort Wayne)","Attn:","1730 West Till Road",null,null,"Fort Wayne","IN","46818"]
["L.J.S. Home Inspection (Steyer)","Len & Pat Steyer",null," 419-981-2568",null," 419-981-2567","ljshomeinsp@bright.net",null,null,"DeLisle CIE Class Attendee","L.J.S. Home Inspection","8773 S. CR 47",null,null,null,"McCutchenville","OH","44844-9620",null,"Steyer",null,"Contractor EH&S","Out of State"]
["L3 Communications (Dillon)","Keith Dillon",null," 231-724-2151",null,null,"keith.dillon@L-3com.com",null,null,null,"L3 Communications","76 Getty",null,null,null,"Muskegon","MI","49442","Mr.","Dillon",null,"Manufacturer","Muskegon"]
["L3 Communications (Drake)","Ron Drake",null," 231-724-2159",null," 231-724-2656","ron.drake@l-3.com",null,null,null,"L3 Communications","76 Getty",null,null,null,"Muskegon","MI","49442","Mr.","Drake","Stores","Manufacturer","Muskegon"]
["L3 Communications (Hooton)","Robert Hooton",null," 231-724-2044 2044",null," 231-724-2656","hootonr@gdls.com",null,null,"John Fox 231.724.2085 credit card used.","L3 Communications","76 Getty",null,null,null,"Muskegon","MI","49442-1296","Mr.","Hooton","Manufacturing Engineer","Manufacturer","Muskegon"]
["L3 Communications (Jarrell)","John Jarrell",null," 231-724-2716",null," 231-724-2379","john.jarrell@L-3com.com",null,null,"Lee Wilbur (Buyer) said to use collect account #3XW177 for shipping\nEMBED SHIPPING IN PRICING\nPicked up 8 instruments for service.\nGary Foerster mob 616.443.7734\nTerry O'Connor 231.724.2827; mob 231.206.8103\nJohn Jarrell is in lab.\nQuoting Joe on OHD, and all new SAR Masks","L3 Communications","76 Getty",null,null,null,"Muskegon","MI","49442","Mr.","Jarrell",null,"Manufacturer","Muskegon"]
["L3 Communications (LeMaire)","Chuck LeMaire",null," 231-724-2159",null," 231-724-2656","chuck.lemaire@l-3com.com",null,null,"Looking at SAR, quoting today","L3 Communications","76 Getty",null,null,null,"Muskegon","MI","49442","Mr.","LeMaire","Respirator","Battle Equipment","Muskegon"]
["L3 Communications (Musk)",null,null,null,"231-724-2910","231-724-2865","(wilbur fax 231-724-2865)",null,"Non-Tax","SPECIAL Portacount Rental Rate:  $1,250 / month\n\nDirect Pay Permit for MI State Tax 54-0582680\n\nUPS Acct# 3XW177\nAccts Payable Muskegon Inga Weavers 231-724-2039\nFX: 231-724-2699\nIngeborg.weavers@l-3com.com\n\nunder 150lb must go DHL bill reciever\n\n~  Fax a copy of all invoices to Joe Schmuker.\n\n**Accounts Payable in Lima OH Tamila Ph:419-221- 7163 tamela FAX:419.221.7135 **call before sending all invoices Stock items and non-stock items must be invoiced separately also no 2 items from sep POs can arrive on the same day\n~~~~~~~~~~~~~~~~~~~~~~~~~~~~~~~~~~~\nJohn Parente MC# 5567-0800-0868-5436 Exp: 08/13\nemail paid inv. - John.Parente@L-3com.com\n~~~~~~~~~~~~~~~~~~~~~~~~~~~~~~~~~~~\nMark Miller - taking over responsibilities from John Jarrell\nOffice 231.724.2709 \nCell 231.206.8034\n\nJohn Jarrell MasterCard# 5567-0800-0518-8905 Exp: 08/13\nFax Receipts to John @ 231-724-2379\n~~~~~~~~~~~~~~~~~~~~~~~~~~~~~~~~~~~\nsee special restrictions on delivery carriers must be Dhl or Eagle global","L3 Communications (Musk)","Combat Propulsion Systems","Attn: John Parente","76 Getty Street",null,"Muskegon","MI","49442"]
["L3 Communications (Parente)","John Parente",null," 231-724-2641",null,null,"John.Parente@L-3com.com",null,null,null,"L3 Communications","76 Getty",null,null,null,"Muskegon","MI","49442","Mr.","Parente",null,"Manufacturer","Muskegon"]
["L3 Communications (Rowell)","Kurt Rowell",null," 616-977-6861",null," 616-977-6898","kurt.rowell@L-3com.com",null,null,null,"L3 Communications","5353 - 52nd Street SE",null,null,null,"Grand Rapids","MI","49512","Mr.","Rowell","Environmental Health & Safety","Manufacturer","Kent"]
["L3 Communications Avionics (G.R.)","Kurt Rowell",null,"616-977-6861","Cell: 616-901-3112","616-977-6898",null,null,"Michigan Sales Tax",null,"L3 Communications Avionics (G.R.)","Attn: John Parente","5353 - 52nd Street SE",null,null,"Grand Rapids","MI","49512"]
["Lacks  (Protective Services)","Lisa Pond",null,"616-554-7833",null,null,"lackstrimap@lackstrim.com",null,"Non-Tax",null,"Lacks Ent. (Protective Services)","Attn: Scott Radakowitz","4090 Barden",null,null,"Grand Rapids","MI","49512"]
["Lacks (Plastic Plate 1 - Monroe)","Rick Whitaker","Mark Pond","616-455-5860 ext.5607","616-455-5860 ext.5587","616-455-5569","lackstrimap@lackstrim.com",null,"Non-Tax","all lacks invoices can fax to  616-949-8388","Lacks (Plastic Plate 1 - Monroe)","Attn: Mike Parks PO PP Monroe","1648 Monroe Ave. NW",null,null,"Grand Rapids","MI","49505","Mr.","Pond"]
["Lacks (Plastic Plate 2 - Brockton)","Denny Burris",null,"616-698-3637",null,"616-698-3663","lackstrimap@lackstrim.com",null,"Michigan Sales Tax",null,"Lacks Enterprises Plastic Plate 2 Brockto","Denny Burris","4240 Brockton Ct. SE",null,null,"Grand Rapids","MI","49512","Mr.","Burris"]
["Lacks (Plastic Plate 3 Raleigh)","Sherri Dawson",null,"616-554-7833",null,"616-455-5389","lackstrimap@lackstrim.com",null,null,null,"Lacks Ent. (Plastic Plate 3 Raleigh)","Attn:","3500 Raleigh",null,null,"Kentwood","MI","49512"]
["Lacks (Trim Systems DC, Patterson)",null,"Gene Price",null,"616-554-7148","616-285-2789"," lackstrimap@lackstrim.com",null,"Non-Tax","08/11/2005:  for purchases from Gene Price use Acct.# LOSH 5681.05  for PO# when billing unless otherwise requested.","Lacks Ent. (Trim Systems DC, Patterson)","Attn:","3703 Patterson Ave. SE","Receiving Docks 1-12",null,"Grand Rapids","MI","49512"]
["Lacks (Trim Systems-52nd Mold)","accts payable 949-6570","Pat Ottobre",null,"616-554-2319",null,"lackstrimap@lackstrim.com",null,"Non-Tax",null,"Lacks Trim Systems (52nd Mold)","Attn:","4365 52nd Street SE",null,null,"Kentwood","MI","49512"]
["Lacks (Trim Systems-Airlane Plant)","B Sweetland (buyer)","Ron Hillman","616-949-8036","616-698-8218","616-285-2367","lackstrimap@lackstrim.com",null,"Non-Tax","Tony Whitehead:  Direct 616-450-7659\n\nPurchasing:\nHeather VanDyke - Office: 616-956-7270\nfax:  616-455-5077\nemail:  h.vandyke@lacksenterprises.com","Lacks Trim Systems - Airlane Plant","Attn:Tony Whitehead","4260 Airlane S.E.",null,null,"Kentwood","MI","49512"]
["Lacks (Wheel Trim Sys. Barden Assembly)",null,"Bob Oosterheert","616-554-6329","616-455-5742","616-554-6315","lackstrimap@lackstrim.com",null,"Non-Tax",null,"Lacks Wheel Trim Sys. (Barden Assembly)","Attn: Jeff VanCamp / Linda Cramer","4080 Barden St. SE",null,null,"Grand Rapids","MI","49546"]
["Lacks (Wheel Trim Sys. Barden Plating)","Debbie Warner (Accting)","Dave Hohagan","616-956-7337","616-554-1757",null,"LacksTrimAP@LacksTrim.com",null,"Non-Tax","Dave Kohagen 554-1757","Lacks Wheel Trim System-Plater","Attn:Linda Cramer","4080 Barden SE",null,null,"Grand Rapids","MI","49512"]
["Lacks Enterprises (Protective Services)","Paul Lotterman","Lisa Pond 554-7833","616-554-7123","554-7100",null,"p.lotterman@lackenterprised.com",null,"Non-Tax","Scott Radakowitz 554-7171","Lacks Enterprises (Barden Plating)","Attn: Scott Radakowitz","4090 Barden St. SE",null,null,"Kentwood","MI","49512","Mr.","Lotterman"]
["Lacks Enterprises Inc. (Collins)","John Collins",null," 616-554-7193",null," 616-554-7842","j.collins@lacksenterprises.com",null,null,null,"Lacks Enterprises Inc.","Lacks Distribution Center","4090 Barden Street SE",null,null,"Kentwood","MI","49512","Mr.","Collins","Environmental Coordinator","Automotive","Kent"]
["Lacks Enterprises Inc. (Lotterman)","Paul Lotterman",null," 616-554-7123",null," 616-554-7842","P.lotterman@lacksenterprises.com",null,null,null,"Lacks Enterprises Inc.","Lacks Distribution Center","4090 Barden Street SE",null,null,"Kentwood","MI","49512","Mr.","Lotterman","Safety Coordinator","Automotive","Kent"]
["Lacks Enterprises Inc. (Radakovitz)","Scott Radakovitz",null," 616-554-7171",null," 616-554-7842","s.radakovitz@lacksenterprises.com",null,null,null,"Lacks Enterprises Inc.","Lacks Distribution Center","4090 Barden Street SE",null,null,"Kentwood","MI","49512","Mr.","Radakovitz",null,"Automotive","Kent"]
["Lacks Enterprises Inc. (Stratton)","Mark Stratton",null," 616-554-7161",null," 616-554-7842","m.stratton@lacksenterprises.com",null,null,"Dave Gift (Purch Mgr) --> Tim Morrow (Dir. of Purch)\nTom Cornelisse 616.698.3650 mob 616.446.0317 -->\n   Steve Lewis 616.455.5845   mob 616.340.4070","Lacks Enterprises Inc.","Lacks Distribution Center","4090 Barden Street SE",null,null,"Kentwood","MI","49512","Mr.","Stratton",null,"Automotive","Kent"]
["Lacks Enterprises Inc. - 52nd Mold (Ottob","Pat Ottobre",null," 616-554-2319",null," 616-554-2323",null,null,null,"Also, James Jarnagin\nPicked up PhD Ultra for service. Just bought Cal Gas in Oct.","Lacks Enterprises Inc. - 52nd Mold","4365 52nd Street",null,null,null,"Kentwood","MI","49512","Mr.","Ottobre","Maintenance Manager","Automotive","Kent"]
["Lacks Enterprises Inc. - 52nd Paint East","Rich Tice",null," 616-554-3184"," 616-698-3184"," 616-554-1547","r.tice@lackstrim.com",null,null,"Just got instrument and gas.\nAlso covers 52nd Paint West, 4245 52nd Street SE 616.698.2465","Lacks Enterprises Inc. - 52nd Paint East","4375 52nd Street",null,null,null,"Kentwood","MI","49512","Mr.","Tice","Maintenance Manager","Automotive","Kent"]
["Lacks Enterprises Inc. - 52nd Paint East","Rich Tice",null," 616-554-3184",null," 616-554-1547","r.tice@lackstrim.com",null,null,null,"Lacks Enterprises Inc. - 52nd Paint East","4375 52nd Street",null,null,null,"Kentwood","MI","49512","Mr.","Tice","Maintenance Manager","Automotive","Kent"]
["Lacks Enterprises Inc. - 52nd Paint East","Rich Tice",null," 616-554-3184",null," 616-554-1547","r.tice@lackstrim.com",null,null,null,"Lacks Enterprises Inc. - 52nd Paint East","4375 52nd Street",null,null,null,"Kentwood","MI","49512","Mr.","Tice","Maintenance Manager","Automotive","Kent"]
["Lacks Enterprises Inc. - 52nd Paint West","Rich Tice",null," 616-554-3419"," 616-698-2465"," 616-554-3435",null,null,null,null,"Lacks Enterprises Inc. - 52nd Paint West","4245 52nd Street SE",null,null,null,"Kentwood","MI","49512","Mr.","Tice","Maintenance Manager","Automotive","Kent"]
["Lacks Enterprises Inc. - 52nd Paint West","Rich Tice",null," 616-554-3419",null," 616-554-3435",null,null,null,null,"Lacks Enterprises Inc. - 52nd Paint West","4245 52nd Street SE",null,null,null,"Kentwood","MI","49512","Mr.","Tice","Maintenance Manager","Automotive","Kent"]
["Lacks Enterprises Inc. - 52nd Paint West","Rich Tice",null," 616-554-3419",null," 616-554-3435",null,null,null,null,"Lacks Enterprises Inc. - 52nd Paint West","4245 52nd Street SE",null,null,null,"Kentwood","MI","49512","Mr.","Tice","Maintenance Manager","Automotive","Kent"]
["Lacks Enterprises Inc. - Airlane North (H","Ron Hillman",null," 616-698-8218",null," 616-698-8149","R.Hillman@LacksTrim.com",null,null,null,"Lacks Enterprises Inc. - Airlane North","4260 Airlane SE",null,null,null,"Kentwood","MI","49512","Mr.","Hillman","Waste Treatment Manager","Automotive","Kent"]
["Lacks Enterprises Inc. - Airlane North (P","Fred Pixley",null," 616-698-8113",null," 616-698-8149",null,null,null,null,"Lacks Enterprises Inc. - Airlane North","4260 Airlane SE",null,null,null,"Kentwood","MI","49512","Mr.","Pixley","Plating Manager","Automotive","Kent"]
["Lacks Enterprises Inc. - Airlane North (W","Tony Whitehead Sr.",null," 616-554-3489",null," 616-698-8149","t.whiteheadsr@lackstrim.com",null,null,null,"Lacks Enterprises Inc. - Airlane North","4260 Airlane SE",null,null,null,"Kentwood","MI","49512","Mr.","Whitehead",null,"Automotive","Kent"]
["Lacks Enterprises Inc. - Airlane South (W","Tony Whitehead Sr.",null," 616-554-3489",null," 616-698-0729","t.whiteheadsr@lackstrim.com",null,null,null,"Lacks Enterprises Inc. - Airlane South","4260 Airlane SE",null,null,null,"Kentwood","MI","49512","Mr.","Whitehead",null,"Automotive","Kent"]
["Lacks Enterprises Inc. - Airwest Mold / R","Bob Jenkins",null," 616-698-6890",null," 616-698-9831",null,null,null,null,"Lacks Enterprises Inc. - Airwest Mold / R","4260 Airwest SE",null,null,null,"Kentwood","MI","49512","Mr.","Jenkins","Maintenance Engineer","Automotive","Kent"]
["Lacks Enterprises Inc. - Barden Assembly","SSS",null," 616-554-6300",null," 616-554-6329",null,null,null,null,"Lacks Enterprises Inc. - Barden Assembly","4090 Barden Street SE",null,null,null,"Kentwood","MI","49512",null,"SSS",null,"Automotive","Kent"]
["Lacks Enterprises Inc. - Barden Assembly","SSS",null," 616-554-6300",null," 616-554-6329",null,null,null,null,"Lacks Enterprises Inc. - Barden Assembly","4090 Barden Street SE",null,null,null,"Kentwood","MI","49512",null,"SSS",null,"Automotive","Kent"]
["Lacks Enterprises Inc. - Barden Assembly","SSS",null," 616-554-6300",null," 616-554-6329",null,null,null,null,"Lacks Enterprises Inc. - Barden Assembly","4090 Barden Street SE",null,null,null,"Kentwood","MI","49512",null,"SSS",null,"Automotive","Kent"]
["Lacks Enterprises Inc. - Brockton Mold (B","Gary Berends",null," 616-698-2030",null," 616-698-7756",null,null,null,null,"Lacks Enterprises Inc. - Brockton Mold","4251 Brockton Ct. SE",null,null,null,"Kentwood","MI","49512","Mr.","Berends",null,"Automotive","Kent"]
["Lacks Enterprises Inc. - Brockton Mold (T","TTTT",null," 616-698-2030",null," 616-698-7756",null,null,null,null,"Lacks Enterprises Inc. - Brockton Mold","4251 Brockton Ct. SE",null,null,null,"Kentwood","MI","49512",null,"TTTT",null,"Automotive","Kent"]
["Lacks Enterprises Inc. - Lacks Wheel Syst","Heather VanDyke",null," 616-956-6570",null," 616-285-2789","h.vandyke@lacksenterprises.com",null,null,null,"Lacks Enterprises Inc. - Lacks Wheel Syst","5460 Cascade Road SE",null,null,null,"Grand Rapids","MI","49546","Ms.","VanDyke","Buyer","Automotive","Kent"]
["Lacks Enterprises Inc. - Plastic Plate Br","Tom Lewis",null," 616-698-3643",null," 616-698-3663",null,null,null,null,"Lacks Enterprises Inc. - Plastic Plate Br","4240 Brockton Ct. SE",null,null,null,"Grand Rapids","MI","49512","Mr.","Lewis","Superintendent","Automotive","Kent"]
["Lacks Enterprises Inc. - Plastic Plate In","Katie Hohenstein",null," 616-956-7204",null," 616-285-2367","k.hohenstein@lacksenterprises.com",null,null,null,"Lacks Enterprises Inc. - Plastic Plate In","5460 Cascade Road SE",null,null,null,"Grand Rapids","MI","49546","Ms.","Hohenstein","Buyer","Automotive","Kent"]
["Lacks Enterprises Inc. - Plastic Plate Mo","Rick Whitaker",null," 616-455-5607"," 616-455-5860"," 616-455-5569","r.whitaker@plasticplate.com",null,null,null,"Lacks Enterprises Inc. - Plastic Plate Mo","1648 Monroe Ave. NW",null,null,null,"Grand Rapids","MI","49505","Mr.","Whitaker","Maintenance Manager","Automotive","Kent"]
["Lacks Enterprises Inc. - Plastic Plate Ra","Denny Lang",null," 616-957-8913",null," 616-957-7996",null,null,null,null,"Lacks Enterprises Inc. - Plastic Plate Ra","3500 Raleigh SE",null,null,null,"Kentwood","MI","49512","Mr.","Lang",null,"Automotive","Kent"]
["Lacks Enterprises Inc. - Trim Systems (Po","Lisa Pond",null," 616-554-7833",null," 616-554-7162","l.pond@lackstrim.com",null,null,null,"Lacks Enterprises Inc. - Trim Systems","Lacks Distribution Center","4090 Barden Street SE",null,null,"Kentwood","MI","49512","Ms.","Pond","Buyer","Automotive","Kent"]
["Lacks Enterprises Inc. - Trim Systems (Wa","Deb Warner",null," 616-956-7337",null," 616-282-2789","d.warner@lacksenterprises.com",null,null,"Handles purchasing for all safety supplies. Buyers for the different business units are:\nTrim Systems: Lisa Pond\nWheel Systems: Heather Vandyke\nPlastic-Plate: Katie Hohenstein","Lacks Enterprises Inc. - Trim Systems","5460 Cascade Road SE",null,null,null,"Grand Rapids","MI","49546","Ms.","Warner","Purchasing Agent","Automotive","Kent"]
["Lacks Enterprises Trim (Jahnke)","Michael Jahnke",null,null,null,null,"m.jahnke@lackstrim.com",null,null,"Also with Thornapple Twsp Emergency Services 128 High St. Middleville, MI 49333","Lacks Enterprises Trim","3505 Kraft Avenue SE",null,null,null,"Kentwood","MI","49512","Mr.","Jahnke","Senior Electrician","Fire Department","Kent"]
["Lacks Trim Systems (Price)","Gene Price",null," 616-554-7148",null," 616-554-7117","g.price@lackstrim.com",null,null,null,"Lacks Trim Systems","3703 Patterson Avenue",null,null,null,"Kentwood","MI","49512","Mr.","Price","Transportation Coordinator","Automotive","Kent"]
["Lacks Trim Systems - (Paint East)",null,"Alan Beatty",null,null,null,"lackstrimap@lackstrim.com",null,"Non-Tax",null,"Lacks Trim Systems - (Paint East)","Attn:","4375 - 52nd Street SE",null,null,"Kentwood","MI","49512"]
["Lacks Trim Systems - (Paint West)","Paul L",null,null,null,null,"lackstrimap@lackstrim.com",null,"Michigan Sales Tax",null,"Lacks Trim Systems - (Paint West)","Heather VanDyke","4245 - 52nd Street SE",null,null,"Kentwood","MI","49512"]
["Lafarge",null,"Scott Peplinski",null,"616-510-5529",null,null,null,"Michigan Sales Tax",null,"Lafarge","Attn: Scott Peplinski","15838 Stanton Street",null,null,"West Olive","MI","49460"]
["LaFarge Corporation (Peplinski)","Scott Peplinski",null," 616-846-3838"," 248-594-7261",null,"Scott.Peplinski@lafarge-na.com",null,null,null,"LaFarge Corporation",null,null,null,null,"Holland","MI",null,"Mr.","Peplinski",null,"Chemical Pharmaceutical","Ottawa"]
["Lake Charter Twp. Water",null,null,"269-465-3850",null,null,null,null,"Non-Tax Municipality/Utility","Toby Rylee","Lake Charter Twp. Water","Attn:Stewart Beach","8351 Red Arrow Hywy",null,null,"Bridgman","MI","49106"]
["Lake City Plating","Jeff Drake",null,"440-964-3555",null,"440-964-2399",null,null,"Out of State",null,"Lake City Plating","Attn: Jeff Drake","1701 Lake Ave.",null,null,"Ashtabula","OH","44004"]
["Lake County Maintenance (Pozorski)","Dave Pozorski",null," 123-456-7833",null,null,null,null,null,null,"Lake County Maintenance","see card",null,null,null,"Baldwin","MI","49304",null,"Pozorski","Director of County Maintenance","Municipal, Cty","Municipal"]
["Lake County Road Commission (Patti)","Patti",null," 231-745-4666",null,null,null,null,null,null,"Lake County Road Commission","4459 Michigan 37",null,null,null,"Baldwin","MI","49304",null,"Patti","Purchasing","Municipal, Cty","Municipal"]
["Lake Painting Inc.","Gary Smith",null,"989-631-6002","cell 989-205-2027","989-631-2180",null,null,"Michigan Sales Tax",null,"Lake Painting Inc.","Attn: Gary Smith","2877 Venture Dr.",null,null,"Midland","MI","48640"]
["Lake Painting Inc. (Smith)","Gary Smith",null," 989-631-6002",null," 989-631-2180","lakepaintgary@sbcglobal.net",null,null,null,"Lake Painting Inc.","2877 Venture Drive","PO Box 2105",null,null,"Midland","MI","48640","Mr.","Smith","President","Contractor General","Midland"]
["Lake Township Water Dept. (Beach)","Steward Beach",null," 269-465-3850",null,null,null,null,null,null,"Lake Township Water Dept.","8351 Red Arrow Hwy.",null,null,null,"Bridgman","MI","49106","Mr.","Beach","Supervisor","Water Treatment","Berrien"]
["Lake, County of","Mac McClellan",null,"231-745-6205",null,null,null,null,"Non-Tax Municipality/Utility","Mac McClellan\n  Cell: 231-590-0529\n  mmcclellan@co.lake.mi.us","Lake, County of","Attn:","Suite 100","800 10th Street",null,"Baldwin","MI","49304"]
["Lakeshore Environmental (Bour)","Roger Bour",null," 800-844-5050",null," 616-844-5053",null,null,null,null,"Lakeshore Environmental","803 Verhoeks",null,null,null,"Grand Haven","MI","49417","Mr.","Bour",null,"Contractor EH&S","Ottawa"]
["Lakeshore Safety and Environmental System","Susan Paauwe",null," 616-335-9718",null,null,"supaauw@hotmail.com",null,null,null,"Lakeshore Safety and Environmental System","1885 West 32nd Street",null,null,null,"Holland","MI","49423","Ms.","Paauwe",null,"Contractor EH&S","Ottawa"]
["Lakeshore Scale Inc.","Chris Kane",null,"616-494-9960",null,"616-494-9961",null,null,"Non-Tax",null,"Lakeshore Scale Inc.","Attn:","131 Coolidge","Suite 4",null,"Holland","MI","49423"]
["Lakeshore Scale, Inc. (Gervais)","Bernie Gervais",null," 616-494-9960",null," 616-494-9961","berniegervais@lakeshorescale.com",null,null,null,"Lakeshore Scale, Inc.","131 Coolidge Ave., Ste. 4",null,null,null,"Holland","MI","49423","Mr.","Gervais",null,"Mining","Ottawa"]
["Lakeside Mechanical","Bruce Visser",null,"616-786-0211",null,"616-786-0225",null,null,"Michigan Sales Tax",null,"Lakeside Mechanical","Attn: Bruce Visser","13309 New Holland Street",null,null,"Holland","MI","49424"]
["Lakeside Mechanical Contractors, Inc. (As","Gary Ashcraft",null," 616-786-0211",null," 616-786-0225",null,null,null,null,"Lakeside Mechanical Contractors, Inc.","13309 New Holland St.",null,null,null,"Holland","MI","49424","Mr.","Ashcraft","Safety Supervisor","Contractor General","Ottawa"]
["Lakeside Mechanical Contractors, Inc. (Vi","Bruce Visser",null," 616-786-0211",null," 616-786-0225","brucev@lakesidemechanical.com",null,null,"Cheryl is secy; Gary Ashcraft is Foreman 616.836.3730 on GVSU project","Lakeside Mechanical Contractors, Inc.","13309 New Holland Street",null,null,null,"Holland","MI","49424","Mr.","Visser","President","Contractor General","Ottawa"]
["Lakewood Construction","Jim Dreyer",null,"616-392-6923",null,"616-392-7747",null,null,"Michigan Sales Tax",null,"Lakewood Construction","Attn:Jim Dreyer","11253 James Street",null,null,"Holland","MI","49424"]
["Lakewood Inc. (Dreyer)","Jim Dreyer",null," 616-392-6923",null," 616-392-7747","jdreyer@lakewoodinc.com",null,null,"Met Todd Porter in GH, who suggested I see:\nJim Dreyer, Safety; and Matt Bowhuis, Steel Crew Leader. Met JD 4.2.04","Lakewood Inc.","11253 James Street",null,null,null,"Holland","MI","49424","Mr.","Dreyer","Safety Manager","Contractor General","Ottawa"]
["Lakewood Inc. (Shields)","Rick Shields",null," 616-392-6923",null," 616-392-7747",null,null,null,null,"Lakewood Inc.","11253 James Street",null,null,null,"Holland","MI","49424","Mr.","Shields",null,"Construction","Ottawa"]
["Lakshore Safety & Environmental Systems","Su Paauwe",null,"616-335-9718",null,null,null,null,"Michigan Sales Tax",null,"Lakshore Safety & Environmental Systems","Attn:","1885 West 32nd Street",null,null,"Holland","MI","49423"]
["Laman Asphalt, Inc. Rieth-Riley Construct","Paul Knudsen",null," 231-845-7031",null," 231-845-5621","pknudsen@rieth-riley.com",null,null,"Rieth Riley's purchasing is handled out of their Goshen, Indiana corporate office\n-worth a drive down to introduce ourselves as a local vendor","Laman Asphalt, Inc. Rieth-Riley Construct","5565 West First Street",null,null,null,"Ludington","MI","49431","Mr.","Knudsen","Project Manager","Contractor General","Mason"]
["Lamar Construction","Dan",null,"616-662-2933","800-481-0164","616-662-2944",null,null,"Michigan Sales Tax",null,"Lamar Construction","Attn:","4404 Central Parkway",null,null,"Hudsonville","MI","49426"]
["Lamar Construction Company (Boeve)","Josh Boeve",null," 616-662-2933",null," 616-662-2944","jboeve@lamarconstruction.com",null,null,null,"Lamar Construction Company","4404 Central Parkway",null,null,null,"Hudsonville","MI","49426","Mr.","Boeve",null,"Contractor General","Allegan"]
["Lamar Construction Company (Cramer)","Tara Cramer",null," 616-662-2933",null," 616-662-2944","tcramer@lamarconstruction.com",null,null,null,"Lamar Construction Company","4404 Central Parkway",null,null,null,"Hudsonville","MI","49426",null,"Cramer","Purchasing","Contractor General","Allegan"]
["Lamar Outdoor Advertising (Thelen)","Pat Thelen",null," 231-733-7679 223",null," 231-733-7629","oper151@lamarhq.com",null,null,null,"Lamar Outdoor Advertising","4898 Quarterline Rd",null,null,null,"Muskegon","MI","49444",null,"Thelen","Operations Manager",null,"Muskegon"]
["Lamco Safety Products inc.","Rose Lane",null,"717-637-4305",null,"717-637-5697",null,null,"Out of State","RESALE CUSTOMER (BW pricing):\nPM - $75 (std. 4-gas)\nCal Only:  $40 (std. 4-gas)\nParts:  10% off list\nInstruments:  20% off list\n2 - special line items:\nSR-X-MC:  $88.25\nGA-PA-1:  $8.82\n\nSales:\nButch Yurish","Lamco Safety Products Inc.","Attn: Rose Lane","370 Church St.",null,null,"Hanover","PA","17331"]
["Lamco Safety Products, Inc. (Yurish)","Butch Yurish",null," 717-637-4305",null," 717-637-5697","butchlamco@yahoo.com",null,null,"Mike Johnson, owner","Lamco Safety Products, Inc.","370 Church Street","PO Box 159",null,null,"Hanover","PA","17331","Mr.","Yurish",null,"Competitor","Out of State"]
["Land & Resource",null,"Brandon Kulhanek","616-301-7888",null,null,null,null,"Michigan Sales Tax",null,"Land & Resource","Attn:","3800 West River Rd.","Suite A",null,"Comstock Park","MI","49321"]
["Land and Resource (Kulhanek)","Brandon Kulhanek",null," 616-301-7888",null,null,"brandon@ldsmi.com",null,null,null,"Land and Resource","3800 West River Rd.","Suite A",null,null,"Comstock Park","MI","49321","Mr.","Kulhanek",null,"Contractor EH&S","Kent"]
["Landmark (Florian)","Mark Florian",null," 269-927-3366",null," 269-927-3684","mflorian@landmarktech.com",null,null,null,"Landmark","115A West Main Street",null,null,null,"Benton Harbor","MI","49022","Mr.","Florian","President","Contractor EH&S","Berrien"]
["Landscape Design Services, Inc. (Grathwoh","Fritz Grathwohl",null," 616-842-7450",null," 616-399-8574",null,null,null,null,"Landscape Design Services, Inc.","0-7351 West Olive Rd.",null,null,null,"Holland","MI","49424","Mr.","Grathwohl","Safety Specialist","Contractor General","Ottawa"]
["Landscape Design Services, Inc. (Minor)","Doug Minor",null," 616-842-7450",null," 616-399-8574",null,null,null,null,"Landscape Design Services, Inc.","0-7351 West Olive Rd.",null,null,null,"Holland","MI","49424","Mr.","Minor","Safety Director","Contractor General","Ottawa"]
["Langerak Roof Systems",null,"Tim Remy","616-896-1397","616-813-4928 cell","616-896-8690",null,null,"Michigan Sales Tax",null,"Langerak Roof Systems","Attn:Tim Remy","4266 Corporate Exchange Dr.",null,null,"Hudsonville","MI","49426-0085"]
["Langerak Roof Systems Inc. (Remy)","Tim Remy",null," 616-896-1397",null," 616-896-8690","tim@lrsroof.com",null,null,null,"Langerak Roof Systems Inc.","4266 Corporate Exchange Drive","P.O. Box 85",null,null,"Hudsonville","MI","49426","Mr.","Remy","Safety Manager","Contractor General","Ottawa"]
["Langone Construction","Tony Langone",null,"413-530-6266 cell",null,null,"langoneconstruction@comcast.net",null,"Out of State","FedEx# 236809218","Langone Construction","Attn:","417 Shoemaker Lane",null,null,"Agawam","MA","01001-3619"]
["Lansing Board of Water & Light (Armock)","Irene Armock",null," 517-702-6385",null," 517-702-6373","irene@LBWL.com",null,null,"Scott Blackmer bought 2 GA Extreme CO  mob 517.331.2600 Eckert Station","Lansing Board of Water & Light","1110 S. Pennsylvania","PO Box 13007",null,null,"Lansing","MI","48901","Ms.","Armock","Industrial Hygienist","Utility","Ingham"]
["Lansing Board of Water & Light (Scott)","Mike Scott",null," 517-702-6084",null,null,"mscott@lbwl.com",null,null,null,"Lansing Board of Water & Light","1140 S. Pennsylvania",null,null,null,"Lansing","MI","48933","Mr.","Scott","Planner / Scheduler","Utility","Ingham"]
["Lansing Board of Water & Light (Thelen)","Peter Thelen",null," 517-702-6396",null," 517-702-6387","plt@lbwl.com",null,null,"MSC BW lead  Fred Fortino (x6043) is Instrument Tech. Mostly old Neotronic or Dynamations. Tom Hands is a one of the power plants.","Lansing Board of Water & Light","830 E. Hazel","PO Box 13007",null,null,"Lansing","MI","48901","Mr.","Thelen","Safety Coordinator","Utility","Ingham"]
["Lansing Board of Water & Light Power Plan","William A. Krawczyk",null," 517-702-6835",null," 517-702-6809","wak@lbwl.com",null,null,null,"Lansing Board of Water & Light Power Plan","PO Box 13007",null,null,null,"Lansing","MI","48901","Mr.","Krawczyk","Safety Coordinator","Utility","Ingham"]
["Lansing Board of Water and Light","Leo Gallegos","Irene Armock, CIH","702-6288","517-702-6385",null,null,null,"Non-Tax Municipality/Utility",null,"Lansing Board of Water and Light","Attn: Fred Fortino","1110 South Pennsylvania",null,null,"Lansing","MI","48912"]
["Lansing Purchasing Department, City of (R","Stephanie Robinson",null," 517-483-4128",null,null,null,null,null,"John Green other Sr. Buyer","Lansing Purchasing Department, City of","City Hall","124 W. Michigan Avenue  8th Fl",null,null,"Lansing","MI","48933","Ms.","Robinson","Sr. Buyer","Municipal, Cty","Ingham"]
["Lansing WWTP, City of (Jezak)","Scott Jezak",null," 517-483-4408",null," 517-483-4536","sjezak@ci.lansing.mi.us",null,null,null,"Lansing WWTP, City of","1625 Sunset Avenue",null,null,null,"Lansing","MI","48917","Mr.","Jezak","Maintenance Supervisor","Municipal, Cty","Ingham"]
["Lanzo Lining Services (Tingberg)","Fred Tingberg",null," 954-931-4430",null,null,"fredt@lanzo.org",null,null,null,"Lanzo Lining Services","28137 Groesbeck Highway",null,null,null,"Roseville","MI","48066","Mr.","Tingberg",null,"Contractor General","Macomb"]
["Lapeer Regional Medical Center","Peggy",null,"810-342-1500",null,"810 342-1512",null,null,"Non-Tax",null,"Lapeer Regional Medical Center","Attn: PO L150804","401 South Ballenger Highway",null,null,"Flint","MI","48532-3685"]
["Larry Conn","Larry Conn",null,"419-474-3373",null,null,null,null,"Out of State",null,"Larry Conn","4422 Naomi Dr.",null,null,null,"Toledo","OH","43623"]
["Larson Davis (Novak)","Gregg Novak",null," 716-926-8243",null," 716-926-8215","gnovak@pcb.com",null,null,"Rob Brauch  mob 801.921.9642","Larson Davis","3425 Walden Ave.",null,null,null,"Depew","NY","14043","Mr.","Novak","North American Sales Manager","Supplier","Out of State"]
["Lascko Plumbing & Mechanical (Fisher)","Lori Fisher",null," 231-725-2777",null," 231-725-8377","lascko@novagate.com",null,null,null,"Lascko Plumbing & Mechanical","375 Bayou Street",null,null,null,"Muskegon","MI","49442","Ms.","Fisher","Office Manager","Contractor General","Muskegon"]
["LD. Docsa Associates, Inc. (Thomsen)","Gregg Thomsen",null," 269-349-7675",null," 269-349-2511",null,null,null,null,"LD. Docsa Associates, Inc.","1605 King Highway",null,null,null,"Kalamazoo","MI","49001","Mr.","Thomsen","Superintendent","Contractor General","Kalamazoo"]
["Leader Energy Services (Archer)","Glenn Archer",null," 307-679-6123",null," 307-789-8653","g.archer@leaderenergy.com",null,null,null,"Leader Energy Services","336 Emerson Avenue",null,null,null,"Evanston","WY","82930","Mr.","Archer","HSE Manager","Petroleum Related","Out of State"]
["LECO Corporation (Whitt)","Jason Whitt",null," 269-983-5531",null,null,null,null,null,null,"LECO Corporation","3000 Lakeview Ave.",null,null,null,"St. Joseph","MI","49085","Mr.","Whitt","Corporate EH&S Manager","Plating","Allegan"]
["Lee's Trenching Service, Inc. (Holstege)","Ken Holstege",null," 616-878-0077",null," 616-878-0840",null,null,null,null,"Lee's Trenching Service, Inc.","1201  76th Street SW",null,null,null,"Byron Center","MI","49315","Mr.","Holstege",null,"Contractor, Excavator","Kent"]
["Leet Electric (Irmen)","John Irmen",null," 269-381-5011",null," 269-381-2658","jirmen@scisteelcon.com",null,null,"Joe Beall SCI/Steelcon Scott Russell 269.381.5011","Leet Electric","5071 E. Kilgore Road",null,null,null,"Kalamazoo","MI","49001","Mr.","Irmen","Purchasing Manager","Contractor Electrical","Kalamazoo"]
["Lenawee County Drain Commission","Tom Gillenwater (Sup.)","Justin Hallenbeck","517-264-4699","517-547-6389",null,null,null,"Non-Tax Municipality/Utility","General Office (517) 264-4696\n\nAddison Facility 517-547-6389","Lenawee County Drain Commission","Attn:","6100 Sorby Hwy",null,null,"Addison","MI","49220-9761"]
["Lenawee County Drain Commission (Dillon)","Jack Dillon",null," 517-547-6389",null," 517-264-4785",null,null,null,null,"Lenawee County Drain Commission","320 Springbrook Avenue",null,null,null,"Adrian","MI","49221","Mr.","Dillon",null,"Municipal, Cty","Lenawee"]
["Leoni Township",null,null,"517 522 3092",null,"517-522-3835",null,null,"Michigan Sales Tax","Chris Crenshaw","Leoni Township po#8400","Attn: Chris Crenshaw","8401 Page Ave",null,null,"Jackson ","MI","49201"]
["Leoni Township DPW","John Zang",null,"517-937-8180cell","517-764-4694",null,null,null,"Non-Tax Municipality/Utility",null,"Leoni Township DPW","Attn:","913 Fifth Street",null,null,"Michigan Center","MI","49254"]
["Leprino Foods (Allendale)","Mirza (Accounting)","Cindy Triestram","616-895-5800",null,"616-895-4439",null,null,"Non-Tax","Gary Fletcher - offiice: 616-892-0352","Leprino Foods (Allendale)","Attn:Roger Eptard","4700 Rich Street",null,null,"Allendale","MI","49401","Ms.","Schoeb"]
["Leprino Foods (Ft. Morgan)",null,null,null,null,null,null,null,"Out of State","Purchasing:  Steve Hale - 845-978-0535, 970-542-4251\nBob Davidson - 970-867-9351","Leprino Foods (Ft. Morgan)","Attn:","2400 E. Beaver Ave.",null,null,"Ft. Morgan","CO","80701"]
["Leprino Foods (Remus)","Kenitha Severn","Tina Reichert","989-967-0124 Kenitha","989-967-3635","989-967-3427 Kenitha","ksevern@leprinofoods.com",null,"Non-Tax","04/09/2009:  \nKenitha Severn - Fax/email Paid Invoice w/ \"Paid\" logo on it: \nemail: KSevern@leprinofoods.com\nVisa:  new card 1/11/11\n4808-0170-0513-8045 exp 07/13\nBilling Address:  1830 W 38th - 80211\n\nA/P main 989-967-3635  \n   dir 989-967-0100  Lori Harrington\n   fax 989-967-3427\n\n~~~~~~~~~~~~~~~~~~~~~~~~~~~~~\n\nTina Reichert - SRL service contact\ntreichert@leprinofoods.com\n\nLinda Rosinski\n","Leprino Foods - Remus","Attn: Kenitha Severn","311 North Sheridan",null,null,"Remus","MI","49340","Ms.","Severn"]
["Leprino Foods - Allendale (Defouw)","Joe Defouw",null," 616-892-0357",null," 616-895-4439","jdefouw@leprinofoods.com",null,null,"referred me to Heather Hubner in HR as best place to start with SAFETY","Leprino Foods - Allendale","4700 Rich Street",null,null,null,"Allendale","MI","49401",null,"Defouw","Purchasing","Food","Ottawa"]
["Leprino Foods - Allendale (Doremire)","Tony Doremire",null," 616-892-0347"," 616-895-5800 347"," 616-895-4439","tdoremire@leprinofoods.com",null,null,"Dave Clemens Engg Mgr","Leprino Foods - Allendale","4700 Rich Street",null,null,null,"Allendale","MI","49401","Mr.","Doremire","Safety Training Supervisor","Food","Ottawa"]
["Leprino Foods - Allendale (Eptard)","Roger Eptard",null," 616-892-0354",null," 616-895-4439","reptard@leprinofoods.com",null,null,null,"Leprino Foods - Allendale","4700 Rich Street",null,null,null,"Allendale","MI","49401","Mr.","Eptard","Storekeeper","Food","Ottawa"]
["Leprino Foods - Allendale (Fletcher)","Gary Fletcher",null," 616-892-0352"," 616-895-5800"," 616-895-7088","gfletcher@leprinofoods.com",null,null,null,"Leprino Foods - Allendale","4700 Rich Street",null,null,null,"Allendale","MI","49401","Mr.","Fletcher","Maintenance Manager","Food","Ottawa"]
["Leprino Foods - Allendale (Hitchcock)","Greg Hitchcock",null," 616-892-0393",null,null,"ghitchcock@leprinofoods.com",null,null,null,"Leprino Foods - Allendale","4700 Rich Street",null,null,null,"Allendale","MI","49401","Mr.","Hitchcock","Buyer","Food","Ottawa"]
["Leprino Foods - Allendale (Schoeb)","Sandy Schoeb",null," 616-892-0327"," 616-895-5800"," 616-895-4439",null,null,null,null,"Leprino Foods - Allendale","4700 Rich Street",null,null,null,"Allendale","MI","49401","Ms.","Schoeb",null,null,"Ottawa"]
["Leprino Foods - Allendale (Smith)","Linda Smith",null," 616-892-0357"," 616-895-5800"," 616-895-4439","smithl@leprino.com",null,null,null,"Leprino Foods - Allendale","4700 Rich Street",null,null,null,"Allendale","MI","49401","Ms.","Smith","Parts Technician","Food","Ottawa"]
["Leprino Foods - Allendale (Triestram)","Cindy Triestram",null," 616-892-0357",null," 616-895-4439",null,null,null,null,"Leprino Foods - Allendale","4700 Rich Street",null,null,null,"Allendale","MI","49401","Ms.","Triestram","Parts Technician","Food","Ottawa"]
["Leprino Foods - Allendale (Zlotnicki)","Ron Zlotnicki",null," 616-892-0345"," 616-895-5800"," 616-895-7088","rzlotnicki@leprinofoods.com",null,null,null,"Leprino Foods - Allendale","4700 Rich Street",null,null,null,"Allendale","MI","49401","Mr.","Zlotnicki","Project Engineer","Food","Ottawa"]
["Leprino Foods - Remus (Defouw)","Joe Defouw",null," 989-967-0124",null," 989-967-3427",null,null,null,null,"Leprino Foods - Remus","311 North Sheridan",null,null,null,"Remus","MI","49340",null,"Defouw","Purchasing",null,"Mecosta"]
["Leprino Foods - Remus (Rampanelli)","Michael Rampanelli",null," 989-967-8641",null," 989-967-3427","mrampanelli@leprinofoods.com",null,null,null,"Leprino Foods - Remus","311 North Sheridan",null,null,null,"Remus","MI","49340","Mr.","Rampanelli","Wastewater Treatment Superviso","Food","Mecosta"]
["Leprino Foods - Remus (Reichert)","Tina Reichert",null," 989-967-3635",null," 989-967-8636","treichert@leprinofoods.com",null,null,null,"Leprino Foods - Remus","311 North Sheridan",null,null,null,"Remus","MI","49340","Ms.","Reichert","Buyer","Food","Mecosta"]
["Leprino Foods - Remus (Rosinski)","Linda Rosinski",null," 989-967-0160",null," 989-967-8636","lrosinski@leprinofoods.com",null,null,null,"Leprino Foods - Remus","311 North Sheridan",null,null,null,"Remus","MI","49340","Ms.","Rosinski",null,"Food","Mecosta"]
["Leprino Foods - Remus (Severn)","Kenitha Severn",null," 989-967-0124"," 989-967-3635"," 989-967-3427","ksevern@leprinofoods.com",null,null,null,"Leprino Foods - Remus","311 North Sheridan",null,null,null,"Remus","MI","49340","Ms.","Severn","EH&S Manager","Food","Mecosta"]
["Lessors Welding Supply Inc.","Jeff Peters",null,"810- 742-2302",null,"810-742-3188",null,null,"Michigan Sales Tax",null,"Lessors Welding Supply Inc.","Attn: Jeff Peters po 22787-1","1300 North Genesee Rd.",null,null,"Burton","MI","48509"]
["Levitation Staging, Inc. (Goebel)","Jamie Goebel",null," 616-742-1174",null," 616-742-1175","jamie@levitationstaging.com",null,null,null,"Levitation Staging, Inc.","845 Chestnut SW",null,null,null,"Grand Rapids","MI","49503","Mr.","Goebel",null,"Other","Kent"]
["Liberty Sheet Metal","Jeff Laster",null,"586-739-1148",null,"586-739-7025",null,null,"Michigan Sales Tax",null,"Liberty Sheet Metal","Attn: Jeff Laster","4715 - 22 Mile Road",null,null,"Shelby Twp","MI","48317"]
["Liberty Steel Fabricating (Schermer)","Tamara Schermer",null," 269-556-9792",null,null,"tammie.schermer@libsteel.com",null,null,null,"Liberty Steel Fabricating","350 Palladium Drive",null,null,null,"Saint Joseph","MI","49085-9128","Ms.","Schermer","Director of Operations","Steel","Berrien"]
["Lighthouse Safety (Corriveau)","John Corriveau",null," 262-790-1155",null," 262-783-6211","joncorvo@execpc.com",null,null,"D+M, Dan McQuestion 262.790.1155 mob 414.975.5378 installer for John Corriveau\nBarbara, Brian, Mary (wife), Tammi","Lighthouse Safety","3620 North 126th Street",null,null,null,"Brookfield","WI","53005",null,"Corriveau","President, Trainer","Representative","Out of State"]
["Lighthouse Safety.","John Corriveau",null,"262-790-1155",null,"262-783-6211",null,null,"NonTx Re-Sale",null,"Lighthouse Safety.","Attn: John Corriveau","4554 North 126th Street",null,null,"Butler","WI","53007"]
["Lillard C Corp.","Marianne Lillard",null,"603-643-4447",null,null,null,null,"Michigan Sales Tax",null,"Lillard Camp Corp.","c/o Marianne Lillard","9 Bridgeman Rd",null,null,"Hanover","NH","03755"]
["Linco Electrical Contracting & Maint. Inc",null,"Joseph Romano","718-227-0105","347-672-4122 cell","718-227-0107","joero7777@aol.com",null,"Out of State",null,"Linco Electrical Contracting & Maint. Inc","Attn:","5442 Arthur Kill Road",null,null,"Staten Island","NY","10307"]
["Linco Electrical Contracting & Maintenanc","Joseph Romano",null," 718-227-0105"," 732-671-8833"," 718-227-0107","joero7777@aol.com",null,null,null,"Linco Electrical Contracting & Maintenanc","5442 Arthur Kill Road",null,null,null,"Staten Island","NY","10307","Mr.","Romano","Superintendent","Contractor Electrical","Out of State"]
["Linde Gas","Evelyn Gannon",null,"216-642-6702",null,"216-901-5853",null,null,"Out of State",null,"Linde Gas","Detroit COC Plant","5001 DeWitt Rd",null,null,"Canton","MI","48188"]
["Linde Gas (Forsyth)","Brian Forsyth",null," 256-306-0305",null,null,"brian.forsyth@linde.com",null,null,null,"Linde Gas","900 Linde Lane",null,null,null,"Decatur","AL",null,"Mr.","Forsyth","Plant Manager","Manufacturer","Out of State"]
["Linde Gas LLC","Evelyn Gannon",null,"216-642-6702",null,"216-901-5853",null,null,"Michigan Sales Tax",null,"Linde Gas LLC","Detroit COC Plant","5001 DeWitt Rd.",null,null,"Canton","MI","48188"]
["Linde LLC",null,"Scott Gibson","614-539-2259",null,"614-871-8124",null,null,"Out of State",null,"Linde LLC","Attn: Scott Gibson","1699 Feddern Ave",null,null,"Grove City","OH","43123"]
["Lipe Industrial Services","Steve Barrenger",null,"616-863-8731",null,null,null,null,"Michigan Sales Tax",null,"Lipe Industrial Services","Attn:","555 Northland Drive, Suite B",null,null,"Rockford","MI","49341"]
["Lipe Industrial Services (Barrenger)","Steve Barrenger",null," 616-863-8731",null,null,"stevebarrenger@yahoo.com",null,null,null,"Lipe Industrial Services","555 Northland Drive  Suite B",null,null,null,"Rockford","MI","49341","Mr.","Barrenger",null,"Contractor General","Kent"]
["Liqui-Force Services USA, Inc. (Bergman)","Sean Bergman",null," 734-955-2508 24",null," 734-955-2504","sbergman@liquiforce.com",null,null,null,"Liqui-Force Services USA, Inc.","28529 Goddard Road","Suite 106",null,null,"Romulus","MI","48174","Mr.","Bergman","Health & Safety Manager","Manufacturer","Wayne"]
["Liquid Haulers Maintenance, Inc.","Gary DeYoung","Terry Stalsonburg","616-877-4288",null,"616-877-4304",null,null,"Michigan Sales Tax","11/29/2010:  4-Blend gas price match:  $214.00\n\nUPS Account# 422769\n\nTerry/Gary need to know absolute total with tax before p/u to cut a check the appropriate amount.\n\nGary DeYoung\n4715-1103-0149-2109\nx09/12","Liquid Haulers Maintenance, Inc.","Attn: Terry Stalsonburg","4560 Division St",null,null,"Moline","MI","49335"]
["Liquid Haulers Maintenance, Inc. (DeYoung","Gary DeYoung",null," 616-877-4288",null," 616-877-4304",null,null,null,"Met Joe Kaniewski (Office Mgr) who said to see Gary. Lots of tanker trucks.","Liquid Haulers Maintenance, Inc.","4560 Division","PO BX 337 Moline MI 49335",null,null,"Wayland","MI","49348",null,"DeYoung",null,"Chemical Pharmaceutical","Allegan"]
["Liquid Haulers Maintenance, Inc. (Stalson","Terry Stalsonburg",null," 616-877-4288",null," 616-877-4304","tstalsonburg@yahoo.com",null,null,null,"Liquid Haulers Maintenance, Inc.","4560 Division","PO Box 337",null,null,"Moline","MI","49335-0337","Mr.","Stalsonburg","Safety Coordinator","Chemical Pharmaceutical","Allegan"]
["Liquid Transport Trucking (Held)","Vince Held",null," 989-463-2197",null," 989-463-5606","vheldsr@ltt-inc.com",null,null,"Jr. vheldjr@ltt-inc.com mob 989.620.1014","Liquid Transport Trucking","2000 East Superior Street",null,null,null,"Alma","MI","48801","Mr.","Held",null,"Petroleum Related","Gratiot"]
["Lit-Tech International (Bosma)","Deb Bosma",null," 231-733-0821 246",null,null,null,null,null,null,"Lit-Tech International","414 W. Broadway Ave.",null,null,null,"Muskegon","MI","49444","Mrs.","Bosma","EH&S","Industrial","Muskegon"]
["Litehouse Foods","Samantha Semrau",null,"616-897-5912",null,null,null,null,"Michigan Sales Tax",null,"Lighthouse Foods","Attn: Julie Fullerton","1400 Foreman Road",null,null,"Lowell","MI","49331-0287"]
["Litehouse Foods (Fullerton)","Julie Fullerton",null," 616-897-5912 326",null," 616-897-9375","jfullerton@litehouseinc.com",null,null,"Greg Halfmann Engr from GM x328\nSamantha Semrau gone","Litehouse Foods","1400 Foreman Road","PO Box 287",null,null,"Lowell","MI","49331-0287","Ms.","Fullerton","Human Resources Manager","Food","Kent"]
["Litton Inter Connect Northrup Grumman (Th","Brian Thompson",null," 417-829-5222",null," 417-829-5577","b_thompson@littoninterconnect.com",null,null,null,"Litton Inter Connect Northrup Grumman","4811 W. Kearney Street",null,null,null,"Springfield","MO","65803","Mr.","Thompson","Safety Manager","Manufacturer","Out of State"]
["Liz Burnette"]
["Lodestar","Dave Myers/Kelly Bustraan","Tyler Bustraan 813-0248","616-785-7373",null,"616-785-8918",null,null,"Michigan Sales Tax",null,"Lodestar","Attn: Kelly Bustraan","333 North Park NW",null,null,"Grand Rapids","MI","49544"]
["Lodestar Construction, Inc. (Bustraan)","Tyler Bustraan",null," 616-785-7373",null," 616-785-8918","tybustraan@gmail.com",null,null,null,"Lodestar Construction, Inc.","333 North Park NW",null,null,null,"Grand Rapids","MI","49544","Mr.","Bustraan",null,"Contractor General","Kent"]
["Lodestar Construction, Inc. (Myers)","Dave Myers",null," 616-785-7373",null," 616-785-8918",null,null,null,"Carla Doorn is Office Mgr. Usually service gas detector in winter.\nKelly Bustraan bought Micro","Lodestar Construction, Inc.","333 North Park NW",null,null,null,"Grand Rapids","MI","49544","Mr.","Myers","Superintendent","Contractor General","Kent"]
["Longwood Elastomers, Inc.","Tim Spraker",null,"276-228-5406",null,null,null,null,"Non-Tax",null,"Longwood Elastomers, Inc.","Attn: Tim Spraker","655 Fairview Road",null,null,"Wytheville","VA","24382"]
["Loren Hooks"]
["Lorin Industries (Rollins)","Skip Rollins",null,null,null,null,null,null,null,null,"Lorin Industries","1960 Roberts St.",null,null,null,"Muskegon","MI","49442","Mr.","Rollins","Purchasing Agent","Steel","Muskegon"]
["Lounsbury Excavating Inc.","Tom Soule",null,"269-657-4446","269-998-2067 cell Tom","269-657-4884","tom@totalsupportsystems.net",null,"Michigan Sales Tax",null,"Lounsbury Excavating Inc.","Attn:Tom Soule","32673 E Red Arrow Hwy",null,null,"Paw Paw","MI","49079"]
["Lounsbury Excavating Inc. (Soule)","Tom Soule",null," 269-657-4446",null," 269-657-4884","tom@kzoo.com",null,null,null,"Lounsbury Excavating Inc.","32673 E Red Arrow Hwy","PO Box 163",null,null,"Paw Paw","MI","49079","Mr.","Soule",null,"Contractor, Excavator","Van Buren"]
["Lovejoy (Winowiecki)","Jerry Winowiecki",null," 269-637-7547",null," 269-637-8297","gwinowiecki@lovejoy-inc.com",null,null,null,"Lovejoy","300 Lovejoy Ave.",null,null,null,"South Haven","MI","49090","Mr.","Winowiecki","Mainenance & Safety Supervisor","Manufacturer","Allegan"]
["LPI","Lauren Pappas",null,null,null,null,null,null,"Michigan Sales Tax",null,"LPI","Attn: L Pappas","2325 N Wayne Ave",null,null,"Chicago","IL","60614"]
["Ludington DPW, City of","Julie Ledger",null,"231-843-2138",null,null,null,null,"Non-Tax Municipality/Utility",null,"Ludington DPW, City of","Attn:Julie Ledger","975 -- 1st Street",null,null,"Ludington","MI","49431"]
["Ludington DPW, City of (Ledger)","Julie Ledger",null," 231-843-2138",null,null,null,null,null,"Met with Julie yesterday\n-works at the DPW until noon daily, and then is at the City Hall for the rest of the day\n-left samples of V2G, Ztek, Exeter and Montego\n-she was very interested in our pricing and products\n-currently uses Northern Safety and Safety Products","Ludington DPW, City of","975 -- 1st Street",null,null,null,"Ludington","MI","49431","Mrs.","Ledger","Buyer/Office Manager","Municipal, Cty","Mason"]
["Ludington DPW, City of (McDonald)","Shawn McDonald",null," 231-843-2138",null,null,null,null,null,"Shawn is impossible to reach to set an appointment\nJulie Ledger is his assistant and is best to set appts. with Shawn thru","Ludington DPW, City of","975 -- 1st Street",null,null,null,"Ludington","MI","49431","Mr.","McDonald","Superintendent","Municipal, Cty","Mason"]
["Ludington Water Filtration Plant, City of","Kurt Malzahn",null,"231-843-8830",null,"231-845-1146","kmalzahn@ci.ludington.mi.us",null,"Non-Tax Municipality/Utility",null,"Ludington Water Filtration Plant, City of","501 North Lakeshore Drive",null,null,null,"Ludington","MI","49431"]
["Ludington WWTP, City of (Beadle)","Doug Beadle",null," 231-843-3190",null,null,null,null,null,"All buying is done by Kurt, Doug is not a buyer, strictly a contact","Ludington WWTP, City of","West 6th Street",null,null,null,"Ludington","MI","49431","Mr.","Beadle","Superintendent","Municipal, Cty","Mason"]
["Luedtke Engineering Company (Luedtke)","Paul Luedtke",null," 231-352-9631 16",null," 231-352-7178","luedtkeeng@yahoo.com",null,null,"John Keillor mob 231.620.8464  has MSA Solaris. wants training.\nTom Zatkovic x19; Vanessa Mills x11","Luedtke Engineering Company","10 Fourth Street","PO Box 111",null,null,"Frankfort","MI","49635-0111","Mr.","Luedtke","Safety Manager","Contractor General","Benzie"]
["Luna Glow USA, Inc. (Smith)","Jim Smith",null," 925-558-2738",null," 925-558-2739","lunaglowusa@aol.com",null,null,null,"Luna Glow USA, Inc.","11501 dublin Blvd.","Unit 200-31",null,null,"Dublin","CA","94568","Mr.","Smith","Representative","Supplier","N/A"]
["LW Lamb Co.","Acct'ing Marsha",null,"269-857-3228",null,"269-857-4617",null,null,"Michigan Sales Tax","John Lamb - ext.107\nSteve Khodl - ext. 108\nKris Lamb - cell: 616-460-4153","LW Lamb Co.","Attn: Steve Khodl","6090 Blue Star Hwy.",null,null,"Saugatuck","MI","49453"]
["LW Lamb, Inc. (Khodl)","Steve Khodl",null," 269-857-3228 108",null," 269-857-4617",null,null,null,null,"LW Lamb, Inc.","6090 Blue Star Hwy.",null,null,null,"Saugatuck","MI","49453","Mr.","Khodl","Foreman","Bridge, Highway Construction","Alegan"]
["LW Lamb, Inc. (Lamb)","John Lamb",null," 269-857-3228 107",null," 269-857-4617","gobridges@hotmail.com",null,null,"Chris Lamb 616.460.4153","LW Lamb, Inc.","6090 Blue Star Hwy.",null,null,null,"Saugatuck","MI","49453","Mr.","Lamb","Co-Owner","Bridge, Highway Construction","Alegan"]
["Lyndrup Construction",null,null,"616-835-6091",null,null,null,null,"Michigan Sales Tax",null,"Lyndrup Construction","Attn: Dan Lyndrup","Grand Rapids, MI",null,null,"Greenville","MI","48838"]
["Lynn Masonry (Van Houten)","Mark Van Houten",null," 616-642-9300",null,null,"markv@lynnmasonry.com",null,null,"Terry Lynn 616.282.3869, Josh Irving 616.902.1582\nGretchen handles A/P 616.642.9300","Lynn Masonry","6352 E. Fulton, Ste A","PO Box 5",null,null,"Ada","MI","49301","Mr.","Van Houten","Maintenance Supervisor","Contractor General","Kent"]
["Lyons Industries Inc.","Martha Sanchez",null,"269-782-3404",null,"269-782-5159",null,null,"Michigan Sales Tax",null,"Lyons Industries Inc.","Attn: Martha Sanchez","30000 M62 West",null,null,"Dowagiac","MI","49047"]
["M & R Consulting Group, LLC (Renkowski)","Tamara Renkowski",null," 269-521-4430",null," 269-521-3446","mrcgroup@aol.com",null,null,null,"M & R Consulting Group, LLC","381 -- 39th Street",null,null,null,"Allegan","MI","49010","Ms.","Renkowski","CiH, LIH","Contractor EH&S","Allegan"]
["M.S.I. Construction Co. (Barnhard)","Warren Barnhard",null," 231-750-5388",null,null,null,null,null,null,null,null,null,null,null,"M.S.I. Construction","CO",null,"Mr.","Barnhard","Owner","Contractor General","Muskegon"]
["M.S.U. (Biosystems Engineering)","Timothy Harrigan",null,"517-449-7272",null,null,null,null,"NTU",null,"M.S.U. (Biosystems Engineering)","Attn: Timothy Harrigan","225 Farall Hall","Shaw Lane",null,"East Lansing","MI","48824"]
["M.S.U. (Van Andel Inst.)","Susan  / Carol Fortwell",null,"513-319-6686",null,null,null,null,"NTU"]
["M.S.U. - Civil & Enviro. Engineering","William Taylor","Mary Morz","517-353-7161","517-355-5107","517-432-1827",null,null,"Non-Tax",null,"M.S.U. - Civil & Enviro. Engineering","William Taylor","3546 Engineering Building",null,null,"East Lansing","MI","48824","Mr.","Taylor"]
["Macatawa Holdings LLC -- Praxis Packaging","Samantha Semrau",null," 616-827-8525",null," 616-827-1552","ssemrau@praxispackaging.com",null,null,"was with Litehouse in Lowell","Macatawa Holdings LLC -- Praxis Packaging","7650 Caterpillar SW",null,null,null,"Grand Rapids","MI","49548","Ms.","Semrau",null,"Manufacturer","Kent"]
["Macatawa Plumbing, LLC (Vanderzwaag)","Nathan Vanderzwaag",null," 616-772-0388",null," 616-772-0998",null,null,null,null,"Macatawa Plumbing, LLC","10702 Chicago Dr.",null,null,null,"Zeeland","MI","49464","Mr.","Vanderzwaag","Manager","Contractor General","Allegan"]
["MacLellan Integrated Services",null,"Tim Harker","812-387-4753 Tim-desk","812-779-6341 Tim-cell","812-387-4759",null,null,"Out of State",null,"MacLellan Integrated Services","Attn:","4000 Tulip Tree Drive",null,null,"Princeton","IN","47670"]
["MacLellan Integrated Services (Burden)","Jeff Burden",null," 812-387-4752",null," 812-387-4759","jburden@maclellanusa.com",null,null,null,"MacLellan Integrated Services","4000 Tulip Tree Drive",null,null,null,"Princeton","IN","47670","Mr.","Burden",null,"Manufacturer","Out of State"]
["MacMillan Associates, Inc. (Reckinger)","Douglas F. Reckinger",null," 989-894-4300",null," 810-232-7230","dreckinger@macmillanassociates.com",null,null,null,"MacMillan Associates, Inc.","714 East Midland Street",null,null,null,"Bay City","MI",null,"Mr.","Reckinger","Engineer","Engineering, Architecture","Bay"]
["Macomb Pipe and Supply","Cheryl Pozzuoli",null,"586-274-4100",null,"586-274-4125",null,null,"Non-Tax",null,"Komo Trans. #05305","PO 1087241 Vend#22615","2401 South Reed Road","Dept 4340",null,"Kokomo","IN","46901"]
["Macomb Wholesale Supply Corp.",null,"Jeff David","586-415-7400",null,"586-415-7404",null,null,"Michigan Sales Tax",null,"Macomb Wholesale Supply Corp.","Attn:","17730 E. 14 Mile Road",null,null,"Fraser","MI","48026"]
["Madison Township Fire - EMS",null,null,"614-837-7883",null,"614-836-0716",null,null,"Michigan Sales Tax",null,"Madison Township Fire - EMS","Attn:","4567 Firehouse Ln.",null,null,"Groveport","OH","43125"]
["Madison Township Fire Department (Pallos)","Capt. Chris Pallos",null," 614-837-7883",null," 614-837-5147","cpallos@madisontownship.org",null,null,"Spoke w/ Lt. Willard (Woody) Hoffer","Madison Township Fire Department","4567 Firehouse Lane",null,null,null,"Groveport","OH","43125",null,"Pallos",null,"Fire Department","Out of State"]
["Magna Closures","Melanie Johnston",null,"905-898-6744 x2121",null,"905-898-5609",null,null,"OUT OF COUNTRY",null,"Magna Closures","Attn: Derek Reinsma","521 Newpark Blvd.",null,null,"Newmarket","ON","L3Y 4X7","Ms.","Johnston"]
["Magna Closures (Johnston)","Melanie Johnston",null," 905-898-6744 2121",null," 905-898-5609","melanie.johnston@magnaclosures.com",null,null,null,"Magna Closures","521 Newpark Blvd.",null,null,null,"Newmarket","ON","L3Y 4X7","Ms.","Johnston",null,"Automotive","Out of State"]
["Magna Electric Corp.","Kim Green",null,"248-486-7370",null,"248-486-7380",null,null,"Michigan Sales Tax",null,"Magna Electric Corp.","Attn: Kim Green","29555 Costello Dr.",null,null,"New Hudson","MI","48156"]
["Magna Exteriors & Interiors ( Salisbury)","Maureen Lynch",null,"704-645-2145",null,"704-637-0344",null,null,"Michigan Sales Tax",null,"Magna Exteriors & Interiors ( Salisbury)","Attn: Maureen Lynch","Salisbury Decoma Composites","6701 Statesville Boulevard",null,"Salisbury","NC","28147"]
["Magna Mirrors (Moore)","Paul Moore",null," 616-827-3677",null," 616-554-8983","paul.moore@magnamirrors.com",null,null,"Referral from Weathershield\n-needs rooftop fall protection in the form of barricading, perimeter marking, permanent and fixed guardrails; went to GVSU and worked with D. Cox","Magna Mirrors","6151 Bancroft Ave.",null,null,null,"Alto","MI","49302","Mr.","Moore","EHS Specialist","Automotive","Kent"]
["Magna Mirrors (Newaygo)","Jill McDonald",null,"231-652-4450","231-652.4695","a/p 231.652.4594","jill.mcdonald@magnamirrors.com",null,"Non-Tax","A/P rep was Steve Mullenhoff?\nA/P Jackie Butler for Grand Haven  fax 231.652.4383\n\nA/P is Jill McDonald 231.652.4594 (Newago Invs to her)\nEMAIL ALL INVOICES TO jill.mcdonald@magnamirror.com\n\n","Magna Mirror PO# 110538211","700 South Park Drive",null,null,null,"Newago","MI","49337","Ms.","McDonald"]
["Magna-Donnelly (George)","Lori George",null," 616-786-6067",null,null,"lori.george@magnadon.com",null,null,"Showed PPE, set up terms w/her, quote PPE\nEric Van Der Kooi  616.786.5082 128th South. Lori 128th North","Magna-Donnelly","3401 -- 128th Avenue",null,null,null,"Holland","MI","49424","Ms.","George","EH&S Manager","Automotive","Ottawa"]
["Magna-Donnelly Corp. (Groenevelt)","Tim Groenevelt",null," 231-652-4581",null," 231-652-8409","tim.groenevelt@magnadon.com",null,null,null,"Magna-Donnelly Corp.","700 South State Street",null,null,null,"Newaygo","MI","49337","Mr.","Groenevelt","Maintenance Teachnician","Automotive","Newaygo"]
["Magna-Donnelly Corp. (Latsch)","Bill Latsch",null," 231-652-8432",null," 231-652-8409","bill.latsch@magnamirrors.com",null,null,"Mitchell Geertz 616.786.7107 for A/P","Magna-Donnelly Corp.","700 South State Street",null,null,null,"Newaygo","MI","49337","Mr.","Latsch","Maintenance Manager","Automotive","Newaygo"]
["Magna-Donnelly Corp. (Point-2-Point) (Gra","Tomas Grandy",null," 231-652-8425",null," 231-652-8409","t.grandy@mrosoup.com",null,null,null,"Magna-Donnelly Corp. (Point-2-Point)","700 South State Street",null,null,null,"Newaygo","MI","49337","Mr.","Grandy",null,"Automotive","Newaygo"]
["Malcolm Pirnie (Kozak)","Erin Kozak",null," 517-324-5053",null,null,"ekozak@pirnie.com",null,null,null,"Malcolm Pirnie",null,null,null,null,"Lansing","MI",null,"Ms.","Kozak",null,"Contractor EH&S","Ingham"]
["Mall City Mechanical, Inc.",null,"Jeff Dey","616-453-5483","616-893-5300 cell","616-453-7111",null,null,"Use Tax Rental",null,"Mall City Mechanical, Inc.","Attn:","3325 Three Mile Road NW",null,null,"Grand Rapids","MI","49534"]
["Mall City Mechanical, Inc. (Dey)","Jeff Dey",null," 616-453-5483",null," 616-453-7111",null,null,null,null,"Mall City Mechanical, Inc.","3325 Three Mile Road NW",null,null,null,"Grand Rapids","MI","49534","Mr.","Dey","Project Coordinator","Contractor HVAC","Kent"]
["Management & Marketing Resources, Inc.","Marie Rafik",null,"312-440-0927",null,"312-440-6934",null,null,"NonTx Re-Sale",null,"Management & Marketing Resources, Inc.","Attn: Marie Rafik","900 North Lake shore Drive","Suite 2709",null,"Chicago","IL","60611"]
["Manistee County Road Commission (Johnson)","Art Johnson",null," 231-889-0044",null," 231-889-0011",null,null,null,"Charlie is the Safety contact","Manistee County Road Commission","8946 Chippewa Highway",null,null,null,"Bear Lake","MI","49614","Mr.","Johnson","Purchasing Agent","Municipal, Cty","Manistee"]
["Manistee DPW, City of (Garber)","Jack Garber",null," 231-723-3641"," 231-723-7132"," 231-723-1803","jgarber@ci.manistee.mi.us",null,null,null,"Manistee DPW, City of","280 Washington Street","PO Box 358",null,null,"Manistee","MI","49660","Mr.","Garber","Superintendent","Municipal, Cty","Manistee"]
["Manistee WWTP, City of (Cote)","Ed Cote",null," 231-723-1553",null,null,"ecote@ci.manistee.mi.us",null,null,"Ed (coat-tee) also takes care of distribution.","Manistee WWTP, City of","53 -- 9th Street",null,null,null,"Manistee","MI","49660","Mr.","Cote","Superintendent","Municipal, Cty","Manistee"]
["Marathon Petroleum Co. (McCants)","Michael McCants",null," 985-535-7270",null," 985-535-7445","mkmccants@marathonpetroleum.com",null,null,null,"Marathon Petroleum Co.","PO Box AC",null,null,null,"Garyville","LA","70051","Mr.","McCants","Chemist","Petroleum Related","Out of State"]
["Marcum Pump & Equipment","David Hall",null,"304-429-4386",null,null,null,null,"Out of State",null,"Marcum Pump & Equipment","Attn:","1525R Washington Avenue",null,null,"Huntington","WV","25704"]
["Mark IV Automotive (Pritchard)","Jamie Pritchard",null," 231-796-2691 229",null," 231-796-8533","jamie_pritchard@markivauto.com",null,null,null,"Mark IV Automotive","Big Rapids Fuel System Business Unit","600 Dekrafft",null,null,"Big Rapids","MI","49307","Mr.","Pritchard","EHS Manager","Automotive","Mecosta"]
["MarketForce Incorporated (Kazyak)","Kurt Kazyak",null," 248-960-7293"," 740-622-6808"," 248-960-4705","kkazyak@marketforceinc.net",null,null,null,"MarketForce Incorporated","1463 Chanticlair Circle",null,null,null,"Wixom","MI","48393","Mr.","Kazyak","Manufacter's Rep","Representative","Oakland"]
["Martin Anderson","Martin Anderson",null,"616-822-5811",null,"616-887-3993",null,null,"Michigan Sales Tax",null,"Martin Anderson","7039 Chanterellene",null,null,null,"Belmont","MI","49306","Mr.","Anderson"]
["Martin Marietta Magnesia Specialties","Tom Greve",null,"231-723-1321",null,"231-723-1240",null,null,"Michigan Sales Tax",null,"Martin Marietta Magnesia Specialties","Tom Greve","1800 nEastlake Rd.","PO Box 398",null,"Manistee","MI","49660","Mr.","Greve"]
["Martin Marietta Magnesia Specialties (Gre","Thomas A. Greve",null," 231-723-1321 1321",null," 231-723-1240","tom.greve@martinmarietta.com",null,null,null,"Martin Marietta Magnesia Specialties","1800 Eastlake Road","PO Box 398",null,null,"Manistee","MI","49660","Mr.","Greve","Safety Engineer","Mining","Manistee"]
["Marysville DPW, City of (Washburn)","Brian Washburn",null," 810-364-8340",null," 810-364-2824",null,null,null,null,"Marysville DPW, City of","PO Box 389",null,null,null,"Marysville","MI","48040","Mr.","Washburn","Supervisor","Municipal, Cty","St. Clair"]
["Marysville Ethanol, LLC","Frank Rasmussen",null,"810-364-8100",null,null,null,null,"Non-Tax",null,"Marysville Ethanol, LLC","Attn:","2510 Busha Highway",null,null,"Marysville","MI","48040"]
["Marysville Gas Liquids",null,null,"810-364-8100",null,"810-364-4712",null,null,"Michigan Sales Tax","\nFrank Rasmussen - 810-388-2082 Direct","Marysville Gas Liquids","Attn: Frank Rasmussen","2510 Busha Highway",null,null,"Marysville","MI","48040"]
["Marysville Hydrocarbon (Rasmussen)","Frank Rasmussen",null," 810-388-2082",null," 810-364-4712","frasmussen@marysvillehc.com",null,null,null,"Marysville Hydrocarbon","2510 Busha Hwy",null,null,null,"Marysville","MI","48040","Mr.","Rasmussen",null,"Petroleum Related","St. Clair"]
["Masco Corporation (O'Donnell)","Neil O'Donnell",null," 313-792-4122",null," 313-792-6787","neil_o'donnell@mascohq.com",null,null,null,"Masco Corporation","21001 Van Born Road",null,null,null,"Taylor","MI","48180","Mr.","O'Donnell","Purchasing","Automotive","Wayne"]
["Mason County Drain Commission (Rohde)","Dan Rohde",null," 231-757-9366",null," 231-757-9384","drohde@mason.net",null,null,null,"Mason County Drain Commission","102 E. Fifth St.",null,null,null,"Scottville","MI","49454","Mr.","Rohde","Drain Maintenance Technician","Municipal, Cty","Mason"]
["Mason County Road Commission (Ditmar)","Gary Ditmar",null," 231-757-2882",null,null,null,null,null,null,"Mason County Road Commission","510 E. State St.",null,null,null,"Scottville","MI","49454","Mr.","Ditmar","Superintendent/Director","Municipal, Cty","Mason"]
["Mason County Road Commission (Durfee)","Jim Durfee",null," 231-757-2882",null,null,null,null,null,"Spoke with Jim on the phone, met his counterpart(Terry) who was nice\n-Jim does the","Mason County Road Commission","510 E. State St.",null,null,null,"Scottville","MI","49454","Mr.","Durfee","Storekeeper","Municipal, Cty","Mason"]
["Mason DPW, City of (Baker)","Ken Baker",null," 517-676-1319"," 517-676-9266"," 517-676-4511",null,null,null,"Supt. Joe Dean; WWTP Supr Jim King; 517.676.1166; Cemeteries Larry Schmidt\nHas GX2001's","Mason DPW, City of","435 N. Jefferson Street",null,null,null,"Mason","MI","48854-0370","Mr.","Baker","Supervisor","Municipal, Cty","Ingham"]
["Massanutten Public Service Corp.","Larry Huff",null,"540-289-7088",null,"540-289-6173",null,null,"Out of State",null,"Massanutten Public Service Corp.","Attn:","1550 Resort Road (Hwy644)",null,null,"Mcgaheysville","VA","22840"]
["Mastech Manufacturing, Inc (Holcombe)","Roxanne Holcombe",null," 231-398-3328",null,null,null,null,null,null,"Mastech Manufacturing, Inc","100 Glocheski Dr.",null,null,null,"Manistee","MI","49660","Mrs.","Holcombe","Safety/HR","Wind Energy Manufacturing","Manistee"]
["Master Packaging Inc. (Callaghan)","Shawn Callaghan",null," 902-437-3742",null,null,"callaghan.shawn@master-packaging.com",null,null,null,"Master Packaging Inc.","23784 Trans Canada Highway",null,null,null,"Borden","PE","C0B 1X0","Mr.","Callaghan","Health & Safety","Paper","Out of State"]
["MasterTag (Rice)","Greg Rice",null," 231-894-5651",null,null,null,null,null,null,"MasterTag","9751 US Highway 31",null,null,null,"Montague","MI","49437","Mr.","Rice","Maintenance Lead","Tag Printing and Cutting","Muskegon"]
["Mastronardi Produce","Courtney Whitfield",null,"734-727-0929",null,null,null,null,"Michigan Sales Tax",null,"Mastronardi Produce","Attn: Courtney Whitfield","6505 Congswell Rd.","Suite 200",null,"Romulus","MI","48174"]
["Material Testing Consultants (GR)",null,"Jocelyn Sabin - Accts Pay","800-968-8378",null,"616-456-5784","jsabin@mateco.com",null,"Use Tax Rental","Gabreil Lopez\nTeresa Eilers\nNelzar Coulter\nScott Thompson\nNick Fransted\nTodd Munger - cell:  616-813-8963\nPaul Stacks 608-1532\nRobert VanDyke\nJoel Voogt\nRyan Snook\nSteve Young - 608-1529","Material Testing Consultants (GR)","Attn:","693 Plymouth NE",null,null,"Grand Rapids","MI","49505"]
["Material Testing Consultants (Livonia)",null,"Jim Kukalis","248-588-6200","734-216-2024","248-588-6332",null,null,"Michigan Sales Tax",null,"Material Testing Consultants","Attn:","13600 Meriaman Road",null,null,"Livonia","MI","48150"]
["Materials Resources","Craig Kinne",null,"269-983-6361",null,"269-983-2973",null,null,"NonTx Re-Sale",null,"Materials Resources","Attn:PO 4029182","815 Lester Ave.",null,null,"St. Joseph","MI","49085"]
["Materials Testing Consultants, Inc. (Elli","Steve Elliott",null," 616-456-5469",null," 616-456-5784","syoung@mateco.com",null,null,"Joyce Elliott; \nSteve Young, Envl Mgr\nLisa Kirby HUMR, buys PPE.\nBrian Miller CMT Field Dept. Mgr.\nChris Kestner mob 616.292.0518\nDarrin Gehler mob 616.293.7036\nAaron Zimmerman 616.456.5469; mob 616.292.6293 re: 5-yr life on fall ppe","Materials Testing Consultants, Inc.","693 Plymouth NE",null,null,null,"Grand Rapids","MI","49505","Mr.","Elliott",null,"Contractor EH&S","Kent"]
["Materials Testing Consultants, Inc. (Mung","Todd Munger",null," 616-456-5469",null," 616-456-5784","tmunger@mateco.com",null,null,null,"Materials Testing Consultants, Inc.","693 Plymouth NE",null,null,null,"Grand Rapids","MI","49505","Mr.","Munger",null,"Contractor EH&S","Kent"]
["Materials Testing Consultants, Inc. (O'Br","John O'Brock",null," 616-456-5469",null," 616-456-5784","jobrock@mateco.com",null,null,null,"Materials Testing Consultants, Inc.","693 Plymouth NE",null,null,null,"Grand Rapids","MI","49505","Mr.","O'Brock",null,null,"Kent"]
["Materials Testing Consultants, Inc. (Youn","Stephen Young",null," 616-456-5469",null," 616-456-5784",null,null,null,null,"Materials Testing Consultants, Inc.","693 Plymouth NE",null,null,null,"Grand Rapids","MI","49505","Mr.","Young","Environmental Department Manag","Contractor EH&S","Kent"]
["Maxim Nitro",null,null,"304-755-1033",null,null,null,null,"Michigan Sales Tax",null,"Maxim Nitro","Attn: Gary Big","101 Independent Ave.",null,null,"Nitro","W V","25143"]
["McBain Power Station",null,null,"231-825-2772",null,"231-825-8024",null,null,"Michigan Sales Tax","Dean Taylor - ext. 14, cell: 231-920-5520","McBain Power Station","Attn:Dean Taylor","6751 West Gerwoude Drive",null,null,"McBain","MI","49657"]
["McCoig Co. Michigan Foundation Co. (Kelle","Gary Kelley",null," 734-326-8200",null," 734-326-3504","gkelley@mccoig.biz",null,null,null,"McCoig Co. Michigan Foundation Co.","5501 Cogswell Road",null,null,null,"Wayne","MI","48184","Mr.","Kelley","Plant Manager","Mining","Wayne"]
["McCoig Co. Michigan Foundation Co. (Schmi","Joseph Schmidt",null," 313-531-1880",null," 313-531-3587","jschmidt@mccoig.biz",null,null,null,"McCoig Co. Michigan Foundation Co.","24940 Plymouth Road",null,null,null,"Redford","MI","48239","Mr.","Schmidt","Plant Manager","Mining","Wayne"]
["McCoig Co. Michigan Foundation Co. (Schwa","Michael Schwartz",null," 313-368-1133",null," 313-368-5397","mschwartz@mccoig.biz",null,null,null,"McCoig Co. Michigan Foundation Co.","500 E. 7 Mile Road",null,null,null,"Detroit","MI","48203","Mr.","Schwartz","Plant Manager","Mining","Wayne"]
["McCoig Co. Michigan Foundation Co. (Stref","David Strefling",null," 313-921-6233",null," 313-921-5121","dstrefling@mccoig.biz",null,null,null,"McCoig Co. Michigan Foundation Co.","6618 French Road",null,null,null,"Detroit","MI","48213","Mr.","Strefling","Plant Manager","Mining","Wayne"]
["McCoig Co. Michigan Foundation Co. (Toth)","Chris Toth",null," 734-282-9104",null," 734-282-9786","ctoth@mccoig.biz",null,null,"Brian Gray 734.341.0256","McCoig Co. Michigan Foundation Co.","1 West Jefferson",null,null,null,"Trenton","MI","48183","Mr.","Toth","Plant Manager","Mining","Wayne"]
["McCoig Materials (7 Mile)",null,"Michael Schwartz","313-368-1133",null,"313-368-5397",null,null,"Michigan Sales Tax",null,"McCoig Materials (7 Mile)","Attn:","500 East 7 Mile Road",null,null,"Detroit","MI","48203"]
["McCoig Materials (French Rd)",null,"David Strefling","313-921-6233",null,"313-921-5121",null,null,"Michigan Sales Tax",null,"McCoig Materials (French Rd)","Attn:","6618 French Road",null,null,"Detroit","MI","48213"]
["McCoig Materials (Primo/Brownstown)","800-3231870",null,null,null,null,null,null,"Michigan Sales Tax","Chris Toth - Plant Mgr.\n\nMain Office physical address:\n4050 Ann Arbor Road\nPlymouth, MI 48170","McCoig Materials (Primo/Brownstown)","Attn:","20060 Sibley Road",null,null,"Brownstown Twp","MI","48193"]
["McCoig Materials (Redford)",null,"Joseph Schmidt","313-531-1880",null,"313-531-3587",null,null,"Michigan Sales Tax",null,"McCoig Materials (Redford)","Attn:","24940 Plymouth Road",null,null,"Redford","MI","48239"]
["McCoig Materials (Spring Wells)","Brian Gray",null,"734-341-0256",null,"313-849-2449",null,null,"Michigan Sales Tax",null,"McCoig Materials (Spring Wells)","Attn: Brian Gray","1441 Spring Wells Ct.",null,null,"Detroit","MI","48209"]
["McCoig Materials (Trenton)",null,"Chris Toth","734-282-9104",null,"734-282-9786",null,null,"Michigan Sales Tax",null,"McCoig Materials (Trenton)","Attn:","1 West Jefferson",null,null,"Trenton","MI","48183"]
["McCoig Materials (Wayne)",null,"Gary Kelly","734-326-8200",null,"734-326-3504",null,null,"Michigan Sales Tax",null,"McCoig Materials (Wayne)","Attn:","5501 Cogswell Road",null,null,"Wayne","MI","48184"]
["McCormick Sand, Inc.","Joel McCormick",null,"231-766-0466",null,"231-766-5162",null,null,"Michigan Sales Tax",null,"McCormick Sand, Inc.","5430 Russell Rd.",null,null,null,"Twin Lake","MI","49457"]
["McElwee Electric Inc. (McElwee)","Gene McElwee",null," 616-454-7788",null,null,"esmcelwee@comcast.net",null,null,null,"McElwee Electric Inc.","560 Oakland SW",null,null,null,"Grand Rapids","MI","49503","Mr.","McElwee",null,"Contractor Electrical","Kent"]
["McFarling Foods, Inc. (Dudek)","Steve Dudek",null," 317-635-2633",null,null,"smd@mcfarling.com",null,null,null,"McFarling Foods, Inc.","333 West 14th Street",null,null,null,"Indianapolis","IN","46202-2204","Mr.","Dudek",null,"Food","Out of State"]
["McGean Specialty Chemicals","Mark Merrell",null,"216-441-4900",null,"216-441-1377","mark.merrell@mcgean.com",null,"OH Cuyahoga CO",null,"McGean Specialty Chemicals","Attn: Mark Merrell","2910 Harvard Ave.",null,null,"Cleveland","OH","44105"]
["McHenry Knitting & Manufacturing (McHenry","Bob McHenry",null," 260-824-8146",null," 260-824-8995","mchenryknitting@adamswells.com",null,null,"Kent Rupp supplier of Spray Socks, Kevlar sleeves\nNet 30  1%10  Free Shipment at $2,000","McHenry Knitting & Manufacturing","1325 W. Wiley Avenue",null,null,null,"Bluffton","IN","46714","Mr.","McHenry","President","Supplier","Out of State"]
["McLaughlin & Associates Company, Inc.","Chris Timko",null,"440-333-3730",null,"440-333-8778",null,null,"Non-Tax Municipality/Utility",null,"McLaughlin & Associates Company, Inc.","Fabrizi Trucking PO 8993","6751 Eastland Rd.",null,null,"Middleburg Hts","OH","44130"]
["McLouth Welding and Excavating (McLouth)","Robert McLouth",null," 231-864-2283",null,null,null,null,null,null,"McLouth Welding and Excavating","18374 Pleasanton Hwy.",null,null,null,"Bear Lake","MI","49614","Mr.","McLouth","Owner","Welding and Excavating","Manistee"]
["Mead Johnson Nutritionals","Verne Bush",null,"616-748-7105",null,"616-748-7253",null,null,"Michigan Sales Tax",null,"Mead Johnson Nutritionals","Attn: Verne Bush","725 East Main Street",null,null,"Zeeland","MI","49464"]
["Mead Johnson Nutritionals (Joelson)","Tom Joelson",null," 616-748-7172",null," 616-748-7252","thomas.joelson@bms.com",null,null,"Keith Moore Safety Stores; \nMichael Monaghan is EH&S Mgr.  mob 616.283.9509 michael.monaghan@bms.com\nmet with showed G.E.M.S. liked much-quoted","Mead Johnson Nutritionals","725 East Main Street",null,null,null,"Zeeland","MI","49464","Mr.","Joelson","EH&S Facilitator","Food","Ottawa"]
["Mead Johnson Nutritionals (Monaghan)","Mike Monaghan",null," 616-748-7222",null," 616-748-7133","michael.monaghan@bms.com",null,null,null,"Mead Johnson Nutritionals","725 East Main Street",null,null,null,"Zeeland","MI","49464",null,"Monaghan","EH&S Manager","Food","Ottawa"]
["Mears Group","618-667-9059 accounting","Kevin Parker / Kelli Edwards",null,"Terisa Bartell ext. 1","989-433-5858","nicole.shelton@mears.net",null,"Michigan Sales Tax","Any repairs over $300 per instrument, please contact Terisa, otherwise the repairs are pre-approved.\n\nKelly fax: 989-433-5858\n~~~~~~~~~~~~~~~~~~~~~~~~~~\n05/22/2009:  per Kelly McIntyre-Yarch\nAcct# \n~~~~~~~~~~~~~~~~~~~~~~~~~~\n\nTerisa Bartell:  Direct: 989-433-5106, cell: 989-414-5769\nKelly McIntrye-Yarch: 989-433-5119\n  kelly.mcintrye-yarch@mears.net\nKyle Robinson:  All other detector service contact\n\nEmail invoices to nicole.shelton@mears.net","Mears Group","Attn: Kelly McIntyre-Yarch","4500 North Mission Rd.",null,null,"Rosebush","MI","48878"]
["Mears Group (Bartell)","Terisa Bartell",null," 989-433-2929",null," 989-433-5858","terisa.bartell@mears.net",null,null,"Kyle Robinson mob 847.420.1792 kyle.robinson@mears.net  handling BW's from here on\nQuoted Hardigg case  im2050-0001 c$28.33 pp $44.50\nGary Osborn gary.osborn@mears.net  mob 630.715.3245  o 989.433.5140","Mears Group","4500 N. Mission Road",null,null,null,"Rosebush","MI","48878","Ms.","Bartell",null,"Petroleum Related","Isabella"]
["Mears Group (Parker)","Kevin Parker",null," 989-433-2929",null," 989-433-5858","kevin.parker@mears.net",null,null,"Kelli Edwards","Mears Group","4500 N. Mission Road",null,null,null,"Rosebush","MI","48878","Mr.","Parker",null,"Petroleum Related","Isabella"]
["Mears Group (San Ramon)","Terisa Bartell",null,"989-433-2929x-150","acctng 618-667-3059",null,null,null,"Michigan Sales Tax",null,"Mears Group (San Ramon)","Attn: Dwight Clay","2021 Omega Rd. Suite 110",null,null,"San Ramon","CA","94583"]
["Mechanical Concepts","Joe Meyer","Tim Emmons","800-882-4313","616-262-4537",null,null,null,"Use Tax Rental",null,"Mechanical Concepts","Attn:","2396 - 17 Mile Road NE",null,null,"Cedar Springs","MI","49319"]
["Mechanical Concepts (Emmons)","Tim Emmons",null," 800-882-4313",null," 616-887-3632",null,null,null,null,"Mechanical Concepts","2396 17 Mile Road NE",null,null,null,"Cedar Springs","MI","49319","Mr.","Emmons",null,"Contractor General","Kent"]
["Mechanical Concepts (Meyer)","Joe Meyer",null," 800-882-4313",null," 800-882-6934",null,null,null,"9 on staff. Also, Tim Emmons and dad Daryl Meyer  Jeff","Mechanical Concepts","2396 17 Mile Road NE",null,null,null,"Cedar Springs","MI","49319","Mr.","Meyer",null,"Contractor General","Kent"]
["Mechanical Controls Maintenance Inc. (Dal","Mike Daly",null," 586-726-7500 106",null,null,"mdailey@mcmi.net",null,null,null,"Mechanical Controls Maintenance Inc.","6540 Diplomat Drive",null,null,null,"Sterling Heights","MI","48314","Mr.","Daly",null,"Contractor General","Oakland"]
["Mecosta County Road Commission (Simon)","Mike Simon",null," 231-796-2611",null," 231-796-5287",null,null,null,"Demo'd PPE. Quote Kinco, Onguard/Bata rain suits.","Mecosta County Road Commission","120 N. DeKrafft",null,null,null,"Big Rapids","MI","49307","Mr.","Simon","Maintenance Supervisor","Municipal, Cty","Mecosta"]
["Medallion Instrumentation Systems (Munich","Lenord Munich",null," 616-847-3700",null," 616-842-7114",null,null,null,null,"Medallion Instrumentation Systems","17150 Hickory Street",null,null,null,"Spring Lake","MI","49546","Mr.","Munich","Safety Manager","Manufacturer","Ottawa"]
["Medtronic, Inc. (Grand Rapids)",null,null,"616-913-1556",null,"616-913-1551",null,null,"Michigan Sales Tax","Thomas Campbell - emal: tom.e.campbell@medtronic.com","Medtronic, Inc. (Grand Rapids)","Attn:","520 Watson SW",null,null,"Grand Rapids","MI","49504"]
["Meijer (Case)","Mike Case",null," 616-791-5836",null," 616-791-3239","casem@meijer.com",null,null,"sent info on Agile and Wrist Wand  contact in 2005 to demo.  Yolanda Curlin?","Meijer","2929 Walker",null,null,null,"Grand Rapids","MI","49544","Mr.","Case","Safety Manager","Food","Kent"]
["Meijer (Miller)","Sherri Miller",null," 616-791-5910",null," 616-791-3239","sherri.miller@meijer.com",null,null,null,"Meijer","2929 Walker NW",null,null,null,"Grand Rapids","MI","49544","Ms.","Miller","Safety Manager","Food","Kent"]
["Meijer Central Kitchen","Mike Rousscan",null,"574-825-6840",null,null,null,null,"Out of State","3/22/11 Credit card is 5569.2600.0363.1209 ex 08/12\nbill to add. 2929/49544\nname on card is Terri J VanMater\nbefore running card call Stephanie 574-825-6903\nemail receipt to stephanie.sequin@meijer.com and to mike.rousseau@miejer.com\nMichael's # is 574-825-6840","Meijer Central Kitchen","Attn:","536 North Main Street",null,null,"Middlebury","IN","46540"]
["Meijer Central Kitchens (Rousseau)","Michael Rousseau",null," 574-825-6840",null,null,"mike.rousseau@meijer.com",null,null,"Victor Strama Director of Bakery Mfg victor.strama@meijer.com\nCorky Wong corky.wong@meijer.com\nThomas Hagge Bakery Production Manager thomas.hagge@meijer.com","Meijer Central Kitchens","536 N. Main Street",null,null,null,"Middlebury","IN","46540","Mr.","Rousseau","Facility Maintenance","Food","Out of State"]
["Mercer Landmark Inc.","Ben Snyder / Linsey Hasner",null,"419-263-2351",null,null,null,null,"Out of State",null,"Mercer Landmark Inc.","Attn:","225 N. Laura Street",null,null,"Payne","OH","45880"]
["Mercy Health Partners","buyer Steven Adams",null,"231-672-4658",null,null,null,null,"Non-Tax","net 30 with 1000 limit\ncredit references came back one good, one bad , one no response. 3/23/10","Mercy Health Partners","Hackley Campus  PO# 104019A","1700 Clinton St.",null,null,"Muskegon","MI","49443"]
["Meridian Automitive Systems GR Plant 5",null,null,null,null,"616-285-5623",null,null,"Michigan Sales Tax","Meridian does not pay shipping","Meridian Automitive Systems GR Plant 5","Attn:O94243-R-M","3075 Breton SE",null,null,"Grand Rapids","MI","49512"]
["Meridian Automotive (MSA Ionia)","David Manke",null,"616-527-1220",null,"616-527-4780",null,null,"Michigan Sales Tax",null,"Meridian Automotive (MSA Ionia)","Central Storeroom","14 North Beardsley Rd.",null,null,"Ionia","MI","48846"]
["Meridian Automotive (Paint Plant)","Sara Stancil ext. 8356","Brian Head","Purchasing","616-527-8499",null,null,null,"Non-Tax",null,"Meridian Automotive Ops Central Store Rm","Attn:","719 West Main Street",null,null,"Ionia","MI","48846"]
["Meridian Automotive (Plant 7)","Maureen Lynch",null,"616-262-9933",null,null,null,null,"Michigan Sales Tax",null,"Meridian Automotive (Plant 7)","Attn: Maureen Lynch","2890  --  29th Street SE",null,null,"Grand Rapids","MI","49512"]
["Meridian Automotive Systems - Detroit","Kay Dickens",null,"313-931-1400-x137",null,"313-931-3579",null,null,"Non-Tax",null,"Meridian Automotive Systems - Detroit","13881 West Chicago Street",null,null,null,"Detroit","MI","48228-2525"]
["Meridian Automotive Systems Plant1 (G.R.)","Chris Wood",null,null,"billing fx 616-575-71","616-940-9069",null,null,"Michigan Sales Tax","invoice fax: 616-575-7148\nor InvoiceEmailDesk@meridianautosystems.com","Meridian Systems Plant 1 (G.R.)","3225 32ND Street SE Plant 1","Attn: MRO CRIB",null,null,"Grand Rapids","MI","49512"]
["Meridian Industrial & Welding Services","Anne Sherman",null,"989-354-4825",null,"989-354-4338",null,null,"Michigan Sales Tax",null,"Meridian Industrial & Welding Services","Attn:","304 W. Chisholm Street",null,null,"Alpena","MI","49707"]
["Merit Energy (Sohn)","Bill Sohn",null," 231.258.6426",null,null,"bill.sohn@meritenergy.com",null,null,null,"Merit Energy","1510 E. Thomas Road",null,null,null,"Kalkaska","MI","49646","Mr.","Sohn",null,"Petroleum Related","Kalkaska"]
["Merl's Towing Service (Fredette)","Mark Fredette",null," 616-538-1320",null,null,"mfredette@merlstowing.com",null,null,null,"Merl's Towing Service","5510 Clay Avenue SW",null,null,null,"Wyoming","MI","49548","Mr.","Fredette",null,"Automotive","Kent"]
["Merrell Bros.","Ryan Zeck",null,"574-699-7782",null,"574-699-7478","ryan@merrellbros.com",null,"Out of State","Ryan Zeck \n  5473-6350-0231-9424\n  x10/13","Merrell Bros.","Attn:","8811 W. 500 N",null,null,"Kokomo","IN","46901"]
["Merrell Bros. (Zeck)","Ryan Zeck",null," 574-699-7782",null,null,"ryan@merrellbros.com",null,null,null,"Merrell Bros.","8811 W. 500 N",null,null,null,"Kokomo","IN","46901","Mr.","Zeck",null,"Contractor General","Howard"]
["Metal Components","Todd Schreiber",null,"616-252-1900",null,"616-252-1970",null,null,"Michigan Sales Tax","Roger Meyers - Service contact","Metal Components","Attn: Todd Schreiber","3281 Roger B. Chaffee",null,null,"Grand Rapids","MI","49508"]
["Metal Technologies (Newell)","Robert Newell",null," 269-279-3770",null," 269-279-5820","bnewell@metal-technologies.com",null,null,"See Jeff Bromenschenkel","Metal Technologies","Three Rivers Gray Iron Plant","428 Fourth Street",null,null,"Three Rivers","MI","49093","Mr.","Newell","Personnel & Environmental Mana","Steel","St. Joseph"]
["Metalworks (Ferguson)","Gary Ferguson",null," 231-845-3143",null,null,null,null,null," -referred me to Connie and Bobbi as best contacts and forwarded on my info to them","Metalworks","902 East 4th Street",null,null,null,"Ludington","MI","49431","Mr.","Ferguson","Human Resources","Cabinet Makers","Mason"]
["Metalworks (Long)","Connie Long",null," 231-845-3113",null,null,null,null,null,null,"Metalworks","902 East 4th Street",null,null,null,"Ludington","MI","49431","Mrs.","Long","Purchasing","Cabinet Makers","Mason"]
["Metalworks (Spence)","Bobbi Spence",null," 231-845-3145",null,null,null,null,null,null,"Metalworks","902 East 4th Street",null,null,null,"Ludington","MI","49431","Mrs.","Spence","EH&S","Cabinet Makers","Mason"]
["Meter Mall (McFarlane)","Jim McFarlane",null," 800-969-0114",null,null,"jmcfar@MeterMall.com",null,null,null,"Meter Mall","11951 Rausch Road",null,null,null,"Marysville","OH","43040","Mr.","McFarlane",null,"Supplier","Out of State"]
["MeterMall","James McFarlane",null,"937-642-4691",null,null,"metermall@MeterMall.com",null,"NonTx Re-Sale","12/18/2009:  15% off list on BW detectors","MeterMall","Attn: Chris Ott","21104 US 20-A",null,null,"Archibald","OH","43503"]
["Metro / A Steelcase Company","Noy Phengrasamy",null,"510-567-5292",null,null,"nphengrasamy@metrofurniture.com",null,"Michigan Sales Tax",null,"Metro / A Steelcase Company","Attn: Noy Phengrasamy","7220 Edgewater Drive",null,null,"Oakland","CA","94621"]
["MetroCal, Inc.","Tanya Palazzolo",null,"616-698-3124",null,"616-698-2364","tonaypalazzolo@mcinfo@metrocal.com",null,"NonTx Re-Sale","UPS ACCT# 82V398\n\nRESALE PRICING:\nPM:  $75 (std. 4-gas)\nCal:  $40 (std. 4-gas)","MetroCal, Inc.","Attn:","4700 Barden Ctr. SE",null,null,"Kentwood","MI","49512"]
["Metrol Company (Budnick)","Patrick Budnick",null," 313-365-5400 112",null," 313-365-7419",null,null,null,null,"Metrol Company","7145 East Davison",null,null,null,"Detroit","MI","48212","Mr.","Budnick",null,"Supplier","Wayne"]
["Metrol Company (Tomlin)","Bruce Tomlin",null," 313-365-5400",null," 313-365-7419",null,null,null,null,"Metrol Company","7145 East Davison",null,null,null,"Detroit","MI","48212-1961","Mr.","Tomlin",null,null,"Wayne"]
["Metrol Company.","Bob Write or Mary","Patrick (Extech Products)","313-365-5400",null,"313-365-7419",null,null,"NonTx Re-Sale","Discount Pricing:  15% off List Price","Metrol Company/Robert Wright Jr.","Attn: Receiving PO#D060179","7145 East Davison",null,null,"Detroit","MI","48212"]
["Metropolitan Council Environmental Servic","Mary Gross",null," 651-602-8343",null," 651-602-8220","mary.gross@metc.state.mn.us",null,null,null,"Metropolitan Council Environmental Servic","2400 Childs Road",null,null,null,"St. Paul","MN","55106","Ms.","Gross","Lab Safety Officer","State","Out of State"]
["Meyer Well Drilling (Postema)","Jack Postema",null," 231-893-2325",null,null,null,null,null,"Have contact, call for appt.\nneed to stop in and call on next time when someone is there","Meyer Well Drilling","8703 Water St.",null,null,null,"Montague","MI","49437","Mr.","Postema","Owner","Well & Septic","Muskegon"]
["MI Dept of Corrections","John Knopp",null,"517-373-2028",null,null,null,null,"Non-Tax Municipality/Utility",null,"MI Dept of Corrections","Attn: Greg Kelley","MDC office of New Employee Training","General Office bldg. 7150 Harris Dr.",null,"Lansing","MI","48913"]
["Miami Township Volunteer F.D.","Tim Buffum",null,"574-753-6205","cell 765.398.1805",null,null,null,"Michigan Sales Tax",null,"Miami Township Volunteer F.D.","Attn: Tim Buffum","8091 East C.R. 50 North",null,null,"Logansport","IN","46947"]
["MichCon DTE Energy (Lipps)","Steve Lipps",null," 231-757-3731",null," 231-757-9706",null,null,null,"lead from Air Liquide\n-bought 50 ppm CH4 cal gas so must be using detectors","MichCon DTE Energy","2230 West US 10 Hwy",null,null,null,"Ludington","MI","49431",null,"Lipps","Site Supervisor","Utility","Mason"]
["MichCon DTE Energy (Morton)","Rick Morton",null," 231-757-3731",null," 231-757-9706","mortonra@dteenergy.com",null,null,"referred to Steve by Rick Morton\nSteve handles day to day safety items","MichCon DTE Energy","2230 West US 10 Hwy",null,null,null,"Ludington","MI","49431","Mr.","Morton","Field Engineer","Utility","Mason"]
["Michigan Agricultural Commodities (Adam)","Adam",null," 231-652-6017",null,null,null,null,null,"Met with Adam Briefly in January\nUsing Model Safety currently and seem to be happy as he responds to none of my follow-up\nKeep trying maintain a presence in Newaygo as the area seems to be ran by Model","Michigan Agricultural Commodities","103 Water St.",null,null,null,"Newaygo","MI","49337",null,"Adam","Site Co Manager",null,"Muskegon"]
["Michigan Auto Dealer Self Insurance Co","Bob Miller",null,"989-795-0314",null,null,null,null,"Michigan Sales Tax",null,"Michigan Auto Dealer Self Insurance Co.","Bob Miller","6816 Heather Ridge Blvd.",null,null,"Saginaw","MI","48603-9695"]
["Michigan Auto Dealer Self Insurance Co. (","Bob Miller",null," 989-792-0314",null," 989-792-0314","bkmiller4@msn.com",null,null,"Quote Autostep. Send Wristwand link.\nTim Roberts is boss (Ypsilanti); other loss control inspectors are Dave Griswack, Detroit; Dennis Miller, Detroit; and John Kamphuis, Hudsonville. MADSI insures only new car franchise dealerships.\nPut together sheet with eyewash, elvex RX wristwand, safety glasses, goggles and nitrile gloves. Currently buying from MFASCO.","Michigan Auto Dealer Self Insurance Co.","6816 Heather Ridge Blvd.",null,null,null,"Saginaw","MI","48603-9695","Mr.","Miller","Loss Control Manager","Insurance","Saginaw"]
["Michigan Department of Transportation (Br","Dave Brinks",null," 231-777-3451",null," 231-777-3621","brinksd@michigan.gov",null,null,"Per GR DOT person: Tim Redder 616.451.4595 x307\nsee also: Bruce Gasaway Musk Cty 231.788.7280\nKathy Bolthouse buys gloves. She said to see Rick Dolan 517.335.2507 for ppe.","Michigan Department of Transportation","Muskegon TSC","2225 Olthoff Drive",null,null,"Muskegon","MI","49444-2644","Mr.","Brinks","Transportation Maintenance Coo","State","Muskegon"]
["Michigan Department of Transportation (Ha","Richard Hassenzahl",null," 269-375-8628",null,null,"hassenzahlr@michigan.gov",null,null,"Lead for CSE training and equipment from Draeger at MSC 2010","Michigan Department of Transportation","5372 South 9th Street",null,null,null,"Kalamazoo","MI","49009","Mr.","Hassenzahl",null,"State","Kalamazoo"]
["Michigan DEQ, State of (Rathbun)","Ned Rathbun",null," 517-780-7693",null," 517-780-7855","rathbunn@michigan.gov",null,null,"Soil erosion conference.","Michigan DEQ, State of","301 E. Louis Glick Highway",null,null,null,"Jackson","MI","49201","Mr.","Rathbun","Environmental Quality Analyst","State","Jackson"]
["Michigan DEQ, State of (Wozniak)","Gary Wozniak",null," 269-567-3613",null," 269-567-9440","wozniakg@michigan.gov",null,null,"Bought fall equip for tree work.","Michigan DEQ, State of","7953 Adobe Road",null,null,null,"Kalamazoo","MI","49009","Mr.","Wozniak","District Engineer","State","Jackson"]
["Michigan Electric Trans Co (Plymouth)","Mike Mobley",null,"734-547-0266",null,"734-547-0292",null,null,"Non-Tax","As per Bonnie Flowers in accounting Co became tax exempt on Feb 22 2007. all purchases before tis date pay tax all purchases after are self taxing","ITC - Coventry Warehouse","35300 Tower Rd.",null,null,null,"Plymouth","MI","48170-5828"]
["Michigan Family Resouces, Inc.","Timothy J. Morgan",null,"735-0693","800-472-6994","616-222-1991",null,null,"Michigan Sales Tax",null,"Michigan Family Resouces, Inc.","Attn: Accounts Payable","2626 Walker Ave. NW",null,null,"Walker","MI","49544"]
["Michigan Family Resources, Inc. (Morgan)","Timothy J. Morgan",null," 616-735-0693",null," 616-222-1991",null,null,null,null,"Michigan Family Resources, Inc.","2626 Walker Ave. NW","Walker, MI 49544",null,null,"Walker","MI","49544",null,"Morgan","Operations Manager","Automotive","Kent"]
["Michigan Freeze Pack (Ritchie)","Chris Ritchie",null," 231-873-2175",null," 231-873-3025",null,null,null,null,"Michigan Freeze Pack","835 S. Griswold",null,null,null,"Hart","MI","49420","Mr.","Ritchie","Safety/Plant Manager","Food","Oceana"]
["michigan ga"]
["Michigan National Guard (Kirby)","Bryan Kirby",null," 269-420-3865",null,null,"bryan.kirby@mi.ngb.army.mil",null,null,"MSC Wants UCL. Has budget.  Met also Bernard Scheuner. Major Hinga is decn mkr.\nMost equipment already bought out of KY. Will evaluate and probably be buying more.","Michigan National Guard","2725 - 27th Street",null,null,null,"Fort Custer","MI","49012-9205",null,"Kirby",null,"Federal","Kalamazoo"]
["Michigan Parks & Recreation, State of (Lu","Peter Lundborg",null," 231-873-3083",null," 231-873-5905","lundborp@michigan.gov",null,null,"Brian Cross","Michigan Parks & Recreation, State of","Silver Lake Sate Park","9679 W. State Park Road",null,null,"Mears","MI","49436","Mr.","Lundborg","Park Manager","State","Oceana"]
["Michigan Plastic Processors","Patrick Dunn","616-246-1071 - Home?","616-546-0268 Cell","877-953-5777","616-245-9778","pjdunn@sbcglobal.net",null,"Michigan Sales Tax",null,"Michigan Plastic Processors","Attn:","1766 Plateau Drive SW",null,null,"Wyoming","MI","49519-6501","Mr","Dunn"]
["Michigan Plastic Processors (Dunn)","Patrick Dunn",null," 877-953-5777",null," 616-245-9778","pjdunn@sbcglobal.net",null,null,null,"Michigan Plastic Processors","1474 Calvin Ave. SE",null,null,null,"Grand Rapids","MI","49507","Mr.","Dunn","Loss Prevention Manager","Manufacturer","Kent"]
["Michigan Power","Rod VanHorn",null,"231-843-7573",null,"231-843-7532",null,null,"Michigan Sales Tax","po #s under 500 ok on a verbal if they are over 500 before shipping call for a po#, per Bethany Monsonn5/02/11","Michigan Power PO#M11-12227A","Attn:Rod VanHorn","5795 West 6th Street",null,null,"Ludington","MI","49431"]
["Michigan Power (Braun)","Carl Braun",null," 231-843-7573 211",null," 231-843-7532","cbraun@deltapowerservices.com",null,null,"must call ahead...no entry no matter what\nContinue to speak with Carl on phone but have yet to meet with Carl\n-seems like a nice guy, but busy\n-email is best contact method","Michigan Power","5795 W. 6th Street",null,null,null,"Ludington","MI","49431","Mr.","Braun","Operations Supervisor","Utility","Mason"]
["Michigan Power (Vanhorn)","Rodney Vanhorn",null," 231-843-7573",null," 231-843-7532",null,null,null,"Rod handles safety for the MI Power Cogen Plant in Ludington.  Very moody, but nice guy.  Detail nazi, say nothing without a reg to cite.","Michigan Power","5795 W. 6th Street",null,null,null,"Ludington","MI","49431",null,"Vanhorn","Safety Director","Utility","Mason"]
["Michigan State University","Susan McNeil",null,"517-355-0357",null,null,null,null,"Non-Tax",null,"Michigan State University","Stores Recieving","133 West Service RD",null,null,"East Lansing","MI","48824"]
["Michigan State University (Harrigan)","Timothy Harrigan",null," 517-449-7272",null,null,"coganc@msu.edu",null,null,"bought 10bx drager tubes","Michigan State University","225 Farrall Hall","Shaw Lane",null,null,"East Lansing","MI","48824","Mr.","Harrigan","Professor","University","Clinton"]
["Michigan State University (Taylor)","William Taylor",null," 517-353-7161",null,null,null,null,null,null,"Michigan State University","3546 Engineering Building",null,null,null,"Lansing","MI","48824","Mr.","Taylor",null,"University","Ingham"]
["Michigan Steel","Dennis Witham",null,"231-724-4622",null,"231-728-8525",null,null,"Non-Tax",null,"Michigan Steel","Attn: Dennis Witham","1148 W. Western Ave.",null,null,"Muskegon","MI","49441"]
["Michigan Steel (Witham)","Dennis Witham",null," 231-724-4622",null," 231-728-8525",null,null,null,null,"Michigan Steel","1148 W. Western Ave.",null,null,null,"Muskegon","MI","49441","Mr.","Witham","Safety Director/Operations Man","Manufacturer","Muskegon"]
["Michigan Turkey Producers (Rogers)","Greg Rogers",null," 616-245-2221 176",null," 616-475-4184","gregr@miturkey.com",null,null,"Greg sits at Chicago Drive processing plant -- old Mapco facility. Represents 18 farms. Mostly processed Turkey. Call ~ 4/09","Michigan Turkey Producers","1100 Hall Street SW",null,null,null,"Grand Rapids","MI","49503","Mr.","Rogers","Safety & Health Manager","Food","Kent"]
["Michigan Water Environment Association's"]
["Michigan Wheel Corp.","Janet Englerth","Paul VandenBranden","616-246-5346","616-246-5375","616-247-0227",null,null,"Michigan Sales Tax",null,"Michigan Wheel Corp.","Attn:","1501 Buchanan Avenue, SW",null,null,"Grand Rapids","MI","49507"]
["Michigan Wheel Corporation (Englerth)","Janet Englerth",null," 616-246-5346",null," 616-247-0227","jenglerth@miwheel.com",null,null,"Paul Vanden Branden , Dir. Opns 616.452.6941  x1183  pvandenbranden@miwheel.com","Michigan Wheel Corporation","1501 Buchanan Avenue, SW",null,null,null,"Grand Rapids","MI","49507","Ms.","Englerth","Human Resource Manager","Manufacturer","Kent"]
["Michigan Wire Processing Company, Inc. (L","Dean W. Lonick",null," 616-897-6080",null," 616-897-5531",null,null,null,null,"Michigan Wire Processing Company, Inc.","2487 W. Main",null,null,null,"Lowell","MI","49331","Mr.","Lonick","President","Manufacturer","A"]
["Michigan Wood Fibers (Weaver)","Nate Weaver",null," 616-875-2241",null,null,null,null,null,null,"Michigan Wood Fibers","9426 Henry Ct.",null,null,null,"Zeeland","MI","49464","Mr.","Weaver","Manager","Other","Ottawa"]
["Michigan Wood Pellets Fuel, LLC",null,"Ed Close","616-355-4955",null,"616-582-5990","edclose@michiganwoodpellets.com",null,"Michigan Sales Tax",null,"Michigan Wood Pellets Fuel, LLC","Attn:","1125 Industrial Drive",null,null,"Holland","MI","49423"]
["Michigan Wood Pellets Fuel, LLC (Close)","Ed Close",null," 616-355-4955",null," 616-582-5990","edclose@michiganwoodpellets.com",null,null,null,"Michigan Wood Pellets Fuel, LLC","1125 Industrial Drive",null,null,null,"Holland","MI","49423","Mr.","Close","Plant Manager","Utility","Ottawa"]
["Michigan's Adventure",null,"Dan Miller","231-766-3377",null,"231-766-0648",null,null,"Michigan Sales Tax",null,"Michigan's Adventure","Attn: PO M19889 Dan Miller","4750 Whitehall Rd.",null,null,"Muskegon","MI","49445"]
["Michigan's Adventure (Miller)","Dan Miller",null," 231-766-3377",null," 231-766-0648","dmiller@miadventure.com",null,null,"also have shown interest in non-penetrating guardrail\nJason handles fall Protection needs and stands on their corporate safety board\nCurrently interested in GEMS Unit\nAlso they have made a switch to DBI-Sala for their site and are locked into a 2 year contract with Safety Services","Michigan's Adventure","4750 Whitehall Rd.",null,null,null,"Muskegon","MI","49445","Mr.","Miller","Maintenance Manager","Other","Muskegon"]
["Micigan Gas Utilities","Gregg Griffin",null,"269-692-6352",null,"269-694-2835",null,null,"Non-Tax Municipality/Utility",null,"Michigan Gas Utilities","Attn:Gregg Griffin","742 East Allegan St.",null,null,"Otsego","MI","49078"]
["Mickey Covington","Mickey Covington",null,"216-337-4806 cell",null,"216-378-9614",null,null,"NonTx Re-Sale","BW Pricing:\n25% off list - Instruments\n15% off list - Parts","Mickey Covington","3400 Landerwood Drive",null,null,null,"Pepper Pike","OH","44124"]
["Microbac Laboratories Inc.","Tim Mcalaughin",null,"814-825-8533",null,"814-825-9254","tmclaughlin@microbac.com",null,"Out of State",null,"Microbac Laboratories Inc.","Attn: Tim Mclaughin","1962 Wager Rd.",null,null,"Erie","PA","16509-4093"]
["Micron Manufacturing Company (Alexander)","Walt Alexander",null," 616-453-5486 120",null," 616-453-1801","waltalexander@micronmfg.net",null,null,null,"Micron Manufacturing Company","1722  Kloet Street, NW","PO Box 141667",null,null,"Grand Rapids","MI","49514-1667","Mr.","Alexander","Safety Director","Manufacturer","Kent"]
["Micron Manufacturning","Walter Alexander",null,"616-453-5486",null,"616-453-1801",null,null,"Non-Tax",null,"Micron Manufacturing","Attn: Walt Alexander","1722 Kloet St NW",null,null,"Grand Rapids","MI","49514-1667"]
["Mid American Group","Don Harris",null,"734-586-8868",null,null,null,null,"Michigan Sales Tax",null,"Mid American Group","Attn: Jerry Emerson","8475 Port Sunlight Rd.",null,null,"Newport","MI","48166"]
["Mid American Group (Kuderik)","Matthew Kuderik",null," 734-586-8868",null," 734-586-8970","fkuderik@midamericangroup.com",null,null,null,"Mid American Group","8475 Port Sunlight",null,null,null,"Newport","MI","48166","Mr.","Kuderik",null,"Contractor General","Monroe"]
["Mid West Sales Agency, Inc. (Hannon)","F. Robert Hannon",null," 513-831-9504",null," 513-831-9688","bhannon@email.msn.com",null,null,null,"Mid West Sales Agency, Inc.","4446 Mt. Carmel-Tobasco Road",null,null,null,"Cincinnati","OH","45244","Mr.","Hannon",null,"Representative","Out of State"]
["Mid-American Group (KY)","Tim Mosley",null,"606-929-5772",null,"616-929-5773",null,null,"Out of State",null,"Mid-American Group (KY)","Attn:","5642 U.S. 60 West",null,null,"Ashland","KY","41102"]
["Mid-Michigan Equipment","Steve Julian",null,"989-891-2574 shop","989-891-6438 cell",null,null,null,"Michigan Sales Tax",null,"Mid-Michigan Equipment","Attn:","3235 E. Washington",null,null,"Saginaw","MI","48601"]
["Middleton Mechanical",null,"Scott Stacy","419-886-0068",null,"419-886-0069","scottastacy@aol.com",null,"Out of State",null,"Middleton Mechanical","Attn: Scott Stacy","84 Huron Street",null,null,"Bellville","OH","44813"]
["Middleville DPW, City of","Wayne Winchester",null,"269-795-2094",null,null,null,null,"Non-Tax Municipality/Utility",null,"Middleville DPW, City of","Attn: Wayne Winchester","601 Sheridan Street",null,null,"Middleville","MI","49333"]
["Middleville DPW, City of (Winchester)","Wayne Winchester",null," 269-795-2094",null," 269-795-2095","wwinchester2002@yahoo.com",null,null,"Charlie Miller Supt. WWTP next door 607 Sheridan","Middleville DPW, City of","601 Sheridan Street",null,null,null,"Middleville","MI","49333","Mr.","Winchester","Director","Municipal, Cty","Barry"]
["Midland Chemical Company Inc.","Teresa Eastman",null,"989-835-6006",null,"989-835-6008","teresae@midlandchemical.com",null,"NonTx Re-Sale","Teresa pays 20% over cost","Absolute Safety Inc.","Attn:Vickey Stalmack PO 464492","303 Parkdale Ave.",null,null,"Midland","MI","48642"]
["Midland Chemical Company, Inc. (Eastman)","Teresa Eastman",null," 989-835-6006",null," 989-835-6008","teresae@midlandchemical.com",null,null,null,"Midland Chemical Company, Inc.","1500 Commerce Drive",null,null,null,"Midland","MI","48642",null,"Eastman",null,"Competitor","Midland"]
["Midland Fire Dept., City of","Ron Shaffer",null,"989-837-3300",null,null,null,null,"Non-Tax Municipality/Utility",null,"Midland Fire Dept., City of","Attn: Ron Shaffer","816 E. Haley Street",null,null,"Midland","MI","48640"]
["Midway Rentals & Sales","Eric, Darren","Justin Prusi","906-228-4200",null,"906-228-9379","ap@mrmqt.com",null,"NonTx Re-Sale","01/08/2010:  BW ONLY\nItems w/ 35%:  Take 15% off list\nItems w/ 25%:  Take 10% off list\n\nA/P:  Christine","Midway Rentals & Sales","Attn: Daren Boldt","43 Industrial Park Road",null,null,"Negaunee","MI","49866"]
["Midway Rentals & Sales (Prusi)","Justin Prusi",null," 906-228-4200",null," 906-228-9379","jprusi@MIDWAYRENTALSANDSALES.COM",null,null,null,"Midway Rentals & Sales","43 Industrial Park Road",null,null,null,"Negaunee","MI","49866","Mr.","Prusi",null,"Supplier","Marquette"]
["Midwest Geothermal","Kortney Lull",null,null,null,null,null,null,"Michigan Sales Tax",null,"Midwest Geothermal","Attn:","3523 Lousma Drive SE","Suite D",null,"Grand Rapids","MI","49548"]
["Midwest Power Systems",null,null,null,null,null,null,null,"Michigan Sales Tax",null,"Midwest Power Systems","Attn: Brent Canup","2401 Hickory Oak",null,null,"Milford","MI","48380"]
["Midwest Power Systems (Canup)","Brent Canup",null," 248-770-5121",null,null,null,null,null,null,"Midwest Power Systems","2401 Hickory Oak",null,null,null,"Milford","MI","48380",null,"Canup",null,"Utility","Oakland"]
["Midwest Safety Products (Miller)","Vanh Miller",null," 616-554-5155",null,null,null,null,null,null,"Midwest Safety Products","4929 East Paris Avenue Southeast",null,null,null,"Grand Rapids","MI","49512","Mr.","Miller",null,"Competitor","Kent"]
["Midwest Trenchless Services","Troy Freed","Jon Snyder","231-834-8470","616-835-2867","231-834-8474",null,null,"Michigan Sales Tax",null,"Midwest Trenchless Services","Attn:","351 West 136th St.",null,null,"Grant","MI","49327"]
["Midwest Trenchless Services (Freed)","Troy Freed",null," 231-834-8470",null," 231-834-8474","troy@notrench.net",null,null,null,"Midwest Trenchless Services","351 W. 136th Street",null,null,null,"Grant","MI","49327","Mr.","Freed","President","Contractor General","Newaygo"]
["Midwest Trenchless Services (Kruszynski)","Joel Kruszynski",null," 231-834-8470",null," 231-834-8474","joel@notrench.net",null,null,"Marty Thompson m 231.414.1186","Midwest Trenchless Services","351 W. 136th Street",null,null,null,"Grant","MI","49327","Mr.","Kruszynski","Owner","Contractor General","Newaygo"]
["Midwest Trenchless Services (Snyder)","Jonathan Snyder",null," 231-834-8470",null," 231-834-8474","jon@notrench.net",null,null,null,"Midwest Trenchless Services","351 W. 136th Street",null,null,null,"Grant","MI","49327","Mr.","Snyder","Asst. Superintendent","Contractor General","Newaygo"]
["Mihm Enterprises, Inc. (Mihm)","Sharon Mihm",null," 269-751-5522",null," 269-751-7344",null,null,null,null,"Mihm Enterprises, Inc."," 4065-38th",null,null,null,"Hamilton","MI","49419","Ms.","Mihm","President",null,"Ottawa"]
["Mikalan Roofing, Inc. (Alan)","Alan",null," 616-748-0200",null,null,null,null,null,null,"Mikalan Roofing, Inc.","9458 Adams St.",null,null,null,"Zeeland","MI","49464",null,"Alan",null,"Contractor General","Allegan"]
["Milbocker & Sons","Pat Ellis","Scott Milbocker","269-673-2195",null,"269-673-3144",null,null,"Michigan Sales Tax",null,"Milbocker & Sons","Attn: Steve Milbocker","1256 29th Street",null,null,"Allegan","MI","49010","Mr.","Ellis"]
["Milbocker & Sons (Boeskool)","Shawn Boeskool",null," 269-673-2195"," 269-207-5550"," 269-673-3144","sboeskool@milbocker.com",null,null,"Pat Ellis retiring?  269-207-5550","Milbocker & Sons","1256 29th Street",null,null,null,"Allegan","MI","49010","Mr.","Boeskool",null,"Contractor General","Allegan"]
["Milbocker & Sons (Milbocker)","Scott Milbocker",null," 616-673-2195",null," 269-673-3144","smilbocker@datawise.net",null,null,null,"Milbocker & Sons","1256 29th Street",null,null,null,"Allegan","MI","49010","Mr.","Milbocker",null,"Contractor General","Allegan"]
["Milbocker & Sons (Ritzema)","Craig Ritzema",null," 269-673-2195"," 269-207-5541"," 269-673-3144",null,null,null,null,"Milbocker & Sons","1256 29th Street",null,null,null,"Allegan","MI","49010","Mr.","Ritzema","General Superintendent","Contractor General","Allegan"]
["Milbocker & Sons, Inc. (Milbocker)","Steve Milbocker",null," 269-673-6097",null," 269-673-3144","mshop@milbocker.com",null,null,"Myers is equipment manager","Milbocker & Sons, Inc.","1256  29th Street",null,null,null,"Allegan","MI","49010","Mr.","Milbocker","Shop Supervisor","Contractor General","Allegan"]
["Millenium Rail Service (Barroner)","Ray Barroner",null," 814-695-5691 236",null,null,"rbarroner@millenniumrail.com",null,null,null,"Millenium Rail Service","PO Box 349","Rt. 22 & Berwind Dr.",null,null,"Hollidayburg","PA","16648","Mr.","Barroner","Environmental Health & Safety","Other","Out of State"]
["Miller / Dalloz Fall Protection (Bailey)","Melissa Bailey",null," 800-873-5242 1265"," 814-432-2118 1065"," 800-892-4078","MBailey@bacou-dalloz.com",null,null,"Customer Svc now in Rhode Island  800.430.5490","Miller / Dalloz Fall Protection","1345 15th Street",null,null,null,"Franklin","PA","16323","Ms.","Bailey",null,"Supplier","Out of State"]
["Miller, Johnson, Snell & Cummiskey, P.L.C","Brent Rector",null," 616-831-1743",null," 616-988-1743","rectorb@mjsc.com",null,null,"meet 3.29.05","Miller, Johnson, Snell & Cummiskey, P.L.C","250 Monroe Avenue, NW  Suite 800","PO Box 306",null,null,"Grand Rapids","MI","49501-0306","Mr.","Rector",null,"Other","Kent"]
["Miller-Davis Company (Sherburn)","Tom Sherburn",null," 269-344-6157"," 269-345-3561"," 269-345-3576",null,null,null,null,"Miller-Davis Company","2225 Miller Road",null,null,null,"Kalamazoo","MI","49001","Mr.","Sherburn","Yard Manager","Contractor General","Kalamazoo"]
["Millington Community Schools","Mark Ratza",null,"989-871-5203",null,"989-871-5260",null,null,"Non-Tax Municipality/Utility",null,"Millington Community Schools","Attn: Mark Ratza","8780 Dean Dr.",null,null,"Millington","MI","48746"]
["Milton TSP Fire District","Jeremy Wensink",null,"419-575-4114",null,null,null,null,"Michigan Sales Tax",null,"Milton TSP Fire District","Attn: Jeremy Wensink","23690 Park Road",null,null,"Custar","OH","43511"]
["Mines Golf Course","Trent Bartman",null,"616-735-1515","cell 616-648-4528",null,null,null,"Michigan Sales Tax",null,"Mines Golf Course","Attn: Trent Bartman","223 Covell Ave. SW",null,null,"Grand Rapids","MI","49544-5961"]
["Mines Golf Course (Bartman)","Trent Bartman",null,null," 616-791-7544",null,"triz_bart@yahoo.com",null,null,null,"Mines Golf Course","223 Covell Ave. SW",null,null,null,"Grand Rapids","MI","49544","Mr.","Bartman",null,"Other","Kent"]
["Minnifield Enterprize, Inc.","Kimberly Eich",null,"662-317-3136",null,"662-317-3001",null,null,"Out of State",null,"Toyota Motor Engineering & MFG-Missipi","Attn: KIMBERLY EICH po#KA0000001884","1200 Magnolia Way",null,null,"Blue Springs","MS","38828"]
["MiOSHA (Almanza)","Dave Almanza",null," 517-241-0602",null," 517-241-0626","dalman@michigan.gov",null,null,"Mike Sharpe used to be chair.\nRegulations Support       \n    GI 517.322.1831    Jim Gordon (appeals divn), Jimmy Hineman, Don Gibson Ken Hines, Robin Spaulding\n    Const 517.322.1856\n517.322.1845 Marsha Boyle","MiOSHA","7707 Rickle Street",null,null,null,"Lansing","MI","48917","Mr.","Almanza","Chairman, Instrument Committee","State","Kent"]
["MiOSHA (Pickelman)","Bart Pickelman",null," 989-758-1726",null," 989-758-1896","pickelmanb@michigan.gov",null,null,"IH's John Hodgson, Matt Macomber, Dave Fogle (Inst. Comm), Carla Mose","MiOSHA","411-H East Genessee",null,null,null,"Saginaw","MI","48607","Mr.","Pickelman",null,"State","Saginaw"]
["MiOSHA -- Michigan Occ'l Safety & Health","Harvey Johnson",null," 616-447-2656",null," 616-447-2649","hjohns@michigan.gov",null,null,"MIOSHA Standards Section (517) 322-1845 \nMark Pedo (GI Health) 447.2655 on equip committee\nChair is now Dave Almanza 517.241.0602. Mike Sharpe was chair.\n  Dave Fogle (Saginaw), John Walker (nr Det), John Burns (Det),\n  Dave Kazerzack (Lab), Jim Hensley (","MiOSHA -- Michigan Occ'l Safety & Health","2942 Fuller NE",null,null,null,"Grand Rapids","MI","49505-3488","Mr.","Johnson",null,"State","Kent"]
["MiOSHA -- Michigan Occ'l Safety & Health","Harvey Johnson",null," 616-447-2656",null," 616-447-2649","hjohns@michigan.gov",null,null,null,"MiOSHA -- Michigan Occ'l Safety & Health","2942 Fuller NE",null,null,null,"Grand Rapids","MI","49505-3488","Mr.","Johnson",null,"State","Kent"]
["MiOSHA -- Michigan Occ'l Safety & Health","Harvey Johnson",null," 616-447-2656",null," 616-447-2649","hjohns@michigan.gov",null,null,null,"MiOSHA -- Michigan Occ'l Safety & Health","2942 Fuller NE",null,null,null,"Grand Rapids","MI","49505-3488","Mr.","Johnson",null,"State","Kent"]
["MIS Corporation","Keith Anderson",null,"989-753-5599",null,"989-753-3119",null,null,"Michigan Sales Tax",null,"MIS Corporation","Attn: Keith Anderson","3515 Janes Ave.","Suite 1",null,"Saginaw","MI","48601"]
["Miscellaneous"]
["MITA (Coppersmith)","Rob Coppersmith",null," 800-878-2821"," 517-336-8298"," 517-347-8344",null,null,null,"was AUC Association of Underground Contractors\nRbt Patzer; Mike Nystrom; Chuck Mills; Helen","MITA","3413 Woods Edge Drive",null,null,null,"Okemos","MI","48864","Mr.","Coppersmith",null,"Contractor, Excavator","Ingham"]
["Mitchell Metal Products","Ernie Weisskopf","Dawn Wodalski","715-536-7176 x250",null,null,"dwodalski@mitchellmetalproducts.com",null,"Out of State",null,"Mitchell Metal Products","Attn:","905 S. State Street",null,null,"Merrill","WI","54452"]
["Mitsuba Bardstown, Inc. (Thompson)","Jim Thompson",null," 502-348-3100 5123",null," 502-348-6271",null,null,null,null,"Mitsuba Bardstown, Inc.","901 Withrow Court",null,null,null,"Bardstown","KY","40004-2605","Mr.","Thompson","Safety Manager","Automotive","Out of State"]
["Mitsubishi Power","Mike OZima",null,"269-764-2598","cell 407-496-7507",null,null,null,"Michigan Sales Tax",null,"Mitsubishi Power","Attn: Mike Ozima","330 Main St.",null,null,"Pismo Beach","CA","93449"]
["Mittler Supply Inc. (Chambers)","Tom Chambers",null," 616-451-3055",null," 616-451-9613",null,null,null,null,"Mittler Supply Inc.","1000 Scribner Ave NW",null,null,null,"Grand Rapids","MI","49504","Mr.","Chambers","Manager","Supplier","Kent"]
["Modernistic (Copeland)","Jennifer Copeland",null," 800-627-5080",null," 269-685-9796",null,null,null,null,"Modernistic","821 Wakefield","PO Box 318",null,null,"Plainwell","MI","49080","Ms.","Copeland","Chief Financial Officer","Contractor General","Allegan"]
["Modernistic (Plainwell)","Russ Wendt",null,"cell 893-3445",null,null,"rwendt@mondernistic.net",null,"Michigan Sales Tax"]
["Modernistic (Wendt)","Russ Wendt",null," 800-627-5080",null," 269-685-9796","rwendt@modernistic.net",null,null,null,"Modernistic","821 Wakefield",null,null,null,"Plainwell","MI","49080","Mr.","Wendt",null,"Contractor General","Allegan"]
["Monarch Powder Coating ()",null,null," 231-798-1422",null,null,null,null,null,null,"Monarch Powder Coating","5906 Grand Haven Rd.",null,null,null,"Muskegon","MI","49441",null,null,null,"Manufacturer","Muskegon"]
["Monarch Water Systems, Inc.","John Glaser, Sr.",null,"937-372-7200",null,"937-372-4622",null,null,"Out of State",null,"Monarch Water Systems, Inc.","Attn:","1230 Burnett Dr.",null,null,"Xenia","OH","45385"]
["Monitoring Control and Compliance","Charles Elkins",null,"330-441-1096",null,"216-373-3480",null,null,"Out of State","Jeff - 330-441-2055","Monitoring Control and Compliance","Attn: Charles Elkins","5845 Northampton Dr.",null,null,"Medina","OH","44256"]
["Monitoring Technologies Corp. (Borne)","Robin Borne",null," 800-489-1872"," 502-893-1872"," 502-897-7250","d.blair@montec.com",null,null,null,"Monitoring Technologies Corp.","4127 Oechsli Ave.","Suite 105",null,null,"Louisville","KY","40207","Ms.","Borne",null,"Supplier","Out of State"]
["Monoceramics","Mike Barber",null,"269-925-0212",null,"269-925-5222","mbarber@monoceramics.com",null,"Michigan Sales Tax",null,"Monoceramics","Attn: Mike Barber","2235 Pipestone",null,null,"Benton Harbor","MI","49022"]
["Monoceramics (Barber)","Mike Barber",null," 269-925-0212",null," 269-925-5222","mbarber@monoceramics.com",null,null,null,"Monoceramics","2235 Pipestone",null,null,null,"Benton Harbor","MI","49022","Mr.","Barber",null,"Manufacturer","Berrien"]
["Monroe Twp. Fire Dept.","Darvin Biederstedt",null,"419-966-3699","419-256-7741",null,"biederstedt@metalink.net",null,"OHMUNI","biederstedt@metalink.net","Malinta Hardware","c/o: Monroe Twp. Fire Dept.","Attn:","103 Turkeyfoot Ave.",null,"Malinta","OH","43535"]
["Montague DPW, City of",null,null,"231-893-2235",null,"231-893-0815",null,null,"Non-Tax Municipality/Utility","Steve Hammond\nSteve Lohman - handles gas detector maintenance","Montague DPW, City of","Attn: Steve Lohman","8778 Ferry Street",null,null,"Montague","MI","49437"]
["Montague DPW, City of (Kroll)","Tom Kroll",null," 231-893-2235",null," 231-893-0815","montaguedpw@chartermi.net",null,null,"4976 Bowen is garage\nSteve Hammond having difficulty with Micro","Montague DPW, City of","8778 Ferry Street",null,null,null,"Montague","MI","49437","Mr.","Kroll",null,"Municipal, Cty","Muskegon"]
["Moore & Bruggink, Inc.",null,"Roy Laisure","616-363-9801",null,"616-363-2480",null,null,"Non-Tax",null,"Moore & Bruggink, Inc.","Attn:Steve Green","2020 Monroe Ave. NW",null,null,"Grand Rapids","MI","49505-6298"]
["Moore & Bruggink, Inc. (Hage)","Jim Hage",null," 616-363-9801",null," 616-363-2480",null,null,null,null,"Moore & Bruggink, Inc.","2020 Monroe Avenue NW",null,null,null,"Grand Rapids","MI","49505-6298","Mr.","Hage","Comptroller","Engineering, Architecture","Kent"]
["Moore & Bruggink, Inc. (Laisure)","Roy Laisure",null," 616-363-9801",null," 616-363-2480","mailbox@mbce.com",null,null,null,"Moore & Bruggink, Inc.","2020 Monroe Avenue NW",null,null,null,"Grand Rapids","MI","49505","Mr.","Laisure","Chief Inspector","Engineering, Architecture","Kent"]
["Moore Electrical Service, Inc. (Nuyen)","Craig Nuyen",null," 269-343-0373",null," 269-343-3045",null,null,null,null,"Moore Electrical Service, Inc.","7528 Ravine Road",null,null,null,"Kalamazoo","MI","49509-9005","Mr.","Nuyen","Safety Manager","Contractor Electrical","Kalamazoo"]
["Moore Sales Incorporated (Wade)","Gary Wade",null," 800-948-5363"," 810-735-1181"," 810-735-1181",null,null,null,null,"Moore Sales Incorporated","7400 Jeffrey Court",null,null,null,"Linden","MI","48451","Mr.","Wade","Manufacter's Rep","Representative","Genesee"]
["Moored Land Surveying (Moored)","Ray Moored",null," 269-673-6402",null," 269-673-8192","rmoored@verizon.net",null,null,null,"Moored Land Surveying","2871 M-222","P.O. Box 291",null,null,"Allegan","MI","49010","Mr.","Moored","Owner","Contractor General","Allegan"]
["Morbark (Price)","Craig Price",null," 800-233-6065 171",null," 989-866-2280","craig.price@morbark.com",null,null,null,"Morbark","8507 S. Winn Road","PO Box 1000",null,null,"Winn","MI","48896","Mr.","Price","Safety Director","Manufacturer","Isabella"]
["Morgan Olson LLC","Scott Kline",null,"269-625-7577",null,"269-651-0200",null,null,"Michigan Sales Tax",null,"Morgan Olson LLC","Attn: Scott Kline","1861 south Centerville St.",null,null,"Sturgis","MI","49091"]
["Morley Fire Department","Chief Dan Deyo",null,"231-856-7020","Cell: 231-250-0876","231-856-7020",null,null,"Michigan Sales Tax",null,"Morley Fire Department","Attn:","620 West 3rd Street",null,null,"Morley","MI","49336"]
["Morningstar Enterprises, Inc. (Morningsta","Morningstar",null," 231-796-7263",null," 231-796-4921",null,null,null,null,"Morningstar Enterprises, Inc.","15221  172nd Avenue",null,null,null,"Big Rapids","MI","49307","Mr.","Morningstar","President","Contractor General","Mecosta"]
["Morris & Morris Sandblasting (Morris)","Jeff/Chuck Morris",null," 269-637-6309",null,null,null,null,null,null,"Morris & Morris Sandblasting","560 Blue Star Hwy.",null,null,null,"South Haven","MI","49090","Mr.","Morris","Co-Owners","Contractor General","Van Buren"]
["Morton Salt","Mike Ganger ext-",null,"231-723-2561",null,"231-723-7301",null,null,"Michigan Sales Tax","Judy at Morton 231.723.2564 x4240\nMike Cichy 5563.1500.0006.0278  x03/14","Morton Salt","Attn: Mike Ganger","180 Sixth St.",null,null,"Manistee","MI","49660"]
["Morton Salt Rohm and Haas Company (Kuk)","Don Kuk",null," 231-723-2561 4289",null," 231-723-7931","dkuk@mortonsalt.com",null,null,"Stopped by; spoke on phone. He hired Thos Greve. Next time CALL FIRST!","Morton Salt Rohm and Haas Company","Morton Salt Division","180 -- 6th Street",null,null,"Manistee","MI","49660","Mr.","Kuk","EH&S Manager","Mining","Manistee"]
["Mosaic Potach Hersey Inc. (Elliott)","Michael Elliott",null," 231-832-1241 241",null," 231-832-0575","michael.elliott@mosaicco.com",null,null,"Carole Montague is Asst. \nWill set up Agile. IMC uses Vallen for Nat'l contract. Rents Eagles -- will need 4 for next shutdown in Oct.\nKarl Tomaszewski Safety Mgr x208\nKelley Templin Safety Asst x 214\nDwight is Mike's Asst.","Mosaic Potach Hersey Inc.","1395 - 135th Avenue",null,null,null,"Hersey","MI","49639","Mr.","Elliott","Buyer / Warehouse Supervisor","Mining","Osceola"]
["Mosaic Potash Hersey","Ellen Wagner","800-741-7765 accting","231-832-1208","306-345-8084 acct pay","231-832-3349",null,null,"Michigan Sales Tax","Accts Payable  231-832-3755","Mosiac - PHE-CS-Hersey Central Storeroom","Attn: PO#H206784","1395 - 135th Av",null,null,"Hersey","MI","49639","Ms.","Wagner"]
["Motor City Stamping (Behnke)","Diane Behnke",null," 586-949-8420 168",null," 586-948-0473","dbehnke@mcstamp.com",null,null,null,"Motor City Stamping","47783 Gratiot",null,null,null,"Chesterfield","MI","48051","Ms.","Behnke",null,"Automotive","Macomb"]
["Motor Products (Morrice)","Rick Morrice",null," 800-248-3841 536",null," 989-723-6035","rmorrice@motorproducts.net",null,null,null,"Motor Products","201 South Delaney Rd.",null,null,null,"Owosso","MI","48867","Mr.","Morrice",null,"Manufacturer","Owosso"]
["Motor Products Corp.","Rick Morrice",null,"800-248-3841",null,"989-723-6035",null,null,"Michigan Sales Tax",null,"Motor Products / Allied Motion Tech.","Attn: Rick Morrice P247917-00","201 South Delaney Rd.",null,null,"Owosso","MI","48867"]
["MPI Research",null,null,null,null,null,null,null,"Michigan Sales Tax","Miguel Martinez - office: 269-668-3336 ext.1167, email:  miguel.martinez@mpiresearch.com\n\nRob Hardwick - \n\nRequested terms 11/2010 shortly after Edwin called from purchasing and was less than pleasant. He said in no uncertain terms that no one but he had the authority to request terms or do buisness. Filed paper work and never heard back from him, no responses","MPI Research","Attn: Miguel Martinez","54943 N. Main",null,null,"Mattawan","MI","49071"]
["MPI Research (Lisa)","Lisa",null," 269-668-3336 1899",null," 269-668-4795","james.wyrick@mpiresearch.com",null,null,"Ron Suszko Metrology Assoc. x2268  Darren is IH                  Jim Wyrick Gone","MPI Research","54943 North Main Street",null,null,null,"Mattawan","MI","49071-9399",null,"Lisa",null,"Chemical Pharmaceutical","Van Buren"]
["MPI Research (Martinez)","Miguel Martinez",null," 269-668-3336 1167",null," 269-668-4795","miguel.martinez@mpiresearch.com",null,null,null,"MPI Research","54943 North Main Street",null,null,null,"Mattawan","MI","49071-9399","Mr.","Martinez",null,"Chemical Pharmaceutical","Van Buren"]
["MT Piping",null,"Tony Bowen","269-659-2942","269-506-6892 - cell","269-659-2493",null,null,"Michigan Sales Tax",null,null,null,null,null,null,null,"MT"]
["Multi Lakes Water & Sewer Authority (Mest","Robert Mester",null," 734-426-9797"," 734-426-6018"," 734-426-6769",null,null,null,null,"Multi Lakes Water & Sewer Authority","12088 North Territorial Road",null,null,null,"Dexter","MI","48130","Mr.","Mester",null,"Municipal, Cty","Washtenaw"]
["Municipal & Industrial Storage (Waller)","Bill Waller",null," 616-554-7991",null," 616-301-2934",null,null,null,null,"Municipal & Industrial Storage","3866 44th Street",null,null,null,"Grand Rapids","MI","49512","Mr.","Waller",null,"Other","Kent"]
["Musashi Auto Parts (Robinson)","Rhonda Robinson",null," 269-965-0057 105",null," 269-965-1175","rrobinson@mapmi.com",null,null,null,"Musashi Auto Parts","195 Brydges Drive",null,null,null,"Battle Creek","MI","49015","Ms.","Robinson",null,"Automotive","Calhoun"]
["Muskegon Castings Corporation (Surch)","Brian Surch",null," 231-777-3941",null," 231-777-3416","briansurch@portcitygroup.com",null,null,"Mark McMillan Plant Mntc Supr 231.773.4491  Dave Forbes  Scott Maus","Muskegon Castings Corporation","1985 E. Laketon Avenue",null,null,null,"Muskegon","MI","49442","Mr.","Surch","Corporate Maintenance Manager","Automotive","Muskegon"]
["Muskegon Community College (Doyle)","Joe Doyle",null," 231-777-0300",null," 231-777-0440","joe.doyle@muskegoncc.edu",null,null,null,"Muskegon Community College","221 S. Quarterline Rd",null,null,null,"Muskegon","MI","49442","Mr.","Doyle","Associate VP of Administration","University","Muskegon"]
["Muskegon Construction Company (Bates)","Terry Bates",null," 231-726-3177",null," 231-728-3547","tbates@muskconco.com",null,null,null,"Muskegon Construction Company","1301 Williams St.",null,null,null,"Muskegon","MI","4944","Mr.","Bates","Yard Superintendent","Contractor General","Muskegon"]
["Muskegon Construction Company (Donovan)","Kevin Donovan",null," 231-726-3177 14",null," 231-728-3547","kdonovan@muskconco.com",null,null,"Met. Said to see Terry Bates mob 231.206.1956 at 1361 Wms St.  TB said to come by next time.","Muskegon Construction Company","111 W. Western","PO Box 477",null,null,"Muskegon","MI","49443-0477","Mr.","Donovan","General Superintendent","Contractor General","Muskegon"]
["Muskegon County Airport","Mike Kotecki",null,"231-798-4596",null,null,null,null,"NTXFED",null,"Muskegon County Airport","Mike Kotecki","99 Sinclair Drive",null,null,"Muskegon","MI","49441"]
["Muskegon County Emergency Services","Roy Wheeler","christine(buyer)231-724-6281","231-724-6597",null,"231-724-6678",null,null,"Non-Tax Municipality/Utility",null,"North Muskegon Fire Dept.","1102 Ruddiman Ave.",null,null,null,"North Muskegon","MI","49445"]
["Muskegon County Emergency Services (Wheel","Roy Wheeler",null," 231-724-",null," 231-724-6678","wheelerro@co.muskegon.mi.us",null,null,null,"Muskegon County Emergency Services","133 East Apple",null,null,null,"Muskegon","MI","49442","Mr.","Wheeler",null,"Municipal, Cty","Muskegon"]
["Muskegon County Road Commission (Hulka)","Ken Hulka",null," 231-788-7221",null,null,null,null,null,null,"Muskegon County Road Commission","7700 Apple",null,null,null,"Muskegon","MI","49442","Mr.","Hulka","Interim Supervisor","Municipal, Cty","Muskegon"]
["Muskegon County Road Commission (Timmer)","Mark Timmer",null," 231-788-7280",null,null,null,null,null,"Mark Timmer has replaced Bruce Gasaway\nHe is new contact","Muskegon County Road Commission","7700 Apple",null,null,null,"Muskegon","MI","49442","Mr.","Timmer","EH&S Director","Municipal, Cty","Muskegon"]
["Muskegon County Road Commission(Whitehall","Doug Davis",null," 231-893-6515",null,null,null,null,null,null,"Muskegon County Road Commission(Whitehall","Whitehall Rd.",null,null,null,"Whitehall","MI","49461","Mr.","Davis","Site Supervisor","Municipal, Cty","Muskegon"]
["Muskegon County Wastewater Management Sys","Steven Barnard",null," 231-724-3441",null," 231-724-3588","barnardst@co.muskegon.mi.us",null,null,null,"Muskegon County Wastewater Management Sys","8301 White Road",null,null,null,"Muskegon","MI","49442","Mr.","Barnard","Safety Technical Coordinator","Municipal, Cty","Muskegon"]
["Muskegon County WWTP","Steve Barnard","ellen/payables 231.724.3429","231-724-3440",null,"231-724-3588",null,null,"Non-Tax",null,"Muskegon County WWTP","Steve Barnard","8301 White Road",null,null,"Muskegon","MI","49442","Mr.","Barnard"]
["Muskegon DPW, City of","David Smith",null,"231-724-6989",null,"231-722-4188",null,null,"Non-Tax Municipality/Utility",null,"Muskegon DPW, City of","Attn:Andy Twork","1350 East Keating",null,null,"Muskegon","MI","49442"]
["Muskegon DPW, City of (Cousineau)","Dan Cousineau",null," 231-724-6988"," 231-724-4100"," 231-722-4188",null,null,null,null,"Muskegon DPW, City of","1350 E. Keating",null,null,null,"Muskegon","MI","49442","Mr.","Cousineau","Water/Sewer Supervisor","Municipal, Cty","Muskegon"]
["Muskegon DPW, City of (DeFrench)","Kelly DeFrench",null," 231-724-4100 4184",null," 231-722-4188",null,null,null,null,"Muskegon DPW, City of","1350 E. Keating Avenue",null,null,null,"Muskegon","MI","49442","Mr.","DeFrench","Superintendent","Municipal, Cty","Muskegon"]
["Muskegon DPW, City of (Sayles)","Doug Sayles",null," 231-724-6983"," 231-724-4100"," 231-722-4188","doug_sayles@postman.org",null,null,null,"Muskegon DPW, City of","1350 E. Keating",null,null,null,"Muskegon","MI","49442","Mr.","Sayles","Highway Supervisor","Municipal, Cty","Muskegon"]
["Muskegon DPW, City of (Smith)","David Smith",null," 231-724-6989"," 231-724-4100"," 231-722-4188","smithda@postman.org",null,null,"John Schultz 231.724.4100, Stockroom  Andy Twork Stores Mgr","Muskegon DPW, City of","1350 E. Keating",null,null,null,"Muskegon","MI","49442","Mr.","Smith","Water / Sewer Supervisor","Municipal, Cty","Muskegon"]
["Muskegon DPW, City of (Twork)","Andy Twork",null," 231-724-6912",null," 231-722-4188","andy.twork@postman.org",null,null,"Quoted on all items in stockroom, need samples which may bring about a requote\n-very nice guy, loves snowmobiling","Muskegon DPW, City of","1350 E. Keating",null,null,null,"Muskegon","MI","49442","Mr.","Twork","Stockkeeper","Municipality","Muskegon"]
["Muskegon Heights DPW, City of (Morris)","Gauntrial Morris",null," 231-739-3378",null," 231-733-0712",null,null,null,"James is Foreman; see also Utilities Dept. at Sherman and 5th  Brian?\nPearl Buckner; James Gardner","Muskegon Heights DPW, City of","3124 Wood Street",null,null,null,"Muskegon Heights","MI","49444","Mr.","Morris","Director","Municipal, Cty","Muskegon"]
["Muskegon Heights Water Distribution",null,null,null,null,null,null,null,"Michigan Sales Tax",null,"Muskegon Heights Water Distribution","Attn:","155 W Sherman Blvd",null,null,"Muskegon Heights","MI","49444"]
["Muskegon Heights Water Distribution ()",null,null," 231-733-8955",null,null,null,null,null,null,"Muskegon Heights Water Distribution","155 W Sherman Blvd",null,null,null,"Muskegon Heights","MI","49444",null,null,null,"Municipal, Cty","Muskegon"]
["Muskegon Heights Water Filtration",null,"John Allen / Eric Francik","a/p 231-733-8850","231-780-3415","231-780-2381",null,null,"Non-Tax Municipality/Utility","A/P Lori Doody  ph 231.733.8850   fx 231.733.5229","Muskegon Heights Water Filtration","Attn:Daryl VanDyke","2323 Seminole Road",null,null,"Muskegon Heights","MI","49441"]
["Muskegon Heights Water Filtration, City o","Daryl VanDyke",null," 231-780-3415",null," 231-780-2381","dvandyke@cityofmuskegonheights.org",null,null,"Lori handles A/P 231.733.8850","Muskegon Heights Water Filtration, City o","2323 Seminole Road",null,null,null,"Muskegon Heights","MI","49441","Mr.","VanDyke","Superintendent","Municipal, Cty","Muskegon"]
["Muskegon Heights Water Treatment Plant, C","Eric Francik",null," 231-780-3415 2",null," 231-780-2381","efrancik@verizon.net",null,null,"DO NOT SEND BILLS TO CITY HALL\nSEND TO ADDRESS LISTED ABOVE","Muskegon Heights Water Treatment Plant, C","2323 Seminole Rd.",null,null,null,"Muskegon","MI","49444","Mr.","Francik","Safety Buyer","Municipal, Cty","Muskegon"]
["Muskegon Muskegon County Road Commission","Bruce Gasaway",null,"231-788-7280",null,null,null,null,"Non-Tax Municipality/Utility",null,"Muskegon Muskegon County Road Commission","Attn: Bruce Gasaway","7700 Apple",null,null,"Muskegon","MI","49442"]
["Muskegon Quality Builders (Grimm)","Tom Grimm",null," 231-733-4278",null,null,null,null,null,null,"Muskegon Quality Builders","2837 Peck St.",null,null,null,"Muskegon","MI","49444","Mr.","Grimm","Safety",null,"Muskegon"]
["Muskegon Twp. Fire Dept.","Capt. Morgan",null,"231-773-4316",null,"231-767-8422",null,null,"Non-Tax Municipality/Utility",null,"Muskegon Twp. Fire Dept.","Attn:","1117 S. Walker Rd.",null,null,"Muskegon","MI","49442"]
["Muskegon Water Treatment Plant","Kevin Herbert",null,"231-724-4105",null,"231-755-5290",null,null,"Non-Tax Municipality/Utility",null,"Muskegon Water Treatment Plant","Attn:","1900 Beach St.",null,null,"Muskegon","MI","49441"]
["Muskegon Water Treatment Plant, City of (","Kevin Herbert",null," 231-724-4104",null," 231-755-5290","kevin.herbert@postman.org",null,null,null,"Muskegon Water Treatment Plant, City of","1900 Beach Street",null,null,null,"Muskegon","MI","49441","Mr.","Herbert",null,"Municipal, Cty","Muskegon"]
["My-Con Inc.","Kevin Hager",null,"616-896-9049",null,"616-459-5972",null,null,"Michigan Sales Tax",null,"My-Con Inc.","Attn:","3801 Perry Street",null,null,"Hudsonville","MI","49426"]
["My-Con, Inc. (Hager)","Kevin Hager",null," 616-896-9049",null," 616-459-5972","kev@mycon-contractors.com",null,null,"Has RAE unit  also Joe Schmidt","My-Con, Inc.","3801 Perry Street",null,null,null,"Hudsonville","MI","49426","Mr.","Hager",null,"Contractor, Excavator","Ottawa"]
["Nachi Machining Technology Co.","Paul Waleke",null,"810-263-0100",null,"586-263-4571",null,null,"Michigan Sales Tax",null,"Nachi Machining Technology Co.","Attn: Paul Waleke 71962","17500 Twenty-Three Mile Road",null,null,"Macomb","MI","48044-1103"]
["Nalco Chemical (Charbonneau)","Tom Charbonneau",null," 989-859-3979",null,null,"tcharbon@nalco.com",null,null,null,"Nalco Chemical","1601 W. Diehl Road",null,null,null,"Naperville","IL","60563-1198","Mr.","Charbonneau",null,"Chemical Pharmaceutical","Out of State"]
["Natural Resources Dep't. of Ottawa Indian","Bryan Gibson",null," 231-398-2193",null,null,null,null,null,"DNR for the regional Indians\n-they use basic DPW maintenance things\n-located in East Lake on the way to Wellston heading out of Manistee","Natural Resources Dep't. of Ottawa Indian","375 River St.",null,null,null,"Manistee","MI","49660","Mr.","Gibson","Maintenance Director","Other","Manistee"]
["Natural Systems (Demirjian)","Brad Demirjian",null," 231-798-3744",null," 231-798-4163",null,null,null,null,"Natural Systems","4265 Grand Haven Road",null,null,null,"Muskegon","MI","49441","Mr.","Demirjian",null,"Contractor EH&S","Muskegon"]
["Natural Systems (Hansen)","Ben Hansen",null," 231-798-3744",null," 231-798-4163",null,null,null,null,"Natural Systems","4265 Grand Haven Road",null,null,null,"Muskegon","MI","49441","Mr.","Hansen",null,"Contractor EH&S","Muskegon"]
["Natural Systems (Mertz)","Rob Mertz",null," 231-798-3744",null," 231-798-4163",null,null,null,null,"Natural Systems","4265 Grand Haven Road",null,null,null,"Muskegon","MI","49441","Mr.","Mertz",null,"Contractor EH&S","Muskegon"]
["Nederveld Associates, Inc.","Jerry Kuiper",null,"616-575-5190","cell 460-3725 Mark F","616-575-6644",null,null,"Michigan Sales Tax",null,"Nederveld Associates, Inc.","Attn:Marc","217 Grandville Ave. Suite 302",null,null,"Grand Rapids","MI","49503"]
["Nederveld Associates, Inc. (Kuiper)","Jerry Kuiper",null," 616-669-5190",null," 616-669-6699","jkuiper@nederveld.com",null,null,null,"Nederveld Associates, Inc.","217 Grandville Avenue SW, Suiite 302",null,null,null,"Grandville","MI","49426","Mr.","Kuiper",null,"Engineering, Architecture","Kent"]
["Nelco Company",null,"Tom Charbonaou","989-859-3979",null,"989-865-0081","tcharbonaou@nelco.com",null,"Michigan Sales Tax",null,"Nelco Company","Attn:","6111 South Orr Road",null,null,"St. Charles","MI","48655"]
["Nestle Gerber (Ozadali)","Ferhan Ozadali",null," 231-928-3154",null,null,"ferhan.ozadali@rd.nestle.com",null,null,null,"Nestle Gerber","445 State Street",null,null,null,"Fremont","MI","49413","Mr.","Ozadali",null,"Food","Lake"]
["Nestle Nutrition (Fremont)","Ferhan Ozadali",null,"231-928-3154",null,null,null,null,"Non-Tax",null,"Nestle Nutrition (Fremont)","Nutirition R&D- Infant M&D","Attn: PO# 4520278947","445 State St.",null,"Fremont","MI","49412"]
["New Covert Generating Company (Boreham)","Gary Boreham",null," 269-764-3800 3861",null," 269-764-3801","gboreham@tpfholdings.com",null,null,"Richard Evans, Plant Mgr.\nBucky Ray, Mntc Mgr. bray@tpfholdings.com  m 269.214.0605\nBrian Kemp m 269.876.1875\nDon Eaddy, Lead Mntc Team","New Covert Generating Company","26000 77th Street",null,null,null,"Covert","MI","49043","Mr.","Boreham","Lead IC&E Tech","Utility","Allegan"]
["New Covert Generating Company (Morris)","Anita Morris",null," 269-764-3806",null," 269-764-3817","anita.morris@covertgen.com",null,null,null,"New Covert Generating Company","26000 77th St.",null,null,null,"Covert","MI","49043","Ms.","Morris","Secretary","Utility","Allegan"]
["New Customer"]
["Newaygo DPW (Wight)","Ron Wight",null," 231-652-7984",null,null,null,null,null,"Met with Ron who was very nice and welcoming, hard guy to catch up with as they do handle virtually everything that needs to be done in town.\nKelly works with him and handles the WATER side of things","Newaygo DPW","8233 S. Mundy Ave.",null,null,null,"Newaygo","MI","49337",null,"Wight","Superintendent","Municipal, Cty","Muskegon"]
["Newkirk Electric (Anton)","Tom Anton",null," 231-722-1691",null," 231-722-1690","twanton@newkirk-electric.com",null,null,"See Pat McGuirl","Newkirk Electric","1875 Roberts Street",null,null,null,"Muskegon","MI","49442","Mr.","Anton","Owner","Contractor Electrical","Muskegon"]
["Newkirk Electric (Cusack)","Curt Cusack",null," 231-722-1691",null," 231-722-1690","cjcusack@newkirk-electric.com",null,null,"Tom, Ted, Jim Anton Owners\nSteve Poholski mob 231.206.3655 Supt.\nDave, Marchella in Purch\nRick Woodbury mob 231.206.3910 Warehouse Mgr.","Newkirk Electric","1875 Roberts Street",null,null,null,"Muskegon","MI","49442","Mr.","Cusack","Safety Manager","Contractor Electrical","Muskegon"]
["Newkirk Electric (Poholski)","Steve Poholski",null," 231-722-1691"," 231-724-4022"," 231-722-1690","sppoholski@newkirk-electric.com",null,null,null,"Newkirk Electric","1875 Roberts Street",null,null,null,"Muskegon","MI","49442","Mr.","Poholski","Supervisor","Contractor Electrical","Muskegon"]
["Newkirk Electric (Slebeck)","Amanda Slebeck",null," 231-722-1691",null," 231-722-1690","aslebeck@newkirk-electric.com",null,null,null,"Newkirk Electric","1875 Roberts Street",null,null,null,"Muskegon","MI","49442","Ms.","Slebeck","EH&S Asst.","Electrical Contractor","Muskegon"]
["Newkirk Electric (Woodbury)","Rick Woodbury",null," 231-722-1691",null," 231-722-1690",null,null,null,"Supposedly Rick is the reason we have been unable to get any of Newkirk's business\n-try to meet and schmooze....","Newkirk Electric","1875 Roberts Street",null,null,null,"Muskegon","MI","49442",null,"Woodbury","Warehouse/Stores","Contractor Electrical","Muskegon"]
["Newkirk Electric Associates, Inc.","Tom Anton",null,"231-722-1691",null,"231-722-1700",null,null,"NonTx Re-Sale",null,"Newkirk Electric Associates, Inc.","Attn: Ryan Connor 072687","1875 Roberst Street",null,null,"Muskegon","MI","49442"]
["NewTech Inc.",null,null,"802-728-9170",null,null,null,null,"Michigan Sales Tax",null,"NewTech Inc.","Attn: Robert Dimmick","11 Hedding Drive",null,null,"Randolph","VT","05060"]
["Nexeo Solutions (Bosomworth)","Peggy Bosomworth",null," 251-471-3405 226",null," 859-357-4727","mmbosomworth@nexeosolutions.com",null,null,null,"Nexeo Solutions","701 Western Drive",null,null,null,"Mobile","AL","36607","Ms.","Bosomworth",null,"Chemical Pharmaceutical","Out of State"]
["NextGen (Shamamy)","Matt Shamamy",null," 248-214-2100",null," 248-669-4901","matthew.shamamy@nextgen.com",null,null,null,"NextGen","50453 Pontiac Trail",null,null,null,"Wixom","MI","48393","Mr.","Shamamy",null,"Automotive","UNSURE"]
["Nextteq, LLC (Lightburn)","Steve Lightburn",null," 877-312-2333 17"," 813-249-5888"," 877-312-2444",null,null,null,"Nadine Crist, cust svc mgr.  Derek","Nextteq, LLC","8406 Benjamin Road  Suite J",null,null,null,"Tampa","FL","33634","Mr.","Lightburn","Sales Manager","Supplier","Out of State"]
["NFO Acres Cooperative, Inc. (John)","John",null," 231-757-3263",null,null,null,null,null,"Very nice gentleman, said noone ever calls on them and they do use fall protection equipment and most likely do have a need for gas detection when entering silos","NFO Acres Cooperative, Inc.","709 U.S. 10 Hwy",null,null,null,"Scottville","MI","49454",null,"John","Site Manager","Food","Feed Mill"]
["Nicholson Construction","Dan Thome",null,"269-353-8421",null,"269-353-8435",null,null,"Michigan Sales Tax",null,"Nicholson Construction","Attn: Dan Thome","5945 West Main St. Suite 102",null,null,"Kalamazoo","MI","49009"]
["Nicholson Construction (Thome)","Dan Thome",null," 269-353-8421",null," 269-353-8435",null,null,null,"Bought eyewash stns. for Mich. St. jobsite.","Nicholson Construction","5945 West Main Street Ste 102",null,null,null,"Kalamazoo","MI","49009","Mr.","Thome",null,"Contractor General","Kalamazoo"]
["Nicor Inc.",null,"Jim Doumouras","630-388-3206","630-217-3125","630-983-4345",null,null,"Out of State",null,"Nicor Inc.","Attn:","1844 West Ferry Road",null,null,"Naperville","IL","60563"]
["Noble Coatings (Sleeman)","Bill Sleeman",null," 616-771-0701",null," 616-771-0702","bsleeman@noblecoatings.com",null,null,null,"Noble Coatings","437 Spring Avenue NE",null,null,null,"Grand Rapids","MI","49503","Mr.","Sleeman",null,"Contractor General","Kent"]
["Noble Polymers, LLC","Eugene Vis","Carl Loyd","616-975-4987",null,"616-975-4803",null,null,"Michigan Sales Tax","Karen Clay\n  616-254-4124","Noble Polymers, LLC","Attn:","4855  -  37th Street SE",null,null,"Grand Rapids","MI","49512"]
["Noble Polymers, LLC (Loyd)","Carl Loyd",null," 616-254-4124",null," 616-975-4803","loydc@cascadeng.com",null,null,null,"Noble Polymers, LLC","4855  -  37th Street SE",null,null,null,"Grand Rapids","MI","49512","Mr.","Loyd",null,"Plastics","Kent"]
["Non-Ferrous Cast Alloys, Inc. (Amy)","Amy",null," 231-799-0550",null," 231-799-9702",null,null,null,null,"Non-Ferrous Cast Alloys, Inc.","1146 North Gateway Blvd.",null,null,null,"Muskegon","MI","49441",null,"Amy","Safety","Manufacturer","Muskegon"]
["Non-Ferrous Casting Alloys (Chmelar)","Joe Chmelar",null," 231-799-0550 114",null," 231-799-9702","joe@nfcacom",null,null,null,"Non-Ferrous Casting Alloys","1146 North Gateway Blvd.",null,null,null,"Norton Shores","MI","49441","Mr.","Chmelar","Safety","Manufacturer","Muskegon"]
["NorLAB (Partch)","Keith Partch",null," 800-657-6672",null," 208-331-3038","keithp@norco-inc.com",null,null,"Sean Johnson, Daniel Robertson, \nKurt Wright -- good","NorLAB","1125 West Amity Road",null,null,null,"Boise","ID","83705","Mr.","Partch","Sales Manager","Supplier","Out of State"]
["North American Bioproducts Corporation (K","Jayne Kalbfleisch",null,null,null," 517-645-4538","jkalbfleisch@na-bio.com",null,null,null,"North American Bioproducts Corporation","1815 Satellite Boulevard, Building 200",null,null,null,"Duluth","GA","30097","Ms.","Kalbfleisch","Technical Services Scientist","Chemical Pharmaceutical","Out of State"]
["North American Refractories Co. (Parish)","Matt Parish",null," 231-689-6641",null,null,null,null,null,"They have AIM Gas Detection already, but will need service in the near future\nTheir theory on fall protection is that if you are above 25' you have to be tied off.....\nContinue to maintain a presence as business did seem to be good","North American Refractories Co.","1301 East Eighth St.",null,null,null,"White Cloud","MI","49349",null,"Parish","Maintenace Lead","Steel","Metal Casting"]
["North by Honeywell (Pennese)","Jason Pennese",null," 419-873-0744"," 800-603-1645 4023"," 419-873-0745","jason.pennese@honeywell.com",null,null,"Mr. Alex Tsen 800.836.8006  x316 taken over for Tina, who's gone to outside sales. Also Natasha x322\nJason lives in OH .  Aaron Fletcher gone. Kevin Sheridan still there.\nWants to work with me. Kevin Sheridan is Regl Mgr. Meet 7.16.03?\nSaf-T-Climb Tina Bhela 800.836.8006 x313  780.437.2641\nMr. Alex Tsen x316","North by Honeywell","2000 Plainfield Pike",null,null,null,"Cranston","RI","2921","Mr.","Pennese","Territory Manager","Supplier","Out of State"]
["North Kent Sewer Authority","Brian Gifford",null,"616-363-0702","cell 616-299-3897",null,null,null,"Non-Tax Municipality/Utility",null,"North Kent Sewer Authority","Attn: Brian Gifford","PARCCSide Clean Water Plant","4775 Coit Ave.",null,"Grand Rapids","MI","49525"]
["North Kent Sewer Authority (Gifford)","Brian Gifford",null," 616-363-0702",null," 616-363-0711","bgifford@nksa.us",null,null,"Larry Campbell is Director","North Kent Sewer Authority","7 South Monroe Street",null,null,null,"Rockford","MI","49341","Mr.","Gifford",null,"Municipal, Cty","Kent"]
["North Muskegon D.P.W. ()",null,null," 231-744-3022",null,null,null,null,null,null,"North Muskegon D.P.W.","2113 Lake Ave.",null,null,null,"North Muskegon","MI","49445",null,null,"Director","Municipal, Cty","Muskegon"]
["North Muskegon Fire Department, City of (","Steven Lague",null," 231-744-1766",null," 231-744-7277","nmfd@novagate.com",null,null,null,"North Muskegon Fire Department, City of","1102 Ruddiman Ave.",null,null,null,"North Muskegon","MI","49445","Mr.","Lague","Fire Marshal","Fire Department","Muskegon"]
["North Muskegon Police Department"," Tim Crouch",null,"231-744-4313",null,null,null,null,"Michigan Sales Tax",null,"North Muskegon Police Department","Attn: Tim Crouch","1114 Ruddiman Dr",null,null,"North Muskegon","MI","49445"]
["North Muskegon Police Department (Croucha","Chief Tom Crouchak",null," 231-744-4313",null,null,null,null,null,null,"North Muskegon Police Department","1114 Ruddiman Dr",null,null,null,"North Muskegon","MI","49445","Mr.","Crouchak","Chief","Fire Department","Muskegon"]
["North Shore Marina (Demilio)","Jim Demilio",null," 616-842-1488",null," 616-842-0143",null,null,null,null,"North Shore Marina","18275 Berwyck St.",null,null,null,"Spring Lake","MI","49456","Mr.","Demilio","Parts Coordinator","Other","Ottawa"]
["North Star BlueScope Steel LLC","Tony Orth",null,"419-822-2200",null,null,null,null,"OH Fulton Co.","Brtian Armstrong - cell:  419-409-0998\nCraig Tipton - email: craig.tipton@nsbsl.com (guide during visits)\n\nField Service Conatacts:\nJim Kelsey\nRob Kearney - cell: 419-822-7203, email: rob.kearney@nsbsl.com","North Star BlueScope Steel LLC","Receiving - PO#214145","6767 County Road 9",null,null,"Delta","OH","43515-9449"]
["North Star BlueScope Steel LLC (Armstrong","Brian Armstrong",null," 419-822-2330",null," 419-822-2409","brian.armstrong@northstarbluescope.com",null,null,null,"North Star BlueScope Steel LLC","6767 County Road 9",null,null,null,"Delta","OH","43515-2200","Mr.","Armstrong","Melt Shop Mechanical Maintenan","Steel","Out of State"]
["North Star BlueScope Steel LLC (Kelsey)","Jim Kelsey",null," 419-822-2264",null,null,"jim.kelsey@nsbsl.com",null,null,null,"North Star BlueScope Steel LLC","6767 County Road 9",null,null,null,"Delta","OH","43515-2200","Mr.","Kelsey","Meltshop Senior Electrical Tec","Steel","Out of State"]
["North Star BlueScope Steel LLC (Morris)","Matthew Morris",null," 419-822-2441",null," 419-822-2409","matt.morris@northstarbluescope.com",null,null,null,"North Star BlueScope Steel LLC","6767 County Road 9",null,null,null,"Delta","OH","43515-2200","Mr.","Morris","EAF Electrical Team Leader","Steel","Out of State"]
["North Star BlueScope Steel LLC (Orth)","Tony Orth",null," 419-822-2495",null,null,"tony.orth@northstarbluescope.com",null,null,"Also, for GfG fixed cal'ns: Luke Stoup 419:822:2464; boss is Larry Vietmeier 419.822.2435","North Star BlueScope Steel LLC","6767 County Road 9",null,null,null,"Delta","OH","43515-2200","Mr.","Orth","EAF Electrical Team Leader","Steel","Out of State"]
["North Star Medical (Endres)","John Endres",null," 616-977-0118",null," 616-977-9738","aedlifesaver@comcast.net",null,null,null,"North Star Medical","1241 Ridge Creek Trail NE",null,null,null,"Ada","MI","49301","Mr.","Endres","Sales / Marketing","Suppliers","Kent"]
["Northern -A-1 Services","Rick  Schemhil",null,"231-258-9961",null,"231-258-9971",null,null,"Michigan Sales Tax","Rick Schemhil - Cell: 231-215-1097\n\nA/P  Carol Heier in Kalkaska \n  231.258.7320 ph\n  231.258.7321 fx\n  carolh@americanwaste.org","Northern A-1 Services","Attn: Rick  Schmehil","1680 Peach Street",null,null,"Whitehall","MI","49461"]
["Northern A-1 Mechanical (Eastling)","Berl Eastling",null," 231-728-4354",null,null,null,null,null,"Bruce Ripka mob 616.813.6214 is Safety Director\nCurrently using Specialized Safety  out of Kalkaska","Northern A-1 Mechanical","1122 E. Barney Ave.",null,null,null,"Muskegon","MI","49444","Mr.","Eastling","Manager","Mechanical Contractor","Muskegon"]
["Northern A-1 Services, Inc. (Schmehil)","Rick Schmehil",null," 231-728-4354",null," 231-728-6201","ricks@northerna1.com",null,null,"mob 231.215.1097 mob 231-730-1856\nwas Environmental Recycling Group, Valley City\n Paul Cottrell   Eric Thayer are owners  Ed Dawkins 734.437.9650 x658, mob 734.564.3701 edawkins@callerg.com  Penny Honke is A/P contact Forrest Beard 734.391.5611 mob\nPaul DeLeon 616.277.8345 mob","Northern A-1 Services, Inc.","1122 E. Barney Ave.",null,null,null,"Muskegon","MI","49444","Mr.","Schmehil",null,"Contractor EH&S","Muskegon"]
["Northern Boiler and Mechanical Contractor","John Nic",null," 231-777-2525 226",null," 231-777-2853","jnic@northernboiler.com",null,null,"Bill Krawczyk LBWL Plant Mntc & Engg Prod Support 517.331.6835\nPaul Bousquet TRK Engg Svcs 978.793.2355","Northern Boiler and Mechanical Contractor","2025 Latimer Drive",null,null,null,"Muskegon","MI","49442","Mr.","Nic","Project Manager","Contractor General","Muskegon"]
["Northern Boiler Mechanical Contractors","Don Rake",null,"231-777-2525",null,"231-777-2853",null,null,"Michigan Sales Tax","As per Cust request please charge sales tax unless otherwise indicated. 12/12/07 letter\n\nAccounting is Cathy at X222\n\nAlan - cell: 231-638-0794\nDon Rake - cell: 231-903-2613","Northern Boiler Mechanical Contractors","Attn: Don Rake","2025 Latimer Drive",null,null,"Muskegon","MI","49442"]
["Northern Concrete Pipe, Inc. (Phillips)","Tim Phillips",null," 800-222-9918",null," 989-892-3533","ttphillips@ncp-inc.com",null,null,"Met at MI Safety Cnference","Northern Concrete Pipe, Inc.","401 Kelton Street",null,null,null,"Bay City","MI","48706","Mr.","Phillips",null,"Manufacturer","Bay"]
["Northland Farms, LLC (Oros)","Jim Oros",null," 616-846-1477",null,null,null,null,null,"Quoting on full line of PPE today","Northland Farms, LLC","11161 120th Ave.",null,null,null,"West Olive","MI","49460","Mr.","Oros","Buyer","Nursery","Ottawa"]
["Northshore Construction (Kenny)","Bill Kenny",null," 231-755-6022",null," 231-755-6526","bill@northshore-construction.com",null,null,null,"Northshore Construction","1700 Lakeshore Drive",null,null,null,"Muskegon","MI","49441","Mr.","Kenny","Safety Director","Contractor General","Muskegon"]
["Northshore Construction (Michaels)","Ben Michaels",null," 231-755-6022",null," 231-755-6526",null,null,null,null,"Northshore Construction","1700 Lakeshore Drive",null,null,null,"Muskegon","MI","49441","Mr.","Michaels","Purchasing","Contractor General","Muskegon"]
["Northshore Construction (Smith)","Craig Smith",null," 231-755-6022",null," 231-755-6526","craig@northshore-construction.com",null,null,"Janet is Sec.","Northshore Construction","1700 Lakeshore Drive",null,null,null,"Muskegon","MI","49441","Mr.","Smith","Construction Manager","Contractor General","Muskegon"]
["Northshore Construction Co.","Bill Kenney",null,"231-755-6022",null,"231-755-6526",null,null,"Michigan Sales Tax","Ed Mikos - cell:  231-903-3361\n\"Ben\" Michaels - Purchasing","Northshore Construction Co.","Attn: Bill Kenney","1700 Lakeshore Drive",null,null,"Muskegon","MI","49441"]
["Northstar Instrumentation LLC","Jeff Tobian (owner)",null,"734-878-9466","734-323-4586 cell","734-878-4625",null,null,"Michigan Sales Tax",null,"Northstar Instrumentation LLC","Attn:","10363 Halfmoon Dr.",null,null,"Pinckney","MI","48169"]
["Northwest Kent Mechanical","Mike Bergman","Daniel Rouhan / Mark","616-696-9026",null,"616-696-9327",null,null,"Michigan Sales Tax",null,"Northwest Kent Mechanical","Attn: Mike Bergman","4095 - 16 Mile Road",null,null,"Cedar Springs","MI","49319"]
["Northwest Kent Mechanical (Bergman)","Mike Bergman",null," 616-696-9026",null," 616-696-9327","mbergman@nwkentmech.com",null,null,null,"Northwest Kent Mechanical","4095  16 Mile Road","PO Box 216K",null,null,"Cedar Springs","MI","49319","Mr.","Bergman","Field Superintendent","Contractor General","Kent"]
["Northwest Kent Mechanical (Henry)","Skip Henry",null," 616-696-9026",null," 616-696-9327","vandy@nwkentmech.com",null,null,"Freeman Corky Teer Estimator; Vandy Krueger does commodities","Northwest Kent Mechanical","4095  16 Mile Road","PO Box 216K",null,null,"Cedar Springs","MI","49319","Mr.","Henry",null,"Contractor General","Kent"]
["Northwest Kent Mechanical (Reed)","Ken Reed",null," 616-696-9026",null," 616-696-9327",null,null,null,null,"Northwest Kent Mechanical","4095  16 Mile Road","PO Box 216K",null,null,"Cedar Springs","MI","49319","Mr.","Reed","Site Supervisor",null,"Kent"]
["Northwest Ottawa Water Treatment Plant","Joseph VanderStel",null,"616-847-3487",null,"616-850-8738",null,null,"Non-Tax Municipality/Utility",null,"Northwest Ottawa Water Treatment Plant","Attn:","30 Sherman Avenue",null,null,"Grand Haven","MI","49417"]
["Northwest Ottawa Water Treatment Plant (V","Terry Velik",null," 616-847-3487",null," 616-850-8738","tvelik@grandhaven.org",null,null,null,"Northwest Ottawa Water Treatment Plant","30 Sherman Avenue",null,null,null,"Grand Haven","MI","49417","Mr.","Velik","Water Facilities Manager","Municipal, Cty","Ottawa"]
["Northwest Tool & Die Co., Inc.","Paul Peck",null,"616-453-8286",null,"616-453-7410",null,null,"Michigan Sales Tax",null,"Northwest Tool & Die Co., Inc.","Attn:","2980 Three Mile Road NW",null,null,"Grand Rapids","MI","49544"]
["Northwest Tool & Die Co., Inc. (Peck)","Paul Peck",null," 616-453-8286",null," 616-453-7410",null,null,null,null,"Northwest Tool & Die Co., Inc.","2980 Three Mile Road NW",null,null,null,"Grand Rapids","MI","49544","Mr.","Peck",null,"Manufacturer","Kent"]
["Northwest Tool Supply, Inc.",null,null,"248-669-4040",null,"248-669-0136","northwesttoolsupplyinc@sbcglobal.net",null,"Michigan Sales Tax","Service contact:  Carroll (Male) Randall","Northwest Tool Supply, Inc.","Attn: Carroll Randall","30270 Beck Road",null,null,"Wixom","MI","48393"]
["Norton Shore Fire Department, City of (Ka","Ted Karnitz",null," 231-739-6597",null," 231-780-4021",null,null,null,null,"Norton Shore Fire Department, City of","3920 Airline Road",null,null,null,"Norton Shore","MI","49444","Mr.","Karnitz",null,"Fire Department","Muskegon"]
["Norton Shores DPW","Terry Sladick / Derek Gajdos","Dave Geyer","231-798-2156",null,"231-7983743","tsladick@aol.com",null,"Non-Tax Municipality/Utility","Scott Houghtaling (hotel-ing) - Service contact","Norton Shores DPW","Attn: Scott Houghtaling","85 E. Mt. Garfield",null,null,"Norton Shores","MI","49441"]
["Norton Shores DPW, City of (Gajdos)","Derek Gajdos",null," 231-798-2156"," 231-578-4994"," 231-798-3743","dgajdos@nortonshores.org",null,null,"Breather Box is Allegro single person model#9873","Norton Shores DPW, City of","85 E. Mt. Garfield",null,null,null,"Norton Shores","MI","49441","Mr.","Gajdos",null,"Municipal, Cty","Muskegon"]
["Norton Shores DPW, City of (Houghtaling)","Scott Houghtaling",null," 231-798-2156",null," 231-798-3743","shoughtaling@nortonshores.org",null,null,null,"Norton Shores DPW, City of","85 E. Mt. Garfield",null,null,null,"Norton Shores","MI","49441","Mr.","Houghtaling",null,"Municipal, Cty","Muskegon"]
["Norton Shores DPW, City of (Lehan)","Craig Lehan",null," 231-798-2156",null," 231-798-3743",null,null,null,null,"Norton Shores DPW, City of","85 E. Mt. Garfield",null,null,null,"Norton Shores","MI","49441","Mr.","Lehan","Water / Sewer Supervisor","Municipal, Cty","Muskegon"]
["Norton Shores DPW, City of (Nummerdor)","Brian Nummerdor",null," 231-798-2156"," 231-798-4391"," 231-798-3743",null,null,null,null,"Norton Shores DPW, City of","85 E. Mt. Garfield",null,null,null,"Norton Shores","MI","49441","Mr.","Nummerdor","Streets Supervisor","Municipal, Cty","Muskegon"]
["Norton Shores DPW, City of (Sladick)","Terry Sladick",null," 231-798-2156",null," 231-798-3743","tsladick@aol.com",null,null,"Donna Holmberg dholmberg@nortonshores.org","Norton Shores DPW, City of","85 E. Mt. Garfield",null,null,null,"Norton Shores","MI","49441","Mr.","Sladick","Superintendent of Streets and","Municipal, Cty","Muskegon"]
["Norton Shores DPW, City of (Taylor)","Jim Taylor",null," 231-798-2156"," 231-798-4391"," 231-798-3743",null,null,null,null,"Norton Shores DPW, City of","85 E. Mt. Garfield",null,null,null,"Norton Shores","MI","49441","Mr.","Taylor","Water / Sewer Supervisor","Municipal, Cty","Muskegon"]
["Norton Shores Fire Department, City of (D","Ken Dewitt",null," 231-739-6597"," 231-780-2500"," 231-780-4021",null,null,null,"Ted Karnitz","Norton Shores Fire Department, City of","1577 Seminole Rd.",null,null,null,"Norton Shores","MI","49441","Mr.","Dewitt",null,"Fire Department","Muskegon"]
["Norwich Fire Department","Brent Haskin",null,"231-876-1700",null,"231-876-1800",null,null,"Non-Tax Municipality/Utility",null,"Norwich Fire Department","Attn: Brent Haskin c/o UPS Store","3970 US Hwy 131 South Ste C",null,null,"Cadillac","MI","49601"]
["Norwich Fire Department (Haskin)","Brent Haskin",null," 231-876-1700",null," 231-876-1800","ntfdstation500@hotmail.com",null,null,null,"Norwich Fire Department","4551 East Moorestown Road",null,null,null,"Moorestown","MI","49651","Mr.","Haskin",null,"Fire Department","Missaukee"]
["Norwich TSP Fire Dept."," Chief Brian Whipple",null,"231-229-5705",null,null,null,null,"Non-Tax Municipality/Utility",null,"Norwich TSP Fire Dept.","Attn: Chief Brian Whipple","4951 East Moorestown Rd.",null,null,"Lake City","MI","49651"]
["Nova Environmental","Joe Lamb",null,"734-930-0995","cell 234-260-3142","734-930-2969",null,null,"Michigan Sales Tax",null,"Nova Environmental","Attn: Joel Lamb","5340 Plymouth Road Suite 210",null,null,"Ann Arbor","MI","48105"]
["Nova Environmental (Lamb)","Joel Lamb",null," 734-930-0995",null," 734-930-2969",null,null,null,null,"Nova Environmental","5340 Plymouth Road  Suite 210",null,null,null,"Ann Arbor","MI","48105","Mr.","Lamb",null,"Contractor EH&S","Washtenaw"]
["Novelis Aluminum Corporation",null,null,null,null,null,null,null,"Out of State","Shane Hibbitts - cell: 859-985-6725, email: shane.hibbitts@novelis.com","Novelis Aluminum Corporation","Attn:","302 Mayde Road",null,null,"Berea","KY","40403"]
["Novelis Berea (Hibbitts)","Shane Hibbitts",null," 859-985-6725",null,null,"shane.hibbitts@novelis.com",null,null,null,"Novelis Berea","302 Mayde Road",null,null,null,"Berea","KY","40403",null,"Hibbitts",null,"Manufacturer","Out of State"]
["NRCan (Balderson)","Cory Balderson",null," 613-995-3366",null,null,"cbalders@nrcan.gc.ca",null,null,null,"NRCan","1 Haanel Drive",null,null,null,"Ottawa","ON","K1A 1M1","Mr.","Balderson",null,"Federal","Out of State"]
["NRG Operating Services, Inc. (Riedel)","Bill Riedel",null," 231-779-8609 13",null," 231-779-8604","william.riedel@nrgenergy.com",null,null,null,"NRG Operating Services, Inc.","Cadillac Renewable Energy, LLC","1525 Miltner Street",null,null,"Cadillac","MI","49601","Mr.","Riedel","Safety Director","Utility","Wexford"]
["NSF International","David Orton",null,"734-769-8010 x2362",null,null,null,null,"Michigan Sales Tax",null,"NSF International","Attn: David Orton","789 Dixboro Rd.",null,null,"Ann Arbor","MI","48105"]
["NTH (Grand Rapids, MI)",null,null,"616-451-6279 Mark",null,"616-575-1000",null,null,"Michigan Sales Tax","11/09/2010:  Customer states their std. terms are Net45.  Some references stated Net90 but good at Net90.  B3 approved at Net45...Keep a close eye on payment.\n\n\nMark Nelson - email:  mnelson@nthconsultants.com","NTH (Grand Rapids, MI)","Attn:","4130 Monroe Ave. NW","Suite 180",null,"Grand Rapids","MI","49505"]
["NTH Consultants (Petroelje)","Dave Petroelje",null," 616-957-3690",null,null,"dpetroelje@nthconsultants.com",null,null,null,"NTH Consultants","1430 Monroe",null,null,null,"Grand Rapids","MI","49505","Mr.","Petroelje",null,"Contractor EH&S","Kent"]
["Nu-Wool Co. Inc.","Dave Verstraete",null,"616-669-0100",null,"616-669-2370",null,null,"Michigan Sales Tax",null,"Nu-WoolCo. Inc.","Attn: Dave Verstraete","2472 Port Sheldon Rd.",null,null,"Jenison","MI","49428"]
["Nu-Wool Inc. (VerStraete)","Dave VerStraete",null," 800-748-0128",null," 616-669-2370","dverstraete@nuwool.com",null,null,null,"Nu-Wool Inc.","2472 Port Sheldon Road",null,null,null,"Jenison","MI","49428","Mr.","VerStraete",null,"Manufacturer","Kent"]
["Nucor Steel Company (Logan)","John Logan",null," 800-333-4011 1222",null," 740-383-6429","Jon.Logan@nucor.com",null,null,null,"Nucor Steel Company","912 Cheney Ave.",null,null,null,"Marion","OH","43302","Mr.","Logan",null,"Steel","Out of State"]
["Nuview Technologies Inc.",null,null,null,null,null,null,null,"Michigan Sales Tax"]
["NxtGen","Matt Shamamy",null,"248-214-2100 cell",null,"248-669-4901","matthew.shamamy@nxtgen.com",null,"Michigan Sales Tax",null,"NXTGen","Attn: Matt Shamamy","50453 West Pontiac Trail",null,null,"Wixom","MI","48393"]
["Oberon (Garcia)","Sherry Garcia",null," 508-999-4442"," 508-207-1245"," 508-999-4443",null,null,null,"Jim Pollard, Randy Hirschmann, son, is president (Dad is CEO)","Oberon","22 Logan St",null,null,null,"New Bedford","MA","2740",null,"Garcia","Customer service",null,"N/A"]
["Ocean Spray (Middleboro) (Cunniff)","Dana Cunniff",null," 508-946-5905",null," 508-946-4773","dcunniff@oceanspray.com",null,null,null,"Ocean Spray (Middleboro)","152 Brdige Street","Pilot Plant",null,null,"Middleboro","MA","2346","Mr.","Cunniff",null,"Food","Out of State"]
["Oceana County Rd. Commission","Dennis Cole",null,"231-873-3717",null,"231-87-7123",null,null,"Non-Tax Municipality/Utility",null,"Oceana County Rd. Commission","Attn: Denis Koch","3501 W. Polk Rd.",null,null,"Hart","MI","49420"]
["Oceana County Road Commission (Koch)","Dennis Koch",null," 231-873-4226",null," 231-873-7123","dkoch@oceanacrc.com",null,null,"bought Ice gripsters","Oceana County Road Commission","3501 W. Polk Road",null,null,null,"Hart","MI","49420","Mr.","Koch","Shop Supervisor/Stores","Municipal, Cty","Oceana"]
["ODL Inc.",null,"Scott Petzold","616-772-9111","6116-748-5439 Scott","616-772-3840 acctg fx",null,null,"Michigan Sales Tax",null,"ODL Inc.","Attn:Matt Kooistra","215 E. Roosevelt Ave.",null,null,"Zeeland","MI","49464"]
["ODL Incorporated (Kooistra)","Matt Kooistra",null," 616-748-5328",null,"616 772 9110","matt.kooistra@odl.com",null,null,"Matt is handling the purchase of their drum handler for forklifts","ODL Incorporated","215 East Roosevelt Avenue",null,null,null,"Zeeland","MI","49464",null,"Kooistra","Manufacturing/Quality Engineer","Manufacturer","Ottawa"]
["Oetman Excavating (Potter)","Curt Potter",null," 616-877-4097",null," 616-877-0210",null,null,null,"Likes Drainguards","Oetman Excavating","4122 South Division",null,null,null,"Wayland","MI",null,"Mr.","Potter","Comptroller","Contractor General","Allegan"]
["Offshore (Price)","Mike Price",null," 304-846-6555",null," 304-846-6559","offshore.resourses.supply.llc@gmail.com",null,null,null,"Offshore","71 Oakford Avenue",null,null,null,"Richwood","WV","26261","Mr.","Price",null,null,"Out of State"]
["OHD Occupational Health Dynamics (Griggs)","Jeff Griggs",null," 205-314-6149"," 888-464-3872"," 205-980-5764","jgriggs@ohdusa.com",null,null,"Brandon Ellis  bellis@ohdusa.com\nJill, Linda\nJeff Griggs Svc Ctr Mgr, Noise Instrumentation","OHD Occupational Health Dynamics","2635 Valleydale Road Ste 100",null,null,null,"Birmingham","AL",null,"Mr.","Griggs","Sales Manager","Supplier","Out of State"]
["Ohio Department of Transportation","Terri Barnhart/Mike Brokaw",null,"614-387-6210",null,null,null,null,"Non-Tax Municipality/Utility",null,"Ohio Department of Transportation","Attn: Terri Banhart","1980 West Broad Street",null,null,"Columbus","OH","43223"]
["Ohio Department of Transportation (Brokaw","Mike Brokaw",null," 614-387-6210",null,null,"michael.brokaw@dot.state.oh.us",null,null,null,"Ohio Department of Transportation","1980 West Broad Street",null,null,null,"Columbus","OH","43223","Mr.","Brokaw",null,"Municipal, Cty","Out of State"]
["Ohio Industrial Equipment (Bickel)","Blair Bickel",null," 614-291-6508",null," 614-291-5945","bbickel@oiesolutions.com",null,null,"Met at Spanco training.","Ohio Industrial Equipment","778 Northwest Blvd.",null,null,null,"Columbus","OH","43212","Mr.","Bickel","President","Representative","Out of State"]
["Old Orchard Brands, LLC (Wessche)","Alyssa Wessche",null," 616-887-1745",null,null,null,null,null,"Met with Alyssa and have quoted full-line PPE\nAlso shown interest in Draeger Parat C, but seems to be in no hurry","Old Orchard Brands, LLC","1991 12 Mile Road NW",null,null,null,"Sparta","MI","49345",null,"Wessche","Safety Coordinator","Food","Juice makers"]
["Olive Township Fire Rescue (Gort)","Frank Gort",null," 616-875-8400",null,null,"returned",null,null,"Met at CE Safety Day. Quote Cooling Vest and 6.5 oz Nomex Suits in Brown Duck w/ reflector  (30@)","Olive Township Fire Rescue","8978 -- 116th Avenue",null,null,null,"West Olive","MI","49460","Mr.","Gort","Firefighter EMT Specialist","Municipal, Cty Pub Safety","Ottawa"]
["Oliver Products Company","Justin","Kathey Malony ext 7227","616-456-7711",null,"616-456-5820",null,null,"Michigan Sales Tax",null,"Oliver Products Company","Attn: Justing Dillinger","445 Sixth St. NW",null,null,"Grand Rapids","MI","49504"]
["Oliver Products Company (Berg)","Evert Vander Berg",null," 616-456-7711 7503",null," 616-456-5820","evanderberg@oliverproducts.com",null,null,"Kathy Mullaney x7227, Amber Bruette ? (HUMR)  Justin Dillinger","Oliver Products Company","445 Sixth St. NW",null,null,null,"Grand Rapids","MI","49506","Mr.","Berg",null,"Manufacturer","Kent"]
["Oliver-Tolas Healthcare Packaging",null,null,"513-860-6880",null,"513-860-6888",null,null,"Out of State",null,"Oliver-Tolas Healthcare Packaging","Attn:Tom Backs po#31027","3840 Symmes Road",null,null,"Hamilton","OH","45015"]
["Olson Brothers Co.","Larry Olson",null,"269-637-4494",null,null,null,null,"Michigan Sales Tax",null,"Olson Brothers Co.","Attn: Larry Olson","829 Chambers Street.",null,null,"South Haven","MI","49090"]
["Olson Brothers Company (Olson)","Larry Olson",null," 269-637-4494",null," 269-637-3527",null,null,null,"Used us in the past for training and gas detection\nCurrently has BW Units, but I did not see a dock...","Olson Brothers Company","829 Chambers Street","P.O. Box 310",null,null,"South Haven","MI","49090","Mr.","Olson",null,null,"Allegan"]
["Omara Scientific (Sobczak)","Craig Sobczak",null," 616-531-9500",null," 616-531-3696","randy.vanderwiere@omarascientific.com",null,null,"Randy VanderWiere mob 616.862.8036","Omara Scientific","3025 Sangra Avenue SW",null,null,null,"Grandville","MI",null,"Mr.","Sobczak",null,"Competitor","Kent"]
["Omni Finishing (Whinney)","Marshall Whinney",null," 215-953-1166",null,null,"marshallw@omnifinishing.com",null,null,null,"Omni Finishing","163 Railroad Drive",null,null,null,"Ivyland","PA",null,"Mr.","Whinney","Vice President","Manufacturer","Out of State"]
["Onondaga County Water Authority",null,null,"315-455-7061",null,"315-671-1514",null,null,"Non-Tax Municipality/Utility","Kelly Caramanna - ext. 3169","Onondaga County Water Authority","Attn: Kelly Caramanna","PO #","200 Northern Concourse",null,"North Syracuse","NY","13212"]
["Oomen Brothers","Ralph Oomen",null,"231-873-3289",null,null,"oomanbros@casair.net",null,"Michigan Sales Tax",null,"Oomen Brothers","Attn: Ralph J. Oomen","2157 East Jackson Rd.",null,null,"Hart","MI","49420"]
["Oosterink Oli Lipe, Inc.","Tim VanPolen",null,"616-735-5042",null,"616-735-5043",null,null,"Michigan Sales Tax","Back-up Visa Card\nJeff Lipe\n4185-8739-4740-0361\nExp: 03/10","Oosterink  Lipe, Inc.","Attn: Tim VanPolen","2762 - 3 Mile Road",null,null,"Grand Rapids","MI","49544"]
["Orland Fire Department","Chief Wayne Wells","John Diehl","260-829-6494","260-829-6330",null,null,null,"Out of State",null,"Orland Fire Department","Attn: Kim Norton Ast. Chief","125 East State",null,null,"Orland","IN","46776"]
["Orr Safety (Connor)","Pat Connor",null," 630-617-9070 232",null," 630-617-9077",null,null,null,null,"Orr Safety","650 W. Grand Ave.","Suite 304/305",null,null,"Elmhurst","IL","60126-1026","Mr.","Connor",null,"Competitor","N/A"]
["ORS Nasco. (Lockwood)","Mark Lockwood",null," 800-678-6577 *9 3355",null," 800-579-2533","mark.lockwood@orsnasco.com",null,null,"512677","ORS Nasco.","9910 E. 42nd Street, Suite 200",null,null,null,"Nnn","MI",null,"Mr.","Lockwood",null,"Supplier","Out of State"]
["Otsego DPW, City of (Gilliland)","Darl Gilliland",null," 269-694-6636",null," 269-694-2970",null,null,null,null,"Otsego DPW, City of","117 E. Orleans Street",null,null,null,"Otsego","MI","49078","Mr.","Gilliland","Superintendent","Municipal, Cty","Allegan"]
["Otsego Metal Recyclers (Newman)","Tom Newman",null," 269-501-6517",null,null,null,null,null,null,"Otsego Metal Recyclers","557 Lincoln Rd.",null,null,null,"Otsego","MI","49078","Mr.","Newman","Owner","Recycling","Allegan"]
["Ottawa County (Close)","Steve Close",null," 616-738-4873",null," 616-738-4876","sclose@co.ottawa.mi.us",null,null,null,"Ottawa County","12220 Fillmore St.","Room 160",null,null,"West Olive","MI","49460",null,"Close","Supervisor","Municipal, Cty","Ottawa"]
["Ottawa County (Miller)","Christine Miller",null," 616-738-4849",null," 616-738-4098","cmiller@co.ottawa.mi.us",null,null,null,"Ottawa County","12220 Fillmore St.","Room 331",null,null,"West Olive","MI","49460",null,"Miller","Asst. Fiscal Services Director","Municipal, Cty","Ottawa"]
["Ottawa County Farms Landfill (Carr)","Robert Carr",null," 616-837-8195",null," 616-837-7607",null,null,null,null,"Ottawa County Farms Landfill","15550 68th Ave.",null,null,null,"Coopersville","MI","49404","Mr.","Carr","Site Manager","Municipal, Cty","Ottawa"]
["Ottawa County Road Commission","Pat Staskiewicz","Mark Winchester","616-850-7208","616-850-7218","616-850-7237",null,null,"Non-Tax Municipality/Utility","Mark Winchester:\n  mwinchester@ottawacorc.com","Ottawa County Road Commission","Attn:","14110 Lakeshore Drive",null,null,"Grand Haven","MI","49417"]
["Ottawa County Road Commission (Staskiewic","Pat Staskiewicz",null," 616-850-7208",null," 616-850-7237","pstaskiewicz@ottawacorc.com",null,null,null,"Ottawa County Road Commission","Rosy Mound Drive at US-31","PO Box 739",null,null,"Grand Haven","MI","49417","Mr.","Staskiewicz","Public Utilities Engineer","Municipal, Cty","Ottawa"]
["Ottawa County Road Commission (Wahr)","Kris Wahr",null," 616-850-7239",null," 616-850-7237","kwahr@ottawaocrc.com",null,null,null,"Ottawa County Road Commission","Rosy Mound Drive at US-31","PO Box 739",null,null,"Grand Haven","MI","49417","Mrs.","Wahr","Human Resources Administrator",null,"Ottawa"]
["Ottawa County Road Commission (Winchester","Mark Winchester",null," 616-850-7218",null," 616-850-7237","mwinchester@ottawacorc.com",null,null,null,"Ottawa County Road Commission","Rosy Mound Drive at US-31","PO Box 739",null,null,"Grand Haven","MI","49417","Mr.","Winchester","Public Utilities Supervisor","Municipal, Cty","Ottawa"]
["Ottawa County Soil Erosion Commission (Ka","Aaron Karg",null," 616-846-8222",null,null,null,null,null,null,"Ottawa County Soil Erosion Commission","414 Washington",null,null,null,"Grand Haven","MI","49417","Mr.","Karg",null,"Municipal, Cty","Ottawa"]
["Ottawa Electric, Inc. (Roger)","Roger",null," 616-842-2760",null," 616-842-1104",null,null,null,null,"Ottawa Electric, Inc.","1051 Jackson St.",null,null,null,"Grand Haven","MI","49417",null,"Roger","Safety/Management","Contractor Electrical","Ottawa"]
["Oudbier Instruments Company (Oudbier)","Ron Oudbier",null," 269-792-4404",null," 269-792-4485","roudbier@wmis.net",null,null,null,"Oudbier Instruments Company","4064 South Rolling Ridge",null,null,null,"Wayland","MI","49348","Mr.","Oudbier",null,"Manufacturer","Allegan"]
["Owen Ames Kimball","Dan Rathburn",null,"616-456-1521",null,"616-458-0770",null,null,"Michigan Sales Tax",null,"Owen Ames Kimball","Attn: Dan Rathburn","300 Ionia NW",null,null,"Grand Rapids","MI","49503"]
["Owen-Ames-Kimball Co. (Stevenson)","Brad Stevenson",null,"(616) 456-1521",null," 616-458-0770","bstevens@owen-ames-kimball.com",null,null,"Brad McAvoy","Owen-Ames-Kimball Co.","300 Ionia Avenue",null,null,null,"Grand Rapids","MI","49503","Mr.","Stevenson","Project Manager","Contractor General","Kent"]
["Owosso DPW, City of","Mark Sedlak",null,"989-723-4256",null,null,null,null,"Michigan Sales Tax",null,"Owosso DPW, City of","Attn:","522 Milwaukee Street",null,null,"Owosso","MI","48867"]
["Owosso DPW, City of (Sedlak)","Mark Sedlak",null," 989-723-4256",null,null,null,null,null,"Stan Jelanik, Dir.; Gry Burk, H2O/WWTP; both are at City Hall\nMark Sedlak at DPW barn, with Mike Bush and Mark Mitchell -- bought PPE\nsee Bill Horton at WWTP","Owosso DPW, City of","522 Milwaukee Street",null,null,null,"Owosso","MI","48867","Mr.","Sedlak","Superintendent","Municipal, Cty","Owosso"]
["Owosso Fire Department, City of (Fchaufel","Charlie Fchaufele",null," 989-725-0592",null," 989-725-0528",null,null,null,null,"Owosso Fire Department, City of","202 South Water Street",null,null,null,"Owosso","MI","48867","Mr.","Fchaufele","Deputy Chief","Fire Department","Owosso"]
["P & H Morris Material Handling","Joel Flatt",null,"586-774-9686 x-13",null,"1-586-774-8872",null,null,"Michigan Sales Tax",null,"P & H Morris Material Handling","Attn: Joel Flatt","14170 East 10 Mile Rd.",null,null,"Warren","MI","48089"]
["P & K Steel Service Inc.","Ron Paridee",null,"616-243-2358",null,"616-243-5125",null,null,"Michigan Sales Tax",null,"P & K Steel Service Inc.","Attn: Ron Paridee","2151 Chicago Dr. SW",null,null,"Grand Rapids","MI","49519"]
["P & K Steel Service, Inc. (Paridee)","Ron Paridee",null," 616-243-2358",null," 616-243-5125","ronp@pandksteel.com",null,null,"Fred Pylman Pres.","P & K Steel Service, Inc.","2151 Chicago Drive SW",null,null,null,"Grand Rapids","MI","49519","Mr.","Paridee",null,"Steel","Kent"]
["P S Doors (Thorsen)","Dean Thorsen",null," 701-746-4519",null," 701-775-7415","dthorsen@prtel.com",null,null,null,"P S Doors","4212 Gateway Drive",null,null,null,"Grand Forks","IN","58203","Mr.","Thorsen",null,"Supplier","N/A"]
["P.S.C Industrial Services (Parker PA)","James Gamble",null,"724-399-2983",null,"724-399-4240",null,null,"Michigan Sales Tax","12/21/2009:  per B3 MaxXT - $645.00\n\nMike Wolford (CO) 419-466-7125","P.S.C. Industrial Services (Parker PA)","James Gamble","105 Tanker Ln",null,null,"Parker","PA","16049"]
["P.S.C. (Trenton MI)","Brenda Bobruk",null,"734-362-8091",null,"734-362-8175",null,null,"Michigan Sales Tax","12/21/2009:  per B3 MaxXT - $645.00\n\nMike Wolford (CO) 419-466-7125","P.S.C. (Trenton MI)","Attn: Brenda Bobruk","27007 Fort Street",null,null,"Trenton","MI","48183"]
["P.S.C. Container Services (Wallbridge)","Dan Doyle",null,"419-666-2317",null,"419-666-3825","ddoyle@pscnow.com",null,"Out of State","12/21/2009:  per B3 MaxXT - $645.00\n\nMike Wolford (CO) 419-466-7125","P.S.C. Container Services (Wallbridge)","Attn: Dan Doyle","6626 State Route 795",null,null,"Wallbridge","OH","43465"]
["P.S.C. Container Services - (Cincinnati)","Steve Shook",null,"513-554-1604 x5",null,"513-554-1607",null,null,"Out of State","12/21/2009:  per B3 MaxXT - $645.00\n\nMike Wolford (CO) 419-466-7125","P.S.C. Container Services - (Cincinnati)","Attn:","10671 Evendale Dr.",null,null,"Cincinnati","OH","45241"]
["P.S.C. Industrial Services (Englewood CO)","Mike Wolford",null,"303-321-9047",null,"303-321-9065",null,null,"Out of State",null,"P.S.C. Industrial Services (Englewood CO)","Attn: Jared Moore 16100091626","2045 West Union Ave. (Bldg G)",null,null,"Englewood","CO","80110"]
["P.S.C. Industrial Svc (Monroe)",null,"Todd Flippin","734-384-9200","313-995-4177 cell","734-384-9242",null,null,"Michigan Sales Tax","12/21/2009:  per B3 MaxXT - $645.00\n\nMike Wolford (CO) 419-466-7125\nLance Izsak","P.S.C. Industrial Svc (Monroe)","Attn: Jenna Laughlin","987 West Hurd Road",null,null,"Monroe","MI","48162"]
["Pacific Atlantic Terminals (Cameron)","Bill Cameron",null," 215-492-8000",null," 215-492-6320",null,null,null,null,"Pacific Atlantic Terminals","3400 South 67th Street",null,null,null,"Philadelphia","PA","19153","Mr.","Cameron",null,"Petroleum Related","Out of State"]
["Pacific Cleaning Systems (Paterra)","Rhonda Paterra",null," 231-767-7017",null," 231-773-1642","Rhonda.Paterra@pacificfloorcare.com",null,null,null,"Pacific Cleaning Systems","2259 S. Sheridan Rd.",null,null,null,"Muskegon","MI","49442",null,"Paterra","Manufacturing Manager","Industrial Hygiene","Muskegon"]
["Packaging Corporation of America (Carpent","Keith Carpenter",null," 231-723-3552 149",null," 231-723-1369","jkcarpenter@packagingcorp.com",null,null,"Met with Keith 2 weeks ago\nVery nice guy, big fisherman and hunter.  From the south originally\nCurrently uses and expressed interest in Allegro, Draeger, DBI-Sala, 3M and Survivair","Packaging Corporation of America","766 Filer St.",null,null,null,"Filer City","MI","49634","Mr.","Carpenter","Safety & Health Specialist","Paper","Manistee"]
["Pactiv Corporation (Lindholm)","Roeanna Lindholm",null," 219-733-2515",null,null,"rlindholm@pactiv.com",null,null,null,"Pactiv Corporation","9702 W. US Highway 30",null,null,null,"Wanatah","IN","46390","Ms.","Lindholm",null,"Manufacturer","Out of State"]
["Padnos (Ludington)","Karl Marcusse",null,"231-846-0059",null,null,null,null,"Michigan Sales Tax",null,"Padnos","Attn: Karl Marcusse","2601 W US Highway 10",null,null,"Ludington","MI","49431-8712"]
["Padnos, Inc. (Laven)","Bryan Laven",null," 616-396-6521",null,null,"bryan.laven@padnos.com",null,null,"Continuing to call on Bryan\n-quoted hi-viz winter jackets with no success\n-keep on, purchasing seems to be the hold-up","Padnos, Inc.","185 W. 8th St.",null,null,null,"Holland","MI","49423","Mr.","Laven","EH&S","Recycling Scrap Metal","Ottawa"]
["Palma Mechanical Insulations",null,null,null,null,null,null,null,"Michigan Sales Tax","Jay Palma","Palma Mechanical Insulations","Attn:","14365 - 8th Street",null,null,"Marne","MI","49435"]
["Pandora Manufacturing","Carolyn Ruhe",null,"419-384-3241",null,null,null,null,"Out of State",null,"Pandora Manufacturing","Attn: Carolyn Ruhe","501 South Basinger Rd.",null,null,"Pandora","OH","45877"]
["Panel Processing","Stacy or Charles Smith","Chris Boyk","800-433-7142","989-356-9007","989-356-6933",null,null,"Non-Tax",null,"Panel Processing","Attn:","120 North Industrial Hwy.",null,null,"Alpena","MI","49707"]
["Panel Processing (Indiana)","Dick Pokorny",null,"219-736-0330",null,null,"rpilorny@panel.com",null,"Out of State",null,"Panel Processing (Indiana)","Attn: Dick Pokorny","9250 Mississippi Street",null,null,"Merrillville","IN","46410"]
["Panel Processing Inc. (Boyk)","Chris Boyk",null," 989-356-9007",null,null,"cboyk@panel.com",null,null,"Alabama plant 800.222.1666","Panel Processing Inc.","120 North Industrial Highway",null,null,null,"Alpena","MI","49707","Mr.","Boyk","Project Engineer","Manufacturer","Alpena"]
["Panhandle Eastern Pipeline (Cummins)","Joseph Cummins",null," 517-546-4770",null,null,"joseph.cummins@sug.com",null,null,null,"Panhandle Eastern Pipeline","39990 Crooked Lake Road",null,null,null,"Howell","MI","48843","Mr.","Cummins",null,"Petroleum Related","Livingston"]
["Paramount Tool Co. Inc. (Phillips)","Kevin Phillips",null," 269-857-1411",null,null,"see card",null,null,null,"Paramount Tool Co. Inc.","3281 Blue Star Hwy.",null,null,null,"Saugatuck","MI","49453","Mr.","Phillips","EH&S","Tooling","Allegan"]
["Parish Construction Company (Wurdock)","Joe Wurdock",null," 517-393-9511",null," 517-393-7060","jwurdockfsudog@sbcglobal.net",null,null,null,"Parish Construction Company","1501 Rensen Street Suite A",null,null,null,"Lansing","MI","48910","Mr.","Wurdock",null,"Contractor General","Ingham"]
["Parkway Electric & Communications",null,null,"616-392-2788","616-886-2678 cell","616-392-6880","nicole.goldberg@parkwayelectric.com",null,"Michigan Sales Tax","Ken Vander Kamp - ext. 117\neamil:  kenvanderkamp@parkwayelectric.om\n\nMark Bulthuis - ext. 1129\n\nNicole gets invoices\nSignature copy gets scanned and emailed to Andrew Hoekenga at poack@parkwayelectric.com","Parkway Electric & Communications","Attn: Mark Bulthuis","11952 James Street",null,null,"Holland","MI","49424"]
["Parkway Electric & Communications (Bulthu","Paul Bulthuis",null," 616-392-2788 1150",null," 616-392-6880","paul.bulthuis@parkwayelectric.com",null,null,"Mark Bulthuis (formerly FZ); Ken Van Der Kamp is Purch x1117","Parkway Electric & Communications","11952 James Street",null,null,null,"Holland","MI","49424","Mr.","Bulthuis","Safety Manager","Contractor Electrical","Ottawa"]
["Parkway Electric & Communications (Martin","Brian Martinie",null," 616-392-2788",null," 616-392-6880","brian.martinie@parkwayelectric.com",null,null,null,"Parkway Electric & Communications","11952 James Street",null,null,null,"Holland","MI","49424","Mr.","Martinie",null,"Contractor Electrical","Ottawa"]
["Parkway Electric & Communications (Vander","Ken VanderKamp",null," 616-392-2788 1117",null," 616-392-6880","ken.vanderkamp@parkwayelectric.com",null,null,null,"Parkway Electric & Communications","11952 James Street",null,null,null,"Holland","MI","49424","Mr.","VanderKamp",null,"Contractor Electrical","Ottawa"]
["Parsons","Craig Butler","cell315-263-6053","315.451-9560",null,"315-451-9570","craig.butler@parsons.com",null,"Out of State",null,"Parsons","Attn: Craig Butler","301 Plainfield Rd.","Suite 350",null,"Syracuse","NY","13212"]
["Parsons Brinckerhoff",null,null,null,null,null,"finnk@pbworld.com",null,"Out of State","Kevin Finn - Direct 617-960-5031","Parsons Brinckerhoff","Attn:","75 Arlington Street, 4th Floor",null,null,"Boston","MA","02116"]
["Paul Schultz Trucking & Excavating, Inc.","Paul Schultz",null," 231-865-3235",null,null,null,null,null,null,"Paul Schultz Trucking & Excavating, Inc.","6087 Airline Rd.",null,null,null,"Fruitport","MI","49415","Mr.","Schultz","Co-Owner","Excavating","Muskegon"]
["Paul Schultz Trucking & Excavating, Inc.","Paul Schultz",null," 231-865-3235",null,null,null,null,null,null,"Paul Schultz Trucking & Excavating, Inc.","6087 Airline Rd.",null,null,null,"Fruitport","MI","49415","Mr.","Schultz","Co-Owner","Excavating","Muskegon"]
["Paul Schultz Trucking & Excavating, Inc.","Paul Schultz",null," 231-865-3235",null,null,null,null,null,null,"Paul Schultz Trucking & Excavating, Inc.","6087 Airline Rd.",null,null,null,"Fruitport","MI","49415","Mr.","Schultz","Co-Owner","Excavating","Muskegon"]
["Paw Paw, City of (Nielsen)","Larry Nielsen",null," 269-657-3148",null," 269-657-7544","l.nielsen@pawpaw.net",null,null,null,"Paw Paw, City of","111 East Michigan Avenue",null,null,null,"Paw Paw","MI","49079","Mr.","Nielsen","Village Manager","Municipal, Cty","Van Buren"]
["PBM Nutritionals","Steve Frazier",null,"937-473-2050 x235",null,"937-473-5862",null,null,"Out of State","Kent Mowry - Sends in gas detectors, contact for repair quotes\n  937-473-8025\n  kmowry@pbmnutritionals.com\n\n6/24/11 PBM purchased by Perigo and changed payment by check to bundling entire month in one bill and then paying at net 60  do not take PBM off of COD\n","PBM Nutritionals","Attn: Steve Frazier","400 Hazel St.",null,null,"Covington","OH","45318"]
["PCL Construction Services, Inc.","Trace Selly",null,"952-882-9600","Trace 952-882-2529","952-882-9900",null,null,"Michigan Sales Tax",null,"PCL Construction Services, Inc.","Attn:","12200 Nicollet Ave. South",null,null,"Burnsville","MN","55337"]
["PCL Procedure (Pool Construction Limited)","Trace (His C.C. corporate)","Jack Lowe","952-882-2529","231-534-8509 Jack","952-882-9900 Trace","231-534-8501 fx Jack",null,"Michigan Sales Tax",null,"PCL Procedure (Pool Construction Limited)","Attn: Jack Lowe","7741 M-72 East",null,null,"Williamsburg","MI","49690"]
["PCS Nitrogen Augusta","Mitch Vizzari",null,"706-849-6190","706-564-8118","706-849-6948",null,null,"Out of State",null,"PCS Nitrogen Augusta","Attn: Mitch Vizzari","23 Columbia Nitrogen Dr.",null,null,"Augusta","GA","30901"]
["PCS Nitrogen Augusta (Horne)","John Horne",null," 706-826-6623",null,null,"john.horne@potashcorp.com",null,null,null,"PCS Nitrogen Augusta","23 Columbia Nitrogen Dr.",null,null,null,"Augusta","GA","30901-2021","Mr.","Horne",null,"Chemical Pharmaceutical","Out of State"]
["PCS Nitrogen Augusta (Vizzari)","Mitch Vizzari",null," 706-826-6636",null," 706-849-6948","mitch.vizzari@pcsnitrogen.com",null,null,"Virgil Fowler Corp. Safety\n  John Horne Augusta Safety Mgr\n  Chris Long Mntc Supr\n  Boon is Engr Contractor","PCS Nitrogen Augusta","23 Columbia Nitrogen Dr.",null,null,null,"Augusta","GA","30901-2021","Mr.","Vizzari",null,"Chemical Pharmaceutical","Out of State"]
["Pearson Construction Company (Pearson)","Burt Pearson",null," 269-926-7281",null,null,null,null,null,null,"Pearson Construction Company","240 W. Britain Ave.",null,null,null,"Benton Harbor","MI","49022","Mr.","Pearson","Owner","Contractor EH&S","Oceana"]
["Peartree Medical Clinic (Warner)","Anthony Warner",null," 586-991-0903",null," 586-991-0904","drwarner@peartreemedicalclinic.com",null,null,"Elaine Harville","Peartree Medical Clinic","51863 Schoenherr Rd. STE.101",null,null,null,"Shelby Township","MI","48315","Dr.","Warner",null,"Supplier","Oakland"]
["Peninsula Copper, Inc. (Thelemann)","Caitlin Thelemann",null," 906-296-9918",null,null,"cathelem@mtu.edu",null,null,null,"Peninsula Copper, Inc.","5243 Duncan Avenue",null,null,null,"Hubbell","MI","49934",null,"Thelemann","Intern","Chemical Pharmaceutical","Houghton"]
["Peninsula Fabrication, Inc. (Jordan)","Nate Jordan",null," 517-524-7202 21",null,null,"nate@penfabinc.com",null,null,null,"Peninsula Fabrication, Inc.",null,null,null,null,"Jonesville","MI","49250","Mr.","Jordan",null,"Contractor General","Out of State"]
["Peninsula Fire Protection, Inc.",null,"Chris Gosset","616-454-0545",null,"616-454-6010",null,null,"Michigan Sales Tax",null,"Peninsula Fire Protection, Inc.","Attn:",null,null,null,"700 Plymouth Ave","NE"]
["Penn Environmental & Remediation","Andrea (Boss-Scott Blauvelt)",null,"724-934-3530",null,null,null,null,"Michigan Sales Tax",null,"Penn Environmental & Remediation","Attn: Scott Blauvelt","359 Northgate Dr. #400",null,null,"Warrendale","PA","15086"]
["Pennsylvania Tool Sales & Service","Brian Maguire",null,"734-973-0004",null,null,null,null,"NonTx Re-Sale",null,"Pennsylvania Tool Sales & Service","Attn: Rob Walter","1900 Highland Drive",null,null,"Ann Arbor","MI","48108"]
["Pentwater DPW ( -)"," -",null," 231-869-4327",null,null,null,null,null,"Just off 31 in Pentwater, semi hard to find","Pentwater DPW","W. Madison Rd.",null,null,null,"Pentwater","MI","49449",null," -"," -","Municipal, Cty","Mason"]
["Pepper Construction","Adam Sandefur - Chicago",null,"Adam - 312-266-4700","Lora - 616-458-2901",null,null,null,"Michigan Sales Tax","JW Marriott Hotel Proj# 15611","Pepper Construction","Attn: Lora Boone","169 Louis Campau Promenade"," Suite 1",null,"Grand Rapids","MI","49503"]
["Pepper Construction (Flentge)","Paul Flentge",null," 312-266-4700",null," 312-266-2792","pflentge@pepperconstruction.com",null,null,null,"Pepper Construction","643 North Orleans Street",null,null,null,"Chicago","IL","60610-3690","Mr.","Flentge","Safety Director","Contractor General","Out of State"]
["Pere Marquette Charter Township","Andy Katz",null,"231-845-7640","cell 231-690-1709","231-843-3330",null,null,"Non-Tax Municipality/Utility",null,"Pere Marquette Charter Township","Attn: Andy Larr","1699 South Pere Marquette Hwy",null,null,"Ludington","MI","49431"]
["Pere Marquette Charter Township (Katz)","Andy Katz",null," 231-845-7640",null," 231-843-3330",null,null,null,"#NAME?","Pere Marquette Charter Township","1699 South Pere Marquette Hwy",null,null,null,"Ludington","MI","49431","Mr.","Katz",null,"Municipal, Cty","Mason"]
["Pere Marquette Charter Township (Larr)","Andy Larr",null," 231-845-7640",null,null,"dpw@pmtwp.org",null,null,"-owns a MSA(old) detector\n-also has shown interest in our traffic cones\n-township building is located on east 6th street","Pere Marquette Charter Township","1699 Pere Marquette Hwy.",null,null,null,"Ludington","MI","49431","Mr.","Larr","Supervisor",null,"Mason"]
["Pere Marquette Shipping Co. ( -)"," -",null," 231-845-7846",null,null,null,null,null,"Stopped up recently, will need a contact to even get in the door.","Pere Marquette Shipping Co.","700 S. Williams",null,null,null,"Ludington","MI","49431",null," -",null,"Shipping","Mason"]
["Perrigo Co. (Brady)","Robin Hays",null,"269-673-7599",null,null,null,null,"Non-Tax",null,"Perrigo Co. PO#410058099","Attn:Nathan Tate","500 Eastern Ave. PT5 doc 35-38",null,null,"Allegan","MI","49010"]
["Perrigo Company",null,"Walt Owsiany","269-673-8451",null,"269-673-7593",null,null,"Non-Tax","Set up with an eye to watch payments currrently paying at net 90 ?","Perrigo Company","Attn: Nate Tate","500 Eastern Ave-PT5 doc 35-38",null,null,"Allegan","MI","49010"]
["Perrigo Company (Hoover)","Sandra Hoover",null," 269-673-1242"," 269-673-8451"," 269-673-7593","sandra.hoover@perrigo.com",null,null,"Works with Mark Powell","Perrigo Company","231 Trowbridge Street",null,null,null,"Allegan","MI","49010",null,"Hoover","Calibration Scheduler","Chemical Pharmaceutical","Allegan"]
["Perrigo Company (Lackey)","Bill Lackey",null," 269-673-8451 339375",null," 269-673-9328","blackey@perrigo.com",null,null,"Contact for gas detection","Perrigo Company","515 Eastern Ave -- Office","117 Water Street -- Mailing",null,null,"Allegan","MI","49010","Mr.","Lackey","EH&S Manager","Chemical Pharmaceutical","Allegan"]
["Perrigo Company (Munoz)","Mike Munoz",null," 718-960-9900",null," 718-888-8888","lmmunoz@perrigo.com",null,null,"Pureflo, Bullard and 3M respirators on-site\nRosy is the key to selling to Perrigo\n-considering a bid in the very near future","Perrigo Company","1700 Bathgate Ave.","117 Water Street -- Mailing",null,null,"Bronx","NY","10457-7513",null,"Munoz","New York Contact","Chemical Pharmaceutical","Out of State"]
["Perrigo Company (Murgittroyd)","Rosy Murgittroyd",null," 269-673-9373  33-937",null," 269-686-3708","rosy.murgittroyd@perrigo.com",null,null,"Mike works out of the New York Perrigo\nCurrently buying Pureflo products\nStill buying seems like he may be wanting to work with us more.....","Perrigo Company","515 Eastern Ave -- Office","117 Water Street -- Mailing",null,null,"Allegan","MI","49010","Mrs.","Murgittroyd","Sourcing Manager","Chemical Pharmaceutical","Allegan"]
["Perrigo Company (Olsen)","Troy Olsen",null," 269-686-1608",null," 269-673-7593","troy.olsen@perrigo.com",null,null,null,"Perrigo Company","231 Trowbridge Street",null,null,null,"Allegan","MI","49010","Mr.","Olsen",null,"Chemical Pharmaceutical","Allegan"]
["Perrigo Company (Owsiany)","Walt Owsiany",null," 269-673-9329",null," 269-673-9008","wowsiany@perrigo.com",null,null,"Knows BBB from Allegan FD (Joel Merchant) and PhD.\nJack Eding & Neil Mulldon are maintenance lead\nDan Vanegen is Walt's boss","Perrigo Company","502 Eastern Avenue",null,null,null,"Allegan","MI","49010","Mr.","Owsiany",null,"Chemical Pharmaceutical","Allegan"]
["Perrigo Company (Powell)","Mark E. C. Powell",null," 269-673-1242",null," 269-673-7593","mpowell@perrigo.com",null,null,"Lori Anderson xt. 337904\nHandles the Truck Loading bays fall protection\nHer intern currently is Nathan Tate\nDiane Long 269.6739354","Perrigo Company","231 Trowbridge Street",null,null,null,"Allegan","MI","49010","Mr.","Powell","Calibration Scheduler","Chemical Pharmaceutical","Allegan"]
["Perrigo Company (Renkoski)","Tami Renkoski",null," 269-673-9795",null,null,"tarenkoski@perrigo.com",null,null,null,"Perrigo Company","515 Eastern Avenue",null,null,null,"Allegan","MI","49010","Ms.","Renkoski","Industrial Hygienist","Chemical Pharmaceutical","Allegan"]
["Perrigo Company (Rudnicki)","Roman Rudnicki",null," 269-686-1654 3375",null," 269-673-7593","rrudnick@perrigo.com",null,null,"Mark Creck for 5 piece\nJohn Bennett is end user of noise buster Roman is his boss.\nJeff Melvin for cease fire.\nMet. gave ok for noise buster demo.  Showed cease fire.  asked about very early small detection apparatus.","Perrigo Company","515 Eastern Ave -- Office","117 Water Street -- Mailing",null,null,"Allegan","MI","49010","Mr.","Rudnicki","Water Systems Engineer","Chemical Pharmaceutical","Allegan"]
["Perrigo Company (Schrepper)","Pat Schrepper",null," 269-673-1242",null," 269-673-7593",null,null,null,null,"Perrigo Company",null,null,null,null,"Allegan","MI","49010","Ms.","Schrepper","Calibration Scheduler","Chemical Pharmaceutical","Allegan"]
["Perrigo Company (Tate)","Nathan Tate",null," 269-673-8451 333713",null," 269-673-9328","Nathan.Tate@perrigo.com",null,null,null,"Perrigo Company","515 Eastern Ave -- Office","117 Water Street -- Mailing",null,null,"Allegan","MI","49010","Mr.","Tate","Engineer Intern","Chemical Pharmaceutical","Allegan"]
["Peters Construction"]
["Peters Construction Company (Sandusky)","Jason Sandusky",null," 269-345-1145 13",null," 269-345-2233","jsandusky@petersconstruct.com",null,null,null,"Peters Construction Company","3323 East Kilgore Road",null,null,null,"Kalamazoo","MI","49001","Mr.","Sandusky","Superintendent","Contractor General","Kalamazoo"]
["Peterson Farms (Moul)","Cal Moul",null," 231-861-6333",null,null,null,null,null,"Have left multiple messages for Cal, no answer, no reply\n-HUGE fruit processor just south of Hart","Peterson Farms","3104 Baseline Rd.",null,null,null,"Shelby","MI","49455","Mr.","Moul","Safety Director","Fruit Processor","Oceana"]
["Peterson Ind. Scaffolding",null,null,null,null,null,null,null,"Out of State","Willie Westmoreland - Cell: 314-657-7147\nVISA:  4388-5754-6016-5041  EXP: 07/12\nBilling:  300 Boor Farm Rd. - 70634\n\nWisconsin Rapids Office:\nAmanda Cooper - Cell:  715-409-0622\nAdam Cooper - cell: 417-300-0571 - email: acooper@petersonscaffolding.com\nAdam's Visa:  4300-2300-2512-3573 Exp:11/13 (13629-54457)\nOffice:  715-424-4401 / Fax:  715-424-4402\n\nAccts Payable Rosa Montano PH: 832-631-2346\nFX: 832.631.2351\nCELL 832.267.3873\n11/2010 Credit at net 30 denied. references came back slow pay or no business with this compnay.\n","Peterson Ind. Scaffolding (Wisconsin)","Attn: Amanda Cooper","810 - 25th Ave. N.",null,null,"Wisconsin Rapids","WI","54495"]
["Peterson Spring","Ron Lynch",null,"248-616-3380",null,"248-588-4548","ronl@pspring.com",null,"Michigan Sales Tax",null,"Peterson Spring","Attn: Ron Lynch","32601 Industrial Drive",null,null,"Madison Heights","MI","48071"]
["Peterson Spring Troy (Lynch)","Ron Lynch",null," 248-307-2980",null," 248-589-3122",null,null,null,null,"Peterson Spring Troy","800 Chicago Road",null,null,null,"Troy","MI","48083","Mr.","Lynch","Maintenance Manager","Manufacturer","Oakland"]
["Pfeiffer Lincoln Mercury Inc. (VanLierop)","Jim VanLierop",null," 616-285-2054",null,null,null,null,null,null,"Pfeiffer Lincoln Mercury Inc.","2424 28th Street SE",null,null,null,"Grand Rapids","MI","49512",null,"VanLierop",null,"Supplier","Kent"]
["Pfizer (Argentina)",null,null,null,null,null,null,null,"Non-Tax"]
["Pfizer (Bruckner Supply Co., Inc.)","Jennifer Chen","Mi Lee x-3796","516-484-6070",null,"516-484-1255","Invoices@BrucknerSupply.com",null,"Non-Tax","On sight Pfizer # 269-833-7336 Lolita\n\nInvoices for MI Lee POs can be faxed to MI at 516-953-1424\nPhone: 516-953-1586  ext. 3796\nleem@brucknersupply.com\n\nInv can email to: Invoices@BrucknerSupply.com","Pfizer Inc. 185-N-3048205","Attn: Galliher Scott","40/59 / 1101 / 3-3076","7000 Portage Rd (Bld. 204A Dock)",null,"Kalamazoo","MI","49001"]
["Pfizer (Kalamazoo) DON'T USE!!!!!!!","Mike Dupuis","901-215-1111 billing","269-833-4839",null,"269-833-2062",null,null,"Non-Tax",null,"Pfizer","Mike Dupuis","7000 Portage Road","Mail Stop: 0200-91-106",null,"Kalamazoo","MI","49001","Mr.","Dupuis"]
["Pfizer / CM Resources, Inc. (Jackson)","Mark Jackson",null," 269-833-6763",null," 269-833-7377","mark.s.jackson@pfizer.com",null,null,"Tasha Mazo is Office Mgr. 269.833.5223","Pfizer / CM Resources, Inc.","7983 South 10th Street","M/S: 0200-409-TRL",null,null,"Kalamazoo","MI","49009","Mr.","Jackson","Construction Manager","Chemical Pharmaceutical","Kalamazoo"]
["Pfizer / CM Resources, Inc. (Ledbetter)","Doug Ledbetter",null," 269-833-1460",null," 269-833-9836","doug.ledbetter@pfizer.com",null,null,"Per Anita Pelak. Doug is contract employee who oversees contractors on site. Ended up going to SSI for harnesses this time, but will use us next.","Pfizer / CM Resources, Inc.","7983 South 10th Street","M/S: 0200-409-TRL",null,null,"Kalamazoo","MI","49009","Mr.","Ledbetter","Field Engineer","Chemical Pharmaceutical","Kalamazoo"]
["Pfizer / CM Resources, Inc. (Mazo)","Tasha Mazo",null," 269-833-5223",null," 269-833-7377","tasha-cons.l.mazo@pfizer.com",null,null,null,"Pfizer / CM Resources, Inc.","7983 South 10th Street","M/S: 0200-409-TRL",null,null,"Kalamazoo","MI","49009","Ms.","Mazo",null,"Chemical Pharmaceutical","Kalamazoo"]
["Pfizer / CM Resources, Inc. (Stover)","Don Stover",null," 269-833-8187",null," 269-833-7377",null,null,null,null,"Pfizer / CM Resources, Inc.","7983 South 10th Street","M/S: 0200-409-TRL",null,null,"Kalamazoo","MI","49009","Mr.","Stover","Field Engineer","Chemical Pharmaceutical","Kalamazoo"]
["Pfizer / Earthtech (Carroll)","Edward Carroll",null," 269-833-3827",null," 269-833-7347",null,null,null,null,"Pfizer / Earthtech","7171 Portage Road","Mail Stop 6155-398-TRL",null,null,"Kalamazoo","MI","49001","Mr.","Carroll","Automation & Controls Engineer","Chemical Pharmaceutical","Kalamazoo"]
["Pfizer / Earthtech (Muka)","Scott Muka",null," 269-833-0212",null," 269-833-4337","scott.l.muka@pfizer.com",null,null,"Contact for trestle HLL. Works for Peter Jensen.","Pfizer / Earthtech","7171 Portage Road","Mail Stop 6155-384-01",null,null,"Kalamazoo","MI","49001","Mr.","Muka","Structural Engineer","Chemical Pharmaceutical","Kalamazoo"]
["Pfizer / Washington Group International,","David Eaton",null," 269-833-0382",null," 269-833-7347","david-cons.l.eaton@pfizer.com",null,null,null,"Pfizer / Washington Group International, ","1901 Romence Parkway  #227",null,null,null,"Portage","MI","49002","Mr.","Eaton",null,"Chemical Pharmaceutical","Kalamazoo"]
["Pfizer / Washington Group International,","David Eaton",null," 269-833-0382",null," 269-833-7347","david-cons.l.eaton@pfizer.com",null,null,null,"Pfizer / Washington Group International, ","1901 Romence Parkway  #227",null,null,null,"Portage","MI","49002","Mr.","Eaton",null,"Chemical Pharmaceutical","Kalamazoo"]
["Pfizer / Washington Group International,","David Eaton",null," 269-833-0382",null," 269-833-7347","david-cons.l.eaton@pfizer.com",null,null,null,"Pfizer / Washington Group International, ","1901 Romence Parkway  #227",null,null,null,"Portage","MI","49002","Mr.","Eaton",null,"Chemical Pharmaceutical","Kalamazoo"]
["Pfizer Air Shuttle (Coates)","Mark Coates",null," 269-833-0747",null," 269-833-0802","mark.r.coates@pfizer.com",null,null,null,"Pfizer Air Shuttle","5829 Portage Road",null,null,null,"Kalamazoo","MI","49002","Mr.","Coates",null,"Chemical Pharmaceutical","Kalamazoo"]
["Pfizer Allied (VanZelfden)","Jan Arthur VanZelfden",null," 269-833-6668",null,null,"jan.a.vanzelfden@pfizer.com",null,null,null,"Pfizer Allied","7000 Portage Road","MS 6111-041-065",null,null,"Kalamazoo","MI","49001","Mr.","VanZelfden",null,"Chemical Pharmaceutical","Kalamazoo"]
["Pfizer Animal Health (Dziewicki)","Sara Dziewicki",null," 269-833-2620",null," 269-833-2817","saralee.dziewicki@pfizer.com",null,null,"Jason Cassidy mob 269.760.0056\nDon Lombard  269.833.2852","Pfizer Animal Health","5300 North 28th Street",null,null,null,"Richland","MI","49083","Ms.","Dziewicki","Material Controller","Chemical Pharmaceutical","Kalamazoo"]
["Pfizer Animal Health (Kievit)","Kelly Kievit",null," 269-833-2653",null," 269-833-2789","kelly.i.kievit@pfizer.com",null,null,null,"Pfizer Animal Health","5300 North 28th Street",null,null,null,"Richland","MI","49083","Ms.","Kievit","Sr. Associate Scientist","Chemical Pharmaceutical","Kalamazoo"]
["Pfizer Animal Health (Lemons)","Mark Lemons",null," 269-833-9159",null,null,"mark.e.lemons@pfizer.com",null,null,null,"Pfizer Animal Health","5300 North 28th Street",null,null,null,"Richland","MI","49083","Mr.","Lemons","Safety","Chemical Pharmaceutical","Kalamazoo"]
["Pfizer Bruckner (Dlamini-Smith)","Dorothy Dlamini-Smith",null," 269-833-1418",null," 269-833-4672","dorothy.dlamini@pfizer.com",null,null,null,"Pfizer Bruckner","7000 Portage Road","PORT",null,null,"Kalamazoo","MI","49001","Ms.","Dlamini-Smith",null,"Chemical Pharmaceutical","Kalamazoo"]
["Pfizer Bruckner (Jurhs)","Pat Jurhs",null," 269-833-4576",null," 269-833-1453","pat.s.jurhs@pfizer.com",null,null,null,"Pfizer Bruckner","7000 Portage Road","PORT-78-3",null,null,"Kalamazoo","MI","49001","Ms.","Jurhs",null,"Chemical Pharmaceutical","Kalamazoo"]
["Pfizer Bruckner (Lord)","Phil Lord",null," 269-833-9345",null," 269-833-0412","philip.lord@pfizer.com",null,null,"Sandy Payne's Boss\nPat Jurhs 269.833.4576","Pfizer Bruckner","7000 Portage Road",null,null,null,"Kalamazoo","MI","49001","Mr.","Lord",null,"Chemical Pharmaceutical","Kalamazoo"]
["Pfizer Bruckner (Meyers)","Joel Meyers",null," 269-833-7303",null," 269-833-9025","joel.w.meyers@pfizer.com",null,null,null,"Pfizer Bruckner","7000 Portage Road","PORT-78-3",null,null,"Kalamazoo","MI","49001","Mr.","Meyers","Customer Service/Buyer","Chemical Pharmaceutical","Kalamazoo"]
["Pfizer Bruckner (Payne)","Sandy Payne",null," 269-833-6226",null," 269-833-6820","sandy.m.payne@pfizer.com",null,null,"Sandy Payne's Boss\nPat Jurhs 269.833.4576","Pfizer Bruckner","7000 Portage Road",null,null,null,"Kalamazoo","MI","49001","Ms.","Payne",null,"Chemical Pharmaceutical","Kalamazoo"]
["Pfizer Cork Ltd. (Little Island)","Gary Crowley",null,"35.32.14.51.02.82",null,null,null,null,"Non-Tax",null,"Pfizer Cork Ltd. (Little Island)","Gary Crowley","Inchera","Little Island, County Cork",null,"Irleand"]
["Pfizer Cork Ltd. (Loughbeg)","Eugene McCarthy",null,"0214974402",null,null,null,null,"Non-Tax",null,"Pfizer Cork Ltd.","Eugene McCarthy","Loughbeg, Ringaskiddy",null,null,"County Cork Ireland",null,"0214974402","Mr.","McCarthy"]
["Pfizer Corporate (EH&S)","Marthe Sokoloff","Tom Goes","212-733-6374","269-833-5561","212-573-7004",null,null,"Non-Tax","Thomas Goes (Kzoo) - In charge of AMP program\n\nMike West is Thomas' boss but has given Thomas full control\n\n~~~~~~~~~~~~~~~~~~~~~~~~~~~~~~~~~~\nInvoice Procedure:\n\nMail Copy of Invoice to Marthe Sokoloff\nFax / email copy of invoice to Tomas Goes\n\n* This may change in future\n~~~~~~~~~~~~~~~~~~~~~~~~~~~~~~~~~~","Pfizer Corporate (EH&S)","Attn: Thomas Goes","7000 Portage Road","Mail Stop: PORT-248-104",null,"Kalamazoo","MI","49001"]
["Pfizer Inc. (Air Shuttle)","Mark Coates",null,null,null,null,null,null,"Michigan Sales Tax",null,"Pfizer Inc. (Air Shuttle)","Attn: Mark Coates","5829 Portage Road",null,null,"Kalamazoo","MI","49002"]
["Pfizer Inc. (Ann Arbor)","Jeffrey Little",null,"860-686-0918",null,"860-686-7221",null,null,"Non-Tax",null,"Pfizer Inc. (Ann Arbor)","148- Warner Lambert LLC","PO #148-N-1154639","2800 Plymouth Road",null,"Ann Arbor","MI","48105"]
["Pfizer Inc. (Argentina)","Ruth Kozak",null,"54.11.4909.8312",null,null,null,null,"Non-Tax",null,"Pfizer SRL","Attn: Ruth Kozak","Virrey Loreto 2477",null,null,"Buenos Aires","C1426DXS"]
["Pfizer Inc. (Augusta)","Sherolyn Bishop",null,"706-303-5471",null,null,"sherolyn.g.bishop@pfizer.com",null,"Non-Tax",null,"Pfizer Inc. (Augusta)","Attn: Sherolyn Bishop","1736 Lovers Lane",null,null,"Augusta","GA","30903"]
["Pfizer Inc. (Aviation - West Trenton)",null,"Tom Lochhead",null,null,null,"thomas.lochhead@pfizer.com",null,"Non-Tax",null,"Pfizer Inc. (Aviation - West Trenton)","Attn:","1001 Jack Stephan Way",null,null,"West Trenton","NJ","08628"]
["Pfizer Inc. (Brooklyn)","Donald Sharke",null,"718-780-0491",null,null,"donald.sharke@pfizer.com",null,"Non-Tax","overdue open invoices to be faxed to Bhacika in brooklyn at 718-780-0940\n\nFedEx Express Acct.# 105429134\nUPS Acct# 4454W3\n\npurchasing manager David Culp 718-780-8835\n\nRobert 718-780-0427\n\nMinerva Rodriguez 718-780-8862","Pfizer Inc. (Brooklyn)","Attn:","630 Flushing Ave.",null,null,"Brooklyn 718-780-0949"]
["Pfizer Inc. (Capsugel France)","Luc Cooman","Magalie Barteau",null,"33.2.97.72.14.24",null,null,null,"Non-Tax",null,"Pfizer Inc. (Capsugel France)","Attn:","Z.I. de Ploermel Cedex",null,null,"56803","Bretagne"]
["Pfizer Inc. (Farms)",null,null,null,null,null,null,null,"Non-Tax",null,"Pfizer Inc. (Farms)","Nagel, Victoria M","185-Pharmacia Bldg 300","333 Portage Rd",null,"Kalamazoo","MI","49007"]
["Pfizer Inc. (Holland)","Scott Peplinski",null,"616-392-2375 ext.2529",null,null,null,null,"Non-Tax",null,"Pfizer Inc.","Attn: Scott Peplinski","188 Howard Ave.",null,null,"Holland","MI","49424"]
["Pfizer Inc. (Kalamazoo)","Carol Hick",null,"269-833-8345",null,null,null,null,"Michigan Sales Tax","MUST put stockcode # on all orders and shipments to make life happy at the stores.\n\nAgile vendor 367580\n5/13/11 ups # for Ground to Kazoo is 72W106 the associated Zip code is 06340 if this has a prob call buyer Jen Cable at 860-715-5655\n\nAccounts Payable for PO# no letters starts 185-#-### call Heather Welser at 833-3766 or John Walden 833-0192 with payment questions\n\nAccounts Payable in Tenn. 901.215.1111\n~~~~~~~~~~~~~~~~~~~~~~~~~~~~~~~~~~~~\nSafety Amex Purchasing:  Tina S. fx: 269-833-6175\nAmex: 3787-3056-4441-000\nExp: 10/09\n~~~~~~~~~~~~~~~~~~~~~~~~~~~~~~~~~~~~\nPager Call In Number:  269-833-7056\n\nBld. 66 Maintenance (PORT-066-1)\nJerry Kedrowicz - jerry.kedrowicz@pfizer.com,  pager:1287 - shop 269-833-5048\n\nBld. 78 Maintenace (PORT-078-1)\nRay Brown - shop: 269-833-6744, ray.a.brown@pfizer.com\nRich Livingston - pager: \n\nBld. 324 Main (PORT-324-2)\nBrian Arehart - shop: 269-833-7351","Pfizer Inc., Pharmacia & Upjohn","Attn:","7000 Portage Road, Bldg. 204A Dock",null,null,"Kalamazoo","MI","49001-0102"]
["Pfizer Inc. (Kzoo - PGRD)",null,"Bob Brock",null,"269-833-9815","269-833-3858",null,null,"Non-Tax",null,"Pfizer Inc., GFSS Global Operations","Attn:","333 Portage Rd. 185 (Bld 300)",null,null,"Kalamazoo","MI","49007"]
["Pfizer Inc. (Lititz)","Darry Blankenbiller",null,"717-627-9094",null,"717-627-9837",null,null,"Non-Tax",null,"Pfizer Inc. (Lititz)","Darryl Blankenbiller","400 West Lincoln Ave.",null,null,"Lititz","PA","17543"]
["Pfizer Inc. (Parsippany)","Patti Johnson",null,"973-952-7612",null,null,"patti.johnson@pfizer.com",null,"Non-Tax",null,"Pfizer Inc (Parsippany)","Attn: Patti Johnson","100 Jefferson Road",null,null,"Parsippany","NJ","07054"]
["Pfizer Inc. (Portage)","Christie Croften",null,"269-833-7245",null,"269-833-6517",null,null,"Michigan Sales Tax",null,"Pfizer Inc. (Portage)","Attn:Tina R. Schmaus","7000 Portage Road","Mail Stop 0200-41-016",null,"Kalamazoo","MI","49001"]
["Pfizer Inc. (Richland MI)","Taren Durham (Buyer)",null,"269-833-0067",null,null,null,null,"NTDRPAY",null,"Pfizer Inc. (Richland MI)","PO# 185-N-3014195","Bldg 133B Sheri Frenthway"," 5300 North 28th Street",null,"Richland","MI","49083"]
["Pfizer Inc. (Tlalpan, Mexico)","Sergio Marquez","Spica Angles","52.55.5624.4673","52.55.5624.4715",null,null,null,"Non-Tax",null,"Pfizer PGM, Tlalpan","Attn:","Calzada de Tlalpan No.2962","Colonia Espartaco, delegacion Cayoacan",null,"Mexico City",null,"04870"]
["Pfizer Inc. (Vega Baja PR)",null,null,"787-654-2411",null,null,null,null,"Non-Tax",null,"Pfizer Inc. (Vega Baja PR)","Attn: Vivian Guadalupe","Rd. 689 Km 1.9","BO Carmelita",null,"Vega Baja 00693","PR"]
["Pfizer Inc. (Venezuela S.A.)","Cricelis Alvarez","Peggy Gamez","58.241.6135606","58.241.6135606",null,null,null,"Non-Tax",null,"Pfizer Inc. - Venezuela S.A.","Attn:","Av. Henry Ford - Zona Industrial Sur",null,null,"Aptdo 231 - Velencia - Edo. Car"]
["Pfizer Inc. Brooklyn (Grasso)","Joseph Grasso",null," 718-780-8558",null," 646-441-5882","joseph.grasso@pfizer.com",null,null,null,"Pfizer Inc. Brooklyn","630 Flushing Ave.",null,null,null,"Brooklyn","NY","11206","Mr.","Grasso",null,"Chemical Pharmaceutical","Out of State"]
["Pfizer Inc. Brooklyn (Lyle)","Vernon Lyle",null," 718-780-8739",null,null,"vernon.lyle@pfizer.com",null,null,null,"Pfizer Inc. Brooklyn","630 Flushing Ave.",null,null,null,"Brooklyn","NY","11206","Mr.","Lyle","Mainenance Supervisor","Chemical Pharmaceutical","Out of State"]
["Pfizer Inc. Brooklyn (Patel)","Kinnari Patel",null," 718-780-0949",null," 718-780-8380","kinnari.patel@pfizer.com",null,null,null,"Pfizer Inc. Brooklyn","630 Flushing Ave.",null,null,null,"Brooklyn","NY","11206","Ms.","Patel","EH&S","Chemical Pharmaceutical","Out of State"]
["Pfizer Inc. Brooklyn (Rios)","Mike Rios",null," 718-780-8402"," 646-441-4542 fax#2"," 718-780-8430","mike.rios@pfizer.com",null,null,null,"Pfizer Inc. Brooklyn","630 Flushing Ave.",null,null,null,"Brooklyn","NY","11206","Mr.","Rios","Instrument Technician","Chemical Pharmaceutical","Out of State"]
["Pfizer Inc. Brooklyn (Singh)","Latchman Singh",null," 718-780-8684",null," 718-780-8380","latchman.singh@pfizer.com",null,null,null,"Pfizer Inc. Brooklyn","630 Flushing Ave.","5th Floor EH&S Dept.",null,null,"Brooklyn","NY","11206","Mr.","Singh","EH&S","Chemical Pharmaceutical","Out of State"]
["Pfizer Inc. Brooklyn (Vega)","Sally Vega",null," 718-780-8426",null," 212-672-7522","sally.vega@pfizer.com",null,null,null,"Pfizer Inc. Brooklyn","630 Flushing Ave.",null,null,null,"Brooklyn","NY","11206","Ms.","Vega","Calibration Scheduler","Chemical Pharmaceutical","Out of State"]
["Pfizer Inc. Capsugel (Abell)","Mark Abell",null," 864-942-6620",null,null,"mark.abell@pfizer.com",null,null,null,"Pfizer Inc. Capsugel","535 N. Emerald Road",null,null,null,"Greenwood","SC","29646","Mr.","Abell","Regional Manager, EHS","Chemical Pharmaceutical","Out of State"]
["Pfizer Inc. Corporate (Lassissi)","Alissa Lassissi",null," 212-573-3737",null," 212-573-7004","alissa.m.lassissi@pfizer.com",null,null,null,"Pfizer Inc. Corporate","235 East 42nd Street","Mail Stop: 219-9-27",null,null,"New York","NY","10017-5755","Ms.","Lassissi",null,"Chemical Pharmaceutical","Out of State"]
["Pfizer Inc. Corporate (Sokoloff)","Marthe Sokoloff",null," 212-733-6374"," 212-573-1000"," 212-573-7004","marthe.sokoloff@pfizer.com",null,null,null,"Pfizer Inc. Corporate","235 E 42nd Street","Mail Stop 219-9-25",null,null,"New York","NY","10017","Ms.","Sokoloff","Assistant","Chemical Pharmaceutical","Out State"]
["Pfizer Inc. Corporate (Tait)","Keith Tait",null," 212-573-1000 3640"," 518-251-5142"," 212-573-7004","keith.d.tait@pfizer.com",null,null,"Elsie Isla\nThe Preserve at Gore \n25 Mountain Path \nNorth Creek, NY  12853\nhome in North Creek, NY 518.251.5142\nMike West has succeeded KT","Pfizer Inc. Corporate","235 E 42nd Street","Building 219  9th Floor",null,null,"New York","NY","10017","Mr.","Tait",null,"Chemical Pharmaceutical","Out State"]
["Pfizer Inc. Portage ()",null,null," 269-833-1235",null," 269-833-6517","megan.a.brock@pfizer.com",null,null,"HCN monitors","Pfizer Inc. Portage","7000 Portage Road","Mail Stop:  1373-173-1",null,null,"Kalamazoo","MI","49001",null,null,null,"Chemical Pharmaceutical","Kalamazoo"]
["Pfizer Inc. Portage (AA)","AA Main AA",null," 269-833-4000",null,null,null,null,null,"pager access on site 189 + 4; off-siite 269.833.7056","Pfizer Inc. Portage","7000 Portage Road",null,null,null,"Kalamazoo","MI","49001",null,"AA",null,"Chemical Pharmaceutical","Kalamazoo"]
["Pfizer Inc. Portage (Addison)","David Addison",null," 269-833-7198",null," 269-833-9282","david.m.addison@pfizer.com",null,null,null,"Pfizer Inc. Portage","301 Henrietta Street",null,null,null,"Kalamazoo","MI","49007","Mr.","Addison",null,"Chemical Pharmaceutical","Kalamazoo"]
["Pfizer Inc. Portage (Allen)","Dan Allen",null," 269-833-3597",null," 269-833-7367","daniel.p.allen@pfizer.com",null,null,"Demo'd Grace System","Pfizer Inc. Portage","7000 Portage Road","Mail Stop: 0200-362-1",null,null,"Kalamazoo","MI","49001","Mr.","Allen","Supervisor, Solvent Recovery","Chemical Pharmaceutical","Kalamazoo"]
["Pfizer Inc. Portage (Ansley)","Kim Ansley",null," 269-833-4000",null,null,"kim.i.ansley@pfizer.com",null,null,"HCN monitors","Pfizer Inc. Portage","7000 Portage Road",null,null,null,"Kalamazoo","MI","49001","Mr.","Ansley",null,"Chemical Pharmaceutical","Kalamazoo"]
["Pfizer Inc. Portage (Anson)","David Anson",null," 269-833-0290",null," 269-833-2062","david.l.anson@pfizer.com",null,null,null,"Pfizer Inc. Portage","7000 Portage Road",null,null,null,"Kalamazoo","MI","49001","Mr.","Anson",null,"Chemical Pharmaceutical","Kalamazoo"]
["Pfizer Inc. Portage (Apotheker)","Hank Apotheker",null," 269-833-9239",null," 269-833-6989","henry.apotheker@pfizer.com",null,null,null,"Pfizer Inc. Portage","7000 Portage Road","Mail Stop 429-TRL",null,null,"Kalamazoo","MI","49001","Mr.","Apotheker",null,"Chemical Pharmaceutical","Kalamazoo"]
["Pfizer Inc. Portage (Appell)","Stephen Appell",null," 269-833-5934",null," 269-833-6856","stephen.appell@pfizer.com",null,null,"Quote plugs for Ultra sensor cover and Continuous Supplied Air tester for Total hydrocarbons, CO2, CO, O2, Humidity.  4-20mA or 1-5 V ok","Pfizer Inc. Portage","7000 Portage Road","Mail Stop: 6169-040-",null,null,"Kalamazoo","MI","49001","Mr.","Appell","Instrumentation Mechanic","Chemical Pharmaceutical","Kalamazoo"]
["Pfizer Inc. Portage (Baner)","Andrew Baner",null," 269-833-7934",null,null,"andrew.m.baner@pfizer.com",null,null,null,"Pfizer Inc. Portage","7000 Portage Road","Mail Stop: 0200-041-016",null,null,"Kalamazoo","MI","49001","Mr.","Baner",null,"Chemical Pharmaceutical","Kalamazoo"]
["Pfizer Inc. Portage (Basak)","Bill Basak",null," 269-833-9839",null," 269-833-9130","boleslaw.p.basak@pfizer.com",null,null,null,"Pfizer Inc. Portage","7000 Portage Road","Mail Stop: 6511-041-065",null,null,"Kalamazoo","MI","49001","Mr.","Basak","Material Controller","Chemical Pharmaceutical","Kalamazoo"]
["Pfizer Inc. Portage (Benedict)","Kathy Benedict",null," 269-833-1387",null,null,"kathryn.benedict@pfizer.com",null,null,null,"Pfizer Inc. Portage","7000 Portage Road","Mail Stop: 0300",null,null,"Kalamazoo","MI","49001","Ms.","Benedict",null,"Chemical Pharmaceutical","Kalamazoo"]
["Pfizer Inc. Portage (Betz)","Mark Betz",null," 269-833-3561",null," 269-833-2062","mark.r.betz@pfizer.com",null,null,"Spoke re: methyl iodide (Gastec vs. Kitagawa Matheson) and Dimethyl Sulfate (Draeger).\nWill be looking at personal aerosol monitor(s), possibly TSI, due to IS issue. Introduced idea of Casella.","Pfizer Inc. Portage","7000 Portage Road","Mail Stop: 0200-041-016",null,null,"Kalamazoo","MI","49001","Mr.","Betz","EH&S Manager","Chemical Pharmaceutical","Kalamazoo"]
["Pfizer Inc. Portage (Birkholz)","James Birkholz",null," 269-833-5520",null," 269-833-9025","james.p.birkholz@pfizer.com",null,null,"Mike Hartman 833.6815 for Cart","Pfizer Inc. Portage","7000 Portage Road","Mail Stop: 6351-078-003",null,null,"Kalamazoo","MI","49001","Mr.","Birkholz","Maintenance Engineer","Chemical Pharmaceutical","Kalamazoo"]
["Pfizer Inc. Portage (Blair)","Christie Blair",null," 269-833-7245",null," 269-833-6517","christie.blair@pfizer.com",null,null,null,"Pfizer Inc. Portage","7000 Portage Road","Mail Stop 0200-41-016",null,null,"Kalamazoo","MI","49001","Ms.","Blair",null,"Chemical Pharmaceutical","Kalamazoo"]
["Pfizer Inc. Portage (Bos)","Joe Bos",null," 269-833-5599",null," 269-833-6756","joe.e.bos@pfizer.com",null,null,"Mentioned Ken Pearlman and Harold Slater will be doing buying through Bruckner. Joe has put our name in as a preferred supplier.","Pfizer Inc. Portage","7000 Portage Road","Mail Stop: 6351-078-003",null,null,"Kalamazoo","MI","49001","Mr.","Bos","Material Controller","Chemical Pharmaceutical","Kalamazoo"]
["Pfizer Inc. Portage (Breitenbach)","James Breitenbach",null," 269-833-0290",null," 269-833-2062","james.m.breitenbach@pfizer.com",null,null,null,"Pfizer Inc. Portage","7000 Portage Road",null,null,null,"Kalamazoo","MI","49001","Mr.","Breitenbach","EH&S","Chemical Pharmaceutical","Kalamazoo"]
["Pfizer Inc. Portage (Brock)","Bob Brock",null," 269-833-9815",null," 269-833-9488","robert.n.brock@pfizer.com",null,null,"Megan Brock home w/ daughter born April '09","Pfizer Inc. Portage","301 Henrietta Street",null,null,null,"Kalamazoo","MI","49007","Mr.","Brock","EH&S","Chemical Pharmaceutical","Kalamazoo"]
["Pfizer Inc. Portage (Buckmaster)","Mary Buckmaster",null," 269-833-8859",null," 269-833-6820","mary.k.buckmaster@pfizer.com",null,null,null,"Pfizer Inc. Portage","7000 Portage Road","Mail Stop: 6311-041-051",null,null,"Kalamazoo","MI","49001","Ms.","Buckmaster","Material Controller","Chemical Pharmaceutical","Kalamazoo"]
["Pfizer Inc. Portage (Campbell)","Tim Campbell",null," 269-833-6926",null," 269-833-9056","j.tim.campbell@pfizer.com",null,null,"Ray Brown Instrument Tech 78\nRich Livingston Tech 78\nJerry Kedrowicz Tech 66","Pfizer Inc. Portage","7000 Portage Road","Mail Stop:  PORT-173-1",null,null,"Kalamazoo","MI","49001","Mr.","Campbell","Operations Specialist","Chemical Pharmaceutical","Kalamazoo"]
["Pfizer Inc. Portage (Cleland-Heldt)","Carla Cleland-Heldt",null," 269-833-1636",null,null,null,null,null,"In Wendy Wilkins' shop. One of the team leaders evaluating (and predisposed to) the BW GasAlertMax.","Pfizer Inc. Portage","7000 Portage Road","Mail Stop: 0200-088-122",null,null,"Kalamazoo","MI","49001","Ms.","Cleland-Heldt","Buyer","Chemical Pharmaceutical","Kalamazoo"]
["Pfizer Inc. Portage (Coughlin)","Brett Coughlin",null," 269-833-9627",null,null,"brett.coughlin@pfizer.com",null,null,null,"Pfizer Inc. Portage","7000 Portage Road","Mail Stop: PORT-204-1",null,null,"Kalamazoo","MI","49001","Mr.","Coughlin",null,"Chemical Pharmaceutical","Kalamazoo"]
["Pfizer Inc. Portage (DeHaan)","Jeff DeHaan",null,null,null," 269-833-1416","jeffrey.s.dehaan@pfizer.com",null,null,null,"Pfizer Inc. Portage","7000 Portage Road",null,null,null,"Kalamazoo","MI","49001","Mr.","DeHaan","Instrument Technician","Chemical Pharmaceutical","Kalamazoo"]
["Pfizer Inc. Portage (Doorlag)","Larry Doorlag",null," 269-833-7517",null," 269-833-6765","larry.l.doorlag@pfizer.com",null,null,null,"Pfizer Inc. Portage","7000 Portage Road",null,null,null,"Kalamazoo","MI","49001","Mr.","Doorlag","Operations Specialist","Chemical Pharmaceutical","Kalamazoo"]
["Pfizer Inc. Portage (Droski)","James Droski",null," 269-833-1392",null," 269-833-9047","james.m.droski@pfizer.com",null,null,null,"Pfizer Inc. Portage","7000 Portage Road","Mail Stop: 0200-362-1",null,null,"Kalamazoo","MI","49001","Mr.","Droski","Project Manager","Chemical Pharmaceutical","Kalamazoo"]
["Pfizer Inc. Portage (Dziewicki)","Sara Dziewicki",null," 269-833-3344",null," 269-833-2817","saralee.dziewicki@pfizer.com",null,null,null,"Pfizer Inc. Portage","7000 Portage Road","Mail Stop: 7551-133-000",null,null,"Kalamazoo","MI","49001","Ms.","Dziewicki","Material Controller","Chemical Pharmaceutical","Kalamazoo"]
["Pfizer Inc. Portage (Edwards)","Fred Edwards",null," 269-833-3678",null," 616-833-9836","fred.g.edwards@pfizer.com",null,null,"Charles Paradine (x35077) referred Fred to us. Quote BW fixed system for tunnels project.","Pfizer Inc. Portage","7000 Portage Road"," 6070-399-TRL",null,null,"Kalamazoo","MI","49001","Mr.","Edwards","Controls Engineer","Chemical Pharmaceutical","Kalamazoo"]
["Pfizer Inc. Portage (Elkins)","Mike Elkins",null," 269-833-5272",null,null,"michael.s.elkins@pfizer.com",null,null,null,"Pfizer Inc. Portage","7000 Portage Road",null,null,null,"Kalamazoo","MI","49001",null,"Elkins","Fire Chief","Chemical Pharmaceutical","Kalamazoo"]
["Pfizer Inc. Portage (Fletcher)","Thomas Fletcher",null,null,null,null,"thomas.l.fletcher@pfizer.com",null,null,null,"Pfizer Inc. Portage","7000 Portage Road","Mail Stop: Port-41-029",null,null,"Kalamazoo","MI","49001","Mr.","Fletcher",null,"Chemical Pharmaceutical","Kalamazoo"]
["Pfizer Inc. Portage (Gendernalik)","Ric Gendernalik",null," 269-833-7132",null," 269-833-9151","richard.f.gendernalik@pfizer.com",null,null,"old Tim Fedewa info: \n  * Emailed winch svc quote for Tim Pool through Tim Fedewa C050726.1\n  * Unit 4K289 Mike Betke winch svc quote to Tim Fedewa C050713.1","Pfizer Inc. Portage","7000 Portage Road",null,null,null,"Kalamazoo","MI","49001","Mr.","Gendernalik",null,"Chemical Pharmaceutical","Kalamazoo"]
["Pfizer Inc. Portage (Gingerich)","Ronald Gingerich",null," 269-833-5934",null," 269-833-6856","ronald.g.gingerich@pfizer.com",null,null,"John Rinehart, Pat Brown (Mr.), Joe Urnoway, Anita Pelak all in contractor safety\nRebecca Ackerman. Tom said to see Chris Jodan in Purch for pass.\nSent ABC's of fall protn outline.","Pfizer Inc. Portage","7171 Portage Road","Mail Stop: 6442-40-1",null,null,"Kalamazoo","MI","49001","Mr.","Gingerich","Instrument Technician","Chemical Pharmaceutical","Kalamazoo"]
["Pfizer Inc. Portage (Hartman)","Michael Hartman",null," 269-833-6815",null," 269-833-6778","michael.a.hartman@pfizer.com",null,null,"Mark Stears mob 269.760.0422 is Compressed Air and Chilled Water Supr","Pfizer Inc. Portage","7000 Portage Road","Mail Stop 4K352-188-1",null,null,"Kalamazoo","MI","49001","Mr.","Hartman",null,"Chemical Pharmaceutical","Kalamazoo"]
["Pfizer Inc. Portage (Hick)","Carol Hick",null," 269-833-8345",null," 269-833-0405","carol-cons.l.hick@pfizer.com",null,null,null,"Pfizer Inc. Portage","7000 Portage Road",null,null,null,"Kalamazoo","MI","49001","Ms.","Hick","Procurement Specialist",null,"Kalamazoo"]
["Pfizer Inc. Portage (Huizen)","David Huizen",null," 269-833-8521",null," 269-833-9400","david.huizen@pfizer.com",null,null,null,"Pfizer Inc. Portage","7000 Portage Road","KZO-267-229",null,null,"Kalamazoo","MI","49001","Mr.","Huizen","EH&S Manager","Chemical Pharmaceutical","Kalamazoo"]
["Pfizer Inc. Portage (Johnson)","Eric Johnson",null," 269-833-7175",null," 269-833-6517","eric.j.johnson@pfizer.com",null,null,"Quote plugs for Ultra sensor cover and Continuous Supplied Air tester for Total hydrocarbons, CO2, CO, O2, Humidity.  4-20mA or 1-5 V ok","Pfizer Inc. Portage","7000 Portage Road","Mail Stop 0200-91-016",null,null,"Kalamazoo","MI","49001","Mr.","Johnson","EH&S","Chemical Pharmaceutical","Kalamazoo"]
["Pfizer Inc. Portage (Kasten)","Tom Kasten",null," 269-833-7048",null," 269-833-8723","thomas.w.kasten@pfizer.com",null,null,"John Rinehart, Pat Brown (Mr.), Joe Urnoway, Anita Pelak all in contractor safety\nRebecca Ackerman. Tom said to see Chris Jodan in Purch for pass.\nSent ABC's of fall protn outline.","Pfizer Inc. Portage","7000 Portage Road",null,null,null,"Kalamazoo","MI","49001","Mr.","Kasten","Contractor Manager","Chemical Pharmaceutical","Kalamazoo"]
["Pfizer Inc. Portage (Kedrowicz)","Jerry Kedrowicz",null," 269-833-9527",null," 269-833-9025","jerry.kedrowicz@pfizer.com",null,null,"Boss Don Stahl 269.833.5281\nShop number  269.833.5048","Pfizer Inc. Portage","7000 Portage Road","Bld. 78, Unit 6353",null,null,"Kalamazoo","MI","49001","Mr.","Kedrowicz","Maintenance Teachnician","Chemical Pharmaceutical","Kalamazoo"]
["Pfizer Inc. Portage (Kik)","Dan Kik",null," 269-833-1377",null," 269-833-6552","danny.p.kik@pfizer.com",null,null,null,"Pfizer Inc. Portage","7000 Portage Road","Mail Stop: 6356-204-001",null,null,"Kalamazoo","MI","49001","Mr.","Kik","Material Controller","Chemical Pharmaceutical","Kalamazoo"]
["Pfizer Inc. Portage (Kiliam)","Phil Kiliam",null," 269-833-6882",null," 269-833-6603","philip.a.kilian@pfizer.com",null,null,"William VerMeulen succeeded by Phil Killian 269.833.6882\nTom Harring; Ken DeHaan; Gary Swynenberg;\nMr. Jim Kipp 269.833.5066 new contact in 204. Handles fall equipment.","Pfizer Inc. Portage","7000 Portage Road",null,null,null,"Kalamazoo","MI","49001","Mr.","Kiliam","Stores Manager","Chemical Pharmaceutical","Kalamazoo"]
["Pfizer Inc. Portage (Koning)","Mary Lou Koning",null," 269-833-5478",null," 269-833-9025",null,null,null,null,"Pfizer Inc. Portage","7000 Portage Road","Mail Stop: 6351-078-001",null,null,"Kalamazoo","MI","49001","Ms.","Koning","Material Controller",null,"Kalamazoo"]
["Pfizer Inc. Portage (Krueger)","Rhonda Krueger",null," 269-833-9503",null," 269-833-1453","rhonda.j.krueger@pfizer.com",null,null,null,"Pfizer Inc. Portage","7000 Portage Road","Mail Stop: 6355-324-001",null,null,"Kalamazoo","MI","49001","Ms.","Krueger","Material Controller","Chemical Pharmaceutical","Kalamazoo"]
["Pfizer Inc. Portage (Love)","Jeff Love",null," 269-833-5078"," 269-833-6744"," 269-833-9025","jeffery.love@pfizer.com",null,null,null,"Pfizer Inc. Portage","7000 Portage Road",null,null,null,"Kalamazoo","MI","49001","Mr.","Love",null,"Chemical Pharmaceutical","Kalamazoo"]
["Pfizer Inc. Portage (Lucas)","Annie Lucas",null," 269-833-9023",null," 269-833-9039","ann.m.lucas@pfizer.com",null,null,"Lorrie Martin is Linda Webster's successor\nGloria Garza 269.833.4236 is in Bldg 41 stores.\nMarilyn K. Bohn 269.833.7647 fx 4672  marilyn.k.bohn@pfizer.com\nSandy Feltch 269.833.0554 fx 9199 sandra.l.feltch@pfizer.com","Pfizer Inc. Portage","7000 Portage Road",null,null,null,"Kalamazoo","MI","49001","Ms.","Lucas","Maintenance Support Specialist","Chemical Pharmaceutical","Kalamazoo"]
["Pfizer Inc. Portage (Martin)","Lorrie Martin",null," 269-833-8345",null," 269-833-0294","lorrie.k.martin@pfizer.com",null,null,null,"Pfizer Inc. Portage","7000 Portage Road"," 0200-41-005",null,null,"Kalamazoo","MI","49001","Ms.","Martin","Procurement Specialist","Chemical Pharmaceutical","Kalamazoo"]
["Pfizer Inc. Portage (Mazick)","Jeff Mazick",null," 269-833-8440",null,null,"jeffrey.c.mazick@pfizer.com",null,null,null,"Pfizer Inc. Portage","7000 Portage Road",null,null,null,"Kalamazoo","MI","49001","Mr.","Mazick","Project Manager, Fall Protecti","Chemical Pharmaceutical","Kalamazoo"]
["Pfizer Inc. Portage (Millward)","Bob Millward",null," 269-833-4830",null," 269-833-9225","robert.d.millward@pfizer.com",null,null,"Demo'd Grace System","Pfizer Inc. Portage","7000 Portage Road","Mail Stop: 1380-225-2",null,null,"Kalamazoo","MI","49001","Mr.","Millward",null,"Chemical Pharmaceutical","Kalamazoo"]
["Pfizer Inc. Portage (Moore)","Steve Moore",null," 269-833-5146",null,null,null,null,null,"Bldg 291 (Incinerator)  Bought UT containment pallets","Pfizer Inc. Portage","7000 Portage Road",null,null,null,"Kalamazoo","MI","49001","Mr.","Moore","Environmental Compliance","Chemical Pharmaceutical","Kalamazoo"]
["Pfizer Inc. Portage (Nichols)","Evey Nichols",null," 269-833-5798",null," 269-833-4672","evelyn.j.nichols@pfizer.com",null,null,null,"Pfizer Inc. Portage","7000 Portage Road","Mail Stop: 6318-041-122",null,null,"Kalamazoo","MI","49001","Ms.","Nichols","Material Controller","Chemical Pharmaceutical","Kalamazoo"]
["Pfizer Inc. Portage (Patterson)","Robb Patterson",null," 269-833-9240",null," 269-833-6517","robert.c.patterson@pfizer.com",null,null,null,"Pfizer Inc. Portage","7000 Portage Road","M/S: 0200-41-16",null,null,"Kalamazoo","MI","49001","Mr.","Patterson","EH&S Ergonomist","Chemical Pharmaceutical","Kalamazoo"]
["Pfizer Inc. Portage (Pearson)","Dave Pearson",null," 269-833-1758",null," 269-833-1451","dave.pearson@pfizer.com",null,null,null,"Pfizer Inc. Portage","7000 Portage Road","Mail Stop: 6354-038-001",null,null,"Kalamazoo","MI","49001","Mr.","Pearson","Material Controller","Chemical Pharmaceutical","Kalamazoo"]
["Pfizer Inc. Portage (Pelak)","Anita Pelak",null," 269-833-6120",null,null,"anita.pekak@pfizer.com",null,null,"also, Joe Urnowey mob 269.720.9666","Pfizer Inc. Portage","7000 Portage Road",null,null,null,"Kalamazoo","MI","49001","Ms.","Pelak","EH&S","Chemical Pharmaceutical","Kalamazoo"]
["Pfizer Inc. Portage (Pitts)","John Pitts",null,null,null,null,"john.a.pitts@pfizer.com",null,null,"contact for Draeger unit (with Tim Campbell)","Pfizer Inc. Portage","7000 Portage Road","PORT-66C-002",null,null,"Kalamazoo","MI","49001","Mr.","Pitts",null,"Chemical Pharmaceutical","Kalamazoo"]
["Pfizer Inc. Portage (Pool)","Timothy Pool",null," 269-833-3874",null,null,"timothy.a.pool@pfizer.com",null,null,"quoted Coppus Hornet $425.00","Pfizer Inc. Portage","7000 Portage Road",null,null,null,"Kalamazoo","MI","49001","Mr.","Pool",null,"Chemical Pharmaceutical","Kalamazoo"]
["Pfizer Inc. Portage (Proksch)","Thomas Proksch",null," 269-833-9527",null," 269-833-9025","thomas.d.proksch@pfizer.com",null,null,null,"Pfizer Inc. Portage","7000 Portage Road","M/S: 0200-78-1",null,null,"Kalamazoo","MI","49001","Mr.","Proksch","Maintenance Team Leader","Chemical Pharmaceutical","Kalamazoo"]
["Pfizer Inc. Portage (Prough)","John Prough",null," 269-833-1705",null,null,"john.r.prough@pfizer.com",null,null,null,"Pfizer Inc. Portage","333 Portage Road",null,null,null,"Kalamazoo","MI","49001","Mr.","Prough",null,"Chemical Pharmaceutical","Kalamazoo"]
["Pfizer Inc. Portage (Rankin)","Kenneth Rankin",null," 269-833-8818",null," 269-833-5826","kenneth.r.rankin@pfizer.com",null,null,"Stop in 12.09.03 to discuss CSE retrieval.","Pfizer Inc. Portage","7000 Portage Road","Mail Stop: 0200-041-065",null,null,"Kalamazoo","MI","49001","Mr.","Rankin","Mechanical Integrity Program","Chemical Pharmaceutical","Kalamazoo"]
["Pfizer Inc. Portage (Repesh)","Linda Repesh",null," 269-833-8722",null," 269-833-6517","linda.repesh@pfizer.com",null,null,null,"Pfizer Inc. Portage","7000 Portage Road","MS PORT-041-016",null,null,"Kalamazoo","MI","49001","Ms.","Repesh",null,"Chemical Pharmaceutical","Kalamazoo"]
["Pfizer Inc. Portage (Rinehart)","John Rinehart",null," 269-833-7283",null," 269-833-8350","john.l.rinehart@pfizer.com",null,null,"John Rinehart, Pat Brown (Mr.), Joe Urnoway, Anita Pelak all in contractor safety. Report to Tom Kasten","Pfizer Inc. Portage","7000 Portage Road","MS 443-200-1",null,null,"Kalamazoo","MI","49001","Mr.","Rinehart","Contractor Safety","Chemical Pharmaceutical","Kalamazoo"]
["Pfizer Inc. Portage (Salamun)","Thomas Salamun",null," 269-833-5934",null," 269-833-6856","thomas.f.salamun@pfizer.com",null,null,"old Tim Fedewa info: \n  * Emailed winch svc quote for Tim Pool through Tim Fedewa C050726.1\n  * Unit 4K289 Mike Betke winch svc quote to Tim Fedewa C050713.1","Pfizer Inc. Portage","7000 Portage Road","Mail Stop: PORT-040-1",null,null,"Kalamazoo","MI","49001","Mr.","Salamun","Process Instrumentation","Chemical Pharmaceutical","Kalamazoo"]
["Pfizer Inc. Portage (Shindledecker)","Kurt Shindledecker",null," 269-833-7766",null," 269-833-6989","Kurt-Cons.E.Shindledecker@pfizer.com",null,null,null,"Pfizer Inc. Portage","7000 Portage Road","PORT-249-TRL",null,null,"Kalamazoo","MI","49001","Mr.","Shindledecker","Maintenance Teachnician",null,"Kalamazoo"]
["Pfizer Inc. Portage (Short)","Bob Short",null," 269-833-1724",null,null,"robert.g.short@pfizer.com",null,null,null,"Pfizer Inc. Portage","7000 Portage Road",null,null,null,"Kalamazoo","MI","49001","Mr.","Short","Process Instrumentation","Chemical Pharmaceutical","Kalamazoo"]
["Pfizer Inc. Portage (Spies)","Gary Spies",null," 269-833-8421",null,null,"gary.j.spies@pfizer.com",null,null,"Said to see Don Griffith 269.833.0305 for svc of PhD Ultras. Don reports to Gary Bronkema","Pfizer Inc. Portage","7000 Portage Road","Building 88",null,null,"Kalamazoo","MI","49001","Mr.","Spies","EH&S Site Manager","Chemical Pharmaceutical","Kalamazoo"]
["Pfizer Inc. Portage (Styes)","Amanda Styes",null," 269-833-6317",null," 269-833-2062","amanda.m.styes@pfizer.com",null,null,null,"Pfizer Inc. Portage","7000 Portage Road","Mail Stop 0200-91-106",null,null,"Kalamazoo","MI","49001","Ms.","Styes","EH&S Specialist","Chemical Pharmaceutical","Kalamazoo"]
["Pfizer Inc. Portage (Swynenberg)","Gary Swynenberg",null," 269-833-3942",null," 269-833-6603","gary.b.swynenberg@pfizer.com",null,null,null,"Pfizer Inc. Portage","7000 Portage Road","Mail Stop 6357-204-east",null,null,"Kalamazoo","MI","49001","Mr.","Swynenberg","Material Controller","Chemical Pharmaceutical","Kalamazoo"]
["Pfizer Inc. Portage (Van Alsten)","John Van Alsten",null," 269-833-9988",null," 269-833-9158","john.g.vanalsten@pfizer.com",null,null,null,"Pfizer Inc. Portage","7000 Portage Road","Mail Stop 1500-91-201",null,null,"Kalamazoo","MI","49001","Mr.","Van Alsten","Researcher","Chemical Pharmaceutical","Kalamazoo"]
["Pfizer Inc. Portage (VanderVeen)","Jim VanderVeen",null," 269-833-3957",null," 269-833-1386","james.a.vanderveen@pfizer.com",null,null,"Said to see Don Griffith 269.833.0305 for svc of PhD Ultras. Don reports to Gary Bronkema","Pfizer Inc. Portage","7000 Portage Road","Mail Stop 6318-041-052",null,null,"Kalamazoo","MI","49001-0199","Mr.","VanderVeen","External Maintenance Administr","Chemical Pharmaceutical","Kalamazoo"]
["Pfizer Inc. Portage (Vandlen)","Matt Vandlen",null," 269-833-6045",null,null,null,null,null,null,"Pfizer Inc. Portage","7000 Portage Road","Mail Stop 6070-399-TRL",null,null,"Kalamazoo","MI","49001","Mr.","Vandlen",null,"Chemical Pharmaceutical","Kalamazoo"]
["Pfizer Inc. Portage (Walko)","Ron Walko",null," 269-833-6150",null,null,null,null,null,"Responsible for bulk tankers unloading btwn 78 & 89. Tanker access ladder? Another area next to 149\nLooking at buying 3 -- 2 fixed, 1 portable. In addition to Ray Pogliano's 1 (269.833.3134). Dan going to Holland next week to see Mark Carlson's\nDA saw Holland's and likes. Been submitted. Probably several months. Ray P: nc lm on m\nInterested in possibly several PTAL's.","Pfizer Inc. Portage","7000 Portage Road","MS 0200-041-016",null,null,"Kalamazoo","MI","49001","Mr.","Walko","EH&S Manager","Chemical Pharmaceutical","Kalamazoo"]
["Pfizer Inc. Portage (Wasson)","Ellen Wasson",null," 269-833-1564",null," 269-833-7971","ellen.k.wasson@pfizer.com",null,null,null,"Pfizer Inc. Portage","7000 Portage Road","Mail Stop: 6072-126-035",null,null,"Kalamazoo","MI","49001","Ms.","Wasson","Material Controller","Chemical Pharmaceutical","Kalamazoo"]
["Pfizer Inc. Portage (White)","Donald White",null," 269-833-4857",null," 269-833-4241","donald.a.white@pfizer.com",null,null,null,"Pfizer Inc. Portage","7000 Portage Road"," 0200-089-1",null,null,"Kalamazoo","MI","49001","Mr.","White","Team Leader","Chemical Pharmaceutical","Kalamazoo"]
["Pfizer Inc. Portage (Whitman)","Chuck Whitman",null," 269-833-6650",null," 269-833-","charles.r.whitman@pfizer.com",null,null,null,"Pfizer Inc. Portage","7000 Portage Road",null,null,null,"Kalamazoo","MI","49001","Mr.","Whitman","Process Instrumentation","Chemical Pharmaceutical","Kalamazoo"]
["Pfizer Inc. Portage (Wilkins)","Wendy Wilkins",null," 269-833-9191",null," 269-833-9050","wendy.l.wilkins@pfizer.com",null,null,null,"Pfizer Inc. Portage","7000 Portage Road","Mail Stop: 6169-040-",null,null,"Kalamazoo","MI","49001","Ms.","Wilkins","Material Controller","Chemical Pharmaceutical","Kalamazoo"]
["Pfizer Limited (Sandwich)","Nick Berry",null,"44.13.04.64.37.81",null,null,"nickberry@Sandwich.pfizer.com",null,"Non-Tax",null,"Pfizer Limited","Nick Berry EH&S Dept. (IPC586)","PGRD, Sandwich Laboratories",null,null,"Sandwich","KY","CT13 9NJ","Mr.","Berry"]
["Pfizer Ltda. (Brazil)",null,"Marlene Mendonca",null,"55-11-46199789",null,"marlene.c.mendoca@pfizer.com",null,"Non-Tax",null,"Laboratorios Pfizer Ltda.","Rua Solange Aparecida Montan, 49","Sagrado Coracao",null,null,"Jandira","Sao Paulo","06600-000"]
["Pfizer Pharm. LLC (Barceloneta-P.R.)",null,"Fernando Gonzalez",null,"787-846-4300 ext.2907",null,null,null,"Non-Tax",null,"Pfizer Pharmaceuticals LLC","Attn:","Rd. #2, Km. 58.2",null,null,"Barceloneta",null,"00617"]
["Pfizer Pharmaceuticals (Arecibo-P.R.)",null,"Janic Lopez-Munoz",null,"787-817-6323","787-775-7043",null,null,"Non-Tax",null,"Pfizer Pharmaceuticals - Arecibo Site","Attn:","Road # 2 Km 60.0",null,null,"Arecibo","PR","00612"]
["Pfizer Pty. Limited (Perth)","'Elizabeth Mason' Ditchfield",null,"618-9362-0666",null,"618-9473-3577","elizabeth.m.ditchfield@pfizer.com",null,"Non-Tax",null,"Pfizer (Perth) Pty. Limited","Attn:","15 Brodie Hall Drive",null,null,"Bentley","WA","6102"]
["Pfizer Upjohn (P.R. China)",null,"Qi Jianming","+86 512.6825.2990","+86 512.5809.7250","+86 512.6825.3669",null,null,"Non-Tax",null,"Pfizer Upjohn SuZhou Phamaceutical Co.","Attn:","180 Zhuyuan Road",null,null,"New District","Suzhou","215011"]
["Pharmacopeia","Jeff Kaplan",null,"609-452-3790",null,"732-442-0156",null,null,"Michigan Sales Tax",null,"Pharmacopeia","Jeff Kaplan","2000 Cornwall Road",null,null,"Monmouth Junction","NJ","08852","Mr.","Kaplan"]
["Pharmacopeia (Kaplan)","Jeff Kaplan, CIH",null," 609-452-3790",null," 732-442-0156","jkaplan@pharmacop.com",null,null,null,"Pharmacopeia","2000 Cornwall Road",null,null,null,"Monmouth Junction","NJ","8852","Mr.","Kaplan",null,"Chemical Pharmaceutical","Out State"]
["Phase 3 Renewables",null,"Andy Austin 616-502-0959","330-414-5103",null,"330-319-8152",null,null,"NONTXAG",null,"Phase 3 Renewables","Scenic View dairy - Fennville","Attn: Andy Austin","1510  - 62nd Street",null,"Fennville","MI","49409"]
["Phase 3 Renewables (Freeport)","Andy Austin",null,null,null,null,null,null,"Michigan Sales Tax",null,"Phase 3 Renewables (Freeport)","Scenic View Dairy - Freeport","Attn: Andy Austin","10560 Freeport Avenue",null,"Freeport","MI","49325"]
["Phase II Electric (Edsall)","Cindy Edsall",null," 231-733-6353",null," 231-733-2480",null,null,null,null,"Phase II Electric","4733 Airline Rd.",null,null,null,"Muskegon","MI","49444","Ms.","Edsall",null,"Contractor Electrical","Muskegon"]
["Phase II Electric (Fox)","Laura Fox",null," 231-733-6353",null," 231-733-2480",null,null,null,null,"Phase II Electric","4733 Airline Rd.",null,null,null,"Muskegon","MI","49444","Ms.","Fox","Safety Advisor","Contractor Electrical","Muskegon"]
["Philip Services Corp. (Parker PA)","James Gamble",null,"724-399-2983",null,"724-399-4240",null,null,"Out of State",null,"Philip Services Corp. (Parker PA)","Attn: James Gamble","105 Tanker Lane",null,null,"Parker","PA","16049"]
["Phillip Services Company (Chicago) (Rios)","Gus Rios",null," 773-995-5500",null," 773-995-7178","gusr@pscnow.com",null,null,null,"Phillip Services Company (Chicago)","803 East 120th Street",null,null,null,"Chicago","IL","60628","Mr.","Rios",null,"Other","Out of State"]
["Phoenix Sealing Products (Yates)","Frank Yates",null," 800-245-3307",null,null,"frank@phoenixsealing.com",null,null,"Lead from OHD","Phoenix Sealing Products","14614 Nine Mile Road",null,null,null,"Eastpointe","MI","48021","Mr.","Yates",null,"Manufacturer","Wayne"]
["Pierre Foods","Felix Calez",null,"440-960-0146",null,null,"felix.calez@pierrefoods.com",null,"Out of State",null,"Pierre Foods","1833 Cooper Foster Park Rd"]
["Pierre Foods (Calez)","Felix Calez",null," 440-960-0146 237",null," 440-960-2357","felix.calez@pierrefoods.com",null,null,null,"Pierre Foods","1833 Cooper Foster Road",null,null,null,"Amherst","OH","44001","Mr.","Calez",null,"Food","Out of State"]
["Pilkington NA - Plant 6","Mark Carter","Kevin Hoodlebrink","419-247-3202",null,"419-247-3238 (Mark)",null,null,"Out of State",null,"Pilkington NA - Plant 6","Attn:","140 Hixie Hwy.",null,null,"Rossford","OH","43460"]
["Pilkington North America (Plant#6) (Carte","Mark Carter",null," 419-247-3202",null," 419-247-3238",null,null,null,null,"Pilkington North America (Plant#6)","140 Hixie Hwy",null,null,null,"Rossford","OH","43460","Mr.","Carter",null,"Manufacturer","Out of State"]
["Pilkington NSG Group","Virginia (purchasing)",null,"419-247-4955",null,"419-247-3961",null,null,"Michigan Sales Tax",null,"Pilkington NSG Group","Attn:","11700 Tecumseh Clinton Hwy.",null,null,"Clinton","MI","49236"]
["Pinnacle Construction Group (Hovingh)","Joe Hovingh",null," 616-451-0500 218",null," 616-451-0860","jh@buildwestmichigan.com",null,null,"Met. See also Gary Degraaf, VP Construction m 616.292.6149\nKen Patin mob 616-262-2187 kmp@buildwestmichigan.com","Pinnacle Construction Group","1000 Front Street NW",null,null,null,"Grand Rapids","MI","49504","Mr.","Hovingh","Field Resource Manager","Contractor General","Kent"]
["Pinnacle Insurance",null,"Jessie Hammond","616-458-8990",null,"616-913-3301",null,null,"Michigan Sales Tax",null,"Pinnacle Insurance","Attn:Jessie Hammond","1430 Monroe Ave. NW",null,null,"Grand Rapids","MI","49505"]
["Pioneer Construction","Eric Olson",null,null,null,null,null,null,"Michigan Sales Tax"]
["Pioneer Construction (Blocher)","Brian Blocher",null," 616-247-6966",null," 616-247-0367","brianb@pioneerinc.com",null,null,"Business way off (70%) call in ~6 mos; maybe we'll meet then","Pioneer Construction","550 Kirtland Street, SW",null,null,null,"Grand Rapids","MI","49507","Mr.","Blocher","Director of Safety","Contractor General","Kent"]
["Pioneer Hi-Bred","Eric Zeeb",null,"(269) 435-2855",null,null,null,null,"Michigan Sales Tax",null,"Pioneer Hi-Bred","Attn: Eric Zeeb","1365 S. Washington St.",null,null,"Constantine","MI","49042"]
["Piper Communication Services, Inc.",null,null,"303-456-1060",null,"303-456-1673",null,null,"Out of State","Doug Whittier - Ext. 128 - cell: 303-944-9733","Piper Communication Services, Inc.","Attn: Doug Whittier","5960 Jay Street",null,null,"Arvada","CO","80003"]
["Pipp Mobile Storage Systems",null,null,"616-735-9100",null,null,null,null,"Michigan Sales Tax","Keith Rouse - cell:  616-988-4094","Pipp Mobile Storage Systems","Attn:","2966 Wilson Drive NW",null,null,"Walker","MI","49534"]
["Pisces Field Services","Kit Foster",null,"231-547-4429",null,"231-547-2057",null,null,"Michigan Sales Tax",null,"Pisces Field Services","Attn: Kit Foster","12608 Taylor Road",null,null,"Charlevoix","MI","49720"]
["Pisces Field Services LLC (Foster)","Kit Foster",null," 231-547-4429",null," 231-547-2057","cfoster@siteplanning.com",null,null,null,"Pisces Field Services LLC","12608 Taylor Road",null,null,null,"Charlevoix","MI","49720","Mr.","Foster",null,"Contractor General","Charlevoix"]
["Pitsch Companies","Gene Gutting","Cong 616-437-2087","616-363-4895","616-262-2778 Gene","616-363-5585",null,null,"Non-Tax","02/04/2004:  Laura in accting please put no job associated with this invoice do not wait to pay on the next invoices sent out.\n\nCong Huynh - cell: 616-437-2087","Pitsch Companies","Attn:Cong","675 Richmond St. NW",null,null,"Grand Rapids","MI","49504"]
["Pitsch Companies (Gutting)","Gene Gutting",null," 616-363-4895",null," 616-363-5585","genegutting@pitschco.com",null,null,"Gary Pitsch; Joe Zahn is a Supr.\nKong mob 616.437.2087","Pitsch Companies","675 Richmond St NW",null,null,null,"Grand Rapids","MI","49504","Mr.","Gutting",null,"Contractor General","Kent"]
["Pitsch Companies (Pitsch)","Steven Pitsch",null," 616-363-4895",null," 616-363-5585","stevenpitsch@aol.com",null,null,null,"Pitsch Companies","675 Richmond St NW",null,null,null,"Grand Rapids","MI","49504","Mr.","Pitsch",null,"Contractor General","Kent"]
["Pitsch Enterprises (Pitsch)","Gary Pitsch",null," 616-437-2093",null,null,"gary.pitsch@pitschenterprises.com",null,null,"Brandon Pitsch 616.889.8904 (son) buys PPE","Pitsch Enterprises","2976 Cree Ct. NE",null,null,null,"Grand Rapids","MI","49525","Mr.","Pitsch",null,"Contractor General","Kent"]
["Pitsch Enterprises, Inc.",null,"Gary Pitsch",null,"616-437-2093",null,"gary.pitsch@pitschenterprises.com",null,"Michigan Sales Tax",null,"Pitsch Enterprises, Inc.","Attn:","2976 Cree Ct. NE",null,null,"Grand Rapids","MI","49525"]
["Plainfield Charter Twp.","Ron Walker / Don Patrovich","Dennis Hatchew","616-363-9399","616-293-9372 cell","616-364-1199",null,null,"Non-Tax Municipality/Utility",null,"Plainfield Charter Twp.","Attn:","5205 Plainfield",null,null,"Grand Rapids","MI","49525"]
["Plains LP (Kincheloe)","Shawn Romska",null,"906-495-4001",null,"906-495-4001","sromska@pmclp.com",null,"Michigan Sales Tax",null,"Plains LP (Kincheloe)","Attn: Jarad Blough","5344 West M80",null,null,"Kincheloe","MI","49788"]
["Plains LP Service (Alto) (Blough)","Jared Blough",null," 616-868-6928",null," 616-868-6704",null,null,null,"Bill Havlik buys ppe","Plains LP Service (Alto)","6050 Alden Nash Ave. SE",null,null,null,"Alto","MI","49302","Mr.","Blough",null,"Petroleum Related","Kent"]
["Plains LP Service (Alto) (Havlik)","Bill Havlik",null," 616-868-6928 221",null," 616-868-6704","bhavlik@pmclp.com",null,null,null,"Plains LP Service (Alto)","6050 Alden Nash Ave. SE",null,null,null,"Alto","MI","49302","Mr.","Havlik",null,"Petroleum Related","Kent"]
["Plains LPG Service (Alto)","Calib Grummel",null,"616-868-6928",null,"616-868-6704","jared.blough@plainsmidstream.com",null,"Michigan Sales Tax","Jared Blough - 616-885-6527 - \nemail: jared.blough@plainsmidstream.com\nVISA:  4807-1000-6017-2033  EXP: 03/14\n\n\nper Bill's request  put back at net 30 watch and see how they pay 8/11/11\nBill Havlik 4807 1000 5037 3815 ex 03/14\n\nShawn Romska (Ross, ND)\nEmail: shawn.romska@plainsmidstream.com\nVisa:  4807-1000-5039-8937  Exp:  01/14","Plains LPG Service (Alto)","Attn: Jared Blough","6050 Alden Nash Ave. SE",null,null,"Alto","MI","49302"]
["Plains LPG Service (Ross ND)","Kyle Hylton",null,"701-755-3844",null,null,null,null,"Michigan Sales Tax","Shawn Romska (Ross, ND) - Serivce contact\nEmail: shawn.romska@plainsmidstream.com\nVisa:  4807-1000-5039-8937  Exp:  01/14\n701.621.1498","Plains LPG Service (Ross ND)","Attn: Shawn Romska","6379 - 93rd Ave. NW",null,null,"Ross","ND","58776"]
["Plainwell WWTP, City of (Pond)","Bryan Pond",null," 269-685-5153",null," 269-685-1994",null,null,null,null,"Plainwell WWTP, City of","129 Fairlane Street",null,null,null,"Plainwell","MI","49080","Mr.","Pond","Superintendent","Municipal, Cty","Allegan"]
["PlastiPak Packaging (Amberg)","Alan Amberg",null,"734 3547149",null,"734 8121659","aamberg@plastipak.com",null,null,"OHD Lead from NSC 5-pack","PlastiPak Packaging","41605 Ann Arbor Road",null,null,null,"Plymouth","MI","48170","Mr.","Amberg","EH&S Manager","Manufacturer","Plymouth"]
["Pleune Service Company (Johnson)","Jeremy Johnson",null," 616-243-6374",null," 616-243-5387",null,null,null,"Butch Paganelli gone","Pleune Service Company","750 Himes Street SE",null,null,null,"Grand Rapids","MI","49548","Mr.","Johnson","Safety Director","Contractor HVAC","Kent"]
["Pliant (Wygant)","Tim Wygant",null," 231-798-7935",null," 231-798-7525",null,null,null,null,"Pliant","6259 Norton Center Dr.",null,null,null,"Muskegon","MI","49441","Mr.","Wygant","Safety",null,"Muskegon"]
["PM Environmental","Jeff Rostoni",null,"800-485-0090",null,"887-884-6775","rostoni@pmenv.com",null,"Michigan Sales Tax",null,"PM Environmental","Attn:","3340 Ranger Road",null,null,"Lansing","MI","48906"]
["Polk Township Maintenance (Steggerda)","Kim Steggerda",null," 616-399-4968",null,null,null,null,null,null,"Polk Township Maintenance","Ottawa Beach Rd.",null,null,null,"Holland","MI","49424","Mr.","Steggerda","Supervisor","Municipal, Cty","Ottawa"]
["Poll Building Unlimited","Russ Poll",null,"616-693-2625",null,null,null,null,"Michigan Sales Tax"]
["Poll Building Unlimited, LLC (Poll)","Russ Poll",null," 616-693-2625",null,null,"pollbuildingunlimited@gmail.com",null,null,"christinpoll@att.net            wife","Poll Building Unlimited, LLC","8494 Tucker Road",null,null,null,"Clarksville","MI",null,"Mr.","Poll",null,"Contractor General","Ionia"]
["Port City Metal Products (Forbes)","David Forbes",null," 231-777-3941",null,null,null,null,null,"Paul Andrews of Amerisure said to call re: Fall and Arc Flash","Port City Metal Products","2350 Black Creek Rd.",null,null,null,"Muskegon","MI","49444","Mr.","Forbes",null,"Metal Finishing","Muskegon"]
["Port City Redi Mix Company (Tyler)","Bruce Tyler",null," 231-777-2777"," 888-424-9800"," 231-777-1197",null,null,null,"Scott Hobby, End user of Micro. Tom Williams (Plant Mgr). Dave Oostindie of GR Gravel is Safety Contact.","Port City Redi Mix Company","1780 Sheridan Drive",null,null,null,"Muskegon","MI","49442","Mr.","Tyler","Foreman","Mining","Muskegon"]
["Portagas, Inc (Parekh)","Ken Parekh",null," 800-548-2268"," 713-928-6477"," 713-928-9961","Ken@portagas.com",null,null,"Ken has us at OEM pricing\nMark Guzman","Portagas, Inc","6717-B Polk Street","P.O. Box 230039",null,null,"Houston","TX","77223","Mr.","Parekh","Business Manager","Supplier","N/A"]
["Portage Fire Department, City of (Bragg)","Gary Bragg",null," 269-329-4486",null," 269-329-4489",null,null,null,"Depy Fire Chief John Podgorski  269.329.4483 podgorsj@portagemi.com\nHandles instrumentation. Also:\nDon Johonson, Palmer, Jim Kelcava, Fred Byrnes","Portage Fire Department, City of","7830 Shaver Road",null,null,null,"Portage","MI","49024","Mr.","Bragg",null,"Fire Department","Kent"]
["Portage Parks and Recreation Dept., City","Joe Stubelt",null," 269-324-9278",null," 269-329-4522",null,null,null,"Barry Bacon Depy","Portage Parks and Recreation Dept., City","7900 South Westnedge Avenue",null,null,null,"Portage","MI","49002","Mr.","Stubelt","Sr. Park Ranger","Municipal, Cty","Kalamazoo"]
["Portage Parks and Recreation Dept., City","Joe Stubelt",null,"269-324-9278","269-998-7521","269-329-4522",null,null,"Non-Tax Municipality/Utility",null,"Portage Parks and Recreation Dept., City","Attn: Joe Stubelt","7719 South Westnedge Avenue",null,null,"Portage","MI","49002"]
["Portage Parks and Recreation Dept., City","Joe Stubelt",null," 269-324-9278",null," 269-329-4522",null,null,null,"Barry Bacon Depy","Portage Parks and Recreation Dept., City","7900 South Westnedge Avenue",null,null,null,"Portage","MI","49002","Mr.","Stubelt","Sr. Park Ranger","Municipal, Cty","Kalamazoo"]
["Portage Parks and Recreation Dept., City","Joe Stubelt",null," 269-324-9278",null," 269-329-4522",null,null,null,"Barry Bacon Depy","Portage Parks and Recreation Dept., City","7900 South Westnedge Avenue",null,null,null,"Portage","MI","49002","Mr.","Stubelt","Sr. Park Ranger","Municipal, Cty","Kalamazoo"]
["Portage, City of","Joe Stubelt",null,"269-329-4444",null,"269-324-9240",null,null,"Non-Tax Municipality/Utility",null,"Portage, City of","Attn: Mike Wise","7719 South Westnedge Ave",null,null,"Portage","MI","49002"]
["Portage, City of (Wise)","Mike Wise",null," 269-329-4450",null," 269-324-9240","wisem@portagemi.com",null,null,"Robt. Sames Depty Dir HR, Joy Brunt (sec'y). Judy Johnson (Purch) 269.329.4534\nCheri Branch buys gloves branchc@portagemi.com  269.329.4449\nTom Bouma Street Foreman 269.324.9236\nJudy Graham support","Portage, City of","7719 South Westnedge Avenue",null,null,null,"Portage","MI","49002","Mr.","Wise","Street Superintendent","Municipal, Cty","Kalamazoo"]
["Portland Products",null,null,null,null,null,null,null,"Michigan Sales Tax","Tim Hengesbach - office: 517-647-4191","Portland Products","Attn:","430 Lyons Road",null,null,"Portland","MI","48875"]
["Portman Equipment Company",null,"Russ Martinelli","513-891-0600","513-618-6848","513-618-6824",null,null,"Out of State",null,"Portman Equipment Company","Attn:","4331 Rossplain Road",null,null,"Cincinnati","OH","45236"]
["PotashCorp (Mangas)","Jim Mangas",null," 419-879-0898",null,null,"james.mangs@potashcorp.com",null,null,"Met re: Cooling Tower Gantries","PotashCorp","1900 Fort Amanda Road",null,null,null,"Lima","OH","45802","Mr.","Mangas","Safety Specialist","Chemical Pharmaceutical","Out of State"]
["Potawatami Hannahville Indian Community (","Dan Stein",null," 906-466-9142",null," 906-466-9161","dstein20@hotmail.com",null,null,null,"Potawatami Hannahville Indian Community","N14911 Hannahville B-1 Road",null,null,null,"Wilson","MI","49896","Mr.","Stein","Water Operations","Municipal, Cty","Out of State"]
["Potesta & Associates Inc.","David Corsaro",null,"304-342-1400",null,"304-343-9031",null,null,"Out of State",null,"Potesta & Associates Inc.","Attn: David Corsaro","7012 MacCorkle Ave. SE",null,null,"Charleston","WV","25304"]
["Poultry Management Systems (Zephyrhill)","Eric Winslow",null,"616-642-9421",null,"616-642-9106",null,null,"NonTx Re-Sale",null,"Poultry Management Systems (Zephyrhill)","Zephyr Egg","Attn: Jamie","40140 Lynbrook Dr.",null,"Zephyrhills","FL","33540"]
["Poultry Management Systems Inc.",null,"Eric Winslow","616-642-9421","616-642-9050","616-642-9106",null,null,"NonTx Re-Sale",null,"Poultry Management Systems Inc.","Attn:Eric Winslow","6425 West Grand River Ave.",null,null,"Saranac","MI","48881","Mr.","Kaufman"]
["Poultry Management Systems Inc. (Breman)","Bill Kaufman",null,"616-902-2057",null,null,null,null,"NonTx Re-Sale",null,"CAL-Maine Foods (Breman)","11500 State Rt 181 North",null,null,null,"Bremen","KY","42325"]
["Poultry Management Systems Inc. (Chase)","Eric Winslow (sp?)",null,"616-902-2057",null,null,null,null,"NonTx Re-Sale",null,"CAL-Maine Foods","Attn: Jason","625 Avenue K",null,null,"Chase","KS","67524"]
["Poultry Management Systems Inc. (Guthrie)","Bill Kaufman",null,"616-902-2057",null,null,null,null,"NonTx Re-Sale",null,"CAL-Maine Foods (Guthrie)","Attn: Mark Ashbe","9729 Guthrie Rd.",null,null,"Guthrie","KY","42234"]
["Poultry Management Systems Inc. (Herbruck","Stephen Herbruck",null," 616-642-9050",null," 616-642-9826",null,null,null,"Bill Kaufman","Poultry Management Systems Inc.","6425 West Grand River Ave.",null,null,null,"Saranac","MI","48881","Mr.","Herbruck","President","Poultry","Ionia"]
["Poultry Management Systems Inc. (Powell)","Doug Powell",null," 616-642-9050",null," 616-642-9826",null,null,null,"Bill Kaufman 616-902-2057 bkaufman@emsipmsi.cc\nDoug Powell VP GM\nPer Rich Miller, Eric Winslow ewinslow@dmsi.cc  x1127\nsucceeded Bill Kaufman","Poultry Management Systems Inc.","6425 West Grand River Ave.",null,null,null,"Saranac","MI","48881","Mr.","Powell","Vice President/General Manager","Poultry","Ionia"]
["Poultry Management Systems Inc. (Quincy)","Eric Winslow",null,null,null,null,null,null,"NonTx Re-Sale",null,"Poultry Management Systems (Quincy)","Attn: Carl","673 Shade Farm Rd.",null,null,"Quincy","FL","32353"]
["Poultry Management Systems Inc. (Stensrud","Doug Stensrud",null," 616-642-9050 1118",null," 616-642-9826","dstensrud@pmsi.cc",null,null,null,"Poultry Management Systems Inc.","6425 West Grand River Ave.",null,null,null,"Saranac","MI","48881","Mr.","Stensrud",null,"Poultry","Ionia"]
["Poultry Management Systems Inc.(Bushnell)","Bill Kaufman",null,null,null,null,null,null,"NonTx Re-Sale",null,"Poultry Management Systems Inc.","9565 County Rd 476B",null,null,null,"Bushnell","FL","33513"]
["Poultry Management Systems Inc.(Edward)","Eric Winslow",null,"616-642-9050",null,null,null,null,"NonTx Re-Sale",null,"Cal Mine Foods","Attn: Will Web","2695 Adams Lane",null,null,"Edward","MS","39066"]
["Poultry Management Systems Inc.(Flatonia)","Bill Kaufman",null,"616-902-2057",null,null,null,null,"NonTx Re-Sale",null,"CAL-Maine Foods (Flatonia)","Attn: Al Simpson","403 South Colorado",null,null,"Flatonia","TX","78941"]
["Power Maintenance & Constructors (Ulbrich","Karl Ulbrich",null," 618-277-1245 219",null," 618-277-3006","karlulbrich@pmcllc.com",null,null,null,"Power Maintenance & Constructors","717 North 17th Street",null,null,null,"Belleville","IL","62226","Mr.","Ulbrich","Director of Safety","Utility","Out of State"]
["Powerclean Industrial Services, Inc.",null,null,"260-483-1375",null,"260-489-2986",null,null,"Out of State","Safety Guy:  JimmyLee White 260-415-7913 cell","Powerclean Industrial Services, Inc.","Attn:Jimmy Lee White","3404-B Metro Drive",null,null,"Fort Wayne","IN","46818"]
["PPL Pennsylvania Power Light (Anthony)","Charlie Anthony",null,null,null,null,"cvanthony@pplweb.com",null,null,"Interested in cooling tower fall protection","PPL Pennsylvania Power Light","1400 Wago Road",null,null,null,"Mt. Wolf","PA","17347","Mr.","Anthony",null,"Utility","Out of State"]
["Practical Environmental Consultants","Mike Cox Ext.30"," ext-21","616-583-9850",null,"616-583-9851","pay fx: 847-519-3431",null,"Use Tax Rental","Josh Johnson\nBen Offrink - ext.28\nJason Siemen - ext. 26\nJohn Andersen","Practical Environmental Consultants","Attn: Jason Siemen","1239 - 76th Street","Suite A",null,"Byron Center","MI","49315"]
["Practical Environmental Consultants (Cox)","Mike Cox",null," 616-583-9850 30",null," 616-583-9851",null,null,null,"Ben mob 616.826.8288, Sean Shadley  mob 616.485.3832","Practical Environmental Consultants","1239 - 76th Street SW","Suite A",null,null,"Byron Center","MI","49315","Mr.","Cox","Geologist","Contractor EH&S","Kent"]
["Praxair Inc. (Canto, OH)","Gerald Palmer",null,"330-453-9904",null,"330-588-2081",null,null,"Out of State",null,"Praxair Inc. (Canto, OH)","Attn: Gerald Palmer","2225 Bolivar Rd SW",null,null,"Canto","OH","44706"]
["Praxair Inc. (Grand Rapids)","Jim Williams",null,"616-451-3055",null,null,null,null,"Michigan Sales Tax",null,"Praxair Inc. (Grand Rapids)","Attn: Jim Williams","1000 Scribner Ave NW",null,null,"Grand Rapids","MI","49504-4212"]
["Praxair Inc. (Huntsville, AL)",null,"Scott Howell","256-759-3493",null,"256-881-9509",null,null,"Out of State",null,"Praxair Inc. (Huntsville, AL)","Attn:","363 Linde Lane",null,null,"Huntsville","AL","35803"]
["Praxair Inc. (Tonawanda, NY)","William Kobayashi",null,"716-879-2350",null,null,null,null,"Out of State",null,"Praxair Inc. (Tonawanda, NY)","Attn: William Kobayashi","175 East Park Drive",null,null,"Tonawanda","NY","14150"]
["Praxis (Semrau)","Samantha Semrau",null," 616-827-8525",null,null,"ssemrau@praxispacking.com",null,null,null,"Praxis","7650 Caterpillar Ct.",null,null,null,"Grand Rapids","MI","49548","Ms.","Semrau",null,"Manufacturer","Kent"]
["Precast Services (Hudgins)","Michael Hudgins",null," 330-425-2880",null,null,"mhudgins@precastservices.com",null,null,null,"Precast Services","8200 Boyle Parkway",null,null,null,"Twinsburg","OH","44087-2234","Mr.","Hudgins",null,"Contractor General","Out of State"]
["Precision Aerospace Corp.",null,"Jeff Simpkins x-109","616-243-8112","616-822-3198 cell","616-243-8168","jsimpkins@precision-aerospace.com",null,"Michigan Sales Tax",null,"Precision Aerospace Corp.","Attn: Jeff Simpkins","704 Crofton SE",null,null,"Grand Rapids","MI","49507"]
["Precision Aerospace Corporation (Simpkins","Jeff Simpkins",null," 616.243.8112 109",null," 616.243.8168","jsimpkins@Precision-Aerospace.com",null,null,null,"Precision Aerospace Corporation","704 Crofton S.E.",null,null,null,"Grand Rapids","MI","49507","Mr.","Simpkins","Human Resources Manager","Manufacturer","Kent"]
["Precision Fitting & Gauge","Andrea Hibbard",null,"918-551-6735",null,"918-835-3991",null,null,"Out of State",null,"Precision Fitting & Gauge","Attn: Andrea Hibbard GTC-0252","1214 S. Joplin Ave.",null,null,"Tulsa","OK","74112"]
["Precision Gas Products Inc. (Podolski)","Marcel Podolski",null," 888-730-8196 21"," 905-949-2626"," 905-949-2688","marcel131@bellnet.ca",null,null,"Adele Lu; Charlene, Rick Moore 734.306.4725","Precision Gas Products Inc.","2455 Cawthra Road, Unit 21/22",null,null,null,"Mississauga","ON","L5A 3P1","Mr.","Podolski","President","Supplier","Out of State"]
["Precision Mechanical Service",null,"Bill Pearson","703-802-1626","703-863-7073","703-368-3413","PMSLTD@STAFFNET.COM",null,"Out of State",null,"Precision Mechanical Service","Attn:","9203-G Enterprise Ct.",null,null,"Manassa Park","VA","20111"]
["Prein & Newhof (Korhorn)","Rod Korhorn",null," 616-878-9296",null," 616-878-9452","rkorhorn@preinnewhof.com",null,null,"see also Barbara Marczak 231.798.0101\nBob Ericson (Lab Mgr) handles MiniRAE 2000\nTom Cecil, Dan Britten","Prein & Newhof","1360 Eighty-forth Street, SW",null,null,null,"Byron Center","MI","49315","Mr.","Korhorn",null,"Contractor EH&S","Kent"]
["Prein & Newhof (Newhof)","Betsy Newhof",null," 616-364-8491",null," 616-364-6955",null,null,null,"Met Betsy and Kelley Place at AWWA MWEA conf. in GR","Prein & Newhof","3355 Evergreen Drive, NE",null,null,null,"Grand Rapids","MI","49525","Ms.","Newhof",null,"Contractor EH&S","Kent"]
["Premarc (Hower)","Darin Hower",null," 800-968-2662 409",null," 231-775-0072",null,null,null,"Likes Ironman Harness, Rope Grab, Peak Anchor","Premarc","5305 Highway M-115",null,null,null,"Cadillac","MI","49601","Mr.","Hower","Operations Manager","Manufacturer","Wexford"]
["Premarc (Swinehart)","Tim Swinehart",null," 231-775-3761 424",null," 231-775-2997",null,null,null,"Tim is currently interested in some cut/puncture resistant gloves","Premarc","5305 Highway M-115",null,null,null,"Cadillac","MI","49601",null,"Swinehart","Maintenance Supervisor","Manufacturer","Wexford"]
["Premarc Grand River Infrastructure (Karas","Tony Karasiewicz",null," 616-534-9645 640",null," 616-534-8010","tonyk@premarc.com",null,null,null,"Premarc Grand River Infrastructure","2701 Chicago Drive SW",null,null,null,"Wyoming","MI","49509","Mr.","Karasiewicz","Safety Director","Manufacturer","Kent"]
["Premier Caulking Inc.",null,"Ike Wells","616-454-5227",null,"616-454-2571",null,null,"Michigan Sales Tax",null,"Premier Caulking Inc.","Attn:","4462 Remembrance Road NW",null,null,"Grand Rapids","MI","49534"]
["Premier Foods (Wierengo)","Max Wierengo",null," 231-773-8302",null," 231-777-2299",null,null,null,null,"Premier Foods","3933 South Brooks Rd",null,null,null,"Muskegon","MI","49444","Mr.","Wierengo",null,"Food","Muskegon"]
["Prewitt Mechanical Contractors, Inc.","David Prewitt",null,"859-255-9769",null,"859-255-9353",null,null,"Out of State",null,"Prewitt Mechanical Contractors, Inc.","Attn: David Prewitt","636 Bizzell Dr.",null,null,"Lexington","KY","40510"]
["Prime Excavating",null,null,"616-656-9410",null,"616-656-0694",null,null,"Michigan Sales Tax",null,"Prime Excavating","Attn:","5300 Corporate Grove Dr. SE","Suite 350",null,"Grand Rapids","MI","49512"]
["Primera Plastics, Inc (Holtrop)","Don Holtrop",null," 616-748-6248",null," 616-748-1174",null,null,null,null,"Primera Plastics, Inc","3424 Production Court",null,null,null,"Zeeland","MI","49464","Mr.","Holtrop","Safety","Plastics","Ottawa"]
["Primestar Solar (Mulac)","Mike Mulac",null," 231-894-9795 425",null,null,null,null,null,null,"Primestar Solar","8155 Cook St.",null,null,null,"Montague","MI","49437","Mr.","Mulac","Mainenance Manager","Technology","Muskegon"]
["Princeton University (Gervasi)","William Gervasi",null,null,null,null,"wgervasi@princeton.edu",null,null,"GEMS interest via website","Princeton University",null,null,null,null,"Princeton","NJ",null,"Mr.","Gervasi",null,"University","Out of State"]
["Pro Services Inc. (Routley)","Jack Routley",null," 269-327-2322",null," 269-327-3342","jroutley@proservices.biz",null,null,null,"Pro Services Inc.","8132 Merchant Place",null,null,null,"Portage","MI","49002","Mr.","Routley","Safety Director","Contractor General","Kalamazoo"]
["Pro Tech Communications (Lipper)","Joanna Lipper",null," 203-925-4055",null," 203-944-9733","rthompson@noisebuster.net",null,null,"Mfr of NoiseBuster NCT muffs\nPro Tech is a subsidiary of Noice Cancellation Technologies\nRuthellen is based in South Carolina -- send po's there.\nMfg is in FL.\nIrene Lebovics CEO 203.944.0718 x3505 dir: 203.925.4080","Pro Tech Communications","375 Bridgeport Avenue",null,null,null,"Shelton","CT","6484","Ms.","Lipper","Director, Product Sales","Supplier","Out of State"]
["Pro-MEC Engineering Services, Inc.",null,"Jeremy Werner","517-627-8532",null,"517-627-2562",null,null,"Michigan Sales Tax",null,"Pro-MEC Engineering Services, Inc.","Attn:Jeremy Werner","109 E. Lincoln",null,null,"Grand Ledge","MI","48837"]
["Pro-Tech Environmental, Inc. (Vlaming)","Bernie Vlaming",null," 616-364-9179",null," 616-364-9194",null,null,null,"Per Bill Bosze. Also, Jay Davis, Gary Shoutee sp?\nAAA Lead Inspections, Inc. (Catherine Donze) is sister company.","Pro-Tech Environmental, Inc.","2600 Miller, NW","PO Box 141014",null,null,"Grand Rapids","MI","49514-1014","Mr.","Vlaming","President","Contractor EH&S","Kent"]
["ProAct Environmental (Skar)","Jerry Skar",null," 231-843-2711",null," 231-843-4081","skar@proact-usa.com",null,null,null,"ProAct Environmental","1140 Conrad Industrial Dr.",null,null,null,"Ludington","MI","49431","Mr.","Skar","General Manager","Contractor EH&S","Mason"]
["ProAct Environmental (Smiddy)","Gerard Smiddy",null," 231-843-2711",null," 231-843-4081","gsmiddy@proact-usa.com",null,null,null,"ProAct Environmental","1140 Conrad Industrial Dr.",null,null,null,"Ludington","MI","49431","Mr.","Smiddy","Production Manager","Contractor EH&S","Mason"]
["ProAct Services Corporation",null,null,"231-843-2711",null,"231-843-4081",null,null,"Michigan Sales Tax","Craig Nelson - email: cnelson@proact-usa.com","ProAct Services Corporation","Attn: Tom Anderson","1140 Conrad Industrial Drive",null,null,"Ludington","MI","49431"]
["Proactive Environmental Concepts","Bob Quintilliano","Scott Quintilliano","231-894-5005","616-813-4069 cell","231-893-6558",null,null,"Michigan Sales Tax",null,"Proactive Environmental Concepts","Attn: Scott Quintilliano","2503 Vista Point Court NW",null,null,"Grand Rapids","MI","49544"]
["Proactive Environmental Concepts LLC (Qui","Scott Quintilliano",null," 231-894-5005"," 877-894-5005"," 231-893-6558","squint19@sbcglobal.net",null,null,"Bob Quintilliano, Bob Raygoza","Proactive Environmental Concepts LLC","1042 E. Avery",null,null,null,"Grand Rapids","MI","49544","Mr.","Quintilliano",null,"Contractor EH&S","Muskegon"]
["Process Control Service","Sean Borgman",null,"734-453-0620",null,"734-453-6008",null,null,"NonTx Re-Sale","Customer's UPS Acct# 413006\n\nSean Borgman\n(Greg Wozniak, backup)\n\nResale service customer pricing:\nSERVICE:\n4-Gas Cals:  $40\n4-Gas PM:  $75\nNH3 Manning PM:  $75\n\nMANNING PARTS:\n5% off list","Process Control Service","Attn:","401 Industrial Drive",null,null,"Plymouth","MI","48170"]
["Process Control Services (King)","Adam King",null," 734-453-0620",null," 734-453-6008","aking@pcsmi.com",null,null,"Dan Wyatt's former position, left Sept.2011","Process Control Services","401 Industrial Drive",null,null,null,"Plymouth","MI","48170","Mr.","King",null,"Controls","Wayne"]
["Process Control Services (Wozniak)","Greg Wozniak",null," 734-453-0620",null," 734-453-6008","gwozniak@pcsmi.com",null,null,"Works with Adam King","Process Control Services","401 Industrial Drive",null,null,null,"Plymouth","MI","48170","Mr.","Wozniak",null,"Controls","Wayne"]
["ProClean (Theobald)","Lonnie Theobald",null," 616-477-3788",null," 616-451-0432","lonnieonesource@aim.com",null,null,null,"ProClean","5810 Horizon Lane",null,null,null,"Allendale","MI","49401","Mr.","Theobald",null,"Contractor General","Ottawa"]
["Proex Inc.",null,"Joe Huff","810-743-5421","810-743-4140 cell","810-743-0641",null,null,"Michigan Sales Tax",null,"Proex Inc.","Attn:","4150 Flint Asphalt Drive",null,null,"Burton","MI","48529"]
["Proex Inc. (Huff)","Joe Huff",null," 810-743-4140",null," 810-743-0641",null,null,null,null,"Proex Inc.","4150 Flint Asphalt Drive",null,null,null,"Burton","MI","48529","Mr.","Huff",null,"Contractor General","Genesee"]
["Professional Contractor Supplies",null,"Doug Eichelberger","410-488-4550",null,"410-488-4555","douge@pcs-md.com",null,"Out of State","RESELLER SERVICE PRICING\nPM - $75 (std. 4-gas)\nCal Only:  $40 (std. 4-gas)\n\nBW TECH PRICING\nParts:  10% off list\nInstrument:  15% off list\n","Professional Contractor Supplies","Attn:  Doug Eichelberger","6350 Frankford Ave.",null,null,"Baltimore","MD","21206"]
["Professional Contractor Supplies (Eichelb","Doug Eichelberger",null," 410-488-4550",null," 410-488-4555","douge@pcs-md.com",null,null,null,"Professional Contractor Supplies","6350 Franford Avenue",null,null,null,"Baltimore","MD","21206","Mr.","Eichelberger",null,null,"Out of State"]
["ProFlow (Schmidt)","Eric Schmidt",null," 810-694-6001",null," 810-694-3811","proflowusa@prodigy.net",null,null,null,"ProFlow","6248 Eastknoll Drive   Unit 79",null,null,null,"Grand Blanc","MI","48439","Mr.","Schmidt",null,"Contractor General","Genesee"]
["Progressive Surface","Andrew Smith",null,"616-285-8314",null,"616-285-8342",null,null,"Non-Tax","3/26/10 changed name from Progressive Technologies to Progressive Surface\nJill Machuta  handles A/P fax 616-222-7309\nA/P ph 616-285-8309\n\nKyle (Field Tech) - cell: 616-915-2214\nKelly Lewis - direct: 616-285-8303","Progressive Surface","Attn: PO # 100613","4671 Danvers Drive SE",null,null,"Grand Rapids","MI","49512"]
["Progressive Surface (Rottman)","Joel Rottman",null," 616-285-8372",null," 616-222-7372","jrottman@progressivesurface.com",null,null,null,"Progressive Surface","4695 Danvers SE",null,null,null,"Grand Rapids","MI","49512-4018","Mr.","Rottman","Engineer","Manufacturer","Kent"]
["Progressive Surface, Inc. (Piccard)","Luc Piccard",null," 616-285-8357",null," 616-222-7340","JPiccard@progressivesurface.com",null,null,null,"Progressive Surface, Inc.","4695 Danvers SE",null,null,null,"Grand Rapids","MI","49512","Mr.","Piccard",null,"Manufacturer","Kent"]
["Progressive Surface, Inc. (Smith)","Andy Smith",null," 616-285-8340",null," 616-222-7340","asmith@progressivesurface.com",null,null,null,"Progressive Surface, Inc.","4695 Danvers SE",null,null,null,"Grand Rapids","MI","49512","Mr.","Smith","Engineer","Manufacturer","Kent"]
["Project Management Service (Walter)","Bob Walter",null," 330-233-3279",null,null,null,null,null,null,"Project Management Service","1795 North State Street",null,null,null,"Girard","OH","44420","Mr.","Walter",null,"Contractor General","Out of State"]
["Project Management Services IS LLC",null,"Bob Walter","330-545-5531","330-233-3279",null,null,null,"Out of State",null,"Project Management Services IS LLC","Attn:","1795 North State Steet",null,null,"Girard","OH","44420"]
["Proto Manufacturing Ltd","Shane VanDeCarr",null,"734-946-0974",null,"734-946-0975","janeto@protoxrd.com",null,"Michigan Sales Tax",null,"Proto Manufacturing Inc.","Attn: Shane Vandecar","12350 Universal Drive",null,null,"Taylor","MI","48180"]
["Proto Mfg. Inc. (Van De Carr)","Shane Van De Carr",null," 734-546-0974",null," 734-946-0975",null,null,null,null,"Proto Mfg. Inc.","1980 East Michigan Ave.",null,null,null,"Ypsilanti","MI","48198","Mr.","Van De Carr",null,"Chemical Pharmaceutical","Do Not Know"]
["Prototrack, LLC (Tsai)","Robert Tsai",null," 630-257-3939 108",null," 630-257-3121","rtsai@tjhinc.com",null,null,"Ted Hogan, Dan Fedor, RT for Safety Mgmt software system.  \nUser name: b-burnette  Password: usa1","Prototrack, LLC","103 Stephen Street",null,null,null,"Lemont","IL","60439","Mr.","Tsai","Sr. Applications Developer","Contractor EH&S","Out of State"]
["PSC Container Services Div. (Valentino)","Steve Valentino",null," 513-554-1604",null," 613-554-1607","svalentino@pscnow.com",null,null,null,"PSC Container Services Div.","10671 Evendale Drive",null,null,null,"Cincinnati","OH","45241","Mr.","Valentino","Facility Manager",null,"Out of State"]
["PSC Industrial Svc (Laughlin)","Jenna Laughlin",null," 734-384-9200",null," 734-384-9242","jlaughlin@pscnow.com",null,null,null,"PSC Industrial Svc","987 West Hurd Road",null,null,null,"Monroe","MI","48162","Ms.","Laughlin",null,"Contractor General","Wayne"]
["Pullman Ind. Inc. (Illife)","Bill Illife",null," 269-639-3100",null," 269-639-2599","abernathyg@pullmanind.com",null,null,null,"Pullman Ind. Inc.","100 Veterans Blvd.",null,null,null,"South Haven","MI",null,"Mr.","Illife","Account Coordinator","Manufacturer","Allegan"]
["Pulpwood & Forestry Products (Ola)","Ola",null," 231-788-3088",null,null,null,null,null,null,"Pulpwood & Forestry Products","200 N. Maple Island Rd.",null,null,null,"Muskegon","MI","49442",null,"Ola","Office Manager","Forestry","Muskegon"]
["Pumford Construction",null,null,"989-754-6262",null,"989-754-6263",null,null,"Michigan Sales Tax","Gordon Burnside","Pumford Construction","Attn:","1674 Champagne Dr. N",null,null,"Saginaw","MI","48604"]
["Purdue Pharma Technologies","Jeff Kaplan","accontng Juan  fx 203-588-6239","973-837-5464",null,"973-890-4062",null,null,"Out of State","Jeff's Credit Card will can only be run for $1,000 at a time.","Purdue Pharma Technologies","Attn: Jeff Kaplan","700 Union Blvd.",null,null,"Totowa","NJ","07512"]
["Purdue Pharma Technologies (Kaplan)","Jeff Kaplan, CIH",null," 973-837-5464",null," 973-256-4177","jeff.kaplan@pharma.com",null,null,null,"Purdue Pharma Technologies","700 Union Blvd.",null,null,null,"Totowa","NJ","7512","Mr.","Kaplan","Health & Safety Manager","Chemical Pharmaceutical","Out State"]
["PVS Chemical (Hansen)","Connie Hansen",null,null,null,null,"chansen@pvschemicals.com",null,null,null,"PVS Chemical","10900 Harper Avenue",null,null,null,"Detroit","MI","48213","Ms.","Hansen",null,"Chemical Pharmaceutical","Wayne"]
["Pylman Power Inc.","Brad Plyman",null,"616-877-0949",null,null,null,null,"Michigan Sales Tax",null,"Pylman Power Inc.","1132 Electric Ave.",null,null,null,"Wayland","MI","49348"]
["Pylman Power, Inc. (Pylman)","Brad Pylman",null," 616-877-0949",null," 616-877-0950","bradp@pylmanpower.com",null,null,"Divn of Fryling Electric. Bob Dale; Breckett","Pylman Power, Inc.","1132 Electric Avenue",null,null,null,"Wayland","MI","49348","Mr.","Pylman","Project Manager","Contractor Electrical","Allegan"]
["Pyramex ()",null,null," 800-736-8673",null," 877-797-26",null,null,null,"Heather Wilson","Pyramex","281 A Moore Lane",null,null,null,"Collierville","TN","38017",null,null,null,"Supplier","Out of State"]
["Quad Tech International (Purgett)","Paul Purgett",null," 414-566-7536",null,null,"paul.purgett@quadtechworld.com",null,null,"Gems Lead. US biggest private printer.","Quad Tech International","N64  W23110 Main Street",null,null,null,"Sussex","WI","53089","Mr.","Purgett","Manufacturing Support Team Lea","Other","Out of State"]
["Quaker Chemical","Evan Weaver",null,"313-418-6679",null,null,null,null,"Michigan Sales Tax",null,"Quaker Chemical","Attn: Evan Weaver","400 North Mildred",null,null,"Dearborn","MI","48128"]
["QualaWash (Columbus)",null,null,"614-464-2856",null,"614-464-1249",null,null,"OH Franklin Co","Danial Lawson","QualaWash (Columbus)","Attn:","1291 West Mound Street",null,null,"Columbus","OH","43223"]
["QualaWash Holdings (Barberton)","Kenneth Lee",null,"330-753-5079","cell 330-803-1272",null,null,null,"Out of State",null,"QualaWash Holdings (Barberton)","Attn:","793 Norton Ave.",null,null,"Barberton","OH","44203"]
["QualaWash Holdings (Chicago)","Jeff Noble ext.16",null,"773-995-5500",null,"773-995-6851","grios@qualawash.com",null,"Out of State","12/21/2009:  per B3 MaxXT - $645.00\n\nMike Wolford (CO) 419-466-7125\n\nGus Rios - Cell: 219-741-1320\nGus CC: 5567-3560-3796-7726    02/14  101/33602\ngrios@qualawash.com\n\nBob Sheahan - cell: 773-571-8411\nbsheahan@qualawash.com\n\nMary McNally - office manager\nmmcnally@qualawash.com","QualaWash Holdings (Chicago)","Attn: Mary McNally","803 East 120th Street",null,null,"Chicago","IL","60628"]
["QualaWash Holdings (Chicago) (Rios)","Gus Rios",null," 773-995-5500",null," 773-995-6851","grios@qualawash.com",null,null,null,"QualaWash Holdings (Chicago)","803 East 120th Street",null,null,null,"Chicago","IL","60628","Mr.","Rios",null,"Contractor","Cook"]
["QualaWash Holdings (Chicago) (Sheahan)","Bob Sheahan",null," 773-995-5500",null," 773-995-6851","bsheahan@qualawash.com",null,null,null,"QualaWash Holdings (Chicago)","803 East 120th Street",null,null,null,"Chicago","IL","60628","Mr.","Sheahan",null,"Contractor General","Cook"]
["QualaWash Holdings (Coraopolis)",null,"Kim(accts Payable)","412-262-2300",null,"412-262-5323","kbrough@qualawash.com",null,"Out of State","12/21/2009:  per B3 MaxXT - $645.00\n\nMike Wolford (CO) 419-466-7125\n\nMike Blando (Safety guy) - Cell:  724-462-4752\nmblando@pscnow.com\nChanged from PSC Svc to Quala Wash 4/2011 - purchased","QualaWash Holdings (Coraopolis)","Attn: Mike Blando","320 Pittsburgh Ave.",null,null,"Coraopolis","PA","15108"]
["QualaWash Holdings (Joliet IL)","John Winstead",null,"888-234-3062",null,"813-628-6897",null,null,"Out of State","Eric Myers (safety director) emyers@qualawash.com","QualaWash Holdings (Joliet IL)","Attn:John Winstead","1861 Terry Dr.",null,null,"Joliet","IL"]
["QualaWash Holdings, LLC (Kalamazoo)",null,"Jon Obuchowski","269-349-0470",null,"269-349-0487",null,null,"Michigan Sales Tax","Joliet, IL Contact Info:\nphone: 888-234-3062\nfax:  813-628-6897\nJohn Winstead - cell:  757-751-2378, email: Jwinstea@qualawash.com\n\nEric Myers (safety director) emyers@qualawash.com","QualaWash Holdings, LLC (Kalamazoo)","Attn: Bob Fallis","2532 Saidla Road",null,null,"Kalamazoo","MI","49001"]
["Qualite Lighting Inc.",null,null,"517-439-1581",null,"517-439-1194",null,null,"NonTx Re-Sale",null,"Qualite Lighting Inc.","Attn: Rusty Belman","250 Industrial Drive",null,null,"Hillsdale","MI","49242"]
["Quality Air, Heating and Cooling (Middleb","Bob Middlebrook",null," 616-956-6776 3354",null," 616-956-0403","bob.middlebrook@qualityairinc.com",null,null,null,"Quality Air, Heating and Cooling","3395 Kraft Avenue SE",null,null,null,"Grand Rapids","MI","49512","Mr.","Middlebrook","Director of Field Operations","Contractor HVAC","Kent"]
["Quality Aluminum Products (Clark)","Eric Clark",null," 269-945-0376",null," 269-945-0698","eclark@qualityaluminum.com",null,null,"Kevin Quigley referral. Buying GAExtreme CO","Quality Aluminum Products","429 South Michigan Avenue",null,null,null,"Hastings","MI","49058","Mr.","Clark","Human Resource Manager","Manufacturer","Barry"]
["Quality Aluminum Products Inc.","Eric Clark",null,"800-550-1667",null,"269-945-0342","cmack@qualityaluminum.com",null,"Michigan Sales Tax",null,"Quality Aluminum Products Inc.","Attn: Eric Clark","429 South Michigan Ave",null,null,"Hastings","MI","49058"]
["Quality Carriers","Steve Anderson",null,"740-362-4008",null,null,null,null,"Out of State",null,"Quality Carriers","Attn: Steve Anderson","1200 S. Hauk",null,null,"Deklaware","OH","43015"]
["Quality Concrete Work, Inc. (Harmsel)","Lee Ten Harmsel",null," 616-772-1030",null,null,null,null,null,null,"Quality Concrete Work, Inc.","8150 Chicago Dr.",null,null,null,"Zeeland","MI","49423","Mr.","Harmsel","Safety","Concrete","Ottawa"]
["Quality Distribution (Fallis)","Bob Fallis",null," 989-496-7575",null," 813-569-1441","BFallis@QualityDistribution.com",null,null,null,"Quality Distribution","4200 James Savage Rd.",null,null,null,"Midland","MI","48642","Mr.","Fallis",null,"Other","Midland"]
["Quality Distribution (Midland)",null,"Bob Fallis","989-496-7575","989-307-8096","813-569-1441","BFallis@QualityDistribution.com",null,"Michigan Sales Tax",null,"Quality Distribution (Midland)","Attn:","4200 James Savage Rd.",null,null,"Midland","MI","48642"]
["Quality Sports Lighting (Belman)","Rusty Belman",null," 517-439-1581",null," 517-439-1194","rbelman@qualite.com",null,null,null,"Quality Sports Lighting","250 Industrial Drive","PO Box 765",null,null,"Hillsdale","MI","49242","Mr.","Belman","Purchasing","Manufacturer","Hillsdale"]
["Quality Transport, Inc. (Waller)","Darin Waller",null," 231-893-8812",null,null,null,null,null,null,"Quality Transport, Inc.","10000 US-31",null,null,null,"Montague","MI","49437","Mr.","Waller","Safety",null,"Muskegon"]
["Qualtity Air Heating & Cooling","Tammy Bergman",null,"956-0200",null,"616-956-7184",null,null,"Michigan Sales Tax",null,"Qualtity Air Heating & Cooling","Attn: Tami Bergman","3395 Kraft Ave. SE",null,null,"Grand Rapids","MI","49512"]
["Quest Technologies, Inc. (Bailey)","Tim Bailey",null," 262-567-9157"," 800-245-0779"," 262-567-4047",null,null,null,"Sent off dealer agreement","Quest Technologies, Inc.","1060 Corporate Center Drive",null,null,null,"Oconomowoc","WI","53066","Mr.","Bailey","Vice President of U.S. Sales","Supplier","Out of State"]
["Quick Tanks, Inc.",null,"Tom Stillwell ext.216","260-347-3850",null,"260-347-3853",null,null,"Out of State",null,"Quick Tanks, Inc.","Attn:","545 NO. Drueger",null,null,"Kendallville","IN","46755"]
["Quick Tanks, Inc. (Stillwell)","Tom Stillwell",null," 260-347-3850 216",null," 260-347-3853","tstillwell@quicktanks.com",null,null,null,"Quick Tanks, Inc.","545 No. Krueger",null,null,null,"Kendallville","IN","46755","Mr.","Stillwell","Purchasing Manager","Other","Out of State"]
["Quick Way Trucking",null,"Ted Elmblad - Fleet Manager","800-866-7875","231-845-6520","231-843-1891",null,null,"Michigan Sales Tax",null,"Quick Way Trucking","Attn:","1004 Conrade Industrial Drive",null,null,"Ludington","MI","49431"]
["Quikrete","Bob Turberville",null,"724-539-6600",null,"724-539-2831",null,null,"Michigan Sales Tax",null," Quikrete Pittsburgh","Attn:Bob Turberville","519 Red Barn Lane",null,null,"Latrobe","PA","15650"]
["Quincy Inc. (Fracalossi)","Sharon Fracalossi",null," 616-399-3330 1003",null," 616-399-0952",null,null,null,null,"Quincy Inc.","13350 Quincy St.",null,null,null,"Holland","MI","49424","Mrs.","Fracalossi","Safety Supervisor",null,"Ottawa"]
["R. W. LaPine Inc. (Harwood)","Larry Harwood",null," 269-388-2045",null," 269-388-4523",null,null,null,null,"R. W. LaPine Inc.","5140 East ML Avenue",null,null,null,"Kalamazoo","MI","49048","Mr.","Harwood","Safety Manager","Contractor General","Kalamazoo"]
["R. W. LaPine Inc. (Stratton)","Larry Stratton",null," 269-388-2045",null," 269-388-4523",null,null,null,null,"R. W. LaPine Inc.","5140 East ML Avenue",null,null,null,"Kalamazoo","MI","49048","Mr.","Stratton","Pfizer Site Manager","Contractor General","Kalamazoo"]
["R.A. Holmes (Holmes)","Roy Holmes",null," 616-837-7799",null," 616-837-9432",null,null,null,null,"R.A. Holmes","11116 Fitzgerald, Ste. A",null,null,null,"Nunica","MI","49448","Mr.","Holmes","Owner","Construction/Streets","Kent"]
["R.B. Satkowiak's City Sewer Cleaners",null,null,"989-753-9971",null,null,null,null,"Michigan Sales Tax","Paul Wren - cell: 989-737-2173, emai: citysewercleaners.com","R.B. Satkowiak's City Sewer Cleaners","Attn:","126 Mapleridge",null,null,"Carrollton","MI","48724"]
["R.C. Bremer Marketing Associates, Inc. (P","Tammy Perales",null," 888-621-4014"," 888-621-4014"," 800-845-2141","gevans@rcbremer.com",null,null,"Kevin Hightman mob 616.706.1944","R.C. Bremer Marketing Associates, Inc.","15 East Palatine Rd.","Suite 107",null,null,"Prospect Heights","IL","60070",null,"Perales","Office Manager","Representative","Kent"]
["R3 Safety (Nagy)","Dennis Nagy",null," 800.421.7081",null," 937-382-0557","dennis.nagy@r3safety.com",null,null,"Press 2 for cust svc  Agile is acct #243\n  Ruth Mendenhall very nice\n  Katey Hatch \n  Stephanie Brown\n  Barbie Ford\n  Debbie Paisley\n  Kindra Lucero\n  Alicia Barnes\n  Patty Doak nasty\n  Rh   15 total\nQuote Dept  fx 888.822.5665\n  Ginger Fulton\n  Helen\nAccounting fax 937-382-5239\nsales office: R3 Safety,  105 American Way,  Wilmington, OH 45177","R3 Safety","14418 Collections Drive",null,null,null,"Chicago","MI","60793","Mr.","Nagy",null,"Supplier","Out of State"]
["RAE Systems ()",null,null," 877-723-2878",null," 408-752-0724",null,null,null,"bob to cover MI, OH, W. PA, WV and KY\nRyan Watson mob 314.409.5882\nRhett Squires  805.218.1433\nWerner Haag mob 408.582.3453","RAE Systems","1339 Moffett Park Drive",null,null,null,"Sunnyvale","CA","94089",null,null,"Regional Sales Manager","Supplier","Out of State"]
["Raeco (Ekstrom)","Ronald Ekstrom",null," 800-852-9795 201"," 815-464-6200"," 815-464-8720","ron@raeco.com",null,null,"Dawn Hopper x1777 now handling rentals","Raeco","9324 Gulfstream Road","West Unit",null,null,"Frankfort","IL","60423","Mr.","Ekstrom",null,"Representative","Out of State"]
["Raeco (Fransen)","Pat Fransen",null," 800-852-9795 204"," 607-452-3790"," 815-464-8720",null,null,null,null,"Raeco","9324 Gulfstream Road","West Unit",null,null,"Frankfort","IL","60423","Ms.","Fransen",null,"Representative","Out of State"]
["Ralph Vanderwerf","Ralph Banderwerf",null,"269-684-6529","cell 269-462-2229","269-684-6575","PNVW@msn.com",null,"Michigan Sales Tax",null,"Ralph Vanderwerf","301 S 11 street",null,null,null,"Niles","MI","49120"]
["Ranir LLC",null,null,"616-698-8880",null,null,null,null,"Michigan Sales Tax","Scott Petzold - ext. 1170","Ranir LLC","Attn:","4701 East Paris Ave. SE",null,null,"Grand Rapids","MI","49512"]
["Ranir LLC ()",null,null," 616-698-8880 1170",null,null,"scott.petzold@odl.com",null,null,"Scott Petzold (gone) handles all safety needs and purchasing","Ranir LLC","4701 East Paris Ave. SE",null,null,null,"Grand Rapids","MI","49512",null,null,null,"Manufacturer","Ottawa"]
["Rapa Electric (Rapa)","Tom Rapa",null," 269-673-3157",null,null,null,null,null,null,"Rapa Electric","1173 Lincoln Rd",null,null,null,"Allegan","MI","49010","Mr.","Rapa","Owner/Operator/Manager","Electrical Industrial","Allegan"]
["Ravenna DPW, Village of (Patterson)","Steve Patterson",null," 231-853-2360",null," 231-853-6443",null,null,null,null,"Ravenna DPW, Village of","12090 Crockery Creek Drive",null,null,null,"Ravenna","MI","49451","Mr.","Patterson","Superintendent","Municipal, Cty","Muskegon"]
["Ravenna Fire Dept., City of","Ryan Hall","Ryan Hall","330-297-5738",null,"330-296-1331",null,null,"Out of State",null,"Ravenna Fire Dept., City of","Attn: Ryan Hall","214 Park Way",null,null,"Ravenna","OH","44266"]
["RC Hendrick & Son, Inc. (Semp)","Gregory Semp",null," 989-781-8116",null," 989-781-9512","greg@rchendrick.com",null,null,null,"RC Hendrick & Son, Inc.","2885 S. Graham Road",null,null,null,"Saginaw","MI","48609","Mr.","Semp","Project Manager","Engineering, Architecture","Saginaw"]
["RCI (Bainbridge)","Roger Bainbridge",null," 616-785-7335",null,null,"rbainbridge@rcicold.com",null,null,null,"RCI","5959 Comstock Park Drive",null,null,null,"Comstock Park","MI",null,"Mr.","Bainbridge",null,"Contractor HVAC","Kent"]
["RDS Engineering (Keusch)","Greg Keusch",null," 269-965-7440 229",null,null,"gkeusch@rdseng.com",null,null,"Eng'r for Andy Egan, for Entergy spreader bar","RDS Engineering","70 W. Michigan Ave., Suite 420",null,null,null,"Battle Creek","MI","49017","Mr.","Keusch","Engineer","Engineering, Architecture","Calhoun"]
["RDS Engineering (Nelson)","Stephen Nelson",null," 269-965-7440 268",null,null,"snelson@rdseng.com",null,null,"Steve.Osswald@ch2m.com     x317 for HCl fixed system\n\nwas with CH2M Hill\nIrfan Ahmed (Earthtech, Engg Design Solns) now w/ CH2M Hill 9.09  Irfan gone","RDS Engineering","70 West Michigan Ave.",null,null,null,"Battle Creek","MI","49017","Mr.","Nelson","Structural Engineer","Engineering, Architecture","Calhoun"]
["Red Autumn Tree Service (Rogers)","Nick Rogers",null," 616-293-7840",null,null,null,null,null,null,"Red Autumn Tree Service","PO Box 592",null,null,null,"Ada","MI","49301","Mr.","Rogers","Owner",null,"Kent"]
["Red Geranium Cafe","Jim Stein",null,null,null,null,null,null,"Michigan Sales Tax",null,"Red Geranium Cafe","Jim Stein","352 Michigan NE",null,null,"Grand Rapids","MI","49503","Mr.","Stein"]
["Reed City DPW, City of","Kevin Rambadt",null,"231-832-2245",null,"231-832-9166",null,null,"Non-Tax Municipality/Utility",null,"Reed City DPW, City of","Attn:Kevin Rambadt","227 E. Lincoln Avenue",null,null,"Reed City","MI","49677"]
["Reed City DPW, City of (Rambadt)","Kevin Rambadt",null," 231-832-2245",null," 231-832-9166","rambadtk@reedcityhall.org",null,null,"Bought doz Hi Viz Kinco gloves. Sending list to bid on. Stop in monthly.","Reed City DPW, City of","227 E. Lincoln Avenue",null,null,null,"Reed City","MI","49677","Mr.","Rambadt","Superintendent of Public Works","Municipal, Cty","Osceola"]
["Reed City WWTP","Don Row","Kevin Rambadt","231-832-5353","231-832-2245","231-892-9166",null,null,"Non-Tax",null,"Reed City WWTP","Don Row","227 East Lincoln",null,null,"Reed City","MI","49677","Mr.","Row"]
["Reed City WWTP, City of (Row)","Don Row",null," 231-832-5353",null,null,null,null,null,"Demo'd Micro and GEMS. Showed UCL from lit. Looking to buy to replace GX82.","Reed City WWTP, City of","700 Commerce Drive",null,null,null,"Reed City","MI","49677","Mr.","Row","WWTP Superintendent","Municipal, Cty","Osceola"]
["Reedsport WWTP, City of","Robin Morgan",null,"541-271-4313",null,null,null,null,"Non-Tax Municipality/Utility",null,"Reedsport WWTP, City of","Attn: Robin Morgan","183 Railroad Ave.",null,null,"Reedsport","OR","97467"]
["Reenders Blueberry Farms (Mike)","Mike",null," 616-842-5238",null,null,null,null,null,null,"Reenders Blueberry Farms","10012 W. Olive Rd.",null,null,null,"West Olive","MI","49460",null,"Mike","Co-Owner","Farming","Ottawa"]
["Regal Finishing (Kincade)","Alex Kincade",null," 269-849-2963",null," 269-849-0142","alexkincade@regalfinishing.com",null,null,"Met with a gentleman named Phil last Friday\nThey do tractor and lawn mower parts","Regal Finishing","3927 Bessemer Rd.","P.O. Box 427",null,null,"Coloma","MI","49038",null,"Kincade","Quality Assurance Manager",null,"Kalamazoo"]
["Regional Safety Associates (Schoff)","Ron Schoff",null," 219-873-1800",null," 219-873-0063",null,null,null,"Todd Palombizio","Regional Safety Associates","1571 Bunker Drive",null,null,null,"Chesterton","IN","46304","Mr.","Schoff","President","Representative","Out of State"]
["Reid Entities (B)","John B",null," 231-777-3951 3781",null,null,null,null,null,null,"Reid Entities","2265 Black Creek Rd.",null,null,null,"Muskegon","MI","49441","Mr.","B","Safety Director","Industrial","Muskegon"]
["Reliable Contracting Group, LLC",null,"Dave Lewis","502-244-2596","502-905-8039",null,null,null,"Out of State","Kim Gayle 904-520-9420\n  kgayle@teamreliable.com","Reliable Contracting Group, LLC","Attn:","13035 Middletown Industrial Blvd.",null,null,"Louisville","KY","40223"]
["Reliable Fire Equipment Company (Raddatz)","Larry Raddatz",null," 708-653-9226",null,null,null,null,null,"will give Agile 25% off list for VESDA system","Reliable Fire Equipment Company","12845 South Cicero Ave.",null,null,null,"Alsip","IL","60803","Mr.","Raddatz",null,null,"Out of State"]
["Reliable Relamping",null,null,null,null,null,null,null,"Michigan Sales Tax",null,"Reliable Relamping","Attn:","6459 Nash Hwy",null,null,"Saranac","MI","48881"]
["Reliance Industries (Choate)","Gary Choate",null," 303-424-8650"," 800-488-5751"," 303-424-8670","gary_choate@relsafe.com",null,null,"Brian gone Rich Charbonneau\nJoe Shaw mob 903.918.2151\nMickey Renkert \nwww.relsafe.com; lifeline design program, use: gary_choate@relsafe.com  p/w: reliance\ngary_choate@earthlink.net;\nJohn Sweetser, Gary, Brian, Daniel mob 303.809.0574, Paul\nhome 303.233.8796 home fax 303.237.1276","Reliance Industries","10790 West 50th Ave. Unit 1200",null,null,null,"Wheatridge","CO","80033","Mr.","Choate","V.P. Engineering","Supplier","Out of State"]
["Reliance Industries (Kinney)","Kyle Kinney",null," 888-362-2826 201",null," 281-930-8666","dawn_carlton@relsafe.com",null,null,"Kyle Kinney\nJanie Marin processes orders\nDawn Carlton gone\nMail to : POBox 2056 Deer Park, TX 77536\nKim answers phone\nSteve Ellis 281.930.8000 x202; mob 832.275.2216\nBarry Austin gone to Kiwi  832.512.8873\nDavid McKinney leaving soon\nSucceeded Paul Illich 832-216-3858\nMs. Jamie Marin; Mike Stubblefield gone; Tonya Bynum","Reliance Industries","2802 East X Street",null,null,null,"Deer Park","TX","77536",null,"Kinney",null,"Supplier","Out of State"]
["Reliance Industries (Shaw)","Joe Shaw",null," 888-362-2826 201",null," 281-930-8666","joe_shaw@gosafe.com",null,null,null,"Reliance Industries","2802 East X Street",null,null,null,"Deer Park","TX","77536","Mr.","Shaw",null,"Supplier","Out of State"]
["RenovEx Inc.","Bill Baker",null,"814-786-8129 x-112",null,"814-786-8156","bbaker@gossgas.com",null,"Non-Tax",null,"RenovEx Inc. (Blue Rhino Dist.)","Attn: Bill Baker","1028 Stevenson Rd.","Barkeville Ind. Park",null,"Grove City","PA","16127"]
["Reny & Company, Inc.","Bernice Navarro",null,"626-444-5305",null,"626-444-5772",null,null,"Out of State",null,"Reny & Company, Inc.","Attn: Bernice Navarro","11666 McBean Drive",null,null,"El Monte","CA","91732"]
["Repss Inc.","Jim Long",null,"713-461-6030",null,"713-461-6554",null,null,"NonTx Re-Sale",null,"Repss Inc.","Attn:","1414 West Sam Houston Pkwy. N.","Suite 170",null,"Houston","TX","77043"]
["REPSS Inc. (Thomas)","Dave Thomas",null," 866-657-3777"," 713-827-8156"," 713-461-6554","dave.thomas@repss.com",null,null,"Also, Jim Long, Conor O'Donnell (Dallas & OK); Derek Turner (LA AK MS AL)  Crissy, Lindsay\nBill Hill (odd bod) AZ NM\nFor RKI:  Detect Services  Tim Bush  281.479.2706","REPSS Inc.","1414 W.Sam Houston Pkwy North","Ste 170","PO Box 79654",null,"Houston","TX","77074","Mr.","Thomas",null,"Representatives","Out State"]
["Request Foods (Zink)","Mark Zink",null," 616-786-0900",null," 616-786-9180","marzin@requestfoods.com",null,null,null,"Request Foods","3460 John F. Donnelly Dr",null,null,null,"Holland","MI","49424","Mr.","Zink",null,null,"Ottawa"]
["Research Organics",null,null,"216-883-8025",null,null,null,null,"OH Cuyahoga CO","Pete Grasson - ext. 8, email:  pgrasson@resorg.com","Research Organics","Attn:","4353 East 49th Street",null,null,"Cleveland","OH","44125"]
["Restaurant Recycling Services, LLC",null,"877-869-6630","231-924-4622",null,null,null,null,"Michigan Sales Tax","Jenny pays the bills her # is 952-442-2380\nsuperior Feed and RRecycle are intertwined buisnesses \n12/31/09 Jenny will put together recerences and send them over.","Restaurant Recycling Services, LLC","Attn: Dirk Longstreth","616 Industrial Drive",null,null,"Fremont","MI","49412"]
["Restaurant Recycling Services, LLC (Longs","Dirk Longstreth",null," 231-924-4622",null,null,null,null,null,"Thus far, Dirk has bought flock-lined nitrile, diesel and gas safety cans  and a cabinet\n-currently looking into a fall-protection system for tanker access","Restaurant Recycling Services, LLC","616 Industrial Dr.",null,null,null,"Fremont","MI","49412","Mr.","Longstreth","Owner","Grease Recycling","Lake"]
["Rexarc International, Inc.",null,null,"937-839-4604",null,"937-839-5897",null,null,"OH Preble Co.","Tod Ursley - email: tusrey@rexarc.com\nGreg Rush - email: grush@rexarc.com","Rexarc International, Inc.","Attn:","35 East Third Street",null,null,"West Alexandria","OH","45381"]
["Rexel Summers Electric","Jamie",null,"269-764-2036",null,null,null,null,"Non-Tax",null,"Rexel Summers Electric","Attn: Jamie French","Palisades","27780 Blue Star Memorial Hwy",null,"Covert","MI","49043"]
["Rich & Howell Plumbing (Mike)","Mike",null," 231-773-9102",null,null,null,null,null,null,"Rich & Howell Plumbing","1580 Creston St.",null,null,null,"Muskegon","MI","49442",null,"Mike",null,null,"Muskegon"]
["Richard Perkerewicz",null,null,"701-315-0074",null,null,null,null,"Out of State",null,"Richard Perkerewicz","2547  - 7th Street SW",null,null,null,"Washburn","ND","58577"]
["Richard-Allan Scientific (Kilgore)","Angie Kilgore",null," 800-522-7270 628",null," 269-372-2674","akilgore@rallansci.com",null,null,"Met briefly. Stop back.","Richard-Allan Scientific","WMU Business Technology & Research Park","4481 Campus Drive",null,null,"Kalamazoo","MI","49008","Ms.","Kilgore","Compliance Supervisor","Chemical Pharmaceutical","Kalamazoo"]
["Richville Fire Dept.","Duane Laking",null,"cell 989-233-1859",null,null,"dlaking15@aol.com",null,"Non-Tax Municipality/Utility",null,"Richville Fire Dept.","Attn: Duane Laking","9743 West Sanilac",null,null,"Frankenmuth","MI","48734"]
["Ridge Environmental","Nick Ridge",null,"901-734-5022",null,null,"nridge@midsouth.rr.com",null,"Out of State",null,"Ridge Environmental","Nick Ridge","6478 Eastbrier Drive",null,null,"Bartlett","TN","38135"]
["Ridgway Fire Department, Inc.",null,"Ast. Chief Dave Matson","814-776-1125 CityHall","814-772-8085","814-772-3665","814-772-4064 home",null,"Out of State",null,"Ridgway Fire Department, Inc.","Attn:","33 E. Cardott Street",null,null,"Ridgway","PA","15853"]
["Rite-Way Plumbing & Heating (Fisher)","Michael Fisher",null," 616-791-0959",null," 616-791-4600","mike@ritewayinc.com",null,null,null,"Rite-Way Plumbing & Heating","2083 Walker Court NW",null,null,null,"Grand Rapids","MI","49544","Mr.","Fisher","Service Coordinator","Contractor HVAC","Kent"]
["Rite-Way Plumbing & Heating (Hyde)","Scott Vander Hyde",null," 616-791-0959",null," 616-791-4600","scott@ritewayinc.com",null,null,null,"Rite-Way Plumbing & Heating","2083 Walker Court NW",null,null,null,"Grand Rapids","MI","49544","Mr.","Hyde",null,"Contractor HVAC","Kent"]
["Rite-Way Plumbing & Heating, Inc.",null,null,"616-791-0959",null,"616-791-4600","dawn@ritewayinc.com",null,"Michigan Sales Tax","Scott VanderHyde\n8/12/11 three good credit refs","Rite-Way Plumbing & Heating, Inc.","Attn: Dan 791-09598620","2083 Walker Court NW",null,null,"Grand Rapids","MI","49544"]
["River City Mechanical",null,"616-262-9998 cell","616-785-1311","Jim Rohen x-105","616-785-8401","jrohen@rivercitymech.com",null,"Michigan Sales Tax",null,"River City Mechanical","Attn:Jim Rohen","5325-A Six Mile Ct. NW",null,null,"Comstock Park","MI","49321"]
["River City Mechanical (Rohen)","Jim Rohen",null," 616-785-1311 105",null," 616-785-8401","jrohen@rivercitymech.com",null,null,"Jim said to meet David Ryman (svc mgr) to discuss rental\nMet Joe Reader m 616.262.5599  jreader@rivercitymech.com Proj Mgr","River City Mechanical","5325-A  Six Mile Court NW",null,null,null,"Comstock Park","MI","49321","Mr.","Rohen","Safety Manager","Contractor General","Kent"]
["Riveridge Packing",null,null,null,null,null,null,null,"Michigan Sales Tax","Justin Finkler - cell: 616-813-0981, email: justinfinkler@riveridgeproduce.com","Riveridge Packing","Attn:","7777 Venture Road",null,null,"Sparta","MI","49345"]
["Rivertown Window",null,null,null,null,null,null,null,"Michigan Sales Tax",null,"Rivertown Window","Attn:","7300 Broadmore Ave. Southeast",null,null,"Caledonia","MI","49316"]
["RKI (Pellessier)","Bob Pellessier",null," 800-754-5165",null,null,null,null,null,"Sandra Gallagher\nBruce Holcomb, John Villalovos, Mike Jeter","RKI","33248 Central Avenue",null,null,null,"Union City","CA","94587","Mr.","Pellessier","President",null,"Out of State"]
["RMF Nooter",null,null,"419-727-1970","800-528-4410","419-727-3247",null,null,"OH Lucas Co.","Mike Schabel - cell: 419-261-2869, email: mpschabel@rmfnootercom","RMF Nooter","Attn:","915 Matzinger",null,null,"Toledo","OH","43612"]
["RMT (Plummer)","Scott Plummer",null," 616-975-5415",null," 616-975-1098","scott.plummer@rmtinc.com",null,null,"John Ball Zoo ABC's\nSteve Vander Hill  Acrisure / The Campbell Group\nDave Huizen  GVSU\nEric Longman  Hastings Mutual\nKellie Anderson  Hastings Mutual\nBrian Oczepek  CE\nEric Krieger  Wells Fargo Insurance\nBryan Hornik  Summit Training\nRich DeLeau  JCIM\nJamie Bauer  JCIM","RMT","2025 E. Beltline Avenue SE  Ste 402",null,null,null,"Grand Rapids","MI","49546","Mr.","Plummer","Regulatory Compliance Speciali","Contractor EH&S","Kent"]
["Robbins Lumber Inc.","John Mcavey",null,"207-342-6376",null,null,null,null,"Out of State",null,"Robbins Lumber Inc.","Attn: John Mcavey","53 Ghent Rd",null,null,"Searamount","ME","04973"]
["Robert Bentley Publishers (Bentley)","Michael Bentley",null," 617-547-4170"," 617-576-6312"," 617-876-9235","comik@mac.com",null,null,"Colette's folks:\nSid & Marlene Cywes. 24 Monterey Drive, Constantia, Cape Town 7806 SA.  Home +27-21-794-5392; Fx 27-21-794-2948\ncywes@icon.co.za\n33 Agassiz St., Cambridge, MA 02140","Robert Bentley Publishers","1734 Massachusetts Avenue",null,null,null,"Cambridge","MA","2138","Mr.","Bentley","President","BBB Personal","Out of State"]
["Roberts Pipeline, Inc.",null,null,"765-533-4728",null,"765-533-3517",null,null,"Out of State",null,"Roberts Pipeline Inc.","Attn:","2051 West US Highway 36",null,null,"Middletown","IN","47356"]
["Rochester Metal Products","Kristen Dean Accting.",null,"765-288-6624",null,null,null,null,"Out of State","Andy Murdock - Direct 574-223-0461\n  amurdock@rochestermetals.com","Rochester Metal Products","Attn: Andrew Murdock","616 Indiana Ave.",null,null,"Rochester","IN","46975"]
["Rochester Metal Products (Murdock)","Andrew Murdock",null," 574-223-3164",null," 574-223-2326","amurdock@rochestermetals.com",null,null,null,"Rochester Metal Products","616 Indiana Ave.",null,null,null,"Rochester","IN","46975","Mr.","Murdock","Environmental/Project Manager","Other","Out of State"]
["Rochling Glastic Composites","Heather Ciurlik",null,"216-838-5200",null,"216-486-1091","smadden@glastic.com",null,"Out of State","Sean Madden - Safety Coordinator\n  smadden@glastic.com  216-548-6645\n\nUPS Acct# 472175","Rochling Glastic Composites","Attn:Dan Rush","4321 Glenridge Rd.",null,null,"Cleveland","OH","44121"]
["Rochling Glastic Composites (Madden)","Sean Madden",null," 216-916-7324"," 216-838-5200"," 216-486-1091","smadden@glastic.com",null,null,null,"Rochling Glastic Composites","4321 Glenridge Rd.",null,null,null,"Cleveland","OH","44121","Mr.","Madden",null,"Manufacturer","Out of State"]
["Rockford Berge (Rehkopf)","Roger Rehkopf",null," 616-285-6996",null,null,"rrehkopf@rockfordconstruction.com",null,null,null,"Rockford Berge","5540 Glenwood Hills Parkway SE",null,null,null,"Grand Rapids","MI",null,"Mr.","Rehkopf","Partner","Contractor General","Kent"]
["Rockford Construction (Glupker)","Ken Glupker",null," 616-285-8100",null," 616-866-5262","kglupker@rockfordconstruction.com",null,null,"Phil Heintzelman.\nJason Wheeler (jasonwheeler@rockfordconstruction.com) bought hard hats\nPaul Rozich new Safety Mgr\nPete Michell Proj Mgr\nScott Ferguson\nPatrick Wilhelm handles PPE","Rockford Construction","5540 Glenwood Hills Parkway SE",null,null,null,"Grand Rapids","MI","49588","Mr.","Glupker",null,"Contractor General","Kent"]
["Rockford Construction (Lautenbach)","Curt Lautenbach",null," 616-285-8100",null," 616-866-5262","clautenbach@rockfordconstruction.com",null,null,null,"Rockford Construction","5540 Glenwood Hills Parkway SE",null,null,null,"Grand Rapids","MI","49588","Mr.","Lautenbach",null,"Contractor General","Kent"]
["Rockford Construction (Rozich)","Paul Rozich",null," 616-285-8100 6556",null," 616-866-5262","prozich@rockfordconstruction.com",null,null,"Scott Ferguson, Proj Supt bought CO GA Extremes mob 616.299.0620\nSteve Schmuker, Proj Supt mob 616.299.6851\nCurtis DeVries x3217 handles A/P\nMark Burgers also handles A/P","Rockford Construction","5540 Glenwood Hills Parkway SE",null,null,null,"Grand Rapids","MI","49588","Mr.","Rozich","Safety Manager","Contractor General","Kent"]
["Rockford Construction (Wilhelm)","Patrick Wilhelm",null," 616-285-8100",null," 616-866-5262","PWilhelm@rockfordconstruction.com",null,null,null,"Rockford Construction","5540 Glenwood Hills Parkway SE",null,null,null,"Grand Rapids","MI","49588","Mr.","Wilhelm",null,"Contractor General","Kent"]
["Rockford Construction Co.","Paul Rozich","Rick Glover","616-540-5855 cell",null,null,null,null,"Michigan Sales Tax","A/P Ms. Pat Campau x6470 is mgr. Sarah Klein also in A/P. Will always want to link to a job and wait for there payment. Does not do net30. Requires attention.\n\nBob Burns 616-443-7364 - old Metro hospital job","Rockford Construction Co.","Attn: Paul Rozich","5540 Glenwood Hill Pkwy SE",null,null,"Grand Rapids","MI","49512"]
["Rockford DPW, City of","Mike Bouwkamp",null,"616-866-1537",null,"616-866-6406",null,null,"Michigan Sales Tax",null,"Rockford DPW, City of","Attn: Mike Bouwkamp","7 South Monroe",null,null,"Rockford","MI","49341-0561"]
["Rockford DPW, City of (Bouwkamp)","Mike Bouwkamp",null," 616-866-1537",null," 616-866-4242","mbouwkamp@rockford.mi.us",null,null,null,"Rockford DPW, City of","7 South Monroe","PO Box 561",null,null,"Rockford","MI","49341-0561","Mr.","Bouwkamp","Public Works Supervisor","Municipal, Cty","Kent"]
["Rockford DPW, City of (Johnston)","Dick Johnston",null," 616-866-1537",null," 616-866-6406","djohnston@rockford.mi.us",null,null,"Mike Bowkamp is DPW Supt.","Rockford DPW, City of","7 South Monroe","PO Box 561",null,null,"Rockford","MI","49341-0561","Mr.","Johnston","Director of Public Services","Municipal, Cty","Kent"]
["Rockford Fire Department, City of","Michael Reus",null,"616-866-1553","616-893-0056 cell","616-866-6406",null,null,"Non-Tax Municipality/Utility",null,"Rockford Fire Department, City of","Attn: Chief Mike Reus","7 South Monroe",null,null,"Rockford","MI","49341-0561"]
["Rockford Fire Department, City of (Reus)","Michael Reus",null," 616-866-1553",null," 616-866-6406","mreus@rockford.mi.us",null,null,"Jon Wallace (slsmn interviewee) on EMT team","Rockford Fire Department, City of","7 South Monroe","PO Box 561",null,null,"Rockford","MI","49341-0561",null,"Reus","Fire Chief","Municipal, Cty","Kent"]
["Rockford Housing Authority (IL)","Paul Lindstrom",null,"815-489-8571",null,"815-489-8575","plindstrom@rockfordha.org",null,"Out of State",null,"Rockford Housing Authority (IL)","Attn: Paul Lindstrom","223 South Winnebago Street",null,null,"Rockford","IL","61102"]
["Rockford, City of",null,null,null,null,null,null,null,"Michigan Sales Tax",null,"Rockford, City of","Dick Johnson","7 South Monroe",null,null,"Rockford","MI","49341-0561"]
["RockTenn Company (Decker)","John Decker",null," 269-963-5511",null,null,"jdecker@rocktenn.com",null,null,"GEMS Prospect","RockTenn Company","177 Angell Street",null,null,null,"Battle Creek","MI","49037","Mr.","Decker",null,"Paper","Calhoun"]
["Rohm and Haas Company, Morton Salt Divisi","Michael Ganger",null," 231-723-2561",null," 231-723-7931","mganger@mortonsalt.com",null,null,"Mike has purchased 6 BW modules and Micros with rechargeable batteries\n-order was split between Agile and Absolute Safety out of Manistee\nRon Kryzanowski   Lab,  Russ Ryzinski,  Nichole Lowe calibrates equipment","Rohm and Haas Company, Morton Salt Divisi","180 -- 6th Street",null,null,null,"Manistee","MI","49660","Mr.","Ganger","Instrument Supervisor/Safety","Salt?","Manistee"]
["Rohr Gasoline Equipment",null,null,"616-878-5600",null,"616-878-4975",null,null,"Michigan Sales Tax",null,"Rohr Gasoline Equipment","Attn:","8549 Centre Industrial Drive",null,null,"Byron Center","MI","49315"]
["Ron Miedema Concrete (Dean)","Dean",null," 616-457-2244",null,null,null,null,null,null,"Ron Miedema Concrete","1865 Pine Ridge Dr. SW",null,null,null,"Jenison","MI","49428",null,"Dean","Shop Manager","Concrete Contractors","Ottawa"]
["Roosevelt Park, City of","Matt Farrar ext. 108",null,"231-755-3721",null,"231-755-1442",null,null,"Non-Tax Municipality/Utility",null,"Roosevelt Park, City of","Attn:Matt Farrar","900 Oak Ridge Rd.",null,null,"Roosevelt Park","MI","49441"]
["Roosevelt Park; City of (Farrar)","Matt Farrar",null," 231-755-3721 108",null," 231-755-1442","m.farrar@verizon.net",null,null,null,"Roosevelt Park; City of","900 Oak Ridge Road",null,null,null,"Roosevelt Park","MI","49441","Mr.","Farrar","Public Works Superintendent","Municipal, Cty","Muskegon"]
["Rose & Westra, Inc.",null,null,"616-791-7100",null,"616-791-9263",null,null,"Michigan Sales Tax","Bill Bosze - \nJohn Moorehouse - cell: 616-204-4760","Rose & Westra, Inc.","Attn: John Moorehouse","4328 Three Mile Road NW","Suite 200",null,"Grand Rapids","MI","49544-1188"]
["Rose & Westra, Inc. (Bosze)","William Bosze",null," 616-791-7100",null," 616-791-9263","wjbosze@rosewestra.com",null,null,"Mark Westra mob 616.240.9571","Rose & Westra, Inc.","4328 Three Mile Road NW  Suite 200",null,null,null,"Grand Rapids","MI","49544-1188","Mr.","Bosze",null,"Contractor EH&S","Kent"]
["Rose Acre Farms","Travis Otte",null,"812-497-2557",null,"812-525-9637","totte@goodegg.com",null,"Out of State","UPS#X67373","Rose Acre Farms","Attn: Travis Otte","6874 N. Base Road",null,null,"Seymour","IN","47274"]
["Rose Acre Farms (Otte)","Travis Otte",null," 812-497-2557",null," 812-525-9637","totte@goodegg.com",null,null,null,"Rose Acre Farms","6874 N. Base Road",null,null,null,"Seymour","IN","47274","Mr.","Otte","Corporate Safety Director","Poultry","Jackson"]
["Roskam Baking (House)","Mark House",null," 616-808-3392",null," 616-574-2050","housem@roskams.com",null,null,null,"Roskam Baking","3061 Shaffer",null,null,null,"Kentwood","MI","49512","Mr.","House",null,"Food","Kent"]
["Roto-Rooter Services Company (DeLauder)","Joe DeLauder",null," 724-325-1382",null," 724-325-3530","joe.delauder@rrsc.com",null,null,null,"Roto-Rooter Services Company",null,null,null,null,"3731 William","PA",null,"Mr.","DeLauder","General Manager","Contractor General","Out of State"]
["Roy Smith Co.","Lisa Smith",null,"313-883-6969",null,"313-883-0976",null,null,"OH Summit Co",null,"Roy Smith Co.","Attn. Lisa Smith","14650 Dequindre",null,null,"Detroit","MI","48212","Ms.","Smith"]
["Royal Chemical Co.",null,null,"330-467-1300",null,"330-468-1289",null,null,"OH Summit Co","Corporate:\nRoyal Chemical Co.\nAttn: Accounts Payable\n1755 Enterprise Pkwy, #100\nTwinsburg, OH 44087","Royal Chemical Co. PO# 2275","Attn: David Rodriguez","8679 Freeway Dr.",null,null,"Macedonia","OH","44056"]
["Royal Plastics, Inc. (Bos)","Ed Bos",null," 616-667-4103",null," 616-896-6499",null,null,null,null,"Royal Plastics, Inc.","2905 Corporate Grove Dr.",null,null,null,"Hudsonville","MI","49426","Mr.","Bos","Plant Manager",null,"Ottawa"]
["Royal Plastics, Inc. (Ford)","Tim Ford",null," 616-669-3393",null," 616-896-0290",null,null,null,null,"Royal Plastics, Inc.","3765 Quincy St.",null,null,null,"Hudsonville","MI","49426","Mr.","Ford","Safety",null,"Ottawa"]
["Royal Technologies (Ahearne)","Wendy Ahearne",null," 616-667-4102",null,null,null,null,null,null,"Royal Technologies","3765 Quincy St.",null,null,null,"Hudsonville","MI","49426","Mrs.","Ahearne","Safety Director",null,"Ottawa"]
["RRT","Tabitha",null,"614-272-8310",null,"614-272-8311",null,null,"Out of State",null,"RRT","4311 Janitrol Rd","Unit 150",null,null,"Columbus","OH","43228"]
["RS Insulation (Bagley)","Kelly Bagley",null," 269-327-8830",null," 269-330-2311","baglady81702@yahoo.com",null,null,null,"RS Insulation","1827 Reed Avenue",null,null,null,"Kalamazoo","MI","49001","Ms.","Bagley",null,"Contractor General","Kalamazoo"]
["RT Boring, Inc.","Tim Russell",null,"517-568-3219",null,"517-568-3219","trussell@dmci.net",null,"Michigan Sales Tax","Tim's cell:  517-937-1673","RT Boring, Inc.","Attn: Tim Russell","7296  -23 1/2 Mile Rd.",null,null,"Homer","MI","49245"]
["RTC, Inc. (Schaap)","Rodger Schaap",null," 231-342-6644",null," 231-929-3089","rtctcmi@chartermi.net",null,null,"RTC = Regulatory Training Consultants\nRodger is external safey person for Graceland","RTC, Inc.","PO Box 4263",null,null,null,"Traverse City","MI","49684","Mr.","Schaap",null,"Contractor EH&S","Grand Traverse"]
["Rue Construction Co. (Rue)","Dave Rue",null," 616-772-4760",null," 616-772-1819","rueconstruction@sbcglobal.net",null,null,null,"Rue Construction Co.","700 Construction Court",null,null,null,"Zeeland","MI","49464","Mr.","Rue","President",null,"Ottawa"]
["Rupp Safety Associates, Inc. (Rupp)","Kent Rupp",null," 517-523-2200",null," 517-523-3391","ruppsafety@qcnet.net",null,null,null,"Rupp Safety Associates, Inc.","6521 Morgan Road",null,null,null,"Osseo","MI","49266","Mr.","Rupp",null,"Representative","Hillsdale"]
["Rupp Safety Associates, Inc. (Turner)","John Turner",null," 231-744-3412",null," 231-332-5991","jiturner@earthlink.net",null,null,null,"Rupp Safety Associates, Inc.","1053 Dykstra Court",null,null,null,"Muskegon","MI","49445","Mr.","Turner",null,"Representative","Muskegon"]
["RVI Inc.","330-263-6952",null,"888-292-2812",null,"330-263-1723",null,null,"Out of State","10/18/2010:  We had them set up NET30, they ran us out 120+ days. Now on COD.\n\nTom Thomas - cell: 937-638-1369","RVI Inc.","Attn: Tom Thomas","600 Industrial Blvd.",null,null,"Wooster","OH","44691"]
["RVI Inc. (Thomas)","Tom Thomas",null," 888-292-2812",null," 330-263-1723",null,null,null,null,"RVI Inc.","600 Industrial Blvd.",null,null,null,"Wooster","OH","44691","Mr.","Thomas",null,"Other","Out of State"]
["Ryan's Modern Sewer Cleaning, Inc.","Paul Harig",null,"616-458-3993","616-437-0437 cell","616-458-4800",null,null,"Michigan Sales Tax",null,"Ryan's Modern Sewer Cleaning, Inc","Attn: Paul","316 Bradford NE",null,null,"Grand Rapids","MI","49503"]
["Ryan's Modern Sewer Cleaning, Inc. (Ryan)","Steve Ryan",null," 616-458-3993",null," 616-458-4800","tv@ryansewer.com",null,null,"Paul C mob 616-437-0437\nPaul Harig","Ryan's Modern Sewer Cleaning, Inc.","316 Bradford NE",null,null,null,"Grand Rapids","MI","49503","Mr.","Ryan","President","Contractor General","Kent"]
["Rycenga Electric, Inc.","Lyle Rycenga",null,"616-842-5530",null,"616-844-5231",null,null,"Michigan Sales Tax",null,"Rycenga Electric, Inc.","Attn:","13330  168th Avenue",null,null,"Grand Haven","MI","49417"]
["Rycenga Electric, Inc. (Rycenga)","Lyle Rycenga",null," 616-842-5530",null," 616-844-5231","rycengaelectric@chartermi.net",null,null,"Cindy Fowler is Sec.","Rycenga Electric, Inc.","13330  168th Avenue",null,null,null,"Grand Haven","MI","49417","Mr.","Rycenga","President","Contractor Electrical","Ottawa"]
["Rycenga Electric, Inc. (Zalsman)","Andy Zalsman",null," 616-842-5600",null," 616-844-5231","azalsman@rycenga.com",null,null,null,"Rycenga Electric, Inc.","13330  168th Avenue",null,null,null,"Grand Haven","MI","49417","Mr.","Zalsman","Yard Manager","Contractor Electrical","Ottawa"]
["S & N Machine & Fabricating, Inc. (Putnam","Steve Putnam",null," 231-894-2658",null," 231-894-5903",null,null,null,null,"S & N Machine & Fabricating, Inc.","7989 S. Michigan Ave.",null,null,null,"Rothbury","MI","49452","Mr.","Putnam","Safety",null,"Muskegon"]
["SA Morman & Company (Abma)","Dan Abma",null," 616-245-0583",null," 616-245-9275",null,null,null,"Lucy Eisen HUMR/ Comptroller buys","SA Morman & Company","1100 Gezon Parkway SW",null,null,null,"Grand Rapids","MI","49509","Mr.","Abma","Project Manager","Contractor General","Kent"]
["Sackett Ranch","Luke Paar",null,"989-762-5049","cell 989-7289-0195","989-762-5500",null,null,"Michigan Sales Tax",null,"Sackett Ranch","Attn: Luke Paar","2393 Neff Road",null,null,"Stanton","MI","48888"]
["Safety Equipment Store (Walters)","Mike Walters",null," 888-223-7233",null," 888-200-9320",null,null,null,"Looking for Gemtor rope ladders for GM appn","Safety Equipment Store","2440 Schuette Dr.",null,null,null,"Midland","MI","48642","Mr.","Walters","Customer Service Manager","Competitor","Midland"]
["Safety First","Mike Fitch","Bob (Acct. Payable)","231-258-8222",null,"231-258-8271",null,null,"NonTx Re-Sale","06/06/2005:  Brandon started quoting 16% (cost divided by .84) above cost on Draeger items.\n\n12% off list\n\nFedEx Acct# 108226684","Safety First","Attn:","313 1/2 Maple Street",null,null,"Kalkaska","MI","49646",null,"Fitch"]
["Safety First (Fitch)","Mike Fitch",null," 231-258-8222",null," 231-258-8271",null,null,null,"Had me research 13 M-40's to rent, then didn't bother to call when he didn't need them.","Safety First","PO Box 59",null,null,null,"Kalkaska","MI","49646","Mr.","Fitch",null,"Competitor","Kalkaska"]
["Safety Inc. (Myerson)","Joel Myerson",null," 978-532-7330",null," 978-532-7325","joel@ESafetyInc.com",null,null,"Karl Bryan, Service Tech\n> To: brandon@agilesafety.com\n> To: Dave Hanshew\n> To: dave.thomas@repss.com\n> To: joel@ESafetyInc.com\n> To: john@raeco.com\n> To: Lars Wikblad\n> To: mcoleman@dawsonassoc.com\n> To: Tim Wilde\n> Subject: National Safety Conference\n> Sent: Oct 21, 2009 7:30 AM\n>\n> Anyone going to the show in Orlando next week?\n>\n> Joel Myerson - President\n> Safety Inc.          www.ESafetyInc.com        978-532-7330\n> ETA Associates  www.ETAassociates.com  978-532-1330\n> 119 Foster Street, Building 6, Peabody, MA 01960\n> Regards\n> Tim Wilde\n> Tel: (805) 564-2035\n> Fax: (805) 564-2015\n> www.WestMarkSales.com","Safety Inc.","119 Foster Street, Building 6",null,null,null,"Peabody","MA","1960","Mr.","Myerson",null,null,"Out of State"]
["Safety Management Consultants (Miller)","Jim Miller",null," 989-390-2531"," 989-732-8499 255",null,null,null,null,null,"Safety Management Consultants","PO Box 789",null,null,null,"Gaylord","MI","49734","Mr.","Miller",null,"Contractor EH&S","Otsego"]
["Safety Now LLC","Marty Lalick",null,"616-916-9294",null,null,"safetynowllc@sbcglobal.net",null,"Michigan Sales Tax",null,"Safety Now LLC","Marty Lalick","2138 Lacrosse SW",null,null,"Wyoming","MI","49519"]
["Safety Products (Stam)","Vicki Stam",null," 616-399-2693",null,null,null,null,null,"Malia (mah lay ah) Tysse (tie see) in Purch. Michael Stam","Safety Products","4780  136th Avenue","PO Box 8096",null,null,"Holland","MI","49422","Ms.","Stam",null,"Competitor","Ottawa"]
["Safety Resources Company of Ohio, Inc.",null,null,"330-477-1100","888-256-8544","330-477-1200",null,null,"No-Tax Resale OH","12/2011 applied for credit one good response, 2 no response and one does not count too small a dollar amount","Safety Resources Company of Ohio, Inc.","Attn:","4650 Southway Street SW",null,null,"Canton","OH","44706"]
["Safety Service (Customer Acct)",null,"Tim Stein","616-956-6060",null,"616-956-7708",null,null,"Michigan Sales Tax",null,"Safety Service","Accounts Payable","5085 Kendrick Ct SE",null,null,"Grand Rapids","MI","49512"]
["Safety Services Inc. (Wisniewski)","Tom Wisniewski",null," 800-632-2955 1382",null," 616-956-7708",null,null,null,"Ruby, Tom Olson x2024 m 269.303.2051\nMike Troast bad svc.\nTim Stein x1397 Rental\nBrian Rautanen x1386","Safety Services Inc.","5085 Kendrick Ct.",null,null,null,"Grand Rapids","MI","49512","Mr.","Wisniewski",null,"Supplier","Kent"]
["Safety Solutions","Angela Kelly","Mark Yokosuk","800-232-7463",null,"614-700-9801","myokosuk@safetysolutions.com",null,"No-Tax Resale OH","No Service Stickers!\n\n12/03/2009: Service Reseller \nPM - $75 (std. 4-gas)\nCal Only:  $40 (std. 4-gas)\nParts:  10% off list\n\nCustomer FedEx Acct #\n\nMike Ammons - sales","Safety Solutions","Attn: Mark Yokosuk","6161 Shamrock Ct.",null,null,"Dublin","OH","43016"]
["Safety Solutions Inc. (Boone)","Michael Boone",null," 260-925-",null," 260-925-1614","mboone@safetysolutions.com",null,null,"Per Jim Todd of Huron Sales. Quote Nucor Steel HLL appn. Jim to get 7% commn.\nHQ: ph 800.232.7463 x6808, fax 614.799.9901","Safety Solutions Inc.","6161 Shamrock Court",null,null,null,"Dublin","OH","43016","Mr.","Boone","Territory Sales Manager","Competitor","Out of State"]
["Safety Solutions Inc. (Yokosuk)","Mark Yokosuk",null," 800-232-7463 6726"," 614-799-9900"," 614-799-9901","myokosuk@safetysolutions.com",null,null,null,"Safety Solutions Inc.","6161 Shamrock Ct.",null,null,null,"Dublin","OH","43016","Mr.","Yokosuk","Safety Sales Administrator","Competitor","Out of State"]
["Saginaw County Road Commission (Hare)","Scott A. Hare",null," 989-399-3754",null," 989-752-8934","hares@scrc.org",null,null,null,"Saginaw County Road Commission","3020 Sheridan Ave.","P.O. Box 1867",null,null,"Saginaw","MI","48605","Mr.","Hare","Permit Enforcement Officer",null,"Saginaw"]
["Sahara Inc.","Carl Schrank",null,"801-298-7724",null,null,null,null,"Out of State",null,"Sahara Inc.","Attn: Carl Schrank","801 N. 500 W. Suite 300",null,null,"Bountiful","UT","84010"]
["SAIC Environmental Equipment (Minnich)","Larry Minnich",null," 800-739-7706",null," 717-901-8114",null,null,null,null,"SAIC Environmental Equipment","493A Blue Eagle Ave.",null,null,null,"Harrisburg","PA","17112","Mr.","Minnich",null,"Supplier - Rental Equipment","Out of State"]
["Salandra Painting Inc.","Mark Salandra",null,"814-265-1206",null,"814-265-8899",null,null,"Out of State",null,"Salandra Painting Inc.","Attn: Mark Salandra","1026A Third Ave",null,null,"Brockway","PA","15824"]
["Sales and Marketing of Michigan, LLC","Joel Sheridan",null,"616-842-7480",null,"616-842-7495",null,null,"NonTx Re-Sale","have not done credit references  30days on small orders only COD for rest","Swartz Creek Area Fire Dept.","Attn Captain Stephen Tabit","8100 B Civic Dr.",null,null,"Swartz Creek","MI","48473-1376"]
["SAMM Sales and Marketing of Michigan, LLC","Joel Sheridan",null," 616.837.1026",null," 616.837.4477","jsheridan@sammllc.com",null,null,"616.638.2277 Nextel, 130*144*7943 Two-Way Direct","SAMM Sales and Marketing of Michigan, LLC","16698 Northwood Trail",null,null,null,"Spring Lake","MI","49456","Mr.","Sheridan","President","Supplier","Ottawa"]
["Samson Resources (Stender)","John Stender",null," 989-255-7457",null,null,"jstender@samson.com",null,null,null,"Samson Resources","1499 M32",null,null,null,"Alpena","MI","49707","Mr.","Stender",null,"Petroleum Related","Alpena"]
["Samson Resources Co.","John Stender",null,"959-255-7457",null,null,null,null,"Michigan Sales Tax",null,"Samson Resources Co.","Attn: John Stender","1499 M 32 West",null,null,"Alpena","MI","49707"]
["Sappi Fine Paper (Cloquet)",null,null,"218-879-0671",null,null,null,null,"Michigan Sales Tax",null,"Sappi Fine Paper (Cloquet)","Attn: D. Mahlin","2201 Avenue B",null,null,"Cloquet","MN","55720"]
["Sappi Fine Paper (Muskegon)","Mike Wolffis",null,"231-759-5366",null,"231-759-5126",null,null,"Non-Tax",null,"Sappi Fine Paper","Attn: Derrick Schroeder","2400 Lakeshore Dr.",null,null,"Muskegon","MI","49441"]
["Sappi Skowhegan (Pembroke)","Rick Pembroke",null," 207-238-3055",null," 207-858-4220","rick.pembroke@sappi.com",null,null,null,"Sappi Skowhegan","165 N. Avenue Suite 1",null,null,null,"Skowhegan","ME","4976","Mr.","Pembroke",null,"Paper","Out of State"]
["Sara Lee (DeVries)","Jessica DeVries",null," 616-875-3585",null,null,"jessica.devries@saralee.com",null,null,null,"Sara Lee","8300  96th Avenue",null,null,null,"Zeeland","MI","49464","Ms.","DeVries",null,"Food","Ottawa"]
["Sara Lee (Heinrich)","Steve Heinrich",null," 616-875-2655",null," 616-875-3328","steve.heinrich@saralee.com",null,null,null,"Sara Lee","8300  96th Avenue",null,null,null,"Zeeland","MI","49464","Mr.","Heinrich","Purchasing",null,"Ottawa"]
["Sara Lee (Hutchens)","Don Hutchens",null," 616-875-2563",null," 616-875-3313","don.hutchens@saralee.com",null,null,"Perry Klasky (WWTP)\nspoke with Steve Dykema (Purch)","Sara Lee","8300  96th Avenue",null,null,null,"Zeeland","MI","49464","Mr.","Hutchens","Safety Manager","Food","Ottawa"]
["Sara Lee (Kentwood)","Marty Lalick",null,"616-245-9127",null,"616-245-2368","martin.lalick@saralee.com",null,"Michigan Sales Tax","Marty Lalick - cell: 616-204-8121","Sara Lee (Kentwood)","Attn: Marty Lalick","210 - 28th St.",null,null,"Kentwood","MI","49548"]
["Sara Lee (Nink)","Bob Nink",null," 616-875-3556",null," 616-875-3328","robert.nink@saralee.com",null,null,"Pat's Boss","Sara Lee","8300  96th Avenue",null,null,null,"Zeeland","MI","49464",null,"Nink","Security Supervisor",null,"Ottawa"]
["Sara Lee (Zeeland)","act pbl 800-449-4284x7578","Don Hutchens / Pat Stinson","616-875-3537 Security","616-875-2563 Don","616-875-3313",null,null,"Michigan Sales Tax","Jessica DeVries - direct desk 616-875-3585 - email: jessica.devries@saralee.com","Sara Lee (Zeeland)","Attn: Jessica DeVries PO 4800140483","8300 - 96th Ave.",null,null,"Zeeland","MI","49464"]
["Sara Lee - Oven Fresh Bakery (Lalick)","Marty Lalick",null," 616-245-9127",null," 616-245-2368",null,null,null,null,"Sara Lee - Oven Fresh Bakery","210 - 28th Street",null,null,null,"Kentwood","MI","49548","Mr.","Lalick",null,"Food","Kent"]
["Sara Lee Bakery Group (Weller)","Kenneth Weller",null," 616-252-2727",null," 616-245-3036","wellerke@slbg.com",null,null,"Was Oven Fresh. Has EHS responsibility. Sharon Wasikowski was there before.","Sara Lee Bakery Group","210  28th Street SE",null,null,null,"Grand Rapids","MI","49548","Mr.","Weller","Engineering Manager","Food","Kent"]
["Sargent Electric Company","Don Kohlmyer",null,"412-394-7406",null,"412-394-7592",null,null,"Out of State",null,"Sargent Electric Company","2767 Liberty Ave.",null,null,null,"Pittsburgh","PA","15222"]
["Sargent Electric Company (Selepec)","Justin Selepec",null," 412-394-7406",null," 412-394-7592","jselepec@sargent.com",null,null,null,"Sargent Electric Company","2828 Liberty Ave",null,null,null,"Pittsburgh","PA","15222","Mr.","Selepec",null,"Contractor Electrical","Out of State"]
["Saugatuck DPW, City of",null,"Bruce Simonson","269-857-2558",null,"269-857-4406",null,null,"Non-Tax Municipality/Utility",null,"Saugatuck DPW, City of","Attn:","102 Butler Street",null,null,"Saugatuck","MI","49453"]
["Saugatuck DPW, City of (Simonson)","Bruce Simonson",null," 269-857-2558",null," 269-857-4406","returned",null,null,null,"Saugatuck DPW, City of","102 Butler Street","PO Box 86",null,null,"Saugatuck","MI","49453","Mr.","Simonson","Superintendent","Municipal, Cty","Allegan"]
["Savannah, City of (Twiggs)","Alfred Twiggs",null," 912-351-3899",null," 912-351-3835","alfred_twiggs@savannahga.gov",null,null,"Joey Allen is Boss. Referral from Neal Bridges of OdaLog","Savannah, City of","230 Agonic Road",null,null,null,"Savannah","GA","31406","Mr.","Twiggs",null,"Municipal, Cty","Out of State"]
["Scenic View Dairy (Austin)","Andy Austin",null,null,null," 269-236-0599","andy.austin@scenicviewdairy.com",null,null,"Acct:  LindaStephenson@phase3renewables.com  330.414.5103","Scenic View Dairy","5834 Natilyn Drive",null,null,null,"Hamilton","MI","49419","Mr.","Austin","Biosystems Engineer","Engineering, Architecture","Allegan"]
["Scenic View Dairy (Fennville)",null,"Kyle Gruppen",null,null,null,null,null,"Michigan Sales Tax","Kyle Gruppen - Cell: 616-218-9104","Scenic View Dairy (Fennville)","Attn:  Kyle Gruppen","1510 - 62nd Street",null,null,"Fennvile","MI","49408"]
["Scenic View Dairy (Freeport)","Phil Geerlings",null,"616-218-2422",null,null,"scenicviewfreeport@hughes.net",null,"Michigan Sales Tax","Andy Austin - cell: 616-502-0959, email: andy.austin@scenicviewdairy.com\nVISA: 4445-1216-1305-8592, EXP: 07/13","Scenic View Dairy (Freeport)","Attn: Jason Geerlings","10560 Freeport Ave.",null,null,"Freeport","MI","49325"]
["Scheck Mechanical Corp.","Mrs. Geri Hlavac","Joe Harding","708-482-8100","269-214-7564","708-482-8185",null,null,"Michigan Sales Tax",null,"Scheck Mechanical Corp.","Attn:","7100 Tower Road",null,null,"Battle Creek","MI","49014"]
["Scheidel Electric","John Scheidel",null,"cell 616.291.3682",null,null,null,null,null,null,"Scheidel Electric","John Scheidel","7137 Childsdale Ave NE",null,null,"Rockford","MI","49341"]
["Schering Plough (Lynch)","Michael Lynch",null," 908-298-4338",null,null,"michael.lynch8@spcorp.com",null,null,null,"Schering Plough","556 Morris Avenue",null,null,null,"Summit","NJ","7901","Mr.","Lynch","Safety Specialist","Chemical Pharmaceutical","Out of State"]
["Schipper Poultry","Cal Schipper","616-836-7167 cell Tim","269-751-4981","Tim Schipper",null,null,null,"Michigan Sales Tax",null,"Schipper Poultry","Attn: Cal Schipper","4852 142nd Ave.",null,null,"Holland","MI","49423"]
["Schippers Excavating Inc.",null,null,"616-895-4119",null,"616-895-9356",null,null,"Michigan Sales Tax","Trever Muelker cell:  616-437-9969","Schippers Excavating Inc.","Attn:","9829 Lake Michigan Drive",null,null,"West Olive","MI","49460"]
["Schippers Excavating, Inc. (Bosch)","Don Bosch",null," 616-895-4119",null," 616-895-9356",null,null,null,null,"Schippers Excavating, Inc.","9829 Lake Michigan Drive",null,null,null,"West Olive","MI","49460","Mr.","Bosch","Estimator","Contractor, Excavator","Ottawa"]
["Schlumberger","Jim Haug",null,"616-768-2171",null,null,null,null,"Out of State",null,"Schlumberger","Attn: Jim Haug","1 Hampshire St.","Mail Drop MD-B313",null,"Cambridge","MA","02139"]
["Schroeder Resources LLC","Randy Schroeder",null,"517-676-8063",null,"517-676-1033",null,null,"Michigan Sales Tax",null,"Deep Rock Energy Corporation","Attn:","631 S. Broadway",null,null,"Salem","IL","62881"]
["Schrotenboer Electric Inc. (Schrotenboer)","Todd Schrotenboer",null," 616-751-4357",null," 616-751-4357",null,null,null,null,"Schrotenboer Electric Inc.","2996 M-40",null,null,null,"Hamilton","MI","49419","Mr.","Schrotenboer","President","Contractor Electrical","Allegan"]
["Schulhoff Equipment Rental","Mike Whalen","David Leese","513-961-1122",null,"513-961-4166","dleese@fuse.net",null,"OH Hamilton Co","UPS# 469313","Schulhoff Equipment Rental","Attn: Dave Leese","2709 Woodburn Ave.",null,null,"Cincinnati","OH","45206"]
["Schulte Supply, Inc.","Adam Wessel",null,"618-656-8383",null,"618-656-8750","adamwessel@schultesupply.com",null,"Out of State",null,"Schulte Supply, Inc.","Attn:","5998 Redbud Lane",null,null,"Edwardsville","IL","62025"]
["Schultz Excavating (Schultz)","Brian Schultz",null," 231-845-7125",null," 231-843-4688",null,null,null,"Jan and Shawna","Schultz Excavating","5565 -- 6th Street",null,null,null,"Ludington","MI","49431","Mr.","Schultz","President","Contractor General","Mason"]
["Schultz Fluid Handling Equipment","Mark Schultz",null,"216-676-9777","216-952-1529","216-676-9776",null,null,"Non-Tax","Kathleen Karen for A/R","Schultz Fluid Handling Equipment","Attn: Mark Schultz","13232 Enterprise Ave.",null,null,"Cleveland","OH","44135"]
["Schultz Fluid Handling Equipment (Schultz","Mark Schultz",null,"216 676 9777",null,"216 676 9776","mschultz@schultzfluid.com",null,null,null,"Schultz Fluid Handling Equipment","13232 Enterprise Avenue",null,null,null,"Cleveland","OH","44135","Mr.","Schultz",null,"Contractor General","Out of State"]
["Schust Engineering Inc. (Baker)","Ronn Baker",null," 260-482-4820",null,null,"rbaker@schust.com",null,null,null,"Schust Engineering Inc.","PO Box 8100",null,null,null,"Ft. Wayne","IN","46898-8100","Mr.","Baker",null,"Contractor General","Out of State"]
["Schuylkill Materials Handling Co.","Gene Melocheck",null,"570-875-4006",null,"570-875-4086","genemelo@gmail.com",null,"NonTx Re-Sale",null,"Schuylkill Materials Handling Co.","Attn:","78 Lincoln Rd.",null,null,"Ashland","PA","17921-9334"]
["Schwing Bioset","Mike Smith",null,"715-247-3433","cell 651-492-2604","715-247-3438",null,null,"Michigan Sales Tax",null,"Schwing Bioset","Attn: Mike Smith","350 SMC Drive",null,null,"Somerset","WI","54025"]
["Scoreboards.com"]
["Scoreboards.com (Burnette)","Marty Burnette",null," 239-549-4720"," 603-817-6172",null,"sales@scoreboards.com",null,null,null,"Scoreboards.com","5243 Wisteria Court",null,null,null,"Cape Coral","FL","33904","Mr.","Burnette",null,"BBB Personal","Out of State"]
["Scorpion Cable and Fiber","Attn: Blain Anderson",null,"734-260-3745",null,"734-654-8648",null,null,"Michigan Sales Tax",null,"Scorpion Cable and Fiber","Attn: Blain Anderson","11845 Telegraph Rd.",null,null,"Carleton","MI","48117"]
["Scott (Shaffer)","Keith Shaffer",null," 800-247-7257",null," 704-291-8420",null,null,null,"Marty Lorkowski mob 586.634.7589","Scott","4320 Goldmine Road",null,null,null,"Monroe","NC","28110","Mr.","Shaffer","Technical Support","Supplier","Out of State"]
["Seabrood (Kim)","Kim",null," 231-759-8820",null," 231-759-6213",null,null,null,null,"Seabrood","1869 Lindberg Dr.",null,null,null,"Muskegon","MI","49441",null,"Kim","Safety",null,"Muskegon"]
["Seaman's (Seaman)","Randy Seaman",null," 616-458-1544",null," 616-458-0605",null,null,null,"Dave Galbreath  svc mgr","Seaman's","2510 Oak Industrial Dr. NE",null,null,null,"Grand Rapids","MI","49505","Mr.","Seaman","Safety Manager","Contractor HVAC","Kent"]
["Seaver Finishing (Kathy)","Kathy",null," 616-842-8560",null,null,null,null,null,null,"Seaver Finishing","1645 Marion Ave.",null,null,null,"Grand Haven","MI","49417",null,"Kathy","Receptionist","Manufacturing","Ottawa"]
["Seaway Painting","Bill Loughrey",null,"734-522-2440",null,null,null,null,"Michigan Sales Tax",null,"Seaway Painting","Attn: Bill Loughrey","31801 Schoolcraft Rd.",null,null,"Livonia","MI","48150"]
["Seaway Painting (Loughrey)","Bill Loughrey",null," 734-522-2440",null,null,"billloughrey@aol.com",null,null,"QNFT","Seaway Painting","31801 Schoolcraft Road",null,null,null,"Livonia","MI","48150","Mr.","Loughrey",null,"Contractor General","Wayne"]
["Seco/Warwick","Kandy Davis",null,"814-332-8513",null,"814-724-1407",null,null,"Out of State",null,"Allegheny Technologies","Wah Chang","235 Industrial Park Rd",null,null,"Frackville","PA","17931"]
["Secur Alarm Systems","Char Slager",null,"616-257-7730",null,"616-257-1125",null,null,"Michigan Sales Tax",null,"Secur Alarm Systems","Attn: Char Slager / Chris Meengr","112  -  54th St. SW",null,null,"Grand Rapids","MI","49548"]
["Select One Insurance"]
["Select Technologies","Evan Greka",null,"616-866-6700",null,"616-866-6770","evangreka@select-technologies.com",null,"Michigan Sales Tax","Evan Greka wants to set up terms 1/13/11 nput through aan order at Pending 30 sent an email 1/17/12. still waiting for information","Select Technologies","Attn: Evan Greka","8093 Graphic Drive",null,null,"Belmont","MI","49306"]
["Select Technologies (Greka)","Evan Greka",null," 616-866-6700",null," 616-560-4703","evangreka@select-technologies.com",null,null,null,"Select Technologies","8093 Graphic Drive",null,null,null,"Belmont","MI","49306","Mr.","Greka",null,"Contractor General","Kent"]
["Selective Insurance Co.","Rich Bourne",null,"616-949-5100",null,"616-949-6226","rich.bourne@selective.com",null,"Michigan Sales Tax",null,"Selective Insurance Co.","Rich Bourne","1056 Keneberry",null,null,"East Grand Rapids","MI","49506"]
["Selge Construction Inc. (Riley)","Scott Riley",null,null,null," 269-684-0846",null,null,null,null,"Selge Construction Inc.","2833 South 11th Street",null,null,null,"Niles","MI","49120","Mr.","Riley",null,"Contractor General","Berrien"]
["Sellner-Behr Corporation","Rose Osburn","Bill Iden","616-802-4105","616-785-9400 General","616-785-9520",null,null,"Michigan Sales Tax","Bill Iden\n  616-785-9400 x251\n  bill.iden@sellnercorp.com","Sellner-Behr Corporation","Attn:","1020 - 7 Mile Rd",null,null,"Comstock Park","MI","49312"]
["Sellner-Behr Industries Corporation (Iden","Bill Iden",null," 616-785-9400 251",null," 616-785-9520","bill.iden@sellnercorp.com",null,null,null,"Sellner-Behr Industries Corporation","1020 Seven Mile Road",null,null,null,"Comstock Park","MI","49321","Mr.","Iden",null,"Automotive","Kent"]
["Semco (Conant)","Julie Conant",null," 269-966-0404 5561",null," 269-966-0428",null,null,null,null,"Semco","155 West Fountain Street",null,null,null,"Battle Creek","MI","49017","Ms.","Conant","Safety Manager","Utility","Calhoun"]
["Sensidyne (Louchinski)","Lisa Louchinski",null," 800-451-9444 622"," 727-530-3602"," 727-538-0671",null,null,null,"Greg Webb is Regl Sales Mgr 302.449.0850. Buy from RAECO, Safety 1st or Wilner-Greene out of Portland, ME David Fillman 800.634.4327","Sensidyne","16333 Bay Vista Drive",null,null,null,"Clearwater","FL","33760","Ms.","Louchinski",null,"Supplier","Out of State"]
["SER Communications",null,"John Hentschel","248-398-1009",null,"248-398-1081",null,null,"Michigan Sales Tax",null,"SER Communications","Attn:","25367 Dequindre Road",null,null,"Madison Heights","MI","48071"]
["SER Communications (Hentschel)","John Hentschel",null," 248-398-1009",null," 248-398-1081","jhentschel@serdetroit.net",null,null,null,"SER Communications","25367 Dequindre Road",null,null,null,"Madison Heights","MI","48071","Mr.","Hentschel",null,"Contractor General","Wayne"]
["Serviscreen Printing (Greg)","Greg",null," 616-669-1640",null,null,null,null,null,null,"Serviscreen Printing","1811 Chicago Dr.",null,null,null,"Jenison","MI","49428",null,"Greg","Office Manager/Owner?",null,"Ottawa"]
["Severstal North America (Tesin)","Don Tesin",null," 734-344-2814",null,null,"dtesin@severstalna.com",null,null,null,"Severstal North America","30160 Hickory Drive",null,null,null,"Flat Rock","MI","48134-1681","Mr.","Tesin","Industrial Safety Engineer","Steel","Wayne"]
["Shaggy Pines Dog Park","Pam Stanley",null,"616-676-9464",null,null,null,null,"Michigan Sales Tax",null,"Shaggy Pines Dog Park","Attn: Pam Stanley","3895 Cherry Lane",null,null,"Ada","MI","49301"]
["Shambaugh & Sons, division of Havel Bros.","Chris Porter",null,"260-487-7753",null,"260-487-2158",null,null,"Michigan Sales Tax",null,"Shambaugh & Sons, division of Havel Bros.","Attn: PO#","7525 Disalle Blvd","Fort Wayne IN 46825",null,"Ft. Wayne","IN","46801"]
["Shamrock Technologies (Kappes)","Bruce Kappes",null," 973-242-2999  9-1061",null,null,"bkappes@shamrocktechnologies.com",null,null,null,"Shamrock Technologies","188 Pacific Street",null,null,null,"Newark","NJ","7114","Mr.","Kappes",null,"Manufacturer","Out of State"]
["Shamrock Technologies, Inc.",null,null,"973-242-2999",null,null,null,null,"Michigan Sales Tax","Bruce Kappes - ext. 1061","Shamrock Technologies, Inc.","Attn:","Foot of Pacific Street",null,null,"Newwark","NJ","07114"]
["Shape Corporation (McDowell)","Mellisa McDowell",null," 616-846-8700"," 616-846-8700"," 616-846-2905",null,null,null,"Mellissa for giving quotes","Shape Corporation","1900 Hayes St.",null,null,null,"Grand Haven","MI","49417","Mrs.","McDowell","Buyer","Automotive","Muskegon"]
["Shape Corporation (Swiftney)","Bryan Swiftney",null," 616-844-3266",null,null,null,null,null,null,"Shape Corporation","1900 Hayes St.",null,null,null,"Grand Haven","MI","49417",null,"Swiftney","Purchasing",null,"Muskegon"]
["Shape Corporation (Westbrook)","Mike Westbrook",null," 616-846-8700 3453"," 616-844-3453"," 616-846-2905","westbrom@shape-corp.com",null,null,"per Mike Westbrook,  see her next time\nmet with, gave glove presentation, liked samurai","Shape Corporation","1900 Hayes St.",null,null,null,"Grand Haven","MI","49417","Mr.","Westbrook","Safety & Enviromental Manager","Automotive","Muskegon"]
["Shaun Smith (Sample)","Shaun Smith",null,null,null,null,null,null,"Michigan Sales Tax"]
["Shaw Stone & Webster","Ben Rogers",null,"269-764-3278",null,"269-764-2816",null,null,"Michigan Sales Tax",null,"Shaw Stone & Webster","Attn:Robin Jordan","c/o Entergy Palisades Nuclear Power Plant","27780 Blue Star Memorial Hwy",null,"Covert","MI","49043"]
["Shelby DPW (Phillips)","Randy Phillips",null," 231-861-2500",null,null,null,null,null,null,"Shelby DPW","6333 23 Mile Rd.",null,null,null,"Shelby","MI","48316","Mr.","Phillips","Superintendent","Municipal, Cty","Oceana"]
["Shelby Fire Department (Thompson)","Mike Thompson",null," 519-342-3166",null," 419-347-3896",null,null,null,null,"Shelby Fire Department","10 East Main Street South",null,null,null,"Shelby","OH","44875",null,"Thompson",null,null,"Out of State"]
["Shelby Twp. DPW",null,"Tim Travis (ext-121)","586-731-5990",null,"586-731-6634",null,null,"Non-Tax Municipality/Utility",null,"Shelby Twp. DPW","Attn:","6333 - 23 Mile Road",null,null,"Shelby Township","MI","48316"]
["Sheldrake Point Vineyard","Dave Breeden",null,"607-532-9401",null,null,null,null,"Out of State",null,"Sheldrake Point Vineyard","Attn Dave Breeken","7448 Country Road 153",null,null,"Ovid","NY","14521"]
["Shellcast, Inc.","Laura Castonia",null,"231-893-8245",null,"231-894-2554",null,null,"Non-Tax",null,"Shellcast, Inc.","Attn: Laura Castonia","5230 Industrial Park Drive",null,null,"Montague","MI","49437"]
["Shellcast, Inc. (Castonia)","Laura Castonia",null," 231-893-8245",null," 231-894-2554","lcastonia@shellcastinc.com",null,null,"Elenore Krause is owner","Shellcast, Inc.","5230 Industrial Park Drive",null,null,null,"Montague","MI","49437","Ms.","Castonia","HR, Acct.","Manufacturer","Muskegon"]
["Sheridan Books Inc.","Tim Welshans",null,"734-475-9145",null,"734-475-6992",null,null,"Non-Tax","Tim Welshans direct# 734-385-1507 or\n   734-475-9145 ext 265\n\nUPS ACCT# 418623","Sheridan Books Inc.","Attn:Tim Welshans","613 East Industrial Dr.",null,null,"Chelsea","MI","48118"]
["Sheridan Books Inc. (Welshans)","Tim Welshans",null," 734-475-9145 265",null," 734-475-6992","twelshan@sheridanbooks.com",null,null,null,"Sheridan Books Inc.","613 East Industrial Drive",null,null,null,"Chelsea","MI","48118",null,"Welshans",null,"Other","Washtenaw"]
["Sherman International Corporation (Arya)","Amit Kumar Arya",null," 412-928-2880",null," 412-774-2714","aarya@shermanusa.com",null,null,null,"Sherman International Corporation","367 Mansfield Avenue",null,null,null,"Pittsburgh","PA","15220","Mr.","Arya",null,null,"Out of State"]
["Sherwin Williams","Brian Sitz",null,"616-392-7811",null,null,null,null,"Michigan Sales Tax",null,"Sherwin Williams","Attn: Brian Sitz","636 E. 40th Street",null,null,"Holland","MI","49423"]
["Sherwin-Williams Company (Sitz)","Brian Sitz",null," 616-392-7811 226",null," 616-392-7798","brian.a.sitz@sherwin.com",null,null,null,"Sherwin-Williams Company","636 E. 40th Street",null,null,null,"Holland","MI","49423","Mr.","Sitz","Safety & Compliance Manager","Chemical Pharmaceutical","Ottawa"]
["Shincor Silicones (Gregory)","Tim Gregory",null," 330-630-9860 227",null," 330-630-9855","tgregory@shinetsusilicones.com",null,null,null,"Shincor Silicones","1030 Evans Avenue",null,null,null,"Akron","OH","44305","Mr.","Gregory",null,"Manufacturer","Out of State"]
["Shoreline Container (Boreman)","Lori Boreman",null," 616-399-2088",null," 616-399-7240",null,null,null,null,"Shoreline Container","4450 North 136th Avenue","P.O. Box 1993",null,null,"Holland","MI","49422","Mrs.","Boreman",null,null,"Ottawa"]
["Shoreline Container (Hylland)","Brent Hylland",null," 616-399-2088",null," 616-399-7240",null,null,null,null,"Shoreline Container","4450 North 136th Avenue","P.O. Box 1993",null,null,"Holland","MI","49422","Mr.","Hylland","Safety Purchasing",null,"Ottawa"]
["Shoreline Metal Fabricators, Inc.",null,"Andy Fessenden","231-722-4443","231-578-4647 Cell","231-722-2751",null,null,"Non-Tax","Don Fialek","Shoreline Metal Fabricators, Inc.","Attn:","1880 Park Street",null,null,"Muskegon","MI","49441"]
["Shoreline Metal Fabricators, Inc. (Fessen","Andy Fessenden",null," 231-722-4443",null," 231-722-2751","slmfab@verizon.net",null,null,"N. Boiler sister company","Shoreline Metal Fabricators, Inc.","1880 Park St.",null,null,null,"Muskegon","MI","49441","Mr.","Fessenden","Project Manager",null,"Muskegon"]
["Shoreline Recycling & Supply (Laven)","Bryan Laven",null," 231-722-6081",null,null,null,null,null,null,"Shoreline Recycling & Supply","259 Ottawa St.",null,null,null,"Muskegon","MI","49442",null,"Laven","EH&S","RECYCLING","Muskegon"]
["Sidock Group, Inc. (Burt)","Bill Burt",null," 231-722-4900 245",null," 231-722-4955","bburt@sidockgroup.com",null,null,null,"Sidock Group, Inc.","379 West Western Avenue Ste 200",null,null,null,"Muskegon","MI","49440","Mr.","Burt","Project Engineer","Engineering, Architecture","Muskegon"]
["Siemens Dematic Corp.",null,"Stephfan Sissell",null,"616-913-6531","616-913-5500",null,null,"Michigan Sales Tax",null,"Siemens Dematic Corp.","Stephfan Sissell","507 Plymouth Avenue NE",null,null,"Grand Rapids","MI","49505"]
["Siemens II","Charles Loft",null,"616-772-9011",null,null,null,null,"Michigan Sales Tax",null,"Siemens II","Attn:","2155 - 112th Ave.",null,null,"Holland","MI","49424"]
["Siemens Vai (Chevrette)","Jim Chevrette",null," 269-927-3591",null,null,null,null,null,null,"Siemens Vai","470 Paw Paw Ave.",null,null,null,"Benton Harbor","MI","49022",null,"Chevrette","Safety Contact",null,"Berrien"]
["Sierra Consultants (VerSluis)","David VerSluis",null," 800-769-7437",null," 616-678-5149","DVerSluis@sierraconsultants.net",null,null,"Kevin Chandler KChandler@sierraconsultants.net\nRKeller@sierraconsultants.net\nMet at MWEA Lagoon mtg. Bob Keller is Opns Specialist 616.560.0951","Sierra Consultants","91 South Main Street","PO Box 136",null,null,"Kent City","MI","49330","Mr.","VerSluis","President","Contractor EH&S","Kent"]
["Sietech (Kaufman)","Bill Kaufman",null,null,null,null,null,null,null,null,"Sietech",null,null,null,null,"Zeeland","MI",null,"Mr.","Kaufman",null,"Automotive","Out of State"]
["Signal Source, The (Day)","Rhett Day",null," 866-548-2331",null," 888-436-4277","rhett@thesignalsource.com",null,null,"Alarms supplier for fixed systems. Wife Laura.","Signal Source, The","PO Box 10330",null,null,null,"Palm Desert","CA","92255-0330","Mr.","Day","President","Supplier","Out of State"]
["Silbond Corporation (McLaughlin)","Carl McLaughlin",null," 517-436-9372",null," 517-436-6420","carl.mclaughlin@silbond.com",null,null,"Passed on info for UCL tanker access ladder and HLL systems.","Silbond Corporation","9901 Sand Creek Highway",null,null,null,"Weston","MI","49289","Mr.","McLaughlin","Industrial Relations Manager","Chemical Pharmaceutical","Lenawee"]
["Silver Bullet Firearms Indoor Range",null,"Rick Hansen","616-249-1911",null,null,null,null,null,null,"Silver Bullet Firearms Indoor Range","Attn:","5121 Division Ave S",null,null,"Grand Rapids","MI","49548"]
["Silver Bullet Firearms Indoor Range (Hans","Rick Hansen",null," 616-249-1911",null,null,null,null,null,null,"Silver Bullet Firearms Indoor Range","5121 Division Ave S",null,null,null,"Grand Rapids","MI","49548","Mr.","Hansen","Partner","Other","Kent"]
["Silver Lake State Park","Deb",null,"231-873-3083",null,"231-873-5905",null,null,"Non-Tax","02/22/2011:  Pete Lundborg has retired, Charlotte kiefer is new contact","Silver Lake State Park","Attn: Pete LundBorg","9679 West State Park Road",null,null,"Mears","MI","49436"]
["Silver Needle Inc. (Clapp)","Sue Clapp",null," 800-863-7733",null," 208-784-4971","sales@silverneedle.net",null,null,null,"Silver Needle Inc.","402 Main Street",null,null,null,"Kellogg","ID","83837","Ms.","Clapp","Customer service","Supplier","Out of State"]
["Silver Street, Inc. (Hardy)","Sarah Hardy",null," 231-861-2194",null," 231-861-6678","shardy@ssimediatechnologies.com",null,null,null,"Silver Street, Inc.","892 Industrial Park Dr.",null,null,null,"Shelby","MI","49455","Mrs.","Hardy","Office Manager","Media Technologies","Oceana"]
["Sintel Inc. (Penninga)","Dan Penninga",null," 616-842-6960 314",null," 616-842-0965","dpenninga@sintelinc.com",null,null,null,"Sintel Inc.","18437 171st Ave.",null,null,null,"Spring Lake","MI","49456",null,"Penninga","Manufacturing Manager","Metal Manufacturers","Ottawa"]
["SKC Inc. (Dietrich)","Debbie Dietrich",null," 800-752-3389"," 800-752-8472",null,"skcdebbie@aol.com",null,null,"Alt phone is HQ phone.","SKC Inc.","863 Valley View Road",null,null,null,"Eight Four","PA","15330","Ms.","Dietrich",null,"Supplier","Out of State"]
["Skyline Contractors, Inc.",null,null,"586-803-1745",null,"586-803-1746",null,null,"Michigan Sales Tax","Christian Walter - ext. 16 / Cell:  586-808-8285\n\nSabino Papasodaro ext. 11\n\nUPS Account# E60E98\n\nDenied terms 11/11 According to references they pay when they get paid average 72 days can be up to 6 months","Skyline Contractors, Inc.","Attn:Christian Walter","42778 Mound Road",null,null,"Sterling Heights","MI","48314"]
["Skyline Contractors, Inc. (Papasodaro)","Sabino Papasodaro",null," 586-803-1745 11",null," 586-803-1746","sabino@skylinecontractorsinc.com",null,null,null,"Skyline Contractors, Inc.","42778 Mound Road",null,null,null,"Sterling Heights","MI",null,"Mr.","Papasodaro",null,"Contractor General","Macomb"]
["SL Technologies, Inc.",null,null,"330-546-6444",null,"330-536-6445",null,null,"Out of State","Nancy Lin - cell: 330-629-9067\n","SL Technologies, Inc.","Attn:","5348 Kennedy Road",null,null,"Lowellville","OH","44436"]
["SLAC","Tu Ly",null,null,null,null,null,null,"Out of State",null,"SLAC","Attn: Tu Ly","2575 Sand Hill Rd.","Building 123 Rm 140B",null,"Menlo Park","CA","94025"]
["Slagter Construction","Jim Weissert",null,"616-877-0020",null,"v",null,null,"Use Tax Rental","accounts payable clerk Bill Wesela ph:616-877-0020\nfax:616-877-0030","Slagter Construction","Attn: Jim Weissert","1326  142nd Avenue",null,null,"Wayland","MI","49348"]
["Slagter Construction (O'Connor)","Andy O'Connor",null," 616-877-0020",null," 616-877-0030","andy@slagter.net",null,null,"Richard Christ","Slagter Construction","1326  142nd Avenue",null,null,null,"Wayland","MI","49348","Mr.","O'Connor","Safety & Compliance Manager","Contractor General","Allegan"]
["Slagter Construction (Weissert)","Jim Weissert",null," 616-877-0020",null," 616-877-0030",null,null,null,"Jim Brower mob 616.262.2224; Butch is yard man (stores)","Slagter Construction","1326  142nd Avenue",null,null,null,"Wayland","MI","49348","Mr.","Weissert","Project Manager","Contractor General","Allegan"]
["Slifco Electric","Paul Slifco",null,"586-306-0647","248.686.1468","248.479.0324","prslifco@slifcoelectric.com",null,"Michigan Sales Tax",null,"Slifco Electric","Attn: Paul Slifco","1904 Woodslee Drive",null,null,"Troy","MI","48083"]
["Smalley Construction","Sue Smalley",null,"231-757-4049",null,null,null,null,"Michigan Sales Tax",null,"Smalley Construction","Attn:","1742 W. US Hwy 10",null,null,"Scottville","MI","49454"]
["Smeltzer Orchard Co.","Mike Henschell","Jackie in accts payable","231-882-4421",null,"231-882-4430","accts.pay@smeltzerorchards.com",null,"Non-Tax","Judy accts payable","Smeltzer Orchard Co.","Attn: Mike Henschell","6032 Joyfield Road",null,null,"Frankfort","MI","49635"]
["Smeltzer Orchard Co. (Henschell)","Mike Henschell",null," 231-882-4421",null," 231-882-4430","mikeh@smeltzerorchards.com",null,null,"Birdwatcher; daughter in AZ","Smeltzer Orchard Co.","6032 Joyfield Road",null,null,null,"Frankfort","MI","49635","Mr.","Henschell","Production Manager","Food","Benzie"]
["Smith & Oby Co.","Ron Vranich",null,"216-361-5121",null,"216-361-1635",null,null,"Non-Tax",null,"Smith & Oby Co.","6107 Carnegie Ave.",null,null,null,"Cleveland","OH","44103"]
["Smith Brothers Contracting Inc.","Don Smith","Brian Smith","616-453-5750",null,"616-453-5119",null,null,"Michigan Sales Tax",null,"Smith Brothers Contracting Inc.","Attn:","0-209 Lake Michigan Drive NW",null,null,"Grand Rapids","MI","49503"]
["Smith Group Detroit","Zach Rusu",null,"313-442-8386",null,"313-983-3636",null,null,"Michigan Sales Tax",null,"Smith Group Detroit","Attn:","500 Griswold Suite 1700",null,null,"Detroit","MI","48226"]
["Smucker Bakery Manufacturing Inc.","Karen Eller",null,"419-470-7834","Ron Belagga4194707978",null,null,null,"Non-Tax",null,"Smucker Bakery Manufacturing Inc.","Attn: Karen Eller T10417","1250 Laskey Rd.",null,null,"Toledo","OH","43697"]
["Sobie Company (Austhof)","Jack Austhof",null," 616-698-9800",null," 616-698-0994",null,null,null,"DeVos Hall sub. Try ~7:30 am","Sobie Company","3276 Hanna Lake Industrial Drive",null,null,null,"Caledonia","MI","49316","Mr.","Austhof","Owner","Contractor General","Kent"]
["Soil and Material Engineering","A/P: Kim Looman","Alica Schlaudt","616-406-1756",null,"616-406-1749","looman@sme-usa.com",null,"Use Tax Rental","Casey Smith","Soil and Material Engineering","Attn:","4705 Clyde Park SW",null,null,"Grand Rapids","MI","49509"]
["Soils & Structures Inc.",null,"John Erickson","800-933-3959",null,"231-798-1383",null,null,"Michigan Sales Tax",null,"Soils & Structures Inc.","Attn: John Erickson","6480 Grand Haven Road",null,null,"Muskegon","MI","49441"]
["Soils and Structures Inc. (Erickson)","John Erickson",null," 800-933-3959 311",null," 231-798-1383","jerickson@soilsandstructures.com",null,null,"Dave Hohmeyer dhohmeyer@soilsandstructures.com (HFB proj)\nJason Bissonette (JCI proj)  Brian Mulcahy 231.206.1060","Soils and Structures Inc.","6480 Grand Haven Road",null,null,null,"Muskegon","MI","49441","Mr.","Erickson",null,"Engineering, Architecture","Muskegon"]
["SolEpoxy, Inc. (Groele)","Robert Groele",null," 716-372-6300 290",null," 716-372-6864","robert.groele@solepoxy.com",null,null,null,"SolEpoxy, Inc.","211 Franklin Street",null,null,null,"Olean","NY","14760","Mr.","Groele","VP Engineering","Manufacturer","Out of State"]
["Soroc Products (Myers)","Ken Myers",null," 616-281-4074"," 616-281-2430"," 616-281-4028",null,null,null,null,"Soroc Products","Byron Center Plant","70 - 84th Street",null,null,"Byron Center","MI","49315","Mr.","Myers","Facilities Manager",null,"Kent"]
["Soroc Products (Rostic)","Latarsha Rostic",null," 616-281-4055"," 616-281-2430"," 616-281-4028",null,null,null,null,"Soroc Products","Byron Center Plant","70 - 84th Street",null,null,"Byron Center","MI","49315","Ms.","Rostic","Buyer",null,"Kent"]
["SOS Engineering (Brett)","Brett",null," 616-846-5767",null,null,null,null,null,null,"SOS Engineering","1901 Hayes St.",null,null,null,"Grand Haven","MI","49417",null,"Brett","Vice President","Engineering/Surveying","Ottawa"]
["Soundcoat","Steve Brown",null,"631-242-2200 x152",null,"631-242-2246","sbrown@soundcoat.com",null,"Michigan Sales Tax",null,"Soundcoat","Attn: Steve Brown","1 Burt Drive",null,null,"Dear Park","NY","11729"]
["Soundoff Signal (Hansen)","Mike Hansen",null," 616-662-6146",null," 616-896-1226","mhansen@soundoffsignal.com",null,null,null,"Soundoff Signal","3900 Central Parkway",null,null,null,"Hudsonville","MI","49426","Mr.","Hansen","Plant Manager",null,"Ottawa"]
["Sourced Materials (Roberts)","Kim Roberts",null," 517-467-3010",null,null,"kim@sourcedmaterials.com",null,null,null,"Sourced Materials","6314 Springville Hwy",null,null,null,"Onsted","MI","49265","Ms.","Roberts",null,null,"Lenawee"]
["Sourced Materials (Terwilliger)","Jim Terwilliger",null," 517-467-3010",null," 517-467-3009","jim@sourcedmaterials.com",null,null,null,"Sourced Materials","6314 Springville Hwy",null,null,null,"Onsted","MI","49265","Mr.","Terwilliger",null,"Supplier","Clinton"]
["South Charleston Sanitary Board","accts payable Arnett Hoston 3047684140","Rodney Shaw",null,"304-767-5417","304-768-1639",null,null,"Non-Tax Municipality/Utility",null,"South Charleston Sanitary Board","Attn: Rodney Shaw","#1 Rockcrest Dr.",null,null,"South Charleston","WV","25309"]
["South Charleston Sanitary Board, City of","Rodney Shaw",null," 304-767-5417",null," 304-768-1639","pumpstationscsb@yahoo.com",null,null,"Arnett Hoston 304.768.4140","South Charleston Sanitary Board, City of","PO 8336","#1 Rockcrest Drive",null,null,"South Charleston","WV","25309","Mr.","Shaw",null,"Municipal, Cty","Out of State"]
["South Charleston Sanitary Board, City of","Rodney Shaw",null," 304-767-5417"," 304-767-5417"," 304-768-1639","pumpstationscsb@yahoo.com",null,null,"Arnett Hoston 304.768.4140","South Charleston Sanitary Board, City of","PO 8336","#1 Rockcrest Drive",null,null,"South Charleston","WV","25309","Mr.","Shaw",null,"Municipal, Cty","Out of State"]
["South Charleston Sanitary Board, City of","Rodney Shaw",null," 304-767-5417"," 304-767-5417"," 304-768-1639","pumpstationscsb@yahoo.com",null,null,"Arnett Hoston 304.768.4140","South Charleston Sanitary Board, City of","PO 8336","#1 Rockcrest Drive",null,null,"South Charleston","WV","25309","Mr.","Shaw",null,"Municipal, Cty","Out of State"]
["South Haven Area Emergency Services (Wise","Ron Wise",null," 616-637-5151",null," 616-637-9346","rwise@shaes.org",null,null,null,"South Haven Area Emergency Services","90 Blue Star Highway","539 Phoenix",null,null,"South Haven","MI","49090",null,"Wise",null,"Fire Department","Van Buren"]
["South Haven Charter Township (Stein)","Ross Stein",null," 269-637-3305",null," 269-637-6250",null,null,null,null,"South Haven Charter Township","09761 Blue Star Memorial Highway",null,null,null,"South Haven","MI","49090","Mr.","Stein","Supervisor",null,"Kenowa"]
["South Haven DPW, City of","Kim Rawlings",null,"269-637-0737",null,"269-637-4778",null,null,"Non-Tax Municipality/Utility",null,"South Haven DPW, City of","Attn:Henry Compton","1199 - 8th Ave",null,null,"South Haven","MI","49090"]
["South Haven DPW, City of (Compton)","Henry Compton",null," 269-637-0731",null," 269-637-4778","hcompton@south-haven.com",null,null,"showed PPE interested in gripsters, said to see Ron about polar gloves","South Haven DPW, City of","1199  8th Avenue",null,null,null,"South Haven","MI","49090-1499","Mr.","Compton",null,"Municipal, Cty","Van Buren"]
["South Haven DPW, City of (Dissette)","Brian Dissette",null," 269-637-0719",null," 269-637-4778","bdissette@south-haven.com",null,null,null,"South Haven DPW, City of","1199  8th Avenue",null,null,null,"South Haven","MI","49090-1499","Mr.","Dissette","Asst. City Mgr",null,"Van Buren"]
["South Haven DPW, City of (Dotson)","Ron Dotson",null," 269-637-0730",null," 269-637-4778","rdotson@south-haven.com",null,null,null,"South Haven DPW, City of","1199  8th Avenue",null,null,null,"South Haven","MI","49090-1499","Mr.","Dotson","Public Works Ops Mgr",null,"Van Buren"]
["South Haven DPW, City of (Huff)","Roger Huff",null," 269-637-0719",null," 269-637-4778","rhuff@south-haven.com",null,null,null,"South Haven DPW, City of","1199  8th Avenue",null,null,null,"South Haven","MI","49090-1499","Mr.","Huff","Director","Municipality","Van Buren"]
["South Haven DPW, City of (Rawlings)","Kim Rawlings",null," 269-637-0737",null," 269-637-4778","krawlings@south-haven.com",null,null,null,"South Haven DPW, City of","1199  8th Avenue",null,null,null,"South Haven","MI","49090-1499","Ms.","Rawlings","Administrative Assistant","Municipal, Cty","Van Buren"]
["South Haven Finishing (Ellison)","Eric Ellison",null," 269-937-2047",null," 269-637-9292",null,null,null,null,"South Haven Finishing","1610 Stieve Dr.",null,null,null,"South Haven","MI","49090","Mr.","Ellison","President","Manufacturer","Van Buren"]
["South Haven Water Filtration, City of (Ni","Duane Ninke",null,null,null,null,null,null,null,"Met with Duane awhile back, they","South Haven Water Filtration, City of",null,null,null,null,"South Haven","MI","49090","Mr.","Ninke","Supervisor","Municipal, Cty","Van Buren"]
["South Haven WWTP, City of","Dave Mulac","Forrest Boothe","269-637-0716",null,"269-639-2048",null,null,"Non-Tax",null,"South Haven WWTP","Attn: Forrest Boothe","539 Phoenix Street",null,null,"South Haven","MI","49090-1499"]
["South Haven WWTP, City of (Mulac)","Dave Mulac",null," 269-637-0716",null," 269-639-8034",null,null,null,"\nBob Kelmhoffer mob 269.214.0371 \nPeter Sorenson gone to water plant. Tom Teed succeeding him.Richard Wagner;","South Haven WWTP, City of","539 Phoenix Street",null,null,null,"South Haven","MI","49090-1499","Mr.","Mulac","Superintendent","Municipal, Cty","Van Buren"]
["South Haven WWTP, City of (Teed)","Tom Teed",null," 269-637-0717",null," 269-639-2048","tteed@south-haven.com",null,null,null,"South Haven WWTP, City of","539 Phoenix Street",null,null,null,"South Haven","MI","49090-1499","Mr.","Teed","Maintenance Technician",null,"Van Buren"]
["South West Michigan Dust Control",null,null,null,null,null,null,null,"Michigan Sales Tax",null,"Attn: Jim Kasishke/SW MI Dust Control","c/o Entergy","27780 Blue Star HEY",null,null,"Covert","MI","49043"]
["Southern Contractors","Stephen Young",null,"270-604-0769 cell",null,null,null,null,"Michigan Sales Tax",null,"Southern Contractors","Stephen Young","1609 Corum Landing Rd",null,null,"Drakesboro","KY","42337"]
["Southfield Fire Department, City of (Sche","Rick Scheich",null,null,null,null,"rscheich@cityofsouthfield.com",null,null,null,"Southfield Fire Department, City of","244477 Lahser Road",null,null,null,"Southfield","MI","48033",null,"Scheich",null,"Fire Department","Oakland"]
["Southwestern Michigan Dust Control (Kasis","Jim Kasishke",null," 269-521-7638",null,null,"jkasi90@entergy.com",null,null,null,"Southwestern Michigan Dust Control","110 East Spring Street",null,null,null,"Bloomingdale","MI","49026","Mr.","Kasishke",null,"Contractor General","Allegan"]
["Spanco (Albright)","Mike Albright",null," 800-869-2080",null," 610-286-0085","malbright@spanco.com",null,null,"George Nolan\nArnie Galpin young engineer agalpin@spanco \nAdam Ballester x113  aballester@spanco.com\nTy Anderson tanderson@spanco.com\nBill Quigley rep off 330.666.8514  mob 330.338.8514 quigwm@adelphia.net\nLiz oper is great\nLynn DeLong x114 Material Handling","Spanco","604 Hemlock Road",null,null,null,"Morgantown","MI","19543","Mr.","Albright",null,"Supplier","Out of State"]
["Spanco (Morgantown)","Arnie Galpin",null,null,null,null,null,null,"Out of State",null,"Spanco (Morgantown)","Attn: Arnie Galpin","604 Hemlock Rd.",null,null,"Morgantown","PA","19543"]
["Sparrow Hospital","Andrea Vougt",null,"517-364-2521",null,"517-485-1249",null,null,"Non-Tax",null,"Sparrow Health System","Attn: Andrea Vougt","1322 E. Michigan Medical Arts Bldg.",null,null,"Lansing","MI","48909"]
["Sparrow Hospital (Voogt)","Andrea Voogt",null," 517-364-2521",null," 517-485-1249","andrea.voogt@sparrow.org",null,null,null,"Sparrow Hospital","Sparrow Health System Medical Arts Bld.","1322 E. Michigan",null,null,"Lansing","MI","48909","Ms.","Voogt","Safety Manager","Hospital, Health Care","Ingham"]
["Sparta Department of public Works, City o","Randy Carter",null," 616-887-8711",null," 616-887-1114",null,null,null,null,"Sparta Department of public Works, City o","276 W. Division",null,null,null,"Sparta","MI","49345","Mr.","Carter","Water Superintendant","Municipal, Cty","Kent"]
["Sparta DPW","Miles Ring",null,"616-8879301",null,null,null,null,"Michigan Sales Tax",null,"Sparta DPW","Attn: Miles Ring","276 W. Division",null,null,"Sparta","MI","49345"]
["Spartan Specialties Ltd.",null,"Keith Malmgren","586-826-8699","586-419-9040 cell","586-826-8699",null,null,"Michigan Sales Tax",null,"Spartan Specialties Ltd.","Attn:","6250 Sims Drive",null,null,"Sterling Heights","MI","48313"]
["Spartan Stores, Inc. (Behrend)","Chuck Behrend",null," 616-878-8630",null," 616-878-2769","chuck_behrend@spartanstores.com",null,null,null,"Spartan Stores, Inc.","850 - 76th Street, SW","PO Box 8700",null,null,"Grand Rapids","MI","49518-8700","Mr.","Behrend","Director of Safety and Food Sa","Food","Kent"]
["Spartan Stores, Inc. (Sens)","Mark Sens",null," 616-878-8630",null," 616-878-2769","mark_sens@spartanstores.com",null,null,"Quote inexpensive SLM","Spartan Stores, Inc.","850 - 76th Street, SW","PO Box 8700",null,null,"Grand Rapids","MI","49518-8700","Mr.","Sens","Safety Manager","Food","Kent"]
["Specialized Demolition (Van Der Hulst)","Dan Van Der Hulst",null," 269-751-4452",null," 269-751-2538","specializeddemo@charternet.com",null,null,null,"Specialized Demolition","3641 38th Street",null,null,null,"Hamilton","MI","49419","Mr.","Van Der Hulst","Owner","Contractor General","Allegan"]
["Specialty Heat Treating, Inc. (Smidt)","Josh Smidt",null," 616-399-6880",null,null,null,null,null,null,"Specialty Heat Treating, Inc.","3270 John F Donnelly Dr",null,null,null,"Holland","MI","49424","Mr.","Smidt","Safety Director","Manufacturer","Ottawa"]
["Spencer Township Fire Dept","Paul Lotterman",null,"616-984-2200",null,null,null,null,"Non-Tax",null,"Spencer Township Fire Dept","Attn:","12131 - 18 Mile Road",null,null,"Gowen","MI","49326","Mr","Lotterman"]
["Sperian Soll (Carson)","Jeff Carson",null," 800-325-6746 1027",null," 814-437-6711","jcarson@sperianprotection.com",null,null,"-40% for Rail Systems\n-35% for MultiRail, through Advanced\nRon Bobbick,  Gary Wagner,  Becky Lauer, Lane Verschure","Sperian Soll","1345 15th Street","PO Box 271",null,null,"Franklin","PA","16323","Mr.","Carson","Systems/Structural Engineer","Supplier","Out of State"]
["Spi Pharma, Inc.",null,"Laura Patton","616-935-6900",null,"616-935-6939",null,null,"Non-Tax",null,"Spi Pharma, Inc. PO#120106","Attn: Laura Patton","1711 Tiles Ct.",null,null,"Grand Haven","MI","49417"]
["Spi Pharma, Inc. (Fischer)","Lisa Fischer",null," 616-935-6922",null,null,null,null,null,"Met with Laura on 6.23.09\n-very nice young lady, had needs , but they were few and far in between\nquoted and advised on current needs","Spi Pharma, Inc.","1711 Tiles Ct.",null,null,null,"Grand Haven","MI","49417","Mrs.","Fischer","EH&S","Pharmaceutical","Ottawa"]
["Spi Pharma, Inc. (Patton)","Laura Patton",null," 616-935-6900",null," 616-935-6939","lpatton@spipharma.com",null,null,"Left card an dline card for LIsa today\nLisa is no longer with Bayer,she went back to SPI Pharma","Spi Pharma, Inc.","1711 Tiles Ct.",null,null,null,"Grand Haven","MI","49417","Ms.","Patton","Safety Director","Pharmaceutical Raw Goods Proce","Ottawa"]
["Spring Lake DPW, Village of","Doug Whitley","616-638-6475 Cell Tim","616-842-1393","638-6470 Cell Doug",null,null,null,"Non-Tax Municipality/Utility",null,"Spring Lake DPW, Village of","Attn:  Ben VanHoven","210 South Buchanan St.",null,null,"Spring Lake","MI","49456"]
["Spring Lake DPW, Village of (Hanson)","John Hanson",null," 616-842-1393",null," 616-847-1393","john@springlakevillage.org",null,null,null,"Spring Lake DPW, Village of","102 West Savidge Street",null,null,null,"Spring Lake","MI","49456","Mr.","Hanson","Asst. Village Mgr","Municipal, Cty","Ottawa"]
["Spring Lake DPW, Village of (Parrella)","Kathy Parrella",null," 616-842-1393",null," 616-847-1393",null,null,null,null,"Spring Lake DPW, Village of","102 West Savidge Street",null,null,null,"Spring Lake","MI","49456","Ms.","Parrella","Receptionist","Municipal, Cty","Ottawa"]
["Spring Lake DPW, Village of (Whitley)","Douglas Whitley",null," 616-842-1393",null," 616-847-1393",null,null,null,"Ty Inso, Tim Cuddington\nHas old GX82","Spring Lake DPW, Village of","102 West Savidge St.",null,null,null,"Spring Lake","MI","49456","Mr.","Whitley","Foreman DPW","Municipal, Cty","Ottawa"]
["Spring Lake Parks & Cemetery (Schindlbeck","Eric Schindlbeck",null," 616-846-6511",null,null,null,null,null,null,"Spring Lake Parks & Cemetery","17181 N. Fruitport Rd.",null,null,null,"Spring Lake","MI","49456","Mr.","Schindlbeck","Superintendent","Parks & Rec. Maint.","Ottawa"]
["Spring Lake Township DPW","Ron Brondyke / Jeremy Statler",null,"616-846-2422 office","616-402-1670 cell","616-842-1546",null,null,"Non-Tax Municipality/Utility","Orders over $500 must have a po#","Spring Lake Township DPW","Jeremy Statler","106 South Buchanan St.",null,null,"Spring Lake","MI","49456","Mr.","Brondyke"]
["Spring Lake Township DPW (Brondyke)","Ron Brondyke",null," 616-846-2422",null," 616-842-1546","rbrondyke@springlaketwp.org",null,null,"Eric Schindlbeck is Parks and Cemetery Super\n-616.638.0120\n-met today, as usual, very nice people\nQuote CSE equipment. Also met Kevin Wierenga\nNew Gas Detection will be in budget soon.  \nWaiting on certain PPE quotes to come back with PO's\nNo orders to be taken w/out Ron's approval and a PO number from this point forward","Spring Lake Township DPW","106 S. Buchanan Street",null,null,null,"Spring Lake","MI","49456","Mr.","Brondyke",null,"Municipal, Cty","Ottawa"]
["Spring Meadows Nursery (Berner)","Gail Berner",null," 616-846-4729",null,null,"gail@springmeadownursery.com",null,null,null,"Spring Meadows Nursery","12601 120th Ave.",null,null,null,"Grand Haven","MI","49417","Mr.","Berner","Safety Buyer","Nursery","Ottawa"]
["SPX Contech (Devers)","Harold Devers",null," 989-463-6166 119",null," 989-463-2805","harold.devers@contech.spx.com",null,null,"Bought something else.\nMSC lead for Micro.","SPX Contech","205 North Grover Street",null,null,null,"Alma","MI","48801","Mr.","Devers","Safety and Training","Manufacturer","Gratiot"]
["St. John Truck & Trailer Service (Noppert","Brian Noppert",null," 231-798-1069",null," 231-798-1084","briann@stjohntruck.com",null,null,null,"St. John Truck & Trailer Service","5815 Grand Haven Rd.",null,null,null,"Muskegon","MI","49441","Mr.","Noppert","Manager",null,"Muskegon"]
["St. John-Mittelhauser & Assoc",null,"Mike Bennett x-206","618-216-3434",null,"618-216-3438","mikeb@st-ma.com",null,"Out of State","Additional contacts:\n\nMike Bennett: Cell 618-581-7107","St. John-Mittelhauser & Assoc","Attn: Mike Bennett","201 East Hawthorne Street",null,null,"Hartford","IL","62048"]
["St. John-Mittelhauser & Associates (Benne","Michael Bennett",null," 618-216-3434 206",null," 618-216-3438","mikeb@st-ma.com",null,null,"201 E. Hawthorne St., Hartford, IL 62048","St. John-Mittelhauser & Associates","201 East Hawthorne Street",null,null,null,"Hartford","IL","62018","Mr.","Bennett","Field Manager","Contractor EH&S","Out of State"]
["St. Joseph Parks, City of (Dickey)","Rory Dickey",null," 269-983-6341",null," 269-983-9875",null,null,null,null,"St. Joseph Parks, City of","700 Broad Street",null,null,null,"St. Joseph","MI","49085-1206","Mr.","Dickey","Superintendent","Municipal, Cty","Berrien"]
["St. Joseph Riverview Cemetery, City of (F","William Fryer",null," 269-429-0021",null,null,null,null,null,null,"St. Joseph Riverview Cemetery, City of","620 Broad Street",null,null,null,"St. Joseph","MI","49085-1206","Mr.","Fryer","Superintendent","Municipal, Cty","Berrien"]
["St. Joseph Streets & Sanitation, City of","Danny Patrick",null," 269-983-6341",null," 269-983-9875",null,null,null,null,"St. Joseph Streets & Sanitation, City of","700 Broad Street",null,null,null,"St. Joseph","MI","49085-1206","Mr.","Patrick","Superintendent","Municipal, Cty","Berrien"]
["St. Joseph Streets & Sanitation, City of","Danny Patrick",null," 269-983-6341",null," 269-983-9875",null,null,null,null,"St. Joseph Streets & Sanitation, City of","700 Broad Street",null,null,null,"St. Joseph","MI","49085-1206","Mr.","Patrick","Superintendent","Municipal, Cty","Berrien"]
["St. Joseph Streets & Sanitation, City of","Danny Patrick",null," 269-983-6341",null," 269-983-9875",null,null,null,null,"St. Joseph Streets & Sanitation, City of","700 Broad Street",null,null,null,"St. Joseph","MI","49085-1206","Mr.","Patrick","Superintendent","Municipal, Cty","Berrien"]
["St. Joseph Water & Sewer, City of (Burand","Craig Burandt",null," 269-983-6341",null," 269-983-9875",null,null,null,null,"St. Joseph Water & Sewer, City of","700 Broad Street",null,null,null,"St. Joseph","MI","49085-1206","Mr.","Burandt","Superintendent","Municipal, Cty","Berrien"]
["St. Joseph Water Plant, City of (O'Malley","Michael O'Malley",null," 269-983-1240",null," 269-982-1089","returned",null,null,null,"St. Joseph Water Plant, City of","700 Broad Street",null,null,null,"St. Joseph","MI","49085","Mr.","O'Malley","Water Plant Superintendent","Municipal, Cty","Berrien"]
["St. Louis DPW, City of (Abbott)","Mark Abbott",null,null,null,null,null,null,null,null,"St. Louis DPW, City of",null,null,null,null,"St. Louis","MI",null,"Mr.","Abbott","Superintendent","Municipal, Cty","Gratiot"]
["St. Louis Water & WWTP, City of (Mepham)","Steven Mepham",null," 989-681-3567",null,null,null,null,null,null,"St. Louis Water & WWTP, City of","401 Prospect",null,null,null,"St. Louis","MI",null,"Mr.","Mepham","Superintendent","Municipal, Cty","Gratiot"]
["St. Mary's Cement (Kennealy)","Thomas Kennealy",null," 616-846-8553",null,null,"txkennealy@vcsmc.com",null,null,null,"St. Mary's Cement","555 West Second St.",null,null,null,"Ferrysburg","MI","49409",null,"Kennealy","Terminal Manager","Sand/Cement/Trucking","Ottawa"]
["St. Mary's Concrete (Gooding)","Barry Gooding",null,"(231) 547-9971",null," 231-547-6202","bdgooding@vcsmc.com",null,null,null,"St. Mary's Concrete","16000 Bell Bay Road",null,null,null,"Charlevoix","MI","49720","Mr.","Gooding","Electrical Suppervisor","Other","Charelvoix"]
["St. Marys Cement Inc.","Derrick Beaven",null,"231-237-1334",null,"231-606-4231",null,null,"Non-Tax","A/P Delores Almuenda 416.696.4427","St. Marys Cement Inc.","Attn:","16000 Bells Bay Road",null,null,"Charlevoix","MI","49720"]
["St. Paul Travellers, The (Allen)","Steve Allen",null," 616-874-2808",null," 616-874-3267","steve-k.allen@stpaul.com",null,null,null,"St. Paul Travellers, The","10200 Ramsdell Drive NE",null,null,null,"Rockford","MI","49341","Mr.","Allen","Sr. Risk Control Consultant","Insurance","Kent"]
["Stanco Safety Products (McDuff)","Andrea McDuff",null," 800-348-1148 12",null," 903-796-7492","amcduff@stancomfg.com",null,null,"Mark Stanley  903-452-2545 mob  Natl Sales Mgr; \nAdam Richardson, Cust Svc Mgr\nDenise Latham, Cust Svc\nDonna, Cust Svc","Stanco Safety Products","PO Box 1148",null,null,null,"Atlanta","TX","75551","Ms.","McDuff","Accounting","Supplier","Out of State"]
["Standard Sand","Brad Chittenden","Tony(F) 815-431-8672","616-842-5080 x2",null,"616-847-2141","tony is at accts pay Fairmount",null,"Michigan Sales Tax",null,"Standard Sand","14201 Lake Shore",null,null,null,"Grand Haven","MI","494417"]
["Stanley Steemer (Dougherty)","Chris Dougherty",null," 616-878-7575",null," 616-878-0527","chris.dougherty@steemer.com",null,null,null,"Stanley Steemer","8225 Pfeiffer Farms Drive, Suite 500",null,null,null,"Byron Center","MI","49315","Mr.","Dougherty","Operations Manager","Contractor General","Kent"]
["Stanley Steemer Great Lakes","Chris Dougherty",null,"616-531-3434",null,null,null,null,"Michigan Sales Tax",null,"Stanley Steemer Great Lakes","Attn: Chris Dougherty","900- 47th St. SW","Suite D",null,"Wyoming","MI","49509"]
["Stantec","Jeremy Rasmussen",null,"517-349-9499 x-231","cell 517-202-7633","517-349-6863","jeremy.rasmussen@stantec.com",null,"Michigan Sales Tax","Jeremy's CC is 4300-2300-9910-2685 exp 06/14\nbill to is home add: 1590 Daley Rd. Lapeer, MI 48446","Crowne Plaza Hotel Cleveland South","Attn: Guest Jeremy Rasmussen, Stantec","5300 Rockside Rd",null,null,"Independence","OH","44131"]
["Star Crane & Hoist, Inc. (Derks)","Craig Derks",null," 616-892-5500",null," 892-550-3",null,null,null,null,"Star Crane & Hoist, Inc.","11340 54th Ave.",null,null,null,"Allendale","MI","49401","Mr.","Derks","Safety",null,"Ottawa"]
["Star Excavating, Inc. (Busscher)","Roger Busscher",null," 616-396-1100",null," 616-396-4552",null,null,null,null,"Star Excavating, Inc.","110 Sycamore",null,null,null,"Holland","MI","49423","Mr.","Busscher","President","Contractor, Excavator","Ottawa"]
["Starboard, Inc. (Freeman)","Joe Freeman",null," 989-362-4419 193",null," 989-362-1880","jfreeman@starboardind.com",null,null,null,"Starboard, Inc.","935 Aulerich Road",null,null,null,"East Tawas","MI","48730","Mr.","Freeman",null,"Automotive","Iosco"]
["State of Michiagan, MIOSHA","Mark Pedo",null,"616-447-2650",null,null,null,null,"Michigan Sales Tax",null,"State of Michiagan, MIOSHA","Attn: Mark Pedo","2942 Fuller Ave",null,null,"Grand Rapids","MI","49505"]
["State of Michigan Dept. of Corrections (C","Steve Card",null," 616-527-2500 232",null,null,"cardstf@michigan.gov",null,null,null,"State of Michigan Dept. of Corrections","1342 West Main",null,null,null,"Ionia","MI","48846","Mr.","Card",null,"State","Ionia"]
["Stateline Farms","Chris McCallister",null,"419-923-7355",null,"419-923-3278",null,null,"Michigan Sales Tax",null,"Stateline Farms","Attn: Chris McCallister","1-12838 State Hwy 120",null,null,"Lyons","OH","43533"]
["Stearns Drilling",null,"Larry Herron",null,"616-698-7770",null,null,null,"Michigan Sales Tax",null,"Stearns Drilling","Attn: Joe Stearns","6974 Hammond SE","616-698-7770",null,"Dutton","MI","49316"]
["Stearns Drilling (Herron)","Larry Herron",null," 616-698-7770",null," 616-698-9886","larry@stearnsdrilling.com",null,null,"Handles Gas Detection. Has Eagle. Likes Micro.","Stearns Drilling","6974 Hammond SE",null,null,null,"Dutton","MI","49316","Mr.","Herron","Project Manager","Contractor, Excavator","Kent"]
["Stearns Drilling (Stearns)","Joe Stearns",null," 616-698-7770",null," 616-698-9886","joe@stearnsdrilling.com",null,null,"Joe handles ppe, resp'y protn, fall, etc.","Stearns Drilling","6974 Hammond SE",null,null,null,"Dutton","MI","49316","Mr.","Stearns","President","Contractor, Excavator","Kent"]
["Steel Forming Systems (Harms)","Jean Harms",null," 616-844-9982",null,null,null,null,null,null,"Steel Forming Systems","14170 172nd Ave.",null,null,null,"Grand Haven","MI","49417",null,"Harms","Human Resources",null,"Ottawa"]
["Steel Supply & Engineering","Roy Lorenz",null,"616-452-3281","616-498-7792 Cell","616-452-8493",null,null,"Michigan Sales Tax",null,"Steel Supply & Engineering","Attn:","2020 Newark SE",null,null,"Grand Rapids","MI","49507"]
["Steel Supply & Engineering (SS&E) (Scheul","Jim Scheuler",null," 616-452-3281 114",null," 616.452-8493","jims@steelsupplyengineering.com",null,null,"Elliot is salesman to","Steel Supply & Engineering (SS&E)","2020 Newark SE",null,null,null,"Grand Rapids","MI","49507","Mr.","Scheuler","General Manager","Contractor General","Kent"]
["Steel Technologies (Canton)","Karen Harris","Dan Rubino","734-397-3500",null,"734-397-2586",null,null,"Non-Tax","Steel Technologies has multiple branches all get billed to the ship to add. Tax exempt in Indiany, Ky, maryland, MI, OH, N. Carolina, S. Carolina","Steel Technologies","Attn:Rob Miklavcic","5501 Belleville Road",null,null,"Canton","MI","48188"]
["Steel Technologies Inc.(Louisville)","Karen Harris",null,"502-245-2110",null,null,null,null,"Non-Tax","Steel Technologies has multiple branches all get billed to the ship to add. Tax exempt in Indiany, Ky, maryland, MI, OH, N. Carolina, S. Carolina","Steel Technologies Inc.","Attn: Karen PO# 09-0134","15415 Shelbyville Rd.",null,null,"Louisville","KY","40245"]
["Steelcase (Caledonia)","Barbara Goodspeed",null,"616-248-7223",null,null,null,null,"Michigan Sales Tax","cell for Laura 616.291.6104 | lbulkows@steelcase.com","SEE NOTES For Delivery","Laura Bulkowski"]
["Steelcase (Desk Systems Plant)","Ken Ladner",null,"616-475-2269",null,null,null,null,"Michigan Sales Tax",null,"Steelcase","Desk Systems Plant","901 - 44th Street","Mail Code: Ken Ladner DP-F1",null,"Grand Rapids","MI","49508"]
["Steelcase (Kentwood East)","Tom Nichols",null,null,null,null,null,null,"Non-Tax",null,"Steelcase (Kentwood East)","Door 1009","6100 E. Paris SE",null,null,"Caledonia","MI","49501"]
["Steelcase (Safety Dept.)","Tim Martin",null,"616-247-3190","616-564-5858","616-475-2085",null,null,"Michigan Sales Tax",null,"Steelcase","Attn: Tim Martin","901 - 44th Street",null,null,"Grand Rapids","MI","49508","Mr.","Martin"]
["Steelcase Inc. (Becker)","Brian M. Becker",null," 616-698-1409",null," 616-475-2085","bbecker@steelcase.com",null,null,null,"Steelcase Inc.","901  44th Street  CH-2E-04","PO Box 1967",null,null,"Grand Rapids","MI","49501-1967","Mr.","Becker","Sr. Health and Safety Consulta","Furniture","Kent"]
["Steelcase Inc. (Boreham)","Lisa Boreham",null," 616-698-5181",null," 616-698-3775","lboreham@steelcase.com",null,null,null,"Steelcase Inc.","Kentwood West Plant","4360--52nd Street S.E.",null,null,"Kentwood","MI","49508","Ms.","Boreham","Sr. Health and Safety Engineer","Furniture","Kent"]
["Steelcase Inc. (Channer)","Maren Channer",null," 616-554-4426",null,null,"mchanner@steelcase.com",null,null,"Ron left Steelcase 2009. new phone 616.891.7828","Steelcase Inc.",null,null,null,null,"Grand Rapids","MI",null,"Ms.","Channer",null,"Furniture","Kent"]
["Steelcase Inc. (Iacovone)","John Iacovone",null," 616-246-4887",null,null,"jiacovon@steelcase.com",null,null,null,"Steelcase Inc.","6100 East Paris Avenue KD-F1",null,null,null,"Caledonia","MI","49316","Mr.","Iacovone","Sr. Health and Safety Engineer","Furniture","Kent"]
["Steelcase Inc. (Kentwood West)","Lisa Boreham",null,"616-698-5181",null,"616-698-3775",null,null,"Michigan Sales Tax",null,"Steelcase Inc.","Attn: Lisa Boreham","Kentwood West Plant","4360 - 52nd Street SE",null,"Grand Rapids","MI","49508"]
["Steelcase Inc. (Ladner)","Ken Ladner",null," 616-475-2269",null,null,"kladner@steelcase.com",null,null,null,"Steelcase Inc.","Desk Plant","901 - 44th Street","Mail Code: Ken Ladner DP-F1",null,"Grand Rapids","MI","49508","Mr.","Ladner",null,"Furniture","Kent"]
["Steelcase Inc. (Martin)","Tim Martin",null," 616-247-3190",null," 616-475-2085","tmartin5@steelcase.com",null,null,"Three fired due to MWSP:\n  John Parente -- now with Pat Knight\n  Jeff Taylor -- Magna Donnelly\n  Curt Huggins -- Bradford White\nQuote 6-unit BW swap-out.\nSSI has new blanket; Mears has safety shoes\nNew Corp. Structure 7.1.08\nCorporate H & S  Karleen St","Steelcase Inc.","PO Box 1967","Mail Code: GH-2E-04",null,null,"Grand Rapids","MI","49501-1967","Mr.","Martin","Sr. Industrial Hygienist","Furniture","Kent"]
["Steelcase Inc. (Nichols)","Tom Nichols",null," 616-247-2988",null," 616-698-5311","tnichols@steelcase.com",null,null,null,"Steelcase Inc.","Kentwood East Plant","6100 E. Paris, SE",null,null,"Caledonia","MI",null,"Mr.","Nichols","Facilities Engineer","Furniture","Kent"]
["Steelcase Inc., Details (Channer)","Steve Channer",null," 616-554-4403",null," 616-554-4450","schanner@steelcase.com",null,null,null,"Steelcase Inc., Details","6100 East Paris Avenue CD-5E",null,null,null,"Caledonia","MI","49316","Mr.","Channer",null,"Furniture","Kent"]
["Steeltech Ltd.",null,"Luke LeDoux","616-243-7920","616-889-7783","616-243-0091",null,null,"Michigan Sales Tax",null,"Steeltech Ltd.","Attn:","1251 Phillips Avenue SW",null,null,"Grand Rapids","MI","49507"]
["Steeltech Ltd. (Schuetz)","Greg Schuetz",null," 616-243-7920",null," 616-243-0091","lledoux@steeltechltd.com",null,null,"Luke LeDoux gone\nGreg Mertz, Purch","Steeltech Ltd.","1251 Phillips Avenue SW",null,null,null,"Grand Rapids","MI","49507","Mr.","Schuetz",null,"Steel","Kent"]
["Steenland Insurance Agency (Steenland)","Beth Steenland",null," 616-784-3322 17",null," 616-784-9977","beth@steenland.com",null,null,"Mark, husband\nBeth Krolewicz","Steenland Insurance Agency","975    3 Mile Rd NW",null,null,null,"Grand Rapids","MI","49544","Mrs.","Steenland",null,"Insurance","Kent"]
["Steingass Mechanical","Mike Steingass",null,"330-725-6090",null,"330-725-1442",null,null,"Out of State",null,"Steingass Mechanical","Attn:","754 Progress Drive",null,null,"Medina","OH","44256"]
["Stelter & Brinck","Jerry Sebald",null,"513-367-9300 x118",null,null,null,null,"OH Hamilton Co",null,"Stelter & Brinck","Attn:","201 Sales Ave.",null,null,"Harrison","OH","45030"]
["Sterile Systems Medtronic (Giraud)","Scott Giraud",null," 800-875-5560",null," 616-643-5292",null,null,null,"Call after 12.1.04 for Vapor Lab","Sterile Systems Medtronic","520 Watson SW",null,null,null,"Grand Rapids","MI","49504","Mr.","Giraud",null,"Chemical Pharmaceutical","Kent"]
["Steris (Minneapolis)","P Szemacs",null,"440-392-7933",null,null,null,null,"Out of State","Debbie Melvin A/P","Steris Corporation","Attn: PO# C1152491","380  90th Ave. N.W.",null,null,"Minneapolis","MN","55433"]
["Steris Isomedix Corporation (Coon Rapids)",null,null,"763-786-2929",null,null,null,null,"Out of State",null,"Steris Isomedix Corporation (Coon Rapids)","Attn:","380 90th Ave NW",null,null,"Coon Rapids","MN","55433"]
["Steris Isomedix Corporation (Emerich)","Ronald Emerich",null," 440-392-7584",null," 440-392-7914","ronald_emerich@steris.com",null,null,"Met at 2010 AIHCe\nChris Bumgarner Proj Mntc Tech Grand Prairie\nDan Swanson Regl Facilities / Mntc Mgr (GP) 847.247.0970  dan_swanson@steris.com\nJerry Dzwierzynski Dir. Engg / Facilities (GP)","Steris Isomedix Corporation","5960 Heisley Road",null,null,null,"Mentor","OH","44060","Mr.","Emerich","Health, Safety & Environment M","Chemical Pharmaceutical","Out of State"]
["Steris Isomedix Corporation (Jackson)","David Jackson",null," 440-392-8058",null," 440-392-7914","davjacks@steris.com",null,null,"DJ\ncall Ron Emerich 440.392.7948 HSE Manager vacn; rtns 1.3.06","Steris Isomedix Corporation","6100 Heisley Road",null,null,null,"Mentor","OH","44060","Mr.","Jackson",null,"Chemical Pharmaceutical","Out of State"]
["Steris Isomedix Corporation (Mentor)",null,"David Jackson","440-392-7594","cell: 440-413-8681","440-392-7914",null,null,"OH Lake Co",null,"Steris Corporation (Mentor)","Attn: David Jackson","9260 Progress Parkway",null,null,"Mentor","OH","49060"]
["Steris Isomedix Corporation (Spartanburg)","Ron Emerich",null,"864-582-3041",null,null,null,null,"Michigan Sales Tax",null,"Steris Isomedix Corporation (Spartanburg)","Attn:Tom Dempsey","2072 Southport Rd.",null,null,"Spartanburg","SC","29306"]
["Steris Isomedix Services, Inc. (Zirngible","Michelle Zirngible",null," 763-786-2929 49103",null,null,"Michelle_Zirngible@steris.com",null,null,null,"Steris Isomedix Services, Inc.","380  90th Avenue NW",null,null,null,"Minneapolis","MN","55433","Ms.","Zirngible","Plant Manager","Manufacturer","Out of State"]
["Sterling (Miscik)","Greg Miscik",null," 317-535-1317",null," 317-535-2743",null,null,null,null,"Sterling","2350 Endress Place",null,null,null,"Greenwood","IN","46443","Mr.","Miscik",null,"Supplier","Out of State"]
["Stock",null,null,null,null,null,null,null,"Michigan Sales Tax"]
["Stone Plastics (Smalligan)","Chad Smalligan",null," 616-748-9740",null," 616-748-9742",null,null,null,null,"Stone Plastics","8245 Riley St.",null,null,null,"Zeeland","MI","49464","Mr.","Smalligan","Safety",null,"Ottawa"]
["Stonhard",null,"Terry Geldard","800-257-7953","Cell 602-684-9381","856-321-7525",null,null,"Michigan Sales Tax",null,"Stonhard","Terry Geldard","One Park Ave.",null,null,"Maple Shade","NJ","08052"]
["Stonhard (Geldard)","Terry Geldard",null," 800-257-7953",null," 856-321-7525",null,null,null,"Colleague","Stonhard","One Park Ave.",null,null,null,"Maple Shade","NJ","8052","Mr.","Geldard",null,"Other","Out of State"]
["Strain Electric Company (Pearson)","Ross Pearson",null," 616-453-2108",null," 616-453-5729","seco22@netzero.net",null,null,null,"Strain Electric Company","3376 Three Mile Road NW",null,null,null,"Grand Rapids","MI","49544","Mr.","Pearson",null,"Contractor Electrical","Kent"]
["Strategic Safety, Inc.","Matt Moltane",null,"810-735-9885","cell 810-691-9578",null,"matt@strategicsafety.net",null,"Michigan Sales Tax",null,"Strategic Safety, Inc.","Attn: Matt Moltane","205 N. Bridge St.",null,null,"Linden","MI","48451"]
["Streamlight (Evans)","Geoff Evans",null," 800-523-7488 8424",null," 616-827-9227","gevans@streamlight.com",null,null,null,"Streamlight",null,null,null,null,"Grand Rapids","MI",null,"Mr.","Evans","Region Sales Manager","Representative","Kent"]
["Structural Concepts (Kent)","Don Kent",null," 231-798-6300",null," 231-798-7252","dkent@structuralconcepts.com",null,null,"Spoke with Don some time ago....he knows of us and has worked with Brandon in the past\nThey do have confined spaces and this is worth pursuing\nDon seems like an interesting fellow and will be hard to set appts. with","Structural Concepts","888 E. Porter Rd.",null,null,null,"Muskegon","MI","49441","Mr.","Kent","Safety Coordinator","?","Muskegon"]
["Structural Preservation Systems",null,"Patrick Wong","734-282-7760",null,"734-282-3801",null,null,"Michigan Sales Tax",null,"Structural Preservation Systems","Attn:","280 West Jefferson",null,null,"Trenton","MI","48183"]
["Stryker Corporation",null,null,"269-329-2100","269-488-6415","269-329-2308",null,null,"Non-Tax","Eric Madsen - eric.madsen@stryker.com\nJoe Sockol","Stryker Medical","Attn: Joe Sockol","3800 East Centre Ave",null,null,"Kalamazoo","MI","49002"]
["Stryker Corporation (Sockol)","Joe Sockol",null," 269-323-7700 4668",null," 269-324-6927","joe.sockol@stryker.com",null,null,"MSC lead. BW GAMicro. Also interested in Apex and Microdust\nJohn Goodpaster gone to TX","Stryker Corporation","4100 East Milham Ave.",null,null,null,"Kalamazoo","MI","49001","Mr.","Sockol","EH&S Manager","Manufacturer","Kalamazoo"]
["Sturgis DPW, City of","Frank Schragg",null,"269-651-2879",null,null,null,null,"Non-Tax Municipality/Utility",null,"Sturgis DPW, City of","Attn:Frank Schragg","805 N. Centerville Road",null,null,"Sturgis","MI","49091-9364"]
["Sturgis DPW, City of (Miller)","Rick Miller",null," 269-651-2879",null," 269-659-6054","rmiller@ci.sturgis.mi.us",null,null,"Frank Schragg bought Micro\nSee Russ Melin at H2O, Mike Houck is Fire Chief, Jeannette Fenner is at City Hall.","Sturgis DPW, City of","805 N. Centerville Road",null,null,null,"Sturgis","MI","49091-9364","Mr.","Miller","Supervisor","Municipal, Cty","St. Joseph"]
["Sturgis DPW, City of (Schragg)","Frank Schragg",null," 269-651-2879",null," 269-659-6054","fschragg@ci.sturgis.mi.us",null,null,null,"Sturgis DPW, City of","805 N. Centerville Road",null,null,null,"Sturgis","MI","49091-9364","Mr.","Schragg","Maintenance Manager","Municipal, Cty","St. Joseph"]
["Sturgis WWTP, City of",null,null,"269-659-7250",null,"269-659-2500",null,null,"Non-Tax Municipality/Utility","Tom Sikorski / Jessica Wood","Sturgis WWTP, City of","Attn:Tom Sikorski","2101 Treatment Plant Road",null,null,"Sturgis","MI","49091"]
["Sturgis WWTP, City of (Sikorski)","Tom Sikorski",null," 269-659-7250",null," 269-659-2500","tsikorski@ci.sturgis.mi.us",null,null,"Digger is right hand man.","Sturgis WWTP, City of","70250 South Treatment Plant Road",null,null,null,"Sturgis","MI","49091","Mr.","Sikorski","Superintendent","Municipal, Cty","St. Joseph"]
["Summit Contractors, Inc.",null,null,"517-575-0881",null,null,null,null,"Michigan Sales Tax",null,"Summit Contractors, Inc.","Attn:","15729 Peacock Road",null,null,"Haslett","MI","48840"]
["Summit Mechanical","Phil Sitarski",null,"810-364-4292",null,"810-364-4291",null,null,"Michigan Sales Tax",null,"Summit Mechanical","Attn: Mike Watson","Aisin World Corprorate of America","46501 Commerce Center Dr.",null,"Plymouth","MI","48170"]
["Summit Training Source, Inc. (Aikins)","Lee Aikins",null," 616-949-6560 257",null," 616-949-5720","leea@safetyontheweb.com",null,null,"Dave Keefer produces videos","Summit Training Source, Inc.","4170 Embassy Drive SE",null,null,null,"Grand Rapids","MI","49546","Ms.","Aikins",null,"Supplier","Kent"]
["Sun Chemical (Cincinanati)",null,"Andy Jennings","513-681-5950",null,"513-632-1544",null,null,"Michigan Sales Tax",null,"Sun Chemical","Attn: PO#490010094","4526 Chickering Avenue",null,null,"Cincinanati","OH","45232"]
["Sun Chemical (Muskegon)",null,"Dennis Grunenwald x-345","231-788-2371",null,"231-788-2232",null,null,"Non-Tax","04/28/2010:  \nTony VanWye - ext. 219\nCell:  231-740-2964 / email: tonyvanwye@sunchemical.com\nMC  as of 6/10 is: 5567-0900-0136-7320 X-11/11 bill to add. 223/49461 email pd inv. to Tony\n\n~ Verbal PO's, need to notify Dana Smith (Buyer) PH 231-788-2371 x466 fax:231-788-2232, email: dana.smith@sunchemical.com \nMC: 5567-0920-0023-0228  Exp: 12/14\n\n~ Send copy of all invoices to Christi  and call at time of         invoicing or they will not get paid Ph:231-788-2371 (5)(1)     Fax:231-788-4301\n\nPhyllis Wright in Muskegon wants invoicesfaxed to her \n\n** CINCINATI ACCTS PAYABLE**\nMuskegon orders,Sandy Smith 513-681-5950 ex 264(Sandy fax:513-681-3778)\nCincinati orders, Chris 513-681-5950 ex 376\nFax: 513-681-3778\n******************************************\n\n","Sun Chemical","Attn:Mike Lampen","4925 Evanston Rd., Building 225",null,null,"Muskegon","MI","49442","Mr.","Gillish"]
["Sun Chemical Cincinnati (Beringer)","Arnie Beringer",null," 513-681-5950 655",null," 513-681-4797","arnie.beringer@na.sunchem.com",null,null,"see Ed Bilek Corp Safety mob 513.383.1996 re: AMP\nChristy Stewart x224 is A/P","Sun Chemical Cincinnati","4526 Chickering Avenue",null,null,null,"Cincinanati","OH","45232","Mr.","Beringer","EH&S Manager","Chemical Pharmaceutical","Out of State"]
["Sun Chemical Cincinnati (Jennings)","Andy Jennings",null," 513-681-5950 211",null," 513-632-1544",null,null,null,null,"Sun Chemical Cincinnati","4526 Chickering Avenue",null,null,null,"Cincinanati","OH","45232","Mr.","Jennings",null,"Chemical Pharmaceutical","Out of State"]
["Sun Chemical Muskegon (Davis)","Denny Davis",null," 231-788-2371",null," 231-788-2232","dennis.davis@sunchemical.com",null,null,"gave micro5 demo, handles arc protection, gave stanco lit., quote both\nInst Techs: Ron Marlow, John Livingston, Stan Welc, Buzz Laug\nNate Leenhouts no longer with Sun.  Mike Harrison is temp. taking over\nTaken over instrumentation from Kevin Gillish\nmet, quote micro 5","Sun Chemical Muskegon","4925 Evanston Road",null,null,null,"Muskegon","MI","49442","Mr.","Davis","Maintenance Manager","Chemical Pharmaceutical","Muskegon"]
["Sun Chemical Muskegon (Decker)","Jim Decker",null," 231-788-2371 264",null," 231-788-2618","deckerj@na.sunchem.com",null,null,null,"Sun Chemical Muskegon","4925 Evanston Road",null,null,null,"Muskegon","MI","49442",null,"Decker","Safety & Health Specialist","Chemical Pharmaceutical","Muskegon"]
["Sun Chemical Muskegon (Geist)","Don Geist",null," 231-788-2371 270",null," 231-788-2232","don.geist@na.sunchem.com",null,null,"Toured roof of HVF for skylight screens and ladder gates.\nKevin Gillish --> Don Geist  \nWork with  W Soule and KG on mezzanine project","Sun Chemical Muskegon","4925 Evanston Road",null,null,null,"Muskegon","MI","49442","Mr.","Geist","Maintenance Planning Superviso","Chemical Pharmaceutical","Muskegon"]
["Sun Chemical Muskegon (Grunenwald)","Dennis Grunenwald",null," 231-788-2371 345",null," 231-788-2232",null,null,null,"Toured roof of HVF for skylight screens and ladder gates.\nKevin Gillish --> Don Geist  \nWork with  W Soule and KG on mezzanine project","Sun Chemical Muskegon","4925 Evanston Road",null,null,null,"Muskegon","MI","49442","Mr.","Grunenwald","Maintenance Manager",null,"Muskegon"]
["Sun Chemical Muskegon (Harrison)","Michael Harrison",null," 231-788-2371 339",null," 231-788-3961","mike.harrison@na.sunchem.com",null,null,"gave micro5 demo, handles arc protection, gave stanco lit., quote both\nInst Techs: Ron Marlow, John Livingston, Stan Welc, Buzz Laug\nNate Leenhouts no longer with Sun.  Mike Harrison is temp. taking over\nTaken over instrumentation from Kevin Gillish\nm","Sun Chemical Muskegon","4925 Evanston Road",null,null,null,"Muskegon","MI","49442","Mr.","Harrison","Reliability Engineer","Chemical Pharmaceutical","Muskegon"]
["Sun Chemical Muskegon (Lampen)","Mike Lampen",null," 231-788-2371 241",null," 231-788-1307","mike.lampen@sunchemical.com",null,null,null,"Sun Chemical Muskegon","4925 Evanston Road",null,null,null,"Muskegon","MI","49442","Mr.","Lampen","E&I Team Leader","Chemical Pharmaceutical","Muskegon"]
["Sun Chemical Muskegon (Minner)","Rick Minner",null," 231-788-2371 226",null," 231-788-2618","rick.minner@na.sunchem.com",null,null,null,"Sun Chemical Muskegon","4925 Evanston Road",null,null,null,"Muskegon","MI","49442","Mr.","Minner","EH&S Supervisor","Chemical Pharmaceutical","Muskegon"]
["Sun Chemical Muskegon (Piper)","Tom Piper",null," 231-788-2371 456",null," 231-788-3961","tom.piper@na.sunchem.com",null,null,null,"Sun Chemical Muskegon","4925 Evanston Road",null,null,null,"Muskegon","MI","49442",null,"Piper","Production System Supervisor",null,"Muskegon"]
["Sun Chemical Muskegon (VandenBerg)","Everett VandenBerg",null," 231-788-2371 169",null," 231-788-2618","bob.brenton@na.sunchem.com",null,null,"Christy Stuart (A/P), Boss is Kathy Adamczak\nBob Brenton gone, Tony Van Wye moved from safety to mntc\nJosh at front desk\nsee John Wilke for HazMat insp like at Country Fresh\nStores: Dick Van Dam --> Dana Smith (Stores Mgr.) see for PPE\nCO monitoring for","Sun Chemical Muskegon","4925 Evanston Road",null,null,null,"Muskegon","MI","49442",null,"VandenBerg","EH&S Manager","Chemical Pharmaceutical","Muskegon"]
["Sun Chemical Muskegon (VanWye)","Tony VanWye",null," 231-788-2371",null," 231-788-1307",null,null,null,"Randy Hissong is Kevin Gillish successor\nMike Lampen E&I Supr\nDick VanDam  Mntc Buyer\nPhyllis Bulk Materials\nDana Smith Capital Projects","Sun Chemical Muskegon","4925 Evanston Road",null,null,null,"Muskegon","MI","49442","Mr.","VanWye","Safety Lead",null,"Muskegon"]
["Sun Chemical Muskegon (Wright)","Phyllis J. Wright",null," 231-788-2371 235",null," 231-788-1307","phyllis.wright@na.sunchem.com",null,null,"Christy Stuart (A/P), Boss is Kathy Adamczak\nBob Brenton gone, Tony Van Wye moved from safety to mntc\nJosh at front desk\nsee John Wilke for HazMat insp like at Country Fresh\nStores: Dick Van Dam --> Dana Smith (Stores Mgr.) see for PPE\nCO monitoring for supplied air\nNH3 Monitor (GfG) see Terry Keenan, Tom Jensen\nMusk Chemistry Council  meets quarterly\nBruce Katje, Esco; Dave Peden; Don Adams, Webb","Sun Chemical Muskegon","4925 Evanston Road",null,null,null,"Muskegon","MI","49442","Ms.","Wright","Purchasing Assistant","Chemical Pharmaceutical","Muskegon"]
["Sun Chemical Northlake (Gaughan)","Megan Gaughan",null," 708-236-3507",null," 708-562-7859","megan.gaughan@na.sunchem.com",null,null,null,"Sun Chemical Northlake","135 West Lake Street",null,null,null,"Northlake","IL","60164","Ms.","Gaughan","EHS Coordinator, North AMerica","Chemical Pharmaceutical","Out of State"]
["Sunrise Acres Egg Farms (DeYoung)","Jeremy DeYoung",null," 616-896-9827",null," 616-896-7740",null,null,null,null,"Sunrise Acres Egg Farms","3288 Perry Street",null,null,null,"Hudsonville","MI","49426",null,"DeYoung","Safety Director",null,"Ottawa"]
["Sunrise Acres Egg Farms (Patmos)","Dick Patmos",null," 616-896-9827",null," 616-896-7740","sunriseacreseggs@aol.com",null,null,"Catherine, Brit secy","Sunrise Acres Egg Farms","3288 Perry Street",null,null,null,"Hudsonville","MI","49426","Mr.","Patmos","President","Food","Ottawa"]
["Sunrise Industries Inc. (Phillips)","Louretta Phillips",null," 800-537-5504",null," 256-264-0101",null,null,null,null,"Sunrise Industries Inc.","4008 Creek Ridge Road",null,null,null,"Guntersville","AL","35976","Ms.","Phillips","Customer service","Supplier","N/A"]
["Sunset Waste Services (Mealey)","Luke Mealey",null," 616-379-0541",null," 616-379-0362",null,null,null,"Kate Crowley is mgr. Said she'd speak to driver re: bin placement.\nGave her one last chance.","Sunset Waste Services","2471 Wilshere","PO Box 109",null,null,"Jenison","MI","49428","Mr.","Mealey","Account Manager","Other","Kent"]
["Superheat FGH","Brant Augustyniak",null,"419-726-6277","708-670-9454 cell",null,null,null,"OH Lucas Co.",null,"Superheat FGH (Toledo)","Attn:","5202 Enterprise Dr. Suite A",null,null,"Toledo","OH","43612"]
["Superior Environmental",null,null,"616-667-4000",null,"616-667-3666",null,null,"Michigan Sales Tax","Gregg Gallagher - cell: 616-914-8196\nJeff Skendrovic\nCathy Boyd A/P     616.667.3645 boydcat@superiorenvironmental.com","Superior Environmental","Attn:","1128 Franklin Street",null,null,"Marne","MI","49435"]
["Superior Environmental (Gallagher)","Gregg Gallagher",null," 616-667-4000",null," 616-667-3666","gallagg@superiorenvironmental.com",null,null,null,"Superior Environmental","1128 Franklin Street",null,null,null,"Marne","MI","49435",null,"Gallagher",null,"Contractor EH&S","Kent"]
["Superior Environmental (McDuffy)","Michael McDuffy",null," 616-677-5255"," 616-667-4000"," 616-667-3666",null,null,null,null,"Superior Environmental","1128 Franklin Street",null,null,null,"Marne","MI","49435","Mr.","McDuffy","Purchasing Agent","Contractor EH&S","Kent"]
["Superior Environmental Corp. (Enberg)","Chuck Enberg",null," 616-667-4000",null," 616-667-3666",null,null,null,null,"Superior Environmental Corp.","1128 Franklin Street",null,null,null,"Marne","MI","49435","Mr.","Enberg","Health & Safety Officer","Contractor EH&S","Kent"]
["Superior Sales (VanderBand)","Dave VanderBand",null," 616-896-6500",null," 616-896-1065",null,null,null,null,"Superior Sales","2929 Corporate Grove Dr.",null,null,null,"Hudsonville","MI","49426",null,"VanderBand","Safety Director",null,"Ottawa"]
["Superior Seafoods (Carlson)","Dennis Carlson",null," 616-971-2162 162",null," 616-698-6297","dcarlson@superiorseafoods.com",null,null,null,"Superior Seafoods","4243 Boradmoor, SE",null,null,null,"Kentwood","MI","49512-3934","Mr.","Carlson","Plant Manager","Food","Kent"]
["Superior Stone Products","Brian Dean","Fred Ignatovich","616-583-0171",null,"616-583-0176",null,null,"Michigan Sales Tax",null,"Superior Stone Products","Attn: Brian Dean","8580 Byron Commerce Drive",null,null,"Byron Center","MI","49315"]
["Superior Stone Products (Dean)","Brian Dean",null," 616-583-0171",null," 616-583-0176","bdean@superiorstoneproducts.com",null,null,"Send Dr's response by fax and mail.","Superior Stone Products","8580 Byron Commerce Drive",null,null,null,"Byron Center","MI","49315","Mr.","Dean","Environmental Health & Safety","Manufacturer","Kent"]
["Superior Stone Products (Ignatovich)","Fred R. Ignatovich",null," 616-583-0171",null," 616-583-0176","fred@superiorstoneproducts.com",null,null,"Kim","Superior Stone Products","8580 Byron Commerce Drive",null,null,null,"Byron Center","MI","49315","Mr.","Ignatovich","President","Manufacturer","Kent"]
["Supreme Machine (Becker)","Mel Becker",null," 616-842-6550",null," 616-935-0877",null,null,null,null,"Supreme Machine","18686 172nd Ave",null,null,null,"Spring Lake","MI","49456",null,"Becker","Plant Manager","Manufacturer","Ottawa"]
["Survivair (Taylor)","Jim Taylor",null," 800-394-0410",null," 800-201-4407","jtaylor@bacou-dalloz.com",null,null,"Lucas Gallardo, Jason Suppes (soup ease)\nGerri Bauer nice lady, but not so knowledgeable\nArlene is a battle ax\nMarcy Montgomery Sperian Inside Support 800.589.2716 x1507\n   Good and nice.","Survivair","3001 South Susan Street",null,null,null,"Santa Ana","CA","92704","Mr.","Taylor","Service Manager","Supplier","Out of State"]
["SW Controls (Maceri)","Joe Maceri",null,null,null," 734-459-8448","jmaceri@swcontrols.net",null,null,"HA Fixed Distr. wants BW pricing\nDan Willson is President","SW Controls","45345 Five Mile Road",null,null,null,"Plymouth","MI","48170","Mr.","Maceri",null,"Competitor","Wayne"]
["SW Controls, Inc.","Joe Maceri",null,"313-718-0127 cell",null,null,"klindstrom@swcontrols.net",null,"NonTx Re-Sale","BW RESALE DISCOUNT:\nInstruments:  20% off list\nParts:  10% off list\n A/P Kim Lindstrom 734.459.9700 klindstrom@swcontrols.net\n\nSwartz Creek Office:\nLaura Maceri\nPhone: 810-471-4788\nFax:  810-630-6383\n\n10.27.11 Changed Terms from 30 Days to COD","SW Controls, Inc.","Attn: Michael Shane Eldridge","4330 North Old St. 15",null,null,"Warsaw","IN","46582"]
["Swartz Creek DPW, City of (Svrcek)","Tom Svrcek",null," 810-635-4464",null," 810-635-2887","tsvrcek@cityofswartzcreek.org",null,null,null,"Swartz Creek DPW, City of","8083 Civic Drive",null,null,null,"Swartz Creek","MI","48473-1498","Mr.","Svrcek","Public Services Director","Municipal, Cty","Genesee"]
["Sylvan Township Water & Sewer Authority","Bob Halliwell",null,"734-433-5470",null,"734-433-5476",null,null,"Non-Tax Municipality/Utility",null,"Sylvan Township Water & Sewer Authority","Attn: Bob Halliwell","18755 Old US-12",null,null,"Chelsea","MI","48118"]
["Symmetry Medical",null,null,"517-887-3434",null,"517-393-1331",null,null,"Michigan Sales Tax","Ted Clark - email: ted.clark@symmetrymedical.com","Symmetry Medical","Attn:","5212 Aurelius Road",null,null,"Lansing","MI","48911"]
["Synagro","Ron Lutz","Bill Goetsch","Cell 616-291-7876","Cell 616-299-3368","517-487-2508",null,null,"Michigan Sales Tax",null,"Synagro","Attn:Ron Lutz","807 Lake Lansing Road",null,null,"Lansing","MI","48906"]
["Synagro (Byron Center)","Ron Lutz",null,null,null,null,null,null,"Michigan Sales Tax",null,"Synagro (Byron Center)","Attn:","6500 Burlingame SW",null,null,"Grand Rapids","MI","49315"]
["Synagro (Goetsch)","Bill Goetsch",null," 517-487-9280",null," 517-487-2508","bgoetsch@synagro.com",null,null,"Ron Lutz mob 616.291.7876","Synagro","807 Lake Lansing Road",null,null,null,"Lansing","MI","48906","Mr.","Goetsch","Technical Services Manager","Contractor EH&S","Ingham"]
["Synagro (Lutz)","Ron Lutz",null," 517-487-9280",null," 517-487-2508","rlutz@synagro.com",null,null,null,"Synagro","807 Lake Lansing Road",null,null,null,"Lansing","MI","48906",null,"Lutz","Safety Manager","Contractor EH&S","Ingham"]
["Synergis Technologies Group","Sandra Soresi",null,"616-245-4400",null,"616-245-3201",null,null,"Michigan Sales Tax",null,"Synergis Technologies Group","795 - 36th Street",null,null,null,"Wyoming","MI","49548"]
["Synergis Technology (Dieline Corp.)",null,"Robert Huisken / Brad Shuck",null,"616-245-4400",null,null,null,"Michigan Sales Tax",null,"Dieline Corp div. of Synergis Tech.","Attn:","3755 - 36th Street SE",null,null,"Kentwood","MI","49512"]
["Synergis Technology Dieline (Huisken)","Robert Huisken",null," 616-245-4400 1043",null," 616-475-3203","robert.huisken@synergis.us",null,null,"Demo'd gas detectors to RH, Jim Livermore (Dieline Plant Mgr), Charlie Finkler (Mntc.) and Eric Nelson","Synergis Technology Dieline","775 36th Street SE",null,null,null,"Wyoming","MI","49548","Mr.","Huisken","Management Representative","Manufacturer","Kent"]
["Sysco Food Service of Grand Rapids","Jim Brown",null,"616-949-3700",null,"616-977-4521",null,null,"Michigan Sales Tax",null,"Sysco Food Service of Grand Rapids","Attn: Jim Brown","3700 Sysco Court SE",null,null,"Grand Rapids","MI","49512"]
["Sysco Food Services of Grand Rapids (Brow","Jim Brown",null," 800-669-6967 4239",null," 616-977-4521","brown.jim@grr.sysco.com",null,null,"succeeded Cal Bouma","Sysco Food Services of Grand Rapids","3700 Sysco Court SE",null,null,null,"Grand Rapids","MI","49512","Mr.","Brown","Safety Manager","Food","Kent"]
["Szudera (VanZyll)","Jerry VanZyll",null," 616-459-5673",null," 616-459-4570","jszudera99@aol.com",null,null,null,"Szudera","134 Buckley SW",null,null,null,"Grand Rapids","MI","49503","Mr.","VanZyll",null,"Contractor General","Kent"]
["T&A Industrial Distribution","Andy Mueller",null,"262-783-4900",null,"262-783-4950",null,null,"Out of State",null,"po#JPV2986723","Kenosha Engine  05205","Rec #9   Gate #1   Dock#4","5555 30th Ave",null,"Kenosha","WI","53144-2800"]
["T-R Associates, Inc. (Virbitsky)","Jo-E Virbitsky",null," 570-876-4067 1107",null," 570-876-1682","jo@trassociates.com",null,null,"BW exporter","T-R Associates, Inc.","One Export Lane",null,null,null,"Archbald","PA","18403","Ms.","Virbitsky",null,null,"Out of State"]
["T.E.S. Filer City Station(CMS Enterprises","Shelly Johnson",null," 231-723-6573 105",null,null,null,null,null,"Met with one of the employees, may have been Shelly but no names were give out while I was there aside from contact info\n-following up tomorrow","T.E.S. Filer City Station(CMS Enterprises","700 Mee Mee St.",null,null,null,"Filer City","MI","49634","Mrs.","Johnson","Safety Director","Power Plant","Manistee"]
["T.H. Miller Excavating, Inc. (Miller)","Tom Miller",null," 989-593-3399",null," 989-593-2084",null,null,null,"Met Ken Miller at MITA superconference\nSent Stormwater and Spill Catalogs","T.H. Miller Excavating, Inc.","8900 W. M-21",null,null,null,"St. Johns","MI","48879","Mr.","Miller","Owner","Contractor, Excavator","Clinton"]
["Tadd Industries (Schneider)","Darlene Schneider",null," 616-677-5263 121",null," 616-677-5265","dees@taddind.com",null,null,null,"Tadd Industries","1239 Comstock Street","PO Box 70",null,null,"Marne","MI","49435","Ms.","Schneider","Office Manager","Manufacturer","Kent"]
["Taplin Environmental Contracting Corp.","Tina Boreham",null,"800-632-4176",null,null,null,null,"Michigan Sales Tax",null,"Taplin Environmental Contracting Corp.","Attn:Mike Hemacher",null,null,null,"5100 West","MI",null,"Ms.","Boreham"]
["Taplin Environmental Contracting Corporat","Tina Boreham",null," 800-632-4176",null," 269-375-2830","tina@taplinenvironmental.com",null,null,"Amanda Carpenter bought Biosystems LEL 0480 Sensor\nHas Phd Lites, +'s. Wants service. Demo'd BW Micro. Will think about switching out. Using Aramsco for commodities. Brian Borguno left for Design Ware","Taplin Environmental Contracting Corporat","5100 West Michigan Avenue",null,null,null,"Kalamazoo","MI","49006","Ms.","Boreham","Safety Manager","Contractor EH&S","Kalamazoo"]
["Targeting Customer Safety (Swigert)","Neal Swigert",null," 616-225-0778",null," 616-225-0776","tcsinc@pathwaynet.com",null,null,"Con Space, UK\nreps FOXFIRE/MARPAC","Targeting Customer Safety","9330 Baker Road West",null,null,null,"Greenville","MI","48838","Mr.","Swigert","Manufacter's Rep","Representative","Montcalm"]
["Tate Engineering Systems (Salisbury) (Jon","Michelle Jones",null," 410-242-8800 351",null," 410-242-7777","michelle.jones@tate.com",null,null,null,"Tate Engineering Systems (Salisbury)","2030 Shipley Drive, Suite #5",null,null,null,"Salisbury","MD","21801","Ms.","Jones","Service Coordinator","Manufacturer","Out of State"]
["Tate Engineering Systems (Salisbury, OH)",null,null,"410-242-8800",null,"410-242-7777",null,null,"Out of State","Terry Van Dyke - ext. 350 (Service Manager) \nMichelle - ext. 351 (Service Coordinator)\nemail:  terry.vandyke@tate.com\nDirect Phone: 410-430-1289\nDirect Fax:  443-718-4444","Tate Engineering Systems (Salisbury, MD)","Attn:","2030 Shipley Drive, Suite #5",null,null,"Salisbury","MD","21801"]
["Taylor Fire Department (DiCicco)","Sam DiCicco",null," 734-374-1388",null," 734-374-2742","sdicicco@ci.taylor.mi.us",null,null,null,"Taylor Fire Department","23345 Goddard Road",null,null,null,"Taylor","MI","48180","Mr.","DiCicco","Battalion Chief Training/Maint","Fire Department","Wayne"]
["Taylor Fire Dept., City of","Jim Piasecki",null,"734-374-1355",null,"734-374-2742",null,null,"Non-Tax Municipality/Utility","Herb Proctor - Phone: 734-374-4006 \n  hproctor@ci.taylor.mi.us\n\nJames Piasecki - Phone: 734-374-1318\n  jpiasecki@ci.taylor.mi.us\n\nCf. Robert (Bob) Tompos","Taylor Fire Dept., City of","Attn:","23345 Goddard Rd",null,null,"Taylor","MI","48180"]
["TC Rigging","Tim Carlson",null,"651-283-0598",null,null,null,null,"Out of State",null,"TC Rigging","Attn: Tim Carlson","3370 Rolling Hills Dr.",null,null,"Egan","MN","55121"]
["TCI Inc. of Michigan","Karl Grant",null,"517-663-5635",null,"517-663-6050","karl@tciincofmichigan.com",null,"Michigan Sales Tax",null,"TCI Inc. of Michigan","Attn: Karl Grant","5501 East Clinton Trail",null,null,"Eaton Rapids","MI","48827"]
["TDS Automation (Miller)","Kim Miller",null," 319-483-4786",null," 319-483-4792","kim.miller@tdsautomation.com",null,null,"GEMS lead from Larry Shifflet","TDS Automation","1801 Bremer Avenue",null,null,null,"Waverly","IA","50677","Mr.","Miller",null,"Manufacturer","Out of State"]
["TDS Metrocom (Lhatsang)","TenZin Lhatsang",null," 616-464-5534",null," 616-464-5573",null,null,null,"DSL Helpdesk 888.850.5915\nStatic IP","TDS Metrocom","791 Kenmoor SE","Suite 102",null,null,"Grand Rapids","MI","49546","Mr.","Lhatsang","Account Coordinator","Representative","Kent"]
["Team Elmer's","Paul Brink",null,"231.943.3443","231.218.7043 mob","231.943.5510","pbrink@teamelmers.com",null,"Michigan Sales Tax",null,"Team Elmer's","3600 Rennie School Rd.","P.O. Box 6150",null,null,"Traverse City","MI","49696-6150","Mr.","Brink"]
["Team Elmer's (Brink)","Paul Brink",null," 231-943-3443",null," 231-943-5510","pbrink@teamelmers.com",null,null,"Met with Ron at Manistee Plant\nThe best contact is their main safety director:\nSteve 231.943.5588\nMention Ron refered\nleft a message for Steve today","Team Elmer's","3600 Rennie School Road","PO Box 6150",null,null,"Traverse City","MI","49696-6150","Mr.","Brink","Safety Director","Mining","Grand Traverse"]
["Technisand, Fairmount Minerals (Meyer)","Scott Meyer",null," 800-255-7263 4254",null," 269-465-6075",null,null,null,"met with Jim last firday\nnice guy, quoting on CDD SRL\nbought 100 Mini Ztek and is considering the DBI CDD SRL\nstopped down and spoke with GK, call for appt for best luck catching Jim","Technisand, Fairmount Minerals","3840 Livingston Rd.",null,null,null,"Bridgman","MI","49106",null,"Meyer","Plant Manager",null,"Berrien"]
["Technisand, Fairmount Minerals (Ridley)","Jim Ridley",null," 800-255-7263 4228",null," 269-465-6075","jim.ridley@fairmountminerals.com",null,null,"Scott is the go-to for all non safety-related items\nNice guy, need appt.\nScott is the go-t","Technisand, Fairmount Minerals","3840 Livingston Rd.",null,null,null,"Bridgman","MI","49106","Mr.","Ridley","Site Supervisor","Mineral Mining and Processing","Allegan"]
["TechniSand, Inc. (Fairmount Mineral)",null,null,"269-466-4221",null,"269-466-4290",null,null,"Non-Tax","Accounting:\nSandy - direct: 269-466-4250\n\nGRAND HAVEN:\nBrad Chittenden\nOffice:  616-842-5080\nFax:  616-847-2141","Technisand Bridgman Resin","3840 Livingston Rd",null,null,null,"Bridgman","MI","49106"]
["Tecton","Joe Kinder",null,"260-484-4848",null,"260-484-7393",null,null,"Out of State",null,"Tecton","Attn: Joe Kinder","7807 North Clinton",null,null,"Fort Wayne","IN","46825"]
["Tennant Co. (Holland)",null,"Charlie Brandenburg","763-513-1837 MN","612-202-0925 cell","763-513-1711 MN",null,null,"Michigan Sales Tax",null,"Tennant Co. (Holland)","Attn: Brannon Weber","12875 Ransom Street",null,null,"Holland","MI","49424"]
["Tenneco Automotive",null,"Steve Freis","517-522-5525",null,"517-522-5521",null,null,"Michigan Sales Tax",null,"Tenneco Automotive","Attn:","3901 Willis Road",null,null,"Grass Lake","MI","49240"]
["TerHorst & Rinzema Construction (Horst)","Dan Ter Horst",null," 616-676-9181",null," 616-676-2864",null,null,null,null,"TerHorst & Rinzema Construction","5990 E. Fulton  Suite A",null,null,null,"Ada","MI","49301","Mr.","Horst","Safety Manager","Contractor General","Kent"]
["Terra Contracting (Tannar)","Jay Tannar",null,null,null,null,null,null,null,"May be buying multiple RAMs for 2-year project","Terra Contracting","5100 West Michigan",null,null,null,"Kalamazoo","MI","49006","Mr.","Tannar",null,"Contractor EH&S","Kalamazoo"]
["Terra Contracting, Inc.","A/P - April Palmer",null,"269-375-9595",null,"269-344-1038",null,null,null,"\n\n1/26/12 spoke with Mary Terra CC Compromised will switch to Net 30 going forward\n\n\n12.29.10 Spoke w/ Mary Barrett (Purch Mgr). \n  * 30-Day Terms for day-to-day up to $2K\n  * Check or cc for capital purchases.\n  * We'll see how they do and reassess later in 2011.\n  * Mary said to call her if we need help getting paid.\n~~~~~~~~~~~~~~~~~~~~~~~~~~~~~~~~~~\n9.28.09 Switched from 45-day Terms to COD\n~~~~~~~~~~~~~~~~~~~~~~~~~~~~~~~~~~\nKeith Schillo - Cell: 269-420-7379\nKeith's Amex 3796.315379.41002 exp 04/15\nAddress: 5787/49009\n\nCheryl Adams (accting) email: cadams@terracontracting.net\n","Terra Contracting, Inc.","Attn: Keith","5100 West Michigan Ave.",null,null,"Kalamazoo","MI","49006"]
["Terra Industrial Services (Barrett)","Mary Barrett",null," 269-375-9595",null," 269-344-1038","mbarrett@terracontracting.net",null,null,null,"Terra Industrial Services","5787 Stadium Drive",null,null,null,"Kalamazoo","MI","49009","Ms.","Barrett",null,null,"Kalamazoo"]
["Terra Industrial Services (Moe)","Greg Moe",null," 269-375-9595",null," 269-344-1038","gmoe@terraabatement.net",null,null,null,"Terra Industrial Services","5787 Stadium Drive",null,null,null,"Kalamazoo","MI","49009","Mr.","Moe",null,"Contractor General","Kalamazoo"]
["Terra Industrial Services (Schillo)","Keith Schillo",null," 269-375-9595"," 269-598-9013"," 269-344-1038","keith@terracontracting.net",null,null,"Craig Henriksen   269.998.2052 was in NJ (Chevron) and Houston (cross arm straps) liked ABC's in NJ\nJason Gumbis A/P 269.375.9595\nJohn Jenkins gone","Terra Industrial Services","5787 Stadium Drive",null,null,null,"Kalamazoo","MI","49009","Mr.","Schillo","Safety Manager","Contractor General","Kalamazoo"]
["Tesa Tape, Inc.","Christene Groth",null,"616-887-3110",null,"616-887-0966",null,null,"Michigan Sales Tax",null,"Tesa Tape, Inc.","Attn: Philip Hesse","324 south Union St.",null,null,"Sparta","MI","49345"]
["Tesa Tape, Inc. (Phesse)","Philip Phesse",null," 616-887-3110",null," 616-887-0966","phesse@tesatape.com",null,null,null,"Tesa Tape, Inc.","324 South Union St.",null,null,null,"Sparta","MI","49345","Mr.","Phesse","Safety Director","Automotive","Kent"]
["Testing Engineers & Consultants"]
["Testo Inc. (Vickers)","John Vickers",null," 800-227-0729",null," 973-252-1729","john@testo.com",null,null,null,"Testo Inc.","35 Ironia Road",null,null,null,"Flanders","NJ","7836","Mr.","Vickers","Sales Manager","Supplier","Out of State"]
["Textron Automotive Corp. - CWC Division (","Gary Thomas",null," 231-739-2632",null," 231-739-2743","gary.thomas@kautex.textron.com",null,null,"Patty Runyon, Stores 231.739.2704","Textron Automotive Corp. - CWC Division","1085 West Sherman Boulevard",null,null,null,"Muskegon","MI","49441-3588","Mr.","Thomas","Manager Safety & Occupational","Automotive","Muskegon"]
["TH Marsh Construction (Long)","Mandy Long",null," 734-261-7000",null," 734-261-7037",null,null,null,null,"TH Marsh Construction","12725 Stark Road",null,null,null,"Livonia","MI","48150","Ms.","Long",null,"Contractor General","Roscommon"]
["The Morton Arboretum",null,"Ralph Grieco, PE",null,"630-719-7967","630-719-7969",null,null,"Out of State",null,"The Morton Arboretum","Attn:","4100 Illinois Route 53",null,null,"Lisle","IL","60532"]
["The P.F. Laboratories, Inc.","Jeff Kaplan",null,"973-837-5464",null,"973-890-4062",null,null,"Non-Tax",null,"The P.F. Laboratories, Inc.","Jeff Kaplan","700 Union Blvd.",null,null,"Totowa","NJ","07512"]
["The Scotts Company (Germantown)","Patrick (Pat) Walia",null,"262-242-0500",null,null,"patrick.walia@scotts.com",null,"Out of State",null,"The Scotts Company (Germantown)","Attn:","W124N9899 Wasaukee Rd.",null,null,"Germantown","WI","53022"]
["The Scotts Company (Imlay)",null,"Jeff Mavis x-232","810-724-2875",null,null,"jeff.mavis@scotts.com",null,"Michigan Sales Tax",null,"The Scotts Company (Imlay)","Attn: Jeff Mavis","332 Graham Road",null,null,"Imlay City","MI","48444"]
["The Scotts Company (Marysville)","Joe Oiler",null,"937-644-7201",null,null,null,null,"OH Union Co",null,"The Scotts Company","East Chemical Plant","Attn: Jim Fuller PO 4100156576","14101 Industrial Pkway",null,"Marysville","OH","43041"]
["The Scotts Company (Mavis)","Jeff Mavis",null," 810-724-2875 232",null,null,"jeff.mavis@scotts.com",null,null,null,"The Scotts Company","332 Graham Road",null,null,null,"Imlay City","MI","48444","Mr.","Mavis",null,"Manufacturer","Lapeer"]
["The Scotts Company (Medway)","Jim Golden",null,"207-746-9033 x235",null,null,null,null,"Out of State",null,"The Scotts Company (Medway)","Attn:","264 Nicatou Industrial Ln.",null,null,"Medway","ME","04460"]
["The Scotts Company (Orrville)","Dan Titus","Lisa Culler","330-352-2803","330-684-0401",null,null,null,"Michigan Sales Tax"]
["Theodore J. Hogan & Associates",null,"Ted Hogan","630-257-3939",null,"630-257-3121",null,null,"Michigan Sales Tax",null,"Theodore J. Hogan & Associates","Attn: Ted Hogan","103 Stephen Street",null,null,"Lemont","IL","60439"]
["Therma-Tru Corp.",null,"Rick Goodman ext.2130","260-868-5811","260-615-2240 cell",null,null,null,"Out of State",null,"Therma-Tru Corp.","Attn: Rick Goodman","1750 Indianwood Circle",null,null,"Maumee","OH","43537"]
["Thermeq",null,null,"419-878-4400",null,"419-878-4455","wrmurry@thermeq.com",null,"Michigan Sales Tax",null,"Thermeq","Attn:","1070 Disher Drive",null,null,"Waterville","OH","43566"]
["Thermico Inc.","Bob Huckins",null,"989-496-2927",null,null,null,null,"Michigan Sales Tax",null,"Thermico Inc.","Attn:Kevin Otis","3405 Centennial Dr. Suite 2",null,null,"Midland","MI","48642"]
["Thermo King Michigan (Kooienga)","Dan Kooienga",null," 800-968-9378 622",null," 616-878-4949","dkooieng@tk-net.com",null,null,"cold called with BBB.  sent fall protection lit 9-12-06","Thermo King Michigan","955 76th St., S.W.",null,null,null,"Byron Center","MI","49315","Mr.","Kooienga","Service Manager",null,"Kent"]
["Thermotron (Hambley)","Sara Hambley",null," 616-392-1491",null," 616-393-4796","hr@thermotron.com",null,null,null,"Thermotron","291 Kollen Park Dr",null,null,null,"Holand","MI","49423","Ms.","Hambley","Training Coordinator",null,"Ottawa"]
["Tholstrup (Siggaard)","Torben Siggaard",null," 231-798-4371",null," 231-798-4374",null,null,null,null,"Tholstrup","6366 Norton Center Dr",null,null,null,"Norton Shores","MI","49441","Mr.","Siggaard","General Manager",null,"Muskegon"]
["Tholstrup Cheese USA, Inc. (Siggard)","Torben Siggard",null," 231-798-4371",null," 231-798-4374","tosig@arlafoods.com",null,null,null,"Tholstrup Cheese USA, Inc.","6366 Norton Center Dr.",null,null,null,"Norton Shores","MI","49441","Mr.","Siggard","General Manager","Dairy/Foods","Muskegon"]
["Thomas Romanosky, Attorney at Law (Romano","Thomas Romanosky",null," 231-726-3410",null," 231-722-4935",null,null,null,null,"Thomas Romanosky, Attorney at Law","976 Pine Street",null,null,null,"Muskegon","MI","49442-3277","Mr.","Romanosky",null,null,"Muskegon"]
["Thompson Brothers Inc. (Thompson)","Chris Thompson",null," 231-766-2828",null," 231-766-2889",null,null,null,"Met Chris, quote PPE, stop back in a few weeks to show other stuff","Thompson Brothers Inc.","388 W. McMillan",null,null,null,"Muskegon","MI","49445","Mr.","Thompson",null,"Contractor General","Muskegon"]
["Thompson Brothers, Inc.","Chris Thompson",null,"231-766-2828","231-206-5307 cell","231-766-2889",null,null,"Michigan Sales Tax",null,"Thompson Brothers, Inc.","Attn: Chris Thompson","388 West McMillan Road",null,null,"Muskegon","MI","49445"]
["Thornapple Township",null,null,null,null,null,null,null,"Non-Tax Municipality/Utility",null,"Thornapple Township F.d.","Attn: Mike Jahnke","128 High Street",null,null,"Middleville","MI","49333"]
["Thornapple Township (Laitila)","Brett Laitila",null," 269-795-7202",null," 269-795-8812","blaitila@thornapple-twp.org",null,null,null,"Thornapple Township","200 E. Main Street",null,null,null,"Middleville","MI","49333","Mr.","Laitila",null,"Fire Department","Barry"]
["Three Rivers WWTP, City of (Rozeboom)","James M. Rozeboom",null," 269-273-5885",null," 269-278-2087","returned",null,null,null,"Three Rivers WWTP, City of","407 Wolf Road",null,null,null,"Three Rivers","MI","49093","Mr.","Rozeboom","Director","Municipal, Cty","St. Joseph"]
["Tiara Yachts (Burger)","Cristyn Burger",null," 616-394-4634",null," 616-355-6565","cburger@s2yachts.com",null,null,"Buz Haldenhoff gone.","Tiara Yachts","725  East 40th Street",null,null,null,"Holland","MI","49423-5392","Ms.","Burger",null,"Manufacturer","Ottawa"]
["Tiles Excavating Inc.","Jon Tiles",null,"616-846-6500",null,"616-846-6282",null,null,"Michigan Sales Tax",null,"Tiles Excavating Inc.","Attn: Jim Tiles","16958  144th St.",null,null,"Nunica","MI","49448","Mr.","Tiles"]
["Tiles Excavating Inc. (Tiles)","Jon Tiles",null," 616-846-6500",null," 616-846-6282",null,null,null,"Jim mob 638.1137, VP is Brother, wants to buy Micro in spring. Jane is sister.  Bought 2 doz Kinco 1927KW\nStop by in late Feb'y to sell Rainsuits, More Gloves, GAMicro, Drainguards","Tiles Excavating Inc.","16958 144th Street",null,null,null,"Nunica","MI","49448","Mr.","Tiles","President","Contractor, Excavator","Ottawa"]
["Tim Dolphin"]
["Timmins, City of (Michel)","Lonny Michel",null," 705-360-2600 2360",null," 705-360-2685","lmichel@timmins.ca",null,null,null,"Timmins, City of","220 Algonquin Blvd. East",null,null,null,"Timmins","ON","P4N 1B3","Mr.","Michel",null,"Municipal, Cty","Out of State"]
["Tippmann Construction, INc. (Whitmore)","Andy Whitmore",null," 817-337-5513",null,null,"exmark1901@yahoo.com",null,null,null,"Tippmann Construction, INc.","5801 Kroger Dr.",null,null,null,"Keller","TX","76248","Mr.","Whitmore","Project Manager","Contractor","UNSURE"]
["Tiro Industries, LLC","Dick Dettling","Dave Shovelin","763-572-2839","763-572-2840","763-572-2940",null,null,"Michigan Sales Tax","9/24/04 cash flow problems trouble paying their bills 2 months delinquent","Tiro Industries, LLC","5601 East River Rd.","Mail Station #12",null,null,"Fridley","MN","55432","Mr.","Dettling"]
["Tiro Industries, LLC (Dettling)","Dick Dettling",null," 763-572-2839",null,null,null,null,null,null,"Tiro Industries, LLC","5601 East River Rd.","Mail Station# 12",null,null,"Fridley","MN","55432","Mr.","Dettling","Maintenance Purchasing",null,"N/A"]
["Tiro Industries, LLC (Shovelin)","Dave Shovelin",null," 763-572-2840",null," 763-572-2940","dshovelin@tirollc.com",null,null,null,"Tiro Industries, LLC","5601 East River Road","Mail Station# 12",null,null,"Fridley","MN","55432","Mr.","Shovelin",null,null,"Out of State"]
["Titan Equipment (Byron Center)","John Westerling","Eric Kleynenberg","616-530-2233","866-TITAN-75","616-530-2244",null,null,"NonTx Re-Sale",null,"Titan Equipment (Byron Center)","Attn: John Westerling","6190 Clyde Park SW",null,null,"Byron Center","MI","49315"]
["Titan Equipment (Lansing)","Tom Degeest",null,"517-394-2233",null,"517-394-2266",null,null,"Michigan Sales Tax",null,"Titan Equipment (Lansing)","Attn: Tom Degeest","5731 Enterprise Drive",null,null,"Lansing","MI","48911"]
["Titan Equipment Byron Center (Kleynenberg","Eric Kleynenberg",null," 616-530-2233"," 616-877-3344"," 616-734-0747","ekleynenberg@titaneq.com",null,null,null,"Titan Equipment Byron Center","6190 Clyde Park SW",null,null,null,"Byron Center","MI","49315","Mr.","Kleynenberg",null,"Contractor General","Kent"]
["Titan Equipment Lansing (DeGeest)","Tom DeGeest",null," 517-394-2233",null," 517-394-2266","tdegeest@titaneq.com",null,null,null,"Titan Equipment Lansing","5731 Enterprise Drive",null,null,null,"Lansing","MI","48911","Mr.","DeGeest",null,"Contractor General","Ingham"]
["Tittabawassee Township DPW (Trembath)","Douglas Trembath",null," 989-695-6517",null," 989-695-6572","dtrembath@wadetrim.com",null,null,null,"Tittabawassee Township DPW","9560 Pierce","PO Box 158",null,null,"Freeland","MI","48623-0158","Mr.","Trembath","Project Manager","Municipal, Cty","Saginaw"]
["TL Masonry",null,null,"616-527-1800 Main","616-642-9300 (unsure)",null,null,null,"Michigan Sales Tax",null,"TL Masonry","Attn: Sherry","1828 Bates Rd.",null,null,"Ionia","MI","48846"]
["Toering Electric Co. (Big Rapids)",null,"John Earl","231-796-5522","616-293-1991","231-796-4985",null,null,"Michigan Sales Tax",null,"Toering Electric Co. (Big Rapids)","Attn:","1207 Maple Street",null,null,"Big Rapids","MI","49307"]
["Toering Electric Co. (DuShane)","Russ DuShane",null," 616-245-0271",null," 616-245-0309","rdushane@toering.com",null,null,"Scott Zuverink mob 616-862-1680 \nTim Anderson Dir of Field Opns mob 616.862.8955\nTom Hoolsema Svc Mgr mob 616.291.0142\nJoe Kremer, Todd Knight\nBig Rapids:  Patrick Maddox pmaddox@toering.com","Toering Electric Co.","3714 Buchanan Avenue SW",null,null,null,"Grand Rapids","MI","49548","Mr.","DuShane","Safety Director","Contractor Electrical","Kent"]
["Toering Electric Co. (Grand Rapids)","Russ DuShane",null,"616-245-0271",null,"616-245-0309",null,null,"Michigan Sales Tax",null,"Toering Electric Co. (Grand Rapids)","Attn:","3714 Buchanan Avenue SW",null,null,"Grand Rapids","MI","49548"]
["Toering Electric Co. (Maddox)","Patrick Maddox",null," 231-796-5522",null," 231-796-4985","pmaddox@toering.com",null,null,null,"Toering Electric Co.","1207 Maple Street",null,null,null,"Big Rapids","MI","49307","Mr.","Maddox",null,"Contractor Electrical","Kent"]
["Tokico (USA)","Caroline Eades(buyer)",null,"859-985-2148",null,null,null,null,"Out of State",null,"Tokico (USA)","North Plant","PO#","301 Mayde Rd.",null,"Berea","KY","40403"]
["Tokico USA (Reno)","Lauren Reno",null," 859-228-1036"," 859-986-2359"," 859-986-7307","lreno@tokicousa.com",null,null,null,"Tokico USA","301 Mayde Road",null,null,null,"Berea","KY","40403","Ms.","Reno",null,"Automotive","Out of State"]
["Total Development Solutions","Josh Ingram",null,"703-926-9759",null,null,null,null,"Out of State",null,"Total Development Solutions","Attn: Josh Ingram","7805 Progress Ct.",null,null,"Gainesville","VA","201554"]
["Total Loss Control Services, Inc. (Behren","Chuck Behrend, Sr.",null," 616-878-0171",null,null,null,null,null,null,"Total Loss Control Services, Inc.","2996 Rush Creek Drive SW",null,null,null,"Byron Center","MI",null,"Mr.","Behrend","Owner","Contractor EH&S","Kent"]
["Total Plastics Inc. (Byers)","Kelly Byers",null," 616-530-0055"," 800-456-0400"," 616-530-0852",null,null,null,null,"Total Plastics Inc.","1652 Gezon Parkway",null,null,null,"Grand Haven","MI","49509","Mr.","Byers",null,"Supplier","Kent"]
["Tower Painting & Lamping","Dan Clark",null,null,null,null,null,null,"Michigan Sales Tax",null,"Tower Painting & Lamping","Attn: Dan Clark","215 Elm St.",null,null,"Caladonia","MI"]
["Town and Country Group (Engel)","Lisa Engel",null," 616-772-6746",null," 616-772-4735","lisae@tcgroupinc.com",null,null,null,"Town and Country Group","9327 Riley St.",null,null,null,"Zeeland","MI","49464","Mrs.","Engel","Administrative Assistant",null,"Ottawa"]
["Towns Brothers Construction (Shaun)","Jan or Shaun",null," 231-845-5115",null,null,null,null,null,"Cold call successful\n-spoke with Jan for an extended period of time\n-house on the side of their operation is where everyone works out of\n-typical PPE needs\n-primarily a trucking business\nSaw a sign while in Ludington a week ago.\nTry cold calling in near future.","Towns Brothers Construction","679 S. Pere Marquette Hwy.",null,null,null,"Ludington","MI","49431",null,"Shaun","Office Manager/Safety","Construction/Trucking","Mason"]
["Toyota Motor Manufacturing Mississippi (E","Kimberly Eich",null," 662-317-3136",null," 662-317-3001","kimberly.eich@tema.toyota.com",null,null,null,"Toyota Motor Manufacturing Mississippi","1200 Magnolia Way",null,null,null,"Blue Springs","MS",null,"Ms.","Eich",null,"Automotive","Out of State"]
["Toyota Tsusho America, Inc.","Jan clark",null,"502-868-3464",null,null,"jan_clark@taiamerica.com",null,"Out of State",null,"Toyota Tsusho America, Inc.","Attn:po # IS10999428","203 Service Dr.",null,null,"Tupelo","MS","38804"]
["Trace Analytical (Muskegon)","Mike Terry",null,"231-773-5998 x-252",null,null,"mterry@trace-labs.com",null,"Michigan Sales Tax","Dee A/P","Trace Analytical (Muskegon)","Mike Terry","2241 Black Creek Road",null,null,"Muskegon","MI","49444"]
["Trace Anaylytical Laboratories, Inc. (Min","Jon Mink",null," 231-773-5998 241",null," 231-773-6537",null,null,null,"Bruce Pelletier & Dr. Bill Schroeder owners;  Mike Terry CIH x252","Trace Anaylytical Laboratories, Inc.","2241 Black Creek Road",null,null,null,"Muskegon","MI","49444-2673","Mr.","Mink","Technical Systems Manager","Contractor EH&S","Muskegon"]
["Trace Anaylytical Laboratories, Inc. (Ter","Mike Terry",null," 231-773-5998"," 800-733-5998"," 231-773-6537","mterry@trace-labs.com",null,null,null,"Trace Anaylytical Laboratories, Inc.","2241 Black Creek Road",null,null,null,"Muskegon","MI","49444-2673","Mr.","Terry","QA/QC Manager","Contractor EH&S","Muskegon"]
["Track Corporation","Sonya Warber",null,null,null,null,null,null,"Michigan Sales Tax",null,"Track Corporation","Sonya Warber","17024 Taft Road",null,null,"Spring Lake","MI","49456","Ms.","Warber"]
["Track Corporation (Heatherington)","Dave Heatherington",null," 616-844-2471 436",null," 616-844-2476",null,null,null,"Renting 2 noise dosimeters for 1 week. Ship Thurs. 9.4.03.\nMel Smith is new safety contact","Track Corporation","17024 Taft Road",null,null,null,"Spring Lake","MI","49456","Mr.","Heatherington","Safety Manager","Automotive","Ottawa"]
["Tractel Ltd. Fallstop Division (Knapp)","Doug Knapp",null," 800-561-3229"," 651-388-9296"," 514-493-3342","doug.knapp@tractel.com",null,null,null,"Tractel Ltd. Fallstop Division","11020 Mirabeau St.",null,null,null,"Anjou","MIQuebec","H1J 2S3",null,"Knapp","National Sales Manager","www.tractel.com","N/A"]
["Trane Company",null,null,null,null,null,"sfarmer@trane.com",null,"Michigan Sales Tax","A/P - Sheree \"pronounced Sherry\" Farmer 616-971-1475 - email: sfarmer@trane.com\n\nRoss Porter (Kzoo) office: 269-998-0335","Trane Company","Attn: Ross Porter","5111 E ML Ave, Suite# A100",null,null,"Kalamazoo","MI"]
["Trans-Matic","Joe Hartings","act pbl fx:616-820-2716","616-820-2407",null,"616-820-2704",null,null,"Use Tax Rental","Joe Hartings - cell: 616-866-9458\nDennis Wynalda - office:  616-820-2538","Trans-Matic","Joe Hartings PO P090569-00","300 East 48th Street",null,null,"Holland","MI","49423"]
["Trans-Matic (Eich)","Harvey Eich",null," 616-820-2459",null," 616-820-2488","heich@transmatic.com",null,null,null,"Trans-Matic","300 East 48th Street",null,null,null,"Holland","MI","49423",null,"Eich","Plant Engineering Mgr",null,"Ottawa"]
["Trans-Matic (Hartings)","Joe Hartings",null," 616-820-2407",null," 616-820-2704","jhartings@transmatic.com",null,null,null,"Trans-Matic","300 East 48th Street",null,null,null,"Holland","MI","49423","Mr.","Hartings","Safety & Training Manager","Automotive","Ottawa"]
["TransCanada (Bridgman, MI)",null,null,null,null,null,null,null,"Michigan Sales Tax",null,"TransCanada (Bridgman, MI)","Attn:","3372 Browntown Road",null,null,"Bridgman","MI","49106"]
["TransCanada (Weston)","Michael Weston",null," 219-781-8516",null,null,"michael_weston@transcanada.com",null,null,null,"TransCanada","3372 Browntown Raod",null,null,null,"Bridgman","MI","49106","Mr.","Weston",null,"Petroleum Related","Berrien"]
["Transmatic Precision Metal (Suzho Co.Ltd)","Joe Hartings",null,"616-820-2407",null,null,null,null,"Non-Tax",null,"Transmatic MFG.Co.","PO# P090569-00","300 East 48th Street",null,null,"Holland","MI","49423"]
["Traverse City Fire Department, City of (F","Terry Flynn",null," 231-922-4930",null," 231-922-4872",null,null,null,null,"Traverse City Fire Department, City of","500 W. Front",null,null,null,"Traverse City","MI","49684","Mr.","Flynn",null,"Fire Department","Grand Traverse"]
["Trendway (Dowling)","Jim Dowling",null," 616-399-3900",null," 616-399-0668",null,null,null,"Dave Williams, Mntc","Trendway","13467 Quincy Street","PO Box 9016",null,null,"Holland","MI","49422-9016","Mr.","Dowling","Safety Manager","Furniture","Ottawa"]
["Tri Buana Persada (Afiandana)","Kiky Afiandana",null,null,null,null,"afiandana@gmail.com",null,null,"tel 6285285760789","Tri Buana Persada","Pulomas, Jakarta Timur 12810",null,null,null,"Jakarta Timur",null,"12810","Mr.","Afiandana",null,null,"Out of State"]
["Tri K Construction (Kooiker)","Rick Kooiker",null," 616-892-6666",null," 616-892-6660",null,null,null,null,"Tri K Construction","8616 Lake Michigan Dr.",null,null,null,"West Olive","MI","49460","Mr.","Kooiker","Co-Owner","Contractor EH&S","Ottawa"]
["Tri-Com Haz Mat (Wenzel)","Janet Wenzel",null," 616-949-1500",null," 616-949-3918",null,null,null,null,"Tri-Com Haz Mat","4775 Walma",null,null,null,"Kentwood","MI","49518",null,"Wenzel",null,null,"Kent"]
["Tri-Comm Haz Mat","Greg Ginebaugh","Steve Hoving","616-554-0807",null,"616-554-0799",null,null,"Non-Tax Municipality/Utility","Janet Wenzel pays the bills Phone 949-1500 fax: 949-3918\nNancy Shane is the master at getting things paid Ph: 554-0803 Fax:554-0799\nFax a  coppy clearly marked as such to Janet and original invoice to the person making the purchase to put through for approval\n\nFax a copy of Steve's invoices to him please:\n\nSteve Hoving sites in Station #2\nPhone: 616-949-1780\nFax: 616-554-0785\n4151 Embassy Dr. SE\nKentwoood, MI 49546","Tri-Comm Haz Mat","Attn: Steve Hoving","4775 Walma Ave. SE",null,null,"Kentwood","MI","49518-8848","Capt.","Ginebaugh"]
["Tri-Mer Corporation","Janie Hunt",null,"989-723-7838",null,null,null,null,"Michigan Sales Tax",null,"Tri-Mer Corporation","Attn:Janie Hunt","1400 East Monroe Street",null,null,"Owosso","MI","48867"]
["Triad Engineering & Contracting, Inc. (Os","W. Gregory Oster",null," 440-786-1000",null," 440-786-1133","goster@triad-engineering.com",null,null,"For Berea WWTP proposal","Triad Engineering & Contracting, Inc.","7575 Northfield Road",null,null,null,"Walton Hills","OH","44146","Mr.","Oster",null,"Engineering, Architecture","Out of State"]
["Triangle Associates",null,"Gregg Schievink","616-453-3950","616-453-2684","616-453-5952",null,null,"Michigan Sales Tax","Frank Umlar (cell) - 616-890-8201","Triangle Associates","Attn:Gregg Schievink","3769 Three Mile Road",null,null,"Grand Rapids","MI","49544"]
["Triangle Associates (Schievink)","Gregg Schievink",null," 616-453-2684",null," 616-453-5952","greggs@triangle-inc.com",null,null,"Send fall training outline\nFall Training; met Jim Hyser VP COO\nFrank Ulmor, stores, mob 616.890.8201   2700 Mullins (2 Blocks E of HQ)\nMark Storey, Site Supt., mob 616.862.9064","Triangle Associates","3769 Three Mile Road",null,null,null,"Grand Rapids","MI","49544","Mr.","Schievink","General Superintendent","Contractor General","Kent"]
["Triangle Associates (Ulmor)","Frank Ulmor",null," 616-835-6429",null,null,null,null,null,"Per Greg S","Triangle Associates","1560 Taylor",null,null,null,"Grand Rapids","MI",null,"Mr.","Ulmor",null,"Contractor General","Kent"]
["Triangle Associates (Umlor)","Frank Umlor",null,null,null," 616-453-5952",null,null,null,null,"Triangle Associates","1560 Taylor",null,null,null,"Grand Rapids","MI","49503","Mr.","Umlor","Stores","Contractor General","Kent"]
["Triangle Design Inc.","Tim Sanders",null,"616-895-7330","616-437-3307","616-895-7350",null,null,"Michigan Sales Tax",null,"Triangle Design Inc.","Tim Sanders","5225 Edgewater Drive",null,null,"Allendale","MI","49401","Mr.","Sanders"]
["Triangle Design Inc. (Sanders)","Tim Sanders",null," 616-895-7330"," 800-278-5447"," 616-895-7350","timmy@triangledesign.com",null,null,null,"Triangle Design Inc.","5225 Edgewater Drive",null,null,null,"Allendale","MI","49401","Mr.","Sanders","President","Contractor General","Ottawa"]
["Triangle Electric Company (Kowynia)","Kelly Kowynia",null," 248.399.2200",null," 248-399-2612","kkowynia@trielec.com",null,null,"Cal Gas Customer; has BW","Triangle Electric Company","29787 Stephenson Hwy.",null,null,null,"Madison Heights","MI","48071","Ms.","Kowynia","Safety Director","Contractor Electrical","Macomb"]
["Tridonn Construction","Roger Hubestreit",null,"231-777-2681","231-206-5649 mob","231-777-2506",null,null,"Michigan Sales Tax",null,"Tridonn Construction","Attn: Bernie Lacross","1461 Evanston Ave.",null,null,"Muskegon","MI","49442","Mr.","Hebestreit"]
["Tridonn Construction (Hebestreit)","Roger Hebestreit",null," 231-777-2681",null," 231-777-2506",null,null,null,null,"Tridonn Construction","1461 Evanston Avenue",null,null,null,"Muskegon","MI","49442","Mr.","Hebestreit",null,"Contractor General","Muskegon"]
["Tridonn Construction (Kelly)","Jim Kelly",null," 231-777-2681 223",null," 231-777-2506",null,null,null,"New. Also, Brian Johnson (VP); Brian Boersema 231.206.4278 and John Hegedus.  See also Roger Hebestreit.  Ed Hill 231.206.1788 mob Project Mgr at Alcoa Howmet.","Tridonn Construction","1461 Evanston Avenue",null,null,null,"Muskegon","MI","49442","Mr.","Kelly","Safety Director","Contractor General","Muskegon"]
["Tridonn Construction (LaCross)","Bernie LaCross",null," 231-777-2681",null," 231-777-2506",null,null,null,null,"Tridonn Construction","1461 Evanston Avenue",null,null,null,"Muskegon","MI","49442","Mr.","LaCross","Safety Director","Contractor General","Muskegon"]
["Trinity Environmental Services, Inc.","Rick Schmehil",null,"231-730-2419","cell 231-730-1856","231-894-8102","rick@trinityenvironmentalservices.com",null,"Non-Tax","2000 net 30","Trinity Environmental Services, Inc.","Rick Schmehil","4914 West Michillinda Rd",null,null,"Whitehall","MI","49461"]
["Trinity Environmental Services, Inc. (Sch","Rick Schmehil",null," 231-730-2419",null," 231-894-8102","rick@trinityenvironmentalservices.com",null,null,null,"Trinity Environmental Services, Inc.","4914 West Michillinda Rd",null,null,null,"Whitehall","MI","49461","Mr.","Schmehil",null,"Contractor EH&S","Muskegon"]
["Trinity Lutheran Church",null,"Rhonda Van Deusen","616-949-2510",null,"616-949-2852",null,null,"NonTx Re-Sale",null,"Trinity Lutheran Church","Attn:","2700 East Fulton Street",null,null,"Grand Rapids","MI","49506"]
["Triumph Hospital Detroit","Bob Boyd",null,"313-369-5831",null,"313-369-5833",null,null,"Michigan Sales Tax",null,"Triumph Hospital Detroit","Attn:Bob Boyd","4777 East Outer Dr.",null,null,"Detroit","MI","48234"]
["TRK Engineering Services Inc. (Bousquet)","Paul R. Bousquet",null," 734-327-2995",null,null,"trkeng@apcnetwork.com",null,null,null,"TRK Engineering Services Inc.",null,null,null,null,"Lansing","MI",null,"Mr.","Bousquet","Site Engineer Lansing BWL","Engineering, Architecture","Ingham"]
["TroyBooke (Walker, MI)","Bob Derby",null,"616-520-5411",null,"616-791-9440",null,null,"Michigan Sales Tax",null,"TroyBooke (Walker, MI)","Attn: Bob Derby","1554 Getties NW",null,null,"Walker","MI","49534"]
["TruHeat, Inc. (Muller)","Nelson Muller",null," 269-673-2146 3034",null," 269-673-7219",null,null,null,null,"TruHeat, Inc.","700 Grand St.",null,null,null,"Allegan","MI","49010","Mr.","Muller","Safety/Purchasing",null,"Allegan"]
["Trust Thermal Abatement & Flooring",null,"Dave Baldwin","517-669-8834","517-202-5792 Cell","517-669-8836","davebaldwin@trustthermal.com",null,"Michigan Sales Tax",null,"Trust Thermal Abatement & Flooring","Attn:","11530 S. US 27",null,null,"Dewitt","MI","48820"]
["TRW Automotive (Mt. Vernon)",null,"Bob Miller ext.5244","740-397-3155",null,null,null,null,"Out of State","11/22/10 changed to net 60 terms per Brandon's request","TRW Automotive (Mt. Vernon)","Attn: Bob Miller","8405 Blackjack Road",null,null,"Mt. Vernon","OH","43050"]
["TRW Automotive (Rugnetta)","Vincent C. Rugnetta",null," 517-223-7015",null," 517-223-7006","fingersmeet@tds.net",null,null,"met at MI safety safety conference","TRW Automotive","500 E. Van Riper Road",null,null,null,"Fowlerville","MI","48836","Mr.","Rugnetta","Manager","Automotive","Livingston"]
["TRW Comm. Steering Systems (Portland)",null,"Steve Shinaver","517-647-0263",null,null,null,null,"Non-Tax",null,"TRW Comm. Steering Systems (Portland)","Attn: Tim Cougar","902 Lyons Road",null,null,"Portland","MI","48875"]
["TRW Commercial Steering Systems (Shinaver","Steve Shinaver",null," 517-647-0263",null,null,"steve.shinaver@trw.com",null,null,null,"TRW Commercial Steering Systems","902 Lyons Road",null,null,null,"Portland","MI","48875","Mr.","Shinaver",null,"Automotive","Ionia"]
["TRW Commercial Steering Systems (Smith)","Mark Smith",null," 517-647-0282",null,null,"mark.h.smith@trw.com",null,null,"Referral of Brian Head","TRW Commercial Steering Systems","902 Lyons Road",null,null,null,"Portland","MI","48875","Mr.","Smith","Skilled Trades Facilitator","Automotive","Ionia"]
["TRW Commercial Steering Systemsfrank (Put","Al Putvin",null," 517-647-0313",null,null,"al.putvin@trw.com",null,null,"Scott Ostrander 517.526.4803 Mntc Expediter","TRW Commercial Steering Systemsfrank","902 Lyons Road",null,null,null,"Portland","MI","48875","Mr.","Putvin","Facility Engineer","Automotive","Ionia"]
["TSC Electronics (Gamble)","Dawn Gamble",null," 310-534-2738 103",null," 310-534-3216",null,null,null,null,"TSC Electronics","1610 Lockness Place",null,null,null,"Torrance","CA","90501","Mrs.","Gamble",null,null,"Na"]
["Tubelite","Charlie Monroe","Codi Baars","616-808-2526",null,null,null,null,null,null,"Tubelite","Attn: Charlie Monroe","3056 Walker Ridge Dr. NW","Suite G",null,"Walker","MI","49544"]
["Tuf-Tug Products (Deuer)","Joey Deuer",null," 937-299-1213",null," 937-299-0120","tuftug@aol.com",null,null,null,"Tuf-Tug Products","3434 Encrete Lane",null,null,null,"Moraine","OH","45439","Mr.","Deuer",null,"Supplier","Out of State"]
["Tuff Built Products, Inc. (Riley)","Colin Riley",null," 877-422-6053"," 204-222-4025"," 204-222-4080","criley@tuffbuilt.ca",null,null,null,"Tuff Built Products, Inc.","959 Redonda","Box 33 Group 582 RR #5",null,null,"Winnipeg","MB","R2C 2Z2","Mr.","Riley",null,"Supplier","Out of State"]
["Tulip City Airport (Osbourne)","Mick Osbourne",null," 616-392-7831",null," 616-392-1841",null,null,null,null,"Tulip City Airport","1581 Wachington Ave.",null,null,null,"Holland","MI","49423","Mr.","Osbourne","Safety Director","Airport","Ottawa"]
["Tunnel Vision Pipeline Services","Jim Laughbaum",null,"906-786-0460",null,"906 786-2340","jlaughbaum@uprubber.com",null,"Michigan Sales Tax","Lindsey - Works in office","Tunnel Vision Pipeline Services","div. of Upper Peninsula Rubber","2101 North 19th Street","Bldg B  (Lindsay)",null,"Escanaba","MI","49829"]
["Turner Construction","Carrie Schmechel",null,"616-532-4430",null,"616-532-2914",null,null,"Michigan Sales Tax",null,"Turner Construction","Attn:Carrie Schmechel","5912 Byron Center Avenue",null,null,"Wyoming","MI","49519"]
["Turner Construction Company (Barber)","Joseph Barber",null," 616-532-4430",null," 616-532-2914","jbarber@tcco.com",null,null,"Metro Hosp. Project\nMet Carrie Schmechel (Safety) mob 616.835.2207. Chris? site manager?","Turner Construction Company","5912 Byron Center Avenue",null,null,null,"Wyoming","MI","49519","Mr.","Barber","Superintendent","Contractor General","Kent"]
["Turner Construction Company (Schmechel)","Carrie Schmechel",null," 616-532-4430",null," 616-532-2914","cschmechel@tcco.com",null,null,null,"Turner Construction Company","5912 Byron Center Avenue",null,null,null,"Wyoming","MI","49519","Ms.","Schmechel","Safety Manager","Contractor General","Kent"]
["TYCO ()",null,null," 610-363-5450",null," 610-363-0167",null,null,null,null,"TYCO","251 Welsh Pool Rd.",null,null,null,"Exton","PA","19341",null,null,null,"Supplier","Na"]
["Tyler Fire Equipment (Buffalo)","Home Office","Doug Moore","716-684-6442","716-725-7555",null,null,null,"Out of State",null,"Tyler Fire Equipment (Buffalo)","Doug Moore","33 Poinciana Parkway",null,null,"Buffalo","NY","14225"]
["UASI (DeRose)","Doug DeRose",null," 800-421-7081",null," 937-382-0557",null,null,null,"Patty; Dennis Nagy 419.344.0953\nCarol Moore our new inside rep\nPaul McDonald  or Jamie for special hard hat pricing","UASI","105 American Way",null,null,null,"Wilmington","OH","45177","Mr.","DeRose",null,"Supplier","Out of State"]
["Ulliman Schutte Construction","Chuck Orick",null,"937-910-9900","michele x224 acctng","937-910-9910",null,null,"Michigan Sales Tax",null,"Ulliman Schutte Construction po 0802","c/o Little Miami Treatment Plant","225 Wilmer Ave",null,null,"Cincinnati","OH","45225"]
["Ultra-Safe Inc. (Sharp)","Marty Sharp",null," 800-850-5914",null," 602-278-5075","marty@ultrasafeusa.com",null,null,"Marty recommended Marc Desjardins of Hy-Work for Gantry System\n  800.730.0998l  mob 705.698.2225   marc@highwork.ca\nRay Wisrock upstairs for any measurements, etc.  480.208.6091\nMarty's son is Franklin\nEric Conklin\nJim McDonald ph 630.628.6888   mob 727.364.5546\nBill Klaus Arizona Wire & Rope\nRobt Mendoza Mgr. for Ultra-Safe","Ultra-Safe Inc.","2339 N. 34th Drive",null,null,null,"Phoenix","AZ","85009","Mr.","Sharp",null,"Supplier","Out of State"]
["UltraTech International, Inc. (Kimball)","Phyl Kimball",null," 800-353-1611 211"," 904-292-1611"," 904-292-1325","phyl@stormwater-products.com",null,null,"Ken Strange x214 is good.  Chad Davis, Lance\nMario Cruz Mktg Mgr.\nMark Shaw VP,  \nTad Hayman VP x206 mob 904.923.0277 handles trackpans tad@spillcontainment.com","UltraTech International, Inc.","11542 Davis Creek Court",null,null,null,"Jacksonville","FL","32256","Mr.","Kimball","Stormwater Market Manager","Supplier","Out State"]
["Underwater Kinetics (Putas)","Paul Putas",null," 800-327-7388"," 858-513-9100"," 858-513-9111",null,null,null,null,"Underwater Kinetics","13400 Daneilson Street",null,null,null,"Poway","CA","92064","Mr.","Putas","Industrial Sales Manager","Supplier","Out of State"]
["Uni-Pac, Inc. (Newman)","Theresa Newman",null," 269-673-8488",null," 269-673-4518","tnewman@room2work.com",null,null,null,"Uni-Pac, Inc.","809 Airway Dr.",null,null,null,"Allegan","MI","49010","Mrs.","Newman","Office Manager",null,"Allegan"]
["Uniform Color Company","Derek McCormick",null,"616-394-3800",null,null,"dmccormick@uniformcolor.com",null,"Michigan Sales Tax",null,"Uniform Color Company","Attn:","905 Brooks Ave",null,null,"Holland","MI","49423"]
["Uniform Color Company (McCormick)","Derek McCormick",null,"(616) 394-3800",null,null,"dmccormick@uniformcolor.com",null,null,null,"Uniform Color Company","942 Brooks Avenue",null,null,null,"Holland","MI","49423",null,"McCormick","Safety & Compliance Manager","Chemical Pharmaceutical","Ottawa"]
["Unilever Foods North America",null,"Richard Reeves ext-399","260-356-9530",null,"260-356-0855","richard.reeves@unilever.com",null,"Out of State",null,"Unilever Foods North America","Attn:","435 West State Street",null,null,"Huntington","IN","46750"]
["Unilever Foods North America (Huntington)","Richard Reeves",null," 260-356-9530 399",null," 260-356-0855","richard.reeves@unilever.com",null,null,null,"Unilever Foods North America (Huntington)","Foods North America","435 West State Street",null,null,"Huntington","IN","46750","Mr.","Reeves","Safety Facilitator","Food","Out of State"]
["Union Square Development",null,"Alyssa Mathysse","616-988-6469","616-828-3288 mobile",null,"616-450-6936 mobile",null,"Michigan Sales Tax",null,"Union Square Development","Attn: Alyssa","600 Broadway NW",null,null,"Grand Rapids","MI","49504"]
["Unishippers (Pasch)","Brian Pasch",null," 800-699-1577 1",null," 888-699-1578",null,null,null,"Freight 1  Patty Reed bad. Jim Courtwright good.\nTim Hunt","Unishippers","6115  - 28th St",null,null,null,"Grand Rapids","MI","49546",null,"Pasch",null,"Suppliers","Kent"]
["United Sales Associates (Byxbe)","Scott Byxbe",null,null,null," 616-532-4580","scott.byxbe@unitedsales.com",null,null,null,"United Sales Associates","4075 S. Osage",null,null,null,"Grandville","MI","49418","Mr.","Byxbe",null,"Representative","Kent"]
["United States Steel Corporation (Peters)","Robert Peters",null," 313-749-5113",null," 313-749-2401","rlpeters@uss.com",null,null,"Rich Low, IH 313.749.2606; Romney Payne services instruments.\nVince.","United States Steel Corporation","Great Lakes Works","#1 Quality Drive",null,null,"Ecorse","MI","48229","Mr.","Peters","Sr. Staff Supervisor, Security","Steel","Wayne"]
["United Taconite LLC","Pete Kemp",null,"218-744-7876 buyer",null,"218-744-5841 buyer","utacpayables@cliffsnr.com",null,"NTDRPAY",null,"United Taconite Mine","Attn: Pete Kemp  PO# U77976","801 Park Ave. HYW 53",null,null,"Eveleth","MN","55734"]
["United Water (Grand Rapids)","Michael Ringelberg",null,"616-940-2414 direct","616.802.4557 mob","616-974-0621","michael.ringelberg@unitedwater.com",null,"Use Tax Rental","Bruce Bunnell - cell: 616-291-4616\n4715.2900.1854.0950\n\nMike Ringelberg - cell: 616-802-4557\nMC: 4715-2900-1202-3342 Exp 10/13\n\nMatt Delaney - cell:  734-341-6994, email: matthew.delaney@unitedwater.com","United Water (Grand Rapids)","Attn: Matt Delaney","300 Ottawa Ave NW","Suite 240",null,"Grand Rapids","MI","49503"]
["United Water (Huber Heights)","Pam Whited","Ben Roe / Scott West","937-233-3292",null,"937-233-0874",null,null,"OH Montgomery Co.","\nBen Roe - Tony's boss - Cell:  937-313-7397\nBen's fax for credit card invoices\nVISA: 4715-2900-1612-3197 x10/13\n\nmost things go to the city of Huber hts and are tax exempt","United Water (Huber Heights)","Attn:","6244 Chambersburg",null,null,"Huber Heights","OH","45424"]
["United Water (Muskegon)",null,"David Rowe","231-724-2898",null,"231-724-2998","david.rowe@unitedwater.com",null,"Michigan Sales Tax","Jon Cregg - Cell: 231-578-3307","United Water (Muskegon)","Attn: Jon Cregg","1934 East Apple Ave","PMB 137",null,"Muskegon","MI","49442"]
["United Water (Oscoda)","Ron Smith / Ryan",null,"989-739-8152",null,"989-739-0800","ronald.smith@unitedwater.com",null,"Michigan Sales Tax",null,"United Water (Oscoda)","Attn:","4466 McNichol Ave.",null,null,"Oscoda","MI","48750"]
["United Water (Pontiac)","Matt Delaney","Mark Robinson","734-341-6994 cell","920-918-2466",null,null,null,"Michigan Sales Tax","Mark Robinson - email: mark.robinson@unitedwater.com\n\nAccts payable in NJ nice and competant:\nDiane Rawdon\n700 Kinderkamack Road\nOradell, NJ 07649\nPh: 201-261-5224, X4354\nFAX:  201-634-4213\nEmail: diane.rawdon@unitedwater.com\n\nAccts payable in Grand Rapids - Overwhelmed \nKrista.Sheldon@unitedwater.com\n616-940.2415\n","Matt Delaney (home)","404 Salus Dr.",null,null,null,"Waterford","MI","48327"]
["United Water (Portage)",null,"Mark Duell","269-324-4896",null,"269-324-4985","FORMERLY EARTHTECH",null,"Non-Tax","Fax Invoice copy to Mary at 269-324-4985\n\nDaniel Potter - Operations Supervisor\n  daniel.potter@unitedwater.com\n\nAbby Monroe - email: abby.monroe@unitedwater.com\nOrder under $500 she puts on her credit card","United Water (Portage)","Attn: Harry Wesaw","7701 S. Westnedge Ave.",null,null,"Portage","MI","49002"]
["United Water (Ringelberg)","Michael Ringelberg",null," 616-975-4596"," 616-942-9600"," 616-942-6499","michael.ringelberg@unitedwater.com",null,null,"Promoted to safety position. Gen'l Dynamics site now Dave Rowe and John Cregg\nQuote","United Water","5555 Glenwood Hills Parkway SE","PO Box 874",null,null,"Grand Rapids","MI","49588-0874","Mr.","Ringelberg","Safety Coordinator","Contractor EH&S","Kent"]
["United Water (Rockwood)","David Kulju",null,"734-379-5652",null,"734-379-4960",null,null,"Michigan Sales Tax","United Water lost this contract 11/2011 new contractor will be Fleis and VandernBrink Engineering","United Water (Rockwood)","Attn:","33653 Swallow Drive",null,null,"Rockwood","MI","48173"]
["United Water (Tawas)",null,null,"989-362-7619",null,"989-362-7620",null,null,"Michigan Sales Tax","George Holzworth","United Water (Tawas)","c/o: Tawas Utility Authority, WWTP","Attn:","810 W. Franklin",null,"East Tawas","MI","48730"]
["United Water (Tawas) (Robb)","Dan Robb",null," 989-362-7619",null," 989-362-7620",null,null,null,null,"United Water (Tawas)","810 W. Franklin","c/o: Tawas Utility Authority",null,null,"Tawas","MI","48730","Mr.","Robb","WWTP Manager","Municipal, Cty","Iosco"]
["United Water (Timmer)","Gary J. Timmer",null," 231-724-2898",null," 231-724-2998","gary.timmer@earthtech.com",null,null,"Met briefly. Reports to Ron Partilla\nMatt Delaney of Detroit Metro --> Frank Maida","United Water","1810 Ruddiman, Suite E",null,null,null,"North Muskegon","MI","49445","Mr.","Timmer","Regional Safety Coordinator","Contractor EH&S","Muskegon"]
["United Water - Grand Rapids (Delaney)","Matt Delaney",null," 616-974-0673",null," 616-974-0621","matthew.delaney@unitedwater.com",null,null,null,"United Water - Grand Rapids","5555 Glenwood Hills Pkwy SE","Suite 300",null,null,"Grand Rapids","MI","49512","Mr.","Delaney",null,null,"Kent"]
["United Water Andrews University (Scheffer","John Scheffers",null,null,null," 269-471-3461","john.scheffers@unitedwater.com",null,null,null,"United Water Andrews University","Andrews University",null,null,null,"Berien Springs","MI","49104","Mr.","Scheffers",null,"Municipal, Cty","Berrien"]
["United Water Bensenville (Koveski)","Amy Koveski",null," 630-350-3486",null," 630-350-8640","returned",null,null,null,"United Water Bensenville","711 East Jefferson Street",null,null,null,"Bensenville","IL","60106","Ms.","Koveski",null,"Municipal, Cty","Out of State"]
["United Water General Dynamics (Rowe)","Dave Rowe",null,null,null,null,null,null,null,"also, John Cregg. Per Gary Timmer","United Water General Dynamics","76 Getty",null,null,null,"Muskegon","MI","49442-1296","Mr.","Rowe",null,"Contractor EH&S","Muskegon"]
["United Water Gladwin (Deyarmond)","Richard Deyarmond",null," 989-426-4351 22",null," 989-426-1277","returned",null,null,null,"United Water Gladwin","4989 North Hockaday Road",null,null,null,"Gladwin","MI","48624","Mr.","Deyarmond","Operations Manager","Municipal, Cty","Gladwin"]
["United Water Huber Hts (Cheshire)","Brian Cheshire",null," 937-313-0727",null," 937-233-0874","brian.cheshire@earthtech.com",null,null,null,"United Water Huber Hts","6244 Cambersburg Road",null,null,null,"Huber Heights","OH","45424","Mr.","Cheshire","Site Safety Manager","Municipal, Cty","Out of State"]
["United Water Huber Hts (West)","Scott West",null," 937-233-3292",null," 937-233-0874",null,null,null,null,"United Water Huber Hts","6569 Brandt Pike",null,null,null,"Huber Heights","OH","45424","Mr.","West",null,"Municipal, Cty","Out of State"]
["United Water Oscoda (Buckmeier)","Loretta Buckmeier",null," 989-739-8152",null," 989-739-0800","returned",null,null,null,"United Water Oscoda","4466 McNichol Avenue",null,null,null,"Oscoda","MI","48750","Ms.","Buckmeier",null,"Municipal, Cty","Iosco"]
["United Water Paw Paw (Harvey)","Bob Harvey",null,null,null," 269-657-3973","returned",null,null,"Met Andy Wms at MWEA lagoon mtg. Said to see Bob H.","United Water Paw Paw","110 Harry L. Bush Blvd.",null,null,null,"Paw Paw","MI","49079","Mr.","Harvey","Superintendent","Municipal, Cty","Van Buren"]
["United Water Portage (Duell)","Mark Duell",null," 269-324-4896",null," 269-324-4985","mark.duell@unitedwater.com",null,null,"Harry","United Water Portage","7701 South Westnedge Ave.",null,null,null,"Portage","MI","49002","Mr.","Duell","Operations Manager","Municipal, Cty","Kalamazoo"]
["United Water Portage (Karcher)","Ralph Karcher",null," 269-324-4896",null," 269-324-4985","rkarchjr@aol.com",null,null,null,"United Water Portage","7701 South Westnedge Ave.",null,null,null,"Portage","MI","49002","Mr.","Karcher","On Site Safety Cordinator","Municipal, Cty","Kalamazoo"]
["United Water Portage (Robinson)","Mark Robinson",null," 920-564-5162",null," 920-564-5162","mark.robinson@unitedwater.com",null,null,"Met at training","United Water Portage","N3144 School Street",null,null,null,"Sheboygan Falls","WI","53085","Mr.","Robinson","Safety, Health and Environment","Municipal, Cty","Out of State"]
["United Water Portland (Freed)","Lonny Freed",null," 517-647-6926",null," 517-647-2937","lonny.freed@earthtech.com",null,null,null,"United Water Portland","600 Morse Drive","PO Box 307",null,null,"Portland","MI","48875","Mr.","Freed","Superintendent","Municipal, Cty","Ionia"]
["United Water Rockwood (Kulju)","Dave Kulju",null," 734-379-5652",null," 734-379-4960","dave.kulju@earthtech.com2",null,null,null,"United Water Rockwood","33653 Swallow Drive","PO Box 99",null,null,"Rockwood","MI","48173","Mr.","Kulju",null,"Municipal, Cty","Wayne"]
["United Water SHVUA (Hemsworth)","Dave Hemsworth",null,null,null,null,"dave.hemsworth@earthtech.com",null,null,"Frank Maida (x117) is Decn Mkr","United Water SHVUA","32360 Warkop",null,null,null,"Warren","MI","48093","Mr.","Hemsworth",null,"Contractor EH&S","Macomb"]
["Unitek Instruments, Inc.",null,"Larry Cody","614-291-9909",null,"614-291-9917",null,null,"Out of State",null,"Unitek Instruments, Inc.","Attn:","865 Cleveland Ave.",null,null,"Columbus","OH","43201"]
["Universal Blastco (Michigan Office)",null,null,"616-735-6222",null,"616-735-6223",null,null,"Michigan Sales Tax","ClO2 Calibration:  $75.00\n\nLarry Haas - cell:  616-724-0084\nKen Fusee - ext.111 - cell:  616-808-7355 - email: kfusee@isginc.us\nReggie Epps (Safety Guy) - cell: 803-719-3929\nKory Cooper","Universal Blastco (Michigan Office)","Attn: Ken Fusee","2716 Courier Dr. NW","Suite F",null,"Walker","MI","49534"]
["Universal Blastco (Sumter, SC)","Chris Sicker",null,"803-773-6388",null,"803-778-4185","csicker@isginc.us",null,"Out of State","ClO2 Calibration:  $75.00\n\nChris Sicker - ext. 108 / cell: 803-468-8068\nReggie Epps (Safety Guy) - cell: 803-719-3929\n\naccts payable 803-773-6388 x102 Marsha Coolie","Universal Blastco (Sumter, SC)","Attn: Chris Sicker","318 Neeley Street",null,null,"Sumter","SC","29150"]
["Universal Blastco - South Carolina (Sicke","Chris Sicker",null," 803-773-6388 108",null," 803-778-4185","csicker@isginc.us",null,null,null,"Universal Blastco - South Carolina","318 Neeley Street",null,null,null,"Sumter","SC","29150","Mr.","Sicker",null,"Contractor General","Out of State"]
["Universal Insurance Services Inc. (Steffe","Nathan Steffen",null," 616-913-0735",null," 616-234-1635","nsteffen@uis-inc.com",null,null,"www.ehsnow.com  (800) 463-7817","Universal Insurance Services Inc.","648 Monroe NW  Ste. 300",null,null,null,"Grand Rapids","MI","49503","Mr.","Steffen","Manager, Risk Control Solution","Insurance","Kent"]
["University of Michigan Engeneering","Whitney Hovan/Emmelia",null,"734-223-6587","724-646-5778",null,null,null,"Michigan Sales Tax",null,"Whitney Hovan","1931 Duffield St",null,null,null,"Ann Arbor","MI","48109"]
["University of Michigan OSEH (Blatnik)","Heather Blatnik",null," 734-615-6367",null," 734-763-1185","blatnikh@umich.edu",null,null,"Soil Erosion Conf. Quote custom trench drain guard.","University of Michigan OSEH","Campus Safety Services Building","1239 Kipke Drive",null,null,"Ann Arbor","MI","48109-1010","Ms.","Blatnik","Environmental Specialist","School","Washtenaw"]
["Univertical Chemical Company",null,null,"260-665-1500",null,"260-665-1400","cpontorno@univertical.com",null,"Out of State","UPS Acct.#1A2R37\n\nChris Pontorno\nRobin Gnagy - 260-665-7839, email: rgnagy@univertical.com","Univertical Chemical Company","Attn:Robin Gnagy PO# 200523","203 Weatherhead",null,null,"Angola","IN","46703"]
["Univertical Chemical Company (Pontorno)","Chris Pontorno",null," 260-665-1500",null," 260-665-1400","cpontorno@univertical.com",null,null,null,"Univertical Chemical Company","203 Weatherhead",null,null,null,"Angola","IN","46703","Mr.","Pontorno",null,"Chemical Pharmaceutical","Out of State"]
["URI Atlantic Union Resources (Patten)","Chris Patten",null," 269-764-3050",null,null,"chris.patten@nmcco.com",null,null,null,"URI Atlantic Union Resources","Palisades Nuclear Plant","27780 Blue Star Hwy",null,null,"Covert","MI","49043","Mr.","Patten",null,"Utility","Van Buren"]
["URI Atlantic Union Resources (Pryor)","Dean Pryor",null,null," 573-220-6971"," 651-267-6905",null,null,null,null,"URI Atlantic Union Resources","Prairie Island Nuclear Plant","1717 Wakonade Drive East",null,null,"Welch","MN","55089","Mr.","Pryor","Buyer","Utility","Van Buren"]
["URI Atlantic Union Resources (Quinn)","Pat Quinn",null," 269-764-3661",null," 269-764-2816",null,null,null,"Ben Rodgers 207.649.3324  handles cooling towers.\nReports to Dan Tessin","URI Atlantic Union Resources","27780 Blue Star Hwy",null,null,null,"Covert","MI","49043","Ms.","Quinn",null,null,"Van Buren"]
["URS Corp (Dow Midland)","Lauren Edwards",null,"989-636-5077",null,null,null,null,"Michigan Sales Tax",null,"URS Corp (Dow Midland)","Attn: Lauren Edwards","1078 Building, Door 1",null,null,"Midland","MI","48667"]
["URS Corp. (Grand Rapids)",null,"Sherry Slocum","616-574-8500","560-5245","616-574-8500","sherry_slocum@urscorp.com",null,"Michigan Sales Tax",null,"URS Corp. (Grand Rapids)","Attn:","3950 Sparks SE",null,null,"Grand Rapids","MI","49546"]
["URS Corp. (Slocum)","Sherry Slocum",null," 616-574-8500",null," 616-574-8500",null,null,null,null,"URS Corp.","3950 Sparks SE",null,null,null,"Grand Rapids","MI","49546","Ms.","Slocum",null,null,"Kent"]
["US Army Corps of Engineers - Brookville",null,"Gregg Guay","765-647-6701",null,"765-647-2416",null,null,"NTXFED",null,"US Army Corps of Engineers - Brookville","Attn:","10064 Overlook Road",null,null,"Brookville","IN","47012"]
["US Army White Sand Missle Range (Anderson","Jeff Anderson",null," 505-644-4191",null," 505-678-5782","andersoj@wsmr.army.mil",null,null,"Quoted Pass System","US Army White Sand Missle Range","Building 1751 WSMR",null,null,null,"WSMR","NM","88002","Mr.","Anderson",null,"Federal","Out of State"]
["US Coast Guard (Bosman)","Gabe Bosman",null," 906-632-7290",null,null,"gabriel.s.bosman@uscg.mil",null,null,null,"US Coast Guard","337 East Water Street",null,null,null,"Sault Ste. Marie","MI",null,"Mr.","Bosman",null,"Federal","Chippewa"]
["US Coast Guard (Grand Haven)","Kurt Fink",null,"616-850-2511",null,null,null,null,"NTXFED",null,"US Coast Guard (Grand Haven)","Attn: Kurt Fink","650 S. Harbor Dr.",null,null,"Grand Haven","MI","49417"]
["US Coast Guard (Sault Ste. Marie)",null,null,"906-632-7290",null,"906-635-3241",null,null,"Non-Tax Municipality/Utility","James Hanson - office: 906-635-3244\nGabe Bosmand - office: 906-632-7290","US Coast Guard (Sault Ste. Marie)","Attn:","337 East Waters Street",null,null,"Sault Ste. Marie","MI","49783"]
["US Coast Guard (St Ignace)","Chris Timm",null,"216-310-7617-cell",null,null,null,null,"NTXFED",null,"US Coast Guard (St Ignace)","Attn: Chris Timm","CGC Biscayne Bay","1075 Huron St.",null,"St. Ignace","MI","49781"]
["US Darnell Army Hospital (Ringer)","Marshall Ringer",null,null,null,null,"marshall.ringer@amedd.army.mil",null,null,null,"US Darnell Army Hospital","Dept. of Preventative Medecine",null,null,null,"Fort Hood","TX","76544","Mr.","Ringer",null,"Other","Out of State"]
["US Utility Contractors","Bill Scott",null,"419-837-9753",null,"419-837-9959",null,null,"Michigan Sales Tax",null,"US Utility Contractors","Attn: Bill Scott","3592 Genoa Road",null,null,"Perrysburg","OH","43551"]
["USA Jet Airlines","Rob Hanes",null,"734-547-7230","734-547-7286","734-483-1053","rhanes@usajet.aero",null,"Michigan Sales Tax","Impossible to contact over phone/doesn't take calls.\nEmail repair quote and will fax approval to run CC","USA Jet Airlines","Attn: Rob Hanes","2068 E. Street",null,null,"Belleville","MI","48111"]
["USA Jet Airlines (Hanes)","Rob Hanes",null," 734-547-7286",null," 734-483-1053","rhanes@usajet.aero",null,null,null,"USA Jet Airlines","2068 E. Street",null,null,null,"Belleville","MI","48111","Mr.","Hanes","Stockroom Supervisor","Other","Wayne"]
["use for new cust acct",null,null,null,null,null,null,null,"Michigan Sales Tax"]
["Utilimaster",null,null,"800-862-3454",null,"574-862-2169",null,null,"Out of State","SERVICE CONTACT:\nCarmen Wegener - Safety Mgr.\nDirect:  574-862-3394\nEmail:  cwegener@utilimaster.com","Utilimaster","Attn: Jim Heim","65906 State Road 19",null,null,"Wakarusa","IN","46573"]
["Utilimaster (Wegener)","Carmen Wegener",null," 574-862-3394",null,null,"cwegener@utilimaster.com",null,null,null,"Utilimaster","65906 State Road 19",null,null,null,"Wakarusa","IN","46573","Ms.","Wegener","Safety Manager","Contractor","Elkhart"]
["Utility Contracting Company (Gilliam)","Bill Gilliam",null," 616-887-8282",null," 616-887-9214","b.gilliam@utility-contracting.com",null,null,"MSC Lead. Has GX2001's but looking at GAMicros\nCall ahead for appt. Wants to meet.","Utility Contracting Company","1001 -- 12 Mile Road","PO Box 46",null,null,"Sparta","MI","49345","Mr.","Gilliam","Safety Manager","Contractor Electrical","Kent"]
["Utility Lines Company (Morgan)","Ryan Morgan",null," 248-721-2621",null,null,"rmorgan@itctransco.com",null,null,null,"Utility Lines Company","12500 E. 10 Mile Road",null,null,null,"Warren","MI","48089","Mr.","Morgan",null,"Contractor General","Macomb"]
["Utility Workers Union of America","Gerald B Robertson",null,"734-776-7654 cell",null,null,null,null,"Michigan Sales Tax",null,"Utility Workers Union of America","P4A Training Trust","Gerald B. Robertson","1536 Cardinal Ridge",null,"West Bloomfield","MI","48324"]
["V-Tech Engineering Inc.",null,"Bryan Hall","616-656-2600",null,"616-656-2700",null,null,"Michigan Sales Tax",null,"V-Tech Engineering Inc.","Accounts Payable","5131 E. Paris Avenue SE",null,null,"Kentwood","MI","49512"]
["V-Tech Engineering Inc. (Hall)","Bryan Hall",null," 616-656-2600",null," 616-656-2700","bryan.hall@vtei.com",null,null,"Jim VandenBerg mob 616.516.4123 laid off","V-Tech Engineering Inc.","5131 E. Paris Avenue SE",null,null,null,"Kentwood","MI","49512","Mr.","Hall",null,"Engineering, Architecture","Kent"]
["VA Medical Center Battle Creek (St. Alvar","Saul St. Alvarez",null," 269-966-5600 3951",null," 269-660-3090","saul.alvarez@med.va.gov",null,null,null,"VA Medical Center Battle Creek","5500 Armstrong Road",null,null,null,"Battle Creek","MI","49016-1099","Mr.","St. Alvarez","Industrial Hygienist","Hospital, Health Care","Calhoun"]
["Vactor Guzzler Manufacturing","Brian Mascal",null,"815-673-3820",null,null,null,null,"Michigan Sales Tax",null,"Vactor Guzzler Manufacturing","Attn: Brian Mascal","1621 S. Illinois Street",null,null,"Streator","IL","61364"]
["Vactor Manufacturing, Inc.","Dan Simpson",null,"815-673-3876","cell 815-257-3186","815-672-4310",null,null,"Michigan Sales Tax",null,"Vactor Manufacturing, Inc.","Attn: Dan Simpson","1621 S. Illinois Street",null,null,"Streator","IL","61364"]
["Vactor Manufacturing, Inc. (Mascal)","Brian Mascal",null," 815-673-3820",null," 815-674-0901","bmascal@vactor.com",null,null,null,"Vactor Manufacturing, Inc.","1621 S. Illinois Street",null,null,null,"Streator","IL","61364","Mr.","Mascal","Environmental Health & Safety","Manufacturer","Out of State"]
["Vactor Manufacturing, Inc. (Simpson)","Dan Simpson",null," 815-673-3876",null," 815-672-4310","dsimpson@vactor.com",null,null,null,"Vactor Manufacturing, Inc.","1621 S. Illinois Street",null,null,null,"Streator","IL","61364","Mr.","Simpson",null,"Manufacturer","Out of State"]
["Valentine Excavating (CONTACT)","CALL FOR CONTACT",null," 269-673-1865",null,null,null,null,null,null,"Valentine Excavating","3509 Babylon Rd.",null,null,null,"Allegan","MI","49010",null,"CONTACT"," -","Excavation","Allegan"]
["Valley City Environmental Services","Dar Baas",null,"616-235-1500",null,"616-235-9507",null,null,"Michigan Sales Tax",null,"Valley City Environmental Services","Attn: Mike Wolffis","1040 Market Street SW",null,null,"Grand Rapids","MI","49503"]
["Valley City Environmental Services, Inc.","Eric Beckman",null," 616-235-1500"," 616-292-3538"," 616-235-9507","ebeckman@valleycityes.com",null,null,null,"Valley City Environmental Services, Inc.","1040 Market Street, SW",null,null,null,"Grand Rapids","MI","49503-4836","Mr.","Beckman","Technical Operations Manager","Contractor EH&S","Kent"]
["Valley City Environmental Services, Inc.","Eric Beckman",null," 616-235-1500",null," 616-235-9507","ebeckman@valleycityes.com",null,null,"Dar Vas, Gen'l Mgr","Valley City Environmental Services, Inc.","1040 Market Street, SW",null,null,null,"Grand Rapids","MI","49503-4836","Mr.","Beckman","Technical Operations Manager","Contractor EH&S","Kent"]
["Valley City Environmental Services, Inc.","Eric Beckman",null," 616-235-1500"," 616-292-3538"," 616-235-9507","ebeckman@valleycityes.com",null,null,null,"Valley City Environmental Services, Inc.","1040 Market Street, SW",null,null,null,"Grand Rapids","MI","49503-4836","Mr.","Beckman","Technical Operations Manager","Contractor EH&S","Kent"]
["Valley City Plating (Lammers)","Dave Lammers",null," 616-245-1223",null," 616-245-7414",null,null,null,null,"Valley City Plating","3353 Eastern Ave S.E.",null,null,null,"Grand Rapids","MI","49508-2404","Mr.","Lammers",null,"Other","Kent"]
["Valley City Plumbing, Inc.",null,"Todd Tinker","616-863-9524","616-291-6083 cell","616-863-9546",null,null,"Use Tax Rental",null,"Valley City Plumbing, Inc.","Todd Tinker","344 Glencarin NE",null,null,"Rockford","MI","49341"]
["Valley City Plumbing, Inv. (Tinker)","Todd Tinker",null," 616-863-9524",null," 616-863-9546",null,null,null,null,"Valley City Plumbing, Inv.","344 Glencarin NE",null,null,null,"Rockford","MI","49341","Mr.","Tinker",null,"Contractor General","Kent"]
["Valley View Poultry","Tobey Arendsen",null,"616-895-7063","616-402-1559 cell","616-895-7069",null,null,"Michigan Sales Tax",null,"Valley View Poultry","Attn:","7495 Lake Michigan Dr.",null,null,"Allendale","MI","49401"]
["Valley View Poultry (Arendsen)","Tobey Arendsen",null," 616-895-7063",null," 616-895-7069","vvpoultry@altelco.net",null,null,null,"Valley View Poultry","7495 Lake Michigan Drive",null,null,null,"Allendale","MI","49401","Ms.","Arendsen",null,"Poultry","Ottawa"]
["Valspar (Grand Prairie)",null,null,null,null,null,null,null,"Michigan Sales Tax","11/2011 Changed to net 70 as all Valspars will pay net 70 and created credit limit due to extended terms\n","Valspar (Grand Prairie)","Attn:po#107203","2350  -  114th Street",null,null,"Grand Prairie","TX","75050"]
["Valspar Corporation (Clay)","T.J. Clay",null," 309-743-7201",null," 309-762-9604","tclary@valspar.com",null,null,null,"Valspar Corporation","5400 Avenue of the Cities",null,null,null,"Moline","IL","61265","Mr.","Clay","Quality Engineer Manager","Chemical Pharmaceutical","Out of State"]
["Valspar Corporation (Cosens)","Sarah Cosens",null," 231-924-8640",null," 231-924-2085","scosens@valspar.com",null,null,null,"Valspar Corporation","411 N. Darling Street",null,null,null,"Fremont","MI","49412","Ms.","Cosens",null,"Chemical Pharmaceutical","Newaygo"]
["Valspar Corporation (Fremont)","231-924-8655 Purchase","Steve Traxler / Cathy Beggs","231-924-8626 steveRay",null,"231-924-2085",null,null,"Michigan Sales Tax","Customer's UPS Acct# 617865\n\nSteve Ray (Buyer) - Direct: 231-924-8626\n\nSarah Cosens (2nd shiift) - Office: 231-924-8640\nemail: scosens@valspar.com\n\nBen Gaeth - Office: 231-924-8636\n\n11/2011 Changed to net 70 as all Valspars will pay net 70 and created credit limit due to extended terms","Valspar Corporation (Fremont)","Attn:","411 Darling Ave. North",null,null,"Fremont","MI","49412"]
["Valspar Corporation (Indianapolis)","Matt Simon",null,"317-687-6733","317-383-6964","317-687-6741",null,null,"Michigan Sales Tax","11/2011 Changed to net 70 as all Valspars will pay net 70 and created credit limit due to extended terms","Valspar Corporation (Indianapolis)","Attn: Matt Simon","604 California St.",null,null,"Indianapolis","IN","46552"]
["Valspar Corporation (Minneapolis)","David Heyerman",null,"612-375-7365","612-363-3464 cell","612-375-7799",null,null,"Out of State","Use 312/55415 when using credit cards","Valspar Corporation (Minneapolis)","Attn:","312 S. - 11th Ave.",null,null,"Minneapolis","MN","55415"]
["Valspar Corporation (Moline)",null,"309-716-7942 Cell","309-743-7201","T.J. Clary","309-762-9604",null,null,"Out of State","Daryl Dierwechter 309-743-7243\nCarl Johnson 309-743-7254\n\n11/2011 Changed to net 70 as all Valspars will pay net 70 and created credit limit due to extended terms","Valspar Corporation (Moline)","Attn:Daryl Dierwechter","5400 Avenue of the Cities",null,null,"Moline","IL","61265"]
["Valspar Corporation (Simon)","Matthew Simon",null," 317-687-6733",null," 317-687-6741","MSIMON@valspar.com",null,null,"604 California Street","Valspar Corporation","546 West Abbott Street",null,null,null,"Indianapolis","IN","46225","Mr.","Simon","HSE Manager","Chemical Pharmaceutical","Out of State"]
["Valspar Corporation Moline (Dierwechter)","Daryl Dierwechter",null," 309-743-7243",null,null,"ddierwechter@valspar.com",null,null,null,"Valspar Corporation Moline","5400 Avenue of the Cities",null,null,null,"Moline","IL","61265","Mr.","Dierwechter",null,"Manufacturer","Out of State"]
["Valspar Packaging (Lowen)","Justin Lowen",null," 412-734-8608",null," 412-766-2438","jlowen@valspar.com",null,null,null,"Valspar Packaging","2001 Tracy Street",null,null,null,"Pittsburgh","PA","15233","Mr.","Lowen",null,"Chemical Pharmaceutical","Out of State"]
["Van Andel Institute","Paula Williamson DeBoe",null,"616-234-5000",null,"616-234-5001","paula.williamsondeboe@vai.org",null,"Non-tx Non Prof","Paula Williamson DeBoe - office: 616-234-5766, cell: 269-501-5785\nemail: Paula.WilliamsonDeBoe@vai.org","Van Andel Institute","Attn: Paula","333 Bostwick Ave N.E.",null,null,"Grand Rapids","MI","49503"]
["Van Andel Institute (Cooling)","Jeff Cooling",null," 616-234-5794",null," 616-234-5001","jeff.cooling@vai.org",null,null,null,"Van Andel Institute","333 Bostwick NE",null,null,null,"Grand Rapids","MI","49503","Mr.","Cooling","Maintenance Supervisor","Other","Kent"]
["Van Andel Institute (DeBoe)","Paula Williamson DeBoe",null," 616-234-5766",null," 616-234-5767","Paula.WilliamsonDeBoe@vai.org",null,null,null,"Van Andel Institute","333 Bostwick NE",null,null,null,"Grand Rapids","MI","49503","Ms.","DeBoe","EHS Manager","Other","Kent"]
["Van Haren Electric","Rob Van Valkenburg",null,"616-878-3000",null,"616-878-3019",null,null,"Michigan Sales Tax",null,"Van Haren Electric","Attn:","8500 Piedmont Industrial Drive",null,null,"Byron Center","MI","49315-1001"]
["Van Haren Electric (Van Valkenburg)","Rob Van Valkenburg",null," 616-878-3000",null," 616-878-3019","rvanvalkenburg@vanharen.com",null,null,null,"Van Haren Electric","8500 Piedmont Industrial Drive","PO Box 1001",null,null,"Byron Center","MI","49315-1001","Mr.","Van Valkenburg","Asst. Project Manager","Contractor Electrical","Kent"]
["Van Haren Electric (Wolbers)","Lynn Wolbers",null," 616-878-3000",null," 616-878-3019","lwolbers@vanharen.com",null,null,null,"Van Haren Electric","8500 Piedmont Industrial Drive","PO Box 1001",null,null,"Byron Center","MI","49315-1001","Ms.","Wolbers","Service Manager","Contractor Electrical","Kent"]
["Van Laan Concrete Construction, Inc. (Van","Scott Van Laan",null," 616-698-6397",null," 616-698-6317","scottv@vanlaan.com",null,null,null,"Van Laan Concrete Construction, Inc.","6875 Dutton Industrial Drive, SE",null,null,null,"Dutton","MI","49316","Mr.","Van Laan","President","Contractor General","Kent"]
["Van Manen Petroleum Group (Penning)","Tom Penning",null," 616-453-6344",null," 616-453-1130","tomp@vanmanen.com",null,null,"Met at MITA Superconference","Van Manen Petroleum Group","0-305 Lake Michigan Drive NW",null,null,null,"Grand Rapids","MI","49544","Mr.","Penning","Commercial / Industrial Sales","Petroleum Related","Kent"]
["Van Singel Electric, Inc. ()",null,null," 616-669-9718",null," 616-669-7130",null,null,null,null,"Van Singel Electric, Inc.","6606 Roger Dr.",null,null,null,"Jenison","MI","49428",null,null,null,null,"Ottawa"]
["Van Singel Electric, Inc. (Van Singel)","Doug Van Singel",null," 616-669-9718",null," 616-669-7130",null,null,null,null,"Van Singel Electric, Inc.","6606 Roger Drive",null,null,null,"Jenison","MI","49428","Mr.","Van Singel",null,"Contractor Electrical","Kent"]
["Vanden Heuvel Plumbing & Mechanical","Don Vanden Heuvel",null,"616-772-2661",null,"616-772-7210",null,null,"Michigan Sales Tax",null,"Vanden Heuvel Plumbing & Mechanical","Attn:","400 East Washington Ave.",null,null,"Zeeland","MI","49464"]
["Vander  Lind & Son (Johnson)","Matt Johnson",null," 616-247-0307",null," 616-247-0322",null,null,null,"Gail","Vander  Lind & Son","1649 Century S.W.",null,null,null,"Grand Rapids","MI","49503","Mr.","Johnson",null,"Competitor Friendly","Kent"]
["Vander Jagt Masonry, Inc. (Rozema)","Tom Rozema",null," 616-837-8107",null," 616-837-9449",null,null,null,null,"Vander Jagt Masonry, Inc.","7407 State Rd.",null,null,null,"Coopersville","MI","49404","Mr.","Rozema","President",null,"Ottawa"]
["Vander Werf Electric Inc.","Phil & Ralph Vander Werf","268-449-6431 cell Phil","1866-684-6442",null,"269-684-6575",null,null,"Michigan Sales Tax",null,"Vander Werf Electric Inc.","Attn:","301 South 11th Street","Suite 2",null,"Niles","MI","49120"]
["VanderHyde Mechanical",null,"Joel Meinstma","616-454-4500","893-0240 cell Joel","616-454-5499",null,null,"Michigan Sales Tax",null,"VanderHyde Mechanical","Attn:","1058 Scribner Ave NW",null,null,"Grand Rapids","MI","49504"]
["VanderHyde Mechanical (Meinstma)","Joel Meinstma",null," 616-454-4500",null," 616-454-5499",null,null,null,null,"VanderHyde Mechanical","1058 Scribner Ave NW",null,null,null,"Grand Rapids","MI","49504","Mr.","Meinstma",null,"Contractor HVAC","Kent"]
["VanderLind & Son (Beukema)","Shaun Beukema",null," 616-247-0307",null," 616-247-0322",null,null,null,"Arlene; Gail in A/P","VanderLind & Son","1649 Century S.W.",null,null,null,"Grand Rapids","MI","49503","Mr.","Beukema",null,"Competitor Friendly","Kent"]
["VanderLugt Mulder DeVries Elders (Elders)","Jeffrey Elders",null," 616-949-9030 24",null," 616-949-9076","jeffe@vmde.com",null,null,null,"VanderLugt Mulder DeVries Elders","2900 28th Street SW",null,null,null,"Grandville","MI","49418-1282",null,"Elders","Certified Public Accountant","Accountant","Kent"]
["Vanderlugt Mulder Devries Elders (Kuiper)","Richard Kuiper",null," 616-949-9030 36",null," 616-949-9076",null,null,null,null,"Vanderlugt Mulder Devries Elders","2900   -  28th Street SW",null,null,null,"Grandville","MI","49418-1282","Mr.","Kuiper","CPA",null,"Kent"]
["Vanderploeg & Lanning","John Keppel & Dan Vanderploeg",null,"616-531-4676",null,"616-531-4537",null,null,"Michigan Sales Tax",null,"Vanderploeg & Lanning","Attn: John Keppel","921 -- 47th Street SW",null,null,"Wyoming","MI","49509"]
["Vanderploeg & Lanning (Vanderploeg)","Dan Vanderploeg",null," 616-531-4676",null," 616-531-4537","dan_vpl@ameritech.net",null,null,"Fit Tested John Keppel","Vanderploeg & Lanning","921 -- 47th Street SW",null,null,null,"Wyoming","MI","49509","Mr.","Vanderploeg",null,"Contractor General","Kent"]
["VanEck Construction Inc. (Lori)","Lori",null," 616-399-6311",null," 616-399-8114",null,null,null,null,"VanEck Construction Inc.","2551 Van Ommen Dr.",null,null,null,"Holland","MI","49424",null,"Lori","Purchasing Manger",null,"Ottawa"]
["Vanguard Fire & Security Systems","Karen Andre / Matt Batchelor","Nick 245-8719","800-444-8719",null,"616-245-7541","tthomas@vanguard-fire.com",null,"Use Tax Rental","EACH TRANSACTION NEEDS A PO# AS WELL AS CREDIT CARD APPROVAL FROM TATE THOMAS OR LESLIE CONE\nPaid invoices need to go to Leslie too\n\n4/20/10 was at net 30. 17 thou order out 50 days changed to C.O.D.\nAccounting, Amy 245-8719\n\nEmail paid invoice to tthomas@vanguard-fire.com per his request 9/6/11\n\n3782-619841-93104 Exp- 08/14, Tate Thomas\n\nLeslie Cone - Maintenance Contact - lcone@vanguard-fire.com\n\nJim Yuill - Safety Director\n\nJason Czech - Wixom Manager - 248-520-6792\n\n\n\n","Vanguard Fire & Security Systems","Attn: Leslie","2101 Martindale Ave, SW",null,null,"Grand Rapids","MI","49509"]
["Vanguard Fire & Security Systems (Batchel","Matt Batchelor",null," 800-444-8719",null," 616-245-7541","info@vanguard-fire.com",null,null,null,"Vanguard Fire & Security Systems","2101 Martindale Avenue SW",null,null,null,"Grand Rapids","MI","49509","Mr.","Batchelor","Sprinker Install Manager","Contractor General","Kent"]
["Vanguard Fire & Security Systems (Cone)","Leslie Cone",null," 800-444-8719",null," 616-245-7541","lcone@vanguard-fire.com",null,null,null,"Vanguard Fire & Security Systems","2101 Martindale Ave. SW",null,null,null,"Grand Rapids","MI","49509","Ms.","Cone","Mainenance","General Contractor","Kent"]
["Vanguard Fire & Security Systems (Goss)","Jeff Goss",null," 800-444-8719",null," 616-245-7541","jgoss@vanguard-fire.com",null,null,"jgoss4safety@aol.com","Vanguard Fire & Security Systems","2101 Martindale Avenue SW",null,null,null,"Grand Rapids","MI","49509","Mr.","Goss","EHS Manager","Contractor General","Kent"]
["Vanguard Fire & Security Systems (Lesinsk","Nick Lesinski",null," 616-245-8719 143",null," 616-245-7541","nlesinski@vanguard-fire.com",null,null,null,"Vanguard Fire & Security Systems","2101 Martindale Avenue SW",null,null,null,"Grand Rapids","MI","49509","Mr.","Lesinski",null,"Contractor General","Kent"]
["Vanguard Fire & Security Systems (Yuill)","Jim Yuill",null," 800-444-8719",null," 616-245-7541","jyuill@vanguard-fire.com",null,null,null,"Vanguard Fire & Security Systems","2101 Martindale Ave. SW",null,null,null,"Grand Rapids","MI","49509","Mr.","Yuill","Safety Director",null,"Kent"]
["Varano Electric","Tom Varano",null,null,null,null,null,null,"Michigan Sales Tax"]
["Varnum Riddering Schmidt Howlett (Caldwel","Christopher J. Caldwell",null," 616-336-6951",null," 616-336-7000","cjcaldwell@varnumlaw.com",null,null,null,"Varnum Riddering Schmidt Howlett","Bridgewater Place","PO Box 352",null,null,"Grand Rapids","MI","49501-0352",null,"Caldwell","Attorney at Law","BBB Personal","Kent"]
["Varnum Riddering Schmidt Howlett LLPt (Ri","Dale R. Rietberg",null," 616-336-6587",null," 616-336-7000","DRRIETBERG@varnumlaw.com",null,null,"Pamela Veltema secy","Varnum Riddering Schmidt Howlett LLPt","Bridgewater Place","PO Box 352",null,null,"Grand Rapids","MI","49501-0352","Mr.","Rietberg","Attorney at Law","BBB Personal","Kent"]
["VDB Mechanical",null,null,null,null,null,null,null,"Michigan Sales Tax","Randy VanderBrink","VDB Mechanical","Attn: Randy VandenBrink","11445 Pontalvna",null,null,"Coopersville","MI","49404"]
["Veldhoff Septic Service (CONTACT)","CALL FOR CONTACT",null," 269-751-8593",null,null,null,null,null,null,"Veldhoff Septic Service","3294 M-40 Hwy.",null,null,null,"Hamilton","MI","49419",null,"CONTACT"," -","Septic Servicing","Allegan"]
["Velting Contractors","Kevin Velting Ext-15",null,"616-949-6660",null,"616-949-8168",null,null,"Michigan Sales Tax",null,"Velting Contractors","Attn: Kevin Velting","3060 Breton Rd.",null,null,"Grand Rapids","MI","49512"]
["Velting Contractors Inc. (Velting)","Kevin Velting",null," 616-949-6660 15",null," 616-949-8168","kvelting@velting.com",null,null,"Brother Scott is Sec' for WM Soil Erosion Control Network","Velting Contractors Inc.","3060 Breton Road",null,null,null,"Grand Rapids","MI","49512","Mr.","Velting","Safety Manager","Contractor General","Kent"]
["Venchurs Inc.",null,"Mary Flisnik","517-263-8937","517-264-4316","517-265-7468",null,null,"Michigan Sales Tax",null,"Venchurs Inc.","Attn:","800 Liberty Street",null,null,"Adrian","MI","49225"]
["Ventra (Dennis)","Michael Dennis",null," 616-527-1220 2504",null," 616-527-4436","mdennis@meridianautosystems.com",null,null,null,"Ventra","719 West Main Street",null,null,null,"Ionia","MI","48846","Mr.","Dennis","EHS Engineer","Automotive","Ionia"]
["Ventra (Grand Rapids 29th Street, LLC)",null,"Melanie616-949-1250","616-464-4939",null,null,null,null,"Non-Tax","Sent over credit references July of 2009. of the three only one responded at net 45 pays at net 55.\nas per discussion with BBB changed to COD 6/2010\n\nChris Wood x-4962\n\n10/10 Chris Wood requested terms References come back at 45-60 days pay -I have changed to net 45 with a limit","Ventra (Grand Rapids 29th Street, LLC)","Attn: Chris Wood","2890 29th Street",null,null,"Grand Rapids","MI","49512"]
["Ventra (Jackson)","Celia Jackson",null," 616-527-8349",null," 616-527-8310","cjackson@meridianautosystems.com",null,null,"Cindy Hilyard is buyer in IN  260.624.2397","Ventra","14 N. Beardsley Road",null,null,null,"Ionia","MI","48846","Ms.","Jackson","Director of Environmental Affa","Automotive","Ionia"]
["Ventra (Manke)","David Manke",null," 616-527-1220 2327",null," 616-527-8310","dmanke@meridianautosystems.com",null,null,null,"Ventra","14 N. Beardsley Road",null,null,null,"Ionia","MI","48846","Mr.","Manke","Safety Director","Automotive","Ionia"]
["Ventra (Murphy)","Chad Murphy",null," 616-527-8326",null," 616-527-8310","cmurphy@meridianautosystems.com",null,null,null,"Ventra","14 N. Beardsley Road",null,null,null,"Ionia","MI","48846","Mr.","Murphy","Environmental Manager","Automotive","Ionia"]
["Ventra (Stancil)","Steve Stancil",null," 616-527-1220 2327",null," 616-527-8310","sstancil@meridianautosystems.com",null,null,"Cindy Hilyard is buyer in IN  260.624.2397","Ventra","14 N. Beardsley Road",null,null,null,"Ionia","MI","48846","Mr.","Stancil","Safety Manager","Automotive","Ionia"]
["Ventra 32nd (Miller)","Lauren Miller",null," 616-666-5104",null,null,"lmiller@ventra.us",null,null,"Cory Kirkbride former saety manager","Ventra 32nd","3075 Breton Ave SE",null,null,null,"Grand Rapids","MI","49512",null,"Miller","Safety Manager","Automotive","Kent"]
["Ventra 32nd (Tromp)","Tom Tromp",null," 616-949-1250 5736",null," 616-949-4202","ttromp@meridianautosystems.com",null,null,null,"Ventra 32nd","3035 32nd Street SE",null,null,null,"Grand Rapids","MI","49512","Mr.","Tromp","Environmental Engineer","Automotive","Kent"]
["Ventra Grand Rapids 29, LLC (DeWitt)","Marty DeWitt",null," 616-464-4939 4963",null," 616-464-4920",null,null,null,null,"Ventra Grand Rapids 29, LLC","2890 29th St. SE",null,null,null,"Grand Rapids","MI","49512","Mr.","DeWitt",null,"Automotive","Kent"]
["Ventra Grand Rapids 29, LLC (Sherman)","Brandon Sherman",null," 616-464-4939 4976",null," 616-940-9069","bsherman@ventra.us",null,null,null,"Ventra Grand Rapids 29, LLC","2890 29th St. SE",null,null,null,"Grand Rapids","MI","49512",null,"Sherman","E-Coat Supervisor","Automotive","Kent"]
["Ventra Grand Rapids 29, LLC (Wood)","Chris Wood",null," 616-464-4939 4962",null," 616-464-4920","cwood@ventra.us",null,null,"Quoted Marty DeWitt (New Plant Mgr) fall training.\nAlso responsible for new Plant 6 on 29th btwn Breton & Shaeffer\nMarty DeWittt is Engg Mgr 949.1250 x5367 mob 616.262.1779\nHLL system for Plant 1 good to go.\nMaureen Lynch\nMet w/ Chuck DeVries (plant mgr) and Bob Stay (prodn mgr)  meet next w/ outside engineer PO in 1.5 mos?\nJenny Newcomb left in May, '06","Ventra Grand Rapids 29, LLC","2890 29th St. SE",null,null,null,"Grand Rapids","MI","49512","Ms.","Wood","Safety Manager","Automotive","Kent"]
["Ventra Lorro (Dickens)","Kay Dickens",null," 313-931-1400 137",null," 313-931-3579","kdickens@meridianautosystems.com",null,null,null,"Ventra Lorro","13881 W. Chicago Street",null,null,null,"Detroit","MI","48228-2525","Ms.","Dickens",null,"Automotive","Wayne"]
["Ventra Lorro (Register)","Derrick Register",null," 313-931-1400",null," 313-931-3579","dregister@meridianautosystems.com",null,null,null,"Ventra Lorro","13881 W. Chicago Street",null,null,null,"Detroit","MI","48228-2525","Mr.","Register","EHS Manager","Automotive","Wayne"]
["Ventra Plant 1 (Tibbets)","Jon Tibbets",null," 616-949-1250 5258",null," 616-949-1510","jtibbets@meridianautosystems.com",null,null,null,"Ventra Plant 1","3225 32nd Street SE",null,null,null,"Grand Rapids","MI","49512","Mr.","Tibbets","Facilities Manager","Manufacturer","Kent"]
["Veolia Environmental Services","Dave Weaver","dave.weaver@veoliaes.com","937-237-1097","937-603-2591 cell","937-237-3669",null,null,"Out of State",null,"Veolia Environmental Services","Attn:","6151 Executive Blvd.",null,null,"Huber Heights","OH","45424"]
["Veolia Environmental Services (Perugia)","John Perugia",null," 248-755-9305",null," 248-449-1801",null,null,null,null,"Veolia Environmental Services","10690 W. 6 Mile Road",null,null,null,"Northville","MI","48168","Mr.","Perugia",null,null,"Out of State"]
["Veolia Water - (Dayton)",null,null,"937-233-7083",null,"937-233-9409","ops@tri-cities.org","Master Card","OH Montgomery Co.","\nJeremy Bowser's MC:\n5405-9800-0379-2481  Exp: 03/15\nStatement Address:  Same as account\nCell:  937-603-4641 - Alt. 937-667-4294\n\nDan Ward's MC:\n5405-9800-0379-3760  Exp: 03/14\nStatement Address:  Same as account\nOffice:  ext.41 / Cell:  937-603-4637\nemail: ops@tri-cities.org\n\nRob Courtney's MC:\n5405-9800-0593-7290  Exp: 11/14\nStatement Address: Same as account\nCell: 937-603-3687\nemail: robert.courtney@veoliawaterna.com","Veolia Water - (Dayton)","Attn: Rob Courtney","3777 Old Needmore",null,null,"Dayton","OH","45424"]
["Veolia Water - MBM (Cicero)","Jackei Lawless",null,"708-780-6794",null,"708-780-7371",null,null,"Out of State",null,"Veolia Water -  MBM","Attn: Jackie Lawless","6001 West Pershing Rd.",null,null,"Cicero","IL","60804"]
["Veolia Water - MBM (Waters)","Steve Waters",null," 708-780-6794",null," 708-780-7371","steven.waters@veoliawaterna.com",null,null,null,"Veolia Water - MBM","6001 West Pershing Rd.",null,null,null,"Cicero","IL","60804","Mr.","Waters",null,"Municipal, Cty","Out of State"]
["Verizon Business (Grant)","Dave Grant",null," 616-224-4257",null," 616-224-3038","dave.grant@verizonbusiness.com",null,null,"Diane Norkus  800.417.5466 x9411  diane.norkus@verizonwireless.com","Verizon Business","2855 Oak Industrial Drive NE",null,null,null,"Grand Rapids","MI","49505","Mr.","Grant","Operations Manager","Contractor General","Kent"]
["Verplank Trucking","George \" Butch\" Brown",null,"616-842-1448",null,null,null,null,"Michigan Sales Tax",null,"Verplank Trucking","Attn: George Brown","West 2nd St.",null,null,"Ferrysburg","MI","49409"]
["Verplank Trucking (Brown)","Butch Brown",null," 616-842-1448",null," 616-842-1506",null,null,null,"Failing...Non-Steady Business\n-minimal need for safety equipment\n-call-on seldomly\n-nice people though\nButch is a good guy, much more communicative than Rich, business is picking-up.","Verplank Trucking","705 2nd St.",null,null,null,"Ferrysburg","MI","49409",null,"Brown","Safety Manager","Trucking","Ottawa"]
["Vestil Manufacturing Co (Sheets)","Joshua Sheets",null," 260-665-7586 305",null," 260-665-1339",null,null,null,null,"Vestil Manufacturing Co","2999 North Wayne Street",null,null,null,"Angola","IN","46703",null,"Sheets",null,"Supplier","Na"]
["Vi-Chem Corporation (Murrieta)","Liza Murrieta",null," 616-247-8501 2028",null," 616-247-8703","lmurrieta@vichem.com",null,null,null,"Vi-Chem Corporation","55 Cottage Grove Street SW",null,null,null,"Grand Rapids","MI","49507","Ms.","Murrieta",null,"Plastics","Kent"]
["Via Store Systems (Blech)","Jeff Blech",null," 616-977-3950",null," 616-977-5006","j.blech@viastore.com",null,null,"karl.zakfeld@viastore.com","Via Store Systems","4890 Kendrick Street SE",null,null,null,"Grand Rapids","MI","49512","Mr.","Blech",null,"Manufacturer","Kent"]
["Via Store Systems (Young)","Bruce Young",null," 616-977-3950 142",null," 616-977-5006","b.young@viastore.com",null,null,null,"Via Store Systems","4890 Kendrick Street SE",null,null,null,"Grand Rapids","MI","49512","Mr.","Young",null,"Manufacturer","Kent"]
["Via Store Systems (Zakfeld)","Karl Zakfeld",null," 616-977-3950",null," 616-977-5006","k.zakfeld@viastore.com",null,null,"Jeff Blech -- single system project\nJason Perks -- 15 units for October\nJudy Olmstead, Carrie, Jen","Via Store Systems","4890 Kendrick Street SE",null,null,null,"Grand Rapids","MI","49512","Mr.","Zakfeld",null,"Manufacturer","Kent"]
["Viastore Systems","Karl Zakfeld",null,"616-977-3950",null,"616-977-5006",null,null,"NonTx Re-Sale",null,"Viastore Systems","Attn:Karl Zakfeld 7500000929","4890 Kendrick Street SE",null,null,"Grand Rapids","MI","49512"]
["Viking Energy","Dean Taylor",null,"231-825-2772",null,"231-825-8024",null,null,"Michigan Sales Tax",null,"Viking Energy","Attn: Dean Taylor","6751 West. Gerwoude Drive",null,null,"McBrain","MI","49657"]
["Viking Group (Cranmore)","Bill Cranmore",null," 269-945-8206",null,null,"wcranmore@vikingcorp.com",null,null,null,"Viking Group","210 N. Industrial Park Drive",null,null,null,"Hastings","MI","49058","Mr.","Cranmore","EH&S Manager","Manufacturer","Barry"]
["Viking Group (Lenartowicz)","Tom Lenartowicz",null," 269-945-8206",null," 269-945-8350","tlenartowicz@vikingcorp.com",null,null,null,"Viking Group","210 N. Industrial Park Drive",null,null,null,"Hastings","MI","49058","Mr.","Lenartowicz","EH&S Manager","Manufacturer","Barry"]
["Villa Environmental Consultants, Inc.",null,null,"269-927-2434",null,"269-927-2435",null,null,"Use Tax Rental","Eric Larcinese - email: eric@villaenv.com\n4024-6600-0000-1581 Exp: 02/13\n\nJill Welham - Cell: 269-325-2594\n","Villa Environmental Consultants, Inc.","Attn: Jill Welham","408 West Main Street",null,null,"Benton Harbor","MI","49022"]
["Villa Environmental Consultants, Inc. (La","Eric Larcinese",null," 269-927-2434",null," 269-927-2435","eric@villaenv.com",null,null,null,"Villa Environmental Consultants, Inc.","408 West Main Street",null,null,null,"Benton Harbor","MI","49022","Mr.","Larcinese","Vice President","Contractor EH&S","Berrien"]
["Villa Environmental Consultants, Inc. (Vi","Richard Villa",null," 269-927-2434",null," 269-927-2435","rvilla@villaenv.com",null,null,null,"Villa Environmental Consultants, Inc.","408 West Main Street",null,null,null,"Benton Harbor","MI","49022","Mr.","Villa",null,"Contractor EH&S","Berrien"]
["Violia Environmental Services (Northville","John Perugia",null,"248-755-9305",null,"248-449-1801",null,null,"Michigan Sales Tax",null,"Veolia Environmental Services (Northville","Attn: John Perugia","10690 W. 6 Mile Road",null,null,"Northville","MI","48168"]
["Viper N.A.","Jim Mcgee",null,"616-928-1410",null,"269-751-2605",null,null,"Michigan Sales Tax",null,"Viper N.A.","Attn: Jim Mcgee","4242  - 58th St.",null,null,"Holland","MI","49423"]
["Viper Trailers (Boertman)","Rod Boertman",null," 616-837-9759",null," 616-837-9750",null,null,null,null,"Viper Trailers","12409 Cleveland",null,null,null,"Nunica","MI","49448","Mr.","Boertman","Owner","Automotive","A"]
["Virginia Electronic Component","Steve Vaughan",null,"434-239-3000","acc pbl 434.296.4184","434-239-8700",null,null,"Out of State","09/02/2008:  This customer has received pricing of 20% over cost historically\n\n12/03/2008:  30% off PM service\n\nCustomer's UPS Acct#  V9W983","Virginia Electronic Component","Attn: PO # 2008808","2613 Wards Road",null,null,"Lynchburg","VA","24502"]
["Visser Brothers, Inc. (Mast)","Bill Mast",null," 616-363-3825",null," 616-363-6477",null,null,null,"Gary Buck mob 616.292.6277 gbuck@visserbrothers.com  called re: CO monitoring\nPaul Baker talked with Bill about Agile; agreed to met with SPB. \nReagan is secy. Also, Mary    \nDave Deyoung proj. Mgr  Roger Clark gone.\nDo not call Bill Mast, try Heath Baxter","Visser Brothers, Inc.","1946 Turner Avenue, NW",null,null,null,"Grand Rapids","MI","49504","Mr.","Mast","President","Contractor General","Kent"]
["Volverine Building Group","Marty Malek",null,"616-437-1059",null,null,null,null,"Michigan Sales Tax",null,"Volverine Building Group","Attn:","4045 Barden SE",null,null,"Grand Rapids","MI","49512"]
["W Soule & Company (Jackson)","Don Jackson",null," 269-324-7001",null," 269-324-7950","djackson@wsoule.com",null,null,null,"W Soule & Company","7125 South Sprinkle Road","PO Box 2169",null,null,"Kalamazoo","MI","49003","Mr.","Jackson","Corporate Safety Director","Contractor General","Kalamazoo"]
["W Soule & Company (Johnson)","Brett Johnson",null," 616-975-6272",null," 616-975-6282","bjohnson@wsoule.com",null,null,"Ned Hawkins Proj Mgr mob 269.217.9570  Gary Straub sales\nJason Carter buys for King's Hwy 269.344.0139\nMark Hovious buys for pipe shop at Sprinkle 269-324-7001\nSteve Crow buys for millwrights at Sprinkle 269-324-7001\nBob Sponable buys for GR  616-975-6272\nCraig Palmer mob 269.217.9066  pfizer 269.323.0050\nFred Beach 616.329.2022\nRandy Cave Foreman likes sellstrom shields\nJerry Ruoff o 269.344.0139  m 269.998.3502 jruoff@wsoule.com\nJeremy Town at Abbott jtown@wsoule.com mob 269.207.9891\nDarlene handles A/P\nIn GR:\nMark LeBarre now buying ppe 9.4.08\nBob Hunt  m 616.893.5350\nJeff Voss, Bob Sponable, Mary Holnagel\nKelly Rumery gone 616.975.6272 Terry Norris gone Chris Smith gone\nSteve said Russ Jenks (G&L?) referred me\nDon Jackson new Safety Director  mob 616.292.5182","W Soule & Company","4925 Kendrick SE",null,null,null,"Grand Rapids","MI","49512","Mr.","Johnson",null,"Contractor General","Kent"]
["W Soule & Company (McDaniel)","Randy McDaniel",null," 269-324-7001",null," 269-324-7950","rmcdaniel@wsoule.com",null,null,null,"W Soule & Company","7125 South Sprinkle Road","PO Box 2169",null,null,"Kalamazoo","MI","49003","Mr.","McDaniel",null,"Contractor General","Kalamazoo"]
["W Soule & Company (Wynne)","Steve Wynne",null," 269-324-7001",null," 269-324-7950","swynne@wsoule.com",null,null,"In GR:\nMark LeBarre now buying ppe 9.4.08\nChris Smith gone\nKelly Rumery gone 616.975.6272\nBob Hunt  m 616.893.5350\nJeff Voss, Terry Norris gone, Bob Sponable, Mary Holnagel","W Soule & Company","7125 South Sprinkle Road","PO Box 2169",null,null,"Kalamazoo","MI","49003","Mr.","Wynne","Safety Director","Contractor General","Kalamazoo"]
["W Soule WSC  Millwright Services (Linker)","Gregory Linker",null," 269-969-8989",null," 269-969-8998","glinker@wsoule.com",null,null,null,"W Soule WSC  Millwright Services","4039 West Columbia Avenue",null,null,null,"Battle Creek","MI","49015","Mr.","Linker","President","Contractor General","Calhoun"]
["W. B. Wells Co.","David Wells",null,"412-221-0390",null,"412-221-1073",null,null,"Out of State",null,"W. B. Wells Co.","Attn: David Wells","1852 Painters Run Rd.",null,null,"Pitsburgq","PA","15241"]
["W. S. Jenks (Bylen)","John Bylen",null," 202-529-6020",null,null,"john@wsjenks.com",null,null,null,"W. S. Jenks","953 V Street N.E.",null,null,null,"Washington","DC","20018","Mr.","Bylen",null,"Competitor","Out of State"]
["W. Soule & Company (Grand Rapids)",null,"616-975-6272","269-324-7001",null,"269-324-7950",null,null,"Michigan Sales Tax",null,"W. Soule & Company","Attn:Mark Lebarre","4925 Kendrick St. SE",null,null,"Grand Rapids","MI","49512"]
["W. Soule & Company (Kalamazoo)",null,null,"269-324-7001 Gen.",null,"269-324-7950",null,null,"Non-Tax","Accounts Payable Contact: Tai Wo (was Cindy) 269-324-7001\n\n7.21.10: Call Don Jackson if anything reaches 60 days.","W. Soule & Company","Attn: Don Jackson","7125 South Sprinkle Road",null,null,"Kalamazoo","MI","49003"]
["W. Soule & Company (King Highway)",null,null,"269-324-7001",null,"269-324-7950",null,null,"Michigan Sales Tax",null,"W. Soule & Company","Attn:","5175 King Highway",null,null,"Kalamazoo","MI","49048"]
["Waanders Concrete (Waanders)","Mark Waanders",null," 269-673-6352",null,null,null,null,null,null,"Waanders Concrete","3169 Babylon Rd.",null,null,null,"Allegan","MI","49010","Mr.","Waanders","Owner","Concrete","Allegan"]
["Wachovia Securities, LLC (Karsten)","Andrea Karsten",null," 616-975-2020"," 616-975-2030"," 616-940-1694","andrea.karsten@wachoviasec.com",null,null,"Tammy Smith Asst.\nKathy Branch\nStephanie","Wachovia Securities, LLC","2025 E. Beltline SE  Ste 501",null,null,null,"Grand Rapids","MI","49546","Ms.","Karsten",null,"BBB Personal","Kent"]
["Wachter Excavating (Wachter)","Joel Wachter",null," 616-842-1715",null," 616-842-9293","mjjwachter@novagate.com",null,null,"quote PPE\nWants a demo of the GasAlertMicro\nBrother James mob 616.638.1009 and Sue Hebb.  Bought PPE and Micro Kit.  Meagan for e image ebroidery","Wachter Excavating","16580 144th Avenue","PO Box 257",null,null,"Spring Lake","MI","49456","Mr.","Wachter",null,"Contractor, Excavator","Ottawa"]
["Wachter Excavating Co.","Joel Wachter",null,"616-842-1715",null,null,null,null,"Michigan Sales Tax",null,"Wachter Excavating Co.","Attn:","16580  144th Ave",null,null,"Spring Lake","MI","49456"]
["Wackenhut (Palisades)","Brad Murdock",null,"269-764-2244",null,"269-764-2599",null,null,"Michigan Sales Tax","accounting for palisades Teresa Erickson fax 269-764-2599\nph 269-764-2310","Wackenhut (Palisades)","Attn: Brad Murdock","27780 Blue Star Highway",null,null,"Covert","MI","49043"]
["Wacker Chemical (Barnhart)","Mike Barnhart",null," 517-264-8640",null," 517-264-8389","michael.barnhart@wacker.com",null,null,"Gave quote to boss.\nMSC UCL interest - Pole Hoist","Wacker Chemical","3301 Sutton Road",null,null,null,"Adrian","MI","49221","Mr.","Barnhart","Mainenance Safety Supervisor","Chemical Pharmaceutical","Lenawee"]
["Wacker Chemical (Harsh)","Frank Harsh",null," 517-264-8225",null," 517-264-8389","frank.harsh@wacker.com",null,null,"MSC Lead for UCL","Wacker Chemical","3301 Sutton Road",null,null,null,"Adrian","MI","49221","Mr.","Harsh","Maintenance Manager","Chemical Pharmaceutical","Lenawee"]
["Waddell Electric Co. (French)","Warren French",null," 616-791-4860",null,null,null,null,null,null,"Waddell Electric Co.","4279 Three Mile Road NW",null,null,null,"Grand Rapids","MI","49544","Mr.","French",null,"Contractor Electrical","Kent"]
["Wade Trim","Brian Gifford",null,"616-363-8181",null,"616-363-5656",null,null,"Michigan Sales Tax",null,"Wade Trim","Attn:","2944 Fuller NE",null,null,"Grand Rapids","MI","49505"]
["WadeTrim Hart WWTP (Cutter)","Paul Cutter",null," 231-873-2259",null," 231-873-7451","bgifford@wadetrim.com",null,null,"Dave Dillingham is Garage Supervisor\nSPoke with the gentlemen who work at Water and they informed me Paul is super, but is rarely there","WadeTrim Hart WWTP","407 S. State Street",null,null,null,"Hart","MI","49420",null,"Cutter","Project Manager","Municipal, Cty","Oceana"]
["Wagner Industrial Electric","Barry Smallwood",null,"937-298-7481",null,"937-298-0268","bsmallwood@wagner-ind.com",null,"OH Montgomery Co.",null,"Wagner Industrial Electric","Attn:","3178 Encrete Lane",null,null,"Dayton","OH","45439"]
["Walbridge Aldinger",null,"Mike Dawson",null,"313-220-4659",null,null,null,"Michigan Sales Tax",null,"Walbridge Aldinger","Mike Dawson",null,null,null,null,null,null,"Mr.","Dawson"]
["Walbridge Aldinger (Dawson)","Mike Dawson",null," 313-220-4659",null," 313-234-0848","mdawson@walbridge.com",null,null,"Mike Dawson's boss, interested in AMP","Walbridge Aldinger","9942 Currie Davis Drive",null,null,null,"Tampa","FL","33619","Mr.","Dawson","Project Safety Manager","Contractor General","Out of State"]
["Walbridge Aldinger (LeClair)","Mark LeClair",null," 313-963-8000",null,null,null,null,null,"Quote DL SLM for Rent vs. Buy","Walbridge Aldinger","613 Abbott Street",null,null,null,"Detroit","MI","48226","Mr.","LeClair","Corporate Safety Director","Contractor General","Wayne"]
["Walbridge Aldinger (Tampa)","Mike Dawson",null,"813-240-5669",null,"313-234-0848 email",null,null,"Out of State",null,"Walbridge Aldinger (Tampa)","Attn: Mike Dawson","130 Riviera Dunes Way",null,null,"Palmetto","FL","34221"]
["WALK-IN",null,null,null,null,null,null,null,"Michigan Sales Tax",null,"Walk-In Customer"]
["Walker Custom Sheet Metal","Cory Hedberg",null,"616.735.3770",null,"616.735.3725","ap@walkercustomersheetmetal.com",null,"Use Tax Rental","Account Payable:  Tracy Siepker","Walker Custom Sheet Metal","Attn: Jim Monaweck","2040 Waldorf Ct. NW",null,null,"Grand Rapids","MI","49544"]
["Walker Custom Sheet Metal (Monaweck)","Jim Monaweck",null,null,null," 616-735-4920","monaweckj@walkercustomsheetmetal.com",null,null,"616-791-9952","Walker Custom Sheet Metal","2001 Waldorf NW",null,null,null,"Grand Rapids","MI","49544","Mr.","Monaweck","Group Manager","Contractor General","Kent"]
["Walker DPW, City of","Pat Paas",null,null,null,null,null,null,"Non-Tax Municipality/Utility",null,"Walker DPW, City of","Attn: Pat Paas","4243 Remembrance Road NW",null,null,"Walker","MI","49544"]
["Walker DPW, City of (Koning)","Mark Koning",null," 616-791-6868",null," 616-791-6791","mkoning@ci.walker.mi.us",null,null,"Handles Safety?","Walker DPW, City of","4243 Remembrance Road NW",null,null,null,"Walker","MI","49544","Mr.","Koning","Director","Municipal, Cty","Kent"]
["Walker DPW, City of (Postema)","Gary Postema",null," 616-791-6867",null," 616-791-6791","gpostema@ci.walker.mi.us",null,null,"Gary Postema Depy Dir Handles Safety?","Walker DPW, City of","4243 Remembrance Road NW",null,null,null,"Walker","MI","49544","Mr.","Postema","Depy Director","Municipal, Cty","Kent"]
["Wallenstein Feed & Supply Ltd","Danielle Bailey",null,"800-265-8858","519-669-5143","519-669-3560",null,null,"Out of State",null,"Wallenstein Feed & Supply Ltd","Attn:","7307 Highway 86",null,null,"Wallenstein","ON","N0B2S0"]
["Wallenstein Feed & Supply Ltd. (Bailey)","Danielle Bailey",null," 800-265-8858",null," 519-669-3560","daniellebailey@wfs.ca",null,null,null,"Wallenstein Feed & Supply Ltd.","7307 Highway 86","PO Box 20",null,null,"Wallenstein","ON","N0B2S0","Ms.","Bailey",null,"Food","Out of State"]
["Walter N. Yoder & Sons, Inc.",null,"Rusty Wilson","301-697-0808",null,"301-729-1517",null,null,"Out of State",null,"Walter N. Yoder & Sons, Inc.","Attn:","16200 McMullen Hwy. SW",null,null,"Cumberland","MD","21501"]
["Walters Gardens","Jim Shoemaker",null,"800-925-8377 x202","616-772-5975 x202","269-751-8752","www.designerdaylily.com",null,"Michigan Sales Tax",null,"Walters Gardens","Attn:Jim Shoemaker","1992  -  96th Street",null,null,"Zeeland","MI","49464"]
["Walters Gardens (Fynewever)","Dan Fynewever",null,null,null," 269-751-8752","drf@waltersgardens.com",null,null,"Has a berm application that he will be addressing later in spring. From Soil Erosion show.","Walters Gardens","4322 -- 137th Avenue",null,null,null,"Hamilton","MI","49419","Mr.","Fynewever",null,"Other","Ottawa"]
["Walters Gardens (Westendorp)","Jeff Westendorp",null," 616-772-5975",null," 616-772-5803","jaw@waltersgardens.com",null,null,null,"Walters Gardens","1992 -- 96h Avenue","PO Box 137",null,null,"Zeeland","MI","49464-0137","Mr.","Westendorp","Plant Health Manager","Agriculture","Ottawa"]
["Walters Gardens, Inc. (Shoemaker)","Jim Shoemaker",null," 616-772-5975",null,null,null,null,null,null,"Walters Gardens, Inc.","PO Box 137",null,null,null,"Zeeland","MI","49464",null,"Shoemaker","Credit Manager",null,"Ottawa"]
["Waltz-Holst Blow Pipe Co.",null,"Don Lang","616-676-8119",null,"616-676-0087",null,null,"Michigan Sales Tax","Mark Smith (Field worker) 616-813-2425","Waltz-Holst Blow Pipe Co.","Attn:","230 Alta Dale SE",null,null,"Ada","MI","49301"]
["Waltz-Holst Blow Pipe Co. (Lang)","Don Lang",null," 616-676-8119",null," 616-676-0087","dlang@waltzholst.com",null,null,"Mark Smith called re: CO exposure at Hayes Lemmerz\nBought GAMicro, per Kevin Quigley referral.\nLorna Scheid","Waltz-Holst Blow Pipe Co.","230 Alta Dale SE",null,null,null,"Ada","MI","49301","Mr.","Lang","Controller","Contractor HVAC","Kent"]
["Ward Electric, Inc. (Ward)","Mike Ward",null," 616-676-9675",null," 616-676-0440","mikeward36@aol.com",null,null,null,"Ward Electric, Inc.","6080 East Fulton",null,null,null,"Ada","MI","49301","Mr.","Ward","Owner","Contractor Electrical","Kent"]
["Washington Mutual Bank (Hartman)","Larry Hartman",null," 714-428-4805",null," 714-428-4902","larry.hartman@wamu.net",null,null,"Delisle CIE attendee.","Washington Mutual Bank","535 Anton Blvd., 7th Fl-4051BOCA",null,null,null,"Costa Mesa","CA","92626","Mr.","Hartman",null,"Contractor EH&S","Out of State"]
["Waste Management.",null,null,null,null,null,null,null,"Michigan Sales Tax","End user:  Jack Rowe - cell: 313-920-1617, email: jrowe@wm.com\n\nPurchasing:  Michell Miklavcic - 248-596-4194","Waste Management","Woodland Meadows RDF","Attn: Penny","5900 Hannan Road",null,"Wayne","MI","48184"]
["Watco Mechanical Services","Nichole Chamberlin",null,"814-695-5691",null,"814-695-5801",null,null,"Out of State","Ray Barroner - ext-236\nemail:  rbarroner@watcocompanies.com","Watco Mechanical Services","Attn: Ray Barroner","Route 22 (Berwind Rd.)",null,null,"Hollidaysburg","PA","16648"]
["Watco Mechanical Services (Barroner)","Ray Barroner",null," 814-695-5691 236",null," 814-695-5801","rbarroner@watcocompanies.com",null,null,null,"Watco Mechanical Services","Route 22 (Berwind Rd.)",null,null,null,"Hollidaysburg","PA","16648","Mr.","Barroner",null,"Other","Out of State"]
["Waterville Sheet Metal Company, Inc.",null,"Jim Wortketter","419-878-5050","419-356-8562","419-878-7829",null,null,"OH Lucas Co.","Ron Kelso","Waterville Sheet Metal Company, Inc.","Attn:","1210 Waterville - Monclova Road",null,null,"Waterville","OH","43566"]
["Wayland, City of","Stan Gulch",null,"269-792-0686",null,"269-792-0389",null,null,"Non-Tax Municipality/Utility",null,"Wayland, City of","Attn: Stan Gulch PO# 082709","103 South Main Street",null,null,"Wayland","MI","49348"]
["Wayland, City of (Adams)","Phil Adams",null," 269-792-2581",null," 269-792-0387","walyalnd@accn.org",null,null,null,"Wayland, City of","103 South Main Street",null,null,null,"Wayland","MI","49348","Mr.","Adams","DPW Crew Leader","Municipal, Cty","Allegan"]
["Wayland, City of (Brazeau)","Pierre Brazeau",null," 269-792-0686",null," 269-792-0389","waywater@accn.org",null,null,null,"Wayland, City of","103 South Main Street",null,null,null,"Wayland","MI","49348","Mr.","Brazeau","Water / Wastewater Superintend","Municipal, Cty","Allegan"]
["Weather Shield Roofing (Bush)","Jim Bush",null," 616-243-4040 111",null," 616-243-8833","rvaneck@roofsbuilttolast.com",null,null,"Randy VanEck x22","Weather Shield Roofing","1197 Hoyt St. SE",null,null,null,"Grand Rapids","MI","49507","Mr.","Bush","Owner/President","Contractor General","Kent"]
["Weather Shield Roofing Systems","Nate Bush",null,"616-243-4040",null,null,null,null,"Michigan Sales Tax",null,"Weather Shield Roofing Systems","Attn: Nate Bush","1197 Hoyt St.",null,null,"Grand Rapids","MI","49507"]
["WEBB Chemical Service Corp. (Baker)","Melissa Baker",null," 231-733-2181",null," 231-739-5454",null,null,null,"haven't met greg yet\nshould meet with Greg on 11.4.09 when touring with SR Browne","WEBB Chemical Service Corp.","2708 Jarman St.",null,null,null,"Muskegon Heights","MI","49444","Mrs.","Baker","EH&S",null,"Muskegon"]
["WEBB Chemical Service Corp. (Convertini)","Kolin Convertini",null," 231-733-2181",null," 231-739-5454",null,null,null,"haven't met with Todd yet \n-should meet with Todd on 11.4.09 with SR Browne","WEBB Chemical Service Corp.","2708 Jarman St.",null,null,null,"Muskegon Heights","MI","49444","Mr.","Convertini","Plant Manager","Chemical Services","Muskegon"]
["WEBB Chemical Service Corp. (Lynn)","Greg Lynn",null," 231-733-2181",null," 231-739-5454",null,null,null,"Spoke with Melissa on the phone last week\n-she referred me to Kolin for all Safety Purchasing\n-also mentioned she would be the contact when advisiing or implementing new safety devices\n-very nice lady","WEBB Chemical Service Corp.","2708 Jarman St.",null,null,null,"Muskegon Heights","MI","49444","Mr.","Lynn","Warehouse Manager",null,"Muskegon"]
["WEBB Chemical Service Corp. (Peterson)","Todd Peterson",null," 231-733-2181",null," 231-739-5454",null,null,null,"Met with 1 month ago\n-met with all of the heads of maintenance and safety\n-S.R. Browne Mfg. was entry\nSpoke with on the phone\nvery nice guy\nhas another vendor currently, but obviously not committed\n-Chris is GK","WEBB Chemical Service Corp.","2708 Jarman St.",null,null,null,"Muskegon Heights","MI","49444","Mr.","Peterson","Plant Maintenance Lead",null,"Muskegon"]
["Webb Electric of Grand Rapids, Inc. (Webb","Brad Webb",null," 616-451-2298",null," 616-451-4044","webbelectricbrad@tds.net",null,null,null,"Webb Electric of Grand Rapids, Inc.","1675 Michigan Street NE  Ste B",null,null,null,"Grand Rapids","MI","49503","Mr.","Webb",null,"Contractor Electrical","Kent"]
["Weber Precision Grinding ()",null,null," 616-842-1634",null,null,null,null,null,null,"Weber Precision Grinding","18438 171st Ave.",null,null,null,"Spring Lake","MI","49456",null,null,null,"Finishing","Ottawa"]
["Wedeven Bros. Construction Co. (Wedeven)","Paul Wedeven",null," 269-751-5903",null," 269-751-8615",null,null,null,"Kim is gatekeeper","Wedeven Bros. Construction Co.","4003 45th St.",null,null,null,"Hamilton","MI","49419",null,"Wedeven","President",null,"Ottawa"]
["Welch Tile and Marble (Rick)","Rick",null," 616-675-4740",null,null,null,null,null,"Basic PPE, Respiratory Protec., Fit-Testing, Training\nMet with Rick for a bit, very nice guy and definitely is keeping us in mind, if they don't go under first\nMost likely will be gone in the very near future.","Welch Tile and Marble","13864 Eagle Ridge Dr.",null,null,null,"Kent City","MI","49330",null,"Rick","Manager",null,"Tile and Marble Installers"]
["Weld-Tec Inc. (Harmsen)","Herm Harmsen",null," 616-895-9122",null,null,null,null,null,null,"Weld-Tec Inc.","8420 Lake Michigan Dr.",null,null,null,"West Olive","MI","49460","Mr.","Harmsen","Owner","Wellding/Grinding/Custom Fab","Ottawa"]
["Weller Radiator","Terry Westedt",null,null,null,"616-538-4159",null,null,"Michigan Sales Tax",null,"Weller Radiator","Attn: Terry Westedt","2301 Chicago Dr.",null,null,"Grand Rapids","MI","49509"]
["Weller Radiator (Westedt)","Terry Westedt",null," 616-538-8969",null," 616-538-4159","twestedt@partsbyweller.com",null,null,null,"Weller Radiator","2301 Chicago Drive",null,null,null,"Grand Rapids","MI","49509","Mr.","Westedt",null,"Automotive","Kent"]
["Wells Fargo Insurance Services"," Eric Krieger",null,"616-336-0103","cell 616-350-8359","616-234-1643",null,null,"Michigan Sales Tax",null,"Wells Fargo Insurance Services","Attn: Eric Krieger","648 Monroe NW  Ste. 300",null,null,"Grand Rapids","MI","49503-1453"]
["Wells Fargo Insurance Services (Krieger)","Eric Krieger",null," 616-336-0103"," 800-456-7153"," 616-234-1643","eric_krieger@wellsfargois.com",null,null,"Send promo material. Works with Nathan. Eric Longman is at ASSE.","Wells Fargo Insurance Services","648 Monroe NW  Ste. 300",null,null,null,"Grand Rapids","MI","49503-1453","Mr.","Krieger","Risk Control Consultant","Insurance","Kent"]
["WESCO (Furrow)","Tim Furrow",null," 616-241-2002",null," 616-241-4004","tfurrow@wesco.com",null,null,"Handles Administrative works for Wesco.","WESCO","7650 Caterpillar Dr. Ste. A",null,null,null,"Grand Rapids","MI","49548","Mr.","Furrow","Branch Manager","Representative","Kent"]
["Wesco (Hammond)","Brandon Hammond",null," 269-764-2036",null,null,null,null,null,"Jamie French, hired in Mntc by Entergy","Wesco","27780 Blue Star Hwy.",null,null,null,"Covert","MI","49043","Mr.","Hammond","Onsite EH&S Representative","Representative","Van Buren"]
["WESCO (Poort)","Jim Poort",null," 616-827-6983",null," 616-241-4004",null,null,null,null,"WESCO","7650 Caterpillar Dr. Ste. A",null,null,null,"Grand Rapids","MI","49548","Mr.","Poort",null,"Representative","Kent"]
["WESCO (Welch)","Tricia Welch",null," 616-241-2002",null," 616-241-4004","twelch@wesco.com",null,null,"Pat Klumpp is buyer Jim Poort is buyer; Thos. Sheets Acct Rep   m 616.304.5387\nWalt Clarke  wclarke@wesco.com","WESCO","7650 Caterpillar Dr. Ste. A",null,null,null,"Grand Rapids","MI","49548","Ms.","Welch",null,"Representative","Kent"]
["Wesco Distrbution, Inc. (Pittsburgh) (Aft","Curt Aftanas",null," 412-454-2547",null," 412-222-7346","caftanas@wesco.com",null,null,"Donald Webber-Plank 412.454.4834  dwebber@wesco.com buying ladder rung covers","Wesco Distrbution, Inc. (Pittsburgh)","225 W. Station Square Drive","Suite 700",null,null,"Pittsburgh","PA","15219","Mr.","Aftanas",null,"Representative","Out of State"]
["Wesco Distribution (Grand Rapids)","payables Amy Roach","Trish","616-241-2002","Tom S. 304-5387 cell",null,"See note for ext #s",null,"NonTx Re-Sale","Jim Poort - ext. 226\nTrish - ext. 213\nJamie - Cell: 269-214-6136","Shaw Construction 613637","27800 Blue Star HWY",null,null,null,"Covert","MI","49043"]
["Wesco Distribution Icc.","Melinda Wood",null,"888-516-9080",null,null,null,null,"Out of State",null,"Wesco Distribution Icc.","185 Thornhill Rd.",null,null,null,"Grand Rapids","MI","49548"]
["West Michigan Benefits, Inc. (Nickel)","Jason Nickel",null," 616-785-9373",null," 616-785-9325",null,null,null,null,"West Michigan Benefits, Inc.","700 Three Mile Road NW",null,null,null,"Grand Rapids","MI","49544","Mr.","Nickel","Sales Representative","Supplier","Kent"]
["West Michigan Benefits, Inc. (Spratling)","Sandy Spratling",null," 616-785-9373",null," 616-785-9325",null,null,null,null,"West Michigan Benefits, Inc.","700 Three Mile Rd. NW",null,null,null,"Grand Rapids","MI","49544",null,"Spratling",null,"Supplier","Kent"]
["West Michigan Cabinet Supply (Sterk)","Steve Sterk",null," 616-896-6990",null," 616-896-6998",null,null,null,null,"West Michigan Cabinet Supply","4366 Central Parkway",null,null,null,"Hudsonville","MI","49426","Mr.","Sterk","President","Manufacturer","Ottawa"]
["West Michigan Dock & Market","Jeff Whalen",null,"231-722-6932",null,"231-722-0016",null,null,"Michigan Sales Tax",null,"West Michigan Dock & Market","Jeff Whalen","560 Mart Street",null,null,"Muskegon","MI","49440"]
["West Michigan Dock & Market (Whalen)","Jeff Whalen",null," 231-722-6932",null," 231-722-0016",null,null,null,null,"West Michigan Dock & Market","560 Mart St.",null,null,null,"Muskegon","MI","49440","Mr.","Whalen","Logistics Manager","Marine Storage and Service","Muskegon"]
["West Michigan Glass Coating",null,null,"800-638-8468",null,"616-791-4018",null,null,"Michigan Sales Tax",null,"West Michigan Glass Coating","Attn:","4047 Mission NW",null,null,"Grand Rapids","MI","49534"]
["West Michigan Roofing & Construction (Meg","Michael Megna",null," 616-846-1536"," 877-835-3500",null,null,null,null,null,"West Michigan Roofing & Construction","18450 171st Avenue",null,null,null,"Spring Lake","MI","49456","Mr.","Megna","Estimator","Contractor General","Ottawa"]
["West Michigan Scales","Tom Bieberle",null,"269-685-9521",null,"269-685-2031",null,null,"Michigan Sales Tax",null,"West Michigan Scales","Attn:","943 Industrial Parkway",null,null,"Plainwell","MI","49080"]
["West Olive Nursery (Shannon)","Shannon",null," 616-399-6184",null,null,null,null,null,"Stopped in again on 4.6.09\nShannon was unavailable, check back soon.","West Olive Nursery","8661 146th Ave.",null,null,null,"West Olive","MI","49460","Mr.","Shannon","General Manager",null,"Ottawa"]
["West Shore Fire Inc. (Waldrop)","Bob Waldrop",null," 800-632-6184",null," 616-895-7158",null,null,null,"Jeff Dipelka, Bob Waldrop, Bob Jeltma  (mike campbell gone) \nRon Young (in back) is Scott expert Dave Marshall   Ellie Morrow\nShauna Aylword\nDan Burak mob 616.292.8409  dburak@westshorefire.com\nPer Katie  Agile gets 12% over cost.  So, for parts, List -35% / .88.  SCBA better discount.","West Shore Fire Inc.","6620 Lake Michigan Drive","PO Box 188",null,null,"Allendale","MI","49401","Mr.","Waldrop","Sales Manager","Competitor","Ottawa"]
["West Shore Medical Center (Fark)","Louann Fark",null," 231-398-1170",null," 231-151-6",null,null,null,null,"West Shore Medical Center","1465 East Parkdale Ave.",null,null,null,"Manistee","MI","49660-9785","Ms.","Fark",null,null,"Manistee"]
["Western Michigan University","Dave Kotecki",null,"269-387-5590",null,"269-387-5561",null,null,"Non-Tax",null,"Western Michigan University","Attn: Dave Kotecki","Bigelow Annex","1903 West Michigan",null,"Kalamazoo","MI","49008"]
["Western Michigan University (Goes)","John Goes",null," 269-387-8556",null," 269-387-8440","john.goes@wmich.edu",null,null,"Per Pat Holton. Bought several Enmet units and have had sensor problems. Met in parking lot. Said to get set up (did). Demo'd micros. Quote Micros.\nVicky 269.387.8527\nTom's trying to work out problems with Enmet. Call back in 2 mos.","Western Michigan University","1201 Oliver Street",null,null,null,"Kalamazoo","MI","49008","Mr.","Goes","Director","University","Kalamazoo"]
["Western Michigan University (Holton)","Patricia Holton",null," 269-387-5590",null," 269-387-5561","patricia.holton@wmich.edu",null,null,"Verbal quote 34L H2S cal gas Dave $105.00\nMet. Will keep us in mind.","Western Michigan University","Bigelow Annex","1903 West Michigan",null,null,"Kalamazoo","MI","49008-3870","Dr.","Holton","Manager, Environmental Health","University","Kalamazoo"]
["Western Michigan University (Kotecki)","David Kotecki",null," 269-387-5589",null," 269-387-5561","david.kotecki@wmich.edu",null,null,null,"Western Michigan University","Bigelow Annex","1903 West Michigan",null,null,"Kalamazoo","MI","49008-3870","Mr.","Kotecki","Industrial Hygienist","School","Kalamazoo"]
["Western Michigan University (Penskar)","Don Penskar",null," 269-387-8800",null," 269-387-8824","donald.penskar@wmich.edu",null,null,"Purch Mgr. Set up Agile as woman-owned business.","Western Michigan University","Campus Services Building",null,null,null,"Kalamazoo","MI","49008-5342","Mr.","Penskar","Director, Logistical Services","University","Kalamazoo"]
["Western Michigan University College of En","Jim VanDePolder",null," 269-276-3378",null," 269-387-8440","james.vandepolder@wmich.edu",null,null,null,"Western Michigan University College of En","4601 Campus Drive  Room F232","MS 5336",null,null,"Kalamazoo","MI","49008","Mr.","VanDePolder","Faculty","University","Kalamazoo"]
["Western TelComm (Lee)","Dan Lee",null," 616-393-0138",null,null,null,null,null,"found site, it's just past H&M Demo on Blue Star, but way off to the left by Tractor Sales facility","Western TelComm","4273 Washington Rd.",null,null,null,"Holland","MI","49423","Mr.","Lee","EH&S","Utility","Ottawa"]
["Westmaas Electric Company (Westmaas)","Scott Westmaas",null," 616-247-1185",null," 616-",null,null,null,null,"Westmaas Electric Company","2400 Clyde Park Avenue SW",null,null,null,"Grand Rapids","MI","49509-1936","Mr.","Westmaas",null,"Contractor Electrical","Kent"]
["Wexford County Road Commission (Hawkins)","Jerry Hawkins",null," 231-775-9731 3030",null," 231-775-9732",null,null,null,"Mark Hurlburt Asst. Supt x3031 mob 231.620.9823","Wexford County Road Commission","85 West M-115","PO Box 49",null,null,"Boon","MI","49618","Mr.","Hawkins","Superintendent","Municipal, Cty","Wexford"]
["Wexford Sand Company- Fairmount Minerals","Sandy",null,"231-389-2819",null,"231-389-2831",null,null,"Non-Tax","Sandy for A/P","Wexford Sand Company","Attn:Holly Letizio","8770 West 28 Mile Rd.",null,null,"Harrietta","MI","49638"]
["Wharf Marina (Fischer)","CJ Fischer",null," 616-842-5370",null,null,null,null,null,null,"Wharf Marina","501 North Third St.",null,null,null,"Grand Haven","MI","49417","Mr.","Fischer","Manager","Marine","Ottawa"]
["Whirlpool Corporation(Jones Lang Lasalle)","Steve Roth",null," 269-923-3400",null," 269-923-6430",null,null,null,"Contacting again this week\nRemembers us. Send business card.\nManagement has switched to the listed corporation\nCold calls are tolerable but not recommended","Whirlpool Corporation(Jones Lang Lasalle)","151 N. Riverview Drive",null,null,null,"Benton Harbor","MI","49022",null,"Roth","EH&S Manager","Manufacturer","Berrien"]
["White Cap Construction Supply","Greg Spiros",null,"216-642-9225",null,"216-642-9235",null,null,"NonTx Re-Sale",null,"White Cap Construction Supply","Attn: Greg Spiros","7860 E. Pleasant Valley Rd.",null,null,"Independence","OH","44131"]
["White Industrial Services",null,"George Harding","616-691-8660","616-835-3919",null,null,null,"Michigan Sales Tax",null,"White Industrial Services","Attn:","5010 Abraham Dr NE",null,null,"Lowell","MI","49331"]
["White Pigeon Paper Company",null,"act pabl 269-483-7601 x4222","269-483-7601 x-4241",null,"269-483-9118",null,null,"Michigan Sales Tax",null,"White Pigeon Paper Company","Attn:","15781 river Street",null,null,"White Pigeon","MI","49099"]
["White Pigeon Township Fire Department (An","Troy Andrews",null," 269-483-9414",null," 269-483-2458","andrewswpfd@yahoo.com",null,null,null,"White Pigeon Township Fire Department","16975 U.S. 12",null,null,null,"White Pigeon","MI","49099",null,"Andrews",null,"Fire Department","St. Joseph"]
["Whitehall DPW, City of",null,"Brian Armstrong","231-894-4157",null,"231-894-6937",null,null,"Non-Tax Municipality/Utility","Jack VanGeisen","Whitehall DPW, City of","Attn:Jack VanGeisen","405 E. Colby",null,null,"Whitehall","MI","49461"]
["Whitehall DPW, City of (Armstrong)","Brian Armstrong",null," 231-894-4157",null," 231-894-6937","armstrong@cityofwhitehall.org",null,null,"Met with Jack\n-very nice guy\n-Whitehall teams with Montague for their gas detection....BW GA Micro's\n-need a dock and are interested\n-also currently interested in harnesses and lanyards\n-Jack is very hard to catch\n-always call his cell","Whitehall DPW, City of","405 E. Colby",null,null,null,"Whitehall","MI","49461","Mr.","Armstrong","Director","Municipal, Cty","Muskegon"]
["Whitehall DPW, City of (Van Geison)","Jack Van Geison",null," 231-894-4157",null," 231-894-6937",null,null,null,"Jack van Geisen","Whitehall DPW, City of","405 E. Colby",null,null,null,"Whitehall","MI","49461","Mr.","Van Geison","Streets & Utilities Supervisor","Municipal, Cty","Muskegon"]
["Whitehall Fire Dept. (Krzykwa)","Chuck Krzykwa",null," 231-894-2688"," 231-893-7400"," 231-894-1106","ckrzykwa@whitehallproducts.com",null,null,"Cold Called\nmet with, bought V2G, needs chem. gloves, see Tim next time he is buyer, gave credit app. to set up terms.","Whitehall Fire Dept.","8786 Water Street",null,null,null,"Montague","MI","49437",null,"Krzykwa","V.P. Manufacturing","Manufacturer","Muskegon"]
["Whitehall Fire Dept., City of (Stevens)","Brian Stevens",null," 231-578-4537",null,null,"brian@westshorehomeinspections.com",null,null,null,"Whitehall Fire Dept., City of","405 E. Colby",null,null,null,"Whitehall","MI","49461",null,"Stevens",null,null,"Muskegon"]
["Whitehall Industries (Krupinski)","Dan Krupinski",null," 231-845-5101 141",null,null,null,null,null,"Met with in December 2009\nHave not met Dan but did speak with Jeff King who was covering the front desk\nThe place was in shambles and most likely nearing closing","Whitehall Industries","801 South Madison St.",null,null,null,"Ludington","MI","49431",null,"Krupinski","Maintenance",null,"Auto Manufacturing"]
["Whitehall Parks and Cemetery Dep't. (Kimp","Connie Kimpagne",null," 231-894-2167",null,null,null,null,null,"Met with multiple workers, still awaiting the day to meet Conie","Whitehall Parks and Cemetery Dep't.","2055 Warner St.",null,null,null,"Whitehall","MI","49461","Mrs.","Kimpagne","Supervisor","Municipality","Muskegon"]
["Whitehall Products","Chuck Krzykwa",null,"231-894-2688",null,"231-894-1106",null,null,"Michigan Sales Tax",null,"Whitehall Products","Attn:","8786 Water Street",null,null,"Montague","MI","49437"]
["Whitehall Products (Santose)","Jeremy Santose",null," 231-893-5606 229",null," 231-893-9389","jsantose@whitehallproducts.com",null,null,null,"Whitehall Products","8786 Water Street",null,null,null,"Montague","MI","49437","Mr.","Santose","Purchasing Manager",null,"Muskegon"]
["Whitehall Products, Ltd. (Hammond)","Patti Hammond",null," 231-894-2342",null,null,null,null,null,"Left Info for Patti\n-no luck getting her on the phone or meeting as of yet","Whitehall Products, Ltd.","1625 Warner St.",null,null,null,"Whitehall","MI","49461","Mrs.","Hammond","EH&S/ HR","Manufacturing -non auto-","Muskegon"]
["Wilbur Ellis Co. (Schoenborn)","Kevin Schoenborn",null," 231-834-5689",null,null,null,null,null,"Met with Kevin briefly\nChemical, Fertilizer and Seed Sales and Processing\nAcct. is worth developing","Wilbur Ellis Co.","277 South Maple St.",null,null,null,"Grant","MI","49327",null,"Schoenborn","Site Supervisor",null,"Muskegon"]
["Wilbur-Ellis Company","Gerrit Herrygers",null,"231-742-1265",null,null,null,null,"Michigan Sales Tax",null,"Wilbur-Ellis Company","Attn: Gerrit Herrygers","2797 North Oceana Drive",null,null,"Hart","MI","49420"]
["Wilbur-Ellis company (Edmore)","Dale Dosenberry",null,"989-560-8514 cell",null,null,null,null,"Michigan Sales Tax",null,"Wilbur-Ellis company (Edmore)","Attn: Dale Dosenberry","7208 Fifth Road",null,null,"Edmore","MI","48829"]
["Wilcox Engineering ((none))","(none)",null," 231-775-7755",null,null,null,null,null,"Stopped in and met with the secretary briefly\n-left a card and some information\n-no safety manager but they do use products we rent and sell for environmental testing","Wilcox Engineering","One Madison Ave.",null,null,null,"Cadillac","MI","49601",null,"(none)","Safety Manager","Engineering, Architecture","Wexford"]
["William G Simmons Co","Bill Simmons ext-2",null,"540-726-2436",null,"540-726-2057",null,null,"Out of State",null,"William G Simmons Co","Attn: Bill Simmons","122 Monroe",null,null,"Narrows","VA","24214"]
["William J. Simon CPA (Simon)","Bill Simon",null," 616-458-2122",null," 616-458-2074","wjsimoncpa@aol.com",null,null,null,"William J. Simon CPA","1345 Monroe","Suite 252",null,null,"Grand Rapids","MI`","49505","Mr.","Simon",null,"Supplier","Kent"]
["Williams & Works",null,"Jerry Powell","616-224-1500",null,"616-224-1501",null,null,"Michigan Sales Tax",null,"Williams & Works","Attn: Roger Johr","549 Ottawa Ave. NW",null,null,"Grand Rapids","MI","49503"]
["Williams & Works, Inc. (Leitch)","Jim Leitch",null," 616-224-1500",null," 616-224-1501","leitch@williams-works.com",null,null,"Luke Hill, Bill Danly  interested in UT Spill Lit","Williams & Works, Inc.","549 Ottawa Avenue NW",null,null,null,"Grand Rapids","MI","49503","Mr.","Leitch","GPS Survey Project Manager","Engineering, Architecture","Kent"]
["Williams Plant Services","Jim Hall",null,null,null,null,null,null,"Michigan Sales Tax",null,"Williams Plant Services","c/o Entergy Palisades","Attn:po 6405-00-0390 Heather Brewer","27780 Blue Star Memorial Hwy",null,"Covert","MI","49043"]
["Williams Plant Services (Bauer)","Tom Bauer",null," 269-764-3179",null,null,null,null,null,"Rich Smith gone","Williams Plant Services",null,null,null,null,"Covert","MI",null,"Mr.","Bauer","Site Safety Manager",null,"Out of State"]
["Williams Plant Services (Brewer)","Heather Brewer",null," 269-764-2758",null,null,null,null,null,"Tom is a temporary on-site manager for Williams at Palisades","Williams Plant Services",null,null,null,null,"Covert","MI",null,null,"Brewer","Procurement Specialist",null,"Out of State"]
["Williams Plant Services (Hall)","Jim Hall",null," 269-764-3642",null,null,"jhal105@entergy.com",null,null,"Steffani Dean-Smith GONE.\nJim handles Safety for on-site Williams employees at Palisades","Williams Plant Services",null,null,null,null,"Covert","MI",null,"Mr.","Hall","Site Safety Manager","Utility","Out of State"]
["Williams Plant Services (Mancil)","Jeff Mancil",null," 269-764-3640",null,null,"jmanc91@entergy.com",null,null,"Met with Jeff on 12.8.09\n-very nice guy","Williams Plant Services",null,null,null,null,"Covert","MI",null,"Mr.","Mancil","Site Supervisor","Power Plant Services","Out of State"]
["Williams Plant Services (Petoskey)","Keith Petoskey",null," 269-764-3640",null,null,"kpeto90@entergy.com",null,null,"Met with Ron today\nRon seems to be a supervisor of sorts\nVery interested in the ice cleats\nPhone number is wrong, email is correct","Williams Plant Services",null,null,null,null,"Covert","MI",null,"Mr.","Petoskey","Site Superintendent","Power Plant Services","Out of State"]
["Williams Plant Services (Polzin)","Dennis Polzin",null," 269-764-3600",null,null,"dpol290@entergy.com",null,null,"Met with Keith today\nAlso a very nice guy\nAnother friend of Stacy Cook's\nDoes random odd jobs for power plants in Michigan","Williams Plant Services",null,null,null,null,"Covert","MI",null,"Mr.","Polzin","Site Superintendent","Power Plant Services","Out of State"]
["Williams Plant Services (Tlachac)","Ron Tlachac",null," 269-764-3600",null,null,"rtlac90@entergy.com",null,null,"Dennis runs the Williams side of things at Palisades\nVery nice guy\nMetw ith today briefly\nHead contact at Palisades","Williams Plant Services",null,null,null,null,"Covert","MI",null,"Mr.","Tlachac","Site Engineer/ Supervisor","Power Plant Services","Out of State"]
["Williams Plant Services (Ulbin)","William Ulbin",null," 269-764-2263",null,null,"wulbi90@entergy.com",null,null,"Best Buyer to ever even step on Palisade's property\nWorks for Williams.  No commitment to AirGas.","Williams Plant Services",null,null,null,null,"Covert","MI",null,"Mr.","Ulbin",null,"Contractor General","Out of State"]
["Willis of Michigan, Inc. (McConnell)","John McConnell",null," 616-827-1210",null," 616-827-1210","mcconnell_jr@willis.com",null,null,null,"Willis of Michigan, Inc.","4445-B Breton Road SE #151",null,null,null,"Kentwood","MI","49508-8411","Mr.","McConnell","VP of Risk Control","Insurance","Kent"]
["Windemuller",null,null,"616-877-8770",null,"616-877-8700",null,null,"Use Tax Rental","John Earl\nTim VanDerPloeg - cell: 616-437-9173","Windemuller","Attn:","1176 Electric Avenue",null,null,"Wayland","MI","49348"]
["Windemuller Electric Inc. (Halik)","Joe Halik",null," 616-877-8770",null," 616-877-8700","jhalik@windemuller.us",null,null,null,"Windemuller Electric Inc.","1176 Electric Ave.","PO Box 466",null,null,"Wayland","MI","49348","Mr.","Halik","Project Manager","Contractor Electrical","Allegan"]
["Windemuller Electric Inc. (Kooistra)","Cheryl Kooistra",null," 616-877-8770 207"," 616-877-8727"," 616-877-8700","ckooistra@windemuller.us",null,null,null,"Windemuller Electric Inc.","1176 Electric Ave.","PO Box 466",null,null,"Wayland","MI","49348","Ms.","Kooistra","Safety Administrator","Contractor Electrical","Allegan"]
["Windemuller Electric Inc. (Windemuller)","Michael J. Windemuller",null," 616-877-8770 215"," 616-877-8727"," 616-877-8700","mwindemuller@windemuller.us",null,null,"Cheryl Kooistra, Safety Administrator x207\nDemo'd GasAlertMicro - has two CSE trailers and would like to investigate switching out existing units. Met Steve Jerkatis, Safety. Liked 9-Lives LED Vest and Hi-Viz Gloves. Stop back to discuss fall and arc protection.","Windemuller Electric Inc.","1176 Electric Ave.","PO Box 466",null,null,"Wayland","MI","49348","Mr.","Windemuller","CEO","Contractor Electrical","Allegan"]
["Windquest",null,"Steve Gerritsma","616-994-7687",null,null,null,null,"Michigan Sales Tax",null,"Windquest","Attn:","3311 Windquest",null,null,"Holland","MI","49424"]
["Witt Enterprises Inc.","Marybeth Gramley",null,"440-992-8333",null,null,null,null,"OH IND PROC","10/10/11spoke to Marybeth Tax exempt for Ind processing will email set up info and tax exempt tomorrow\n\n1/26/12Spoke with Marybeth and explained that they will remain COD credit not to be extended. she confirmed that is company policy to be slow pay"]
["Witt Mechanical","Mike Roberts",null,"248-596-0460",null,"248-596-0461",null,null,"Michigan Sales Tax",null,"Witt Mechanical","Attn: Mike Roberts","28722 Wall St.",null,null,"Wixom","MI","48393"]
["Wobig Construction Company (Roth)","Brian Roth",null," 989-752-1294",null," 989-752-9535","wobigconst@sbcglobal.net",null,null,null,"Wobig Construction Company","527 N. Woodbridge",null,null,null,"Saginaw","MI","48602","Mr.","Roth",null,"Contractor General","Saginaw"]
["Wolf River Lumber, Inc. (Shultz)","Glayds Shultz",null," 920-982-2542",null," 920-982-4591","gladys@wolfriverlumber.com",null,null,"lead from Grace, quote T-pass","Wolf River Lumber, Inc.","500 County Highway S.",null,null,null,"New London","WI","54961","Ms.","Shultz","Safety","Lumber","Waupaca"]
["Wolverine Building Group","Marty Malek",null,"616-437-1059",null,null,null,null,"Michigan Sales Tax",null,"Wolverine Building Group","Attn:","4045 Barden SE",null,null,"Grand Rapids","MI","49512"]
["Wolverine Building Group (Livingston)","Pat Livingston",null," 616-949-3360",null," 616-949-6211","plivingston@wolvgroup.com",null,null,"Marty Malek mob 616.437.1059  mgr for Bridgewater\nLarry Wolters 2373 64th St  S of M6 off 64th  mob 437.0848","Wolverine Building Group","4045 Barden SE",null,null,null,"Grand Rapids","MI","49512","Ms.","Livingston",null,"Contractor General","Kent"]
["Wolverine Construction Management (Wolter","Larry Wolters",null," 616-248-3001",null," 616-248-3017","lwolters@wolvgroup.com",null,null,null,"Wolverine Construction Management","4045 Barden SE",null,null,null,"Grand Rapids","MI","49512","Mr.","Wolters",null,"Contractor General","Kent"]
["Wolverine Power Cooperative (Barton)","Craig Barton",null," 231-775-5700",null," 231-775-2077",null,null,null,"Left lit and note on UCL transformer masts.","Wolverine Power Cooperative","10125 W. Watergate Road","PO Box 229",null,null,"Cadillac","MI","49601","Mr.","Barton","Safety Manager","Utility","Osceola"]
["Wolverine Trenching Service (REX)","REX",null," 269-561-2523",null,null,null,null,null,null,"Wolverine Trenching Service","5374 124th Ave.",null,null,null,"Fennville","MI","49408",null,"REX","Owner","Trenching and Excavating","Allegan"]
["Wolverine World Wide (Knight)","Pat Knight",null," 616-560-1088",null," 616-866-1049","pat.knight@wwwinc.com",null,null,null,"Wolverine World Wide","9341 Courtland Drive NE",null,null,null,"Rockford","MI","49351","Mr.","Knight",null,"Manufacturer","Kent"]
["Wolverine World Wide (Shellenbarger)","Amy Shellenbarger",null," 616-863-3838",null,null,null,null,null,"Amy Shellenbarger also was Sherry Miller","Wolverine World Wide","9341 Courtland Dr.",null,null,null,"Rockford","MI","49351","Ms.","Shellenbarger",null,"Manufacturer","Kent"]
["Wonder Makers Environmental Inc. (Pinto)","Michael Pinto",null," 269-382-4154",null," 269-382-4161","map@wondermakers.com",null,null,"Troy Wilkinson, Susan Pinto (for Distributed Products)","Wonder Makers Environmental Inc.","2117 Lane Boulevard",null,null,null,"PO Box",null,"50209","Dr.","Pinto","President","Contractor EH&S","Kalamazoo"]
["Wonder Makers Environmental, Inc.",null,null,null,null,null,null,null,"Michigan Sales Tax","UPS# 58X997","Wonder Makers Environmental, Inc.","Attn:","2117 Lane Blvd.",null,null,"Kalamazoo","MI","49001"]
["Woodard LLC","Jim Porter",null,"989-725-4449",null,"989-725-4221",null,null,"Michigan Sales Tax",null,"Woodard LLC","Attn: Jim Porter","210 South Delaney Rd.",null,null,"Owosso","MI","48867"]
["Woodward (Delp)","Dennis Delp",null," 616-772-9171",null,null,"ddelp@woodward.com",null,null,"Interested in Headphones, Goggles, Parat C","Woodward","700 N. Centennial Street",null,null,null,"Zeeland","MI","49464","Mr.","Delp",null,"Manufacturer","Ottawa"]
["Woodward FST (Eslick)","John Eslick",null," 616-772-9171",null,null,null,null,null,"In speaking with Dennis, Mr. Eslick's name came up.  Good company to pursue, needs more fixed gas detection in near future.","Woodward FST","700 N. Centennial Street",null,null,null,"Zeeland","MI","49464","Mr.","Eslick","Safety Director","Aeronautics","Ottawa"]
["Woodward FST (Starling)","Gan Uesli Starling",null," 616-772-9171 88206",null," 616-748-7772","gan.starling@woodward.com",null,null,null,"Woodward FST","700 N. Centennial Street",null,null,null,"Zeeland","MI","49464",null,"Starling","Safety Director","Aeronautics","Ottawa"]
["Woodward FST Inc.","Dennis Delp",null,"616-772-9171",null,"616-745-7704",null,null,"Michigan Sales Tax","Dave Mcauliffe - ext. 88367\n\nUPS# 461711\n\nA/P Teri LaBelle","Woodward FST Inc.","Attn:Dave McAuliffe","700 North Centennial St.",null,null,"Zeeland","MI","49464"]
["Wray's Septic Tank & Development Co.","Rod Carroll",null,"269-673-4791",null,"269-673-4339",null,null,"Michigan Sales Tax",null,"Wray's Septic Tank & Development","Attn: Rod Carroll","1148 Lincoln Road",null,null,"Allegan","MI","49010"]
["Wray's Septic Tank Inc. (Carroll)","Rod Carroll",null," 269-673-4791",null," 269-673-4339","wraysseptic@charterinternet.net",null,null,"Laurie at front desk","Wray's Septic Tank Inc.","1148 Lincoln Road",null,null,null,"Allegan","MI","49010","Mr.","Carroll",null,"Contractor, Excavator","Allegan"]
["Wright Coating (Daggett)","Cheryl Daggett",null," 269-344-8195",null,null,"cdaggett@wrightcoating.com",null,null,null,"Wright Coating","1603 N. Pitcher Street",null,null,null,"Kalamazoo","MI","49007","Ms.","Daggett",null,"Manufacturer","Kalamazoo"]
["Wrist Wand LLC (Boorstein)","Michael Boorstein",null," 800-681-9768",null," 451-457-8586","michael@wristwand.com",null,null,null,"Wrist Wand LLC","336 Bon Air Center","PMB 246",null,null,"Greenbrae","CA","94904","Mr.","Boorstein","President","Supplier","N/A"]
["WS Jenks & Son",null,null,null,null,null,null,null,"Out of State",null,"WS Jenks & Son","Attn: John Bylen","953 V Street NE",null,null,"Washington","DC","20018-1103"]
["Wyman-Gordon Forgings Inc.",null,null,"216-341-0085",null,"216-341-0095",null,null,"OH Cuyahoga CO","Tony Dumm - ext. 165","Wyman-Gordon Forgings Inc.","Attn:","3097 East 61st Street",null,null,"Cleveland","OH","49127"]
["Wynan-Gordon Forgings (Cleveland) (Dumm)","Tony Dumm",null," 216-341-0085",null," 216-341-0954","tdumm@dropdies.com",null,null,"GEMs lead off web","Wynan-Gordon Forgings (Cleveland)","3097 E. 61 Street",null,null,null,"Cleveland","MI","44127","Mr.","Dumm","Plant Superintendent","Manufacturer","Out of State"]
["Wyoming City Hall","Jeff Anderson",null,"616-893-2836",null,"616-261-3540",null,null,"Non-Tax Municipality/Utility",null,"Wyoming City Hall","Attn: Jeff Anderson","1155  -  28th Street SW",null,null,"Wyoming","MI","49509"]
["Wyoming Clean Water Plant, City of",null,"Tom Wilson","616-261-3550 General","616-261-3573 Tom","616-261-3590","twilson@ci.wyoming.mi.us",null,"Non-Tax Municipality/Utility","Special Pricing on Std. 4-Blend Gas Shipping $15 \n\nFixed system tech: Jeff cell-813-5960\n\nRon Elenbaas (Maint. Foreman) - Cell:  616-261-3574","Wyoming Clean Water Plant, City of","Attn:Tom Wilson","2350 Ivanrest Ave. SW",null,null,"Wyoming","MI","49418","Mr.","Wilson"]
["Wyoming Clean Water Plant, City of (Smith","Craig Smith",null," 616-261-3558",null," 616-261-3590","csmith@ci.wyoming.mi.us",null,null,null,"Wyoming Clean Water Plant, City of","2350 Ivanrest SW",null,null,null,"Wyoming","MI","49418","Mr.","Smith","Information System Supervisor","Municipal, Cty","Kent"]
["Wyoming Clean Water Plant, City of (Wilso","Tom Wilson",null," 616-261-3573"," 616-261-3550"," 616-261-3590","twilson@wyomingmi.gov",null,null,"Aaron Vis Indl PreTreat;  Craig Smith ph 616.261.3558   mob 616.292.7495\n616.261.3550  main number Karen\nRoof edge fall protection meeting with Tom and \nRon Elenbaas 616.2613574, mob 616.893.7998  elenbaasr@wyomingmi.gov Mntc Supr","Wyoming Clean Water Plant, City of","2350 Ivanrest SW",null,null,null,"Wyoming","MI","49418","Mr.","Wilson","Maintenance Supervisor","Municipal, Cty","Kent"]
["Wyoming DPW, City of","Kimberly Oostindie",null,"616-530-7229",null,null,null,null,"Non-Tax Municipality/Utility",null,"Wyoming DPW, City of","Public Works Administration","2660 Burlingame Ave. SW",null,null,"Wyoming","MI","49509"]
["Wyoming Fire Department, City of","Chief Austin",null,"616-530-7250",null,null,null,null,"Non-Tax Municipality/Utility",null,"Wyoming Fire Department, City of","Attn: Steve Dykema","1250  36th Street SW",null,null,"Wyoming","MI","49509"]
["Wyoming Fire Department, City of (Austin)","Bob Austin",null," 616-530-7250",null,null,"millerc@ci.wyoming.mi.us",null,null,"Would like to swap out 35 decommissioned MSA belt-mounted regulator SCBA's (without cyls, though possibly with), in hopes of buying Ultra Elite Mask-mounted regulators.\nChief Austin 616.530.7250","Wyoming Fire Department, City of","1250  36th Street SW",null,null,null,"Wyoming","MI","49509",null,"Austin","Chief","Fire Department","Kent"]
["Wyoming Inventory Department, City of (Gr","Pat Grundy",null," 616-530-7271",null," 616-249-3434","grundyp@ci.wyoming.mi.us",null,null,"Greg McCarty","Wyoming Inventory Department, City of","2660 Burlingame SW",null,null,null,"Wyoming","MI","49509","Mr.","Grundy",null,"Municipal, Cty","Ottawa"]
["Wyoming Inventory, City of",null,"Heather Kubiak","616-530-7271","616-530-7342","616-249-3434","Doug Anderson - 299-3074",null,"Non-Tax Municipality/Utility","Doug Anderson (cell) 299-3074\nSteve Bourque - vm 616-249-3464\nemail:  bourques@ci.wyoming.mi.us","Wyoming Inventory, City of","Attn: Steve Bourques","2660 Burlingame Ave. SW",null,null,"Wyoming","MI","49509"]
["Wyoming Meter Maintenance, City of","\"Steve\"",null,"616-261-3561","616-893-5992 Cell","616-530-0141",null,null,"Non-Tax Municipality/Utility","Currently, no supervisor at the shop.\n\nCall around 12-12.30pm to talk to someone (lunch break at the shop)","Wyoming Meter Maintenance, City of","Attn:","2385 Porter St. SW",null,null,"Wyoming","MI","49509","Mr.","Kneibel"]
["Wyoming Meter Maintenance, City of (Kneib","Mark Kneibel",null," 616-261-3561"," 616-249-3422"," 616-530-0141","mkneibel@ci.wyoming.mi.us",null,null,null,"Wyoming Meter Maintenance, City of","2385 Porter Street SW",null,null,null,"Wyoming","MI","49509","Mr.","Kneibel","Meter Maintenance Foreman","Municipal, Cty","Kent"]
["Wyoming Meter Shop, City of","Mark Kneibeel",null,"616-261-3561",null,"616-530-0141",null,null,"Michigan Sales Tax",null,"Wyoming Meter Shop, City of","Mark Kneibeel","2385 Porter St. SW",null,null,"Wyoming","MI","49509","Mr.","Kneibeel"]
["Wyoming Parks Dept., City of","Steve Weatherby",null,null,null,null,null,null,"Non-Tax Municipality/Utility",null,"Wyoming Parks Dept., City of","Attn:","2660 Burlingame Ave. SW",null,null,"Wyoming","MI","49509"]
["Wyoming Police Dept.","Kurt Robinson",null,"530-7354",null,null,null,null,"Non-Tax Municipality/Utility",null,"Wyoming Police Dept.","Attn Kurt Robinson","2300 DeHoop SW",null,null,"Wyoming","MI","49509"]
["Wyoming Water Treatment Plant, City of",null,null,"616-669-5290",null,"616-399-2555",null,null,"Non-Tax Municipality/Utility","Rick Velderman x-108\nGregg Bloemers x-109","Wyoming Water Treatment Plant (591)","Attn: Rick Velderman","16700 New Holland",null,null,"Holland","MI","49424"]
["Wyoming Water Treatment Plant, City of (B","Gregg Bloemers",null," 616-669-5290 109"," 616-399-6511"," 616-399-2555","gbloemers@ci.wyoming.mi.us",null,null,"616.738.8081\nPaul Kapenga for fixed cal'n\nGranger Constn: John Sevigny Proj Mgr; Donna Barr 616.318.3834","Wyoming Water Treatment Plant, City of","16700 New Holland",null,null,null,"Holland","MI","49424",null,"Bloemers","Utility Maintenance Shop Forem","Municipal, Cty","Ottawa"]
["Wyoming Water Treatment Plant, City of (T","Joe Tardani",null," 616-669-5780 127",null," 616-399-2555","jtardani@ci.wyoming.mi.us",null,null,null,"Wyoming Water Treatment Plant, City of","16700 New Holland",null,null,null,"Holland","MI","49424","Mr.","Tardani","Utility Maintenance Supervisor","Municipal, Cty","Ottawa"]
["Wyoming Water Treatment Plant, City of (V","Rick Velderman",null," 616-669-5290 108"," 616-399-6511"," 616-399-2555","rvelderman@wyoming.gov",null,null," 616.738.8081\nPaul Kapenga for fixed cal'n\nGranger Constn: John Sevigny Proj Mgr; Donna Barr 616.318.3834","Wyoming Water Treatment Plant, City of","16700 New Holland",null,null,null,"Holland","MI","49424","Mr.","Velderman","Utility Maintenance Supervisor","Municipal, Cty","Ottawa"]
["Wyoming, City of (Kubiak)","Heather Kubiak",null," 616-530-7342",null," 616-261-7103","kubiakh@wyomingmi.gov",null,null,"DPW  Scott Zastrow\n  Pat Grundy  DPW Stores\n  Doug Anderson  DPW Instrumentation\n  Jody Jurik (Ms.) buyer\nParks Dave Coates\nTraffic  Ron Dressander\nWWTP  Tim Wilson\nH2O  Rick Velderman\nMeter  Mark Kneibel","Wyoming, City of","1155 28th Street SW","PO Box 905",null,null,"Wyoming","MI","49509","Ms.","Kubiak","Risk Control Supervisor","Municipal, Cty","Kent"]
["Wyoming, City of (Stapf)","Joseph Stapf",null," 616-261-3559",null," 616-261-3590","jstapf@ci.wyoming.mi.us",null,null,"Demo'd Reliance Ironman Harness. Liked it. Said to call Rick Velderman and have him try it.","Wyoming, City of","Clean Water Plant","2350 Ivanrest SW",null,null,"Wyoming","MI","49418","Mr.","Stapf","Utilities Director","Municipal, Cty","Kent"]
["X-Bar Automation Inc.","Ken Downie",null,"248-616-9890",null,"248-616-9898",null,null,"Non-Tax",null,"X-Bar Automation Inc.","Attn: Ken Downie po 208320-4","961 Elmsford Dr.",null,null,"Troy","MI","48083"]
["X-Bar Automation, Inc. (Downie)","Ken Downie",null," 248-616-9890 104",null," 248-616-9898","ken@xbarauto.com",null,null,null,"X-Bar Automation, Inc.","961 Elmsford Drive",null,null,null,"Troy","MI","48083","Mr.","Downie","Purchasing",null,"Oakland"]
["Yacht Basin Marina (Kalk)","Gwen Kalk",null," 616-786-2205",null,null,null,null,null,null,"Yacht Basin Marina","1862 Ottawa Beach Rd.",null,null,null,"Holland","MI","49424","Mrs.","Kalk","Purchasing/Marketing Manager","Marine Storage and Service","Ottawa"]
["Yamaha Corp of America",null,"Al Slater","616-575-1321","cell 616-893-4836",null,null,null,"Michigan Sales Tax",null,"Yamaha Corp of America","Attn: Al Slater","3445 - East Paris SE",null,null,"Grand Rapids","MI","49512"]
["Yamaha Musical Products (Kalkman)","Renee Kalkman",null," 616-575-1320",null," 616-575-1380","rkalkman@yamaha.com",null,null,null,"Yamaha Musical Products","3445 East Paris Avenue SE",null,null,null,"Grand Rapids","MI","49512","Ms.","Kalkman",null,"Manufacturer","Kent"]
["Yamaha Musical Products (Slater)","Al Slater",null," 616-575-1321",null," 616-575-1380","aslater@yamaha.com",null,null,null,"Yamaha Musical Products","3445 East Paris Avenue SE",null,null,null,"Grand Rapids","MI","49512","Mr.","Slater","Facility Engineer","Manufacturer","Kent"]
["Yoplait-Columbo",null,null,"231-832-3285 General",null,null,"chris.vennix@genmills.com",null,"Michigan Sales Tax","PO invoices may be faxed to 763-293-3318\ninvoices that are \"non PO\" get faxed to 763-293-3324\n\nChris V VISA:  4246-0441-0126-2909  Exp: 09/12\nShip To address is same as Visa statement address\n\nChris Vennix - Direct:  231-832-6287\nKeith Utech - Direct:  231-8326595\n\nA/P Tiffany Weck - Direct: 231.832.6208","Yoplait-Columbo Reed City","Attn: Chris Vennix","128 E.Slosson Ave.",null,null,"Reed City","MI","49677"]
["Yorozu Automotive North America, Inc. (Al","Tony Alexander",null," 269-969-3788 125",null," 269-969-4312","alexander.tony@yorozuautomotive.com",null,null,null,"Yorozu Automotive North America, Inc.","166 McQuiston Drive",null,null,null,"Battle Creek","MI","49015","Mr.","Alexander","Safety / Training Coordinator","Automotive","Calhoun"]
["Young Supply Co","Paul Hoisington",null,"989-754-0441",null,"989-754-4224",null,null,"NonTx Re-Sale",null,"Young Supply Co","Attn:Paul Hoisington","125 Davenport Ave.",null,null,"Saginaw","MI","48602"]
["Young's Environmental Cleanup, Inc. (Webb","Dave Webber",null," 616-785-3374",null," 616-785-3401",null,null,null,"Gary Brannock  Safety  MUSAR-trained,\nDave Rowlandson","Young's Environmental Cleanup, Inc.","4990 West River Drive, NE",null,null,null,"Comstock Park","MI","49321","Mr.","Webber",null,"Contractor EH&S","Kent"]
["Zeeland BPW (Muller)","Don Muller",null," 616-772-6212",null," 616-772-6242","donm@bpw.zeeland.mi.us",null,null,null,"Zeeland BPW","350 E. Washington Ave.",null,null,null,"Zeeland","MI","49464",null,"Muller","Electric Operations Mgr",null,"Ottawa"]
["Zeeland Cemetery & Parks, City of (Boerse","Irv Boersen",null," 616-772-0887",null," 616-772-0880",null,null,null,"Ordered Kinco gloves.","Zeeland Cemetery & Parks, City of","21 South Elm Street",null,null,null,"Zeeland","MI","49464","Mr.","Boersen","Supervisor","Municipal, Cty","Ottawa"]
["Zeeland Chemical (Oudemolen)","Mark Oudemolen",null," 616-748-7844",null,null,null,null,null,"Has breather boxes.","Zeeland Chemical","215 Centennial",null,null,null,"Zeeland","MI","49464","Mr.","Oudemolen","Safety Director","Chemical Pharmaceutical","Ottawa"]
["Zeeland Clean Water Plant","Glenn Berghorst",null,"616-772-0873","616-836-5042","616-772-5366",null,null,"Non-Tax",null,"Zeeland Clean Water Plant","Attn: Glenn Berghorst","144 East Lincoln Ave",null,null,"Zeeland","MI","49464"]
["Zeeland Clean Water Plant, City of (Bergh","Glenn Berghorst",null," 616-772-0873",null," 616-772-5366","zwwtp@ci.zeeland.mi.us",null,null,"Met at Shanty Creek.","Zeeland Clean Water Plant, City of","144 East Lincoln Avenue",null,null,null,"Zeeland","MI","49464","Mr.","Berghorst","Clean Water Plant Supervisor","Municipal, Cty","Ottawa"]
["Zeeland Emergency Services (Redder)","Larry Redder",null," 616-654-8924",null," 616-772-0891","zeelandrescue@chartermi.net",null,null,"Bought 2 GasAlertMicros\nRose Borst 616.772.6400, fx 6167720891","Zeeland Emergency Services","21 S. Elm Street",null,null,null,"Zeeland","MI","49464","Mr.","Redder",null,"Municipal, Cty","Ottawa"]
["Zeeland Farm Services, Inc. (Carper)","Mary Carper",null," 616-772-9042",null,null,"maryc@zfsinc.com",null,null,null,"Zeeland Farm Services, Inc.","2468 84th Ave.",null,null,null,"Zeeland","MI","49464","Ms.","Carper","Corporate Safety Manager",null,"Ottawa"]
["Zeeland Farm Services, Inc. (Koopman)","Dave Koopman",null," 616-748-1873",null," 616-748-3920","davek@zfsinc.com",null,null,null,"Zeeland Farm Services, Inc.","2468 84th Ave.",null,null,null,"Zeeland","MI","49464","Mr.","Koopman",null,"Food","Ottawa"]
["Zeeland Farm Services, Inc. (Smith)","Diana Smith",null," 616-748-1820",null," 616-748-3920","dianas@zfsinc.com",null,null,null,"Zeeland Farm Services, Inc.","2468 84th Ave.",null,null,null,"Zeeland","MI","49464",null,"Smith","Transportation Safety Speciali",null,"Ottawa"]
["Zeeland Fire Rescue","Larry Redder",null,"616-654-8924",null,"616-772-0891",null,null,"Non-Tax Municipality/Utility",null,"Zeeland Fire Rescue","Attn: Larry Redder","29 West Main Ave.",null,null,"Zeeland","MI","49464"]
["Zeeland Generating Station","Gordon Heeres / Brian Roth",null,"616-772-6641",null,"616-772-6729","safreese@cmsenergy.com",null,"Non-Tax","Brian Roth\nScott Freese\nHomer Manning - direct: 616-237-4004\nGordon Heeres\n\nHomer Manning email jhmanning@cmsenergy.com","Consumers /Zeeland Generating Station","Attn:Homer Manning","425 North Fairview Ave.",null,null,"Zeeland","MI","49464"]
["Zeeland Lumber (Myers)","Julie Myers",null," 616-772-2119 109",null,null,null,null,null,null,"Zeeland Lumber","146 E. Washington Ave.",null,null,null,"Zeeland","MI","49464","Mrs.","Myers","Safety Coordinator","Lumber","Ottawa"]
["Zeeland Street Department, City of (Nienh","Scott Nienhuis",null," 616-772-0887",null," 616-772-0880",null,null,null,"Ordered Kinco gloves. See Glenn for Micro.","Zeeland Street Department, City of","21 South Elm Street",null,null,null,"Zeeland","MI","49464","Mr.","Nienhuis","Supervisor","Municipal, Cty","Ottawa"]
["Zeeland Street Dept., City of","Scott Nienhuis",null,"616-772-0887",null,null,null,null,"Non-Tax",null,"Zeeland Street Dept., City of","Attn:Scott Nienhuis","600 East Roosevelt Ave.",null,null,"Zeeland","MI","49464","Mr.","Nienhuis"]
["Zelenka Nurseries (NONE)","NONE",null," 616-842-1367",null," 616-842-0304",null,null,null,null,"Zelenka Nurseries","16127 Winans St.",null,null,null,"Grand Haven","MI","49417",null,"NONE","No-Title","Nursery","Ottawa"]
["Zellweger Analytics (Walden)","Robert Walden",null,null,null,null,"robert.walden@zelana.com",null,null,"Mark Gonyea mob 734.604.8300  Irene Tietz, Ron Manduch","Zellweger Analytics","2388 Spencer Drive",null,null,null,"Jackson","MI","49202","Mr.","Walden","Fixed System Product Manager","Representative","Jackson"]
["Zook Farm Equipment",null,null,"616-868-6195","Cell 616-437-3427","616-868-6196",null,null,"Michigan Sales Tax",null,"Zook Farm Equipment","Attn: Thomas E. Zook","7980 Pratt Lake Rd.",null,null,"Alto","MI","49302"]

{"sheet":"Service Jobs","index":2,"n_rows":1,"n_cols":24,"rows_kept":1,"cut":false,"hidden":false,"merged":[]}
["Name","FullName","BillAddressAddr1","BillAddressAddr2","BillAddressAddr3","BillAddressAddr4","BillAddressAddr5","BillAddressCity","BillAddressState","BillAddressPostalCode","Phone","AltPhone","Fax","Email","Contact","AltContact","SalesRepRefListID","SalesRepRefFullName","JobDesc","JobTypeRefFullName","JobStatus","JobStartDate","JobProjectedEndDate","JobEndDate"]

{"sheet":"Clients without E-mail","index":3,"n_rows":2042,"n_cols":3,"rows_kept":2042,"cut":false,"hidden":false,"merged":[]}
["Name","Contact","Email"]
["A & B Builders Plumbing-Mechanical"]
["A & B Packing Co.","Marv Ressor"]
["A & R Erectors Inc.","Lisa"]
["A & R Mechanical Services Inc. (Riker)","Rick Riker"]
["A. Belloli & Sons","Tom Belloli"]
["AAA Sling & Industrial Supply (Vant)","Dave Vant"]
["AAA Sling Industrial Supply, Inc."]
["Aaron Russell"]
["Abbott Laboratories (Craycraft)","David Craycraft"]
["Abbott Nutrition","Terry"]
["Abbott Nutrition (Richmond)","Renee Baker"]
["Abco Safety","Norm Mitchell"]
["ABS Americas Division"]
["Absolute Safety Inc.","John & Vicky Stalmack"]
["Access Business Group","Shelly Stephens"]
["Access Insurance Agencies (Mayne)","Sarah Mayne"]
["Access Safety LLC","Jeff Mather"]
["Accident Fund Insurance Company","Lou Ann Gill ext.1636"]
["Accident Fund Insurance Company (Muskegon","Mike Rabach"]
["Accuform Industries, Inc","Nate Mattione"]
["Ace Steel (Pou)","Rudy Pou"]
["Ace Steel Erection Inc."]
["ACI (Goshi)","Rashesh Goshi"]
["ACME Ladder & Supply Co.","Acct Collette Bingham"]
["ACME Ladder & Supply Co. (Szakal)","Pat Szakal"]
["Action Industrial Supply","Paul Wickland"]
["Acuren Inspection","Kyle Kirby 269-377-9927"]
["ADAC Plastics (Muskegon)","Lisa Purcell ext.5872 safety"]
["ADAC Plastics (Saranac)","Gene Getts"]
["Adams Robinson Construction Co."]
["AdaTownship Fire Department","Chief James Duvall"]
["Adrian DPW, City of (Dersham)","Keith Dersham"]
["Adrian Township Fire Department","Don Betz"]
["Advance Security","Dave Balicki"]
["Advanced Environmental Service (Boddy)","Andy Boddy"]
["Advantage Cleaning Systems","Jeremy Churchill"]
["Advantage Cleaning Systems, Inc. (Churchi","Jeremy Churchill"]
["Advantage Drain Cleaning (Gillons)","Ryan Gillons"]
["Advantage Drain Cleaning LLC","Ryan Gillons"]
["AECOM (Grand Rapids)","Brett Bittenbender"]
["AECOM (Lansing)","Craig Simon"]
["AECOM (Partilla)","Ron Partilla"]
["Aeriform Instruments, Inc."]
["AES Equipment (Hofstra)","Tom  Hofstra"]
["AFC","Jim/Cathy"]
["Affordable Window Tint","Robert McHolland"]
["AFH Unlimited","Debbie"]
["Agile Safety (In-House Use)"]
["Agritek Inc. (Weerstra)","John Weerstra"]
["Air Handling Equipment Co., Inc. (Masters","Greg Masters"]
["Airgas Merchant Gases","Anita"]
["Airgas Safety (Mitchell)","Becky Mitchell"]
["Al's Excavating Inc. (Haverdink)","Dave Haverdink"]
["Alberici Constructors (Schneck)","Dave Schneck"]
["Alcoa Automotive (McCarty)","John McCarty"]
["Alcoa Closure Systems International","Sherry Allen (buyer)"]
["Alcoa Engineered Systems (Yankton, SD)","Katie Kehow (billing)"]
["All Around Excavating","Chad Zerlaut"]
["All Phase Hydraulic (Brandon)","Brandon"]
["Allegan County Road Commission","Ken Glupker"]
["Allegan DPW, City of","Aaron Haskin"]
["Allegan DPW, City of (Courtney)","Laurie Courtney"]
["Allegan DPW, City of (Wilson)","Jerry Wilson"]
["Allegan Fire District","Chief Bruce Hoyer"]
["Allegan Metal Finishing Company (AMFCO) (","Walter Bosnowski"]
["Allegan Police Department (Gorr)","Ltnt. Dennis Gorr"]
["Allegan WWTP, City of"]
["Allegro Industries (Butler)","Susan Butler"]
["Allendale Charter Twp., Public Works","Nina Buist"]
["Allied Environmental Services","Dan Clemens"]
["Allstate Insurance (Hughes)","Kim Hughes"]
["Alma College","Mark Cubberly"]
["Alma College (Cubberly)","Mark Cubberly"]
["Alma DPW, City of","Lee Coughlin"]
["Alma DPW, City of (Coughlin)","Lee Coughlin"]
["Alma Water Plant, City of (Pilmore)","Bill Pilmore"]
["Almond Products","Darrell Wyatt"]
["Almond Products (Wyatt)","Darrell Wyatt"]
["Aloha State Park"]
["Alpena Reginal Medical Center","Janine (purchasing)"]
["Alstom power (Douglas)","Jill Douglas"]
["Alternative Mechanical LLC","Page Kelly x-20 Accting"]
["Altron Automation, Inc. (McNees)","Ron McNees"]
["American Autocoat (Antuma)","Kathy Antuma"]
["American Axle & Manufacturing","Gerald Timmer"]
["American Axle & Manufacturing (Howard)","Chaileta Howard"]
["American Controls Inc.","Mark Murray"]
["American Electric Power (Swart)","Mark Swart"]
["American Electric Power Cook Plant","Randy Johns"]
["American Environmental Group (St. Johns)","Home Office - Main office in notes"]
["American Hydrogeology"]
["American Mitsuba / CME Corp","Jerry Haines x-235"]
["American Producers Supply","Dianna"]
["American Seating"]
["American Woodmark Co.","Joe Morgan"]
["AMS Corp. (Kennedy)","Brian Kennedy"]
["Anchorage Marine Service and Storage (Coo","Jim Cooper"]
["Anderson Technologies (Prescott)","Paul Prescott"]
["Angel's Instrumentation","Adam Graham"]
["Angola WWTP, City of","Kurt Dowell"]
["Applied Manufacturing Technologies"," Martin Bienasz"]
["Approved Fire Protection"]
["Arborist Skills Inc. (Hineline)","Dave Hineline"]
["ArcelorMittal Tubular Products","David Liebert"]
["Arkema Inc.","Pat Harig"]
["Armock Mechanical","Todd Tinicer"]
["Armock Mechanical Contractors (Mike)","Mike"]
["Armor Metal Group","Angela Meade"]
["Armour Eckrich Meats, LLC","Kim Lowe"]
["Armstrong Egg Farms (Armstrong)","Ryan Armstrong"]
["Arrow Roofing & Supply","Josh Neumann"]
["Artex Labels and Graphics (Williams)","Kim Williams"]
["Arvilla Oil Field Servece Co.","Dan Grimes"]
["ArvinMeritor","Shery Joiner"]
["ASD, Inc.","Tom Tippman"]
["Ash Stevens Inc."]
["Ashland Inc. (Belleville, NJ)","Steve Buchanan"]
["ASI Environmental Technologies, Inc. (War","Dave Warner"]
["Asphalt Paving Inc. ()"]
["Asphalt Sealcoating, Inc. (Dave)","Dave"]
["Assay Technology (Kirkpatrick)","Rena Kirkpatrick"]
["ATC Associates (Grand Rapids)"]
["Atk Energetic Systems (Radford)"]
["Atlantic Commtec Corp.","David Fulford"]
["Atlantic Union Resources (Prairie Island)","Dean Pryor"]
["Austin AECOM AAC-MI, Inc."]
["Austin Company, The (Senske)","Jeff Senske"]
["Auto Chassis International","Loic Morel (PO# guy)"]
["Auto Control (Kerkstra)","Terry Kerkstra"]
["Auto-Owners Insurance (Kittle)","Darlene Kittle"]
["Autocam Corporation"]
["Autocam Corporation (Van Putten)","Dave Van Putten"]
["AutoDie LLC"]
["Autoglass Technologies","Kevin D'Argenio"]
["Automotive Component Holdings (Schmidt)","Jeff Schmidt"]
["Automotive Equipment Specialists"]
["Avon Protection Systems Inc.","Pete Swearengen"]
["Award Window Cleaning Services","Mark Reinhart"]
["Axens North America, Inc."]
["Aztec Producing Co.","Mike Hershberger"]
["B & B Electrical Contractors Inc.","Len Bal"]
["B & B Yardscape","Brad Gillaspie"]
["B & L Bolt, Inc.","Kevin Dieleman"]
["B&B Water / Wastewater Consultants Inc. (","Joseph Baxter"]
["B&V Mechanical"]
["Babcock and Wilcox Const. (Monroe)","Ryan Beisert"]
["Babcock and Wilcox Const. (W. Olive)","Brent West"]
["Babcock and Wilcox Const. (Winfield)","Danny Steddum"]
["Babcock and Wilcox Construction (Wolf)","Gary Wolf"]
["Bailey Excavating & Grading (Vanarsdal)","Wendy Vanarsdal"]
["Baker Industrial Equipment","Mark Chilcoat"]
["Baker Tent Rental (Baker)","Steve Baker"]
["Baldwin Wallace"]
["Ball Corporation (Findlay)"]
["Banks Hardwoods"]
["Bata Plastics","Barb Hammond Accounting"]
["Bathmasters (Yemc)","Kathy Yemc"]
["Batteries Plus (Schmuldt)","Dick Schmuldt"]
["Battle Creek DPW, City of (Clark)","Jerome Clark"]
["Battle Creek DPW, City of (DeLong)","Larry DeLong"]
["Battle Creek DPW, City of (Rich)","Dave Rich"]
["Battle Creek Police Dept.","Sgt. Matt Robinson"]
["Battle Creek, City of (McKenzie)","Scott McKenzie"]
["Bauer Sheet Metal & Fabrication, Inc. (Se","Ron Sejat"]
["Bayer Crop Science (Vangills)","Kim Vangills"]
["Bazen Electric Company"]
["BCN Services (Porterfield)","Tracie M. Porterfield"]
["BDN Industrial Hygiene Consultants, Inc.","Julie R Callaway"]
["Beacon Recycling, Inc. (Bulthuis)","Steven Bulthuis"]
["Beaver Tree Services (Milker)","Carl Milker"]
["Beck Industrial Painting","Gayl Beck"]
["Beech & Rich (Hegner)","Jeanita Hegner"]
["Beech & Rich Inc.","Helen Glover"]
["Belding DPW, City of (Thomas)","Ernie Thomas"]
["Belding Fire Department, City of (Moore)","Gregg Moore"]
["Belmont County Emergency Manageement Agcy","Becky Horne"]
["Benchmark Environmental Consultants","Christopher Gray"]
["Benny Lanni"]
["Benteler Automotive (Goshen)","Greg Good"]
["Benteler Automotive (Opelika)","Dan Sartin"]
["Bentley Publishers"]
["Benton Charter Township Water Plant","Stewart Beach"]
["Benton Harbor DPW","Alfeda Randolph"]
["Benton Harbor Water Plant, City of (Fowle","Robert Fowler"]
["Benton Harbor/ St. Joseph WWTP"]
["Benzie County Road Commission (Demerly)","Ben Demerly"]
["Berlin-Orange Fire Department","Matt Bennett"]
["Berry Plastics (Okoniewski)","Michael Okoniewski"]
["Betsie Lake Utilities Authority","Ernest Elliott"]
["Betsie Lake Utilities Authority (Elliott)","Ernest Elliott"]
["Better Bolting","Mike Perry"]
["BGI Inc.","Trudy McEachern"]
["BGL Asset Services","Bob Meyers"]
["Big Rapids City Garage, City of","Van Johnson"]
["Big Rapids Clean Water Plant, City of","Jack Fraser"]
["Bill Bosch"]
["Bill's Custom Fab, Inc.","Jessica Accounting"]
["BILZ Plumbing and Mechanical (Downs)","Dan Downs"]
["Biolab Chemtura","Steven Marr"]
["Biotec, Inc.","Colleen Hulst (Buyer)"]
["Birds Eye Foods (Rybarczyk)","Bill Rybarczyk"]
["Birks Works Environmental"]
["Bittersweet Ski Area (Denhardy)","Dave Denhardy"]
["Black River Builders (Novak)","Joe Novak"]
["Blackmer","Leisha McClelland"]
["Blarney Castle Oil Company (Griffis)","Tracy Griffis"]
["BLD Products Ltd. (Marshall)","Gale Marshall"]
["Blue Rhino (Channohon)","Hersch Collins ext.4"]
["Blue Rhino (Hamptonville)","Chris Moxley"]
["Blue Rhino (Henderson)","John Lewis"]
["Blue Rhino (Hutchins)","Jim Magrath"]
["Blue Rhino (Kansas City)","Josh McLeod"]
["Blue Rhino (Rubidoux)","Steve Holmes"]
["Blue Rhino (Tavares)"]
["Boar's Head Provisions (Boomgard)","Bill Boomgard"]
["Bob's Roofing, Inc. (Landis)","Pat Landis"]
["Boc Linde (South Bend)","Jim Copenhaver"]
["Bond Construction Inc. (Nickels)","Delmer H. Nickels"]
["Borculo Polishing Inc.","Michael Biesbrock"]
["Borculo Polishing Inc. (Biesbrock)","Michael Biesbrock"]
["BorgWarner Thermal Systems","Jeff Homa"]
["Borisch Manufacturing Corporation","Michael Halm"]
["Bosch Mechanical Contractors"]
["Bosch Reman North (Dunn)","Dan Dunn"]
["Bouwens Construction (Bouwens)","Jim Bouwens"]
["BP Pipeline (Taylor)","Mike Baum"]
["BP Products NA (Napoleon)","Gary Furr"]
["BR Metal Products (Klintworth)","Marlene Klintworth"]
["Bradford Company (Gilbert)","Don Gilbert"]
["Bradford White (Norris)","Kim Norris"]
["Bradley Corporation (Porte)","Lorri Porte"]
["Branch County Road Commission","Kevin"]
["Brandon Burnette (home)","Brandon"]
["Bredeweg & Zylstra, PLC (Franken)","Joshua Franken"]
["Brenner Excavating","Kevin Brenner"]
["Brenner Excavating (Brenner)","Kevin Brenner"]
["Brenner Oil Company"]
["Brewster Dairy, Inc.","x-3348"]
["Brinks","Paul J. Stephenson"]
["Brown City Area Fire & Rescue","Jim Groat"]
["Bruce Miller"]
["Bruckner Supply Co. (Allvac NC)"]
["Bruckner Supply Co. (Dana / Toledo)"]
["Bruckner Supply Co. (Port Washington)","Richard Patwell"]
["Buck Construction (Buck)","Jeff Buck"]
["Buckeye Construction","Tim Wade"]
["Buckeye Pipeline","Pat Carroll"]
["Buckeye Terminals LLC (Granger)"]
["Buckley Fire Dept.","Elmer Guernsey"]
["Buist Electric","Brent Brinks"]
["Bultema Brothers Road Contractors Inc.","Steve Bultema"]
["Bultema Brothers Road Contractors, Inc. (","Steve Bultema"]
["Bureau Veritas MI","Marilyn Priddy"]
["Bureau Veritas N.A. (Hoekman)","Brett Hoekman"]
["Bureau Veritas NATLSCO (Pressnell)","Matt Pressnell"]
["Burgess Concrete Const.","Albert Croenewald"]
["Burgrabbe Masonry, Inc. (Schepers)","Scott Schepers"]
["Burkhardt Ridge","Michael Chosid"]
["Burnette Foods (Sherman)","Bill Sherman Jr"]
["Busscher Construction (Busscher)","Kim Busscher"]
["Busscher's Septic Tank Services ()"]
["BW by Honeywell"]
["Byron Andres"]
["C & I  Electric","Jim Erndteman"]
["C & S Electric Service (Becky)","Becky"]
["C&C Enterprised, Inc.","Jan Noble"]
["C.D. Barnes Associates, Inc.","Dick Bruff"]
["C.I.R."]
["Cadillac DPW, City of (Foster)","Dan Foster"]
["Cadillac Water Services, City of","Brian Cardinal"]
["Cadillac Water Services, City of (Cardina","Brian Cardinal"]
["Cadillac WWTP, City of (Dietlin)","Jeff Dietlin"]
["Cal Chlor (Jareousel)","John Jareousel"]
["Caledonia Twp. Fire Dept.","Kyle Fennell"]
["Calvin College","Heather Chapman"]
["Cameron Brothers, Inc. (Sherry)","Sherry"]
["Cameron Mechanical Services (Coraopolis)","Rob Burns"]
["Camp & Cruise (Covell)","Dick Covell"]
["Camp Cruise","Dick Covell"]
["Campbell Inc.","Justin Van Der Sall"]
["Camus Water Technologies","Don Houston"]
["Cannon Muskegon Corp.","Andy Whitlock"]
["Cannonsburg Ski Area (Miller)","Nick Miller"]
["Capital Normal University","Tao Tang"]
["Capitol Barricading","Diana Folleth"]
["Capitol Barricading (Folleph)","Diana Folleph"]
["CAPP Inc.","Mark Donato"]
["Capsugel (Greenwood)"]
["Cargill Inc. (Harrisonburg)","Bob Evans"]
["Cargill Inc. (Kennedy)"]
["Cargill Inc.(Batavia)","Tim LeClair"]
["CarMax","Kim Watkins"]
["Carpenters Local 1836","Bill McAlister"]
["Carry Manufacturing Inc","Jean"]
["Carstensen Contracting Inc.","Kevin Green"]
["Cascade Die Casting -Great Lakes Div.","Anne Snider"]
["Cascade Die Casting Group (Atlantic Div.)","Anthony Blakely"]
["Cascade Die Casting Group (S. Division)","Paul Dieterle"]
["Cascade Die Casting Mid-State Division (T","Dave Timmer"]
["Cascade Engineering","Kristine Nietering"]
["Cascade Township Fire Dept","Steve Bennett"]
["CDP Engineers","Steve Green"]
["CDR Pigments & Dispersions","Dolores Peters"]
["CE Wilder Road Service Center","Rob Giorgis"]
["Cedar Crest Dairy (Boes)","John Boes"]
["Cedar Springs Fire Dept., City of (Scholz","Traverse Scholz"]
["Celmore Plastics Ltd.","Ryan Hatfield"]
["Centennial Coatings (Vane)","Pual Mac Vane"]
["Central Michigan University","John Dillon"]
["Central Michigan University (Walton)","Jennifer Walton"]
["Century A&E","Bob Arbetman"]
["Century Sun Metal Treating","David Query"]
["CH2M Hill","Steve Beck"]
["CH2M Hill (W. Allis WI)","John Meidl"]
["CH2MHill (Okemos)","Brian Constant (buyer)"]
["Chain of Lakes Sewer Authority","Scott Wilson"]
["Challenge Machinery (German)","Bob German"]
["Charles F. Mann Paint Co.","Becky Jackson"]
["Charles River Laboratories","Keith Horn ext. 12"]
["Charlevoix Electric / Water Dept."]
["Cherry Growers Inc. (Gallop)","Ron Gallop"]
["Choctaw-Kaul","Choctaw-Kaul"]
["Chris Hammond (CUSTOMER)"]
["Christie Construction (Christie)","Scott Christie"]
["Christman Construction(Grand Rapids)","Kerrie Battige"]
["Christman Constructors (Lansing)","Andy Bellmore"]
["Chukwu Williams"]
["Cintas Corporation (Walker)"]
["Cintas Corporation (Walker) (Parkhurst)","Jim Parkhurst"]
["Circuit Electric Company ()"]
["Citgo Petroleum (Tallmadge OH)","Chris Mercier"]
["Citgo Petroleum Corp. (Baltimore)","Robert Truax"]
["Citgo Petroleum Corp. (Oregon OH)","Rick Bauer"]
["Citgo Petrolium Corp. (Buckeye Terminals)"]
["Citgo Petrolium Corp. (Dublin)","Chad Snouffer"]
["City Service, Etna Supply","Brian Waters"]
["CKI Inc"]
["Clark Excavation Company (Kreiner)","Wayne Kreiner"]
["Clarksville Fire Dept / Campbell Twp FD","Bob Cronk"]
["Clarksville Fire Dept/Campbell TWSHP (Cro","Bob Cronk"]
["Clean Air","Benito Faccini"]
["Clean Source","Ted Brummel"]
["Cliffs Michigan Operation (1-Empire Mine)","James Dial"]
["Clio Area Fire Department","Gary M. Domerese"]
["Clyde Union","Gipp Klein"]
["CM Resources, Inc. (Pfizer Kzoo)","Tasha Mazo"]
["Coastal Container (Tammy)","Tammy"]
["Coca-Cola Company"]
["Coca-Cola Company (Young)","Steve Young"]
["Coldwater Board of Public Utilities (Wood","Dave Woodman"]
["Coldwater DMS, City of","Dave Sattler"]
["Coldwater Police Department","Mark Bartell"]
["Cole's Quality Foods, Inc.","Diana Gaulting"]
["Coloma Frozen Foods (Ostyn)","Denny Ostyn"]
["Columbia Gas Transmission (Charleston)","Larry Gerwig"]
["Columbia Gas Transmission (Lucas)","Marty Sloan"]
["Columbia Gas Transmission (Pikeville)"]
["Columbia Gas Transmission (Smithfield)"]
["Columbia Gas Transmission (Sugar Grove)","Alan Man"]
["ColumbiaGas Transmission(Lanum Compresor)","Curtis Edelman"]
["Commercial Contractors Inc. (Sharky)","Sandy Sharky"]
["Commercial Diving & Marine Services, Inc.","Wayne Brusate"]
["Commonwealth Constractors Inc. (Main)","Sean Lucas"]
["Commonwealth Contractors (Plum Point)","Jerome Trierweiler"]
["Compton Inc.","Stan Compton"]
["Con Agra Foods","Bill Decker"]
["Con Agra Foods, Inc. (Morral)"]
["Connan Inc.","MariJo Turner - Accounts Payable"]
["Conneaut Telephone Co.","Don Zappittelli"]
["Consol Energy","Debora Kosmack"]
["Consol Energy (Kosmack)","Deborah Kosmack"]
["Consolidated Electric Company (McCambridg","Bob McCambridge"]
["Construction Equipment","Scott Wagner"]
["Consumers Concrete Corporation","Lisa Boreham"]
["Consumers Energy (Battle Creek)"]
["Consumers Energy (BC Cobb)","Kevin Gillish"]
["Consumers Energy (Boyne City)","Loren Barnes"]
["Consumers Energy (Campbell)","Karen Spychalski"]
["Consumers Energy (Corporate)"]
["Consumers Energy (Croton)","S. H. Hadley"]
["Consumers Energy (Grand Rapids)","Ken Czekaj"]
["Consumers Energy (Jackson)","Richard E. Loughlin (Dick)"]
["Consumers Energy (Kalamazoo)","Rick Reeves"]
["Consumers Energy (Livonia)","MP Weese (buyer)"]
["Consumers Energy (Ludington)","Marlene Burnham"]
["Consumers Energy (Mt. Morris)","A. G. Barrett"]
["Consumers Energy (Oscoda)","Suzane Pate"]
["Consumers Energy (Saginaw)","Pat Murphy"]
["Consumers Energy (Tippy Dam)","Suzanne Pate"]
["Consumers Energy (Trail Street)","Roger Dayton"]
["Consumers Energy (Walker)","Karen Walker"]
["Consumers Energy (Whiting)","Rachelle Collins"]
["Consumers Energy (Wright)","Amy Wright"]
["Consumers Energy BC Cobb (Burmeister)","Kurt Burmeister"]
["Consumers Energy BC Cobb (Zimmerman)","Dan Zimmerman"]
["Consumers Energy Campbell (Dekker)","Terry Dekker"]
["Consumers Energy Campbell (Odegma)","Tim Odegma"]
["Consumers Energy Campbell (Sarki)","Rob Sarki"]
["Consumers Energy Campbell (Schmiedeknecht","Lee Schmiedeknecht"]
["Consumers Energy Campbell 1 & 2 (Pellegro","Rick Pellegrom"]
["Consumers Energy Campbell 3 (Kaufman)","Bill Kaufman"]
["Consumers Energy Campbell 3 (Laferge)","Stacy Laferge"]
["Consumers Energy Karn 1 & 2 (Robishaw)","Ron Robishaw"]
["Consumers Energy Ludington (Olson)","Andy Olson"]
["Consumers Energy Manistee Service Center","Jeff Kelley"]
["Consumers Energy Manistee Service Center","Jeff Kelley"]
["Consumers Energy Manistee Service Center","Jeff Kelley"]
["Consumers Energy Marysville (Wesch)","John Wesch"]
["Consumers Energy Trail Street (Sawyer)","Robert Sawyer"]
["Consumers Energy Zeeland Power (Anderson)","Cory Anderson"]
["Consumers Energy Zeeland Power (Keefe)","George Keefe"]
["Controlled Tooling Systems Inc."]
["Cook Inlet Pipe Line Co.","Mike Patterson"]
["Cook Inlet Pipe Line Company-Drift River","Michael Patterson"]
["Cook-Devos"]
["Cooper Farms (Fort Recovery)","Lisa Timmerman"]
["Coopersville Polkton Fire Department (Wal","Lee Waldie"]
["Coopersville WWTP","Steve Luke"]
["Coopersville WWTP (Luke)","Steve Luke"]
["Cornerstone Safety Products","Joe Nichols"]
["CoroTech Co.","Jeff Dills"]
["CoroTech Co. - (FRP)","Ken Kensington"]
["Correct Mechanical Services (Moelker)","Russ Moelker"]
["CorrPro Companies, Inc.","Mike Celasko"]
["CorrPro Companies, Inc. (Celasko)","Mike Celasko"]
["Country Fresh, Inc.","Gail"]
["Country Fresh, Inc. (Flint)","Ed Groth"]
["Countryfresh (Flint)","Ed Groth"]
["Covance (Hover)","Steve Hover"]
["Covanta Energy","Andy Pelton"]
["Covert Generating Facility, Div. of NAES"]
["Cranberry Twp. Volunteer Fire Co.","Chris DeCree"]
["Creme Curls Bakery Inc. (Bierling)","Gary Bierling"]
["Cripps Fontaine Excavating, Inc. (Fontain","Curt Fontaine"]
["Crooksville Fire Department","Chief Fred Redfern"]
["Crooksville Fire Department (Redfern)","Fred Redfern"]
["Crossroads Charter Academy","Trudi Green"]
["Croswell WWTP, City of","Dave Steele"]
["Crystal Mountain Resort","Pam Dunham ext.3500"]
["CSM Group (Klok)","Dave Klok"]
["CTI - Capital Technologies International","John Rodaitis"]
["CTS Construction (Thornville)","Donnie Oaks"]
["Cumberland Trail Fire Destrict #4","Ken Saffell"]
["CURRIES Division of AADG Inc.","Jeff Neuwohner"]
["Custom Rooling Systems, Inc. (Bouwkamp)","John Bouwkamp"]
["Custom Tooling Systems, Inc. (Runyon)","Tom Runyon"]
["CWC Textron","Pat Runyan"]
["Cytec Industries Inc. (Kalamazoo)","E. Daniel Traugott"]
["Cytec Industries Inc. (Traugott)","E. Daniel Traugott"]
["D & K Engineering","Hilary O'Malley"]
["D & W Mechanical","Dennis Flynn"]
["D. A. Dodd  Mechanical","Justin Steinbeck"]
["D.A.Dodd Mechanical (Boldt)","Jason Boldt"]
["D.C. Cook Nuclear Power Plant (Harner)","John Harner"]
["D.C. Cook Nuclear Power Plant (Schalk)","Bill Schalk"]
["D.C. Cook Nuclear Power Plant (Woods)","Larry Woods"]
["Dahti Technologies","Joe Ward"]
["Dake Corporation (Lindel)","Lanny Lindel"]
["Dale W. Hubbard Inc.","Brad Grahame"]
["Dan Lemon"]
["Dan Lemon (Customer)"]
["Dan Valley Excavating","Tony Woodmansee"]
["Dan Valley Excavating (Woodmansee)","Tony Woodmansee"]
["Dan Vos Construction Company","Dan Woltjer"]
["Daniel Kloosterman"]
["Daniel Safety Products (Daniel)","Mary Ann Daniel"]
["Daniel T Holman"]
["Darling International (Chehowski)","Troy Chehowski"]
["Data Speed Inc.","Paul Fleck"]
["Dave Cole Decorators","Larry"]
["Dave's Dozing, Inc.","Ray Wiersma"]
["Davidson Plyforms, Inc.","Steve Kilbourn"]
["Davidson Plyforms, Inc. (Vruggink)","Curt Vruggink"]
["Davis Construction","Heather Hendges"]
["Davis Construction Company (Dunsmore)","Dean Dunsmore"]
["Davis Construction Company (Schafer)","Tim Schafer"]
["Davon Manufacturing (Davon)","Jeremy Davon"]
["Dawn Food Products","Bob Hite"]
["Dawson Associates, Inc."]
["Day & Zimmermann NPS","Dean"]
["Day & Zimmermann NPS (Main)","Gary Lewis"]
["Day & Zimmermann NPS (Rogers)","Ben Rogers"]
["DayGlo","Eugene Crnjac"]
["Dayton Bd of  Power & Light (Dayton)","Garry Tindall"]
["Dayton Power and Light Co.(Aberdeen)","Mary Maher"]
["De Jager Construction Inc.","John Slendebroek"]
["DEA - Pittsburgh District Office (Petyak)","Andrew Petyak"]
["Dean Boiler, Inc.","Ed Koert"]
["DeAngelo Brothers Inc."]
["Debouter Vance P CPA PC (Debouter)","Vance Debouter"]
["DECC Co."]
["Deiters & Helmers Electirc Inc. (Deiters)","Tim Deiters"]
["Delete this customer"]
["Delhi Charter Township (Woodard)","Larry Woodard"]
["Delisle Associates Ltd.","Beverly Delisle"]
["DeLisle Associates Ltd. (DiPasquale)","Dan DiPasquale"]
["DeLisle Associates Ltd. (Millgard)","Greg Millgard"]
["Denso International America, Inc.","Karen Croly(Buyer)"]
["Denso Manufacturing (Osceola - AR)","Terri Meadow (Purchasing)"]
["Denso Manufacturing (Southfield)","Melissa Kilbride MC4330"]
["Denso Manufacturing Michigan, Inc.","Scott"]
["Deshler FD","Doug Powell"]
["Detroit Diesel Reman-North","Ralph Severns"]
["DeVries Construction (Lameyer)","John Lameyer"]
["DeVries Property Ventures, LLC (Tinney)","Chris Tinney"]
["DeWeerd & Van Dyke (Pyle)","Mark Pyle"]
["Deweerdt Poultry Farm","Steve DeWeerdt"]
["DeWind Dewatering","Lee DeHaan"]
["DeWind Dewatering (DeHaan)","Lee DeHaan"]
["Dexter Axle Company","Sue Harlan"]
["DHE Plumbing & Mechanical","Nathan Heyboer (owner)"]
["Diamond Concrete Sawing (Diekevers)","Mike Diekevers"]
["Diamond Drilling","Don Borgic"]
["Dienetics (Overholt)","Tony Overholt"]
["Dietel Welding"]
["Dimension Four Painting, Inc. (Lawie)","Shelley Lawie"]
["Display Pack","Andrew Montgomery"]
["Diversified Machine (Twa)","Mary Twa"]
["Diversified Mechanical Services, Inc.","Timothy P O'Hara"]
["Dixon Engineering","Eric Binkowski"]
["Dixon Engineering, Inc. (Binkowski)","Eric Binkowski"]
["Dixon Environmental, Inc.","Jim Dixon"]
["DL Morse & Associates Inc.","Dan Morse"]
["DLZ Michigan, Inc.","Elizabeth Stieber"]
["Doran Lefaive","Doran Lefaive"]
["Double L Enterprises (Lohman)","Kevin Lohman"]
["Douglas DPW (Rodgers)","Max Rodgers"]
["Douglas Safety Systems","Cheryl Rahl"]
["Dow Chemical","Amanda Mickler"]
["Dow Chemical Co./Occichem Corporation (Gl","Jim Glover"]
["Dow Chemical Company (Ryder)","Mike Ryder"]
["Dow Corning (Midland)","Ethan Good"]
["Down Syndrome Association fo West Mi"]
["Down Under Municipal Services"]
["Downtown Alliance","Lonnie Theobold"]
["Driesenga & Associates, Inc. (Holland)","Dan Marlor"]
["DRS Technologies Inc.","Greg Beane"]
["DSSI","Daren Cabble"]
["DTE Energy (Alpena)","Steve Kaminski"]
["DTE Energy (Big Rapids)","Mike Newman"]
["DTE Energy (Cadillac)","Matt Logan"]
["DTE Energy (Grand Rapids)","Jim Schultz"]
["DTE Energy (Grayling)","Aaron Millikin"]
["DTE Energy (Kalkaska)","Safety First"]
["DTE Energy (Ludington)","Stephen Lipps"]
["DTE Energy (Mt. Pleasant)","Rick Krell"]
["DTR Industries"]
["Du Pont (Bean)","Tammy Bean"]
["Duke Energy (Ashpabula, OH)","Andy Cranfill"]
["Duke Energy Field Services","Robert Ratkus"]
["Duncan Industrial Solutions","Jill Veen"]
["Duperon Corporation","Beth Powers"]
["DuPont (Richmond)","Dan Pezzat"]
["DuPont Personal Protection (Wilson)","Kevin Wilson"]
["Dura Automotive Systems, Inc (Baker)","Jill Baker"]
["Dura Automotive Systems, Inc. (Kentwood)","Jim Kemp"]
["Dura Automotive Systems, Inc. (Mancelona)","Jill Baker"]
["Durkin Equipment Company"]
["Dutton Fire Dept.","Chief Russ Jansen"]
["DVK Construction, Inc.","Tony Roussey"]
["DVT Electric","Jim Warners"]
["DW Hill Inc.","Matt Grifford"]
["Dykema Excavating","Gary Woodruff"]
["Dykema Excavators, Inc.","Gary Woodruff"]
["Dykema Excavators, Inc. (Sikkema)","Dave Sikkema"]
["Dynamic Conveyor Corp. (Thomas)","Rick Thomas"]
["E & R Industrial Sales","Pat  or Nancy"]
["E.S.H., Inc.","Beth Fuselier"]
["Eagle Aluminum Cast Products","Doug Schlattman"]
["Eagle Fabrication & Repair","John Bradbury"]
["Eagle Mountain Environmental","Tara Schmidt"]
["Earthtech (Grand Rapids/Nolan)","Kristopher Nolan"]
["Earthtech (Leslie)","Nick Hautamaki"]
["Earthtech (Okmulgee)","Mike Moore"]
["Earthtech (Portland)","Lonny Freed"]
["Earthtech (SHVUA)","Dave Hemsworth"]
["Earthtech (Warren)","Krista Sheldon"]
["East Grand Rapids DPW, City of","Bill Morey"]
["East Grand Rapids DPW, City of (Terbeck)","Terry Terbeck"]
["East Grand Rapids DPW, City of (VanVels)","Leah VanVels"]
["East Grand Rapids, Parks and Rec. City of","Pat Skunda"]
["East Jordan Iron Works","Mike Vander Moelen"]
["East Tawas City Fire Department","Ron Klinger"]
["eBAY Sales"]
["EC Enterprise (Pinney)","Diane Pinney"]
["Edw. C. Levy Co. (Wagaman)","Terry Wagaman"]
["Egelston Dept of Parks","Herb Schaeffer"]
["Egelston DPW","Larry Rushack"]
["EHS Compliance Resource","Jim Clark"]
["Eikenhout (Meekhof)","Mark Meekhof"]
["ELIZABETH BURNETTE (CUSTOMER)"]
["Elmridge Construction (White)","Jim White"]
["Elzinga & Volkers","Bob Gleck"]
["Elzinga and Volkers, Inc. (Brown)","Dan Brown"]
["Elzinga and Volkers, Inc. (DeCloux)","Guy DeCloux"]
["Elzinger & Volkers (Bobeldyk)","Mark Bobeldyk"]
["Emergency Response & Training Solutions","Clay Richter"]
["Emergency Vehicle Services","Tammy Burns"]
["Empire Company Inc. (Coates)","Paul Coates"]
["Empire Refactory Services"]
["Enbridge Energy","Dennis Esterline"]
["Enerpipe Ltd. (Munith)"]
["Engine Power Components"]
["Engine Power Components (Deans)","Jude Deans"]
["Entergy (Killona)","Jeff Seeber"]
["Entergy (Riverbend Station)","Jacque R. Courville"]
["Entergy Palisades","Paul Johnson"]
["Entergy Palisades (Couturier)","Debra Couturier"]
["Entergy Palisades (Daggett)","Greg Daggett"]
["Entergy Palisades (Hager)","Joe Hager"]
["Enviro-Flow Company"]
["Environment Safety & Health"]
["Environmental Coordination Svc & Recyclin","Gus Hegner"]
["Environmental Installation Services, Inc.","Bob Peterson"]
["Environmental Partners, Inc."]
["Environmental Recycling Group","Rick Schmehil"]
["Epicenter Design"]
["Erhardt Construction","Adam Reeves"]
["Erhardt Construction (Dean)","Bob Dean"]
["Erhardt Construction (Van Beek)","Don Van Beek"]
["Eric Rodriguez","Eric"]
["Erickson's Inc. (Hartwell)","Henry Hartwell"]
["Erie Press Systems"]
["ERM (St. Paul)","Lindsey Iredale"]
["Ershigs Inc (Crist)"]
["Ershigs Inc (Grand Bay)"]
["Ershigs Inc. (Aberdeen)"]
["Ershigs Inc. (AEP Clifty Creek)"]
["Ershigs Inc. (AEP Conesville)"]
["Ershigs Inc. (Bellingham)","Kim Stephan"]
["Ershigs Inc. (Brilliant)"]
["Ershigs Inc. (Bucks)"]
["Ershigs Inc. (Cliffside)"]
["Ershigs Inc. (Clinton)"]
["Ershigs Inc. (Crsap)"]
["Ershigs Inc. (East Palatka)","Mary Bovard (Purchasing)"]
["Ershigs Inc. (Evans)","Kendra Hersman"]
["Ershigs Inc. (Harriman)","Darrell Allen"]
["Ershigs Inc. (Huntington)","Mark Chaffins"]
["Ershigs Inc. (Indianapolis)"]
["Ershigs Inc. (Kyger Creek)","Kendra Hersman"]
["Ershigs Inc. (Stratton)"]
["Ershigs Inc. (Vancouver)","Sandy Brackins ext.224"]
["Ershigs Inc. (Walluala)"]
["Ershigs Inc. (Willow Island)","Mark Daley"]
["Ershigs Inc. (Winfield)"]
["Ershigs Inc.(Pullman Power)","Sandy Brackin"]
["Erwin Quarder","Ron Roys"]
["ESCO Company (Ego)","Max Ego"]
["Espec (Jaglowski)","Chuck Jaglowski"]
["Espec (Wychers)","Dale Wychers"]
["Everett's Landscape Managemanet","Julie Ardner/Brian Diemer"]
["Excel Electric"]
["Excela Health Latrobe Hospital (Herskovit","Kevin Herskovitz"]
["Extendicare/Tendercare","Don Barnes"]
["Exxel Engineering","Bob Van Laar"]
["Exxel Engineering (VanLaar)","Bob VanLaar"]
["F.P. Greenhouses (Fischer)","Bob Fischer"]
["FAA (Belleville MI)","Ned Gibson"]
["FAA (GreenBay)","Ned Gibson"]
["Fagerdala USA - Marysville, Inc."]
["Fairmont Minerals Standard Sand (Closs)","Roy Closs"]
["Fairmount Minerals (Slater)","Alan Slater"]
["Farmers' Implement, LLC"]
["Fastenal (Ludington, MI)","Ted Morehouse"]
["Fastenal Co. (Fond Du Lac, WI)"]
["Federal Correctional Institution (Elkton)"]
["federal mogul"]
["Federal-Mogul (Cambridge)"]
["Federal-Mogul (Greenville)","Garry Foerster"]
["Federal-Mogul (Southfield)","Cindy Narasco"]
["Federal-Mogul (Sparta)"]
["FedEx (Brown)","Lisa Brown"]
["Felco Contractors (Felinski)","Jeff Felinski"]
["Fernandez Builbers (Fernandez)","Leo Fernandez"]
["Ferrysburg DPW","George Dunnings"]
["Ferrysburg DPW (Dunning)","George Dunning"]
["Fettig Labs"]
["Feyen Zylstra (Grand Rapids)","Vern 224-7128"]
["Feyen Zylstra (Traverse City)"]
["Feyen-Zylstra (Buursma)","George Buursma"]
["FHC Franklin Holwerda Company (Appleyard)","Brent Appleyard"]
["FiberTeq","Mike Yusko"]
["Field Environmental Instruments"]
["Field's Fire Protection, Inc.","Jeff Goss"]
["Filter & Coating Technology","Brad Davis/Scott Foley"]
["First Companies","Craig Schroeder"]
["First United Methodist Church","Patsy McGillivray"]
["Fleis & Vandenbrink Engineering, Inc.","Kabitha Ambikadevi"]
["Forberg Scientific","Safety First Customer"]
["Ford Motor Company"]
["Foremost Insurance Group","Pete Murrey"]
["Fortis Metal Works","Marisol Corona"]
["Fortuna Energy","George Hardin"]
["Four Winns (Mulder)","Barb Mulder"]
["Fox Construction Co., Inc. (Fox)","James Fox"]
["Free Spirit Ent. (Larry)","Larry"]
["Fremont DPW (Hettinger)","Brian Hettinger"]
["Frisby Aerospace, Inc."]
["Fruitport Charter Township"]
["Fruitport Charter Township Water (Alder)","Bob Alder"]
["FTC&H - (G.R.)"]
["FTC&H - (Kzoo)","Todd Campbell"]
["Fuel Systems LLC","Pat Day"]
["Furmaite","John Waters"]
["G. Freeland Roofing","Maria Pleiness"]
["G. Freeland Roofing Systems, Inc. (Freela","Gordy Freeland"]
["Gabriel  Performance Products"]
["Gale Roofing (Darryl)","Darryl"]
["Gannett Fleming, Inc.","Tony & Matt Miller"]
["Gary Wozniak","Gary Wozniak"]
["GCA Service Group","Harmony Amant x-234"]
["GDK Construction"]
["GDK Construction Company (Knoll)","Lisa Knoll"]
["GE (Morrison, IL)"]
["GE Energy (Cincinnati, OH)"]
["GE Energy (Holland, MI)","Gondon Heeres"]
["GE Energy (Lima OH)","John Ursuliak"]
["GE Lighting Inc. (Palagyi)","Stan Palagyi"]
["GE Power Systems (Tallmadge, OH)","Todd Burns"]
["Gebben's Concrete, Inc. (Mast)","Kelly Mast"]
["General Chemical (Samantha)","Samantha"]
["General Motors Corp. (Grand Rapids)","Keith Welcher"]
["General Motors Corp. (Pontiac)","Ray Reid"]
["General Motors Corp. (Proving Ground)","Dawn Gallinger"]
["General Motors Corp. (Whie Marsh)","Patrick Law"]
["Genesee County Drain Commission"]
["Genesis Air"]
["Gentex Corp. (East Riley St.)","Brenda Wisniewski"]
["Gentex Corp. (N. Centenial)","Tom Kelly"]
["Gentex Corp. (North State St.)","Bill Bryker"]
["Genzink Steel (Rollins)","Sue Rollins"]
["Geocon Inc.","Dave Timmer"]
["Geocon Inc. (Timmer)","Dave Timmer"]
["George J Martin & Sons (Mangold)","Jeff Mangold"]
["Georgetown Charter Township"]
["Georgetown Charter Township (Steigenga)","Mike Steigenga"]
["Georgetown Construction Company (Parsh)","Dave Parsh"]
["Georgia-Pacific (Batavia, OH)"]
["Georgia-Pacific (Milan, MI)"]
["Geospacial Corp."]
["Geotech (Henderickson)","Jake Henderickson"]
["Gerace Construction","Chris Brown ext. 140"]
["Gerber Construction","Terry Gerber"]
["Gerber Construction Company (Gerber)","Terry Gerber"]
["Gerber/Nestle Nutritional (Conklin)","Pat Conklin"]
["Getman Corp.","Deb Couturier"]
["Gezon Motors (Strotbaum)","Terry Strotbaum"]
["GHSP","Garry Eppard"]
["GHSP (Bird)","Jim Bird"]
["Gillhespy Inc.","Dendel Claven"]
["Gillison Excavating (Elie)","Susan & Elie"]
["Gladwin DPW, City of (Molski)","Tom Molski"]
["Gleason Construction","Jay Gleason ext.6"]
["Global Remediation Technology"]
["Globe Paving (Hrab)","Tony Hrab"]
["GMI Composites (Unser)","John F. Unser"]
["Gordon Food Service (Buffinga)","Lance Buffinga"]
["Gove Associates, Inc. (Shumaker)","Craig Shumaker"]
["GR8"]
["Grand Haven Board of Light & Power, City"]
["Grand Haven Charter Township (Boomguaard)","Bette Boomguaard"]
["Grand Haven Charter Township (VerBerkmoes","Mark VerBerkmoes"]
["Grand Haven Charter Township Fire Dept.","Tom Gerencer"]
["Grand Haven Charter Township Fire Dept. (","Brice Dennings"]
["Grand Haven Dept. of Public Safety (Wrigh","Sergeant Wright"]
["Grand Haven Dept. of Public Safety, City","Brad Risher"]
["Grand Haven Dept. of Public Safety, City","Brad Risher"]
["Grand Haven Dept. of Public Safety, City","Brad Risher"]
["Grand Haven DPW, City of","Chuck Nowak"]
["Grand Haven Plastics (Wagenmaker)","Kris Wagenmaker"]
["Grand Haven WWTP, City of","Wally Wittaniemi"]
["Grand Ledge WWTP City of"]
["Grand Ledge WWTP, City of (LaVoye)","Jeff LaVoye"]
["Grand Rapids Chair Co."]
["Grand Rapids City","Chris Cudworth"]
["Grand Rapids Community College","John (JR) Roy"]
["Grand Rapids Community College (Matthewso","Mansfield W. Matthewson"]
["Grand Rapids Equal Opportunity Department","Ingrid Scott-Weekley"]
["Grand Rapids Fire Department, City of (Sz","Chief Gary Szotko"]
["Grand Rapids Fire Dept., City of","Doug Carley"]
["Grand Rapids Gravel Co. (GR)","Dave Oostindie"]
["Grand Rapids Gravel Co. (Grandville)"]
["Grand Rapids Gravel Co. (Holland)"]
["Grand Rapids Gravel Co. (Muskegon)"]
["Grand Rapids Parks, City of","Phil Orcasitas 901-2686"]
["Grand Rapids Police Department, City of (","Capt. Belk"]
["Grand Rapids Polishing","Lisa Shelly"]
["Grand Rapids Polishing (Shelly)","Lisa Shelly"]
["Grand Rapids Popcorn","Traverse/Mary"]
["Grand Rapids Public Schools","Tom Peterson"]
["Grand Rapids Public Schools (Peterson)","Tom Peterson"]
["Grand Rapids Purchasing, City of (Reyna)","Jose Reyna"]
["Grand Rapids Purchasing, City of (Wojciak","Tony Wojciakowski"]
["Grand Rapids Sewer Maintenance, City of"]
["Grand Rapids Spring & Stamping"]
["Grand Rapids Traffic Safety, City of","616-456-3281"]
["Grand Rapids Water Filtration Plant"]
["Grand Rapids Water Systems, City of","Bill Birdsall"]
["Grand Rapids Water Works Stock Room","Bob Lutz"]
["Grand Rapids WWTP Instrument Shop City of","Steve Wilson / Jeff Konkle"]
["Grand Rapids WWTP Stock Room, City of","Ramona Rogers"]
["Grand Rapids WWTP, City of (Kuzawa)","Kathie Kuzawa"]
["Grand Rapids, City of (Ivey)","Doug Ivey"]
["Grand River Construction, Inc.","Rick Parcheta"]
["Grand River Construction, Inc. (Buell)","Stan Buell"]
["Grand River Construction, Inc. (Maggini)","Anthony Maggini"]
["Grand River Navigation Co., Inc."]
["Grand Traverse DPW, County of","Ben Heymes"]
["Grand Valley Automation, Inc.","Mark Cisler"]
["Grand Valley State University (Allendale)","David Cox"]
["Grand Valley State University (G.R.)","Greg Green"]
["Grand Valley State University (Muskegon)","Silvia Lichnerowicz"]
["Grand Valley State University (Schrotenbo","Mike Schrotenboer"]
["Grandville DPW,City of","Dennis Nelson"]
["Grandville WWTP, City of","Randy Hertstein"]
["Grandville WWTP, City of (Grysen)","Bill Grysen"]
["Grandville, City of (Cheshire)","Mike Cheshire"]
["Grandville, City of (Robert)","Bonnie Robert"]
["Grant Tower"]
["Grapids Irrigation (Katerberg)","Aaron Katerberg"]
["Graybar","Bill Stratton"]
["Grayling Fire Dept.","Steve Eddy"]
["Great Canadian Holidays","Troy Thompson"]
["Great Lakes Access Inc.","Daniel Vandenberg"]
["Great Lakes Energy (Boyne City)","Tim Hartwick"]
["Great Lakes Energy (Failing)","Larry Failing"]
["Great Lakes Insulating Systems"]
["Great Lakes Safety & Supply","Cindy Mack"]
["Great Lakes Wood Finishing (Schon)","Andrew Schon"]
["Greenbrier PSD #1","Dave Grey"]
["Greenville Public Services, City of (Ledg","Thomas Ledger"]
["Greenville Tool & Die","Mickey Bos"]
["Greenville WWTP, City of (Baxter)","Gene Baxter"]
["Groendyke Transport, Inc.","Brian Gigoux"]
["Grooters Green Group","Howard McNees"]
["Groundwater & Environmental Svc Inc.","Jenny Petoskey x-4377"]
["GRR Pipe, Inc.","Shaun Beukema"]
["GZA","Sue Swiger"]
["H & K Construction (Todd)","Todd"]
["H & M Demolition"]
["H & M Demolition (Tucker)","Scott Tucker"]
["H & P Technologies"]
["H D Edwards & Co. (Potter)","John Potter"]
["H&H Tube","Dawn Sullivan (purchasing)"]
["H. C. Brill Company","Michael Diehl"]
["Hagan Pipe Testing Inc.","Larry Hagan"]
["Hagemeyer North America","Susan Williams"]
["Hallack Contracting, Inc. (Hallack)","Dan Hallack"]
["Hamilton Farm Bureau/CHS","Kathy Kiss ext. 7107"]
["Hamilton Steel Fabricators (Lampen)","Rudy Lampen"]
["Hampton Fire Department","Ron Rybak"]
["Hanson Brick"]
["Harbor Isle Marina (Daniels)","Jeff Daniels"]
["Harbor Steel (Adam)","Adam"]
["Hardman Construction inc. (Loeser)","Jeff Loeser"]
["Harmsen Construction"]
["Harmsen Construction (Harmsen)","Scott Harmsen"]
["Hart DPW (Whitney)","Brad Whitney"]
["Hart DPW, City of","Brad Whitney"]
["Hart DPW, City of (Dillingham)","Dave Dillingham"]
["Hart WWTP, City of","Brian Gifford"]
["Hastings Mutual Insurance Company"]
["Hauschild Custom Builder & Remodeler, Inc"]
["Haviland Corp.","Jan Bell / Milo"]
["Haviland Products Company (Mastbergen)","Bob Mastbergen"]
["Haviland Products Company (Westman)","Rick Westman"]
["Haworth Big Rapids Components (Bussell)","Chris Bussell"]
["Haworth Inc. (DeCrocker)","Brian DeCrocker"]
["Haworth, Inc. (Kozminski)","Jim Kozminski"]
["Haworth, Inc. (Sanders)","Carl Sanders"]
["Haworth, Inc. (Utsey)","Lori Utsey"]
["Hayes Lemmerz (Todabaugh)","Eric Todabaugh"]
["Hayes Mechanical","Terry Ancel"]
["Hazco Services","Kevin Smith"]
["HBK Engineering","Doran Durling"]
["HC Starck Fabricated Products (Damrau)","Larry Damrau"]
["Heartland Environmental","John Sill"]
["Heath Outdoor Products","Tom Vander Voord"]
["Heinz (Holland)","Lance Buffinga"]
["Helms Caulking (Eisen)","Bruce Eisen"]
["Hemlock Semiconductor Corp.","Keith McCoy"]
["Heneveld Group LLC"]
["Henkel Chemical Management"]
["Herbruck's (Lake Odessa - Farm)","Joe Whorley"]
["Herbruck's (Whorley)","Joe Whorley"]
["Hercules Inc.","John McCallar"]
["Herman Miller (Spring Lake)","Rich DeLeau - 836-8061 cell"]
["Herman Miller (Zeeland)"]
["Herman Miller Inc. (Arocha)","Mary Arocha"]
["Hesperia DPW (Ward)","Ken Ward"]
["HexArmor"]
["High Concrete Group","Jaime Ollila"]
["High Voltage Maintenance","Eric Nation"]
["Hillsdale County Sheriff's Dept.","Lt. David Braxmaier"]
["Holcim (Hagerstown)"]
["HOLD FOR NEW CUSTOMER"]
["Holland (Bowden)","Colline Bowden"]
["Holland Bar Stool Co.","Chad Lemmen"]
["Holland BPW J.D.Y. Power Plant, City of","Paul Gamby"]
["Holland BPW Streets Dept., City of","Don Steele"]
["Holland BPW Water Plant, City of","Jim Van De Wege"]
["Holland BPW WWTP, City of","Mike Grenier"]
["Holland BPW WWTP, City of (Hoef)","Dave Ver Hoef"]
["Holland Charter Township","Jeff Landaal"]
["Holland Charter Township (Landaal)","Jeff Landaal"]
["Holland City of, Human Resources","Chanda Koryto"]
["Holland Department of Parks & Cemetery","Andy Kenyon"]
["Holland Engineering"]
["Holland Hospital (Frost)","Sue Frost"]
["Holland Motor Pool / Streets","Barry Wassink"]
["Holland Park Dept., City of"]
["Holland Transportation Services, City of"]
["Holland Windmill, City of","Ad VandenAkker"]
["Hollingsworth & Vose Co."]
["Holly Construction","Gary Madill"]
["Homerich Inc.","accurate / Theresa"]
["Honeywell (Fombell PA)","David Renz"]
["Honeywell (Metropolis Plant)","Mark Cox"]
["Honeywell (Orange Plant)"]
["Honeywell (Pottsville Plant)"]
["Honeywell Burdick & Jackson","Bill To: 480-592-7380"]
["Honeywell Burdick & Jackson (Hammann)","John Hammann"]
["Hopkins Township (Evans)","Mark Evans"]
["Horizon Environmental","Bill Farrell"]
["Horizon Environmental (Smith)","KC Smith"]
["Horn & Associates Inc.","David Horn"]
["House of Flavors, Inc. (Klinger)","Doug Klinger"]
["Howard Miller (Sawyer)","Dave Sawyer"]
["Hubbard Plumbing & Drains Inc."]
["Hubbardston, Village of","Everett Genereux"]
["Hubbardston, Village of (Genereux)","Everett Genereux"]
["Hubbell Roth & Clark, Inc.","Thomas Maxwell"]
["Hukill Environmental Services","Frank Simcic"]
["Huron Fire Dept.","Kevin Gadd"]
["Hurst Mechanical (Vereeke)","Gary Vereeke"]
["Ice Mountain","David Jeffery"]
["IDG - Northeast Division","Kevin LaBonte"]
["IHSC, Inc.","Bob Dupont"]
["IMC Potash Hersey Inc. (Folkertsma)","Ken Folkertsma"]
["IMCC (Bruesch)","Chuck Bruesch"]
["Impact Environmental Services","Gary LePine"]
["Impact Environmental Services (LePine)","Gary LePine"]
["Independence Township"]
["Indian Point Energy Center","Scott Bianco"]
["Industrial Resources","Tony Varga"]
["Industrial Safety Products","Tom Coneglio"]
["Infrastructure Alternatives (Kuhlman)","Teri Kuhlman"]
["Infrastructure Services","Rick Balas"]
["Ingham County Parks Dept. (Hawk Island)"]
["Inland Environmental Services","John Adams"]
["Inland Environmental Services (Adams)","John Adams"]
["Ino-Teck Inc.","Aaron Hutchinson"]
["Insituform Technologies USA","Jim Doumouras"]
["Integrated Building Solutions","Matt Tomes"]
["Integrity Tree Service","Tim Guikema"]
["International Marketing Service, Inc"]
["International Personnel Protection","Jeff Stull"]
["International Tooling Solutions (Kirkbrid","Lou Kirkbride"]
["INVENTORY"]
["Ionia DPW, City of (Cunningham)","Gary Cunningham"]
["Ira Township Fire Dept.","Jason Keller"]
["Ironwood, City of","Karen Gullan, Clerk"]
["Irwin Seating Company (Kuzee)","Ann Kuzee"]
["ITC - Brownstown Station","Mike Mobley"]
["ITC - Stephens Warehouse"]
["ITC Midwest-Albert Lea Warehouse","Mike Mobley"]
["ITC Midwest-Perry Warehouse","Mike Mobley"]
["ITC, METC - Gaylord Warehouse"]
["ITC, METC - Kawkawlin Warehouse"]
["ITC, METC - Main"]
["ITC, METC - Wayland Warehouse","Jason Cooperman - Buyer"]
["ITC- Belleville Warehouse","Jim Hyde"]
["ITS Manufacturing Solutions"]
["ITW Drawform (Gardner)","Karen Gardner"]
["J & F Steel Corporation (Woods)","Rick Woods"]
["J. D'Amico, Inc."]
["Jack Dykstra Excavating, Inc.","Jack Dykstra"]
["Jack Dykstra Excavating, Inc. (Dykstra)","Jack Dykstra"]
["Jackson County Parks Department (Youmans)","Chris Youmans"]
["Jackson Fire Dept., City of"]
["Jackson Parks and Recreation, City of (St","Tom Steiger"]
["Jackson Water Services, City of","Dan Bujanda"]
["Jackson Water Treatment Plant, City of","Bob Koehn (Cane)"]
["Jackson-Merkey Contractors, Inc. (Bartlet","Jim Bartlett"]
["Jacobs Engineering"]
["Jamar Company","Jeff Zdebski"]
["Jamar Company (Zdebski)","Jeff Zdebski"]
["James E. Fulton & Sons"]
["James River Laser & Equpment","John Meise"]
["James River Laser and Equipment (Meise)","John Meise"]
["JBS Packerland, Inc."]
["JD Platinum Electric LLC","David Fritz"]
["John Manville Corp.","John Cannon"]
["John W. Potter Inc. (Potter)","John Potter"]
["Johney Klap"]
["Johnson Construction (Johnson)","Duane Johnson"]
["Johnson Controls (Maplewood)"]
["Johnson Controls (Southview)","Dale Hoffer"]
["Johnson Electric"]
["Johnson Technology (Boucon)","Phil Boucon"]
["Johnston Boiler Company"]
["JSJ Corporation (Anderson)","Bruce Anderson"]
["JW Didado Electric, Inc."]
["JWK Construction (Meyers)","Mark Meyers"]
["K & G Tool Company ()"]
["Kalamazoo Electric"]
["Kalamazoo Lake Sewer and Water Authority"]
["Kalamazoo Public Safety"]
["Kalamazoo Public Service Dept., City of","Mike Echols"]
["Kalamazoo Public Services, City of (Echol","Michael Echols"]
["Kalkman Redi-Mix Company (Vander Lip)","Jeff Vander Lip"]
["Kamp Oil Inc.","Dennis Trendt"]
["Kandu, Inc. (DeSlaw)","Russ DeSlaw"]
["Kappeler, Robert","Robert Kappeler"]
["Katerberg Verhage","Marc Verhage"]
["KCI","Mike Caswell"]
["Kellogg's Snacks","Charles Fassnacht"]
["Kellogg's Snacks (Harris)","Ronnie Harris"]
["Ken Coryell Trucking","Dan Bussell"]
["Ken Coryell Trucking, Inc. (Bussell)","Dan Bussell"]
["Ken DeHaan"]
["Kendall Electric (Benton Harbor)","Mike (location manager)"]
["Kenneth Crosby NY LLC","Beth Falk"]
["Kenneth Schulz","Kenneth Schulz"]
["Kent Companies","Charles K. Van Vliet"]
["Kent County DPW","Michael Ball"]
["Kent County DPW (Brackett)","Jana Brackett"]
["Kent County DPW (Danenberg)","Nate Danenberg"]
["Kent County Purchasing Office (Denhof)","Jon Denhof"]
["Kent County Road & Park Commission (Bergm","Ron Bergman"]
["Kent County Road & Park Commission (Byrne","Jerry Byrne"]
["Kent County Road & Park Commission (McDon","George McDonough"]
["Kent County Road & Park Commission (Tiche","Phil Tichelaar"]
["Kent County Road Commission & Park Trust","Terry Porritt"]
["Kent County Sheriff's Department (Stewart","Jack Stewart"]
["Kent County Sheriff's Dept","Jim Van Bendegom"]
["Kent Power Inc.","Ron Fast"]
["Kentwood DPW, City of (Leverence)","Ron Leverence"]
["Kentwood Powder Coat","Denny Zuller"]
["Kentwood Water Dept., City of","Terry Steenhagen"]
["Kentwood, City of (Beke)","Jim Beke"]
["Kenwal Steel Co."]
["Kerkstra Precast Inc.","Scott Hartman"]
["Kerkstra Waste Recovery & Enviro. Svc."]
["Kerkstra Waste Recovery & Enviro. Svc. (O","Tim O'Leary"]
["Kewit (G.R. Mich. St. Project)"]
["Key Energy Services (Jane Lew)","George Wilhelm"]
["Key Energy Services (Mt. Pleasant)","John Davisson"]
["Key Energy Services (Rock Springs)","Glenn Archer"]
["Key Energy Services (Weston WV)","Glenn Archer"]
["Key Mart Inc. (Stephan)","Ken Stephan"]
["Kinder Morgan - River Transportation","Carol Hummel ext. 15"]
["King & MacGregor Environmental (Kelly)","Theresa Kelly"]
["Kirby Risk Electrical Supply","Jeff Blount"]
["Klaasen Electric Inc. (De Vries)","Bob De Vries"]
["Koch Materials Company (Schmied)","Randall Schmied"]
["Koeze Company","Bill Ryszka"]
["Kooi Industrial Painting Co."]
["Koops Well Drilling (Beckley)","Russ Beckley"]
["Kore, Inc.","Dan Jones"]
["Koster Excavating"]
["Koster Excavating Inc. (Grasman)","Dave Grasman"]
["Kraus & Kessenich Civil Engineers"]
["Kruger Commodities (Lemley)","Don Lemley"]
["Kruger Commodities Inc.","Don Lemley"]
["Kubota Metal Corp","Wayne John"]
["Kurdziel Iron of Rothbury, Inc. (Cobb)","Vince Cobb"]
["L & L Products (74100 Van Dyke)","Kara Wawrowski"]
["L & L Products (Roffe)","Shelly Roffe"]
["L & L Sawmill, Inc. (Latsch)","Ed Latsch"]
["L-A Electric (Fort Wayne)"]
["L3 Communications Avionics (G.R.)","Kurt Rowell"]
["Lacks Enterprises Inc. - 52nd Mold (Ottob","Pat Ottobre"]
["Lacks Enterprises Inc. - 52nd Paint West","Rich Tice"]
["Lacks Enterprises Inc. - 52nd Paint West","Rich Tice"]
["Lacks Enterprises Inc. - 52nd Paint West","Rich Tice"]
["Lacks Enterprises Inc. - Airlane North (P","Fred Pixley"]
["Lacks Enterprises Inc. - Airwest Mold / R","Bob Jenkins"]
["Lacks Enterprises Inc. - Barden Assembly","SSS"]
["Lacks Enterprises Inc. - Barden Assembly","SSS"]
["Lacks Enterprises Inc. - Barden Assembly","SSS"]
["Lacks Enterprises Inc. - Brockton Mold (B","Gary Berends"]
["Lacks Enterprises Inc. - Brockton Mold (T","TTTT"]
["Lacks Enterprises Inc. - Plastic Plate Br","Tom Lewis"]
["Lacks Enterprises Inc. - Plastic Plate Ra","Denny Lang"]
["Lafarge"]
["Lake Charter Twp. Water"]
["Lake City Plating","Jeff Drake"]
["Lake County Maintenance (Pozorski)","Dave Pozorski"]
["Lake County Road Commission (Patti)","Patti"]
["Lake Painting Inc.","Gary Smith"]
["Lake Township Water Dept. (Beach)","Steward Beach"]
["Lake, County of","Mac McClellan"]
["Lakeshore Environmental (Bour)","Roger Bour"]
["Lakeshore Scale Inc.","Chris Kane"]
["Lakeside Mechanical","Bruce Visser"]
["Lakeside Mechanical Contractors, Inc. (As","Gary Ashcraft"]
["Lakewood Construction","Jim Dreyer"]
["Lakewood Inc. (Shields)","Rick Shields"]
["Lakshore Safety & Environmental Systems","Su Paauwe"]
["Lamar Construction","Dan"]
["Lamco Safety Products inc.","Rose Lane"]
["Land & Resource"]
["Landscape Design Services, Inc. (Grathwoh","Fritz Grathwohl"]
["Landscape Design Services, Inc. (Minor)","Doug Minor"]
["Langerak Roof Systems"]
["Lansing Board of Water and Light","Leo Gallegos"]
["Lansing Purchasing Department, City of (R","Stephanie Robinson"]
["Lapeer Regional Medical Center","Peggy"]
["Larry Conn","Larry Conn"]
["LD. Docsa Associates, Inc. (Thomsen)","Gregg Thomsen"]
["LECO Corporation (Whitt)","Jason Whitt"]
["Lee's Trenching Service, Inc. (Holstege)","Ken Holstege"]
["Lenawee County Drain Commission","Tom Gillenwater (Sup.)"]
["Lenawee County Drain Commission (Dillon)","Jack Dillon"]
["Leoni Township"]
["Leoni Township DPW","John Zang"]
["Leprino Foods (Allendale)","Mirza (Accounting)"]
["Leprino Foods (Ft. Morgan)"]
["Leprino Foods - Allendale (Schoeb)","Sandy Schoeb"]
["Leprino Foods - Allendale (Triestram)","Cindy Triestram"]
["Leprino Foods - Remus (Defouw)","Joe Defouw"]
["Lessors Welding Supply Inc.","Jeff Peters"]
["Liberty Sheet Metal","Jeff Laster"]
["Lighthouse Safety.","John Corriveau"]
["Lillard C Corp.","Marianne Lillard"]
["Linde Gas","Evelyn Gannon"]
["Linde Gas LLC","Evelyn Gannon"]
["Linde LLC"]
["Lipe Industrial Services","Steve Barrenger"]
["Liquid Haulers Maintenance, Inc.","Gary DeYoung"]
["Liquid Haulers Maintenance, Inc. (DeYoung","Gary DeYoung"]
["Lit-Tech International (Bosma)","Deb Bosma"]
["Litehouse Foods","Samantha Semrau"]
["Liz Burnette"]
["Lodestar","Dave Myers/Kelly Bustraan"]
["Lodestar Construction, Inc. (Myers)","Dave Myers"]
["Longwood Elastomers, Inc.","Tim Spraker"]
["Loren Hooks"]
["Lorin Industries (Rollins)","Skip Rollins"]
["LPI","Lauren Pappas"]
["Ludington DPW, City of","Julie Ledger"]
["Ludington DPW, City of (Ledger)","Julie Ledger"]
["Ludington DPW, City of (McDonald)","Shawn McDonald"]
["Ludington WWTP, City of (Beadle)","Doug Beadle"]
["LW Lamb Co.","Acct'ing Marsha"]
["LW Lamb, Inc. (Khodl)","Steve Khodl"]
["Lyndrup Construction"]
["Lyons Industries Inc.","Martha Sanchez"]
["M.S.I. Construction Co. (Barnhard)","Warren Barnhard"]
["M.S.U. (Biosystems Engineering)","Timothy Harrigan"]
["M.S.U. (Van Andel Inst.)","Susan  / Carol Fortwell"]
["M.S.U. - Civil & Enviro. Engineering","William Taylor"]
["Macatawa Plumbing, LLC (Vanderzwaag)","Nathan Vanderzwaag"]
["MacLellan Integrated Services"]
["Macomb Pipe and Supply","Cheryl Pozzuoli"]
["Macomb Wholesale Supply Corp."]
["Madison Township Fire - EMS"]
["Magna Closures","Melanie Johnston"]
["Magna Electric Corp.","Kim Green"]
["Magna Exteriors & Interiors ( Salisbury)","Maureen Lynch"]
["Mall City Mechanical, Inc."]
["Mall City Mechanical, Inc. (Dey)","Jeff Dey"]
["Management & Marketing Resources, Inc.","Marie Rafik"]
["Manistee County Road Commission (Johnson)","Art Johnson"]
["Marcum Pump & Equipment","David Hall"]
["Martin Anderson","Martin Anderson"]
["Martin Marietta Magnesia Specialties","Tom Greve"]
["Marysville DPW, City of (Washburn)","Brian Washburn"]
["Marysville Ethanol, LLC","Frank Rasmussen"]
["Marysville Gas Liquids"]
["Mason County Road Commission (Ditmar)","Gary Ditmar"]
["Mason County Road Commission (Durfee)","Jim Durfee"]
["Mason DPW, City of (Baker)","Ken Baker"]
["Massanutten Public Service Corp.","Larry Huff"]
["Mastech Manufacturing, Inc (Holcombe)","Roxanne Holcombe"]
["MasterTag (Rice)","Greg Rice"]
["Mastronardi Produce","Courtney Whitfield"]
["Material Testing Consultants (Livonia)"]
["Materials Resources","Craig Kinne"]
["Materials Testing Consultants, Inc. (Youn","Stephen Young"]
["Maxim Nitro"]
["McBain Power Station"]
["McCoig Materials (7 Mile)"]
["McCoig Materials (French Rd)"]
["McCoig Materials (Primo/Brownstown)","800-3231870"]
["McCoig Materials (Redford)"]
["McCoig Materials (Spring Wells)","Brian Gray"]
["McCoig Materials (Trenton)"]
["McCoig Materials (Wayne)"]
["McCormick Sand, Inc.","Joel McCormick"]
["McLaughlin & Associates Company, Inc.","Chris Timko"]
["McLouth Welding and Excavating (McLouth)","Robert McLouth"]
["Mead Johnson Nutritionals","Verne Bush"]
["Mears Group (San Ramon)","Terisa Bartell"]
["Mechanical Concepts","Joe Meyer"]
["Mechanical Concepts (Emmons)","Tim Emmons"]
["Mechanical Concepts (Meyer)","Joe Meyer"]
["Mecosta County Road Commission (Simon)","Mike Simon"]
["Medallion Instrumentation Systems (Munich","Lenord Munich"]
["Medtronic, Inc. (Grand Rapids)"]
["Meijer Central Kitchen","Mike Rousscan"]
["Mercer Landmark Inc.","Ben Snyder / Linsey Hasner"]
["Mercy Health Partners","buyer Steven Adams"]
["Meridian Automitive Systems GR Plant 5"]
["Meridian Automotive (MSA Ionia)","David Manke"]
["Meridian Automotive (Paint Plant)","Sara Stancil ext. 8356"]
["Meridian Automotive (Plant 7)","Maureen Lynch"]
["Meridian Automotive Systems - Detroit","Kay Dickens"]
["Meridian Automotive Systems Plant1 (G.R.)","Chris Wood"]
["Meridian Industrial & Welding Services","Anne Sherman"]
["Metal Components","Todd Schreiber"]
["Metalworks (Ferguson)","Gary Ferguson"]
["Metalworks (Long)","Connie Long"]
["Metalworks (Spence)","Bobbi Spence"]
["Metrol Company (Budnick)","Patrick Budnick"]
["Metrol Company (Tomlin)","Bruce Tomlin"]
["Metrol Company.","Bob Write or Mary"]
["Meyer Well Drilling (Postema)","Jack Postema"]
["MI Dept of Corrections","John Knopp"]
["Miami Township Volunteer F.D.","Tim Buffum"]
["MichCon DTE Energy (Lipps)","Steve Lipps"]
["Michigan Agricultural Commodities (Adam)","Adam"]
["Michigan Auto Dealer Self Insurance Co","Bob Miller"]
["Michigan Electric Trans Co (Plymouth)","Mike Mobley"]
["Michigan Family Resouces, Inc.","Timothy J. Morgan"]
["Michigan Family Resources, Inc. (Morgan)","Timothy J. Morgan"]
["Michigan Freeze Pack (Ritchie)","Chris Ritchie"]
["michigan ga"]
["Michigan Power","Rod VanHorn"]
["Michigan Power (Vanhorn)","Rodney Vanhorn"]
["Michigan State University","Susan McNeil"]
["Michigan State University (Taylor)","William Taylor"]
["Michigan Steel","Dennis Witham"]
["Michigan Steel (Witham)","Dennis Witham"]
["Michigan Water Environment Association's"]
["Michigan Wheel Corp.","Janet Englerth"]
["Michigan Wire Processing Company, Inc. (L","Dean W. Lonick"]
["Michigan Wood Fibers (Weaver)","Nate Weaver"]
["Michigan's Adventure"]
["Micigan Gas Utilities","Gregg Griffin"]
["Mickey Covington","Mickey Covington"]
["Micron Manufacturning","Walter Alexander"]
["Mid American Group","Don Harris"]
["Mid-American Group (KY)","Tim Mosley"]
["Mid-Michigan Equipment","Steve Julian"]
["Middleville DPW, City of","Wayne Winchester"]
["Midland Fire Dept., City of","Ron Shaffer"]
["Midwest Geothermal","Kortney Lull"]
["Midwest Power Systems"]
["Midwest Power Systems (Canup)","Brent Canup"]
["Midwest Safety Products (Miller)","Vanh Miller"]
["Midwest Trenchless Services","Troy Freed"]
["Mihm Enterprises, Inc. (Mihm)","Sharon Mihm"]
["Mikalan Roofing, Inc. (Alan)","Alan"]
["Milbocker & Sons","Pat Ellis"]
["Milbocker & Sons (Ritzema)","Craig Ritzema"]
["Miller-Davis Company (Sherburn)","Tom Sherburn"]
["Millington Community Schools","Mark Ratza"]
["Milton TSP Fire District","Jeremy Wensink"]
["Mines Golf Course","Trent Bartman"]
["Minnifield Enterprize, Inc.","Kimberly Eich"]
["MIS Corporation","Keith Anderson"]
["Miscellaneous"]
["MITA (Coppersmith)","Rob Coppersmith"]
["Mitsuba Bardstown, Inc. (Thompson)","Jim Thompson"]
["Mitsubishi Power","Mike OZima"]
["Mittler Supply Inc. (Chambers)","Tom Chambers"]
["Modernistic (Copeland)","Jennifer Copeland"]
["Monarch Powder Coating ()"]
["Monarch Water Systems, Inc.","John Glaser, Sr."]
["Monitoring Control and Compliance","Charles Elkins"]
["Montague DPW, City of"]
["Moore & Bruggink, Inc."]
["Moore & Bruggink, Inc. (Hage)","Jim Hage"]
["Moore Electrical Service, Inc. (Nuyen)","Craig Nuyen"]
["Moore Sales Incorporated (Wade)","Gary Wade"]
["Morgan Olson LLC","Scott Kline"]
["Morley Fire Department","Chief Dan Deyo"]
["Morningstar Enterprises, Inc. (Morningsta","Morningstar"]
["Morris & Morris Sandblasting (Morris)","Jeff/Chuck Morris"]
["Morton Salt","Mike Ganger ext-"]
["Mosaic Potash Hersey","Ellen Wagner"]
["Motor Products Corp.","Rick Morrice"]
["MPI Research"]
["MT Piping"]
["Multi Lakes Water & Sewer Authority (Mest","Robert Mester"]
["Municipal & Industrial Storage (Waller)","Bill Waller"]
["Muskegon County Airport","Mike Kotecki"]
["Muskegon County Emergency Services","Roy Wheeler"]
["Muskegon County Road Commission (Hulka)","Ken Hulka"]
["Muskegon County Road Commission (Timmer)","Mark Timmer"]
["Muskegon County Road Commission(Whitehall","Doug Davis"]
["Muskegon County WWTP","Steve Barnard"]
["Muskegon DPW, City of","David Smith"]
["Muskegon DPW, City of (Cousineau)","Dan Cousineau"]
["Muskegon DPW, City of (DeFrench)","Kelly DeFrench"]
["Muskegon Heights DPW, City of (Morris)","Gauntrial Morris"]
["Muskegon Heights Water Distribution"]
["Muskegon Heights Water Distribution ()"]
["Muskegon Heights Water Filtration"]
["Muskegon Muskegon County Road Commission","Bruce Gasaway"]
["Muskegon Quality Builders (Grimm)","Tom Grimm"]
["Muskegon Twp. Fire Dept.","Capt. Morgan"]
["Muskegon Water Treatment Plant","Kevin Herbert"]
["My-Con Inc.","Kevin Hager"]
["Nachi Machining Technology Co.","Paul Waleke"]
["Natural Resources Dep't. of Ottawa Indian","Bryan Gibson"]
["Natural Systems (Demirjian)","Brad Demirjian"]
["Natural Systems (Hansen)","Ben Hansen"]
["Natural Systems (Mertz)","Rob Mertz"]
["Nederveld Associates, Inc.","Jerry Kuiper"]
["Nestle Nutrition (Fremont)","Ferhan Ozadali"]
["New Customer"]
["Newaygo DPW (Wight)","Ron Wight"]
["Newkirk Electric (Woodbury)","Rick Woodbury"]
["Newkirk Electric Associates, Inc.","Tom Anton"]
["NewTech Inc."]
["Nextteq, LLC (Lightburn)","Steve Lightburn"]
["NFO Acres Cooperative, Inc. (John)","John"]
["Nicholson Construction","Dan Thome"]
["Nicholson Construction (Thome)","Dan Thome"]
["Nicor Inc."]
["Noble Polymers, LLC","Eugene Vis"]
["Non-Ferrous Cast Alloys, Inc. (Amy)","Amy"]
["North American Refractories Co. (Parish)","Matt Parish"]
["North Kent Sewer Authority","Brian Gifford"]
["North Muskegon D.P.W. ()"]
["North Muskegon Police Department"," Tim Crouch"]
["North Muskegon Police Department (Croucha","Chief Tom Crouchak"]
["North Shore Marina (Demilio)","Jim Demilio"]
["North Star BlueScope Steel LLC","Tony Orth"]
["Northern -A-1 Services","Rick  Schemhil"]
["Northern A-1 Mechanical (Eastling)","Berl Eastling"]
["Northern Boiler Mechanical Contractors","Don Rake"]
["Northland Farms, LLC (Oros)","Jim Oros"]
["Northshore Construction (Michaels)","Ben Michaels"]
["Northshore Construction Co.","Bill Kenney"]
["Northstar Instrumentation LLC","Jeff Tobian (owner)"]
["Northwest Kent Mechanical","Mike Bergman"]
["Northwest Kent Mechanical (Reed)","Ken Reed"]
["Northwest Ottawa Water Treatment Plant","Joseph VanderStel"]
["Northwest Tool & Die Co., Inc.","Paul Peck"]
["Northwest Tool & Die Co., Inc. (Peck)","Paul Peck"]
["Norton Shore Fire Department, City of (Ka","Ted Karnitz"]
["Norton Shores DPW, City of (Lehan)","Craig Lehan"]
["Norton Shores DPW, City of (Nummerdor)","Brian Nummerdor"]
["Norton Shores DPW, City of (Taylor)","Jim Taylor"]
["Norton Shores Fire Department, City of (D","Ken Dewitt"]
["Norwich Fire Department","Brent Haskin"]
["Norwich TSP Fire Dept."," Chief Brian Whipple"]
["Nova Environmental","Joe Lamb"]
["Nova Environmental (Lamb)","Joel Lamb"]
["Novelis Aluminum Corporation"]
["NSF International","David Orton"]
["NTH (Grand Rapids, MI)"]
["Nu-Wool Co. Inc.","Dave Verstraete"]
["Nuview Technologies Inc."]
["Oberon (Garcia)","Sherry Garcia"]
["Oceana County Rd. Commission","Dennis Cole"]
["ODL Inc."]
["Oetman Excavating (Potter)","Curt Potter"]
["Ohio Department of Transportation","Terri Barnhart/Mike Brokaw"]
["Old Orchard Brands, LLC (Wessche)","Alyssa Wessche"]
["Oliver Products Company","Justin"]
["Oliver-Tolas Healthcare Packaging"]
["Olson Brothers Co.","Larry Olson"]
["Olson Brothers Company (Olson)","Larry Olson"]
["Onondaga County Water Authority"]
["Oosterink Oli Lipe, Inc.","Tim VanPolen"]
["Orland Fire Department","Chief Wayne Wells"]
["Orr Safety (Connor)","Pat Connor"]
["Otsego DPW, City of (Gilliland)","Darl Gilliland"]
["Otsego Metal Recyclers (Newman)","Tom Newman"]
["Ottawa County Farms Landfill (Carr)","Robert Carr"]
["Ottawa County Road Commission","Pat Staskiewicz"]
["Ottawa County Soil Erosion Commission (Ka","Aaron Karg"]
["Ottawa Electric, Inc. (Roger)","Roger"]
["Owen Ames Kimball","Dan Rathburn"]
["Owosso DPW, City of","Mark Sedlak"]
["Owosso DPW, City of (Sedlak)","Mark Sedlak"]
["Owosso Fire Department, City of (Fchaufel","Charlie Fchaufele"]
["P & H Morris Material Handling","Joel Flatt"]
["P & K Steel Service Inc.","Ron Paridee"]
["P.S.C Industrial Services (Parker PA)","James Gamble"]
["P.S.C. (Trenton MI)","Brenda Bobruk"]
["P.S.C. Container Services - (Cincinnati)","Steve Shook"]
["P.S.C. Industrial Services (Englewood CO)","Mike Wolford"]
["P.S.C. Industrial Svc (Monroe)"]
["Pacific Atlantic Terminals (Cameron)","Bill Cameron"]
["Padnos (Ludington)","Karl Marcusse"]
["Palma Mechanical Insulations"]
["Pandora Manufacturing","Carolyn Ruhe"]
["Panel Processing","Stacy or Charles Smith"]
["Paul Schultz Trucking & Excavating, Inc.","Paul Schultz"]
["Paul Schultz Trucking & Excavating, Inc.","Paul Schultz"]
["Paul Schultz Trucking & Excavating, Inc.","Paul Schultz"]
["PBM Nutritionals","Steve Frazier"]
["PCL Construction Services, Inc.","Trace Selly"]
["PCS Nitrogen Augusta","Mitch Vizzari"]
["Pearson Construction Company (Pearson)","Burt Pearson"]
["Peninsula Fire Protection, Inc."]
["Penn Environmental & Remediation","Andrea (Boss-Scott Blauvelt)"]
["Pennsylvania Tool Sales & Service","Brian Maguire"]
["Pentwater DPW ( -)"," -"]
["Pepper Construction","Adam Sandefur - Chicago"]
["Pere Marquette Charter Township","Andy Katz"]
["Pere Marquette Charter Township (Katz)","Andy Katz"]
["Pere Marquette Shipping Co. ( -)"," -"]
["Perrigo Co. (Brady)","Robin Hays"]
["Perrigo Company"]
["Perrigo Company (Schrepper)","Pat Schrepper"]
["Peters Construction"]
["Peterson Farms (Moul)","Cal Moul"]
["Peterson Ind. Scaffolding"]
["Peterson Spring Troy (Lynch)","Ron Lynch"]
["Pfeiffer Lincoln Mercury Inc. (VanLierop)","Jim VanLierop"]
["Pfizer (Argentina)"]
["Pfizer (Kalamazoo) DON'T USE!!!!!!!","Mike Dupuis"]
["Pfizer / CM Resources, Inc. (Stover)","Don Stover"]
["Pfizer / Earthtech (Carroll)","Edward Carroll"]
["Pfizer Cork Ltd. (Little Island)","Gary Crowley"]
["Pfizer Cork Ltd. (Loughbeg)","Eugene McCarthy"]
["Pfizer Corporate (EH&S)","Marthe Sokoloff"]
["Pfizer Inc. (Air Shuttle)","Mark Coates"]
["Pfizer Inc. (Ann Arbor)","Jeffrey Little"]
["Pfizer Inc. (Argentina)","Ruth Kozak"]
["Pfizer Inc. (Capsugel France)","Luc Cooman"]
["Pfizer Inc. (Farms)"]
["Pfizer Inc. (Holland)","Scott Peplinski"]
["Pfizer Inc. (Kalamazoo)","Carol Hick"]
["Pfizer Inc. (Kzoo - PGRD)"]
["Pfizer Inc. (Lititz)","Darry Blankenbiller"]
["Pfizer Inc. (Portage)","Christie Croften"]
["Pfizer Inc. (Richland MI)","Taren Durham (Buyer)"]
["Pfizer Inc. (Tlalpan, Mexico)","Sergio Marquez"]
["Pfizer Inc. (Vega Baja PR)"]
["Pfizer Inc. (Venezuela S.A.)","Cricelis Alvarez"]
["Pfizer Inc. Portage (AA)","AA Main AA"]
["Pfizer Inc. Portage (Cleland-Heldt)","Carla Cleland-Heldt"]
["Pfizer Inc. Portage (Koning)","Mary Lou Koning"]
["Pfizer Inc. Portage (Moore)","Steve Moore"]
["Pfizer Inc. Portage (Vandlen)","Matt Vandlen"]
["Pfizer Inc. Portage (Walko)","Ron Walko"]
["Pfizer Pharm. LLC (Barceloneta-P.R.)"]
["Pfizer Pharmaceuticals (Arecibo-P.R.)"]
["Pfizer Upjohn (P.R. China)"]
["Pharmacopeia","Jeff Kaplan"]
["Phase 3 Renewables"]
["Phase 3 Renewables (Freeport)","Andy Austin"]
["Phase II Electric (Edsall)","Cindy Edsall"]
["Phase II Electric (Fox)","Laura Fox"]
["Philip Services Corp. (Parker PA)","James Gamble"]
["Pilkington NA - Plant 6","Mark Carter"]
["Pilkington North America (Plant#6) (Carte","Mark Carter"]
["Pilkington NSG Group","Virginia (purchasing)"]
["Pinnacle Insurance"]
["Pioneer Construction","Eric Olson"]
["Pioneer Hi-Bred","Eric Zeeb"]
["Piper Communication Services, Inc."]
["Pipp Mobile Storage Systems"]
["Pisces Field Services","Kit Foster"]
["Pitsch Companies","Gene Gutting"]
["Plainfield Charter Twp.","Ron Walker / Don Patrovich"]
["Plains LP Service (Alto) (Blough)","Jared Blough"]
["Plains LPG Service (Ross ND)","Kyle Hylton"]
["Plainwell WWTP, City of (Pond)","Bryan Pond"]
["Pleune Service Company (Johnson)","Jeremy Johnson"]
["Pliant (Wygant)","Tim Wygant"]
["Polk Township Maintenance (Steggerda)","Kim Steggerda"]
["Poll Building Unlimited","Russ Poll"]
["Port City Metal Products (Forbes)","David Forbes"]
["Port City Redi Mix Company (Tyler)","Bruce Tyler"]
["Portage Fire Department, City of (Bragg)","Gary Bragg"]
["Portage Parks and Recreation Dept., City","Joe Stubelt"]
["Portage Parks and Recreation Dept., City","Joe Stubelt"]
["Portage Parks and Recreation Dept., City","Joe Stubelt"]
["Portage Parks and Recreation Dept., City","Joe Stubelt"]
["Portage, City of","Joe Stubelt"]
["Portland Products"]
["Portman Equipment Company"]
["Potesta & Associates Inc.","David Corsaro"]
["Poultry Management Systems (Zephyrhill)","Eric Winslow"]
["Poultry Management Systems Inc."]
["Poultry Management Systems Inc. (Breman)","Bill Kaufman"]
["Poultry Management Systems Inc. (Chase)","Eric Winslow (sp?)"]
["Poultry Management Systems Inc. (Guthrie)","Bill Kaufman"]
["Poultry Management Systems Inc. (Herbruck","Stephen Herbruck"]
["Poultry Management Systems Inc. (Powell)","Doug Powell"]
["Poultry Management Systems Inc. (Quincy)","Eric Winslow"]
["Poultry Management Systems Inc.(Bushnell)","Bill Kaufman"]
["Poultry Management Systems Inc.(Edward)","Eric Winslow"]
["Poultry Management Systems Inc.(Flatonia)","Bill Kaufman"]
["Powerclean Industrial Services, Inc."]
["Practical Environmental Consultants (Cox)","Mike Cox"]
["Praxair Inc. (Canto, OH)","Gerald Palmer"]
["Praxair Inc. (Grand Rapids)","Jim Williams"]
["Praxair Inc. (Huntsville, AL)"]
["Praxair Inc. (Tonawanda, NY)","William Kobayashi"]
["Precision Fitting & Gauge","Andrea Hibbard"]
["Prein & Newhof (Newhof)","Betsy Newhof"]
["Premarc (Hower)","Darin Hower"]
["Premarc (Swinehart)","Tim Swinehart"]
["Premier Caulking Inc."]
["Premier Foods (Wierengo)","Max Wierengo"]
["Prewitt Mechanical Contractors, Inc.","David Prewitt"]
["Prime Excavating"]
["Primera Plastics, Inc (Holtrop)","Don Holtrop"]
["Primestar Solar (Mulac)","Mike Mulac"]
["Pro-MEC Engineering Services, Inc."]
["Pro-Tech Environmental, Inc. (Vlaming)","Bernie Vlaming"]
["ProAct Services Corporation"]
["Proactive Environmental Concepts","Bob Quintilliano"]
["Process Control Service","Sean Borgman"]
["Proex Inc."]
["Proex Inc. (Huff)","Joe Huff"]
["Progressive Surface","Andrew Smith"]
["Project Management Service (Walter)","Bob Walter"]
["Project Management Services IS LLC"]
["Proto Mfg. Inc. (Van De Carr)","Shane Van De Carr"]
["Pulpwood & Forestry Products (Ola)","Ola"]
["Pumford Construction"]
["Purdue Pharma Technologies","Jeff Kaplan"]
["Pylman Power Inc.","Brad Plyman"]
["Pyramex ()"]
["Quaker Chemical","Evan Weaver"]
["QualaWash (Columbus)"]
["QualaWash Holdings (Barberton)","Kenneth Lee"]
["QualaWash Holdings (Joliet IL)","John Winstead"]
["QualaWash Holdings, LLC (Kalamazoo)"]
["Qualite Lighting Inc."]
["Quality Carriers","Steve Anderson"]
["Quality Concrete Work, Inc. (Harmsel)","Lee Ten Harmsel"]
["Quality Transport, Inc. (Waller)","Darin Waller"]
["Qualtity Air Heating & Cooling","Tammy Bergman"]
["Quest Technologies, Inc. (Bailey)","Tim Bailey"]
["Quick Tanks, Inc."]
["Quick Way Trucking"]
["Quikrete","Bob Turberville"]
["Quincy Inc. (Fracalossi)","Sharon Fracalossi"]
["R. W. LaPine Inc. (Harwood)","Larry Harwood"]
["R. W. LaPine Inc. (Stratton)","Larry Stratton"]
["R.A. Holmes (Holmes)","Roy Holmes"]
["R.B. Satkowiak's City Sewer Cleaners"]
["RAE Systems ()"]
["Raeco (Fransen)","Pat Fransen"]
["Ranir LLC"]
["Rapa Electric (Rapa)","Tom Rapa"]
["Ravenna DPW, Village of (Patterson)","Steve Patterson"]
["Ravenna Fire Dept., City of","Ryan Hall"]
["Red Autumn Tree Service (Rogers)","Nick Rogers"]
["Red Geranium Cafe","Jim Stein"]
["Reed City DPW, City of","Kevin Rambadt"]
["Reed City WWTP","Don Row"]
["Reed City WWTP, City of (Row)","Don Row"]
["Reedsport WWTP, City of","Robin Morgan"]
["Reenders Blueberry Farms (Mike)","Mike"]
["Regional Safety Associates (Schoff)","Ron Schoff"]
["Reid Entities (B)","John B"]
["Reliable Contracting Group, LLC"]
["Reliable Fire Equipment Company (Raddatz)","Larry Raddatz"]
["Reliable Relamping"]
["Reny & Company, Inc.","Bernice Navarro"]
["Repss Inc.","Jim Long"]
["Research Organics"]
["Restaurant Recycling Services, LLC"]
["Restaurant Recycling Services, LLC (Longs","Dirk Longstreth"]
["Rexarc International, Inc."]
["Rexel Summers Electric","Jamie"]
["Rich & Howell Plumbing (Mike)","Mike"]
["Richard Perkerewicz"]
["Riveridge Packing"]
["Rivertown Window"]
["RKI (Pellessier)","Bob Pellessier"]
["RMF Nooter"]
["Robbins Lumber Inc.","John Mcavey"]
["Roberts Pipeline, Inc."]
["Rochester Metal Products","Kristen Dean Accting."]
["Rockford Construction Co.","Paul Rozich"]
["Rockford DPW, City of","Mike Bouwkamp"]
["Rockford Fire Department, City of","Michael Reus"]
["Rockford, City of"]
["Rohr Gasoline Equipment"]
["Ron Miedema Concrete (Dean)","Dean"]
["Roosevelt Park, City of","Matt Farrar ext. 108"]
["Rose & Westra, Inc."]
["Roy Smith Co.","Lisa Smith"]
["Royal Chemical Co."]
["Royal Plastics, Inc. (Bos)","Ed Bos"]
["Royal Plastics, Inc. (Ford)","Tim Ford"]
["Royal Technologies (Ahearne)","Wendy Ahearne"]
["RRT","Tabitha"]
["RVI Inc.","330-263-6952"]
["RVI Inc. (Thomas)","Tom Thomas"]
["Ryan's Modern Sewer Cleaning, Inc.","Paul Harig"]
["Rycenga Electric, Inc.","Lyle Rycenga"]
["S & N Machine & Fabricating, Inc. (Putnam","Steve Putnam"]
["S310-01080"]
["S310-01084"]
["SA Morman & Company (Abma)","Dan Abma"]
["Sackett Ranch","Luke Paar"]
["Safety Equipment Store (Walters)","Mike Walters"]
["Safety First","Mike Fitch"]
["Safety First (Fitch)","Mike Fitch"]
["Safety Management Consultants (Miller)","Jim Miller"]
["Safety Products (Stam)","Vicki Stam"]
["Safety Resources Company of Ohio, Inc."]
["Safety Service (Customer Acct)"]
["Safety Services Inc. (Wisniewski)","Tom Wisniewski"]
["Sahara Inc.","Carl Schrank"]
["SAIC Environmental Equipment (Minnich)","Larry Minnich"]
["Salandra Painting Inc.","Mark Salandra"]
["Sales and Marketing of Michigan, LLC","Joel Sheridan"]
["Samson Resources Co.","John Stender"]
["Sappi Fine Paper (Cloquet)"]
["Sappi Fine Paper (Muskegon)","Mike Wolffis"]
["Sara Lee (Zeeland)","act pbl 800-449-4284x7578"]
["Sara Lee - Oven Fresh Bakery (Lalick)","Marty Lalick"]
["Sargent Electric Company","Don Kohlmyer"]
["Saugatuck DPW, City of"]
["Scenic View Dairy (Fennville)"]
["Scheck Mechanical Corp.","Mrs. Geri Hlavac"]
["Scheidel Electric","John Scheidel"]
["Schipper Poultry","Cal Schipper"]
["Schippers Excavating Inc."]
["Schippers Excavating, Inc. (Bosch)","Don Bosch"]
["Schlumberger","Jim Haug"]
["Schroeder Resources LLC","Randy Schroeder"]
["Schrotenboer Electric Inc. (Schrotenboer)","Todd Schrotenboer"]
["Schultz Excavating (Schultz)","Brian Schultz"]
["Schultz Fluid Handling Equipment","Mark Schultz"]
["Schwing Bioset","Mike Smith"]
["Scoreboards.com"]
["Scorpion Cable and Fiber","Attn: Blain Anderson"]
["Scott (Shaffer)","Keith Shaffer"]
["Seabrood (Kim)","Kim"]
["Seaman's (Seaman)","Randy Seaman"]
["Seaver Finishing (Kathy)","Kathy"]
["Seaway Painting","Bill Loughrey"]
["Seco/Warwick","Kandy Davis"]
["Secur Alarm Systems","Char Slager"]
["Select One Insurance"]
["Selge Construction Inc. (Riley)","Scott Riley"]
["Sellner-Behr Corporation","Rose Osburn"]
["Semco (Conant)","Julie Conant"]
["Sensidyne (Louchinski)","Lisa Louchinski"]
["SER Communications"]
["Serviscreen Printing (Greg)","Greg"]
["Shaggy Pines Dog Park","Pam Stanley"]
["Shambaugh & Sons, division of Havel Bros.","Chris Porter"]
["Shamrock Technologies, Inc."]
["Shape Corporation (McDowell)","Mellisa McDowell"]
["Shape Corporation (Swiftney)","Bryan Swiftney"]
["Shaun Smith (Sample)","Shaun Smith"]
["Shaw Stone & Webster","Ben Rogers"]
["Shelby DPW (Phillips)","Randy Phillips"]
["Shelby Fire Department (Thompson)","Mike Thompson"]
["Shelby Twp. DPW"]
["Sheldrake Point Vineyard","Dave Breeden"]
["Shellcast, Inc.","Laura Castonia"]
["Sheridan Books Inc.","Tim Welshans"]
["Sherwin Williams","Brian Sitz"]
["Shoreline Container (Boreman)","Lori Boreman"]
["Shoreline Container (Hylland)","Brent Hylland"]
["Shoreline Metal Fabricators, Inc."]
["Shoreline Recycling & Supply (Laven)","Bryan Laven"]
["Siemens Dematic Corp."]
["Siemens II","Charles Loft"]
["Siemens Vai (Chevrette)","Jim Chevrette"]
["Sietech (Kaufman)","Bill Kaufman"]
["Silver Bullet Firearms Indoor Range"]
["Silver Bullet Firearms Indoor Range (Hans","Rick Hansen"]
["Silver Lake State Park","Deb"]
["Skyline Contractors, Inc."]
["SL Technologies, Inc."]
["SLAC","Tu Ly"]
["Slagter Construction","Jim Weissert"]
["Slagter Construction (Weissert)","Jim Weissert"]
["Smalley Construction","Sue Smalley"]
["Smith & Oby Co.","Ron Vranich"]
["Smith Brothers Contracting Inc.","Don Smith"]
["Smith Group Detroit","Zach Rusu"]
["Smucker Bakery Manufacturing Inc.","Karen Eller"]
["Sobie Company (Austhof)","Jack Austhof"]
["Soils & Structures Inc."]
["Soroc Products (Myers)","Ken Myers"]
["Soroc Products (Rostic)","Latarsha Rostic"]
["SOS Engineering (Brett)","Brett"]
["South Charleston Sanitary Board","accts payable Arnett Hoston 3047684140"]
["South Haven Charter Township (Stein)","Ross Stein"]
["South Haven DPW, City of","Kim Rawlings"]
["South Haven Finishing (Ellison)","Eric Ellison"]
["South Haven Water Filtration, City of (Ni","Duane Ninke"]
["South Haven WWTP, City of","Dave Mulac"]
["South Haven WWTP, City of (Mulac)","Dave Mulac"]
["South West Michigan Dust Control"]
["Southern Contractors","Stephen Young"]
["Spanco (Morgantown)","Arnie Galpin"]
["Sparrow Hospital","Andrea Vougt"]
["Sparta Department of public Works, City o","Randy Carter"]
["Sparta DPW","Miles Ring"]
["Spartan Specialties Ltd."]
["Specialty Heat Treating, Inc. (Smidt)","Josh Smidt"]
["Spencer Township Fire Dept","Paul Lotterman"]
["Spi Pharma, Inc."]
["Spi Pharma, Inc. (Fischer)","Lisa Fischer"]
["Spring Lake DPW, Village of","Doug Whitley"]
["Spring Lake DPW, Village of (Parrella)","Kathy Parrella"]
["Spring Lake DPW, Village of (Whitley)","Douglas Whitley"]
["Spring Lake Parks & Cemetery (Schindlbeck","Eric Schindlbeck"]
["Spring Lake Township DPW","Ron Brondyke / Jeremy Statler"]
["St. Joseph Parks, City of (Dickey)","Rory Dickey"]
["St. Joseph Riverview Cemetery, City of (F","William Fryer"]
["St. Joseph Streets & Sanitation, City of","Danny Patrick"]
["St. Joseph Streets & Sanitation, City of","Danny Patrick"]
["St. Joseph Streets & Sanitation, City of","Danny Patrick"]
["St. Joseph Water & Sewer, City of (Burand","Craig Burandt"]
["St. Louis DPW, City of (Abbott)","Mark Abbott"]
["St. Louis Water & WWTP, City of (Mepham)","Steven Mepham"]
["St. Marys Cement Inc.","Derrick Beaven"]
["Stanley Steemer Great Lakes","Chris Dougherty"]
["Star Crane & Hoist, Inc. (Derks)","Craig Derks"]
["Star Excavating, Inc. (Busscher)","Roger Busscher"]
["State of Michiagan, MIOSHA","Mark Pedo"]
["Stateline Farms","Chris McCallister"]
["Stearns Drilling"]
["Steel Forming Systems (Harms)","Jean Harms"]
["Steel Supply & Engineering","Roy Lorenz"]
["Steel Technologies (Canton)","Karen Harris"]
["Steel Technologies Inc.(Louisville)","Karen Harris"]
["Steelcase (Caledonia)","Barbara Goodspeed"]
["Steelcase (Desk Systems Plant)","Ken Ladner"]
["Steelcase (Kentwood East)","Tom Nichols"]
["Steelcase (Safety Dept.)","Tim Martin"]
["Steelcase Inc. (Kentwood West)","Lisa Boreham"]
["Steeltech Ltd."]
["Steingass Mechanical","Mike Steingass"]
["Stelter & Brinck","Jerry Sebald"]
["Sterile Systems Medtronic (Giraud)","Scott Giraud"]
["Steris (Minneapolis)","P Szemacs"]
["Steris Isomedix Corporation (Coon Rapids)"]
["Steris Isomedix Corporation (Mentor)"]
["Steris Isomedix Corporation (Spartanburg)","Ron Emerich"]
["Sterling (Miscik)","Greg Miscik"]
["Stock"]
["Stone Plastics (Smalligan)","Chad Smalligan"]
["Stonhard"]
["Stonhard (Geldard)","Terry Geldard"]
["Structural Preservation Systems"]
["Stryker Corporation"]
["Sturgis DPW, City of","Frank Schragg"]
["Sturgis WWTP, City of"]
["Summit Contractors, Inc."]
["Summit Mechanical","Phil Sitarski"]
["Sun Chemical (Cincinanati)"]
["Sun Chemical (Muskegon)"]
["Sun Chemical Cincinnati (Jennings)","Andy Jennings"]
["Sun Chemical Muskegon (Grunenwald)","Dennis Grunenwald"]
["Sun Chemical Muskegon (VanWye)","Tony VanWye"]
["Sunrise Acres Egg Farms (DeYoung)","Jeremy DeYoung"]
["Sunrise Industries Inc. (Phillips)","Louretta Phillips"]
["Sunset Waste Services (Mealey)","Luke Mealey"]
["Superheat FGH","Brant Augustyniak"]
["Superior Environmental"]
["Superior Environmental (McDuffy)","Michael McDuffy"]
["Superior Environmental Corp. (Enberg)","Chuck Enberg"]
["Superior Sales (VanderBand)","Dave VanderBand"]
["Superior Stone Products","Brian Dean"]
["Supreme Machine (Becker)","Mel Becker"]
["Sylvan Township Water & Sewer Authority","Bob Halliwell"]
["Symmetry Medical"]
["Synagro","Ron Lutz"]
["Synagro (Byron Center)","Ron Lutz"]
["Synergis Technologies Group","Sandra Soresi"]
["Synergis Technology (Dieline Corp.)"]
["Sysco Food Service of Grand Rapids","Jim Brown"]
["T&A Industrial Distribution","Andy Mueller"]
["T.E.S. Filer City Station(CMS Enterprises","Shelly Johnson"]
["T.H. Miller Excavating, Inc. (Miller)","Tom Miller"]
["Taplin Environmental Contracting Corp.","Tina Boreham"]
["Tate Engineering Systems (Salisbury, OH)"]
["Taylor Fire Dept., City of","Jim Piasecki"]
["TC Rigging","Tim Carlson"]
["TDS Metrocom (Lhatsang)","TenZin Lhatsang"]
["Technisand, Fairmount Minerals (Meyer)","Scott Meyer"]
["TechniSand, Inc. (Fairmount Mineral)"]
["Tecton","Joe Kinder"]
["Tennant Co. (Holland)"]
["Tenneco Automotive"]
["TerHorst & Rinzema Construction (Horst)","Dan Ter Horst"]
["Terra Contracting (Tannar)","Jay Tannar"]
["Terra Contracting, Inc.","A/P - April Palmer"]
["Tesa Tape, Inc.","Christene Groth"]
["Testing Engineers & Consultants"]
["TH Marsh Construction (Long)","Mandy Long"]
["The Morton Arboretum"]
["The P.F. Laboratories, Inc.","Jeff Kaplan"]
["The Scotts Company (Marysville)","Joe Oiler"]
["The Scotts Company (Medway)","Jim Golden"]
["The Scotts Company (Orrville)","Dan Titus"]
["Theodore J. Hogan & Associates"]
["Therma-Tru Corp."]
["Thermico Inc.","Bob Huckins"]
["Tholstrup (Siggaard)","Torben Siggaard"]
["Thomas Romanosky, Attorney at Law (Romano","Thomas Romanosky"]
["Thompson Brothers Inc. (Thompson)","Chris Thompson"]
["Thompson Brothers, Inc.","Chris Thompson"]
["Thornapple Township"]
["Tiles Excavating Inc.","Jon Tiles"]
["Tiles Excavating Inc. (Tiles)","Jon Tiles"]
["Tim Dolphin"]
["Tiro Industries, LLC","Dick Dettling"]
["Tiro Industries, LLC (Dettling)","Dick Dettling"]
["Titan Equipment (Byron Center)","John Westerling"]
["Titan Equipment (Lansing)","Tom Degeest"]
["TL Masonry"]
["Toering Electric Co. (Big Rapids)"]
["Toering Electric Co. (Grand Rapids)","Russ DuShane"]
["Tokico (USA)","Caroline Eades(buyer)"]
["Total Development Solutions","Josh Ingram"]
["Total Loss Control Services, Inc. (Behren","Chuck Behrend, Sr."]
["Total Plastics Inc. (Byers)","Kelly Byers"]
["Tower Painting & Lamping","Dan Clark"]
["Towns Brothers Construction (Shaun)","Jan or Shaun"]
["Trace Anaylytical Laboratories, Inc. (Min","Jon Mink"]
["Track Corporation","Sonya Warber"]
["Track Corporation (Heatherington)","Dave Heatherington"]
["Trans-Matic","Joe Hartings"]
["TransCanada (Bridgman, MI)"]
["Transmatic Precision Metal (Suzho Co.Ltd)","Joe Hartings"]
["Traverse City Fire Department, City of (F","Terry Flynn"]
["Trendway (Dowling)","Jim Dowling"]
["Tri K Construction (Kooiker)","Rick Kooiker"]
["Tri-Com Haz Mat (Wenzel)","Janet Wenzel"]
["Tri-Comm Haz Mat","Greg Ginebaugh"]
["Tri-Mer Corporation","Janie Hunt"]
["Triangle Associates"]
["Triangle Associates (Ulmor)","Frank Ulmor"]
["Triangle Associates (Umlor)","Frank Umlor"]
["Triangle Design Inc.","Tim Sanders"]
["Tridonn Construction","Roger Hubestreit"]
["Tridonn Construction (Hebestreit)","Roger Hebestreit"]
["Tridonn Construction (Kelly)","Jim Kelly"]
["Tridonn Construction (LaCross)","Bernie LaCross"]
["Trinity Lutheran Church"]
["Triumph Hospital Detroit","Bob Boyd"]
["TroyBooke (Walker, MI)","Bob Derby"]
["TruHeat, Inc. (Muller)","Nelson Muller"]
["TRW Automotive (Mt. Vernon)"]
["TRW Comm. Steering Systems (Portland)"]
["TSC Electronics (Gamble)","Dawn Gamble"]
["Tubelite","Charlie Monroe"]
["Tulip City Airport (Osbourne)","Mick Osbourne"]
["Turner Construction","Carrie Schmechel"]
["TYCO ()"]
["Tyler Fire Equipment (Buffalo)","Home Office"]
["UASI (DeRose)","Doug DeRose"]
["Ulliman Schutte Construction","Chuck Orick"]
["Underwater Kinetics (Putas)","Paul Putas"]
["Unishippers (Pasch)","Brian Pasch"]
["United Water (Huber Heights)","Pam Whited"]
["United Water (Pontiac)","Matt Delaney"]
["United Water (Rockwood)","David Kulju"]
["United Water (Tawas)"]
["United Water (Tawas) (Robb)","Dan Robb"]
["United Water General Dynamics (Rowe)","Dave Rowe"]
["United Water Huber Hts (West)","Scott West"]
["Unitek Instruments, Inc."]
["Universal Blastco (Michigan Office)"]
["University of Michigan Engeneering","Whitney Hovan/Emmelia"]
["URI Atlantic Union Resources (Pryor)","Dean Pryor"]
["URI Atlantic Union Resources (Quinn)","Pat Quinn"]
["URS Corp (Dow Midland)","Lauren Edwards"]
["URS Corp. (Slocum)","Sherry Slocum"]
["US Army Corps of Engineers - Brookville"]
["US Coast Guard (Grand Haven)","Kurt Fink"]
["US Coast Guard (Sault Ste. Marie)"]
["US Coast Guard (St Ignace)","Chris Timm"]
["US Utility Contractors","Bill Scott"]
["use for new cust acct"]
["Utilimaster"]
["Utility Workers Union of America","Gerald B Robertson"]
["V-Tech Engineering Inc."]
["Vactor Guzzler Manufacturing","Brian Mascal"]
["Vactor Manufacturing, Inc.","Dan Simpson"]
["Valentine Excavating (CONTACT)","CALL FOR CONTACT"]
["Valley City Environmental Services","Dar Baas"]
["Valley City Plating (Lammers)","Dave Lammers"]
["Valley City Plumbing, Inc."]
["Valley City Plumbing, Inv. (Tinker)","Todd Tinker"]
["Valley View Poultry","Tobey Arendsen"]
["Valspar (Grand Prairie)"]
["Valspar Corporation (Fremont)","231-924-8655 Purchase"]
["Valspar Corporation (Indianapolis)","Matt Simon"]
["Valspar Corporation (Minneapolis)","David Heyerman"]
["Valspar Corporation (Moline)"]
["Van Haren Electric","Rob Van Valkenburg"]
["Van Singel Electric, Inc. ()"]
["Van Singel Electric, Inc. (Van Singel)","Doug Van Singel"]
["Vanden Heuvel Plumbing & Mechanical","Don Vanden Heuvel"]
["Vander  Lind & Son (Johnson)","Matt Johnson"]
["Vander Jagt Masonry, Inc. (Rozema)","Tom Rozema"]
["Vander Werf Electric Inc.","Phil & Ralph Vander Werf"]
["VanderHyde Mechanical"]
["VanderHyde Mechanical (Meinstma)","Joel Meinstma"]
["VanderLind & Son (Beukema)","Shaun Beukema"]
["Vanderlugt Mulder Devries Elders (Kuiper)","Richard Kuiper"]
["Vanderploeg & Lanning","John Keppel & Dan Vanderploeg"]
["VanEck Construction Inc. (Lori)","Lori"]
["Varano Electric","Tom Varano"]
["VDB Mechanical"]
["Veldhoff Septic Service (CONTACT)","CALL FOR CONTACT"]
["Velting Contractors","Kevin Velting Ext-15"]
["Venchurs Inc."]
["Ventra (Grand Rapids 29th Street, LLC)"]
["Ventra Grand Rapids 29, LLC (DeWitt)","Marty DeWitt"]
["Veolia Environmental Services","Dave Weaver"]
["Veolia Environmental Services (Perugia)","John Perugia"]
["Veolia Water - MBM (Cicero)","Jackei Lawless"]
["Verplank Trucking","George \" Butch\" Brown"]
["Verplank Trucking (Brown)","Butch Brown"]
["Vestil Manufacturing Co (Sheets)","Joshua Sheets"]
["Viastore Systems","Karl Zakfeld"]
["Viking Energy","Dean Taylor"]
["Villa Environmental Consultants, Inc."]
["Violia Environmental Services (Northville","John Perugia"]
["Viper N.A.","Jim Mcgee"]
["Viper Trailers (Boertman)","Rod Boertman"]
["Virginia Electronic Component","Steve Vaughan"]
["Visser Brothers, Inc. (Mast)","Bill Mast"]
["Volverine Building Group","Marty Malek"]
["W. B. Wells Co.","David Wells"]
["W. Soule & Company (Grand Rapids)"]
["W. Soule & Company (Kalamazoo)"]
["W. Soule & Company (King Highway)"]
["Waanders Concrete (Waanders)","Mark Waanders"]
["Wachter Excavating Co.","Joel Wachter"]
["Wackenhut (Palisades)","Brad Murdock"]
["Waddell Electric Co. (French)","Warren French"]
["Wade Trim","Brian Gifford"]
["Walbridge Aldinger"]
["Walbridge Aldinger (LeClair)","Mark LeClair"]
["Walbridge Aldinger (Tampa)","Mike Dawson"]
["WALK-IN"]
["Walker DPW, City of","Pat Paas"]
["Wallenstein Feed & Supply Ltd","Danielle Bailey"]
["Walter N. Yoder & Sons, Inc."]
["Walters Gardens, Inc. (Shoemaker)","Jim Shoemaker"]
["Waltz-Holst Blow Pipe Co."]
["Waste Management."]
["Watco Mechanical Services","Nichole Chamberlin"]
["Waterville Sheet Metal Company, Inc."]
["Wayland, City of","Stan Gulch"]
["Weather Shield Roofing Systems","Nate Bush"]
["WEBB Chemical Service Corp. (Baker)","Melissa Baker"]
["WEBB Chemical Service Corp. (Convertini)","Kolin Convertini"]
["WEBB Chemical Service Corp. (Lynn)","Greg Lynn"]
["WEBB Chemical Service Corp. (Peterson)","Todd Peterson"]
["Weber Precision Grinding ()"]
["Wedeven Bros. Construction Co. (Wedeven)","Paul Wedeven"]
["Welch Tile and Marble (Rick)","Rick"]
["Weld-Tec Inc. (Harmsen)","Herm Harmsen"]
["Weller Radiator","Terry Westedt"]
["Wells Fargo Insurance Services"," Eric Krieger"]
["Wesco (Hammond)","Brandon Hammond"]
["WESCO (Poort)","Jim Poort"]
["Wesco Distribution Icc.","Melinda Wood"]
["West Michigan Benefits, Inc. (Nickel)","Jason Nickel"]
["West Michigan Benefits, Inc. (Spratling)","Sandy Spratling"]
["West Michigan Cabinet Supply (Sterk)","Steve Sterk"]
["West Michigan Dock & Market","Jeff Whalen"]
["West Michigan Dock & Market (Whalen)","Jeff Whalen"]
["West Michigan Glass Coating"]
["West Michigan Roofing & Construction (Meg","Michael Megna"]
["West Michigan Scales","Tom Bieberle"]
["West Olive Nursery (Shannon)","Shannon"]
["West Shore Fire Inc. (Waldrop)","Bob Waldrop"]
["West Shore Medical Center (Fark)","Louann Fark"]
["Western Michigan University","Dave Kotecki"]
["Western TelComm (Lee)","Dan Lee"]
["Westmaas Electric Company (Westmaas)","Scott Westmaas"]
["Wexford County Road Commission (Hawkins)","Jerry Hawkins"]
["Wexford Sand Company- Fairmount Minerals","Sandy"]
["Wharf Marina (Fischer)","CJ Fischer"]
["Whirlpool Corporation(Jones Lang Lasalle)","Steve Roth"]
["White Cap Construction Supply","Greg Spiros"]
["White Industrial Services"]
["White Pigeon Paper Company"]
["Whitehall DPW, City of"]
["Whitehall DPW, City of (Van Geison)","Jack Van Geison"]
["Whitehall Industries (Krupinski)","Dan Krupinski"]
["Whitehall Parks and Cemetery Dep't. (Kimp","Connie Kimpagne"]
["Whitehall Products","Chuck Krzykwa"]
["Whitehall Products, Ltd. (Hammond)","Patti Hammond"]
["Wilbur Ellis Co. (Schoenborn)","Kevin Schoenborn"]
["Wilbur-Ellis Company","Gerrit Herrygers"]
["Wilbur-Ellis company (Edmore)","Dale Dosenberry"]
["Wilcox Engineering ((none))","(none)"]
["William G Simmons Co","Bill Simmons ext-2"]
["Williams & Works"]
["Williams Plant Services","Jim Hall"]
["Williams Plant Services (Bauer)","Tom Bauer"]
["Williams Plant Services (Brewer)","Heather Brewer"]
["Windemuller"]
["Windquest"]
["Witt Enterprises Inc.","Marybeth Gramley"]
["Witt Mechanical","Mike Roberts"]
["Wolverine Building Group","Marty Malek"]
["Wolverine Power Cooperative (Barton)","Craig Barton"]
["Wolverine Trenching Service (REX)","REX"]
["Wolverine World Wide (Shellenbarger)","Amy Shellenbarger"]
["Wonder Makers Environmental, Inc."]
["Woodard LLC","Jim Porter"]
["Woodward FST (Eslick)","John Eslick"]
["Woodward FST Inc.","Dennis Delp"]
["Wray's Septic Tank & Development Co.","Rod Carroll"]
["WS Jenks & Son"]
["Wyman-Gordon Forgings Inc."]
["Wyoming City Hall","Jeff Anderson"]
["Wyoming DPW, City of","Kimberly Oostindie"]
["Wyoming Fire Department, City of","Chief Austin"]
["Wyoming Meter Maintenance, City of","\"Steve\""]
["Wyoming Meter Shop, City of","Mark Kneibeel"]
["Wyoming Parks Dept., City of","Steve Weatherby"]
["Wyoming Police Dept.","Kurt Robinson"]
["Wyoming Water Treatment Plant, City of"]
["X-Bar Automation Inc.","Ken Downie"]
["Yacht Basin Marina (Kalk)","Gwen Kalk"]
["Yamaha Corp of America"]
["Young Supply Co","Paul Hoisington"]
["Young's Environmental Cleanup, Inc. (Webb","Dave Webber"]
["Zeeland Cemetery & Parks, City of (Boerse","Irv Boersen"]
["Zeeland Chemical (Oudemolen)","Mark Oudemolen"]
["Zeeland Clean Water Plant","Glenn Berghorst"]
["Zeeland Fire Rescue","Larry Redder"]
["Zeeland Lumber (Myers)","Julie Myers"]
["Zeeland Street Department, City of (Nienh","Scott Nienhuis"]
["Zeeland Street Dept., City of","Scott Nienhuis"]
["Zelenka Nurseries (NONE)","NONE"]
["Zook Farm Equipment"]

{"sheet":"Client Details","index":4,"n_rows":20,"n_cols":2,"rows_kept":20,"cut":false,"hidden":false,"merged":[]}
["Client Row:",2]
["Client Source:","Clients (All)"]
[]
["Company:",{"$f":"IF(INDIRECT(\"'\" & B2 & \"'!\" & \"A\"&B1)=\"\",\"\",INDIRECT(\"'\" & B2 & \"'!\" & \"A\"&B1))","v":"2G TechWorks, Inc. (Powell)"}]
["Address:",{"$f":"IF(INDIRECT(\"'\" & B2 & \"'!\" & \"K\"&B1)=\"\",\"\",INDIRECT(\"'\" & B2 & \"'!\" & \"K\"&B1))","v":"2G TechWorks, Inc."}]
[null,{"$f":"IF(INDIRECT(\"'\" & B2 & \"'!\" & \"L\"&B1)=\"\",\"\",INDIRECT(\"'\" & B2 & \"'!\" & \"L\"&B1))","v":"146 Monroe Center NW"}]
[null,{"$f":"IF(INDIRECT(\"'\" & B2 & \"'!\" & \"M\"&B1)=\"\",\"\",INDIRECT(\"'\" & B2 & \"'!\" & \"M\"&B1))","v":""}]
[null,{"$f":"IF(INDIRECT(\"'\" & B2 & \"'!\" & \"N\"&B1)=\"\",\"\",INDIRECT(\"'\" & B2 & \"'!\" & \"N\"&B1))","v":""}]
[null,{"$f":"IF(INDIRECT(\"'\" & B2 & \"'!\" & \"O\"&B1)=\"\",\"\",INDIRECT(\"'\" & B2 & \"'!\" & \"O\"&B1))","v":""}]
[null,{"$f":"CONCATENATE(INDIRECT(\"'\" & B2 & \"'!\" & \"P\"&B1), \", \", INDIRECT(\"'\" & B2 & \"'!\" & \"Q\"&B1), \", \", INDIRECT(\"'\" & B2 & \"'!\" & \"R\"&B1))","v":"Grand Rapids, MI, 49503"}]
["Business Type:",{"$f":"IF(INDIRECT(\"'\" & B2 & \"'!\" & \"V\"&B1)=\"\",\"\",INDIRECT(\"'\" & B2 & \"'!\" & \"V\"&B1))","v":"Supplier"}]
["County:",{"$f":"IF(INDIRECT(\"'\" & B2 & \"'!\" & \"W\"&B1)=\"\",\"\",INDIRECT(\"'\" & B2 & \"'!\" & \"W\"&B1))","v":"Kent"}]
["Title:",{"$f":"IF(INDIRECT(\"'\" & B2 & \"'!\" & \"U\"&B1)=\"\",\"\",INDIRECT(\"'\" & B2 & \"'!\" & \"U\"&B1))","v":"President"}]
["Contact:",{"$f":"IF(INDIRECT(\"'\" & B2 & \"'!\" & \"B\"&B1)=\"\",\"\",INDIRECT(\"'\" & B2 & \"'!\" & \"B\"&B1))","v":"Andrew Powell"}]
["Phone:",{"$f":"IF(INDIRECT(\"'\" & B2 & \"'!\" & \"D\"&B1)=\"\",\"\",INDIRECT(\"'\" & B2 & \"'!\" & \"D\"&B1))","v":" 616-608-7734"}]
["Mobile:",{"$f":"IF(INDIRECT(\"'\" & B2 & \"'!\" & \"E\"&B1)=\"\",\"\",INDIRECT(\"'\" & B2 & \"'!\" & \"E\"&B1))","v":""}]
["Fax:",{"$f":"IF(INDIRECT(\"'\" & B2 & \"'!\" & \"F\"&B1)=\"\",\"\",INDIRECT(\"'\" & B2 & \"'!\" & \"F\"&B1))","v":""}]
["Email:",{"$f":"HYPERLINK(\"mailto:\" & INDIRECT(\"'\" & B2 & \"'!\" & \"G\"&B1), IF(INDIRECT(\"'\" & B2 & \"'!\" & \"G\"&B1)=\"\",\"\",INDIRECT(\"'\" & B2 & \"'!\" & \"G\"&B1)))","v":"andrew@2gtech.com"}]
[]
["Notes:",{"$f":"IF(INDIRECT(\"'\" & B2 & \"'!\" & \"J\"&B1)=\"\",\"\",INDIRECT(\"'\" & B2 & \"'!\" & \"J\"&B1))","v":"Josh Heller  joshuadheller@gmail.com  mob 616.443.2772"}]

{"sheet":"Options","index":5,"n_rows":4,"n_cols":2,"rows_kept":4,"cut":false,"hidden":false,"merged":[]}
["quote file","102711 - Original Sample Document.docx"]
["fax file","102711 - Original Sample FAX Document.docx"]
["User Name","Chris Hammond"]
["User Email","chris@agilesafety.com"]